{"text_format":"1","workbook":"xlsx","n_sheets":6,"sheets":["หมวดที่ 1-3_คบ.&คป.","หมวดที่ 4_คบ.&คป.","คำนวนหมวดที่4_คบ.&คป.","หมวดที่ 1-3_สบ.","หมวดที่ 4_สบ.","คำนวนหมวดที่4_สบ."],"not_rendered":{"charts":0,"images":0,"macros":1,"external_links":0,"defined_names":4,"comments":0,"pivot_tables":0},"unopened":[],"bounds":{"document_bytes":16777216,"sheet_cells":100000,"rows_first":2000,"rows_last":500,"rows_between":2000,"halvings":0,"cell_chars":16384,"cell_head_chars":4096},"cells_cut":0,"cells_raw":0,"read":"whole","date_system":"1900"}

{"sheet":"หมวดที่ 1-3_คบ.&คป.","index":0,"n_rows":28,"n_cols":10,"rows_kept":28,"cut":false,"hidden":false,"merged":[[15,0,23,0],[12,0,14,0],[24,0,24,1],[2,0,4,0],[2,3,2,7],[6,0,11,0],[2,9,4,9],[0,0,0,9],[1,0,1,9],[2,1,4,1],[2,2,4,2],[2,8,4,8]]}
["หลักเกณฑ์การให้คะแนน"]
["การประเมินการพัฒนาคุณภาพการบริหารจัดการโครงการส่งน้ำและบำรุงรักษา/โครงการชลประทาน "]
["หมวด","ข้อคำถาม","คะแนนเต็ม","ระดับ",null,null,null,null,"รวมคะแนน","หมายเหตุ"]
[null,null,null,1,2,3,4,5]
[null,null,null,"(20%)","(40%)","(60%)","(80%)","(100%)"]
["สรุปข้อมูลองค์กร","ข้อมูลสรุปของโครงการฯ /ฝ่ายส่งน้ำและบำรุงรักษา",0]
["1.การนำองค์กร (150 คะแนน)","1.1ความเข้าใจนโยบายในระดับต่างๆ รวมถึงการแปลงนโยบายสู่ผู้ปฏิบัติงาน",15,null,null,null,null,null,{"$f":"C7*((0.2*D7)+(E7*0.4)+(F7*0.6)+(G7*0.8)+(H7*1))","v":0}]
[null,"1.2 การจัดทำและการจัดเก็บข้อมูล ตามsheet ข้อมูล",50,null,null,null,null,null,{"$f":"C8*((0.2*D8)+(E8*0.4)+(F8*0.6)+(G8*0.8)+(H8*1))","v":0}]
[null,"1.3 วิธีการ/กระบวนการจัดทำแผนงานโครงการ",50,null,null,null,null,null,{"$f":"C9*((0.2*D9)+(E9*0.4)+(F9*0.6)+(G9*0.8)+(H9*1))","v":0}]
[null,"1.4 วิธีการจัดวางอัตรากำลังบุคคลากรอย่างเหมาะสม",20,null,null,null,null,null,0]
[null,"1.5 การจำแนกกลุ่มผู้รับบริการ และผู้มีส่วนได้ส่วนเสีย และการกำหนดช่องทางในการรับรู้และวางแนวทางในการตอบสนองความต้องการของผู้รับบริการ และผู้มีส่วนได้ส่วนเสีย",15,null,null,null,null,null,{"$f":"C11*((0.2*D11)+(E11*0.4)+(F11*0.6)+(G11*0.8)+(H11*1))","v":0}]
[null,"รวมคะแนนหมวดที่ 1",{"$f":"SUM(C7:C11)","v":150},null,null,null,null,null,{"$f":"SUM(I7:I11)","v":0}]
["2. การสร้างความสัมพันธ์ (200 คะแนน)                     ","2.1 วิธีการ/กระบวนการ ในการให้บริการกับกลุ่มผู้รับบริการ และผู้มีส่วนได้ส่วนเสีย ",100,null,null,null,null,null,0]
[null,"2.2 วิธีการในการเพิ่มขีดความสามารถ/ศักยภาพของทีมงานต่อการปฏิบัติงานเพื่อเพิ่มประสิทธิภาพการทำงาน",100,null,null,null,null,null,0]
[null,"รวมคะแนนหมวดที่ 2",{"$f":"SUM(C13:C14)","v":200},null,null,null,null,null,{"$f":"SUM(I13:I14)","v":0}]
["3. การบริหารจัดการ (500 คะแนน)                            ","3.1 วิธีการรับทราบ/รับรู้/คำนวณปริมาณน้ำต้นทุนในการจัดสรรน้ำ หรือการระบายน้ำในแต่ละฤดูกาล",60,null,null,null,null,null,0]
[null,"3.2 การนำปริมาณน้ำต้นทุนที่ได้รับมาวางแผนจัดสรรน้ำ/ระบายน้ำ",60,null,null,null,null,null,0]
[null,"3.3 การแจ้งข่าวสารให้ผู้ใช้น้ำทราบทั้งก่อนและระหว่างส่งน้ำ /การแจ้งข่าวสารให้ผู้รับบริการและผู้มีส่วนได้ส่วนเสียในลำน้ำที่รับผิดชอบ",40,null,null,null,null,null,0]
[null,"3.4 การควบคุมการส่งน้ำในระดับต่าง ๆ /การควบคุมการระบายน้ำในระดับต่างๆ ",50,null,null,null,null,null,0]
[null,"3.5 การดำเนินงานป้องกันและบรรเทาภัยจากน้ำ หรือในสภาวะวิกฤติ (น้ำท่วม/น้ำแล้ง/น้ำเสีย)",50,null,null,null,null,null,0]
[null,"3.6 การดำเนินการจัดทำบันทึกประวัติการตรวจสอบสภาพและการบำรุงรักษาอาคารชลประทาน/walk through",50,null,null,null,null,null,0]
[null,"3.7 การคิดค้น/นำนวัตกรรมมาใช้ในการปฏิบัติงาน หรือปรับปรุงวิธีการทำงาน",90,null,null,null,null,null,0]
[null,"3.8 วิธีการสร้างการมีส่วนร่วมกับผู้รับบริการและผู้มีส่วนได้ส่วนเสียในแต่ละฤดูกาล",100,null,null,null,null,null,0]
[null,"รวมคะแนนหมวดที่ 3",{"$f":"SUM(C16:C23)","v":500},null,null,null,null,null,{"$f":"SUM(I16:I23)","v":0}]
["รวมคะแนนทั้ง 3 หมวด",null,{"$f":"C24+C15+C12","v":850},null,null,null,null,null,{"$f":"I24+I15+I12","v":0}]
[]
["หมายเหตุ"]
["ช่อง \"ระดับ\" (1 - 5) ในแต่ละข้อคำถาม ให้คลิกที่ระดับคะแนนที่ต้องการ"]

{"sheet":"หมวดที่ 4_คบ.&คป.","index":1,"n_rows":30,"n_cols":12,"rows_kept":30,"cut":false,"hidden":false,"merged":[[3,11,4,11],[0,0,0,11],[1,0,1,11],[3,0,4,0],[3,1,4,1],[3,2,3,6],[3,7,4,7],[3,8,4,8],[3,9,4,9],[3,10,4,10]]}
["หลักเกณฑ์การให้คะแนน"]
["การประเมินการพัฒนาคุณภาพการบริหารจัดการโครงการส่งน้ำและบำรุงรักษา/โครงการชลประทาน "]
[]
["ข้อพิจารณา","คะแนนเต็ม","ระดับคะแนน",null,null,null,null,"ผลการดำเนินงาน","คะแนนที่ได้ (60%)","แนวโน้ม(-/+) (20%)","C (20%)","รวมคะแนน"]
[null,null,1,2,3,4,5]
["หมวดที่ 4. ผลสัมฤทธิ์ (150 คะแนน)",{"$f":"+B7+B11+B13+B21","v":150},null,null,null,null,null,null,{"$f":"'คำนวนหมวดที่4_คบ.&คป.'!I6","v":0},{"$f":"'คำนวนหมวดที่4_คบ.&คป.'!J6","v":0},{"$f":"'คำนวนหมวดที่4_คบ.&คป.'!K6","v":0},{"$f":"'คำนวนหมวดที่4_คบ.&คป.'!L6","v":0}]
["มิติด้านประสิทธิผล",{"$f":"SUM(B8:B10)","v":45},null,null,null,null,null,null,{"$f":"'คำนวนหมวดที่4_คบ.&คป.'!I7","v":0},{"$f":"'คำนวนหมวดที่4_คบ.&คป.'!J7","v":0},{"$f":"'คำนวนหมวดที่4_คบ.&คป.'!K7","v":0},{"$f":"'คำนวนหมวดที่4_คบ.&คป.'!L7","v":0}]
["(1) ร้อยละของพื้นที่บริหารจัดการน้ำในเขตชลประทาน (Cropping Intensity)",25,"ไม่น้อยกว่า 119% หรือ\nไม่มากกว่า 151%\n","ไม่น้อยกว่า 123% หรือ\nไม่มากกว่า 147%","ไม่น้อยกว่า 127% หรือ\nไม่มากกว่า143%\n","ไม่น้อยกว่า 131% \nหรือ\nไม่มากกว่า 139%\n",1.35,null,null,null,null,{"$f":"'คำนวนหมวดที่4_คบ.&คป.'!L8","v":0}]
["(2) ร้อยละความเสียหายของพืชเศรษฐกิจในเขตชลประทานจากอุทกภัยและภัยแล้ง",10,0.245,0.19500000000000001,0.14499999999999999,9.5000000000000001E-2,4.4999999999999998E-2,null,null,null,null,{"$f":"'คำนวนหมวดที่4_คบ.&คป.'!L9","v":0}]
["(3) ร้อยละของอ่างเก็บน้ำและทางน้ำชลประทานที่คุณภาพน้ำได้เกณฑ์มาตรฐาน",10,80,85,90,95,100,null,null,null,null,{"$f":"'คำนวนหมวดที่4_คบ.&คป.'!L10","v":0}]
["มิติด้านคุณภาพการให้บริการ",{"$f":"SUM(B12:B12)","v":10},null,null,null,null,null,null,{"$f":"'คำนวนหมวดที่4_คบ.&คป.'!I11","v":0},{"$f":"'คำนวนหมวดที่4_คบ.&คป.'!J11","v":0},{"$f":"'คำนวนหมวดที่4_คบ.&คป.'!K11","v":0},{"$f":"'คำนวนหมวดที่4_คบ.&คป.'!L11","v":0}]
["(4) ร้อยละความพึงพอใจของเกษตรกรผู้ใช้น้ำในเขตชลประทาน",10,65,70,75,80,85,null,null,null,null,{"$f":"'คำนวนหมวดที่4_คบ.&คป.'!L12","v":0}]
["มิติด้านประสิทธิภาพของการปฏิบัติราชการ",{"$f":"SUM(B14:B20)","v":85},null,null,null,null,null,null,{"$f":"'คำนวนหมวดที่4_คบ.&คป.'!I13","v":0},{"$f":"'คำนวนหมวดที่4_คบ.&คป.'!J13","v":0},{"$f":"'คำนวนหมวดที่4_คบ.&คป.'!K13","v":0},{"$f":"SUM(L14:L20)","v":0}]
["(5) ประสิทธิภาพชลประทานฤดูฝน",10,0.2,0.3,0.4,0.5,0.6,null,null,null,null,{"$f":"'คำนวนหมวดที่4_คบ.&คป.'!L14","v":0}]
["(6) ประสิทธิภาพชลประทานฤดูแล้ง ",10,0.2,0.3,0.4,0.5,0.6,null,null,null,null,{"$f":"'คำนวนหมวดที่4_คบ.&คป.'!L15","v":0}]
["(7) ร้อยละของการเบิกจ่ายงบประมาณงบลงทุนที่เป็นไปตามแผน",25,80,85,90,95,100,null,null,null,null,{"$f":"'คำนวนหมวดที่4_คบ.&คป.'!L16","v":0}]
["(8) ร้อยละของอาคารควบคุมน้ำในระบบส่งน้ำและระบายน้ำที่อยู่ในสภาพใช้งานได้ดี",10,60,70,80,90,100,null,null,null,null,{"$f":"'คำนวนหมวดที่4_คบ.&คป.'!L17","v":0}]
["(9) ร้อยละของพื้นที่ชลประทานที่มีการตั้งกลุ่มผู้ใช้น้ำชลประทาน (กลุ่มพื้นฐาน)",10,50,60,70,80,90,null,null,null,null,{"$f":"'คำนวนหมวดที่4_คบ.&คป.'!L18","v":0}]
["(10)ร้อยละของพื้นที่ชลประทานที่มีการกลุ่มบริหารการใช้น้ำชลประทาน กลุ่มเกษตรกรผู้ใช้น้ำชลประทาน สมาคมผู้ใช้น้ำชลประทาน และสหกรณ์ผู้ใช้น้ำชลประทาน",10,50,60,70,80,90,null,null,null,null,{"$f":"'คำนวนหมวดที่4_คบ.&คป.'!L19","v":0}]
["(11) ร้อยละขององค์กรผู้ใช้น้ำชลประทานที่มีความเข้มแข็งในการบริหารจัดการน้ำ",10,50,60,70,80,90,null,null,null,null,{"$f":"'คำนวนหมวดที่4_คบ.&คป.'!L20","v":0}]
["มิติด้านการพัฒนาองค์กร",{"$f":"B22","v":10},null,null,null,null,null,null,{"$f":"'คำนวนหมวดที่4_คบ.&คป.'!I21","v":0},{"$f":"'คำนวนหมวดที่4_คบ.&คป.'!J21","v":0},{"$f":"'คำนวนหมวดที่4_คบ.&คป.'!K21","v":0},{"$f":"L22","v":0}]
["(12) ร้อยละของจำนวนเรื่องที่เผยแพร่และประชาสัมพันธ์ผ่านสื่อต่างๆ",10,80,85,90,95,100,null,null,null,null,{"$f":"'คำนวนหมวดที่4_คบ.&คป.'!L22","v":0}]
["รวมทั้ง 4 หมวด",{"$f":"'คำนวนหมวดที่4_คบ.&คป.'!B23","v":1000},null,null,null,null,null,null,null,null,null,{"$f":"'คำนวนหมวดที่4_คบ.&คป.'!L23","v":0}]
[]
["หมายเหตุ"]
["ช่องผลการดำเนินงาน ให้ใส่ค่าตามตัวชี้วัดที่คำนวณได้ในปีปัจจุบัน"]
["ช่อง Le ให้ใส่คะแนนตามระดับตัวชี้วัดตามเกณฑ์ที่ได้ (สามารถใส่เลขเป็นทศนิยมได้ กรณีที่ต้อง Interpolate))"]
["ช่อง T ให้ใส่เลข 0,1,3 หรือ 5 ตามระดับแนวโน้มที่ได้ เลข 0 หมายถึงไม่มีกราฟแสดงแนวโน้ม เลข 1 หมายถึง แนวโน้มแย่ลง เลข 3 หมายถึงแนวโน้มคงที่ เลข 5 หมายถึง แนวโน้มดีขึ้น"]
["ช่อง C ให้ใส่เลข 0,1,3 หรือ 5 ตามระดับตัวเปรียบเที่ยบที่ได้ เลข 0 หมายถึงไม่แสดงการเปรียบเทียบ เลข 1 หมายถึง น้อยกว่าตัวเปรียบเทียบ เลข 3 หมายถึงเท่ากับหรือใกล้เคียงกับตัวเปรียบเทียบ "]
["           เลข 5 หมายถึง มากกว่าตัวเปรียบเทียบ"]

{"sheet":"คำนวนหมวดที่4_คบ.&คป.","index":2,"n_rows":31,"n_cols":12,"rows_kept":31,"cut":false,"hidden":true,"merged":[[0,0,0,11],[1,0,1,11],[3,0,4,0],[3,1,4,1],[3,2,3,6],[3,7,4,7],[3,8,4,8],[3,9,4,9],[3,10,4,10],[3,11,4,11]]}
["หลักเกณฑ์การให้คะแนน"]
["การประเมินการพัฒนาคุณภาพการบริหารจัดการโครงการส่งน้ำและบำรุงรักษา/โครงการชลประทาน "]
[]
["ข้อพิจารณา","คะแนนเต็ม","ระดับคะแนน",null,null,null,null,"ผลการดำเนินงาน","คะแนนที่ได้ (60%)","แนวโน้น(-/+) (20%)","C (20%)","รวมคะแนน"]
[null,null,1,2,3,4,5]
["หมวดที่ 4. ผลสัมฤทธิ์ (150 คะแนน)",{"$f":"+B7+B11+B13+B21","v":150},null,null,null,null,null,null,{"$f":"I7+I11+I13+I21","v":0},{"$f":"J7+J11+J13+J21","v":0},0,{"$f":"L7+L11+L13+L21","v":0}]
["มิติด้านประสิทธิผล",{"$f":"SUM(B8:B10)","v":45},null,null,null,null,null,null,{"$f":"SUM(I8:I10)","v":0},{"$f":"SUM(J8:J10)","v":0},0,{"$f":"SUM(L8:L10)","v":0}]
["(1) ร้อยละของพื้นที่บริหารจัดการน้ำในเขตชลประทาน (Cropping Intensity)",{"$f":"'หมวดที่ 4_คบ.&คป.'!B8","v":25},{"$f":"'หมวดที่ 4_คบ.&คป.'!C8","v":"ไม่น้อยกว่า 119% หรือ\nไม่มากกว่า 151%\n"},{"$f":"'หมวดที่ 4_คบ.&คป.'!D8","v":"ไม่น้อยกว่า 123% หรือ\nไม่มากกว่า 147%"},{"$f":"'หมวดที่ 4_คบ.&คป.'!E8","v":"ไม่น้อยกว่า 127% หรือ\nไม่มากกว่า143%\n"},{"$f":"'หมวดที่ 4_คบ.&คป.'!F8","v":"ไม่น้อยกว่า 131% \nหรือ\nไม่มากกว่า 139%\n"},{"$f":"'หมวดที่ 4_คบ.&คป.'!G8","v":1.35},null,{"$f":"$B8*0.2*0.6*'หมวดที่ 4_คบ.&คป.'!I8","v":0},{"$f":"$B8*0.2*0.2*'หมวดที่ 4_คบ.&คป.'!J8","v":0},{"$f":"$B8*0.2*0.2*'หมวดที่ 4_คบ.&คป.'!K8","v":0},{"$f":"SUM(I8:K8)","v":0}]
["(2) ร้อยละความเสียหายของพืชเศรษฐกิจในเขตชลประทานจากอุทกภัยและภัยแล้ง",{"$f":"'หมวดที่ 4_คบ.&คป.'!B9","v":10},{"$f":"'หมวดที่ 4_คบ.&คป.'!C9","v":0.245},{"$f":"'หมวดที่ 4_คบ.&คป.'!D9","v":0.19500000000000001},{"$f":"'หมวดที่ 4_คบ.&คป.'!E9","v":0.14499999999999999},{"$f":"'หมวดที่ 4_คบ.&คป.'!F9","v":9.5000000000000001E-2},{"$f":"'หมวดที่ 4_คบ.&คป.'!G9","v":4.4999999999999998E-2},null,{"$f":"$B9*0.2*0.6*'หมวดที่ 4_คบ.&คป.'!I9","v":0},{"$f":"$B9*0.2*0.2*'หมวดที่ 4_คบ.&คป.'!J9","v":0},{"$f":"$B9*0.2*0.2*'หมวดที่ 4_คบ.&คป.'!K9","v":0},{"$f":"SUM(I9:K9)","v":0}]
["(3) ร้อยละของอ่างเก็บน้ำและทางน้ำชลประทานที่คุณภาพน้ำได้เกณฑ์มาตรฐาน",{"$f":"'หมวดที่ 4_คบ.&คป.'!B10","v":10},{"$f":"'หมวดที่ 4_คบ.&คป.'!C10","v":80},{"$f":"'หมวดที่ 4_คบ.&คป.'!D10","v":85},{"$f":"'หมวดที่ 4_คบ.&คป.'!E10","v":90},{"$f":"'หมวดที่ 4_คบ.&คป.'!F10","v":95},{"$f":"'หมวดที่ 4_คบ.&คป.'!G10","v":100},null,{"$f":"$B10*0.2*0.6*'หมวดที่ 4_คบ.&คป.'!I10","v":0},{"$f":"$B10*0.2*0.2*'หมวดที่ 4_คบ.&คป.'!J10","v":0},{"$f":"$B10*0.2*0.2*'หมวดที่ 4_คบ.&คป.'!K10","v":0},0]
["มิติด้านคุณภาพการให้บริการ",{"$f":"SUM(B12:B12)","v":10},null,null,null,null,null,null,{"$f":"SUM(I12)","v":0},{"$f":"SUM(J12)","v":0},0,{"$f":"L12","v":0}]
["(4) ร้อยละของผู้ใช้น้ำในเขตพื้นที่ชลประทานที่พึงพอใจต่อการบริหารจัดการน้ำ",{"$f":"'หมวดที่ 4_คบ.&คป.'!B12","v":10},{"$f":"'หมวดที่ 4_คบ.&คป.'!C12","v":65},{"$f":"'หมวดที่ 4_คบ.&คป.'!D12","v":70},{"$f":"'หมวดที่ 4_คบ.&คป.'!E12","v":75},{"$f":"'หมวดที่ 4_คบ.&คป.'!F12","v":80},{"$f":"'หมวดที่ 4_คบ.&คป.'!G12","v":85},null,{"$f":"$B12*0.2*0.6*'หมวดที่ 4_คบ.&คป.'!I12","v":0},{"$f":"$B12*0.2*0.2*'หมวดที่ 4_คบ.&คป.'!J12","v":0},{"$f":"$B12*0.2*0.2*'หมวดที่ 4_คบ.&คป.'!K12","v":0},{"$f":"SUM(I12:K12)","v":0}]
["มิติด้านประสิทธิภาพของการปฏิบัติราชการ",{"$f":"SUM(B14:B20)","v":85},null,null,null,null,null,null,{"$f":"SUM(I14:I20)","v":0},{"$f":"SUM(J14:J20)","v":0},0,{"$f":"SUM(L14:L20)","v":0}]
["(5) ประสิทธิภาพชลประทานฤดูฝน",{"$f":"'หมวดที่ 4_คบ.&คป.'!B14","v":10},{"$f":"'หมวดที่ 4_คบ.&คป.'!C14","v":0.2},{"$f":"'หมวดที่ 4_คบ.&คป.'!D14","v":0.3},{"$f":"'หมวดที่ 4_คบ.&คป.'!E14","v":0.4},{"$f":"'หมวดที่ 4_คบ.&คป.'!F14","v":0.5},{"$f":"'หมวดที่ 4_คบ.&คป.'!G14","v":0.6},null,{"$f":"$B14*0.2*0.6*'หมวดที่ 4_คบ.&คป.'!I14","v":0},{"$f":"$B14*0.2*0.2*'หมวดที่ 4_คบ.&คป.'!J14","v":0},{"$f":"$B14*0.2*0.2*'หมวดที่ 4_คบ.&คป.'!K14","v":0},{"$f":"SUM(I14:K14)","v":0}]
["(6) ประสิทธิภาพชลประทานฤดูแล้ง ",{"$f":"'หมวดที่ 4_คบ.&คป.'!B15","v":10},{"$f":"'หมวดที่ 4_คบ.&คป.'!C15","v":0.2},{"$f":"'หมวดที่ 4_คบ.&คป.'!D15","v":0.3},{"$f":"'หมวดที่ 4_คบ.&คป.'!E15","v":0.4},{"$f":"'หมวดที่ 4_คบ.&คป.'!F15","v":0.5},{"$f":"'หมวดที่ 4_คบ.&คป.'!G15","v":0.6},null,{"$f":"$B15*0.2*0.6*'หมวดที่ 4_คบ.&คป.'!I15","v":0},{"$f":"$B15*0.2*0.2*'หมวดที่ 4_คบ.&คป.'!J15","v":0},{"$f":"$B15*0.2*0.2*'หมวดที่ 4_คบ.&คป.'!K15","v":0},{"$f":"SUM(I15:K15)","v":0}]
["(7) ร้อยละของการเบิกจ่ายงบประมาณงบลงทุนที่เป็นไปตามแผน",{"$f":"'หมวดที่ 4_คบ.&คป.'!B16","v":25},{"$f":"'หมวดที่ 4_คบ.&คป.'!C16","v":80},{"$f":"'หมวดที่ 4_คบ.&คป.'!D16","v":85},{"$f":"'หมวดที่ 4_คบ.&คป.'!E16","v":90},{"$f":"'หมวดที่ 4_คบ.&คป.'!F16","v":95},{"$f":"'หมวดที่ 4_คบ.&คป.'!G16","v":100},null,{"$f":"$B16*0.2*0.6*'หมวดที่ 4_คบ.&คป.'!I16","v":0},{"$f":"$B16*0.2*0.2*'หมวดที่ 4_คบ.&คป.'!J16","v":0},{"$f":"$B16*0.2*0.2*'หมวดที่ 4_คบ.&คป.'!K16","v":0},0]
["(8) ร้อยละของอาคารควบคุมน้ำในระบบส่งน้ำและระบายน้ำที่อยู่ในสภาพใช้งานได้ดี",{"$f":"'หมวดที่ 4_คบ.&คป.'!B17","v":10},{"$f":"'หมวดที่ 4_คบ.&คป.'!C17","v":60},{"$f":"'หมวดที่ 4_คบ.&คป.'!D17","v":70},{"$f":"'หมวดที่ 4_คบ.&คป.'!E17","v":80},{"$f":"'หมวดที่ 4_คบ.&คป.'!F17","v":90},{"$f":"'หมวดที่ 4_คบ.&คป.'!G17","v":100},null,{"$f":"$B17*0.2*0.6*'หมวดที่ 4_คบ.&คป.'!I17","v":0},{"$f":"$B17*0.2*0.2*'หมวดที่ 4_คบ.&คป.'!J17","v":0},{"$f":"$B17*0.2*0.2*'หมวดที่ 4_คบ.&คป.'!K17","v":0},0]
["(9) ร้อยละของพื้นที่ชลประทานที่มีการตั้งกลุ่มผู้ใช้น้ำชลประทานพื้นฐาน",{"$f":"'หมวดที่ 4_คบ.&คป.'!B18","v":10},{"$f":"'หมวดที่ 4_คบ.&คป.'!C18","v":50},{"$f":"'หมวดที่ 4_คบ.&คป.'!D18","v":60},{"$f":"'หมวดที่ 4_คบ.&คป.'!E18","v":70},{"$f":"'หมวดที่ 4_คบ.&คป.'!F18","v":80},{"$f":"'หมวดที่ 4_คบ.&คป.'!G18","v":90},null,{"$f":"$B18*0.2*0.6*'หมวดที่ 4_คบ.&คป.'!I18","v":0},{"$f":"$B18*0.2*0.2*'หมวดที่ 4_คบ.&คป.'!J18","v":0},{"$f":"$B18*0.2*0.2*'หมวดที่ 4_คบ.&คป.'!K18","v":0},0]
["(10)ร้อยละของพื้นที่ชลประทานที่มีการกลุ่มบริหารการใช้น้ำชลประทาน กลุ่มเกษตรกรฯ สมาคมฯ และสหกรณ์ฯ",{"$f":"'หมวดที่ 4_คบ.&คป.'!B19","v":10},{"$f":"'หมวดที่ 4_คบ.&คป.'!C19","v":50},{"$f":"'หมวดที่ 4_คบ.&คป.'!D19","v":60},{"$f":"'หมวดที่ 4_คบ.&คป.'!E19","v":70},{"$f":"'หมวดที่ 4_คบ.&คป.'!F19","v":80},{"$f":"'หมวดที่ 4_คบ.&คป.'!G19","v":90},null,{"$f":"$B19*0.2*0.6*'หมวดที่ 4_คบ.&คป.'!I19","v":0},{"$f":"$B19*0.2*0.2*'หมวดที่ 4_คบ.&คป.'!J19","v":0},{"$f":"$B19*0.2*0.2*'หมวดที่ 4_คบ.&คป.'!K19","v":0},0]
["(11) ร้อยละขององค์กรผู้ใช้น้ำชลประทานที่มีความเข้มแข็งในการบริหารจัดการน้ำ",{"$f":"'หมวดที่ 4_คบ.&คป.'!B20","v":10},{"$f":"'หมวดที่ 4_คบ.&คป.'!C20","v":50},{"$f":"'หมวดที่ 4_คบ.&คป.'!D20","v":60},{"$f":"'หมวดที่ 4_คบ.&คป.'!E20","v":70},{"$f":"'หมวดที่ 4_คบ.&คป.'!F20","v":80},{"$f":"'หมวดที่ 4_คบ.&คป.'!G20","v":90},null,{"$f":"$B20*0.2*0.6*'หมวดที่ 4_คบ.&คป.'!I20","v":0},{"$f":"$B20*0.2*0.2*'หมวดที่ 4_คบ.&คป.'!J20","v":0},{"$f":"$B20*0.2*0.2*'หมวดที่ 4_คบ.&คป.'!K20","v":0},0]
["มิติด้านการพัฒนาองค์กร",{"$f":"B22","v":10},null,null,null,null,null,null,{"$f":"I22","v":0},{"$f":"J22","v":0},0,{"$f":"L22","v":0}]
["(12) ร้อยละของจำนวนเรื่องที่เผยแพร่และประชาสัมพันธ์ผ่านสื่อต่างๆ",{"$f":"'หมวดที่ 4_คบ.&คป.'!B22","v":10},{"$f":"'หมวดที่ 4_คบ.&คป.'!C22","v":80},{"$f":"'หมวดที่ 4_คบ.&คป.'!D22","v":85},{"$f":"'หมวดที่ 4_คบ.&คป.'!E22","v":90},{"$f":"'หมวดที่ 4_คบ.&คป.'!F22","v":95},{"$f":"'หมวดที่ 4_คบ.&คป.'!G22","v":100},null,{"$f":"$B22*0.2*0.6*'หมวดที่ 4_คบ.&คป.'!I22","v":0},{"$f":"$B22*0.2*0.2*'หมวดที่ 4_คบ.&คป.'!J22","v":0},{"$f":"$B22*0.2*0.2*'หมวดที่ 4_คบ.&คป.'!K22","v":0},0]
[null,{"$f":"B6+'หมวดที่ 1-3_คบ.&คป.'!C25","v":1000},null,null,null,null,null,null,null,null,null,{"$f":"L6+'หมวดที่ 1-3_คบ.&คป.'!I25","v":0}]
[]
["หมายเหตุ"]
["ช่องผลการดำเนินงาน ให้ใส่ค่าตามตัวชี้วัดที่คำนวณได้ในปีปัจจุบัน"]
["ช่อง Le ให้ใส่คะแนนตามระดับตัวชี้วัดตามเกณฑ์ที่ได้ "]
["ช่อง T ให้ใส่เลข 0,1,3 หรือ 5 ตามระดับแนวโน้มที่ได้ เลข 0 หมายถึงไม่มีกราฟแสดงแนวโน้ม เลข 1 หมายถึง แนวโน้มแย่ลง เลข 3 หมายถึงแนวโน้มคงที่ เลข 5 หมายถึง แนวโน้มดีขึ้น"]
["ช่อง C ให้ใส่เลข 0,1,3 หรือ 5 ตามระดับตัวเปรียบเที่ยบที่ได้ เลข 0 หมายถึงไม่แสดงการเปรียบเทียบ เลข 1 หมายถึง น้อยกว่าตัวเปรียบเทียบ เลข 3 หมายถึงเท่ากับหรือใกล้เคียงกับตัวเปรียบเทียบ "]
["           เลข 5 หมายถึง มากกว่าตัวเปรียบเทียบ"]
["หากจะแก้ไขเลขที่พิมพ์ไปแล้วให้กดลบที่แป้น delete เท่านั้น ถ้ากดที่แป้นอื่น จะทำให้โปรแกรมรวน"]

{"sheet":"หมวดที่ 1-3_สบ.","index":3,"n_rows":28,"n_cols":10,"rows_kept":28,"cut":false,"hidden":false,"merged":[[6,0,11,0],[12,0,14,0],[15,0,23,0],[24,0,24,1],[0,0,0,9],[1,0,1,9],[2,0,4,0],[2,1,4,1],[2,2,4,2],[2,3,2,7],[2,8,4,8],[2,9,4,9]]}
["หลักเกณฑ์การให้คะแนน"]
["การประเมินการพัฒนาคุณภาพการบริหารจัดการฝ่ายส่งน้ำและบำรุงรักษา"]
["หมวด","ข้อคำถาม","คะแนนเต็ม","ระดับ",null,null,null,null,"รวมคะแนน","หมายเหตุ"]
[null,null,null,1,2,3,4,5]
[null,null,null,"(20%)","(40%)","(60%)","(80%)","(100%)"]
["สรุปข้อมูลองค์กร","ข้อมูลสรุปของโครงการฯ /ฝ่ายส่งน้ำและบำรุงรักษา",0]
["1.การนำองค์กร (150 คะแนน)","1.1ความเข้าใจนโยบายในระดับต่างๆ รวมถึงการแปลงนโยบายสู่ผู้ปฏิบัติงาน",15,null,null,null,null,null,{"$f":"C7*((0.2*D7)+(E7*0.4)+(F7*0.6)+(G7*0.8)+(H7*1))","v":0}]
[null,"1.2 การจัดทำและการจัดเก็บข้อมูล ตามsheet ข้อมูล",50,null,null,null,null,null,{"$f":"C8*((0.2*D8)+(E8*0.4)+(F8*0.6)+(G8*0.8)+(H8*1))","v":0}]
[null,"1.3 วิธีการ/กระบวนการจัดทำแผนงานโครงการ",50,null,null,null,null,null,{"$f":"C9*((0.2*D9)+(E9*0.4)+(F9*0.6)+(G9*0.8)+(H9*1))","v":0}]
[null,"1.4 วิธีการจัดวางอัตรากำลังบุคคลากรอย่างเหมาะสม",20,null,null,null,null,null,0]
[null,"1.5 การจำแนกกลุ่มผู้รับบริการ และผู้มีส่วนได้ส่วนเสีย และการกำหนดช่องทางในการรับรู้และวางแนวทางในการตอบสนองความต้องการของผู้รับบริการ และผู้มีส่วนได้ส่วนเสีย",15,null,null,null,null,null,0]
[null,"รวมคะแนนหมวดที่ 1",{"$f":"SUM(C7:C11)","v":150},null,null,null,null,null,{"$f":"SUM(I7:I11)","v":0}]
["2. การสร้างความสัมพันธ์ (200 คะแนน)                     ","2.1 วิธีการ/กระบวนการ ในการให้บริการกับกลุ่มผู้รับบริการ และผู้มีส่วนได้ส่วนเสีย ",100,null,null,null,null,null,0]
[null,"2.2 วิธีการในการเพิ่มขีดความสามารถ/ศักยภาพของทีมงานต่อการปฏิบัติงานเพื่อเพิ่มประสิทธิภาพการทำงาน",100,null,null,null,null,null,0]
[null,"รวมคะแนนหมวดที่ 2",{"$f":"SUM(C13:C14)","v":200},null,null,null,null,null,{"$f":"SUM(I13:I14)","v":0}]
["3. การบริหารจัดการ (500 คะแนน)                            ","3.1 วิธีการรับทราบ/รับรู้/คำนวณปริมาณน้ำต้นทุนในการจัดสรรน้ำ หรือการระบายน้ำในแต่ละฤดูกาล",60,null,null,null,null,null,0]
[null,"3.2 การนำปริมาณน้ำต้นทุนที่ได้รับมาวางแผนจัดสรรน้ำ/ระบายน้ำ",60,null,null,null,null,null,0]
[null,"3.3 การแจ้งข่าวสารให้ผู้ใช้น้ำทราบทั้งก่อนและระหว่างส่งน้ำ /การแจ้งข่าวสารให้ผู้รับบริการและผู้มีส่วนได้ส่วนเสียในลำน้ำที่รับผิดชอบ",40,null,null,null,null,null,0]
[null,"3.4 การควบคุมการส่งน้ำในระดับต่าง ๆ /การควบคุมการระบายน้ำในระดับต่างๆ ",50,null,null,null,null,null,0]
[null,"3.5 การดำเนินงานป้องกันและบรรเทาภัยจากน้ำ หรือในสภาวะวิกฤติ (น้ำท่วม/น้ำแล้ง/น้ำเสีย)",50,null,null,null,null,null,0]
[null,"3.6 การดำเนินการจัดทำบันทึกประวัติการตรวจสอบสภาพและการบำรุงรักษาอาคารชลประทาน/walk through",50,null,null,null,null,null,0]
[null,"3.7 การคิดค้น/นำนวัตกรรมมาใช้ในการปฏิบัติงาน หรือปรับปรุงวิธีการทำงาน",90,null,null,null,null,null,0]
[null,"3.8 วิธีการสร้างการมีส่วนร่วมกับผู้รับบริการและผู้มีส่วนได้ส่วนเสียในแต่ละฤดูกาล",100,null,null,null,null,null,0]
[null,"รวมคะแนนหมวดที่ 3",{"$f":"SUM(C16:C23)","v":500},null,null,null,null,null,{"$f":"SUM(I16:I23)","v":0}]
["รวมคะแนนทั้ง 3 หมวด",null,{"$f":"C24+C15+C12","v":850},null,null,null,null,null,{"$f":"I24+I15+I12","v":0}]
[]
["หมายเหตุ"]
["ช่อง \"ระดับ\" (1 - 5) ในแต่ละข้อคำถาม ให้คลิกที่ระดับคะแนนที่ต้องการ"]

{"sheet":"หมวดที่ 4_สบ.","index":4,"n_rows":28,"n_cols":12,"rows_kept":28,"cut":false,"hidden":false,"merged":[[0,0,0,11],[1,0,1,11],[3,0,4,0],[3,1,4,1],[3,2,3,6],[3,7,4,7],[3,8,4,8],[3,9,4,9],[3,10,4,10],[3,11,4,11]]}
["หลักเกณฑ์การให้คะแนน"]
["การประเมินการพัฒนาคุณภาพการบริหารจัดการฝ่ายส่งน้ำและบำรุงรักษา"]
[]
["ข้อพิจารณา","คะแนนเต็ม","ระดับคะแนน",null,null,null,null,"ผลการดำเนินงาน","คะแนนที่ได้ (60%)","แนวโน้ม(-/+) (20%)","C (20%)","รวมคะแนน"]
[null,null,1,2,3,4,5]
["หมวดที่ 4. ผลสัมฤทธิ์ (150 คะแนน)",{"$f":"+B7+B9+B11+B19","v":150},null,null,null,null,null,null,{"$f":"คำนวนหมวดที่4_สบ.!I6","v":0},{"$f":"คำนวนหมวดที่4_สบ.!J6","v":0},{"$f":"คำนวนหมวดที่4_สบ.!K6","v":0},{"$f":"คำนวนหมวดที่4_สบ.!L6","v":0}]
["มิติด้านประสิทธิผล",{"$f":"SUM(B8:B8)","v":20},null,null,null,null,null,null,{"$f":"คำนวนหมวดที่4_สบ.!I7","v":0},{"$f":"คำนวนหมวดที่4_สบ.!J7","v":0},{"$f":"คำนวนหมวดที่4_สบ.!K7","v":0},{"$f":"คำนวนหมวดที่4_สบ.!L7","v":0}]
["(1) ร้อยละของพื้นที่บริหารจัดการน้ำในเขตชลประทาน (Cropping Intensity)",20,"ไม่น้อยกว่า 119% หรือ\nไม่มากกว่า 151%\n","ไม่น้อยกว่า 123% หรือ\nไม่มากกว่า 147%","ไม่น้อยกว่า 127% หรือ\nไม่มากกว่า143%\n","ไม่น้อยกว่า 131% \nหรือ\nไม่มากกว่า 139%\n",1.35,null,null,null,null,{"$f":"คำนวนหมวดที่4_สบ.!L8","v":0}]
["มิติด้านคุณภาพการให้บริการ",{"$f":"SUM(B10:B10)","v":25},null,null,null,null,null,null,{"$f":"คำนวนหมวดที่4_สบ.!I9","v":0},{"$f":"คำนวนหมวดที่4_สบ.!J9","v":0},{"$f":"คำนวนหมวดที่4_สบ.!K9","v":0},{"$f":"คำนวนหมวดที่4_สบ.!L9","v":0}]
["(4) ร้อยละความพึงพอใจของเกษตรกรผู้ใช้น้ำในเขตชลประทาน",25,65,70,75,80,85,null,null,null,null,{"$f":"คำนวนหมวดที่4_สบ.!L9","v":0}]
["มิติด้านประสิทธิภาพของการปฏิบัติราชการ",{"$f":"SUM(B12:B18)","v":95},null,null,null,null,null,null,{"$f":"คำนวนหมวดที่4_สบ.!I11","v":0},{"$f":"คำนวนหมวดที่4_สบ.!J11","v":0},{"$f":"คำนวนหมวดที่4_สบ.!K11","v":0},{"$f":"คำนวนหมวดที่4_สบ.!L11","v":0}]
["(5) ประสิทธิภาพชลประทานฤดูฝน",10,0.2,0.3,0.4,0.5,0.6,null,null,null,null,{"$f":"คำนวนหมวดที่4_สบ.!L12","v":0}]
["(6) ประสิทธิภาพชลประทานฤดูแล้ง ",10,0.2,0.3,0.4,0.5,0.6,null,null,null,null,{"$f":"คำนวนหมวดที่4_สบ.!L13","v":0}]
["(7) ร้อยละของการเบิกจ่ายงบประมาณงบลงทุนที่เป็นไปตามแผน",20,80,85,90,95,100,null,null,null,null,{"$f":"คำนวนหมวดที่4_สบ.!L14","v":0}]
["(8) ร้อยละของอาคารควบคุมน้ำในระบบส่งน้ำและระบายน้ำที่อยู่ในสภาพใช้งานได้ดี",25,60,70,80,90,100,null,null,null,null,{"$f":"คำนวนหมวดที่4_สบ.!L15","v":0}]
["(9) ร้อยละของพื้นที่ชลประทานที่มีการตั้งกลุ่มผู้ใช้น้ำชลประทาน (กลุ่มพื้นฐาน)",10,50,60,70,80,90,null,null,null,null,{"$f":"คำนวนหมวดที่4_สบ.!L16","v":0}]
["(10)ร้อยละของพื้นที่ชลประทานที่มีการกลุ่มบริหารการใช้น้ำชลประทาน กลุ่มเกษตรกรผู้ใช้น้ำชลประทาน สมาคมผู้ใช้น้ำชลประทาน และสหกรณ์ผู้ใช้น้ำชลประทาน",10,50,60,70,80,90,null,null,null,null,{"$f":"คำนวนหมวดที่4_สบ.!L17","v":0}]
["(11) ร้อยละขององค์กรผู้ใช้น้ำชลประทานที่มีความเข้มแข็งในการบริหารจัดการน้ำ",10,50,60,70,80,90,null,null,null,null,{"$f":"คำนวนหมวดที่4_สบ.!L18","v":0}]
["มิติด้านการพัฒนาองค์กร",{"$f":"B20","v":10},null,null,null,null,null,null,{"$f":"คำนวนหมวดที่4_สบ.!I19","v":0},{"$f":"คำนวนหมวดที่4_สบ.!J19","v":0},{"$f":"คำนวนหมวดที่4_สบ.!K19","v":0},{"$f":"คำนวนหมวดที่4_สบ.!L19","v":0}]
["(12) ร้อยละของจำนวนเรื่องที่เผยแพร่และประชาสัมพันธ์ผ่านสื่อต่างๆ",10,80,85,90,95,100,null,null,null,null,{"$f":"คำนวนหมวดที่4_สบ.!L20","v":0}]
["รวมทั้ง 4 หมวด",{"$f":"คำนวนหมวดที่4_สบ.!B21","v":1000},null,null,null,null,null,null,null,null,null,{"$f":"คำนวนหมวดที่4_สบ.!L21","v":0}]
[]
["หมายเหตุ"]
["ช่องผลการดำเนินงาน ให้ใส่ค่าตามตัวชี้วัดที่คำนวณได้ในปีปัจจุบัน"]
["ช่อง Le ให้ใส่คะแนนตามระดับตัวชี้วัดตามเกณฑ์ที่ได้ (สามารถใส่เลขเป็นทศนิยมได้ กรณีที่ต้อง Interpolate))"]
["ช่อง T ให้ใส่เลข 0,1,3 หรือ 5 ตามระดับแนวโน้มที่ได้ เลข 0 หมายถึงไม่มีกราฟแสดงแนวโน้ม เลข 1 หมายถึง แนวโน้มแย่ลง เลข 3 หมายถึงแนวโน้มคงที่ เลข 5 หมายถึง แนวโน้มดีขึ้น"]
["ช่อง C ให้ใส่เลข 0,1,3 หรือ 5 ตามระดับตัวเปรียบเที่ยบที่ได้ เลข 0 หมายถึงไม่แสดงการเปรียบเทียบ เลข 1 หมายถึง น้อยกว่าตัวเปรียบเทียบ เลข 3 หมายถึงเท่ากับหรือใกล้เคียงกับตัวเปรียบเทียบ "]
["           เลข 5 หมายถึง มากกว่าตัวเปรียบเทียบ"]

{"sheet":"คำนวนหมวดที่4_สบ.","index":5,"n_rows":29,"n_cols":12,"rows_kept":29,"cut":false,"hidden":true,"merged":[[0,0,0,11],[1,0,1,11],[3,0,4,0],[3,1,4,1],[3,2,3,6],[3,7,4,7],[3,8,4,8],[3,9,4,9],[3,10,4,10],[3,11,4,11]]}
["หลักเกณฑ์การให้คะแนน"]
["การประเมินการพัฒนาคุณภาพการบริหารจัดการฝ่ายส่งน้ำและบำรุงรักษา"]
[]
["ข้อพิจารณา","คะแนนเต็ม","ระดับคะแนน",null,null,null,null,"ผลการดำเนินงาน","คะแนนที่ได้ (60%)","แนวโน้น(-/+) (20%)","C (20%)","รวมคะแนน"]
[null,null,1,2,3,4,5]
["หมวดที่ 4. ผลสัมฤทธิ์ (150 คะแนน)",{"$f":"+B7+B9+B11+B19","v":150},null,null,null,null,null,null,{"$f":"I7+I9+I11+I19","v":0},{"$f":"J7+J9+J11+J19","v":0},{"$f":"K7+K9+K11+K19","v":0},{"$f":"L7+L9+L11+L19","v":0}]
["มิติด้านประสิทธิผล",{"$f":"SUM(B8:B8)","v":20},null,null,null,null,null,null,{"$f":"SUM(I8:I8)","v":0},{"$f":"SUM(J8:J8)","v":0},{"$f":"SUM(K8:K8)","v":0},{"$f":"SUM(L8:L8)","v":0}]
["(1) ร้อยละของพื้นที่บริหารจัดการน้ำในเขตชลประทาน (Cropping Intensity)",{"$f":"'หมวดที่ 4_สบ.'!B8","v":20},{"$f":"'หมวดที่ 4_สบ.'!C8","v":"ไม่น้อยกว่า 119% หรือ\nไม่มากกว่า 151%\n"},{"$f":"'หมวดที่ 4_สบ.'!D8","v":"ไม่น้อยกว่า 123% หรือ\nไม่มากกว่า 147%"},{"$f":"'หมวดที่ 4_สบ.'!E8","v":"ไม่น้อยกว่า 127% หรือ\nไม่มากกว่า143%\n"},{"$f":"'หมวดที่ 4_สบ.'!F8","v":"ไม่น้อยกว่า 131% \nหรือ\nไม่มากกว่า 139%\n"},{"$f":"'หมวดที่ 4_สบ.'!G8","v":1.35},null,{"$f":"$B8*0.2*0.6*'หมวดที่ 4_สบ.'!I8","v":0},{"$f":"$B8*0.2*0.2*'หมวดที่ 4_สบ.'!J8","v":0},{"$f":"$B8*0.2*0.2*'หมวดที่ 4_สบ.'!K8","v":0},{"$f":"SUM(I8:K8)","v":0}]
["มิติด้านคุณภาพการให้บริการ",{"$f":"SUM(B10:B10)","v":25},null,null,null,null,null,null,{"$f":"SUM(I10)","v":0},{"$f":"SUM(J10)","v":0},0,{"$f":"L10","v":0}]
["(4) ร้อยละของผู้ใช้น้ำในเขตพื้นที่ชลประทานที่พึงพอใจต่อการบริหารจัดการน้ำ",{"$f":"'หมวดที่ 4_สบ.'!B10","v":25},{"$f":"'หมวดที่ 4_สบ.'!C10","v":65},{"$f":"'หมวดที่ 4_สบ.'!D10","v":70},{"$f":"'หมวดที่ 4_สบ.'!E10","v":75},{"$f":"'หมวดที่ 4_สบ.'!F10","v":80},{"$f":"'หมวดที่ 4_สบ.'!G10","v":85},null,{"$f":"$B10*0.2*0.6*'หมวดที่ 4_สบ.'!I10","v":0},{"$f":"$B10*0.2*0.2*'หมวดที่ 4_สบ.'!J10","v":0},{"$f":"$B10*0.2*0.2*'หมวดที่ 4_สบ.'!K10","v":0},{"$f":"SUM(I10:K10)","v":0}]
["มิติด้านประสิทธิภาพของการปฏิบัติราชการ",{"$f":"SUM(B12:B18)","v":95},null,null,null,null,null,null,{"$f":"SUM(I12:I18)","v":0},{"$f":"SUM(J12:J18)","v":0},0,{"$f":"SUM(L12:L18)","v":0}]
["(5) ประสิทธิภาพชลประทานฤดูฝน",{"$f":"'หมวดที่ 4_สบ.'!B12","v":10},{"$f":"'หมวดที่ 4_สบ.'!C12","v":0.2},{"$f":"'หมวดที่ 4_สบ.'!D12","v":0.3},{"$f":"'หมวดที่ 4_สบ.'!E12","v":0.4},{"$f":"'หมวดที่ 4_สบ.'!F12","v":0.5},{"$f":"'หมวดที่ 4_สบ.'!G12","v":0.6},null,{"$f":"$B12*0.2*0.6*'หมวดที่ 4_สบ.'!I12","v":0},{"$f":"$B12*0.2*0.2*'หมวดที่ 4_สบ.'!J12","v":0},{"$f":"$B12*0.2*0.2*'หมวดที่ 4_สบ.'!K12","v":0},{"$f":"SUM(I12:K12)","v":0}]
["(6) ประสิทธิภาพชลประทานฤดูแล้ง ",{"$f":"'หมวดที่ 4_สบ.'!B13","v":10},{"$f":"'หมวดที่ 4_สบ.'!C13","v":0.2},{"$f":"'หมวดที่ 4_สบ.'!D13","v":0.3},{"$f":"'หมวดที่ 4_สบ.'!E13","v":0.4},{"$f":"'หมวดที่ 4_สบ.'!F13","v":0.5},{"$f":"'หมวดที่ 4_สบ.'!G13","v":0.6},null,{"$f":"$B13*0.2*0.6*'หมวดที่ 4_สบ.'!I13","v":0},{"$f":"$B13*0.2*0.2*'หมวดที่ 4_สบ.'!J13","v":0},{"$f":"$B13*0.2*0.2*'หมวดที่ 4_สบ.'!K13","v":0},0]
["(7) ร้อยละของการเบิกจ่ายงบประมาณงบลงทุนที่เป็นไปตามแผน",{"$f":"'หมวดที่ 4_สบ.'!B14","v":20},{"$f":"'หมวดที่ 4_สบ.'!C14","v":80},{"$f":"'หมวดที่ 4_สบ.'!D14","v":85},{"$f":"'หมวดที่ 4_สบ.'!E14","v":90},{"$f":"'หมวดที่ 4_สบ.'!F14","v":95},{"$f":"'หมวดที่ 4_สบ.'!G14","v":100},null,{"$f":"$B14*0.2*0.6*'หมวดที่ 4_สบ.'!I14","v":0},{"$f":"$B14*0.2*0.2*'หมวดที่ 4_สบ.'!J14","v":0},{"$f":"$B14*0.2*0.2*'หมวดที่ 4_สบ.'!K14","v":0},0]
["(8) ร้อยละของอาคารควบคุมน้ำในระบบส่งน้ำและระบายน้ำที่อยู่ในสภาพใช้งานได้ดี",{"$f":"'หมวดที่ 4_สบ.'!B15","v":25},{"$f":"'หมวดที่ 4_สบ.'!C15","v":60},{"$f":"'หมวดที่ 4_สบ.'!D15","v":70},{"$f":"'หมวดที่ 4_สบ.'!E15","v":80},{"$f":"'หมวดที่ 4_สบ.'!F15","v":90},{"$f":"'หมวดที่ 4_สบ.'!G15","v":100},null,{"$f":"$B15*0.2*0.6*'หมวดที่ 4_สบ.'!I15","v":0},{"$f":"$B15*0.2*0.2*'หมวดที่ 4_สบ.'!J15","v":0},{"$f":"$B15*0.2*0.2*'หมวดที่ 4_สบ.'!K15","v":0},0]
["(9) ร้อยละของพื้นที่ชลประทานที่มีการตั้งกลุ่มผู้ใช้น้ำชลประทานพื้นฐาน",{"$f":"'หมวดที่ 4_สบ.'!B16","v":10},{"$f":"'หมวดที่ 4_สบ.'!C16","v":50},{"$f":"'หมวดที่ 4_สบ.'!D16","v":60},{"$f":"'หมวดที่ 4_สบ.'!E16","v":70},{"$f":"'หมวดที่ 4_สบ.'!F16","v":80},{"$f":"'หมวดที่ 4_สบ.'!G16","v":90},null,{"$f":"$B16*0.2*0.6*'หมวดที่ 4_สบ.'!I16","v":0},{"$f":"$B16*0.2*0.2*'หมวดที่ 4_สบ.'!J16","v":0},{"$f":"$B16*0.2*0.2*'หมวดที่ 4_สบ.'!K16","v":0},0]
["(10)ร้อยละของพื้นที่ชลประทานที่มีการกลุ่มบริหารการใช้น้ำชลประทาน กลุ่มเกษตรกรฯ สมาคมฯ และสหกรณ์ฯ",{"$f":"'หมวดที่ 4_สบ.'!B17","v":10},{"$f":"'หมวดที่ 4_สบ.'!C17","v":50},{"$f":"'หมวดที่ 4_สบ.'!D17","v":60},{"$f":"'หมวดที่ 4_สบ.'!E17","v":70},{"$f":"'หมวดที่ 4_สบ.'!F17","v":80},{"$f":"'หมวดที่ 4_สบ.'!G17","v":90},null,{"$f":"$B17*0.2*0.6*'หมวดที่ 4_สบ.'!I17","v":0},{"$f":"$B17*0.2*0.2*'หมวดที่ 4_สบ.'!J17","v":0},{"$f":"$B17*0.2*0.2*'หมวดที่ 4_สบ.'!K17","v":0},0]
["(11) ร้อยละขององค์กรผู้ใช้น้ำชลประทานที่มีความเข้มแข็งในการบริหารจัดการน้ำ",{"$f":"'หมวดที่ 4_สบ.'!B18","v":10},{"$f":"'หมวดที่ 4_สบ.'!C18","v":50},{"$f":"'หมวดที่ 4_สบ.'!D18","v":60},{"$f":"'หมวดที่ 4_สบ.'!E18","v":70},{"$f":"'หมวดที่ 4_สบ.'!F18","v":80},{"$f":"'หมวดที่ 4_สบ.'!G18","v":90},null,{"$f":"$B18*0.2*0.6*'หมวดที่ 4_สบ.'!I18","v":0},{"$f":"$B18*0.2*0.2*'หมวดที่ 4_สบ.'!J18","v":0},{"$f":"$B18*0.2*0.2*'หมวดที่ 4_สบ.'!K18","v":0},0]
["มิติด้านการพัฒนาองค์กร",{"$f":"B20","v":10},null,null,null,null,null,null,{"$f":"I20","v":0},{"$f":"J20","v":0},0,{"$f":"L20","v":0}]
["(12) ร้อยละของจำนวนเรื่องที่เผยแพร่และประชาสัมพันธ์ผ่านสื่อต่างๆ",{"$f":"'หมวดที่ 4_สบ.'!B20","v":10},{"$f":"'หมวดที่ 4_สบ.'!C20","v":80},{"$f":"'หมวดที่ 4_สบ.'!D20","v":85},{"$f":"'หมวดที่ 4_สบ.'!E20","v":90},{"$f":"'หมวดที่ 4_สบ.'!F20","v":95},{"$f":"'หมวดที่ 4_สบ.'!G20","v":100},null,{"$f":"$B20*0.2*0.6*'หมวดที่ 4_สบ.'!I20","v":0},{"$f":"$B20*0.2*0.2*'หมวดที่ 4_สบ.'!J20","v":0},{"$f":"$B20*0.2*0.2*'หมวดที่ 4_สบ.'!K20","v":0},0]
[null,{"$f":"B6+'หมวดที่ 1-3_สบ.'!C25","v":1000},null,null,null,null,null,null,null,null,null,{"$f":"L6+'หมวดที่ 1-3_สบ.'!I25","v":0}]
[]
["หมายเหตุ"]
["ช่องผลการดำเนินงาน ให้ใส่ค่าตามตัวชี้วัดที่คำนวณได้ในปีปัจจุบัน"]
["ช่อง Le ให้ใส่คะแนนตามระดับตัวชี้วัดตามเกณฑ์ที่ได้ "]
["ช่อง T ให้ใส่เลข 0,1,3 หรือ 5 ตามระดับแนวโน้มที่ได้ เลข 0 หมายถึงไม่มีกราฟแสดงแนวโน้ม เลข 1 หมายถึง แนวโน้มแย่ลง เลข 3 หมายถึงแนวโน้มคงที่ เลข 5 หมายถึง แนวโน้มดีขึ้น"]
["ช่อง C ให้ใส่เลข 0,1,3 หรือ 5 ตามระดับตัวเปรียบเที่ยบที่ได้ เลข 0 หมายถึงไม่แสดงการเปรียบเทียบ เลข 1 หมายถึง น้อยกว่าตัวเปรียบเทียบ เลข 3 หมายถึงเท่ากับหรือใกล้เคียงกับตัวเปรียบเทียบ "]
["           เลข 5 หมายถึง มากกว่าตัวเปรียบเทียบ"]
["หากจะแก้ไขเลขที่พิมพ์ไปแล้วให้กดลบที่แป้น delete เท่านั้น ถ้ากดที่แป้นอื่น จะทำให้โปรแกรมรวน"]