{"text_format":"1","workbook":"xlsx","n_sheets":28,"sheets":["วิธีใช้","Monthly Storage","EL_Area_Vol","หา NRI","NRI","NRI (Auto)","URC POP","LRC POP","NRI (Manual)","ม.ค.","ก.พ.","มี.ค.","เม.ย.","พ.ค.","มิ.ย.","ก.ค.","ส.ค.","ก.ย.","ต.ค.","พ.ย.","ธ.ค.","URC VAR","LRC VAR","Rule Curve","Hec3","REPORT","กราฟ Rule Curves ปริมาณน้ำ","กราฟ Rule Curves ระดับน้ำ"],"not_rendered":{"charts":30,"images":18,"macros":1,"external_links":2,"defined_names":34,"comments":13,"pivot_tables":0},"unopened":[{"sheet":"กราฟ Rule Curves ปริมาณน้ำ","index":26,"reason":"not_a_worksheet"},{"sheet":"กราฟ Rule Curves ระดับน้ำ","index":27,"reason":"not_a_worksheet"}],"bounds":{"document_bytes":16777216,"sheet_cells":100000,"rows_first":2000,"rows_last":500,"rows_between":2000,"halvings":0,"cell_chars":16384,"cell_head_chars":4096},"cells_cut":0,"cells_raw":0,"read":"whole","date_system":"1900"}

{"sheet":"วิธีใช้","index":0,"n_rows":135,"n_cols":3,"rows_kept":135,"cut":false,"hidden":false,"merged":[]}
["วิธีใช้งาน โปรแกรม RID Probability Based Rule Curve"]
[]
["1. Input Data"]
[]
[null,"1.1 ไปชีต \"Monthly Storage\" "]
[null,"กรอกข้อมูล Storage รายวัน ลงในชีต Monthly Storage ตามตารางที่จัดเตรียมไว้ให้ซึ่งรองรับข้อมูลถึง 50 ปี"]
[null,"โดยในปีแรกที่กรอกให้เป็นปีที่มีข้อมูลครบทั้งปี และกรอกข้อมูลจนถึงปีปัจจุบัน"]
[]
[]
[]
[]
[]
[]
[]
[]
[]
[]
[]
[]
[]
[]
[]
[]
[]
[]
[]
[null,"1.2  ไปชีต \"EL_Area_Vol\""]
[null,"กรอกข้อมูลโค้งความจุ โดยเริ่มกรอกในแถวที่ 3 เป็นต้นไปไม่เกิน 1000 บรรทัด"]
[]
[]
[]
[]
[]
[]
[]
[]
[]
[]
[]
[]
[]
[]
[]
[]
["2. ไปที่ชีต \"หา NRI\" "]
[]
[null,"2.1 เช็คปีแรกที่กรอกข้อมูลเป็นปีที่มีข้อมูลครบปี"]
[]
[]
[]
[]
[]
[]
[]
[]
[]
[]
[]
[]
[]
[]
[]
[null,"2.2 ลบชื่อปีล่าสุดที่ข้อมูลมีไม่ครบปี"]
[]
[]
[]
[]
[]
[]
[]
[]
[]
[]
[]
[]
[]
[]
[]
[]
[]
[]
[]
[]
[]
[]
[]
[]
[]
[null,"2.3 โปรแกรมจะคำนวนค่าอัลฟาของจำนวนปีที่ระดับ 0.01-0.20"]
[]
[]
[]
[]
[]
[]
[]
[]
[]
[]
[]
[]
[]
[]
[]
[]
[]
[]
[]
[]
[]
[]
[]
[]
[]
[]
["3. ไปที่ชีต \"NRI\""]
[null,"3.1 กรอกข้อมูลอ่างเก็บน้ำ"]
[]
[]
[]
[]
[]
[]
[]
[]
[]
[]
[]
[]
[]
[]
[]
[null,"3.2  ตรวจสอบกราฟแบ่งฤดูแล้ง ฤดูฝน "]
[null,null,"- โดยโปรแกรมหาค่า NRI ได้อัตโนมัติ จะขึ้นกล่องข้อความ \"แนะนำ\" หน้าปุ่ม Auto"]
[null,null,"ให้กดปุ่ม Auto เพื่อนำค่า NRI ไปใช้งานต่อ"]

{"sheet":"Monthly Storage","index":1,"n_rows":369,"n_cols":53,"rows_kept":369,"cut":false,"hidden":false,"merged":[[1,29,1,33]]}
["RID Probabilty Based Rule Curve"]
["หน่วย : ล้าน ลบ.ม."]
["Dam","Date(d/m/y)","Average",1986,1987,1988,1989,1990,1991,1992,1993,1994,1995,1996,1997,1998,1999,2000,2001,2002,2003,2004,2005,2006,2007,2008,2009,2010,2011,2012,2013,2014,2015,2016,2017,2018,2019]
["KKJ","2010-01-01",{"$f":"AVERAGE(D4:IV4)","v":{"$error":"#DIV/0!"}}]
[{"$f":"A4","v":"KKJ"},"2010-01-02",{"$error":"#DIV/0!"}]
[{"$f":"A5","v":"KKJ"},"2010-01-03",{"$error":"#DIV/0!"}]
["KKJ","2010-01-04",{"$error":"#DIV/0!"}]
["KKJ","2010-01-05",{"$error":"#DIV/0!"}]
["KKJ","2010-01-06",{"$error":"#DIV/0!"}]
["KKJ","2010-01-07",{"$error":"#DIV/0!"}]
["KKJ","2010-01-08",{"$error":"#DIV/0!"}]
["KKJ","2010-01-09",{"$error":"#DIV/0!"}]
["KKJ","2010-01-10",{"$error":"#DIV/0!"}]
["KKJ","2010-01-11",{"$error":"#DIV/0!"}]
["KKJ","2010-01-12",{"$error":"#DIV/0!"}]
["KKJ","2010-01-13",{"$error":"#DIV/0!"}]
["KKJ","2010-01-14",{"$error":"#DIV/0!"}]
["KKJ","2010-01-15",{"$error":"#DIV/0!"}]
["KKJ","2010-01-16",{"$error":"#DIV/0!"}]
["KKJ","2010-01-17",{"$error":"#DIV/0!"}]
["KKJ","2010-01-18",{"$error":"#DIV/0!"}]
["KKJ","2010-01-19",{"$error":"#DIV/0!"}]
["KKJ","2010-01-20",{"$error":"#DIV/0!"}]
["KKJ","2010-01-21",{"$error":"#DIV/0!"}]
["KKJ","2010-01-22",{"$error":"#DIV/0!"}]
["KKJ","2010-01-23",{"$error":"#DIV/0!"}]
["KKJ","2010-01-24",{"$error":"#DIV/0!"}]
["KKJ","2010-01-25",{"$error":"#DIV/0!"}]
["KKJ","2010-01-26",{"$error":"#DIV/0!"}]
["KKJ","2010-01-27",{"$error":"#DIV/0!"}]
["KKJ","2010-01-28",{"$error":"#DIV/0!"}]
["KKJ","2010-01-29",{"$error":"#DIV/0!"}]
["KKJ","2010-01-30",{"$error":"#DIV/0!"}]
["KKJ","2010-01-31",{"$error":"#DIV/0!"}]
["KKJ","2010-02-01",{"$error":"#DIV/0!"}]
["KKJ","2010-02-02",{"$error":"#DIV/0!"}]
["KKJ","2010-02-03",{"$error":"#DIV/0!"}]
["KKJ","2010-02-04",{"$error":"#DIV/0!"}]
["KKJ","2010-02-05",{"$error":"#DIV/0!"}]
["KKJ","2010-02-06",{"$error":"#DIV/0!"}]
["KKJ","2010-02-07",{"$error":"#DIV/0!"}]
["KKJ","2010-02-08",{"$error":"#DIV/0!"}]
["KKJ","2010-02-09",{"$error":"#DIV/0!"}]
["KKJ","2010-02-10",{"$error":"#DIV/0!"}]
["KKJ","2010-02-11",{"$error":"#DIV/0!"}]
["KKJ","2010-02-12",{"$error":"#DIV/0!"}]
["KKJ","2010-02-13",{"$error":"#DIV/0!"}]
["KKJ","2010-02-14",{"$error":"#DIV/0!"}]
["KKJ","2010-02-15",{"$error":"#DIV/0!"}]
["KKJ","2010-02-16",{"$error":"#DIV/0!"}]
["KKJ","2010-02-17",{"$error":"#DIV/0!"}]
["KKJ","2010-02-18",{"$error":"#DIV/0!"}]
["KKJ","2010-02-19",{"$error":"#DIV/0!"}]
["KKJ","2010-02-20",{"$error":"#DIV/0!"}]
["KKJ","2010-02-21",{"$error":"#DIV/0!"}]
["KKJ","2010-02-22",{"$error":"#DIV/0!"}]
["KKJ","2010-02-23",{"$error":"#DIV/0!"}]
["KKJ","2010-02-24",{"$error":"#DIV/0!"}]
["KKJ","2010-02-25",{"$error":"#DIV/0!"}]
["KKJ","2010-02-26",{"$error":"#DIV/0!"}]
["KKJ","2010-02-27",{"$error":"#DIV/0!"}]
["KKJ","2010-02-28",{"$error":"#DIV/0!"}]
["KKJ","2010-03-01",{"$error":"#DIV/0!"}]
["KKJ","2010-03-02",{"$error":"#DIV/0!"}]
["KKJ","2010-03-03",{"$error":"#DIV/0!"}]
["KKJ","2010-03-04",{"$error":"#DIV/0!"}]
["KKJ","2010-03-05",{"$error":"#DIV/0!"}]
["KKJ","2010-03-06",{"$f":"AVERAGE(D68:IV68)","v":{"$error":"#DIV/0!"}}]
["KKJ","2010-03-07",{"$error":"#DIV/0!"}]
[{"$f":"A69","v":"KKJ"},"2010-03-08",{"$error":"#DIV/0!"}]
["KKJ","2010-03-09",{"$error":"#DIV/0!"}]
["KKJ","2010-03-10",{"$error":"#DIV/0!"}]
["KKJ","2010-03-11",{"$error":"#DIV/0!"}]
["KKJ","2010-03-12",{"$error":"#DIV/0!"}]
["KKJ","2010-03-13",{"$error":"#DIV/0!"}]
["KKJ","2010-03-14",{"$error":"#DIV/0!"}]
["KKJ","2010-03-15",{"$error":"#DIV/0!"}]
["KKJ","2010-03-16",{"$error":"#DIV/0!"}]
["KKJ","2010-03-17",{"$error":"#DIV/0!"}]
["KKJ","2010-03-18",{"$error":"#DIV/0!"}]
["KKJ","2010-03-19",{"$error":"#DIV/0!"}]
["KKJ","2010-03-20",{"$error":"#DIV/0!"}]
["KKJ","2010-03-21",{"$error":"#DIV/0!"}]
["KKJ","2010-03-22",{"$error":"#DIV/0!"}]
["KKJ","2010-03-23",{"$error":"#DIV/0!"}]
["KKJ","2010-03-24",{"$error":"#DIV/0!"}]
["KKJ","2010-03-25",{"$error":"#DIV/0!"}]
["KKJ","2010-03-26",{"$error":"#DIV/0!"}]
["KKJ","2010-03-27",{"$error":"#DIV/0!"}]
["KKJ","2010-03-28",{"$error":"#DIV/0!"}]
["KKJ","2010-03-29",{"$error":"#DIV/0!"}]
["KKJ","2010-03-30",{"$error":"#DIV/0!"}]
["KKJ","2010-03-31",{"$error":"#DIV/0!"}]
["KKJ","2010-04-01",{"$error":"#DIV/0!"}]
["KKJ","2010-04-02",{"$error":"#DIV/0!"}]
["KKJ","2010-04-03",{"$error":"#DIV/0!"}]
["KKJ","2010-04-04",{"$error":"#DIV/0!"}]
["KKJ","2010-04-05",{"$error":"#DIV/0!"}]
["KKJ","2010-04-06",{"$error":"#DIV/0!"}]
["KKJ","2010-04-07",{"$error":"#DIV/0!"}]
["KKJ","2010-04-08",{"$error":"#DIV/0!"}]
["KKJ","2010-04-09",{"$error":"#DIV/0!"}]
["KKJ","2010-04-10",{"$error":"#DIV/0!"}]
["KKJ","2010-04-11",{"$error":"#DIV/0!"}]
["KKJ","2010-04-12",{"$error":"#DIV/0!"}]
["KKJ","2010-04-13",{"$error":"#DIV/0!"}]
["KKJ","2010-04-14",{"$error":"#DIV/0!"}]
["KKJ","2010-04-15",{"$error":"#DIV/0!"}]
["KKJ","2010-04-16",{"$error":"#DIV/0!"}]
["KKJ","2010-04-17",{"$error":"#DIV/0!"}]
["KKJ","2010-04-18",{"$error":"#DIV/0!"}]
["KKJ","2010-04-19",{"$error":"#DIV/0!"}]
["KKJ","2010-04-20",{"$error":"#DIV/0!"}]
["KKJ","2010-04-21",{"$error":"#DIV/0!"}]
["KKJ","2010-04-22",{"$error":"#DIV/0!"}]
["KKJ","2010-04-23",{"$error":"#DIV/0!"}]
["KKJ","2010-04-24",{"$error":"#DIV/0!"}]
["KKJ","2010-04-25",{"$error":"#DIV/0!"}]
["KKJ","2010-04-26",{"$error":"#DIV/0!"}]
["KKJ","2010-04-27",{"$error":"#DIV/0!"}]
["KKJ","2010-04-28",{"$error":"#DIV/0!"}]
["KKJ","2010-04-29",{"$error":"#DIV/0!"}]
["KKJ","2010-04-30",{"$error":"#DIV/0!"}]
["KKJ","2010-05-01",{"$error":"#DIV/0!"}]
["KKJ","2010-05-02",{"$error":"#DIV/0!"}]
["KKJ","2010-05-03",{"$error":"#DIV/0!"}]
["KKJ","2010-05-04",{"$error":"#DIV/0!"}]
["KKJ","2010-05-05",{"$error":"#DIV/0!"}]
["KKJ","2010-05-06",{"$error":"#DIV/0!"}]
["KKJ","2010-05-07",{"$error":"#DIV/0!"}]
["KKJ","2010-05-08",{"$error":"#DIV/0!"}]
["KKJ","2010-05-09",{"$f":"AVERAGE(D132:IV132)","v":{"$error":"#DIV/0!"}}]
["KKJ","2010-05-10",{"$error":"#DIV/0!"}]
[{"$f":"A133","v":"KKJ"},"2010-05-11",{"$error":"#DIV/0!"}]
["KKJ","2010-05-12",{"$error":"#DIV/0!"}]
["KKJ","2010-05-13",{"$error":"#DIV/0!"}]
["KKJ","2010-05-14",{"$error":"#DIV/0!"}]
["KKJ","2010-05-15",{"$error":"#DIV/0!"}]
["KKJ","2010-05-16",{"$error":"#DIV/0!"}]
["KKJ","2010-05-17",{"$error":"#DIV/0!"}]
["KKJ","2010-05-18",{"$error":"#DIV/0!"}]
["KKJ","2010-05-19",{"$error":"#DIV/0!"}]
["KKJ","2010-05-20",{"$error":"#DIV/0!"}]
["KKJ","2010-05-21",{"$error":"#DIV/0!"}]
["KKJ","2010-05-22",{"$error":"#DIV/0!"}]
["KKJ","2010-05-23",{"$error":"#DIV/0!"}]
["KKJ","2010-05-24",{"$error":"#DIV/0!"}]
["KKJ","2010-05-25",{"$error":"#DIV/0!"}]
["KKJ","2010-05-26",{"$error":"#DIV/0!"}]
["KKJ","2010-05-27",{"$error":"#DIV/0!"}]
["KKJ","2010-05-28",{"$error":"#DIV/0!"}]
["KKJ","2010-05-29",{"$error":"#DIV/0!"}]
["KKJ","2010-05-30",{"$error":"#DIV/0!"}]
["KKJ","2010-05-31",{"$error":"#DIV/0!"}]
["KKJ","2010-06-01",{"$error":"#DIV/0!"}]
["KKJ","2010-06-02",{"$error":"#DIV/0!"}]
["KKJ","2010-06-03",{"$error":"#DIV/0!"}]
["KKJ","2010-06-04",{"$error":"#DIV/0!"}]
["KKJ","2010-06-05",{"$error":"#DIV/0!"}]
["KKJ","2010-06-06",{"$error":"#DIV/0!"}]
["KKJ","2010-06-07",{"$error":"#DIV/0!"}]
["KKJ","2010-06-08",{"$error":"#DIV/0!"}]
["KKJ","2010-06-09",{"$error":"#DIV/0!"}]
["KKJ","2010-06-10",{"$error":"#DIV/0!"}]
["KKJ","2010-06-11",{"$error":"#DIV/0!"}]
["KKJ","2010-06-12",{"$error":"#DIV/0!"}]
["KKJ","2010-06-13",{"$error":"#DIV/0!"}]
["KKJ","2010-06-14",{"$error":"#DIV/0!"}]
["KKJ","2010-06-15",{"$error":"#DIV/0!"}]
["KKJ","2010-06-16",{"$error":"#DIV/0!"}]
["KKJ","2010-06-17",{"$error":"#DIV/0!"}]
["KKJ","2010-06-18",{"$error":"#DIV/0!"}]
["KKJ","2010-06-19",{"$error":"#DIV/0!"}]
["KKJ","2010-06-20",{"$error":"#DIV/0!"}]
["KKJ","2010-06-21",{"$error":"#DIV/0!"}]
["KKJ","2010-06-22",{"$error":"#DIV/0!"}]
["KKJ","2010-06-23",{"$error":"#DIV/0!"}]
["KKJ","2010-06-24",{"$error":"#DIV/0!"}]
["KKJ","2010-06-25",{"$error":"#DIV/0!"}]
["KKJ","2010-06-26",{"$error":"#DIV/0!"}]
["KKJ","2010-06-27",{"$error":"#DIV/0!"}]
["KKJ","2010-06-28",{"$error":"#DIV/0!"}]
["KKJ","2010-06-29",{"$error":"#DIV/0!"}]
["KKJ","2010-06-30",{"$error":"#DIV/0!"}]
["KKJ","2010-07-01",{"$error":"#DIV/0!"}]
["KKJ","2010-07-02",{"$error":"#DIV/0!"}]
["KKJ","2010-07-03",{"$error":"#DIV/0!"}]
["KKJ","2010-07-04",{"$error":"#DIV/0!"}]
["KKJ","2010-07-05",{"$error":"#DIV/0!"}]
["KKJ","2010-07-06",{"$error":"#DIV/0!"}]
["KKJ","2010-07-07",{"$error":"#DIV/0!"}]
["KKJ","2010-07-08",{"$error":"#DIV/0!"}]
["KKJ","2010-07-09",{"$error":"#DIV/0!"}]
["KKJ","2010-07-10",{"$error":"#DIV/0!"}]
["KKJ","2010-07-11",{"$error":"#DIV/0!"}]
["KKJ","2010-07-12",{"$f":"AVERAGE(D196:IV196)","v":{"$error":"#DIV/0!"}}]
["KKJ","2010-07-13",{"$error":"#DIV/0!"}]
[{"$f":"A197","v":"KKJ"},"2010-07-14",{"$error":"#DIV/0!"}]
["KKJ","2010-07-15",{"$error":"#DIV/0!"}]
["KKJ","2010-07-16",{"$error":"#DIV/0!"}]
["KKJ","2010-07-17",{"$error":"#DIV/0!"}]
["KKJ","2010-07-18",{"$error":"#DIV/0!"}]
["KKJ","2010-07-19",{"$error":"#DIV/0!"}]
["KKJ","2010-07-20",{"$error":"#DIV/0!"}]
["KKJ","2010-07-21",{"$error":"#DIV/0!"}]
["KKJ","2010-07-22",{"$error":"#DIV/0!"}]
["KKJ","2010-07-23",{"$error":"#DIV/0!"}]
["KKJ","2010-07-24",{"$error":"#DIV/0!"}]
["KKJ","2010-07-25",{"$error":"#DIV/0!"}]
["KKJ","2010-07-26",{"$error":"#DIV/0!"}]
["KKJ","2010-07-27",{"$error":"#DIV/0!"}]
["KKJ","2010-07-28",{"$error":"#DIV/0!"}]
["KKJ","2010-07-29",{"$error":"#DIV/0!"}]
["KKJ","2010-07-30",{"$error":"#DIV/0!"}]
["KKJ","2010-07-31",{"$error":"#DIV/0!"}]
["KKJ","2010-08-01",{"$error":"#DIV/0!"}]
["KKJ","2010-08-02",{"$error":"#DIV/0!"}]
["KKJ","2010-08-03",{"$error":"#DIV/0!"}]
["KKJ","2010-08-04",{"$error":"#DIV/0!"}]
["KKJ","2010-08-05",{"$error":"#DIV/0!"}]
["KKJ","2010-08-06",{"$error":"#DIV/0!"}]
["KKJ","2010-08-07",{"$error":"#DIV/0!"}]
["KKJ","2010-08-08",{"$error":"#DIV/0!"}]
["KKJ","2010-08-09",{"$error":"#DIV/0!"}]
["KKJ","2010-08-10",{"$error":"#DIV/0!"}]
["KKJ","2010-08-11",{"$error":"#DIV/0!"}]
["KKJ","2010-08-12",{"$error":"#DIV/0!"}]
["KKJ","2010-08-13",{"$error":"#DIV/0!"}]
["KKJ","2010-08-14",{"$error":"#DIV/0!"}]
["KKJ","2010-08-15",{"$error":"#DIV/0!"}]
["KKJ","2010-08-16",{"$error":"#DIV/0!"}]
["KKJ","2010-08-17",{"$error":"#DIV/0!"}]
["KKJ","2010-08-18",{"$error":"#DIV/0!"}]
["KKJ","2010-08-19",{"$error":"#DIV/0!"}]
["KKJ","2010-08-20",{"$error":"#DIV/0!"}]
["KKJ","2010-08-21",{"$error":"#DIV/0!"}]
["KKJ","2010-08-22",{"$error":"#DIV/0!"}]
["KKJ","2010-08-23",{"$error":"#DIV/0!"}]
["KKJ","2010-08-24",{"$error":"#DIV/0!"}]
["KKJ","2010-08-25",{"$error":"#DIV/0!"}]
["KKJ","2010-08-26",{"$error":"#DIV/0!"}]
["KKJ","2010-08-27",{"$error":"#DIV/0!"}]
["KKJ","2010-08-28",{"$error":"#DIV/0!"}]
["KKJ","2010-08-29",{"$error":"#DIV/0!"}]
["KKJ","2010-08-30",{"$error":"#DIV/0!"}]
["KKJ","2010-08-31",{"$error":"#DIV/0!"}]
["KKJ","2010-09-01",{"$error":"#DIV/0!"}]
["KKJ","2010-09-02",{"$error":"#DIV/0!"}]
["KKJ","2010-09-03",{"$error":"#DIV/0!"}]
["KKJ","2010-09-04",{"$error":"#DIV/0!"}]
["KKJ","2010-09-05",{"$error":"#DIV/0!"}]
["KKJ","2010-09-06",{"$error":"#DIV/0!"}]
["KKJ","2010-09-07",{"$error":"#DIV/0!"}]
["KKJ","2010-09-08",{"$error":"#DIV/0!"}]
["KKJ","2010-09-09",{"$error":"#DIV/0!"}]
["KKJ","2010-09-10",{"$error":"#DIV/0!"}]
["KKJ","2010-09-11",{"$error":"#DIV/0!"}]
["KKJ","2010-09-12",{"$error":"#DIV/0!"}]
["KKJ","2010-09-13",{"$error":"#DIV/0!"}]
["KKJ","2010-09-14",{"$f":"AVERAGE(D260:IV260)","v":{"$error":"#DIV/0!"}}]
["KKJ","2010-09-15",{"$error":"#DIV/0!"}]
[{"$f":"A261","v":"KKJ"},"2010-09-16",{"$error":"#DIV/0!"}]
["KKJ","2010-09-17",{"$error":"#DIV/0!"}]
["KKJ","2010-09-18",{"$error":"#DIV/0!"}]
["KKJ","2010-09-19",{"$error":"#DIV/0!"}]
["KKJ","2010-09-20",{"$error":"#DIV/0!"}]
["KKJ","2010-09-21",{"$error":"#DIV/0!"}]
["KKJ","2010-09-22",{"$error":"#DIV/0!"}]
["KKJ","2010-09-23",{"$error":"#DIV/0!"}]
["KKJ","2010-09-24",{"$error":"#DIV/0!"}]
["KKJ","2010-09-25",{"$error":"#DIV/0!"}]
["KKJ","2010-09-26",{"$error":"#DIV/0!"}]
["KKJ","2010-09-27",{"$error":"#DIV/0!"}]
["KKJ","2010-09-28",{"$error":"#DIV/0!"}]
["KKJ","2010-09-29",{"$error":"#DIV/0!"}]
["KKJ","2010-09-30",{"$error":"#DIV/0!"}]
["KKJ","2010-10-01",{"$error":"#DIV/0!"}]
["KKJ","2010-10-02",{"$error":"#DIV/0!"}]
["KKJ","2010-10-03",{"$error":"#DIV/0!"}]
["KKJ","2010-10-04",{"$error":"#DIV/0!"}]
["KKJ","2010-10-05",{"$error":"#DIV/0!"}]
["KKJ","2010-10-06",{"$error":"#DIV/0!"}]
["KKJ","2010-10-07",{"$error":"#DIV/0!"}]
["KKJ","2010-10-08",{"$error":"#DIV/0!"}]
["KKJ","2010-10-09",{"$error":"#DIV/0!"}]
["KKJ","2010-10-10",{"$error":"#DIV/0!"}]
["KKJ","2010-10-11",{"$error":"#DIV/0!"}]
["KKJ","2010-10-12",{"$error":"#DIV/0!"}]
["KKJ","2010-10-13",{"$error":"#DIV/0!"}]
["KKJ","2010-10-14",{"$error":"#DIV/0!"}]
["KKJ","2010-10-15",{"$error":"#DIV/0!"}]
["KKJ","2010-10-16",{"$error":"#DIV/0!"}]
["KKJ","2010-10-17",{"$error":"#DIV/0!"}]
["KKJ","2010-10-18",{"$error":"#DIV/0!"}]
["KKJ","2010-10-19",{"$error":"#DIV/0!"}]
["KKJ","2010-10-20",{"$error":"#DIV/0!"}]
["KKJ","2010-10-21",{"$error":"#DIV/0!"}]
["KKJ","2010-10-22",{"$error":"#DIV/0!"}]
["KKJ","2010-10-23",{"$error":"#DIV/0!"}]
["KKJ","2010-10-24",{"$error":"#DIV/0!"}]
["KKJ","2010-10-25",{"$error":"#DIV/0!"}]
["KKJ","2010-10-26",{"$error":"#DIV/0!"}]
["KKJ","2010-10-27",{"$error":"#DIV/0!"}]
["KKJ","2010-10-28",{"$error":"#DIV/0!"}]
["KKJ","2010-10-29",{"$error":"#DIV/0!"}]
["KKJ","2010-10-30",{"$error":"#DIV/0!"}]
["KKJ","2010-10-31",{"$error":"#DIV/0!"}]
["KKJ","2010-11-01",{"$error":"#DIV/0!"}]
["KKJ","2010-11-02",{"$error":"#DIV/0!"}]
["KKJ","2010-11-03",{"$error":"#DIV/0!"}]
["KKJ","2010-11-04",{"$error":"#DIV/0!"}]
["KKJ","2010-11-05",{"$error":"#DIV/0!"}]
["KKJ","2010-11-06",{"$error":"#DIV/0!"}]
["KKJ","2010-11-07",{"$error":"#DIV/0!"}]
["KKJ","2010-11-08",{"$error":"#DIV/0!"}]
["KKJ","2010-11-09",{"$error":"#DIV/0!"}]
["KKJ","2010-11-10",{"$error":"#DIV/0!"}]
["KKJ","2010-11-11",{"$error":"#DIV/0!"}]
["KKJ","2010-11-12",{"$error":"#DIV/0!"}]
["KKJ","2010-11-13",{"$error":"#DIV/0!"}]
["KKJ","2010-11-14",{"$error":"#DIV/0!"}]
["KKJ","2010-11-15",{"$error":"#DIV/0!"}]
["KKJ","2010-11-16",{"$error":"#DIV/0!"}]
["KKJ","2010-11-17",{"$f":"AVERAGE(D324:IV324)","v":{"$error":"#DIV/0!"}}]
["KKJ","2010-11-18",{"$error":"#DIV/0!"}]
[{"$f":"A325","v":"KKJ"},"2010-11-19",{"$error":"#DIV/0!"}]
["KKJ","2010-11-20",{"$error":"#DIV/0!"}]
["KKJ","2010-11-21",{"$error":"#DIV/0!"}]
["KKJ","2010-11-22",{"$error":"#DIV/0!"}]
["KKJ","2010-11-23",{"$error":"#DIV/0!"}]
["KKJ","2010-11-24",{"$error":"#DIV/0!"}]
["KKJ","2010-11-25",{"$error":"#DIV/0!"}]
["KKJ","2010-11-26",{"$error":"#DIV/0!"}]
["KKJ","2010-11-27",{"$error":"#DIV/0!"}]
["KKJ","2010-11-28",{"$error":"#DIV/0!"}]
["KKJ","2010-11-29",{"$error":"#DIV/0!"}]
["KKJ","2010-11-30",{"$error":"#DIV/0!"}]
["KKJ","2010-12-01",{"$error":"#DIV/0!"}]
["KKJ","2010-12-02",{"$error":"#DIV/0!"}]
["KKJ","2010-12-03",{"$error":"#DIV/0!"}]
["KKJ","2010-12-04",{"$error":"#DIV/0!"}]
["KKJ","2010-12-05",{"$error":"#DIV/0!"}]
["KKJ","2010-12-06",{"$error":"#DIV/0!"}]
["KKJ","2010-12-07",{"$error":"#DIV/0!"}]
["KKJ","2010-12-08",{"$error":"#DIV/0!"}]
["KKJ","2010-12-09",{"$error":"#DIV/0!"}]
["KKJ","2010-12-10",{"$error":"#DIV/0!"}]
["KKJ","2010-12-11",{"$error":"#DIV/0!"}]
["KKJ","2010-12-12",{"$error":"#DIV/0!"}]
["KKJ","2010-12-13",{"$error":"#DIV/0!"}]
["KKJ","2010-12-14",{"$error":"#DIV/0!"}]
["KKJ","2010-12-15",{"$error":"#DIV/0!"}]
["KKJ","2010-12-16",{"$error":"#DIV/0!"}]
["KKJ","2010-12-17",{"$error":"#DIV/0!"}]
["KKJ","2010-12-18",{"$error":"#DIV/0!"}]
["KKJ","2010-12-19",{"$error":"#DIV/0!"}]
["KKJ","2010-12-20",{"$error":"#DIV/0!"}]
["KKJ","2010-12-21",{"$error":"#DIV/0!"}]
["KKJ","2010-12-22",{"$error":"#DIV/0!"}]
["KKJ","2010-12-23",{"$error":"#DIV/0!"}]
["KKJ","2010-12-24",{"$error":"#DIV/0!"}]
["KKJ","2010-12-25",{"$error":"#DIV/0!"}]
["KKJ","2010-12-26",{"$error":"#DIV/0!"}]
["KKJ","2010-12-27",{"$error":"#DIV/0!"}]
["KKJ","2010-12-28",{"$error":"#DIV/0!"}]
["KKJ","2010-12-29",{"$error":"#DIV/0!"}]
["KKJ","2010-12-30",{"$error":"#DIV/0!"}]
["KKJ","2010-12-31",{"$error":"#DIV/0!"}]
[null,"Annual",{"$f":"SUM(C4:C368)","v":{"$error":"#DIV/0!"}},0,0,0,0,0,0,0,0,0,0,0,0,0,0,0,0,0,0,0,0,0,0,0,0,0,0,0,0,0,0,0,0,0,0,0,0,0,0,{"$f":"SUM(AP4:AP368)","v":0},{"$f":"SUM(AQ4:AQ368)","v":0},{"$f":"SUM(AR4:AR368)","v":0},{"$f":"SUM(AS4:AS368)","v":0},0,0,0,0,0,0,0,0]

{"sheet":"EL_Area_Vol","index":2,"n_rows":2,"n_cols":3,"rows_kept":2,"cut":false,"hidden":false,"merged":[[0,0,0,2]]}
["โค้งความจุ"]
["ระดับ..ม.รทก.","พื้นที่ผิวน้ำ..ตร.กม.","ความจุ...ล้าน ลบ.ม."]

{"sheet":"หา NRI","index":3,"n_rows":80,"n_cols":53,"rows_kept":80,"cut":false,"hidden":false,"merged":[[58,10,58,12],[60,0,71,0],[58,7,58,9],[3,0,14,0],[33,2,34,2],[33,3,33,6],[17,0,28,0],[58,1,59,1]]}
["Simulation Storage of Sirikit Dam",null,null,1,2,3,4,5,6,7,8,9,10,11,12,13,14,15,16,17,18,19,20,21,22,23,24,25,26,27,28,29,30,31,32,33,34,35,36,37,38,39,40,41,42,43,44,45,46,47,48,49,50]
[null,null,"NRI",{"$f":"D3+543","v":2529},2530,2531,2532]
["Item","เดือน","Average",{"$f":"'Monthly Storage'!D3","v":1986},{"$f":"D3+1","v":1987},1988,1989]
["หา NRI","ม.ค.",{"$f":"AVERAGE(OFFSET(D3,1,0,1,$D$58))","v":0},{"$f":"IF(D1<=$D$58,'Monthly Storage'!D35-'Monthly Storage'!D4,\"\")","v":0},{"$f":"IF(E1<=$D$58,'Monthly Storage'!E35-'Monthly Storage'!E4,\"\")","v":0},{"$f":"IF(F1<=$D$58,'Monthly Storage'!F35-'Monthly Storage'!F4,\"\")","v":0},{"$f":"IF(G1<=$D$58,'Monthly Storage'!G35-'Monthly Storage'!G4,\"\")","v":0},{"$f":"IF(H1<=$D$58,'Monthly Storage'!H35-'Monthly Storage'!H4,\"\")","v":""},{"$f":"IF(I1<=$D$58,'Monthly Storage'!I35-'Monthly Storage'!I4,\"\")","v":""},{"$f":"IF(J1<=$D$58,'Monthly Storage'!J35-'Monthly Storage'!J4,\"\")","v":""},{"$f":"IF(K1<=$D$58,'Monthly Storage'!K35-'Monthly Storage'!K4,\"\")","v":""},{"$f":"IF(L1<=$D$58,'Monthly Storage'!L35-'Monthly Storage'!L4,\"\")","v":""},{"$f":"IF(M1<=$D$58,'Monthly Storage'!M35-'Monthly Storage'!M4,\"\")","v":""},{"$f":"IF(N1<=$D$58,'Monthly Storage'!N35-'Monthly Storage'!N4,\"\")","v":""},{"$f":"IF(O1<=$D$58,'Monthly Storage'!O35-'Monthly Storage'!O4,\"\")","v":""},{"$f":"IF(P1<=$D$58,'Monthly Storage'!P35-'Monthly Storage'!P4,\"\")","v":""},{"$f":"IF(Q1<=$D$58,'Monthly Storage'!Q35-'Monthly Storage'!Q4,\"\")","v":""},{"$f":"IF(R1<=$D$58,'Monthly Storage'!R35-'Monthly Storage'!R4,\"\")","v":""},{"$f":"IF(S1<=$D$58,'Monthly Storage'!S35-'Monthly Storage'!S4,\"\")","v":""},{"$f":"IF(T1<=$D$58,'Monthly Storage'!T35-'Monthly Storage'!T4,\"\")","v":""},{"$f":"IF(U1<=$D$58,'Monthly Storage'!U35-'Monthly Storage'!U4,\"\")","v":""},{"$f":"IF(V1<=$D$58,'Monthly Storage'!V35-'Monthly Storage'!V4,\"\")","v":""},{"$f":"IF(W1<=$D$58,'Monthly Storage'!W35-'Monthly Storage'!W4,\"\")","v":""},{"$f":"IF(X1<=$D$58,'Monthly Storage'!X35-'Monthly Storage'!X4,\"\")","v":""},{"$f":"IF(Y1<=$D$58,'Monthly Storage'!Y35-'Monthly Storage'!Y4,\"\")","v":""},{"$f":"IF(Z1<=$D$58,'Monthly Storage'!Z35-'Monthly Storage'!Z4,\"\")","v":""},{"$f":"IF(AA1<=$D$58,'Monthly Storage'!AA35-'Monthly Storage'!AA4,\"\")","v":""},{"$f":"IF(AB1<=$D$58,'Monthly Storage'!AB35-'Monthly Storage'!AB4,\"\")","v":""},{"$f":"IF(AC1<=$D$58,'Monthly Storage'!AC35-'Monthly Storage'!AC4,\"\")","v":""},{"$f":"IF(AD1<=$D$58,'Monthly Storage'!AD35-'Monthly Storage'!AD4,\"\")","v":""},{"$f":"IF(AE1<=$D$58,'Monthly Storage'!AE35-'Monthly Storage'!AE4,\"\")","v":""},{"$f":"IF(AF1<=$D$58,'Monthly Storage'!AF35-'Monthly Storage'!AF4,\"\")","v":""},{"$f":"IF(AG1<=$D$58,'Monthly Storage'!AG35-'Monthly Storage'!AG4,\"\")","v":""},{"$f":"IF(AH1<=$D$58,'Monthly Storage'!AH35-'Monthly Storage'!AH4,\"\")","v":""},{"$f":"IF(AI1<=$D$58,'Monthly Storage'!AI35-'Monthly Storage'!AI4,\"\")","v":""},{"$f":"IF(AJ1<=$D$58,'Monthly Storage'!AJ35-'Monthly Storage'!AJ4,\"\")","v":""},{"$f":"IF(AK1<=$D$58,'Monthly Storage'!AK35-'Monthly Storage'!AK4,\"\")","v":""},{"$f":"IF(AL1<=$D$58,'Monthly Storage'!AL35-'Monthly Storage'!AL4,\"\")","v":""},{"$f":"IF(AM1<=$D$58,'Monthly Storage'!AM35-'Monthly Storage'!AM4,\"\")","v":""},{"$f":"IF(AN1<=$D$58,'Monthly Storage'!AN35-'Monthly Storage'!AN4,\"\")","v":""},{"$f":"IF(AO1<=$D$58,'Monthly Storage'!AO35-'Monthly Storage'!AO4,\"\")","v":""},{"$f":"IF(AP1<=$D$58,'Monthly Storage'!AP35-'Monthly Storage'!AP4,\"\")","v":""},{"$f":"IF(AQ1<=$D$58,'Monthly Storage'!AQ35-'Monthly Storage'!AQ4,\"\")","v":""},{"$f":"IF(AR1<=$D$58,'Monthly Storage'!AR35-'Monthly Storage'!AR4,\"\")","v":""},{"$f":"IF(AS1<=$D$58,'Monthly Storage'!AS35-'Monthly Storage'!AS4,\"\")","v":""},{"$f":"IF(AT1<=$D$58,'Monthly Storage'!AT35-'Monthly Storage'!AT4,\"\")","v":""},{"$f":"IF(AU1<=$D$58,'Monthly Storage'!AU35-'Monthly Storage'!AU4,\"\")","v":""},{"$f":"IF(AV1<=$D$58,'Monthly Storage'!AV35-'Monthly Storage'!AV4,\"\")","v":""},{"$f":"IF(AW1<=$D$58,'Monthly Storage'!AW35-'Monthly Storage'!AW4,\"\")","v":""},{"$f":"IF(AX1<=$D$58,'Monthly Storage'!AX35-'Monthly Storage'!AX4,\"\")","v":""},{"$f":"IF(AY1<=$D$58,'Monthly Storage'!AY35-'Monthly Storage'!AY4,\"\")","v":""},{"$f":"IF(AZ1<=$D$58,'Monthly Storage'!AZ35-'Monthly Storage'!AZ4,\"\")","v":""},{"$f":"IF(BA1<=$D$58,'Monthly Storage'!BA35-'Monthly Storage'!BA4,\"\")","v":""}]
[null,"ก.พ.",0,{"$f":"IF(D1<=$D$58,'Monthly Storage'!D63-'Monthly Storage'!D35,\"\")","v":0},{"$f":"IF(E1<=$D$58,'Monthly Storage'!E63-'Monthly Storage'!E35,\"\")","v":0},{"$f":"IF(F1<=$D$58,'Monthly Storage'!F63-'Monthly Storage'!F35,\"\")","v":0},{"$f":"IF(G1<=$D$58,'Monthly Storage'!G63-'Monthly Storage'!G35,\"\")","v":0},{"$f":"IF(H1<=$D$58,'Monthly Storage'!H63-'Monthly Storage'!H35,\"\")","v":""},{"$f":"IF(I1<=$D$58,'Monthly Storage'!I63-'Monthly Storage'!I35,\"\")","v":""},{"$f":"IF(J1<=$D$58,'Monthly Storage'!J63-'Monthly Storage'!J35,\"\")","v":""},{"$f":"IF(K1<=$D$58,'Monthly Storage'!K63-'Monthly Storage'!K35,\"\")","v":""},{"$f":"IF(L1<=$D$58,'Monthly Storage'!L63-'Monthly Storage'!L35,\"\")","v":""},{"$f":"IF(M1<=$D$58,'Monthly Storage'!M63-'Monthly Storage'!M35,\"\")","v":""},{"$f":"IF(N1<=$D$58,'Monthly Storage'!N63-'Monthly Storage'!N35,\"\")","v":""},{"$f":"IF(O1<=$D$58,'Monthly Storage'!O63-'Monthly Storage'!O35,\"\")","v":""},{"$f":"IF(P1<=$D$58,'Monthly Storage'!P63-'Monthly Storage'!P35,\"\")","v":""},{"$f":"IF(Q1<=$D$58,'Monthly Storage'!Q63-'Monthly Storage'!Q35,\"\")","v":""},{"$f":"IF(R1<=$D$58,'Monthly Storage'!R63-'Monthly Storage'!R35,\"\")","v":""},{"$f":"IF(S1<=$D$58,'Monthly Storage'!S63-'Monthly Storage'!S35,\"\")","v":""},{"$f":"IF(T1<=$D$58,'Monthly Storage'!T63-'Monthly Storage'!T35,\"\")","v":""},{"$f":"IF(U1<=$D$58,'Monthly Storage'!U63-'Monthly Storage'!U35,\"\")","v":""},{"$f":"IF(V1<=$D$58,'Monthly Storage'!V63-'Monthly Storage'!V35,\"\")","v":""},{"$f":"IF(W1<=$D$58,'Monthly Storage'!W63-'Monthly Storage'!W35,\"\")","v":""},{"$f":"IF(X1<=$D$58,'Monthly Storage'!X63-'Monthly Storage'!X35,\"\")","v":""},{"$f":"IF(Y1<=$D$58,'Monthly Storage'!Y63-'Monthly Storage'!Y35,\"\")","v":""},{"$f":"IF(Z1<=$D$58,'Monthly Storage'!Z63-'Monthly Storage'!Z35,\"\")","v":""},{"$f":"IF(AA1<=$D$58,'Monthly Storage'!AA63-'Monthly Storage'!AA35,\"\")","v":""},{"$f":"IF(AB1<=$D$58,'Monthly Storage'!AB63-'Monthly Storage'!AB35,\"\")","v":""},{"$f":"IF(AC1<=$D$58,'Monthly Storage'!AC63-'Monthly Storage'!AC35,\"\")","v":""},{"$f":"IF(AD1<=$D$58,'Monthly Storage'!AD63-'Monthly Storage'!AD35,\"\")","v":""},{"$f":"IF(AE1<=$D$58,'Monthly Storage'!AE63-'Monthly Storage'!AE35,\"\")","v":""},{"$f":"IF(AF1<=$D$58,'Monthly Storage'!AF63-'Monthly Storage'!AF35,\"\")","v":""},{"$f":"IF(AG1<=$D$58,'Monthly Storage'!AG63-'Monthly Storage'!AG35,\"\")","v":""},{"$f":"IF(AH1<=$D$58,'Monthly Storage'!AH63-'Monthly Storage'!AH35,\"\")","v":""},{"$f":"IF(AI1<=$D$58,'Monthly Storage'!AI63-'Monthly Storage'!AI35,\"\")","v":""},{"$f":"IF(AJ1<=$D$58,'Monthly Storage'!AJ63-'Monthly Storage'!AJ35,\"\")","v":""},{"$f":"IF(AK1<=$D$58,'Monthly Storage'!AK63-'Monthly Storage'!AK35,\"\")","v":""},{"$f":"IF(AL1<=$D$58,'Monthly Storage'!AL63-'Monthly Storage'!AL35,\"\")","v":""},{"$f":"IF(AM1<=$D$58,'Monthly Storage'!AM63-'Monthly Storage'!AM35,\"\")","v":""},{"$f":"IF(AN1<=$D$58,'Monthly Storage'!AN63-'Monthly Storage'!AN35,\"\")","v":""},{"$f":"IF(AO1<=$D$58,'Monthly Storage'!AO63-'Monthly Storage'!AO35,\"\")","v":""},{"$f":"IF(AP1<=$D$58,'Monthly Storage'!AP63-'Monthly Storage'!AP35,\"\")","v":""},{"$f":"IF(AQ1<=$D$58,'Monthly Storage'!AQ63-'Monthly Storage'!AQ35,\"\")","v":""},{"$f":"IF(AR1<=$D$58,'Monthly Storage'!AR63-'Monthly Storage'!AR35,\"\")","v":""},{"$f":"IF(AS1<=$D$58,'Monthly Storage'!AS63-'Monthly Storage'!AS35,\"\")","v":""},{"$f":"IF(AT1<=$D$58,'Monthly Storage'!AT63-'Monthly Storage'!AT35,\"\")","v":""},{"$f":"IF(AU1<=$D$58,'Monthly Storage'!AU63-'Monthly Storage'!AU35,\"\")","v":""},{"$f":"IF(AV1<=$D$58,'Monthly Storage'!AV63-'Monthly Storage'!AV35,\"\")","v":""},{"$f":"IF(AW1<=$D$58,'Monthly Storage'!AW63-'Monthly Storage'!AW35,\"\")","v":""},{"$f":"IF(AX1<=$D$58,'Monthly Storage'!AX63-'Monthly Storage'!AX35,\"\")","v":""},{"$f":"IF(AY1<=$D$58,'Monthly Storage'!AY63-'Monthly Storage'!AY35,\"\")","v":""},{"$f":"IF(AZ1<=$D$58,'Monthly Storage'!AZ63-'Monthly Storage'!AZ35,\"\")","v":""},{"$f":"IF(BA1<=$D$58,'Monthly Storage'!BA63-'Monthly Storage'!BA35,\"\")","v":""}]
[null,"มี.ค.",0,{"$f":"IF(D1<=$D$58,'Monthly Storage'!D94-'Monthly Storage'!D63,\"\")","v":0},{"$f":"IF(E1<=$D$58,'Monthly Storage'!E94-'Monthly Storage'!E63,\"\")","v":0},{"$f":"IF(F1<=$D$58,'Monthly Storage'!F94-'Monthly Storage'!F63,\"\")","v":0},{"$f":"IF(G1<=$D$58,'Monthly Storage'!G94-'Monthly Storage'!G63,\"\")","v":0},{"$f":"IF(H1<=$D$58,'Monthly Storage'!H94-'Monthly Storage'!H63,\"\")","v":""},{"$f":"IF(I1<=$D$58,'Monthly Storage'!I94-'Monthly Storage'!I63,\"\")","v":""},{"$f":"IF(J1<=$D$58,'Monthly Storage'!J94-'Monthly Storage'!J63,\"\")","v":""},{"$f":"IF(K1<=$D$58,'Monthly Storage'!K94-'Monthly Storage'!K63,\"\")","v":""},{"$f":"IF(L1<=$D$58,'Monthly Storage'!L94-'Monthly Storage'!L63,\"\")","v":""},{"$f":"IF(M1<=$D$58,'Monthly Storage'!M94-'Monthly Storage'!M63,\"\")","v":""},{"$f":"IF(N1<=$D$58,'Monthly Storage'!N94-'Monthly Storage'!N63,\"\")","v":""},{"$f":"IF(O1<=$D$58,'Monthly Storage'!O94-'Monthly Storage'!O63,\"\")","v":""},{"$f":"IF(P1<=$D$58,'Monthly Storage'!P94-'Monthly Storage'!P63,\"\")","v":""},{"$f":"IF(Q1<=$D$58,'Monthly Storage'!Q94-'Monthly Storage'!Q63,\"\")","v":""},{"$f":"IF(R1<=$D$58,'Monthly Storage'!R94-'Monthly Storage'!R63,\"\")","v":""},{"$f":"IF(S1<=$D$58,'Monthly Storage'!S94-'Monthly Storage'!S63,\"\")","v":""},{"$f":"IF(T1<=$D$58,'Monthly Storage'!T94-'Monthly Storage'!T63,\"\")","v":""},{"$f":"IF(U1<=$D$58,'Monthly Storage'!U94-'Monthly Storage'!U63,\"\")","v":""},{"$f":"IF(V1<=$D$58,'Monthly Storage'!V94-'Monthly Storage'!V63,\"\")","v":""},{"$f":"IF(W1<=$D$58,'Monthly Storage'!W94-'Monthly Storage'!W63,\"\")","v":""},{"$f":"IF(X1<=$D$58,'Monthly Storage'!X94-'Monthly Storage'!X63,\"\")","v":""},{"$f":"IF(Y1<=$D$58,'Monthly Storage'!Y94-'Monthly Storage'!Y63,\"\")","v":""},{"$f":"IF(Z1<=$D$58,'Monthly Storage'!Z94-'Monthly Storage'!Z63,\"\")","v":""},{"$f":"IF(AA1<=$D$58,'Monthly Storage'!AA94-'Monthly Storage'!AA63,\"\")","v":""},{"$f":"IF(AB1<=$D$58,'Monthly Storage'!AB94-'Monthly Storage'!AB63,\"\")","v":""},{"$f":"IF(AC1<=$D$58,'Monthly Storage'!AC94-'Monthly Storage'!AC63,\"\")","v":""},{"$f":"IF(AD1<=$D$58,'Monthly Storage'!AD94-'Monthly Storage'!AD63,\"\")","v":""},{"$f":"IF(AE1<=$D$58,'Monthly Storage'!AE94-'Monthly Storage'!AE63,\"\")","v":""},{"$f":"IF(AF1<=$D$58,'Monthly Storage'!AF94-'Monthly Storage'!AF63,\"\")","v":""},{"$f":"IF(AG1<=$D$58,'Monthly Storage'!AG94-'Monthly Storage'!AG63,\"\")","v":""},{"$f":"IF(AH1<=$D$58,'Monthly Storage'!AH94-'Monthly Storage'!AH63,\"\")","v":""},{"$f":"IF(AI1<=$D$58,'Monthly Storage'!AI94-'Monthly Storage'!AI63,\"\")","v":""},{"$f":"IF(AJ1<=$D$58,'Monthly Storage'!AJ94-'Monthly Storage'!AJ63,\"\")","v":""},{"$f":"IF(AK1<=$D$58,'Monthly Storage'!AK94-'Monthly Storage'!AK63,\"\")","v":""},{"$f":"IF(AL1<=$D$58,'Monthly Storage'!AL94-'Monthly Storage'!AL63,\"\")","v":""},{"$f":"IF(AM1<=$D$58,'Monthly Storage'!AM94-'Monthly Storage'!AM63,\"\")","v":""},{"$f":"IF(AN1<=$D$58,'Monthly Storage'!AN94-'Monthly Storage'!AN63,\"\")","v":""},{"$f":"IF(AO1<=$D$58,'Monthly Storage'!AO94-'Monthly Storage'!AO63,\"\")","v":""},{"$f":"IF(AP1<=$D$58,'Monthly Storage'!AP94-'Monthly Storage'!AP63,\"\")","v":""},{"$f":"IF(AQ1<=$D$58,'Monthly Storage'!AQ94-'Monthly Storage'!AQ63,\"\")","v":""},{"$f":"IF(AR1<=$D$58,'Monthly Storage'!AR94-'Monthly Storage'!AR63,\"\")","v":""},{"$f":"IF(AS1<=$D$58,'Monthly Storage'!AS94-'Monthly Storage'!AS63,\"\")","v":""},{"$f":"IF(AT1<=$D$58,'Monthly Storage'!AT94-'Monthly Storage'!AT63,\"\")","v":""},{"$f":"IF(AU1<=$D$58,'Monthly Storage'!AU94-'Monthly Storage'!AU63,\"\")","v":""},{"$f":"IF(AV1<=$D$58,'Monthly Storage'!AV94-'Monthly Storage'!AV63,\"\")","v":""},{"$f":"IF(AW1<=$D$58,'Monthly Storage'!AW94-'Monthly Storage'!AW63,\"\")","v":""},{"$f":"IF(AX1<=$D$58,'Monthly Storage'!AX94-'Monthly Storage'!AX63,\"\")","v":""},{"$f":"IF(AY1<=$D$58,'Monthly Storage'!AY94-'Monthly Storage'!AY63,\"\")","v":""},{"$f":"IF(AZ1<=$D$58,'Monthly Storage'!AZ94-'Monthly Storage'!AZ63,\"\")","v":""},{"$f":"IF(BA1<=$D$58,'Monthly Storage'!BA94-'Monthly Storage'!BA63,\"\")","v":""}]
[null,"เม.ย.",0,{"$f":"IF(D1<=$D$58,'Monthly Storage'!D124-'Monthly Storage'!D94,\"\")","v":0},{"$f":"IF(E1<=$D$58,'Monthly Storage'!E124-'Monthly Storage'!E94,\"\")","v":0},{"$f":"IF(F1<=$D$58,'Monthly Storage'!F124-'Monthly Storage'!F94,\"\")","v":0},{"$f":"IF(G1<=$D$58,'Monthly Storage'!G124-'Monthly Storage'!G94,\"\")","v":0},{"$f":"IF(H1<=$D$58,'Monthly Storage'!H124-'Monthly Storage'!H94,\"\")","v":""},{"$f":"IF(I1<=$D$58,'Monthly Storage'!I124-'Monthly Storage'!I94,\"\")","v":""},{"$f":"IF(J1<=$D$58,'Monthly Storage'!J124-'Monthly Storage'!J94,\"\")","v":""},{"$f":"IF(K1<=$D$58,'Monthly Storage'!K124-'Monthly Storage'!K94,\"\")","v":""},{"$f":"IF(L1<=$D$58,'Monthly Storage'!L124-'Monthly Storage'!L94,\"\")","v":""},{"$f":"IF(M1<=$D$58,'Monthly Storage'!M124-'Monthly Storage'!M94,\"\")","v":""},{"$f":"IF(N1<=$D$58,'Monthly Storage'!N124-'Monthly Storage'!N94,\"\")","v":""},{"$f":"IF(O1<=$D$58,'Monthly Storage'!O124-'Monthly Storage'!O94,\"\")","v":""},{"$f":"IF(P1<=$D$58,'Monthly Storage'!P124-'Monthly Storage'!P94,\"\")","v":""},{"$f":"IF(Q1<=$D$58,'Monthly Storage'!Q124-'Monthly Storage'!Q94,\"\")","v":""},{"$f":"IF(R1<=$D$58,'Monthly Storage'!R124-'Monthly Storage'!R94,\"\")","v":""},{"$f":"IF(S1<=$D$58,'Monthly Storage'!S124-'Monthly Storage'!S94,\"\")","v":""},{"$f":"IF(T1<=$D$58,'Monthly Storage'!T124-'Monthly Storage'!T94,\"\")","v":""},{"$f":"IF(U1<=$D$58,'Monthly Storage'!U124-'Monthly Storage'!U94,\"\")","v":""},{"$f":"IF(V1<=$D$58,'Monthly Storage'!V124-'Monthly Storage'!V94,\"\")","v":""},{"$f":"IF(W1<=$D$58,'Monthly Storage'!W124-'Monthly Storage'!W94,\"\")","v":""},{"$f":"IF(X1<=$D$58,'Monthly Storage'!X124-'Monthly Storage'!X94,\"\")","v":""},{"$f":"IF(Y1<=$D$58,'Monthly Storage'!Y124-'Monthly Storage'!Y94,\"\")","v":""},{"$f":"IF(Z1<=$D$58,'Monthly Storage'!Z124-'Monthly Storage'!Z94,\"\")","v":""},{"$f":"IF(AA1<=$D$58,'Monthly Storage'!AA124-'Monthly Storage'!AA94,\"\")","v":""},{"$f":"IF(AB1<=$D$58,'Monthly Storage'!AB124-'Monthly Storage'!AB94,\"\")","v":""},{"$f":"IF(AC1<=$D$58,'Monthly Storage'!AC124-'Monthly Storage'!AC94,\"\")","v":""},{"$f":"IF(AD1<=$D$58,'Monthly Storage'!AD124-'Monthly Storage'!AD94,\"\")","v":""},{"$f":"IF(AE1<=$D$58,'Monthly Storage'!AE124-'Monthly Storage'!AE94,\"\")","v":""},{"$f":"IF(AF1<=$D$58,'Monthly Storage'!AF124-'Monthly Storage'!AF94,\"\")","v":""},{"$f":"IF(AG1<=$D$58,'Monthly Storage'!AG124-'Monthly Storage'!AG94,\"\")","v":""},{"$f":"IF(AH1<=$D$58,'Monthly Storage'!AH124-'Monthly Storage'!AH94,\"\")","v":""},{"$f":"IF(AI1<=$D$58,'Monthly Storage'!AI124-'Monthly Storage'!AI94,\"\")","v":""},{"$f":"IF(AJ1<=$D$58,'Monthly Storage'!AJ124-'Monthly Storage'!AJ94,\"\")","v":""},{"$f":"IF(AK1<=$D$58,'Monthly Storage'!AK124-'Monthly Storage'!AK94,\"\")","v":""},{"$f":"IF(AL1<=$D$58,'Monthly Storage'!AL124-'Monthly Storage'!AL94,\"\")","v":""},{"$f":"IF(AM1<=$D$58,'Monthly Storage'!AM124-'Monthly Storage'!AM94,\"\")","v":""},{"$f":"IF(AN1<=$D$58,'Monthly Storage'!AN124-'Monthly Storage'!AN94,\"\")","v":""},{"$f":"IF(AO1<=$D$58,'Monthly Storage'!AO124-'Monthly Storage'!AO94,\"\")","v":""},{"$f":"IF(AP1<=$D$58,'Monthly Storage'!AP124-'Monthly Storage'!AP94,\"\")","v":""},{"$f":"IF(AQ1<=$D$58,'Monthly Storage'!AQ124-'Monthly Storage'!AQ94,\"\")","v":""},{"$f":"IF(AR1<=$D$58,'Monthly Storage'!AR124-'Monthly Storage'!AR94,\"\")","v":""},{"$f":"IF(AS1<=$D$58,'Monthly Storage'!AS124-'Monthly Storage'!AS94,\"\")","v":""},{"$f":"IF(AT1<=$D$58,'Monthly Storage'!AT124-'Monthly Storage'!AT94,\"\")","v":""},{"$f":"IF(AU1<=$D$58,'Monthly Storage'!AU124-'Monthly Storage'!AU94,\"\")","v":""},{"$f":"IF(AV1<=$D$58,'Monthly Storage'!AV124-'Monthly Storage'!AV94,\"\")","v":""},{"$f":"IF(AW1<=$D$58,'Monthly Storage'!AW124-'Monthly Storage'!AW94,\"\")","v":""},{"$f":"IF(AX1<=$D$58,'Monthly Storage'!AX124-'Monthly Storage'!AX94,\"\")","v":""},{"$f":"IF(AY1<=$D$58,'Monthly Storage'!AY124-'Monthly Storage'!AY94,\"\")","v":""},{"$f":"IF(AZ1<=$D$58,'Monthly Storage'!AZ124-'Monthly Storage'!AZ94,\"\")","v":""},{"$f":"IF(BA1<=$D$58,'Monthly Storage'!BA124-'Monthly Storage'!BA94,\"\")","v":""}]
[null,"พ.ค.",0,{"$f":"IF(D1<=$D$58,'Monthly Storage'!D155-'Monthly Storage'!D124,\"\")","v":0},{"$f":"IF(E1<=$D$58,'Monthly Storage'!E155-'Monthly Storage'!E124,\"\")","v":0},{"$f":"IF(F1<=$D$58,'Monthly Storage'!F155-'Monthly Storage'!F124,\"\")","v":0},{"$f":"IF(G1<=$D$58,'Monthly Storage'!G155-'Monthly Storage'!G124,\"\")","v":0},{"$f":"IF(H1<=$D$58,'Monthly Storage'!H155-'Monthly Storage'!H124,\"\")","v":""},{"$f":"IF(I1<=$D$58,'Monthly Storage'!I155-'Monthly Storage'!I124,\"\")","v":""},{"$f":"IF(J1<=$D$58,'Monthly Storage'!J155-'Monthly Storage'!J124,\"\")","v":""},{"$f":"IF(K1<=$D$58,'Monthly Storage'!K155-'Monthly Storage'!K124,\"\")","v":""},{"$f":"IF(L1<=$D$58,'Monthly Storage'!L155-'Monthly Storage'!L124,\"\")","v":""},{"$f":"IF(M1<=$D$58,'Monthly Storage'!M155-'Monthly Storage'!M124,\"\")","v":""},{"$f":"IF(N1<=$D$58,'Monthly Storage'!N155-'Monthly Storage'!N124,\"\")","v":""},{"$f":"IF(O1<=$D$58,'Monthly Storage'!O155-'Monthly Storage'!O124,\"\")","v":""},{"$f":"IF(P1<=$D$58,'Monthly Storage'!P155-'Monthly Storage'!P124,\"\")","v":""},{"$f":"IF(Q1<=$D$58,'Monthly Storage'!Q155-'Monthly Storage'!Q124,\"\")","v":""},{"$f":"IF(R1<=$D$58,'Monthly Storage'!R155-'Monthly Storage'!R124,\"\")","v":""},{"$f":"IF(S1<=$D$58,'Monthly Storage'!S155-'Monthly Storage'!S124,\"\")","v":""},{"$f":"IF(T1<=$D$58,'Monthly Storage'!T155-'Monthly Storage'!T124,\"\")","v":""},{"$f":"IF(U1<=$D$58,'Monthly Storage'!U155-'Monthly Storage'!U124,\"\")","v":""},{"$f":"IF(V1<=$D$58,'Monthly Storage'!V155-'Monthly Storage'!V124,\"\")","v":""},{"$f":"IF(W1<=$D$58,'Monthly Storage'!W155-'Monthly Storage'!W124,\"\")","v":""},{"$f":"IF(X1<=$D$58,'Monthly Storage'!X155-'Monthly Storage'!X124,\"\")","v":""},{"$f":"IF(Y1<=$D$58,'Monthly Storage'!Y155-'Monthly Storage'!Y124,\"\")","v":""},{"$f":"IF(Z1<=$D$58,'Monthly Storage'!Z155-'Monthly Storage'!Z124,\"\")","v":""},{"$f":"IF(AA1<=$D$58,'Monthly Storage'!AA155-'Monthly Storage'!AA124,\"\")","v":""},{"$f":"IF(AB1<=$D$58,'Monthly Storage'!AB155-'Monthly Storage'!AB124,\"\")","v":""},{"$f":"IF(AC1<=$D$58,'Monthly Storage'!AC155-'Monthly Storage'!AC124,\"\")","v":""},{"$f":"IF(AD1<=$D$58,'Monthly Storage'!AD155-'Monthly Storage'!AD124,\"\")","v":""},{"$f":"IF(AE1<=$D$58,'Monthly Storage'!AE155-'Monthly Storage'!AE124,\"\")","v":""},{"$f":"IF(AF1<=$D$58,'Monthly Storage'!AF155-'Monthly Storage'!AF124,\"\")","v":""},{"$f":"IF(AG1<=$D$58,'Monthly Storage'!AG155-'Monthly Storage'!AG124,\"\")","v":""},{"$f":"IF(AH1<=$D$58,'Monthly Storage'!AH155-'Monthly Storage'!AH124,\"\")","v":""},{"$f":"IF(AI1<=$D$58,'Monthly Storage'!AI155-'Monthly Storage'!AI124,\"\")","v":""},{"$f":"IF(AJ1<=$D$58,'Monthly Storage'!AJ155-'Monthly Storage'!AJ124,\"\")","v":""},{"$f":"IF(AK1<=$D$58,'Monthly Storage'!AK155-'Monthly Storage'!AK124,\"\")","v":""},{"$f":"IF(AL1<=$D$58,'Monthly Storage'!AL155-'Monthly Storage'!AL124,\"\")","v":""},{"$f":"IF(AM1<=$D$58,'Monthly Storage'!AM155-'Monthly Storage'!AM124,\"\")","v":""},{"$f":"IF(AN1<=$D$58,'Monthly Storage'!AN155-'Monthly Storage'!AN124,\"\")","v":""},{"$f":"IF(AO1<=$D$58,'Monthly Storage'!AO155-'Monthly Storage'!AO124,\"\")","v":""},{"$f":"IF(AP1<=$D$58,'Monthly Storage'!AP155-'Monthly Storage'!AP124,\"\")","v":""},{"$f":"IF(AQ1<=$D$58,'Monthly Storage'!AQ155-'Monthly Storage'!AQ124,\"\")","v":""},{"$f":"IF(AR1<=$D$58,'Monthly Storage'!AR155-'Monthly Storage'!AR124,\"\")","v":""},{"$f":"IF(AS1<=$D$58,'Monthly Storage'!AS155-'Monthly Storage'!AS124,\"\")","v":""},{"$f":"IF(AT1<=$D$58,'Monthly Storage'!AT155-'Monthly Storage'!AT124,\"\")","v":""},{"$f":"IF(AU1<=$D$58,'Monthly Storage'!AU155-'Monthly Storage'!AU124,\"\")","v":""},{"$f":"IF(AV1<=$D$58,'Monthly Storage'!AV155-'Monthly Storage'!AV124,\"\")","v":""},{"$f":"IF(AW1<=$D$58,'Monthly Storage'!AW155-'Monthly Storage'!AW124,\"\")","v":""},{"$f":"IF(AX1<=$D$58,'Monthly Storage'!AX155-'Monthly Storage'!AX124,\"\")","v":""},{"$f":"IF(AY1<=$D$58,'Monthly Storage'!AY155-'Monthly Storage'!AY124,\"\")","v":""},{"$f":"IF(AZ1<=$D$58,'Monthly Storage'!AZ155-'Monthly Storage'!AZ124,\"\")","v":""},{"$f":"IF(BA1<=$D$58,'Monthly Storage'!BA155-'Monthly Storage'!BA124,\"\")","v":""}]
[null,"มิ.ย.",0,{"$f":"IF(D1<=$D$58,'Monthly Storage'!D185-'Monthly Storage'!D155,\"\")","v":0},{"$f":"IF(E1<=$D$58,'Monthly Storage'!E185-'Monthly Storage'!E155,\"\")","v":0},{"$f":"IF(F1<=$D$58,'Monthly Storage'!F185-'Monthly Storage'!F155,\"\")","v":0},{"$f":"IF(G1<=$D$58,'Monthly Storage'!G185-'Monthly Storage'!G155,\"\")","v":0},{"$f":"IF(H1<=$D$58,'Monthly Storage'!H185-'Monthly Storage'!H155,\"\")","v":""},{"$f":"IF(I1<=$D$58,'Monthly Storage'!I185-'Monthly Storage'!I155,\"\")","v":""},{"$f":"IF(J1<=$D$58,'Monthly Storage'!J185-'Monthly Storage'!J155,\"\")","v":""},{"$f":"IF(K1<=$D$58,'Monthly Storage'!K185-'Monthly Storage'!K155,\"\")","v":""},{"$f":"IF(L1<=$D$58,'Monthly Storage'!L185-'Monthly Storage'!L155,\"\")","v":""},{"$f":"IF(M1<=$D$58,'Monthly Storage'!M185-'Monthly Storage'!M155,\"\")","v":""},{"$f":"IF(N1<=$D$58,'Monthly Storage'!N185-'Monthly Storage'!N155,\"\")","v":""},{"$f":"IF(O1<=$D$58,'Monthly Storage'!O185-'Monthly Storage'!O155,\"\")","v":""},{"$f":"IF(P1<=$D$58,'Monthly Storage'!P185-'Monthly Storage'!P155,\"\")","v":""},{"$f":"IF(Q1<=$D$58,'Monthly Storage'!Q185-'Monthly Storage'!Q155,\"\")","v":""},{"$f":"IF(R1<=$D$58,'Monthly Storage'!R185-'Monthly Storage'!R155,\"\")","v":""},{"$f":"IF(S1<=$D$58,'Monthly Storage'!S185-'Monthly Storage'!S155,\"\")","v":""},{"$f":"IF(T1<=$D$58,'Monthly Storage'!T185-'Monthly Storage'!T155,\"\")","v":""},{"$f":"IF(U1<=$D$58,'Monthly Storage'!U185-'Monthly Storage'!U155,\"\")","v":""},{"$f":"IF(V1<=$D$58,'Monthly Storage'!V185-'Monthly Storage'!V155,\"\")","v":""},{"$f":"IF(W1<=$D$58,'Monthly Storage'!W185-'Monthly Storage'!W155,\"\")","v":""},{"$f":"IF(X1<=$D$58,'Monthly Storage'!X185-'Monthly Storage'!X155,\"\")","v":""},{"$f":"IF(Y1<=$D$58,'Monthly Storage'!Y185-'Monthly Storage'!Y155,\"\")","v":""},{"$f":"IF(Z1<=$D$58,'Monthly Storage'!Z185-'Monthly Storage'!Z155,\"\")","v":""},{"$f":"IF(AA1<=$D$58,'Monthly Storage'!AA185-'Monthly Storage'!AA155,\"\")","v":""},{"$f":"IF(AB1<=$D$58,'Monthly Storage'!AB185-'Monthly Storage'!AB155,\"\")","v":""},{"$f":"IF(AC1<=$D$58,'Monthly Storage'!AC185-'Monthly Storage'!AC155,\"\")","v":""},{"$f":"IF(AD1<=$D$58,'Monthly Storage'!AD185-'Monthly Storage'!AD155,\"\")","v":""},{"$f":"IF(AE1<=$D$58,'Monthly Storage'!AE185-'Monthly Storage'!AE155,\"\")","v":""},{"$f":"IF(AF1<=$D$58,'Monthly Storage'!AF185-'Monthly Storage'!AF155,\"\")","v":""},{"$f":"IF(AG1<=$D$58,'Monthly Storage'!AG185-'Monthly Storage'!AG155,\"\")","v":""},{"$f":"IF(AH1<=$D$58,'Monthly Storage'!AH185-'Monthly Storage'!AH155,\"\")","v":""},{"$f":"IF(AI1<=$D$58,'Monthly Storage'!AI185-'Monthly Storage'!AI155,\"\")","v":""},{"$f":"IF(AJ1<=$D$58,'Monthly Storage'!AJ185-'Monthly Storage'!AJ155,\"\")","v":""},{"$f":"IF(AK1<=$D$58,'Monthly Storage'!AK185-'Monthly Storage'!AK155,\"\")","v":""},{"$f":"IF(AL1<=$D$58,'Monthly Storage'!AL185-'Monthly Storage'!AL155,\"\")","v":""},{"$f":"IF(AM1<=$D$58,'Monthly Storage'!AM185-'Monthly Storage'!AM155,\"\")","v":""},{"$f":"IF(AN1<=$D$58,'Monthly Storage'!AN185-'Monthly Storage'!AN155,\"\")","v":""},{"$f":"IF(AO1<=$D$58,'Monthly Storage'!AO185-'Monthly Storage'!AO155,\"\")","v":""},{"$f":"IF(AP1<=$D$58,'Monthly Storage'!AP185-'Monthly Storage'!AP155,\"\")","v":""},{"$f":"IF(AQ1<=$D$58,'Monthly Storage'!AQ185-'Monthly Storage'!AQ155,\"\")","v":""},{"$f":"IF(AR1<=$D$58,'Monthly Storage'!AR185-'Monthly Storage'!AR155,\"\")","v":""},{"$f":"IF(AS1<=$D$58,'Monthly Storage'!AS185-'Monthly Storage'!AS155,\"\")","v":""},{"$f":"IF(AT1<=$D$58,'Monthly Storage'!AT185-'Monthly Storage'!AT155,\"\")","v":""},{"$f":"IF(AU1<=$D$58,'Monthly Storage'!AU185-'Monthly Storage'!AU155,\"\")","v":""},{"$f":"IF(AV1<=$D$58,'Monthly Storage'!AV185-'Monthly Storage'!AV155,\"\")","v":""},{"$f":"IF(AW1<=$D$58,'Monthly Storage'!AW185-'Monthly Storage'!AW155,\"\")","v":""},{"$f":"IF(AX1<=$D$58,'Monthly Storage'!AX185-'Monthly Storage'!AX155,\"\")","v":""},{"$f":"IF(AY1<=$D$58,'Monthly Storage'!AY185-'Monthly Storage'!AY155,\"\")","v":""},{"$f":"IF(AZ1<=$D$58,'Monthly Storage'!AZ185-'Monthly Storage'!AZ155,\"\")","v":""},{"$f":"IF(BA1<=$D$58,'Monthly Storage'!BA185-'Monthly Storage'!BA155,\"\")","v":""}]
[null,"ก.ค.",0,{"$f":"IF(D1<=$D$58,'Monthly Storage'!D216-'Monthly Storage'!D185,\"\")","v":0},{"$f":"IF(E1<=$D$58,'Monthly Storage'!E216-'Monthly Storage'!E185,\"\")","v":0},{"$f":"IF(F1<=$D$58,'Monthly Storage'!F216-'Monthly Storage'!F185,\"\")","v":0},{"$f":"IF(G1<=$D$58,'Monthly Storage'!G216-'Monthly Storage'!G185,\"\")","v":0},{"$f":"IF(H1<=$D$58,'Monthly Storage'!H216-'Monthly Storage'!H185,\"\")","v":""},{"$f":"IF(I1<=$D$58,'Monthly Storage'!I216-'Monthly Storage'!I185,\"\")","v":""},{"$f":"IF(J1<=$D$58,'Monthly Storage'!J216-'Monthly Storage'!J185,\"\")","v":""},{"$f":"IF(K1<=$D$58,'Monthly Storage'!K216-'Monthly Storage'!K185,\"\")","v":""},{"$f":"IF(L1<=$D$58,'Monthly Storage'!L216-'Monthly Storage'!L185,\"\")","v":""},{"$f":"IF(M1<=$D$58,'Monthly Storage'!M216-'Monthly Storage'!M185,\"\")","v":""},{"$f":"IF(N1<=$D$58,'Monthly Storage'!N216-'Monthly Storage'!N185,\"\")","v":""},{"$f":"IF(O1<=$D$58,'Monthly Storage'!O216-'Monthly Storage'!O185,\"\")","v":""},{"$f":"IF(P1<=$D$58,'Monthly Storage'!P216-'Monthly Storage'!P185,\"\")","v":""},{"$f":"IF(Q1<=$D$58,'Monthly Storage'!Q216-'Monthly Storage'!Q185,\"\")","v":""},{"$f":"IF(R1<=$D$58,'Monthly Storage'!R216-'Monthly Storage'!R185,\"\")","v":""},{"$f":"IF(S1<=$D$58,'Monthly Storage'!S216-'Monthly Storage'!S185,\"\")","v":""},{"$f":"IF(T1<=$D$58,'Monthly Storage'!T216-'Monthly Storage'!T185,\"\")","v":""},{"$f":"IF(U1<=$D$58,'Monthly Storage'!U216-'Monthly Storage'!U185,\"\")","v":""},{"$f":"IF(V1<=$D$58,'Monthly Storage'!V216-'Monthly Storage'!V185,\"\")","v":""},{"$f":"IF(W1<=$D$58,'Monthly Storage'!W216-'Monthly Storage'!W185,\"\")","v":""},{"$f":"IF(X1<=$D$58,'Monthly Storage'!X216-'Monthly Storage'!X185,\"\")","v":""},{"$f":"IF(Y1<=$D$58,'Monthly Storage'!Y216-'Monthly Storage'!Y185,\"\")","v":""},{"$f":"IF(Z1<=$D$58,'Monthly Storage'!Z216-'Monthly Storage'!Z185,\"\")","v":""},{"$f":"IF(AA1<=$D$58,'Monthly Storage'!AA216-'Monthly Storage'!AA185,\"\")","v":""},{"$f":"IF(AB1<=$D$58,'Monthly Storage'!AB216-'Monthly Storage'!AB185,\"\")","v":""},{"$f":"IF(AC1<=$D$58,'Monthly Storage'!AC216-'Monthly Storage'!AC185,\"\")","v":""},{"$f":"IF(AD1<=$D$58,'Monthly Storage'!AD216-'Monthly Storage'!AD185,\"\")","v":""},{"$f":"IF(AE1<=$D$58,'Monthly Storage'!AE216-'Monthly Storage'!AE185,\"\")","v":""},{"$f":"IF(AF1<=$D$58,'Monthly Storage'!AF216-'Monthly Storage'!AF185,\"\")","v":""},{"$f":"IF(AG1<=$D$58,'Monthly Storage'!AG216-'Monthly Storage'!AG185,\"\")","v":""},{"$f":"IF(AH1<=$D$58,'Monthly Storage'!AH216-'Monthly Storage'!AH185,\"\")","v":""},{"$f":"IF(AI1<=$D$58,'Monthly Storage'!AI216-'Monthly Storage'!AI185,\"\")","v":""},{"$f":"IF(AJ1<=$D$58,'Monthly Storage'!AJ216-'Monthly Storage'!AJ185,\"\")","v":""},{"$f":"IF(AK1<=$D$58,'Monthly Storage'!AK216-'Monthly Storage'!AK185,\"\")","v":""},{"$f":"IF(AL1<=$D$58,'Monthly Storage'!AL216-'Monthly Storage'!AL185,\"\")","v":""},{"$f":"IF(AM1<=$D$58,'Monthly Storage'!AM216-'Monthly Storage'!AM185,\"\")","v":""},{"$f":"IF(AN1<=$D$58,'Monthly Storage'!AN216-'Monthly Storage'!AN185,\"\")","v":""},{"$f":"IF(AO1<=$D$58,'Monthly Storage'!AO216-'Monthly Storage'!AO185,\"\")","v":""},{"$f":"IF(AP1<=$D$58,'Monthly Storage'!AP216-'Monthly Storage'!AP185,\"\")","v":""},{"$f":"IF(AQ1<=$D$58,'Monthly Storage'!AQ216-'Monthly Storage'!AQ185,\"\")","v":""},{"$f":"IF(AR1<=$D$58,'Monthly Storage'!AR216-'Monthly Storage'!AR185,\"\")","v":""},{"$f":"IF(AS1<=$D$58,'Monthly Storage'!AS216-'Monthly Storage'!AS185,\"\")","v":""},{"$f":"IF(AT1<=$D$58,'Monthly Storage'!AT216-'Monthly Storage'!AT185,\"\")","v":""},{"$f":"IF(AU1<=$D$58,'Monthly Storage'!AU216-'Monthly Storage'!AU185,\"\")","v":""},{"$f":"IF(AV1<=$D$58,'Monthly Storage'!AV216-'Monthly Storage'!AV185,\"\")","v":""},{"$f":"IF(AW1<=$D$58,'Monthly Storage'!AW216-'Monthly Storage'!AW185,\"\")","v":""},{"$f":"IF(AX1<=$D$58,'Monthly Storage'!AX216-'Monthly Storage'!AX185,\"\")","v":""},{"$f":"IF(AY1<=$D$58,'Monthly Storage'!AY216-'Monthly Storage'!AY185,\"\")","v":""},{"$f":"IF(AZ1<=$D$58,'Monthly Storage'!AZ216-'Monthly Storage'!AZ185,\"\")","v":""},{"$f":"IF(BA1<=$D$58,'Monthly Storage'!BA216-'Monthly Storage'!BA185,\"\")","v":""}]
[null,"ส.ค.",0,{"$f":"IF(D1<=$D$58,'Monthly Storage'!D247-'Monthly Storage'!D216,\"\")","v":0},{"$f":"IF(E1<=$D$58,'Monthly Storage'!E247-'Monthly Storage'!E216,\"\")","v":0},{"$f":"IF(F1<=$D$58,'Monthly Storage'!F247-'Monthly Storage'!F216,\"\")","v":0},{"$f":"IF(G1<=$D$58,'Monthly Storage'!G247-'Monthly Storage'!G216,\"\")","v":0},{"$f":"IF(H1<=$D$58,'Monthly Storage'!H247-'Monthly Storage'!H216,\"\")","v":""},{"$f":"IF(I1<=$D$58,'Monthly Storage'!I247-'Monthly Storage'!I216,\"\")","v":""},{"$f":"IF(J1<=$D$58,'Monthly Storage'!J247-'Monthly Storage'!J216,\"\")","v":""},{"$f":"IF(K1<=$D$58,'Monthly Storage'!K247-'Monthly Storage'!K216,\"\")","v":""},{"$f":"IF(L1<=$D$58,'Monthly Storage'!L247-'Monthly Storage'!L216,\"\")","v":""},{"$f":"IF(M1<=$D$58,'Monthly Storage'!M247-'Monthly Storage'!M216,\"\")","v":""},{"$f":"IF(N1<=$D$58,'Monthly Storage'!N247-'Monthly Storage'!N216,\"\")","v":""},{"$f":"IF(O1<=$D$58,'Monthly Storage'!O247-'Monthly Storage'!O216,\"\")","v":""},{"$f":"IF(P1<=$D$58,'Monthly Storage'!P247-'Monthly Storage'!P216,\"\")","v":""},{"$f":"IF(Q1<=$D$58,'Monthly Storage'!Q247-'Monthly Storage'!Q216,\"\")","v":""},{"$f":"IF(R1<=$D$58,'Monthly Storage'!R247-'Monthly Storage'!R216,\"\")","v":""},{"$f":"IF(S1<=$D$58,'Monthly Storage'!S247-'Monthly Storage'!S216,\"\")","v":""},{"$f":"IF(T1<=$D$58,'Monthly Storage'!T247-'Monthly Storage'!T216,\"\")","v":""},{"$f":"IF(U1<=$D$58,'Monthly Storage'!U247-'Monthly Storage'!U216,\"\")","v":""},{"$f":"IF(V1<=$D$58,'Monthly Storage'!V247-'Monthly Storage'!V216,\"\")","v":""},{"$f":"IF(W1<=$D$58,'Monthly Storage'!W247-'Monthly Storage'!W216,\"\")","v":""},{"$f":"IF(X1<=$D$58,'Monthly Storage'!X247-'Monthly Storage'!X216,\"\")","v":""},{"$f":"IF(Y1<=$D$58,'Monthly Storage'!Y247-'Monthly Storage'!Y216,\"\")","v":""},{"$f":"IF(Z1<=$D$58,'Monthly Storage'!Z247-'Monthly Storage'!Z216,\"\")","v":""},{"$f":"IF(AA1<=$D$58,'Monthly Storage'!AA247-'Monthly Storage'!AA216,\"\")","v":""},{"$f":"IF(AB1<=$D$58,'Monthly Storage'!AB247-'Monthly Storage'!AB216,\"\")","v":""},{"$f":"IF(AC1<=$D$58,'Monthly Storage'!AC247-'Monthly Storage'!AC216,\"\")","v":""},{"$f":"IF(AD1<=$D$58,'Monthly Storage'!AD247-'Monthly Storage'!AD216,\"\")","v":""},{"$f":"IF(AE1<=$D$58,'Monthly Storage'!AE247-'Monthly Storage'!AE216,\"\")","v":""},{"$f":"IF(AF1<=$D$58,'Monthly Storage'!AF247-'Monthly Storage'!AF216,\"\")","v":""},{"$f":"IF(AG1<=$D$58,'Monthly Storage'!AG247-'Monthly Storage'!AG216,\"\")","v":""},{"$f":"IF(AH1<=$D$58,'Monthly Storage'!AH247-'Monthly Storage'!AH216,\"\")","v":""},{"$f":"IF(AI1<=$D$58,'Monthly Storage'!AI247-'Monthly Storage'!AI216,\"\")","v":""},{"$f":"IF(AJ1<=$D$58,'Monthly Storage'!AJ247-'Monthly Storage'!AJ216,\"\")","v":""},{"$f":"IF(AK1<=$D$58,'Monthly Storage'!AK247-'Monthly Storage'!AK216,\"\")","v":""},{"$f":"IF(AL1<=$D$58,'Monthly Storage'!AL247-'Monthly Storage'!AL216,\"\")","v":""},{"$f":"IF(AM1<=$D$58,'Monthly Storage'!AM247-'Monthly Storage'!AM216,\"\")","v":""},{"$f":"IF(AN1<=$D$58,'Monthly Storage'!AN247-'Monthly Storage'!AN216,\"\")","v":""},{"$f":"IF(AO1<=$D$58,'Monthly Storage'!AO247-'Monthly Storage'!AO216,\"\")","v":""},{"$f":"IF(AP1<=$D$58,'Monthly Storage'!AP247-'Monthly Storage'!AP216,\"\")","v":""},{"$f":"IF(AQ1<=$D$58,'Monthly Storage'!AQ247-'Monthly Storage'!AQ216,\"\")","v":""},{"$f":"IF(AR1<=$D$58,'Monthly Storage'!AR247-'Monthly Storage'!AR216,\"\")","v":""},{"$f":"IF(AS1<=$D$58,'Monthly Storage'!AS247-'Monthly Storage'!AS216,\"\")","v":""},{"$f":"IF(AT1<=$D$58,'Monthly Storage'!AT247-'Monthly Storage'!AT216,\"\")","v":""},{"$f":"IF(AU1<=$D$58,'Monthly Storage'!AU247-'Monthly Storage'!AU216,\"\")","v":""},{"$f":"IF(AV1<=$D$58,'Monthly Storage'!AV247-'Monthly Storage'!AV216,\"\")","v":""},{"$f":"IF(AW1<=$D$58,'Monthly Storage'!AW247-'Monthly Storage'!AW216,\"\")","v":""},{"$f":"IF(AX1<=$D$58,'Monthly Storage'!AX247-'Monthly Storage'!AX216,\"\")","v":""},{"$f":"IF(AY1<=$D$58,'Monthly Storage'!AY247-'Monthly Storage'!AY216,\"\")","v":""},{"$f":"IF(AZ1<=$D$58,'Monthly Storage'!AZ247-'Monthly Storage'!AZ216,\"\")","v":""},{"$f":"IF(BA1<=$D$58,'Monthly Storage'!BA247-'Monthly Storage'!BA216,\"\")","v":""}]
[null,"ก.ย.",0,{"$f":"IF(D1<=$D$58,'Monthly Storage'!D277-'Monthly Storage'!D247,\"\")","v":0},{"$f":"IF(E1<=$D$58,'Monthly Storage'!E277-'Monthly Storage'!E247,\"\")","v":0},{"$f":"IF(F1<=$D$58,'Monthly Storage'!F277-'Monthly Storage'!F247,\"\")","v":0},{"$f":"IF(G1<=$D$58,'Monthly Storage'!G277-'Monthly Storage'!G247,\"\")","v":0},{"$f":"IF(H1<=$D$58,'Monthly Storage'!H277-'Monthly Storage'!H247,\"\")","v":""},{"$f":"IF(I1<=$D$58,'Monthly Storage'!I277-'Monthly Storage'!I247,\"\")","v":""},{"$f":"IF(J1<=$D$58,'Monthly Storage'!J277-'Monthly Storage'!J247,\"\")","v":""},{"$f":"IF(K1<=$D$58,'Monthly Storage'!K277-'Monthly Storage'!K247,\"\")","v":""},{"$f":"IF(L1<=$D$58,'Monthly Storage'!L277-'Monthly Storage'!L247,\"\")","v":""},{"$f":"IF(M1<=$D$58,'Monthly Storage'!M277-'Monthly Storage'!M247,\"\")","v":""},{"$f":"IF(N1<=$D$58,'Monthly Storage'!N277-'Monthly Storage'!N247,\"\")","v":""},{"$f":"IF(O1<=$D$58,'Monthly Storage'!O277-'Monthly Storage'!O247,\"\")","v":""},{"$f":"IF(P1<=$D$58,'Monthly Storage'!P277-'Monthly Storage'!P247,\"\")","v":""},{"$f":"IF(Q1<=$D$58,'Monthly Storage'!Q277-'Monthly Storage'!Q247,\"\")","v":""},{"$f":"IF(R1<=$D$58,'Monthly Storage'!R277-'Monthly Storage'!R247,\"\")","v":""},{"$f":"IF(S1<=$D$58,'Monthly Storage'!S277-'Monthly Storage'!S247,\"\")","v":""},{"$f":"IF(T1<=$D$58,'Monthly Storage'!T277-'Monthly Storage'!T247,\"\")","v":""},{"$f":"IF(U1<=$D$58,'Monthly Storage'!U277-'Monthly Storage'!U247,\"\")","v":""},{"$f":"IF(V1<=$D$58,'Monthly Storage'!V277-'Monthly Storage'!V247,\"\")","v":""},{"$f":"IF(W1<=$D$58,'Monthly Storage'!W277-'Monthly Storage'!W247,\"\")","v":""},{"$f":"IF(X1<=$D$58,'Monthly Storage'!X277-'Monthly Storage'!X247,\"\")","v":""},{"$f":"IF(Y1<=$D$58,'Monthly Storage'!Y277-'Monthly Storage'!Y247,\"\")","v":""},{"$f":"IF(Z1<=$D$58,'Monthly Storage'!Z277-'Monthly Storage'!Z247,\"\")","v":""},{"$f":"IF(AA1<=$D$58,'Monthly Storage'!AA277-'Monthly Storage'!AA247,\"\")","v":""},{"$f":"IF(AB1<=$D$58,'Monthly Storage'!AB277-'Monthly Storage'!AB247,\"\")","v":""},{"$f":"IF(AC1<=$D$58,'Monthly Storage'!AC277-'Monthly Storage'!AC247,\"\")","v":""},{"$f":"IF(AD1<=$D$58,'Monthly Storage'!AD277-'Monthly Storage'!AD247,\"\")","v":""},{"$f":"IF(AE1<=$D$58,'Monthly Storage'!AE277-'Monthly Storage'!AE247,\"\")","v":""},{"$f":"IF(AF1<=$D$58,'Monthly Storage'!AF277-'Monthly Storage'!AF247,\"\")","v":""},{"$f":"IF(AG1<=$D$58,'Monthly Storage'!AG277-'Monthly Storage'!AG247,\"\")","v":""},{"$f":"IF(AH1<=$D$58,'Monthly Storage'!AH277-'Monthly Storage'!AH247,\"\")","v":""},{"$f":"IF(AI1<=$D$58,'Monthly Storage'!AI277-'Monthly Storage'!AI247,\"\")","v":""},{"$f":"IF(AJ1<=$D$58,'Monthly Storage'!AJ277-'Monthly Storage'!AJ247,\"\")","v":""},{"$f":"IF(AK1<=$D$58,'Monthly Storage'!AK277-'Monthly Storage'!AK247,\"\")","v":""},{"$f":"IF(AL1<=$D$58,'Monthly Storage'!AL277-'Monthly Storage'!AL247,\"\")","v":""},{"$f":"IF(AM1<=$D$58,'Monthly Storage'!AM277-'Monthly Storage'!AM247,\"\")","v":""},{"$f":"IF(AN1<=$D$58,'Monthly Storage'!AN277-'Monthly Storage'!AN247,\"\")","v":""},{"$f":"IF(AO1<=$D$58,'Monthly Storage'!AO277-'Monthly Storage'!AO247,\"\")","v":""},{"$f":"IF(AP1<=$D$58,'Monthly Storage'!AP277-'Monthly Storage'!AP247,\"\")","v":""},{"$f":"IF(AQ1<=$D$58,'Monthly Storage'!AQ277-'Monthly Storage'!AQ247,\"\")","v":""},{"$f":"IF(AR1<=$D$58,'Monthly Storage'!AR277-'Monthly Storage'!AR247,\"\")","v":""},{"$f":"IF(AS1<=$D$58,'Monthly Storage'!AS277-'Monthly Storage'!AS247,\"\")","v":""},{"$f":"IF(AT1<=$D$58,'Monthly Storage'!AT277-'Monthly Storage'!AT247,\"\")","v":""},{"$f":"IF(AU1<=$D$58,'Monthly Storage'!AU277-'Monthly Storage'!AU247,\"\")","v":""},{"$f":"IF(AV1<=$D$58,'Monthly Storage'!AV277-'Monthly Storage'!AV247,\"\")","v":""},{"$f":"IF(AW1<=$D$58,'Monthly Storage'!AW277-'Monthly Storage'!AW247,\"\")","v":""},{"$f":"IF(AX1<=$D$58,'Monthly Storage'!AX277-'Monthly Storage'!AX247,\"\")","v":""},{"$f":"IF(AY1<=$D$58,'Monthly Storage'!AY277-'Monthly Storage'!AY247,\"\")","v":""},{"$f":"IF(AZ1<=$D$58,'Monthly Storage'!AZ277-'Monthly Storage'!AZ247,\"\")","v":""},{"$f":"IF(BA1<=$D$58,'Monthly Storage'!BA277-'Monthly Storage'!BA247,\"\")","v":""}]
[null,"ต.ค.",0,{"$f":"IF(D1<=$D$58,'Monthly Storage'!D308-'Monthly Storage'!D277,\"\")","v":0},{"$f":"IF(E1<=$D$58,'Monthly Storage'!E308-'Monthly Storage'!E277,\"\")","v":0},{"$f":"IF(F1<=$D$58,'Monthly Storage'!F308-'Monthly Storage'!F277,\"\")","v":0},{"$f":"IF(G1<=$D$58,'Monthly Storage'!G308-'Monthly Storage'!G277,\"\")","v":0},{"$f":"IF(H1<=$D$58,'Monthly Storage'!H308-'Monthly Storage'!H277,\"\")","v":""},{"$f":"IF(I1<=$D$58,'Monthly Storage'!I308-'Monthly Storage'!I277,\"\")","v":""},{"$f":"IF(J1<=$D$58,'Monthly Storage'!J308-'Monthly Storage'!J277,\"\")","v":""},{"$f":"IF(K1<=$D$58,'Monthly Storage'!K308-'Monthly Storage'!K277,\"\")","v":""},{"$f":"IF(L1<=$D$58,'Monthly Storage'!L308-'Monthly Storage'!L277,\"\")","v":""},{"$f":"IF(M1<=$D$58,'Monthly Storage'!M308-'Monthly Storage'!M277,\"\")","v":""},{"$f":"IF(N1<=$D$58,'Monthly Storage'!N308-'Monthly Storage'!N277,\"\")","v":""},{"$f":"IF(O1<=$D$58,'Monthly Storage'!O308-'Monthly Storage'!O277,\"\")","v":""},{"$f":"IF(P1<=$D$58,'Monthly Storage'!P308-'Monthly Storage'!P277,\"\")","v":""},{"$f":"IF(Q1<=$D$58,'Monthly Storage'!Q308-'Monthly Storage'!Q277,\"\")","v":""},{"$f":"IF(R1<=$D$58,'Monthly Storage'!R308-'Monthly Storage'!R277,\"\")","v":""},{"$f":"IF(S1<=$D$58,'Monthly Storage'!S308-'Monthly Storage'!S277,\"\")","v":""},{"$f":"IF(T1<=$D$58,'Monthly Storage'!T308-'Monthly Storage'!T277,\"\")","v":""},{"$f":"IF(U1<=$D$58,'Monthly Storage'!U308-'Monthly Storage'!U277,\"\")","v":""},{"$f":"IF(V1<=$D$58,'Monthly Storage'!V308-'Monthly Storage'!V277,\"\")","v":""},{"$f":"IF(W1<=$D$58,'Monthly Storage'!W308-'Monthly Storage'!W277,\"\")","v":""},{"$f":"IF(X1<=$D$58,'Monthly Storage'!X308-'Monthly Storage'!X277,\"\")","v":""},{"$f":"IF(Y1<=$D$58,'Monthly Storage'!Y308-'Monthly Storage'!Y277,\"\")","v":""},{"$f":"IF(Z1<=$D$58,'Monthly Storage'!Z308-'Monthly Storage'!Z277,\"\")","v":""},{"$f":"IF(AA1<=$D$58,'Monthly Storage'!AA308-'Monthly Storage'!AA277,\"\")","v":""},{"$f":"IF(AB1<=$D$58,'Monthly Storage'!AB308-'Monthly Storage'!AB277,\"\")","v":""},{"$f":"IF(AC1<=$D$58,'Monthly Storage'!AC308-'Monthly Storage'!AC277,\"\")","v":""},{"$f":"IF(AD1<=$D$58,'Monthly Storage'!AD308-'Monthly Storage'!AD277,\"\")","v":""},{"$f":"IF(AE1<=$D$58,'Monthly Storage'!AE308-'Monthly Storage'!AE277,\"\")","v":""},{"$f":"IF(AF1<=$D$58,'Monthly Storage'!AF308-'Monthly Storage'!AF277,\"\")","v":""},{"$f":"IF(AG1<=$D$58,'Monthly Storage'!AG308-'Monthly Storage'!AG277,\"\")","v":""},{"$f":"IF(AH1<=$D$58,'Monthly Storage'!AH308-'Monthly Storage'!AH277,\"\")","v":""},{"$f":"IF(AI1<=$D$58,'Monthly Storage'!AI308-'Monthly Storage'!AI277,\"\")","v":""},{"$f":"IF(AJ1<=$D$58,'Monthly Storage'!AJ308-'Monthly Storage'!AJ277,\"\")","v":""},{"$f":"IF(AK1<=$D$58,'Monthly Storage'!AK308-'Monthly Storage'!AK277,\"\")","v":""},{"$f":"IF(AL1<=$D$58,'Monthly Storage'!AL308-'Monthly Storage'!AL277,\"\")","v":""},{"$f":"IF(AM1<=$D$58,'Monthly Storage'!AM308-'Monthly Storage'!AM277,\"\")","v":""},{"$f":"IF(AN1<=$D$58,'Monthly Storage'!AN308-'Monthly Storage'!AN277,\"\")","v":""},{"$f":"IF(AO1<=$D$58,'Monthly Storage'!AO308-'Monthly Storage'!AO277,\"\")","v":""},{"$f":"IF(AP1<=$D$58,'Monthly Storage'!AP308-'Monthly Storage'!AP277,\"\")","v":""},{"$f":"IF(AQ1<=$D$58,'Monthly Storage'!AQ308-'Monthly Storage'!AQ277,\"\")","v":""},{"$f":"IF(AR1<=$D$58,'Monthly Storage'!AR308-'Monthly Storage'!AR277,\"\")","v":""},{"$f":"IF(AS1<=$D$58,'Monthly Storage'!AS308-'Monthly Storage'!AS277,\"\")","v":""},{"$f":"IF(AT1<=$D$58,'Monthly Storage'!AT308-'Monthly Storage'!AT277,\"\")","v":""},{"$f":"IF(AU1<=$D$58,'Monthly Storage'!AU308-'Monthly Storage'!AU277,\"\")","v":""},{"$f":"IF(AV1<=$D$58,'Monthly Storage'!AV308-'Monthly Storage'!AV277,\"\")","v":""},{"$f":"IF(AW1<=$D$58,'Monthly Storage'!AW308-'Monthly Storage'!AW277,\"\")","v":""},{"$f":"IF(AX1<=$D$58,'Monthly Storage'!AX308-'Monthly Storage'!AX277,\"\")","v":""},{"$f":"IF(AY1<=$D$58,'Monthly Storage'!AY308-'Monthly Storage'!AY277,\"\")","v":""},{"$f":"IF(AZ1<=$D$58,'Monthly Storage'!AZ308-'Monthly Storage'!AZ277,\"\")","v":""},{"$f":"IF(BA1<=$D$58,'Monthly Storage'!BA308-'Monthly Storage'!BA277,\"\")","v":""}]
[null,"พ.ย.",0,{"$f":"IF(D1<=$D$58,'Monthly Storage'!D338-'Monthly Storage'!D308,\"\")","v":0},{"$f":"IF(E1<=$D$58,'Monthly Storage'!E338-'Monthly Storage'!E308,\"\")","v":0},{"$f":"IF(F1<=$D$58,'Monthly Storage'!F338-'Monthly Storage'!F308,\"\")","v":0},{"$f":"IF(G1<=$D$58,'Monthly Storage'!G338-'Monthly Storage'!G308,\"\")","v":0},{"$f":"IF(H1<=$D$58,'Monthly Storage'!H338-'Monthly Storage'!H308,\"\")","v":""},{"$f":"IF(I1<=$D$58,'Monthly Storage'!I338-'Monthly Storage'!I308,\"\")","v":""},{"$f":"IF(J1<=$D$58,'Monthly Storage'!J338-'Monthly Storage'!J308,\"\")","v":""},{"$f":"IF(K1<=$D$58,'Monthly Storage'!K338-'Monthly Storage'!K308,\"\")","v":""},{"$f":"IF(L1<=$D$58,'Monthly Storage'!L338-'Monthly Storage'!L308,\"\")","v":""},{"$f":"IF(M1<=$D$58,'Monthly Storage'!M338-'Monthly Storage'!M308,\"\")","v":""},{"$f":"IF(N1<=$D$58,'Monthly Storage'!N338-'Monthly Storage'!N308,\"\")","v":""},{"$f":"IF(O1<=$D$58,'Monthly Storage'!O338-'Monthly Storage'!O308,\"\")","v":""},{"$f":"IF(P1<=$D$58,'Monthly Storage'!P338-'Monthly Storage'!P308,\"\")","v":""},{"$f":"IF(Q1<=$D$58,'Monthly Storage'!Q338-'Monthly Storage'!Q308,\"\")","v":""},{"$f":"IF(R1<=$D$58,'Monthly Storage'!R338-'Monthly Storage'!R308,\"\")","v":""},{"$f":"IF(S1<=$D$58,'Monthly Storage'!S338-'Monthly Storage'!S308,\"\")","v":""},{"$f":"IF(T1<=$D$58,'Monthly Storage'!T338-'Monthly Storage'!T308,\"\")","v":""},{"$f":"IF(U1<=$D$58,'Monthly Storage'!U338-'Monthly Storage'!U308,\"\")","v":""},{"$f":"IF(V1<=$D$58,'Monthly Storage'!V338-'Monthly Storage'!V308,\"\")","v":""},{"$f":"IF(W1<=$D$58,'Monthly Storage'!W338-'Monthly Storage'!W308,\"\")","v":""},{"$f":"IF(X1<=$D$58,'Monthly Storage'!X338-'Monthly Storage'!X308,\"\")","v":""},{"$f":"IF(Y1<=$D$58,'Monthly Storage'!Y338-'Monthly Storage'!Y308,\"\")","v":""},{"$f":"IF(Z1<=$D$58,'Monthly Storage'!Z338-'Monthly Storage'!Z308,\"\")","v":""},{"$f":"IF(AA1<=$D$58,'Monthly Storage'!AA338-'Monthly Storage'!AA308,\"\")","v":""},{"$f":"IF(AB1<=$D$58,'Monthly Storage'!AB338-'Monthly Storage'!AB308,\"\")","v":""},{"$f":"IF(AC1<=$D$58,'Monthly Storage'!AC338-'Monthly Storage'!AC308,\"\")","v":""},{"$f":"IF(AD1<=$D$58,'Monthly Storage'!AD338-'Monthly Storage'!AD308,\"\")","v":""},{"$f":"IF(AE1<=$D$58,'Monthly Storage'!AE338-'Monthly Storage'!AE308,\"\")","v":""},{"$f":"IF(AF1<=$D$58,'Monthly Storage'!AF338-'Monthly Storage'!AF308,\"\")","v":""},{"$f":"IF(AG1<=$D$58,'Monthly Storage'!AG338-'Monthly Storage'!AG308,\"\")","v":""},{"$f":"IF(AH1<=$D$58,'Monthly Storage'!AH338-'Monthly Storage'!AH308,\"\")","v":""},{"$f":"IF(AI1<=$D$58,'Monthly Storage'!AI338-'Monthly Storage'!AI308,\"\")","v":""},{"$f":"IF(AJ1<=$D$58,'Monthly Storage'!AJ338-'Monthly Storage'!AJ308,\"\")","v":""},{"$f":"IF(AK1<=$D$58,'Monthly Storage'!AK338-'Monthly Storage'!AK308,\"\")","v":""},{"$f":"IF(AL1<=$D$58,'Monthly Storage'!AL338-'Monthly Storage'!AL308,\"\")","v":""},{"$f":"IF(AM1<=$D$58,'Monthly Storage'!AM338-'Monthly Storage'!AM308,\"\")","v":""},{"$f":"IF(AN1<=$D$58,'Monthly Storage'!AN338-'Monthly Storage'!AN308,\"\")","v":""},{"$f":"IF(AO1<=$D$58,'Monthly Storage'!AO338-'Monthly Storage'!AO308,\"\")","v":""},{"$f":"IF(AP1<=$D$58,'Monthly Storage'!AP338-'Monthly Storage'!AP308,\"\")","v":""},{"$f":"IF(AQ1<=$D$58,'Monthly Storage'!AQ338-'Monthly Storage'!AQ308,\"\")","v":""},{"$f":"IF(AR1<=$D$58,'Monthly Storage'!AR338-'Monthly Storage'!AR308,\"\")","v":""},{"$f":"IF(AS1<=$D$58,'Monthly Storage'!AS338-'Monthly Storage'!AS308,\"\")","v":""},{"$f":"IF(AT1<=$D$58,'Monthly Storage'!AT338-'Monthly Storage'!AT308,\"\")","v":""},{"$f":"IF(AU1<=$D$58,'Monthly Storage'!AU338-'Monthly Storage'!AU308,\"\")","v":""},{"$f":"IF(AV1<=$D$58,'Monthly Storage'!AV338-'Monthly Storage'!AV308,\"\")","v":""},{"$f":"IF(AW1<=$D$58,'Monthly Storage'!AW338-'Monthly Storage'!AW308,\"\")","v":""},{"$f":"IF(AX1<=$D$58,'Monthly Storage'!AX338-'Monthly Storage'!AX308,\"\")","v":""},{"$f":"IF(AY1<=$D$58,'Monthly Storage'!AY338-'Monthly Storage'!AY308,\"\")","v":""},{"$f":"IF(AZ1<=$D$58,'Monthly Storage'!AZ338-'Monthly Storage'!AZ308,\"\")","v":""},{"$f":"IF(BA1<=$D$58,'Monthly Storage'!BA338-'Monthly Storage'!BA308,\"\")","v":""}]
[null,"ธ.ค.",0,{"$f":"IF(D1<=$D$58,'Monthly Storage'!E4-'Monthly Storage'!D338,\"\")","v":0},{"$f":"IF(E1<=$D$58,'Monthly Storage'!F4-'Monthly Storage'!E338,\"\")","v":0},{"$f":"IF(F1<=$D$58,'Monthly Storage'!G4-'Monthly Storage'!F338,\"\")","v":0},{"$f":"IF(G1<=$D$58,'Monthly Storage'!H4-'Monthly Storage'!G338,\"\")","v":0},{"$f":"IF(H1<=$D$58,'Monthly Storage'!I4-'Monthly Storage'!H338,\"\")","v":""},{"$f":"IF(I1<=$D$58,'Monthly Storage'!J4-'Monthly Storage'!I338,\"\")","v":""},{"$f":"IF(J1<=$D$58,'Monthly Storage'!K4-'Monthly Storage'!J338,\"\")","v":""},{"$f":"IF(K1<=$D$58,'Monthly Storage'!L4-'Monthly Storage'!K338,\"\")","v":""},{"$f":"IF(L1<=$D$58,'Monthly Storage'!M4-'Monthly Storage'!L338,\"\")","v":""},{"$f":"IF(M1<=$D$58,'Monthly Storage'!N4-'Monthly Storage'!M338,\"\")","v":""},{"$f":"IF(N1<=$D$58,'Monthly Storage'!O4-'Monthly Storage'!N338,\"\")","v":""},{"$f":"IF(O1<=$D$58,'Monthly Storage'!P4-'Monthly Storage'!O338,\"\")","v":""},{"$f":"IF(P1<=$D$58,'Monthly Storage'!Q4-'Monthly Storage'!P338,\"\")","v":""},{"$f":"IF(Q1<=$D$58,'Monthly Storage'!R4-'Monthly Storage'!Q338,\"\")","v":""},{"$f":"IF(R1<=$D$58,'Monthly Storage'!S4-'Monthly Storage'!R338,\"\")","v":""},{"$f":"IF(S1<=$D$58,'Monthly Storage'!T4-'Monthly Storage'!S338,\"\")","v":""},{"$f":"IF(T1<=$D$58,'Monthly Storage'!U4-'Monthly Storage'!T338,\"\")","v":""},{"$f":"IF(U1<=$D$58,'Monthly Storage'!V4-'Monthly Storage'!U338,\"\")","v":""},{"$f":"IF(V1<=$D$58,'Monthly Storage'!W4-'Monthly Storage'!V338,\"\")","v":""},{"$f":"IF(W1<=$D$58,'Monthly Storage'!X4-'Monthly Storage'!W338,\"\")","v":""},{"$f":"IF(X1<=$D$58,'Monthly Storage'!Y4-'Monthly Storage'!X338,\"\")","v":""},{"$f":"IF(Y1<=$D$58,'Monthly Storage'!Z4-'Monthly Storage'!Y338,\"\")","v":""},{"$f":"IF(Z1<=$D$58,'Monthly Storage'!AA4-'Monthly Storage'!Z338,\"\")","v":""},{"$f":"IF(AA1<=$D$58,'Monthly Storage'!AB4-'Monthly Storage'!AA338,\"\")","v":""},{"$f":"IF(AB1<=$D$58,'Monthly Storage'!AC4-'Monthly Storage'!AB338,\"\")","v":""},{"$f":"IF(AC1<=$D$58,'Monthly Storage'!AD4-'Monthly Storage'!AC338,\"\")","v":""},{"$f":"IF(AD1<=$D$58,'Monthly Storage'!AE4-'Monthly Storage'!AD338,\"\")","v":""},{"$f":"IF(AE1<=$D$58,'Monthly Storage'!AF4-'Monthly Storage'!AE338,\"\")","v":""},{"$f":"IF(AF1<=$D$58,'Monthly Storage'!AG4-'Monthly Storage'!AF338,\"\")","v":""},{"$f":"IF(AG1<=$D$58,'Monthly Storage'!AH4-'Monthly Storage'!AG338,\"\")","v":""},{"$f":"IF(AH1<=$D$58,'Monthly Storage'!AI4-'Monthly Storage'!AH338,\"\")","v":""},{"$f":"IF(AI1<=$D$58,'Monthly Storage'!AJ4-'Monthly Storage'!AI338,\"\")","v":""},{"$f":"IF(AJ1<=$D$58,'Monthly Storage'!AK4-'Monthly Storage'!AJ338,\"\")","v":""},{"$f":"IF(AK1<=$D$58,'Monthly Storage'!AL4-'Monthly Storage'!AK338,\"\")","v":""},{"$f":"IF(AL1<=$D$58,'Monthly Storage'!AM4-'Monthly Storage'!AL338,\"\")","v":""},{"$f":"IF(AM1<=$D$58,'Monthly Storage'!AN4-'Monthly Storage'!AM338,\"\")","v":""},{"$f":"IF(AN1<=$D$58,'Monthly Storage'!AO4-'Monthly Storage'!AN338,\"\")","v":""},{"$f":"IF(AO1<=$D$58,'Monthly Storage'!AP4-'Monthly Storage'!AO338,\"\")","v":""},{"$f":"IF(AP1<=$D$58,'Monthly Storage'!AQ4-'Monthly Storage'!AP338,\"\")","v":""},{"$f":"IF(AQ1<=$D$58,'Monthly Storage'!AR4-'Monthly Storage'!AQ338,\"\")","v":""},{"$f":"IF(AR1<=$D$58,'Monthly Storage'!AS4-'Monthly Storage'!AR338,\"\")","v":""},{"$f":"IF(AS1<=$D$58,'Monthly Storage'!AT4-'Monthly Storage'!AS338,\"\")","v":""},{"$f":"IF(AT1<=$D$58,'Monthly Storage'!AU4-'Monthly Storage'!AT338,\"\")","v":""},{"$f":"IF(AU1<=$D$58,'Monthly Storage'!AV4-'Monthly Storage'!AU338,\"\")","v":""},{"$f":"IF(AV1<=$D$58,'Monthly Storage'!AW4-'Monthly Storage'!AV338,\"\")","v":""},{"$f":"IF(AW1<=$D$58,'Monthly Storage'!AX4-'Monthly Storage'!AW338,\"\")","v":""},{"$f":"IF(AX1<=$D$58,'Monthly Storage'!AY4-'Monthly Storage'!AX338,\"\")","v":""},{"$f":"IF(AY1<=$D$58,'Monthly Storage'!AZ4-'Monthly Storage'!AY338,\"\")","v":""},{"$f":"IF(AZ1<=$D$58,'Monthly Storage'!BA4-'Monthly Storage'!AZ338,\"\")","v":""},{"$f":"IF(BA1<=$D$58,'Monthly Storage'!BB4-'Monthly Storage'!BA338,\"\")","v":""}]
[]
["Item","เดือน","Average",{"$f":"IF(D3+543>543,D3+543,\"\")","v":2529},{"$f":"IF(E3+543>543,E3+543,\"\")","v":2530},2531,2532,"","","","","","","","","","","","","","","","","","","","","","","","","","","","","","","","","","","","","","","","","","","","","",""]
["Monthly Storage AVG ทั้งเดือน","ม.ค.",{"$f":"AVERAGE(OFFSET(D17,1,0,1,$D$58))","v":{"$error":"#DIV/0!"}},{"$f":"AVERAGE('Monthly Storage'!D4:D34)","v":{"$error":"#DIV/0!"}},{"$f":"AVERAGE('Monthly Storage'!E4:E34)","v":{"$error":"#DIV/0!"}},{"$f":"AVERAGE('Monthly Storage'!F4:F34)","v":{"$error":"#DIV/0!"}},{"$f":"AVERAGE('Monthly Storage'!G4:G34)","v":{"$error":"#DIV/0!"}},{"$f":"AVERAGE('Monthly Storage'!H4:H34)","v":{"$error":"#DIV/0!"}},{"$f":"AVERAGE('Monthly Storage'!I4:I34)","v":{"$error":"#DIV/0!"}},{"$f":"AVERAGE('Monthly Storage'!J4:J34)","v":{"$error":"#DIV/0!"}},{"$f":"AVERAGE('Monthly Storage'!K4:K34)","v":{"$error":"#DIV/0!"}},{"$f":"AVERAGE('Monthly Storage'!L4:L34)","v":{"$error":"#DIV/0!"}},{"$f":"AVERAGE('Monthly Storage'!M4:M34)","v":{"$error":"#DIV/0!"}},{"$f":"AVERAGE('Monthly Storage'!N4:N34)","v":{"$error":"#DIV/0!"}},{"$f":"AVERAGE('Monthly Storage'!O4:O34)","v":{"$error":"#DIV/0!"}},{"$f":"AVERAGE('Monthly Storage'!P4:P34)","v":{"$error":"#DIV/0!"}},{"$f":"AVERAGE('Monthly Storage'!Q4:Q34)","v":{"$error":"#DIV/0!"}},{"$f":"AVERAGE('Monthly Storage'!R4:R34)","v":{"$error":"#DIV/0!"}},{"$f":"AVERAGE('Monthly Storage'!S4:S34)","v":{"$error":"#DIV/0!"}},{"$f":"AVERAGE('Monthly Storage'!T4:T34)","v":{"$error":"#DIV/0!"}},{"$f":"AVERAGE('Monthly Storage'!U4:U34)","v":{"$error":"#DIV/0!"}},{"$f":"AVERAGE('Monthly Storage'!V4:V34)","v":{"$error":"#DIV/0!"}},{"$f":"AVERAGE('Monthly Storage'!W4:W34)","v":{"$error":"#DIV/0!"}},{"$f":"AVERAGE('Monthly Storage'!X4:X34)","v":{"$error":"#DIV/0!"}},{"$f":"AVERAGE('Monthly Storage'!Y4:Y34)","v":{"$error":"#DIV/0!"}},{"$f":"AVERAGE('Monthly Storage'!Z4:Z34)","v":{"$error":"#DIV/0!"}},{"$f":"AVERAGE('Monthly Storage'!AA4:AA34)","v":{"$error":"#DIV/0!"}},{"$f":"AVERAGE('Monthly Storage'!AB4:AB34)","v":{"$error":"#DIV/0!"}},{"$f":"AVERAGE('Monthly Storage'!AC4:AC34)","v":{"$error":"#DIV/0!"}},{"$f":"AVERAGE('Monthly Storage'!AD4:AD34)","v":{"$error":"#DIV/0!"}},{"$f":"AVERAGE('Monthly Storage'!AE4:AE34)","v":{"$error":"#DIV/0!"}},{"$f":"AVERAGE('Monthly Storage'!AF4:AF34)","v":{"$error":"#DIV/0!"}},{"$f":"AVERAGE('Monthly Storage'!AG4:AG34)","v":{"$error":"#DIV/0!"}},{"$f":"AVERAGE('Monthly Storage'!AH4:AH34)","v":{"$error":"#DIV/0!"}},{"$f":"AVERAGE('Monthly Storage'!AI4:AI34)","v":{"$error":"#DIV/0!"}},{"$f":"AVERAGE('Monthly Storage'!AJ4:AJ34)","v":{"$error":"#DIV/0!"}},{"$f":"AVERAGE('Monthly Storage'!AK4:AK34)","v":{"$error":"#DIV/0!"}},{"$f":"AVERAGE('Monthly Storage'!AL4:AL34)","v":{"$error":"#DIV/0!"}},{"$f":"AVERAGE('Monthly Storage'!AM4:AM34)","v":{"$error":"#DIV/0!"}},{"$f":"AVERAGE('Monthly Storage'!AN4:AN34)","v":{"$error":"#DIV/0!"}},{"$f":"AVERAGE('Monthly Storage'!AO4:AO34)","v":{"$error":"#DIV/0!"}},{"$f":"AVERAGE('Monthly Storage'!AP4:AP34)","v":{"$error":"#DIV/0!"}},{"$f":"AVERAGE('Monthly Storage'!AQ4:AQ34)","v":{"$error":"#DIV/0!"}},{"$f":"AVERAGE('Monthly Storage'!AR4:AR34)","v":{"$error":"#DIV/0!"}},{"$f":"AVERAGE('Monthly Storage'!AS4:AS34)","v":{"$error":"#DIV/0!"}},{"$f":"AVERAGE('Monthly Storage'!AT4:AT34)","v":{"$error":"#DIV/0!"}},{"$f":"AVERAGE('Monthly Storage'!AU4:AU34)","v":{"$error":"#DIV/0!"}},{"$f":"AVERAGE('Monthly Storage'!AV4:AV34)","v":{"$error":"#DIV/0!"}},{"$f":"AVERAGE('Monthly Storage'!AW4:AW34)","v":{"$error":"#DIV/0!"}},{"$f":"AVERAGE('Monthly Storage'!AX4:AX34)","v":{"$error":"#DIV/0!"}},{"$f":"AVERAGE('Monthly Storage'!AY4:AY34)","v":{"$error":"#DIV/0!"}},{"$f":"AVERAGE('Monthly Storage'!AZ4:AZ34)","v":{"$error":"#DIV/0!"}},{"$f":"AVERAGE('Monthly Storage'!BA4:BA34)","v":{"$error":"#DIV/0!"}}]
[null,"ก.พ.",{"$error":"#DIV/0!"},{"$f":"AVERAGE('Monthly Storage'!D35:D62)","v":{"$error":"#DIV/0!"}},{"$f":"AVERAGE('Monthly Storage'!E35:E62)","v":{"$error":"#DIV/0!"}},{"$f":"AVERAGE('Monthly Storage'!F35:F62)","v":{"$error":"#DIV/0!"}},{"$f":"AVERAGE('Monthly Storage'!G35:G62)","v":{"$error":"#DIV/0!"}},{"$f":"AVERAGE('Monthly Storage'!H35:H62)","v":{"$error":"#DIV/0!"}},{"$f":"AVERAGE('Monthly Storage'!I35:I62)","v":{"$error":"#DIV/0!"}},{"$f":"AVERAGE('Monthly Storage'!J35:J62)","v":{"$error":"#DIV/0!"}},{"$f":"AVERAGE('Monthly Storage'!K35:K62)","v":{"$error":"#DIV/0!"}},{"$f":"AVERAGE('Monthly Storage'!L35:L62)","v":{"$error":"#DIV/0!"}},{"$f":"AVERAGE('Monthly Storage'!M35:M62)","v":{"$error":"#DIV/0!"}},{"$f":"AVERAGE('Monthly Storage'!N35:N62)","v":{"$error":"#DIV/0!"}},{"$f":"AVERAGE('Monthly Storage'!O35:O62)","v":{"$error":"#DIV/0!"}},{"$f":"AVERAGE('Monthly Storage'!P35:P62)","v":{"$error":"#DIV/0!"}},{"$f":"AVERAGE('Monthly Storage'!Q35:Q62)","v":{"$error":"#DIV/0!"}},{"$f":"AVERAGE('Monthly Storage'!R35:R62)","v":{"$error":"#DIV/0!"}},{"$f":"AVERAGE('Monthly Storage'!S35:S62)","v":{"$error":"#DIV/0!"}},{"$f":"AVERAGE('Monthly Storage'!T35:T62)","v":{"$error":"#DIV/0!"}},{"$f":"AVERAGE('Monthly Storage'!U35:U62)","v":{"$error":"#DIV/0!"}},{"$f":"AVERAGE('Monthly Storage'!V35:V62)","v":{"$error":"#DIV/0!"}},{"$f":"AVERAGE('Monthly Storage'!W35:W62)","v":{"$error":"#DIV/0!"}},{"$f":"AVERAGE('Monthly Storage'!X35:X62)","v":{"$error":"#DIV/0!"}},{"$f":"AVERAGE('Monthly Storage'!Y35:Y62)","v":{"$error":"#DIV/0!"}},{"$f":"AVERAGE('Monthly Storage'!Z35:Z62)","v":{"$error":"#DIV/0!"}},{"$f":"AVERAGE('Monthly Storage'!AA35:AA62)","v":{"$error":"#DIV/0!"}},{"$f":"AVERAGE('Monthly Storage'!AB35:AB62)","v":{"$error":"#DIV/0!"}},{"$f":"AVERAGE('Monthly Storage'!AC35:AC62)","v":{"$error":"#DIV/0!"}},{"$f":"AVERAGE('Monthly Storage'!AD35:AD62)","v":{"$error":"#DIV/0!"}},{"$f":"AVERAGE('Monthly Storage'!AE35:AE62)","v":{"$error":"#DIV/0!"}},{"$f":"AVERAGE('Monthly Storage'!AF35:AF62)","v":{"$error":"#DIV/0!"}},{"$f":"AVERAGE('Monthly Storage'!AG35:AG62)","v":{"$error":"#DIV/0!"}},{"$f":"AVERAGE('Monthly Storage'!AH35:AH62)","v":{"$error":"#DIV/0!"}},{"$f":"AVERAGE('Monthly Storage'!AI35:AI62)","v":{"$error":"#DIV/0!"}},{"$f":"AVERAGE('Monthly Storage'!AJ35:AJ62)","v":{"$error":"#DIV/0!"}},{"$f":"AVERAGE('Monthly Storage'!AK35:AK62)","v":{"$error":"#DIV/0!"}},{"$f":"AVERAGE('Monthly Storage'!AL35:AL62)","v":{"$error":"#DIV/0!"}},{"$f":"AVERAGE('Monthly Storage'!AM35:AM62)","v":{"$error":"#DIV/0!"}},{"$f":"AVERAGE('Monthly Storage'!AN35:AN62)","v":{"$error":"#DIV/0!"}},{"$f":"AVERAGE('Monthly Storage'!AO35:AO62)","v":{"$error":"#DIV/0!"}},{"$f":"AVERAGE('Monthly Storage'!AP35:AP62)","v":{"$error":"#DIV/0!"}},{"$f":"AVERAGE('Monthly Storage'!AQ35:AQ62)","v":{"$error":"#DIV/0!"}},{"$f":"AVERAGE('Monthly Storage'!AR35:AR62)","v":{"$error":"#DIV/0!"}},{"$f":"AVERAGE('Monthly Storage'!AS35:AS62)","v":{"$error":"#DIV/0!"}},{"$f":"AVERAGE('Monthly Storage'!AT35:AT62)","v":{"$error":"#DIV/0!"}},{"$f":"AVERAGE('Monthly Storage'!AU35:AU62)","v":{"$error":"#DIV/0!"}},{"$f":"AVERAGE('Monthly Storage'!AV35:AV62)","v":{"$error":"#DIV/0!"}},{"$f":"AVERAGE('Monthly Storage'!AW35:AW62)","v":{"$error":"#DIV/0!"}},{"$f":"AVERAGE('Monthly Storage'!AX35:AX62)","v":{"$error":"#DIV/0!"}},{"$f":"AVERAGE('Monthly Storage'!AY35:AY62)","v":{"$error":"#DIV/0!"}},{"$f":"AVERAGE('Monthly Storage'!AZ35:AZ62)","v":{"$error":"#DIV/0!"}},{"$f":"AVERAGE('Monthly Storage'!BA35:BA62)","v":{"$error":"#DIV/0!"}}]
[null,"มี.ค.",{"$error":"#DIV/0!"},{"$f":"AVERAGE('Monthly Storage'!D63:D93)","v":{"$error":"#DIV/0!"}},{"$f":"AVERAGE('Monthly Storage'!E63:E93)","v":{"$error":"#DIV/0!"}},{"$f":"AVERAGE('Monthly Storage'!F63:F93)","v":{"$error":"#DIV/0!"}},{"$f":"AVERAGE('Monthly Storage'!G63:G93)","v":{"$error":"#DIV/0!"}},{"$f":"AVERAGE('Monthly Storage'!H63:H93)","v":{"$error":"#DIV/0!"}},{"$f":"AVERAGE('Monthly Storage'!I63:I93)","v":{"$error":"#DIV/0!"}},{"$f":"AVERAGE('Monthly Storage'!J63:J93)","v":{"$error":"#DIV/0!"}},{"$f":"AVERAGE('Monthly Storage'!K63:K93)","v":{"$error":"#DIV/0!"}},{"$f":"AVERAGE('Monthly Storage'!L63:L93)","v":{"$error":"#DIV/0!"}},{"$f":"AVERAGE('Monthly Storage'!M63:M93)","v":{"$error":"#DIV/0!"}},{"$f":"AVERAGE('Monthly Storage'!N63:N93)","v":{"$error":"#DIV/0!"}},{"$f":"AVERAGE('Monthly Storage'!O63:O93)","v":{"$error":"#DIV/0!"}},{"$f":"AVERAGE('Monthly Storage'!P63:P93)","v":{"$error":"#DIV/0!"}},{"$f":"AVERAGE('Monthly Storage'!Q63:Q93)","v":{"$error":"#DIV/0!"}},{"$f":"AVERAGE('Monthly Storage'!R63:R93)","v":{"$error":"#DIV/0!"}},{"$f":"AVERAGE('Monthly Storage'!S63:S93)","v":{"$error":"#DIV/0!"}},{"$f":"AVERAGE('Monthly Storage'!T63:T93)","v":{"$error":"#DIV/0!"}},{"$f":"AVERAGE('Monthly Storage'!U63:U93)","v":{"$error":"#DIV/0!"}},{"$f":"AVERAGE('Monthly Storage'!V63:V93)","v":{"$error":"#DIV/0!"}},{"$f":"AVERAGE('Monthly Storage'!W63:W93)","v":{"$error":"#DIV/0!"}},{"$f":"AVERAGE('Monthly Storage'!X63:X93)","v":{"$error":"#DIV/0!"}},{"$f":"AVERAGE('Monthly Storage'!Y63:Y93)","v":{"$error":"#DIV/0!"}},{"$f":"AVERAGE('Monthly Storage'!Z63:Z93)","v":{"$error":"#DIV/0!"}},{"$f":"AVERAGE('Monthly Storage'!AA63:AA93)","v":{"$error":"#DIV/0!"}},{"$f":"AVERAGE('Monthly Storage'!AB63:AB93)","v":{"$error":"#DIV/0!"}},{"$f":"AVERAGE('Monthly Storage'!AC63:AC93)","v":{"$error":"#DIV/0!"}},{"$f":"AVERAGE('Monthly Storage'!AD63:AD93)","v":{"$error":"#DIV/0!"}},{"$f":"AVERAGE('Monthly Storage'!AE63:AE93)","v":{"$error":"#DIV/0!"}},{"$f":"AVERAGE('Monthly Storage'!AF63:AF93)","v":{"$error":"#DIV/0!"}},{"$f":"AVERAGE('Monthly Storage'!AG63:AG93)","v":{"$error":"#DIV/0!"}},{"$f":"AVERAGE('Monthly Storage'!AH63:AH93)","v":{"$error":"#DIV/0!"}},{"$f":"AVERAGE('Monthly Storage'!AI63:AI93)","v":{"$error":"#DIV/0!"}},{"$f":"AVERAGE('Monthly Storage'!AJ63:AJ93)","v":{"$error":"#DIV/0!"}},{"$f":"AVERAGE('Monthly Storage'!AK63:AK93)","v":{"$error":"#DIV/0!"}},{"$f":"AVERAGE('Monthly Storage'!AL63:AL93)","v":{"$error":"#DIV/0!"}},{"$f":"AVERAGE('Monthly Storage'!AM63:AM93)","v":{"$error":"#DIV/0!"}},{"$f":"AVERAGE('Monthly Storage'!AN63:AN93)","v":{"$error":"#DIV/0!"}},{"$f":"AVERAGE('Monthly Storage'!AO63:AO93)","v":{"$error":"#DIV/0!"}},{"$f":"AVERAGE('Monthly Storage'!AP63:AP93)","v":{"$error":"#DIV/0!"}},{"$f":"AVERAGE('Monthly Storage'!AQ63:AQ93)","v":{"$error":"#DIV/0!"}},{"$f":"AVERAGE('Monthly Storage'!AR63:AR93)","v":{"$error":"#DIV/0!"}},{"$f":"AVERAGE('Monthly Storage'!AS63:AS93)","v":{"$error":"#DIV/0!"}},{"$f":"AVERAGE('Monthly Storage'!AT63:AT93)","v":{"$error":"#DIV/0!"}},{"$f":"AVERAGE('Monthly Storage'!AU63:AU93)","v":{"$error":"#DIV/0!"}},{"$f":"AVERAGE('Monthly Storage'!AV63:AV93)","v":{"$error":"#DIV/0!"}},{"$f":"AVERAGE('Monthly Storage'!AW63:AW93)","v":{"$error":"#DIV/0!"}},{"$f":"AVERAGE('Monthly Storage'!AX63:AX93)","v":{"$error":"#DIV/0!"}},{"$f":"AVERAGE('Monthly Storage'!AY63:AY93)","v":{"$error":"#DIV/0!"}},{"$f":"AVERAGE('Monthly Storage'!AZ63:AZ93)","v":{"$error":"#DIV/0!"}},{"$f":"AVERAGE('Monthly Storage'!BA63:BA93)","v":{"$error":"#DIV/0!"}}]
[null,"เม.ย.",{"$error":"#DIV/0!"},{"$f":"AVERAGE('Monthly Storage'!D94:D123)","v":{"$error":"#DIV/0!"}},{"$f":"AVERAGE('Monthly Storage'!E94:E123)","v":{"$error":"#DIV/0!"}},{"$f":"AVERAGE('Monthly Storage'!F94:F123)","v":{"$error":"#DIV/0!"}},{"$f":"AVERAGE('Monthly Storage'!G94:G123)","v":{"$error":"#DIV/0!"}},{"$f":"AVERAGE('Monthly Storage'!H94:H123)","v":{"$error":"#DIV/0!"}},{"$f":"AVERAGE('Monthly Storage'!I94:I123)","v":{"$error":"#DIV/0!"}},{"$f":"AVERAGE('Monthly Storage'!J94:J123)","v":{"$error":"#DIV/0!"}},{"$f":"AVERAGE('Monthly Storage'!K94:K123)","v":{"$error":"#DIV/0!"}},{"$f":"AVERAGE('Monthly Storage'!L94:L123)","v":{"$error":"#DIV/0!"}},{"$f":"AVERAGE('Monthly Storage'!M94:M123)","v":{"$error":"#DIV/0!"}},{"$f":"AVERAGE('Monthly Storage'!N94:N123)","v":{"$error":"#DIV/0!"}},{"$f":"AVERAGE('Monthly Storage'!O94:O123)","v":{"$error":"#DIV/0!"}},{"$f":"AVERAGE('Monthly Storage'!P94:P123)","v":{"$error":"#DIV/0!"}},{"$f":"AVERAGE('Monthly Storage'!Q94:Q123)","v":{"$error":"#DIV/0!"}},{"$f":"AVERAGE('Monthly Storage'!R94:R123)","v":{"$error":"#DIV/0!"}},{"$f":"AVERAGE('Monthly Storage'!S94:S123)","v":{"$error":"#DIV/0!"}},{"$f":"AVERAGE('Monthly Storage'!T94:T123)","v":{"$error":"#DIV/0!"}},{"$f":"AVERAGE('Monthly Storage'!U94:U123)","v":{"$error":"#DIV/0!"}},{"$f":"AVERAGE('Monthly Storage'!V94:V123)","v":{"$error":"#DIV/0!"}},{"$f":"AVERAGE('Monthly Storage'!W94:W123)","v":{"$error":"#DIV/0!"}},{"$f":"AVERAGE('Monthly Storage'!X94:X123)","v":{"$error":"#DIV/0!"}},{"$f":"AVERAGE('Monthly Storage'!Y94:Y123)","v":{"$error":"#DIV/0!"}},{"$f":"AVERAGE('Monthly Storage'!Z94:Z123)","v":{"$error":"#DIV/0!"}},{"$f":"AVERAGE('Monthly Storage'!AA94:AA123)","v":{"$error":"#DIV/0!"}},{"$f":"AVERAGE('Monthly Storage'!AB94:AB123)","v":{"$error":"#DIV/0!"}},{"$f":"AVERAGE('Monthly Storage'!AC94:AC123)","v":{"$error":"#DIV/0!"}},{"$f":"AVERAGE('Monthly Storage'!AD94:AD123)","v":{"$error":"#DIV/0!"}},{"$f":"AVERAGE('Monthly Storage'!AE94:AE123)","v":{"$error":"#DIV/0!"}},{"$f":"AVERAGE('Monthly Storage'!AF94:AF123)","v":{"$error":"#DIV/0!"}},{"$f":"AVERAGE('Monthly Storage'!AG94:AG123)","v":{"$error":"#DIV/0!"}},{"$f":"AVERAGE('Monthly Storage'!AH94:AH123)","v":{"$error":"#DIV/0!"}},{"$f":"AVERAGE('Monthly Storage'!AI94:AI123)","v":{"$error":"#DIV/0!"}},{"$f":"AVERAGE('Monthly Storage'!AJ94:AJ123)","v":{"$error":"#DIV/0!"}},{"$f":"AVERAGE('Monthly Storage'!AK94:AK123)","v":{"$error":"#DIV/0!"}},{"$f":"AVERAGE('Monthly Storage'!AL94:AL123)","v":{"$error":"#DIV/0!"}},{"$f":"AVERAGE('Monthly Storage'!AM94:AM123)","v":{"$error":"#DIV/0!"}},{"$f":"AVERAGE('Monthly Storage'!AN94:AN123)","v":{"$error":"#DIV/0!"}},{"$f":"AVERAGE('Monthly Storage'!AO94:AO123)","v":{"$error":"#DIV/0!"}},{"$f":"AVERAGE('Monthly Storage'!AP94:AP123)","v":{"$error":"#DIV/0!"}},{"$f":"AVERAGE('Monthly Storage'!AQ94:AQ123)","v":{"$error":"#DIV/0!"}},{"$f":"AVERAGE('Monthly Storage'!AR94:AR123)","v":{"$error":"#DIV/0!"}},{"$f":"AVERAGE('Monthly Storage'!AS94:AS123)","v":{"$error":"#DIV/0!"}},{"$f":"AVERAGE('Monthly Storage'!AT94:AT123)","v":{"$error":"#DIV/0!"}},{"$f":"AVERAGE('Monthly Storage'!AU94:AU123)","v":{"$error":"#DIV/0!"}},{"$f":"AVERAGE('Monthly Storage'!AV94:AV123)","v":{"$error":"#DIV/0!"}},{"$f":"AVERAGE('Monthly Storage'!AW94:AW123)","v":{"$error":"#DIV/0!"}},{"$f":"AVERAGE('Monthly Storage'!AX94:AX123)","v":{"$error":"#DIV/0!"}},{"$f":"AVERAGE('Monthly Storage'!AY94:AY123)","v":{"$error":"#DIV/0!"}},{"$f":"AVERAGE('Monthly Storage'!AZ94:AZ123)","v":{"$error":"#DIV/0!"}},{"$f":"AVERAGE('Monthly Storage'!BA94:BA123)","v":{"$error":"#DIV/0!"}}]
[null,"พ.ค.",{"$error":"#DIV/0!"},{"$f":"AVERAGE('Monthly Storage'!D124:D154)","v":{"$error":"#DIV/0!"}},{"$f":"AVERAGE('Monthly Storage'!E124:E154)","v":{"$error":"#DIV/0!"}},{"$f":"AVERAGE('Monthly Storage'!F124:F154)","v":{"$error":"#DIV/0!"}},{"$f":"AVERAGE('Monthly Storage'!G124:G154)","v":{"$error":"#DIV/0!"}},{"$f":"AVERAGE('Monthly Storage'!H124:H154)","v":{"$error":"#DIV/0!"}},{"$f":"AVERAGE('Monthly Storage'!I124:I154)","v":{"$error":"#DIV/0!"}},{"$f":"AVERAGE('Monthly Storage'!J124:J154)","v":{"$error":"#DIV/0!"}},{"$f":"AVERAGE('Monthly Storage'!K124:K154)","v":{"$error":"#DIV/0!"}},{"$f":"AVERAGE('Monthly Storage'!L124:L154)","v":{"$error":"#DIV/0!"}},{"$f":"AVERAGE('Monthly Storage'!M124:M154)","v":{"$error":"#DIV/0!"}},{"$f":"AVERAGE('Monthly Storage'!N124:N154)","v":{"$error":"#DIV/0!"}},{"$f":"AVERAGE('Monthly Storage'!O124:O154)","v":{"$error":"#DIV/0!"}},{"$f":"AVERAGE('Monthly Storage'!P124:P154)","v":{"$error":"#DIV/0!"}},{"$f":"AVERAGE('Monthly Storage'!Q124:Q154)","v":{"$error":"#DIV/0!"}},{"$f":"AVERAGE('Monthly Storage'!R124:R154)","v":{"$error":"#DIV/0!"}},{"$f":"AVERAGE('Monthly Storage'!S124:S154)","v":{"$error":"#DIV/0!"}},{"$f":"AVERAGE('Monthly Storage'!T124:T154)","v":{"$error":"#DIV/0!"}},{"$f":"AVERAGE('Monthly Storage'!U124:U154)","v":{"$error":"#DIV/0!"}},{"$f":"AVERAGE('Monthly Storage'!V124:V154)","v":{"$error":"#DIV/0!"}},{"$f":"AVERAGE('Monthly Storage'!W124:W154)","v":{"$error":"#DIV/0!"}},{"$f":"AVERAGE('Monthly Storage'!X124:X154)","v":{"$error":"#DIV/0!"}},{"$f":"AVERAGE('Monthly Storage'!Y124:Y154)","v":{"$error":"#DIV/0!"}},{"$f":"AVERAGE('Monthly Storage'!Z124:Z154)","v":{"$error":"#DIV/0!"}},{"$f":"AVERAGE('Monthly Storage'!AA124:AA154)","v":{"$error":"#DIV/0!"}},{"$f":"AVERAGE('Monthly Storage'!AB124:AB154)","v":{"$error":"#DIV/0!"}},{"$f":"AVERAGE('Monthly Storage'!AC124:AC154)","v":{"$error":"#DIV/0!"}},{"$f":"AVERAGE('Monthly Storage'!AD124:AD154)","v":{"$error":"#DIV/0!"}},{"$f":"AVERAGE('Monthly Storage'!AE124:AE154)","v":{"$error":"#DIV/0!"}},{"$f":"AVERAGE('Monthly Storage'!AF124:AF154)","v":{"$error":"#DIV/0!"}},{"$f":"AVERAGE('Monthly Storage'!AG124:AG154)","v":{"$error":"#DIV/0!"}},{"$f":"AVERAGE('Monthly Storage'!AH124:AH154)","v":{"$error":"#DIV/0!"}},{"$f":"AVERAGE('Monthly Storage'!AI124:AI154)","v":{"$error":"#DIV/0!"}},{"$f":"AVERAGE('Monthly Storage'!AJ124:AJ154)","v":{"$error":"#DIV/0!"}},{"$f":"AVERAGE('Monthly Storage'!AK124:AK154)","v":{"$error":"#DIV/0!"}},{"$f":"AVERAGE('Monthly Storage'!AL124:AL154)","v":{"$error":"#DIV/0!"}},{"$f":"AVERAGE('Monthly Storage'!AM124:AM154)","v":{"$error":"#DIV/0!"}},{"$f":"AVERAGE('Monthly Storage'!AN124:AN154)","v":{"$error":"#DIV/0!"}},{"$f":"AVERAGE('Monthly Storage'!AO124:AO154)","v":{"$error":"#DIV/0!"}},{"$f":"AVERAGE('Monthly Storage'!AP124:AP154)","v":{"$error":"#DIV/0!"}},{"$f":"AVERAGE('Monthly Storage'!AQ124:AQ154)","v":{"$error":"#DIV/0!"}},{"$f":"AVERAGE('Monthly Storage'!AR124:AR154)","v":{"$error":"#DIV/0!"}},{"$f":"AVERAGE('Monthly Storage'!AS124:AS154)","v":{"$error":"#DIV/0!"}},{"$f":"AVERAGE('Monthly Storage'!AT124:AT154)","v":{"$error":"#DIV/0!"}},{"$f":"AVERAGE('Monthly Storage'!AU124:AU154)","v":{"$error":"#DIV/0!"}},{"$f":"AVERAGE('Monthly Storage'!AV124:AV154)","v":{"$error":"#DIV/0!"}},{"$f":"AVERAGE('Monthly Storage'!AW124:AW154)","v":{"$error":"#DIV/0!"}},{"$f":"AVERAGE('Monthly Storage'!AX124:AX154)","v":{"$error":"#DIV/0!"}},{"$f":"AVERAGE('Monthly Storage'!AY124:AY154)","v":{"$error":"#DIV/0!"}},{"$f":"AVERAGE('Monthly Storage'!AZ124:AZ154)","v":{"$error":"#DIV/0!"}},{"$f":"AVERAGE('Monthly Storage'!BA124:BA154)","v":{"$error":"#DIV/0!"}}]
[null,"มิ.ย.",{"$error":"#DIV/0!"},{"$f":"AVERAGE('Monthly Storage'!D155:D184)","v":{"$error":"#DIV/0!"}},{"$f":"AVERAGE('Monthly Storage'!E155:E184)","v":{"$error":"#DIV/0!"}},{"$f":"AVERAGE('Monthly Storage'!F155:F184)","v":{"$error":"#DIV/0!"}},{"$f":"AVERAGE('Monthly Storage'!G155:G184)","v":{"$error":"#DIV/0!"}},{"$f":"AVERAGE('Monthly Storage'!H155:H184)","v":{"$error":"#DIV/0!"}},{"$f":"AVERAGE('Monthly Storage'!I155:I184)","v":{"$error":"#DIV/0!"}},{"$f":"AVERAGE('Monthly Storage'!J155:J184)","v":{"$error":"#DIV/0!"}},{"$f":"AVERAGE('Monthly Storage'!K155:K184)","v":{"$error":"#DIV/0!"}},{"$f":"AVERAGE('Monthly Storage'!L155:L184)","v":{"$error":"#DIV/0!"}},{"$f":"AVERAGE('Monthly Storage'!M155:M184)","v":{"$error":"#DIV/0!"}},{"$f":"AVERAGE('Monthly Storage'!N155:N184)","v":{"$error":"#DIV/0!"}},{"$f":"AVERAGE('Monthly Storage'!O155:O184)","v":{"$error":"#DIV/0!"}},{"$f":"AVERAGE('Monthly Storage'!P155:P184)","v":{"$error":"#DIV/0!"}},{"$f":"AVERAGE('Monthly Storage'!Q155:Q184)","v":{"$error":"#DIV/0!"}},{"$f":"AVERAGE('Monthly Storage'!R155:R184)","v":{"$error":"#DIV/0!"}},{"$f":"AVERAGE('Monthly Storage'!S155:S184)","v":{"$error":"#DIV/0!"}},{"$f":"AVERAGE('Monthly Storage'!T155:T184)","v":{"$error":"#DIV/0!"}},{"$f":"AVERAGE('Monthly Storage'!U155:U184)","v":{"$error":"#DIV/0!"}},{"$f":"AVERAGE('Monthly Storage'!V155:V184)","v":{"$error":"#DIV/0!"}},{"$f":"AVERAGE('Monthly Storage'!W155:W184)","v":{"$error":"#DIV/0!"}},{"$f":"AVERAGE('Monthly Storage'!X155:X184)","v":{"$error":"#DIV/0!"}},{"$f":"AVERAGE('Monthly Storage'!Y155:Y184)","v":{"$error":"#DIV/0!"}},{"$f":"AVERAGE('Monthly Storage'!Z155:Z184)","v":{"$error":"#DIV/0!"}},{"$f":"AVERAGE('Monthly Storage'!AA155:AA184)","v":{"$error":"#DIV/0!"}},{"$f":"AVERAGE('Monthly Storage'!AB155:AB184)","v":{"$error":"#DIV/0!"}},{"$f":"AVERAGE('Monthly Storage'!AC155:AC184)","v":{"$error":"#DIV/0!"}},{"$f":"AVERAGE('Monthly Storage'!AD155:AD184)","v":{"$error":"#DIV/0!"}},{"$f":"AVERAGE('Monthly Storage'!AE155:AE184)","v":{"$error":"#DIV/0!"}},{"$f":"AVERAGE('Monthly Storage'!AF155:AF184)","v":{"$error":"#DIV/0!"}},{"$f":"AVERAGE('Monthly Storage'!AG155:AG184)","v":{"$error":"#DIV/0!"}},{"$f":"AVERAGE('Monthly Storage'!AH155:AH184)","v":{"$error":"#DIV/0!"}},{"$f":"AVERAGE('Monthly Storage'!AI155:AI184)","v":{"$error":"#DIV/0!"}},{"$f":"AVERAGE('Monthly Storage'!AJ155:AJ184)","v":{"$error":"#DIV/0!"}},{"$f":"AVERAGE('Monthly Storage'!AK155:AK184)","v":{"$error":"#DIV/0!"}},{"$f":"AVERAGE('Monthly Storage'!AL155:AL184)","v":{"$error":"#DIV/0!"}},{"$f":"AVERAGE('Monthly Storage'!AM155:AM184)","v":{"$error":"#DIV/0!"}},{"$f":"AVERAGE('Monthly Storage'!AN155:AN184)","v":{"$error":"#DIV/0!"}},{"$f":"AVERAGE('Monthly Storage'!AO155:AO184)","v":{"$error":"#DIV/0!"}},{"$f":"AVERAGE('Monthly Storage'!AP155:AP184)","v":{"$error":"#DIV/0!"}},{"$f":"AVERAGE('Monthly Storage'!AQ155:AQ184)","v":{"$error":"#DIV/0!"}},{"$f":"AVERAGE('Monthly Storage'!AR155:AR184)","v":{"$error":"#DIV/0!"}},{"$f":"AVERAGE('Monthly Storage'!AS155:AS184)","v":{"$error":"#DIV/0!"}},{"$f":"AVERAGE('Monthly Storage'!AT155:AT184)","v":{"$error":"#DIV/0!"}},{"$f":"AVERAGE('Monthly Storage'!AU155:AU184)","v":{"$error":"#DIV/0!"}},{"$f":"AVERAGE('Monthly Storage'!AV155:AV184)","v":{"$error":"#DIV/0!"}},{"$f":"AVERAGE('Monthly Storage'!AW155:AW184)","v":{"$error":"#DIV/0!"}},{"$f":"AVERAGE('Monthly Storage'!AX155:AX184)","v":{"$error":"#DIV/0!"}},{"$f":"AVERAGE('Monthly Storage'!AY155:AY184)","v":{"$error":"#DIV/0!"}},{"$f":"AVERAGE('Monthly Storage'!AZ155:AZ184)","v":{"$error":"#DIV/0!"}},{"$f":"AVERAGE('Monthly Storage'!BA155:BA184)","v":{"$error":"#DIV/0!"}}]
[null,"ก.ค.",{"$error":"#DIV/0!"},{"$f":"AVERAGE('Monthly Storage'!D185:D215)","v":{"$error":"#DIV/0!"}},{"$f":"AVERAGE('Monthly Storage'!E185:E215)","v":{"$error":"#DIV/0!"}},{"$f":"AVERAGE('Monthly Storage'!F185:F215)","v":{"$error":"#DIV/0!"}},{"$f":"AVERAGE('Monthly Storage'!G185:G215)","v":{"$error":"#DIV/0!"}},{"$f":"AVERAGE('Monthly Storage'!H185:H215)","v":{"$error":"#DIV/0!"}},{"$f":"AVERAGE('Monthly Storage'!I185:I215)","v":{"$error":"#DIV/0!"}},{"$f":"AVERAGE('Monthly Storage'!J185:J215)","v":{"$error":"#DIV/0!"}},{"$f":"AVERAGE('Monthly Storage'!K185:K215)","v":{"$error":"#DIV/0!"}},{"$f":"AVERAGE('Monthly Storage'!L185:L215)","v":{"$error":"#DIV/0!"}},{"$f":"AVERAGE('Monthly Storage'!M185:M215)","v":{"$error":"#DIV/0!"}},{"$f":"AVERAGE('Monthly Storage'!N185:N215)","v":{"$error":"#DIV/0!"}},{"$f":"AVERAGE('Monthly Storage'!O185:O215)","v":{"$error":"#DIV/0!"}},{"$f":"AVERAGE('Monthly Storage'!P185:P215)","v":{"$error":"#DIV/0!"}},{"$f":"AVERAGE('Monthly Storage'!Q185:Q215)","v":{"$error":"#DIV/0!"}},{"$f":"AVERAGE('Monthly Storage'!R185:R215)","v":{"$error":"#DIV/0!"}},{"$f":"AVERAGE('Monthly Storage'!S185:S215)","v":{"$error":"#DIV/0!"}},{"$f":"AVERAGE('Monthly Storage'!T185:T215)","v":{"$error":"#DIV/0!"}},{"$f":"AVERAGE('Monthly Storage'!U185:U215)","v":{"$error":"#DIV/0!"}},{"$f":"AVERAGE('Monthly Storage'!V185:V215)","v":{"$error":"#DIV/0!"}},{"$f":"AVERAGE('Monthly Storage'!W185:W215)","v":{"$error":"#DIV/0!"}},{"$f":"AVERAGE('Monthly Storage'!X185:X215)","v":{"$error":"#DIV/0!"}},{"$f":"AVERAGE('Monthly Storage'!Y185:Y215)","v":{"$error":"#DIV/0!"}},{"$f":"AVERAGE('Monthly Storage'!Z185:Z215)","v":{"$error":"#DIV/0!"}},{"$f":"AVERAGE('Monthly Storage'!AA185:AA215)","v":{"$error":"#DIV/0!"}},{"$f":"AVERAGE('Monthly Storage'!AB185:AB215)","v":{"$error":"#DIV/0!"}},{"$f":"AVERAGE('Monthly Storage'!AC185:AC215)","v":{"$error":"#DIV/0!"}},{"$f":"AVERAGE('Monthly Storage'!AD185:AD215)","v":{"$error":"#DIV/0!"}},{"$f":"AVERAGE('Monthly Storage'!AE185:AE215)","v":{"$error":"#DIV/0!"}},{"$f":"AVERAGE('Monthly Storage'!AF185:AF215)","v":{"$error":"#DIV/0!"}},{"$f":"AVERAGE('Monthly Storage'!AG185:AG215)","v":{"$error":"#DIV/0!"}},{"$f":"AVERAGE('Monthly Storage'!AH185:AH215)","v":{"$error":"#DIV/0!"}},{"$f":"AVERAGE('Monthly Storage'!AI185:AI215)","v":{"$error":"#DIV/0!"}},{"$f":"AVERAGE('Monthly Storage'!AJ185:AJ215)","v":{"$error":"#DIV/0!"}},{"$f":"AVERAGE('Monthly Storage'!AK185:AK215)","v":{"$error":"#DIV/0!"}},{"$f":"AVERAGE('Monthly Storage'!AL185:AL215)","v":{"$error":"#DIV/0!"}},{"$f":"AVERAGE('Monthly Storage'!AM185:AM215)","v":{"$error":"#DIV/0!"}},{"$f":"AVERAGE('Monthly Storage'!AN185:AN215)","v":{"$error":"#DIV/0!"}},{"$f":"AVERAGE('Monthly Storage'!AO185:AO215)","v":{"$error":"#DIV/0!"}},{"$f":"AVERAGE('Monthly Storage'!AP185:AP215)","v":{"$error":"#DIV/0!"}},{"$f":"AVERAGE('Monthly Storage'!AQ185:AQ215)","v":{"$error":"#DIV/0!"}},{"$f":"AVERAGE('Monthly Storage'!AR185:AR215)","v":{"$error":"#DIV/0!"}},{"$f":"AVERAGE('Monthly Storage'!AS185:AS215)","v":{"$error":"#DIV/0!"}},{"$f":"AVERAGE('Monthly Storage'!AT185:AT215)","v":{"$error":"#DIV/0!"}},{"$f":"AVERAGE('Monthly Storage'!AU185:AU215)","v":{"$error":"#DIV/0!"}},{"$f":"AVERAGE('Monthly Storage'!AV185:AV215)","v":{"$error":"#DIV/0!"}},{"$f":"AVERAGE('Monthly Storage'!AW185:AW215)","v":{"$error":"#DIV/0!"}},{"$f":"AVERAGE('Monthly Storage'!AX185:AX215)","v":{"$error":"#DIV/0!"}},{"$f":"AVERAGE('Monthly Storage'!AY185:AY215)","v":{"$error":"#DIV/0!"}},{"$f":"AVERAGE('Monthly Storage'!AZ185:AZ215)","v":{"$error":"#DIV/0!"}},{"$f":"AVERAGE('Monthly Storage'!BA185:BA215)","v":{"$error":"#DIV/0!"}}]
[null,"ส.ค.",{"$error":"#DIV/0!"},{"$f":"AVERAGE('Monthly Storage'!D216:D246)","v":{"$error":"#DIV/0!"}},{"$f":"AVERAGE('Monthly Storage'!E216:E246)","v":{"$error":"#DIV/0!"}},{"$f":"AVERAGE('Monthly Storage'!F216:F246)","v":{"$error":"#DIV/0!"}},{"$f":"AVERAGE('Monthly Storage'!G216:G246)","v":{"$error":"#DIV/0!"}},{"$f":"AVERAGE('Monthly Storage'!H216:H246)","v":{"$error":"#DIV/0!"}},{"$f":"AVERAGE('Monthly Storage'!I216:I246)","v":{"$error":"#DIV/0!"}},{"$f":"AVERAGE('Monthly Storage'!J216:J246)","v":{"$error":"#DIV/0!"}},{"$f":"AVERAGE('Monthly Storage'!K216:K246)","v":{"$error":"#DIV/0!"}},{"$f":"AVERAGE('Monthly Storage'!L216:L246)","v":{"$error":"#DIV/0!"}},{"$f":"AVERAGE('Monthly Storage'!M216:M246)","v":{"$error":"#DIV/0!"}},{"$f":"AVERAGE('Monthly Storage'!N216:N246)","v":{"$error":"#DIV/0!"}},{"$f":"AVERAGE('Monthly Storage'!O216:O246)","v":{"$error":"#DIV/0!"}},{"$f":"AVERAGE('Monthly Storage'!P216:P246)","v":{"$error":"#DIV/0!"}},{"$f":"AVERAGE('Monthly Storage'!Q216:Q246)","v":{"$error":"#DIV/0!"}},{"$f":"AVERAGE('Monthly Storage'!R216:R246)","v":{"$error":"#DIV/0!"}},{"$f":"AVERAGE('Monthly Storage'!S216:S246)","v":{"$error":"#DIV/0!"}},{"$f":"AVERAGE('Monthly Storage'!T216:T246)","v":{"$error":"#DIV/0!"}},{"$f":"AVERAGE('Monthly Storage'!U216:U246)","v":{"$error":"#DIV/0!"}},{"$f":"AVERAGE('Monthly Storage'!V216:V246)","v":{"$error":"#DIV/0!"}},{"$f":"AVERAGE('Monthly Storage'!W216:W246)","v":{"$error":"#DIV/0!"}},{"$f":"AVERAGE('Monthly Storage'!X216:X246)","v":{"$error":"#DIV/0!"}},{"$f":"AVERAGE('Monthly Storage'!Y216:Y246)","v":{"$error":"#DIV/0!"}},{"$f":"AVERAGE('Monthly Storage'!Z216:Z246)","v":{"$error":"#DIV/0!"}},{"$f":"AVERAGE('Monthly Storage'!AA216:AA246)","v":{"$error":"#DIV/0!"}},{"$f":"AVERAGE('Monthly Storage'!AB216:AB246)","v":{"$error":"#DIV/0!"}},{"$f":"AVERAGE('Monthly Storage'!AC216:AC246)","v":{"$error":"#DIV/0!"}},{"$f":"AVERAGE('Monthly Storage'!AD216:AD246)","v":{"$error":"#DIV/0!"}},{"$f":"AVERAGE('Monthly Storage'!AE216:AE246)","v":{"$error":"#DIV/0!"}},{"$f":"AVERAGE('Monthly Storage'!AF216:AF246)","v":{"$error":"#DIV/0!"}},{"$f":"AVERAGE('Monthly Storage'!AG216:AG246)","v":{"$error":"#DIV/0!"}},{"$f":"AVERAGE('Monthly Storage'!AH216:AH246)","v":{"$error":"#DIV/0!"}},{"$f":"AVERAGE('Monthly Storage'!AI216:AI246)","v":{"$error":"#DIV/0!"}},{"$f":"AVERAGE('Monthly Storage'!AJ216:AJ246)","v":{"$error":"#DIV/0!"}},{"$f":"AVERAGE('Monthly Storage'!AK216:AK246)","v":{"$error":"#DIV/0!"}},{"$f":"AVERAGE('Monthly Storage'!AL216:AL246)","v":{"$error":"#DIV/0!"}},{"$f":"AVERAGE('Monthly Storage'!AM216:AM246)","v":{"$error":"#DIV/0!"}},{"$f":"AVERAGE('Monthly Storage'!AN216:AN246)","v":{"$error":"#DIV/0!"}},{"$f":"AVERAGE('Monthly Storage'!AO216:AO246)","v":{"$error":"#DIV/0!"}},{"$f":"AVERAGE('Monthly Storage'!AP216:AP246)","v":{"$error":"#DIV/0!"}},{"$f":"AVERAGE('Monthly Storage'!AQ216:AQ246)","v":{"$error":"#DIV/0!"}},{"$f":"AVERAGE('Monthly Storage'!AR216:AR246)","v":{"$error":"#DIV/0!"}},{"$f":"AVERAGE('Monthly Storage'!AS216:AS246)","v":{"$error":"#DIV/0!"}},{"$f":"AVERAGE('Monthly Storage'!AT216:AT246)","v":{"$error":"#DIV/0!"}},{"$f":"AVERAGE('Monthly Storage'!AU216:AU246)","v":{"$error":"#DIV/0!"}},{"$f":"AVERAGE('Monthly Storage'!AV216:AV246)","v":{"$error":"#DIV/0!"}},{"$f":"AVERAGE('Monthly Storage'!AW216:AW246)","v":{"$error":"#DIV/0!"}},{"$f":"AVERAGE('Monthly Storage'!AX216:AX246)","v":{"$error":"#DIV/0!"}},{"$f":"AVERAGE('Monthly Storage'!AY216:AY246)","v":{"$error":"#DIV/0!"}},{"$f":"AVERAGE('Monthly Storage'!AZ216:AZ246)","v":{"$error":"#DIV/0!"}},{"$f":"AVERAGE('Monthly Storage'!BA216:BA246)","v":{"$error":"#DIV/0!"}}]
[null,"ก.ย.",{"$error":"#DIV/0!"},{"$f":"AVERAGE('Monthly Storage'!D247:D276)","v":{"$error":"#DIV/0!"}},{"$f":"AVERAGE('Monthly Storage'!E247:E276)","v":{"$error":"#DIV/0!"}},{"$f":"AVERAGE('Monthly Storage'!F247:F276)","v":{"$error":"#DIV/0!"}},{"$f":"AVERAGE('Monthly Storage'!G247:G276)","v":{"$error":"#DIV/0!"}},{"$f":"AVERAGE('Monthly Storage'!H247:H276)","v":{"$error":"#DIV/0!"}},{"$f":"AVERAGE('Monthly Storage'!I247:I276)","v":{"$error":"#DIV/0!"}},{"$f":"AVERAGE('Monthly Storage'!J247:J276)","v":{"$error":"#DIV/0!"}},{"$f":"AVERAGE('Monthly Storage'!K247:K276)","v":{"$error":"#DIV/0!"}},{"$f":"AVERAGE('Monthly Storage'!L247:L276)","v":{"$error":"#DIV/0!"}},{"$f":"AVERAGE('Monthly Storage'!M247:M276)","v":{"$error":"#DIV/0!"}},{"$f":"AVERAGE('Monthly Storage'!N247:N276)","v":{"$error":"#DIV/0!"}},{"$f":"AVERAGE('Monthly Storage'!O247:O276)","v":{"$error":"#DIV/0!"}},{"$f":"AVERAGE('Monthly Storage'!P247:P276)","v":{"$error":"#DIV/0!"}},{"$f":"AVERAGE('Monthly Storage'!Q247:Q276)","v":{"$error":"#DIV/0!"}},{"$f":"AVERAGE('Monthly Storage'!R247:R276)","v":{"$error":"#DIV/0!"}},{"$f":"AVERAGE('Monthly Storage'!S247:S276)","v":{"$error":"#DIV/0!"}},{"$f":"AVERAGE('Monthly Storage'!T247:T276)","v":{"$error":"#DIV/0!"}},{"$f":"AVERAGE('Monthly Storage'!U247:U276)","v":{"$error":"#DIV/0!"}},{"$f":"AVERAGE('Monthly Storage'!V247:V276)","v":{"$error":"#DIV/0!"}},{"$f":"AVERAGE('Monthly Storage'!W247:W276)","v":{"$error":"#DIV/0!"}},{"$f":"AVERAGE('Monthly Storage'!X247:X276)","v":{"$error":"#DIV/0!"}},{"$f":"AVERAGE('Monthly Storage'!Y247:Y276)","v":{"$error":"#DIV/0!"}},{"$f":"AVERAGE('Monthly Storage'!Z247:Z276)","v":{"$error":"#DIV/0!"}},{"$f":"AVERAGE('Monthly Storage'!AA247:AA276)","v":{"$error":"#DIV/0!"}},{"$f":"AVERAGE('Monthly Storage'!AB247:AB276)","v":{"$error":"#DIV/0!"}},{"$f":"AVERAGE('Monthly Storage'!AC247:AC276)","v":{"$error":"#DIV/0!"}},{"$f":"AVERAGE('Monthly Storage'!AD247:AD276)","v":{"$error":"#DIV/0!"}},{"$f":"AVERAGE('Monthly Storage'!AE247:AE276)","v":{"$error":"#DIV/0!"}},{"$f":"AVERAGE('Monthly Storage'!AF247:AF276)","v":{"$error":"#DIV/0!"}},{"$f":"AVERAGE('Monthly Storage'!AG247:AG276)","v":{"$error":"#DIV/0!"}},{"$f":"AVERAGE('Monthly Storage'!AH247:AH276)","v":{"$error":"#DIV/0!"}},{"$f":"AVERAGE('Monthly Storage'!AI247:AI276)","v":{"$error":"#DIV/0!"}},{"$f":"AVERAGE('Monthly Storage'!AJ247:AJ276)","v":{"$error":"#DIV/0!"}},{"$f":"AVERAGE('Monthly Storage'!AK247:AK276)","v":{"$error":"#DIV/0!"}},{"$f":"AVERAGE('Monthly Storage'!AL247:AL276)","v":{"$error":"#DIV/0!"}},{"$f":"AVERAGE('Monthly Storage'!AM247:AM276)","v":{"$error":"#DIV/0!"}},{"$f":"AVERAGE('Monthly Storage'!AN247:AN276)","v":{"$error":"#DIV/0!"}},{"$f":"AVERAGE('Monthly Storage'!AO247:AO276)","v":{"$error":"#DIV/0!"}},{"$f":"AVERAGE('Monthly Storage'!AP247:AP276)","v":{"$error":"#DIV/0!"}},{"$f":"AVERAGE('Monthly Storage'!AQ247:AQ276)","v":{"$error":"#DIV/0!"}},{"$f":"AVERAGE('Monthly Storage'!AR247:AR276)","v":{"$error":"#DIV/0!"}},{"$f":"AVERAGE('Monthly Storage'!AS247:AS276)","v":{"$error":"#DIV/0!"}},{"$f":"AVERAGE('Monthly Storage'!AT247:AT276)","v":{"$error":"#DIV/0!"}},{"$f":"AVERAGE('Monthly Storage'!AU247:AU276)","v":{"$error":"#DIV/0!"}},{"$f":"AVERAGE('Monthly Storage'!AV247:AV276)","v":{"$error":"#DIV/0!"}},{"$f":"AVERAGE('Monthly Storage'!AW247:AW276)","v":{"$error":"#DIV/0!"}},{"$f":"AVERAGE('Monthly Storage'!AX247:AX276)","v":{"$error":"#DIV/0!"}},{"$f":"AVERAGE('Monthly Storage'!AY247:AY276)","v":{"$error":"#DIV/0!"}},{"$f":"AVERAGE('Monthly Storage'!AZ247:AZ276)","v":{"$error":"#DIV/0!"}},{"$f":"AVERAGE('Monthly Storage'!BA247:BA276)","v":{"$error":"#DIV/0!"}}]
[null,"ต.ค.",{"$error":"#DIV/0!"},{"$f":"AVERAGE('Monthly Storage'!D277:D307)","v":{"$error":"#DIV/0!"}},{"$f":"AVERAGE('Monthly Storage'!E277:E307)","v":{"$error":"#DIV/0!"}},{"$f":"AVERAGE('Monthly Storage'!F277:F307)","v":{"$error":"#DIV/0!"}},{"$f":"AVERAGE('Monthly Storage'!G277:G307)","v":{"$error":"#DIV/0!"}},{"$f":"AVERAGE('Monthly Storage'!H277:H307)","v":{"$error":"#DIV/0!"}},{"$f":"AVERAGE('Monthly Storage'!I277:I307)","v":{"$error":"#DIV/0!"}},{"$f":"AVERAGE('Monthly Storage'!J277:J307)","v":{"$error":"#DIV/0!"}},{"$f":"AVERAGE('Monthly Storage'!K277:K307)","v":{"$error":"#DIV/0!"}},{"$f":"AVERAGE('Monthly Storage'!L277:L307)","v":{"$error":"#DIV/0!"}},{"$f":"AVERAGE('Monthly Storage'!M277:M307)","v":{"$error":"#DIV/0!"}},{"$f":"AVERAGE('Monthly Storage'!N277:N307)","v":{"$error":"#DIV/0!"}},{"$f":"AVERAGE('Monthly Storage'!O277:O307)","v":{"$error":"#DIV/0!"}},{"$f":"AVERAGE('Monthly Storage'!P277:P307)","v":{"$error":"#DIV/0!"}},{"$f":"AVERAGE('Monthly Storage'!Q277:Q307)","v":{"$error":"#DIV/0!"}},{"$f":"AVERAGE('Monthly Storage'!R277:R307)","v":{"$error":"#DIV/0!"}},{"$f":"AVERAGE('Monthly Storage'!S277:S307)","v":{"$error":"#DIV/0!"}},{"$f":"AVERAGE('Monthly Storage'!T277:T307)","v":{"$error":"#DIV/0!"}},{"$f":"AVERAGE('Monthly Storage'!U277:U307)","v":{"$error":"#DIV/0!"}},{"$f":"AVERAGE('Monthly Storage'!V277:V307)","v":{"$error":"#DIV/0!"}},{"$f":"AVERAGE('Monthly Storage'!W277:W307)","v":{"$error":"#DIV/0!"}},{"$f":"AVERAGE('Monthly Storage'!X277:X307)","v":{"$error":"#DIV/0!"}},{"$f":"AVERAGE('Monthly Storage'!Y277:Y307)","v":{"$error":"#DIV/0!"}},{"$f":"AVERAGE('Monthly Storage'!Z277:Z307)","v":{"$error":"#DIV/0!"}},{"$f":"AVERAGE('Monthly Storage'!AA277:AA307)","v":{"$error":"#DIV/0!"}},{"$f":"AVERAGE('Monthly Storage'!AB277:AB307)","v":{"$error":"#DIV/0!"}},{"$f":"AVERAGE('Monthly Storage'!AC277:AC307)","v":{"$error":"#DIV/0!"}},{"$f":"AVERAGE('Monthly Storage'!AD277:AD307)","v":{"$error":"#DIV/0!"}},{"$f":"AVERAGE('Monthly Storage'!AE277:AE307)","v":{"$error":"#DIV/0!"}},{"$f":"AVERAGE('Monthly Storage'!AF277:AF307)","v":{"$error":"#DIV/0!"}},{"$f":"AVERAGE('Monthly Storage'!AG277:AG307)","v":{"$error":"#DIV/0!"}},{"$f":"AVERAGE('Monthly Storage'!AH277:AH307)","v":{"$error":"#DIV/0!"}},{"$f":"AVERAGE('Monthly Storage'!AI277:AI307)","v":{"$error":"#DIV/0!"}},{"$f":"AVERAGE('Monthly Storage'!AJ277:AJ307)","v":{"$error":"#DIV/0!"}},{"$f":"AVERAGE('Monthly Storage'!AK277:AK307)","v":{"$error":"#DIV/0!"}},{"$f":"AVERAGE('Monthly Storage'!AL277:AL307)","v":{"$error":"#DIV/0!"}},{"$f":"AVERAGE('Monthly Storage'!AM277:AM307)","v":{"$error":"#DIV/0!"}},{"$f":"AVERAGE('Monthly Storage'!AN277:AN307)","v":{"$error":"#DIV/0!"}},{"$f":"AVERAGE('Monthly Storage'!AO277:AO307)","v":{"$error":"#DIV/0!"}},{"$f":"AVERAGE('Monthly Storage'!AP277:AP307)","v":{"$error":"#DIV/0!"}},{"$f":"AVERAGE('Monthly Storage'!AQ277:AQ307)","v":{"$error":"#DIV/0!"}},{"$f":"AVERAGE('Monthly Storage'!AR277:AR307)","v":{"$error":"#DIV/0!"}},{"$f":"AVERAGE('Monthly Storage'!AS277:AS307)","v":{"$error":"#DIV/0!"}},{"$f":"AVERAGE('Monthly Storage'!AT277:AT307)","v":{"$error":"#DIV/0!"}},{"$f":"AVERAGE('Monthly Storage'!AU277:AU307)","v":{"$error":"#DIV/0!"}},{"$f":"AVERAGE('Monthly Storage'!AV277:AV307)","v":{"$error":"#DIV/0!"}},{"$f":"AVERAGE('Monthly Storage'!AW277:AW307)","v":{"$error":"#DIV/0!"}},{"$f":"AVERAGE('Monthly Storage'!AX277:AX307)","v":{"$error":"#DIV/0!"}},{"$f":"AVERAGE('Monthly Storage'!AY277:AY307)","v":{"$error":"#DIV/0!"}},{"$f":"AVERAGE('Monthly Storage'!AZ277:AZ307)","v":{"$error":"#DIV/0!"}},{"$f":"AVERAGE('Monthly Storage'!BA277:BA307)","v":{"$error":"#DIV/0!"}}]
[null,"พ.ย.",{"$error":"#DIV/0!"},{"$f":"AVERAGE('Monthly Storage'!D308:D337)","v":{"$error":"#DIV/0!"}},{"$f":"AVERAGE('Monthly Storage'!E308:E337)","v":{"$error":"#DIV/0!"}},{"$f":"AVERAGE('Monthly Storage'!F308:F337)","v":{"$error":"#DIV/0!"}},{"$f":"AVERAGE('Monthly Storage'!G308:G337)","v":{"$error":"#DIV/0!"}},{"$f":"AVERAGE('Monthly Storage'!H308:H337)","v":{"$error":"#DIV/0!"}},{"$f":"AVERAGE('Monthly Storage'!I308:I337)","v":{"$error":"#DIV/0!"}},{"$f":"AVERAGE('Monthly Storage'!J308:J337)","v":{"$error":"#DIV/0!"}},{"$f":"AVERAGE('Monthly Storage'!K308:K337)","v":{"$error":"#DIV/0!"}},{"$f":"AVERAGE('Monthly Storage'!L308:L337)","v":{"$error":"#DIV/0!"}},{"$f":"AVERAGE('Monthly Storage'!M308:M337)","v":{"$error":"#DIV/0!"}},{"$f":"AVERAGE('Monthly Storage'!N308:N337)","v":{"$error":"#DIV/0!"}},{"$f":"AVERAGE('Monthly Storage'!O308:O337)","v":{"$error":"#DIV/0!"}},{"$f":"AVERAGE('Monthly Storage'!P308:P337)","v":{"$error":"#DIV/0!"}},{"$f":"AVERAGE('Monthly Storage'!Q308:Q337)","v":{"$error":"#DIV/0!"}},{"$f":"AVERAGE('Monthly Storage'!R308:R337)","v":{"$error":"#DIV/0!"}},{"$f":"AVERAGE('Monthly Storage'!S308:S337)","v":{"$error":"#DIV/0!"}},{"$f":"AVERAGE('Monthly Storage'!T308:T337)","v":{"$error":"#DIV/0!"}},{"$f":"AVERAGE('Monthly Storage'!U308:U337)","v":{"$error":"#DIV/0!"}},{"$f":"AVERAGE('Monthly Storage'!V308:V337)","v":{"$error":"#DIV/0!"}},{"$f":"AVERAGE('Monthly Storage'!W308:W337)","v":{"$error":"#DIV/0!"}},{"$f":"AVERAGE('Monthly Storage'!X308:X337)","v":{"$error":"#DIV/0!"}},{"$f":"AVERAGE('Monthly Storage'!Y308:Y337)","v":{"$error":"#DIV/0!"}},{"$f":"AVERAGE('Monthly Storage'!Z308:Z337)","v":{"$error":"#DIV/0!"}},{"$f":"AVERAGE('Monthly Storage'!AA308:AA337)","v":{"$error":"#DIV/0!"}},{"$f":"AVERAGE('Monthly Storage'!AB308:AB337)","v":{"$error":"#DIV/0!"}},{"$f":"AVERAGE('Monthly Storage'!AC308:AC337)","v":{"$error":"#DIV/0!"}},{"$f":"AVERAGE('Monthly Storage'!AD308:AD337)","v":{"$error":"#DIV/0!"}},{"$f":"AVERAGE('Monthly Storage'!AE308:AE337)","v":{"$error":"#DIV/0!"}},{"$f":"AVERAGE('Monthly Storage'!AF308:AF337)","v":{"$error":"#DIV/0!"}},{"$f":"AVERAGE('Monthly Storage'!AG308:AG337)","v":{"$error":"#DIV/0!"}},{"$f":"AVERAGE('Monthly Storage'!AH308:AH337)","v":{"$error":"#DIV/0!"}},{"$f":"AVERAGE('Monthly Storage'!AI308:AI337)","v":{"$error":"#DIV/0!"}},{"$f":"AVERAGE('Monthly Storage'!AJ308:AJ337)","v":{"$error":"#DIV/0!"}},{"$f":"AVERAGE('Monthly Storage'!AK308:AK337)","v":{"$error":"#DIV/0!"}},{"$f":"AVERAGE('Monthly Storage'!AL308:AL337)","v":{"$error":"#DIV/0!"}},{"$f":"AVERAGE('Monthly Storage'!AM308:AM337)","v":{"$error":"#DIV/0!"}},{"$f":"AVERAGE('Monthly Storage'!AN308:AN337)","v":{"$error":"#DIV/0!"}},{"$f":"AVERAGE('Monthly Storage'!AO308:AO337)","v":{"$error":"#DIV/0!"}},{"$f":"AVERAGE('Monthly Storage'!AP308:AP337)","v":{"$error":"#DIV/0!"}},{"$f":"AVERAGE('Monthly Storage'!AQ308:AQ337)","v":{"$error":"#DIV/0!"}},{"$f":"AVERAGE('Monthly Storage'!AR308:AR337)","v":{"$error":"#DIV/0!"}},{"$f":"AVERAGE('Monthly Storage'!AS308:AS337)","v":{"$error":"#DIV/0!"}},{"$f":"AVERAGE('Monthly Storage'!AT308:AT337)","v":{"$error":"#DIV/0!"}},{"$f":"AVERAGE('Monthly Storage'!AU308:AU337)","v":{"$error":"#DIV/0!"}},{"$f":"AVERAGE('Monthly Storage'!AV308:AV337)","v":{"$error":"#DIV/0!"}},{"$f":"AVERAGE('Monthly Storage'!AW308:AW337)","v":{"$error":"#DIV/0!"}},{"$f":"AVERAGE('Monthly Storage'!AX308:AX337)","v":{"$error":"#DIV/0!"}},{"$f":"AVERAGE('Monthly Storage'!AY308:AY337)","v":{"$error":"#DIV/0!"}},{"$f":"AVERAGE('Monthly Storage'!AZ308:AZ337)","v":{"$error":"#DIV/0!"}},{"$f":"AVERAGE('Monthly Storage'!BA308:BA337)","v":{"$error":"#DIV/0!"}}]
[null,"ธ.ค.",{"$error":"#DIV/0!"},{"$f":"AVERAGE('Monthly Storage'!D338:D368)","v":{"$error":"#DIV/0!"}},{"$f":"AVERAGE('Monthly Storage'!E338:E368)","v":{"$error":"#DIV/0!"}},{"$f":"AVERAGE('Monthly Storage'!F338:F368)","v":{"$error":"#DIV/0!"}},{"$f":"AVERAGE('Monthly Storage'!G338:G368)","v":{"$error":"#DIV/0!"}},{"$f":"AVERAGE('Monthly Storage'!H338:H368)","v":{"$error":"#DIV/0!"}},{"$f":"AVERAGE('Monthly Storage'!I338:I368)","v":{"$error":"#DIV/0!"}},{"$f":"AVERAGE('Monthly Storage'!J338:J368)","v":{"$error":"#DIV/0!"}},{"$f":"AVERAGE('Monthly Storage'!K338:K368)","v":{"$error":"#DIV/0!"}},{"$f":"AVERAGE('Monthly Storage'!L338:L368)","v":{"$error":"#DIV/0!"}},{"$f":"AVERAGE('Monthly Storage'!M338:M368)","v":{"$error":"#DIV/0!"}},{"$f":"AVERAGE('Monthly Storage'!N338:N368)","v":{"$error":"#DIV/0!"}},{"$f":"AVERAGE('Monthly Storage'!O338:O368)","v":{"$error":"#DIV/0!"}},{"$f":"AVERAGE('Monthly Storage'!P338:P368)","v":{"$error":"#DIV/0!"}},{"$f":"AVERAGE('Monthly Storage'!Q338:Q368)","v":{"$error":"#DIV/0!"}},{"$f":"AVERAGE('Monthly Storage'!R338:R368)","v":{"$error":"#DIV/0!"}},{"$f":"AVERAGE('Monthly Storage'!S338:S368)","v":{"$error":"#DIV/0!"}},{"$f":"AVERAGE('Monthly Storage'!T338:T368)","v":{"$error":"#DIV/0!"}},{"$f":"AVERAGE('Monthly Storage'!U338:U368)","v":{"$error":"#DIV/0!"}},{"$f":"AVERAGE('Monthly Storage'!V338:V368)","v":{"$error":"#DIV/0!"}},{"$f":"AVERAGE('Monthly Storage'!W338:W368)","v":{"$error":"#DIV/0!"}},{"$f":"AVERAGE('Monthly Storage'!X338:X368)","v":{"$error":"#DIV/0!"}},{"$f":"AVERAGE('Monthly Storage'!Y338:Y368)","v":{"$error":"#DIV/0!"}},{"$f":"AVERAGE('Monthly Storage'!Z338:Z368)","v":{"$error":"#DIV/0!"}},{"$f":"AVERAGE('Monthly Storage'!AA338:AA368)","v":{"$error":"#DIV/0!"}},{"$f":"AVERAGE('Monthly Storage'!AB338:AB368)","v":{"$error":"#DIV/0!"}},{"$f":"AVERAGE('Monthly Storage'!AC338:AC368)","v":{"$error":"#DIV/0!"}},{"$f":"AVERAGE('Monthly Storage'!AD338:AD368)","v":{"$error":"#DIV/0!"}},{"$f":"AVERAGE('Monthly Storage'!AE338:AE368)","v":{"$error":"#DIV/0!"}},{"$f":"AVERAGE('Monthly Storage'!AF338:AF368)","v":{"$error":"#DIV/0!"}},{"$f":"AVERAGE('Monthly Storage'!AG338:AG368)","v":{"$error":"#DIV/0!"}},{"$f":"AVERAGE('Monthly Storage'!AH338:AH368)","v":{"$error":"#DIV/0!"}},{"$f":"AVERAGE('Monthly Storage'!AI338:AI368)","v":{"$error":"#DIV/0!"}},{"$f":"AVERAGE('Monthly Storage'!AJ338:AJ368)","v":{"$error":"#DIV/0!"}},{"$f":"AVERAGE('Monthly Storage'!AK338:AK368)","v":{"$error":"#DIV/0!"}},{"$f":"AVERAGE('Monthly Storage'!AL338:AL368)","v":{"$error":"#DIV/0!"}},{"$f":"AVERAGE('Monthly Storage'!AM338:AM368)","v":{"$error":"#DIV/0!"}},{"$f":"AVERAGE('Monthly Storage'!AN338:AN368)","v":{"$error":"#DIV/0!"}},{"$f":"AVERAGE('Monthly Storage'!AO338:AO368)","v":{"$error":"#DIV/0!"}},{"$f":"AVERAGE('Monthly Storage'!AP338:AP368)","v":{"$error":"#DIV/0!"}},{"$f":"AVERAGE('Monthly Storage'!AQ338:AQ368)","v":{"$error":"#DIV/0!"}},{"$f":"AVERAGE('Monthly Storage'!AR338:AR368)","v":{"$error":"#DIV/0!"}},{"$f":"AVERAGE('Monthly Storage'!AS338:AS368)","v":{"$error":"#DIV/0!"}},{"$f":"AVERAGE('Monthly Storage'!AT338:AT368)","v":{"$error":"#DIV/0!"}},{"$f":"AVERAGE('Monthly Storage'!AU338:AU368)","v":{"$error":"#DIV/0!"}},{"$f":"AVERAGE('Monthly Storage'!AV338:AV368)","v":{"$error":"#DIV/0!"}},{"$f":"AVERAGE('Monthly Storage'!AW338:AW368)","v":{"$error":"#DIV/0!"}},{"$f":"AVERAGE('Monthly Storage'!AX338:AX368)","v":{"$error":"#DIV/0!"}},{"$f":"AVERAGE('Monthly Storage'!AY338:AY368)","v":{"$error":"#DIV/0!"}},{"$f":"AVERAGE('Monthly Storage'!AZ338:AZ368)","v":{"$error":"#DIV/0!"}},{"$f":"AVERAGE('Monthly Storage'!BA338:BA368)","v":{"$error":"#DIV/0!"}}]
[null,"เฉลี่ยรายปี",null,{"$f":"AVERAGE(D18:D29)","v":{"$error":"#DIV/0!"}},{"$error":"#DIV/0!"},{"$error":"#DIV/0!"},{"$error":"#DIV/0!"},{"$error":"#DIV/0!"},{"$error":"#DIV/0!"},{"$error":"#DIV/0!"},{"$error":"#DIV/0!"},{"$error":"#DIV/0!"},{"$error":"#DIV/0!"},{"$error":"#DIV/0!"},{"$error":"#DIV/0!"},{"$error":"#DIV/0!"},{"$error":"#DIV/0!"},{"$error":"#DIV/0!"},{"$error":"#DIV/0!"},{"$error":"#DIV/0!"},{"$error":"#DIV/0!"},{"$error":"#DIV/0!"},{"$error":"#DIV/0!"},{"$error":"#DIV/0!"},{"$error":"#DIV/0!"},{"$error":"#DIV/0!"},{"$error":"#DIV/0!"},{"$error":"#DIV/0!"},{"$error":"#DIV/0!"},{"$error":"#DIV/0!"},{"$error":"#DIV/0!"},{"$error":"#DIV/0!"},{"$error":"#DIV/0!"},{"$error":"#DIV/0!"},{"$error":"#DIV/0!"},{"$f":"AVERAGE(AJ18:AJ29)","v":{"$error":"#DIV/0!"}},{"$error":"#DIV/0!"},{"$error":"#DIV/0!"},{"$error":"#DIV/0!"},{"$error":"#DIV/0!"},{"$error":"#DIV/0!"},{"$error":"#DIV/0!"},{"$error":"#DIV/0!"},{"$error":"#DIV/0!"},{"$error":"#DIV/0!"},{"$error":"#DIV/0!"},{"$error":"#DIV/0!"},{"$error":"#DIV/0!"},{"$error":"#DIV/0!"},{"$error":"#DIV/0!"},{"$error":"#DIV/0!"},{"$error":"#DIV/0!"},{"$error":"#DIV/0!"}]
[]
[]
[]
[null,null,"N","α"]
[null,null,null,0.2,0.1,0.05,0.01]
[null,null,5,0.45,0.51,0.56000000000000005,0.67]
[null,null,10,0.32,0.37,0.41,0.49]
[null,null,15,0.27,0.3,0.34,0.4]
[null,null,20,0.23,0.26,0.28999999999999998,0.36]
[null,null,25,0.21,0.24,0.27,0.32]
[null,null,30,0.19,0.22,0.24,0.28999999999999998]
[null,null,35,0.18,0.2,0.23,0.27]
[null,null,40,0.17,0.19,0.21,0.25]
[null,null,45,0.16,0.18,0.2,0.24]
[null,null,50,0.15,0.17,0.19,0.23]
[null,null,51,{"$f":"IF($G$48>50,1.07/($G$48^0.5),\"1.07/√N\")","v":"1.07/√N"},{"$f":"IF($G$48>50,1.22/($G$48^0.5),\"1.22/√N\")","v":"1.22/√N"},{"$f":"IF($G$48>50,1.36/($G$48^0.5),\"1.36/√N\")","v":"1.36/√N"},{"$f":"IF($G$48>50,1.63/($G$48^0.5),\"1.63/√N\")","v":"1.63/√N"}]
[]
[null,"X1",{"$f":"OFFSET(C35,MATCH(G48,C36:C45,1),0,1,1)","v":{"$error":"#N/A"}},"X2",{"$f":"OFFSET(C35,MATCH(G48,C36:C45,1)+1,0,1,1)","v":{"$error":"#N/A"}},"X",{"$f":"COUNT(D3:IV3)","v":4},"X > 50"]
[0.01,"Y1  0.01",{"$f":"OFFSET(C35,MATCH(G48,C36:C45,1),4,1,1)","v":{"$error":"#N/A"}},"Y2  0.01",{"$f":"OFFSET(C35,MATCH(G48,C36:C45,1)+1,4,1,1)","v":{"$error":"#N/A"}},"Y 0.01",{"$f":"C49+((E49-C49)*(G48-C48)/(E48-C48))","v":{"$error":"#N/A"}},{"$f":"IF(G48>50,D46,\"\")","v":""}]
[0.05,"Y1  0.05",{"$f":"OFFSET(C35,MATCH(G48,C36:C45,1),3,1,1)","v":{"$error":"#N/A"}},"Y2  0.05",{"$f":"OFFSET(C35,MATCH(G48,C36:C45,1)+1,3,1,1)","v":{"$error":"#N/A"}},"Y 0.05",{"$f":"C50+((E50-C50)*(G48-C48)/(E48-C48))","v":{"$error":"#N/A"}},{"$f":"IF(G48>50,E46,\"\")","v":""}]
[0.1,"Y1  0.10",{"$f":"OFFSET(C35,MATCH(G48,C36:C45,1),2,1,1)","v":{"$error":"#N/A"}},"Y2  0.10",{"$f":"OFFSET(C35,MATCH(G48,C36:C45,1)+1,2,1,1)","v":{"$error":"#N/A"}},"Y 0.10",{"$f":"C51+((E51-C51)*(G48-C48)/(E48-C48))","v":{"$error":"#N/A"}},{"$f":"IF(G48>50,F46,\"\")","v":""}]
[0.2,"Y1  0.20",{"$f":"OFFSET(C35,MATCH(G48,C36:C45,1),1,1,1)","v":{"$error":"#N/A"}},"Y2  0.20",{"$f":"OFFSET(C35,MATCH(G48,C36:C45,1)+1,1,1,1)","v":{"$error":"#N/A"}},"Y 0.20",{"$f":"C52+((E52-C52)*(G48-C48)/(E48-C48))","v":{"$error":"#N/A"}},{"$f":"IF(G48>50,G46,\"\")","v":""}]
[]
[]
[]
[]
[]
[null,null,"จำนวนปี",{"$f":"COUNT(D3:IV3)","v":4},{"$f":"ROUND(($D$58)*0.2,0)","v":1},{"$f":"ROUND(($D$58)*0.8,0)","v":3}]
[null,"เดือน","ปีน้ำแล้ว 20%","ปีน้ำมาก 80%","น้ำแล้ง 20%","น้ำมาก 80%",null,"น้ำแล้ง",null,null,"น้ำมาก"]
[null,null,{"$f":"OFFSET(C3,0,MATCH(C73,D30:AP30,0),1,1)+543","v":{"$error":"#DIV/0!"}},{"$f":"OFFSET(C3,0,MATCH(D73,D30:AP30,0),1,1)+543","v":{"$error":"#DIV/0!"}},"ประจำเดือน","ประจำเดือน",null,"ระดับ","ปี พ.ศ.","ค่าเฉลี่ยนรายปี","ระดับ","ปี พ.ศ.","ค่าเฉลี่ยนรายปี"]
["ค่าปริมาณน้ำเฉลี่ยรายเดือน","ม.ค.",{"$f":"OFFSET(C18,0,MATCH($C$73,$D$30:$AP$30,0),1,1)","v":{"$error":"#DIV/0!"}},{"$f":"OFFSET(C18,0,MATCH($D$73,$D$30:$AP$30,0),1,1)","v":{"$error":"#DIV/0!"}},{"$f":"SMALL(OFFSET(D18,0,0,1,$D$58),ROUND(($D$58)*0.2,0))","v":{"$error":"#DIV/0!"}},{"$f":"SMALL(OFFSET(D18,0,0,1,$D$58),ROUND(($D$58)*0.8,0))","v":{"$error":"#DIV/0!"}},1,{"$f":"IF(G61<=$E$58,G61/$E$58*0.2,\"\")","v":0.2},{"$f":"IF(H61<>\"\",OFFSET($C$3,0,MATCH(J61,$D$30:$AP$30,0),1,1)+543,\"\")","v":{"$error":"#DIV/0!"}},{"$f":"IF(H61<>\"\",SMALL(OFFSET($D$30,0,0,1,$D$58),ROUND(($D$58)*H61,0)),\"\")","v":{"$error":"#DIV/0!"}},{"$f":"IF(G71<=$D$58,ROUND((G71/$D$58*100),1)/100,\"\")","v":0.75},{"$f":"IF(K61<>\"\",OFFSET($C$3,0,MATCH(M61,$D$30:$AP$30,0),1,1)+543,\"\")","v":{"$error":"#DIV/0!"}},{"$f":"IF(K61<>\"\",SMALL(OFFSET($D$30,0,0,1,$D$58),ROUND(($D$58)*K61,0)),\"\")","v":{"$error":"#DIV/0!"}}]
[null,"ก.พ.",{"$error":"#DIV/0!"},{"$error":"#DIV/0!"},{"$error":"#DIV/0!"},{"$error":"#DIV/0!"},2,"",{"$f":"IF(H62<>\"\",OFFSET($C$3,0,MATCH(J62,$D$30:$AP$30,0),1,1)+543,\"\")","v":""},"",1,{"$f":"IF(K62<>\"\",OFFSET($C$3,0,MATCH(M62,$D$30:$AP$30,0),1,1)+543,\"\")","v":{"$error":"#DIV/0!"}},{"$error":"#DIV/0!"}]
[null,"มี.ค.",{"$error":"#DIV/0!"},{"$error":"#DIV/0!"},{"$error":"#DIV/0!"},{"$error":"#DIV/0!"},3,"","","","","",""]
[null,"เม.ย.",{"$error":"#DIV/0!"},{"$error":"#DIV/0!"},{"$error":"#DIV/0!"},{"$error":"#DIV/0!"},4,"","","","","",""]
[null,"พ.ค.",{"$error":"#DIV/0!"},{"$error":"#DIV/0!"},{"$error":"#DIV/0!"},{"$error":"#DIV/0!"},5,"","","","","",""]
[null,"มิ.ย.",{"$error":"#DIV/0!"},{"$error":"#DIV/0!"},{"$error":"#DIV/0!"},{"$error":"#DIV/0!"},6,"","","","","",""]
[null,"ก.ค.",{"$error":"#DIV/0!"},{"$error":"#DIV/0!"},{"$error":"#DIV/0!"},{"$error":"#DIV/0!"},7,"","","","","",""]
[null,"ส.ค.",{"$error":"#DIV/0!"},{"$error":"#DIV/0!"},{"$error":"#DIV/0!"},{"$error":"#DIV/0!"},8,"","","","","",""]
[null,"ก.ย.",{"$error":"#DIV/0!"},{"$error":"#DIV/0!"},{"$error":"#DIV/0!"},{"$error":"#DIV/0!"},9,"","","","","",""]
[null,"ต.ค.",{"$error":"#DIV/0!"},{"$error":"#DIV/0!"},{"$error":"#DIV/0!"},{"$error":"#DIV/0!"},10,"","","","","",""]
[null,"พ.ย.",{"$error":"#DIV/0!"},{"$error":"#DIV/0!"},{"$error":"#DIV/0!"},{"$error":"#DIV/0!"},{"$f":"F58","v":3}]
[null,"ธ.ค.",{"$error":"#DIV/0!"},{"$error":"#DIV/0!"},{"$error":"#DIV/0!"},{"$error":"#DIV/0!"},{"$f":"G71+1","v":4}]
[null,"ค่าเฉลี่ยรายปี",{"$f":"SMALL(OFFSET(D30,0,0,1,$D$58),ROUND((D58)*0.2,0))","v":{"$error":"#DIV/0!"}},{"$f":"SMALL(OFFSET(D30,0,0,1,$D$58),ROUND((D58)*0.8,0))","v":{"$error":"#DIV/0!"}},null,null,5]
[null,null,null,null,null,null,6]
[null,null,null,null,null,null,7]
[null,null,null,null,null,null,8]
[null,null,null,null,null,null,9]
[null,null,null,null,null,null,10]
[null,null,null,null,null,null,11]
[null,null,null,null,null,null,12]

{"sheet":"NRI","index":4,"n_rows":131,"n_cols":15,"rows_kept":131,"cut":false,"hidden":false,"merged":[[0,2,0,12],[4,17,5,19],[0,14,0,15],[57,1,57,9]]}
[null,1,"Copy ค่า NRI และใส่ข้อมูลอ่างเก็บน้ำ"]
["Monthly NRI","ม.ค.","ก.พ.","มี.ค.","เม.ย.","พ.ค.","มิ.ย.","ก.ค.","ส.ค.","ก.ย.","ต.ค.","พ.ย.","ธ.ค.",null,"เก็บกักปกติ"]
["Year/Month","Jan","Feb","Mar","Apr","May","Jun","Jul","Aug","Sep","Oct","Nov","Dec",null,"เก็บกักต่ำสุด"]
[1986]
[1987]
[1988]
[1989]
[1990]
[1991]
[1992]
[1993]
[1994]
[1995]
[1996]
[1997]
[1998]
[1999]
[2000]
[2001]
[2002]
[2003]
[2004]
[2005]
[2006]
[2007]
[2008]
[2009]
[2010]
[2011]
[2012]
[2013]
[2014]
[2015]
[2016]
[2017]
[2018]
[null,"","","","","","","","","","","",""]
[null,"","","","","","","","","","","",""]
[null,"","","","","","","","","","","",""]
[null,"","","","","","","","","","","",""]
[null,"","","","","","","","","","","",""]
[null,"","","","","","","","","","","",""]
[null,"","","","","","","","","","","",""]
[null,"","","","","","","","","","","",""]
[null,"","","","","","","","","","","",""]
[null,"","","","","","","","","","","",""]
[null,"","","","","","","","","","","",""]
[null,"","","","","","","","","","","",""]
[null,"","","","","","","","","","","",""]
[null,"","","","","","","","","","","",""]
[null,"","","","","","","","","","","",""]
[null,"","","","","","","","","","","",""]
[null,"","","","","","","","","","","",""]
["Mean",{"$f":"AVERAGE(B4:B42)","v":{"$error":"#DIV/0!"}},{"$f":"AVERAGE(C4:C42)","v":{"$error":"#DIV/0!"}},{"$error":"#DIV/0!"},{"$error":"#DIV/0!"},{"$error":"#DIV/0!"},{"$error":"#DIV/0!"},{"$error":"#DIV/0!"},{"$error":"#DIV/0!"},{"$error":"#DIV/0!"},{"$error":"#DIV/0!"},{"$error":"#DIV/0!"},{"$error":"#DIV/0!"}]
[]
[]
[]
[2,"กราฟแบ่งฤดู"]
[null,null,null,null,null,null,null,null,null,null,{"$f":"SUM(OFFSET('NRI (Auto)'!A133,0,MATCH(1,'NRI (Auto)'!B136:Y136,1),1,12))","v":{"$error":"#N/A"}},{"$f":"((MIN('NRI (Auto)'!B133:Y133)*(MIN('NRI (Auto)'!B133:Y133)*-1+1))/2)+12+MIN('NRI (Auto)'!B133:Y133)","v":{"$error":"#DIV/0!"}}]
[null,null,null,null,null,null,null,null,null,null,null,{"$f":"L59+2","v":{"$error":"#DIV/0!"}}]
[]
[]
[]
[]
[]
[]
[]
[]
[]
[]
[]
[]
[]
[]
[]
[]
[]
[]
[]
[3,"ใส่ NRI รายเดือน"]
["ปี ค.ศ.","ปี พ.ศ.","ม.ค.","ก.พ.","มี.ค.","เม.ย.","พ.ค.","มิ.ย.","ก.ค.","ส.ค.","ก.ย.","ต.ค.","พ.ย.","ธ.ค."]
[{"$f":"A4","v":1986},{"$f":"A82+543","v":2529}]
[{"$f":"A82+1","v":1987},{"$f":"A83+543","v":2530}]
[{"$f":"A83+1","v":1988},2531]
[1989,2532]
[1990,2533]
[1991,2534]
[1992,2535]
[1993,2536]
[1994,2537]
[1995,2538]
[1996,2539]
[1997,2540]
[1998,2541]
[1999,2542]
[2000,2543]
[2001,2544]
[2002,2545]
[2003,2546]
[2004,2547]
[2005,2548]
[2006,2549]
[2007,2550]
[2008,2551]
[2009,2552]
[2010,2553]
[2011,2554]
[2012,2555]
[2013,2556]
[2014,2557]
[2015,2558]
[2016,2559]
[2017,2560]
[2018,2561]
[2019,2562]
[2020,2563]
[2021,2564]
[2022,2565]
[2023,2566]
[2024,2567]
[{"$f":"A120+1","v":2025},2568]
[2026,2569]
[2027,2570]
[2028,2571]
[2029,2572]
[2030,2573]
[2031,2574]
[2032,2575]
[2033,2576]
[2034,2577]
[2035,2578]

{"sheet":"NRI (Auto)","index":5,"n_rows":244,"n_cols":41,"rows_kept":244,"cut":false,"hidden":true,"merged":[[57,1,57,9]]}
[null,1]
["Monthly NRI","ม.ค.","ก.พ.","มี.ค.","เม.ย.","พ.ค.","มิ.ย.","ก.ค.","ส.ค.","ก.ย.","ต.ค.","พ.ย.","ธ.ค."]
["Year/Month","Jan","Feb","Mar","Apr","May","Jun","Jul","Aug","Sep","Oct","Nov","Dec"]
[{"$f":"'หา NRI'!D3","v":1986},{"$f":"IF(NRI!B4<>\"\",NRI!B4,\"\")","v":""},{"$f":"IF(NRI!C4<>\"\",NRI!C4,\"\")","v":""},{"$f":"IF(NRI!D4<>\"\",NRI!D4,\"\")","v":""},{"$f":"IF(NRI!E4<>\"\",NRI!E4,\"\")","v":""},{"$f":"IF(NRI!F4<>\"\",NRI!F4,\"\")","v":""},{"$f":"IF(NRI!G4<>\"\",NRI!G4,\"\")","v":""},{"$f":"IF(NRI!H4<>\"\",NRI!H4,\"\")","v":""},{"$f":"IF(NRI!I4<>\"\",NRI!I4,\"\")","v":""},{"$f":"IF(NRI!J4<>\"\",NRI!J4,\"\")","v":""},{"$f":"IF(NRI!K4<>\"\",NRI!K4,\"\")","v":""},{"$f":"IF(NRI!L4<>\"\",NRI!L4,\"\")","v":""},{"$f":"IF(NRI!M4<>\"\",NRI!M4,\"\")","v":""},null,null,null,"URC VAR",null,null,"LRC VAR"]
[{"$f":"A4+1","v":1987},{"$f":"IF(NRI!B5<>\"\",NRI!B5,\"\")","v":""},{"$f":"IF(NRI!C5<>\"\",NRI!C5,\"\")","v":""},{"$f":"IF(NRI!D5<>\"\",NRI!D5,\"\")","v":""},{"$f":"IF(NRI!E5<>\"\",NRI!E5,\"\")","v":""},{"$f":"IF(NRI!F5<>\"\",NRI!F5,\"\")","v":""},{"$f":"IF(NRI!G5<>\"\",NRI!G5,\"\")","v":""},{"$f":"IF(NRI!H5<>\"\",NRI!H5,\"\")","v":""},{"$f":"IF(NRI!I5<>\"\",NRI!I5,\"\")","v":""},{"$f":"IF(NRI!J5<>\"\",NRI!J5,\"\")","v":""},{"$f":"IF(NRI!K5<>\"\",NRI!K5,\"\")","v":""},{"$f":"IF(NRI!L5<>\"\",NRI!L5,\"\")","v":""},{"$f":"IF(NRI!M5<>\"\",NRI!M5,\"\")","v":""},null,"เดือน","check URC","0 ต้นฤดูแล้ง","เดือน","check LRC","0 ต้นฤดูฝน"]
[1988,{"$f":"IF(NRI!B6<>\"\",NRI!B6,\"\")","v":""},{"$f":"IF(NRI!C6<>\"\",NRI!C6,\"\")","v":""},{"$f":"IF(NRI!D6<>\"\",NRI!D6,\"\")","v":""},{"$f":"IF(NRI!E6<>\"\",NRI!E6,\"\")","v":""},{"$f":"IF(NRI!F6<>\"\",NRI!F6,\"\")","v":""},{"$f":"IF(NRI!G6<>\"\",NRI!G6,\"\")","v":""},{"$f":"IF(NRI!H6<>\"\",NRI!H6,\"\")","v":""},{"$f":"IF(NRI!I6<>\"\",NRI!I6,\"\")","v":""},{"$f":"IF(NRI!J6<>\"\",NRI!J6,\"\")","v":""},{"$f":"IF(NRI!K6<>\"\",NRI!K6,\"\")","v":""},{"$f":"IF(NRI!L6<>\"\",NRI!L6,\"\")","v":""},{"$f":"IF(NRI!M6<>\"\",NRI!M6,\"\")","v":""},null,1,{"$f":"B135","v":{"$error":"#DIV/0!"}},{"$f":"IF(P6=0,1,0)","v":{"$error":"#DIV/0!"}},1,{"$f":"IF(B54>0,1+S17,0)","v":{"$error":"#DIV/0!"}},{"$f":"IF(S6=1,0,1)","v":{"$error":"#DIV/0!"}}]
[1989,{"$f":"IF(NRI!B7<>\"\",NRI!B7,\"\")","v":""},{"$f":"IF(NRI!C7<>\"\",NRI!C7,\"\")","v":""},{"$f":"IF(NRI!D7<>\"\",NRI!D7,\"\")","v":""},{"$f":"IF(NRI!E7<>\"\",NRI!E7,\"\")","v":""},{"$f":"IF(NRI!F7<>\"\",NRI!F7,\"\")","v":""},{"$f":"IF(NRI!G7<>\"\",NRI!G7,\"\")","v":""},{"$f":"IF(NRI!H7<>\"\",NRI!H7,\"\")","v":""},{"$f":"IF(NRI!I7<>\"\",NRI!I7,\"\")","v":""},{"$f":"IF(NRI!J7<>\"\",NRI!J7,\"\")","v":""},{"$f":"IF(NRI!K7<>\"\",NRI!K7,\"\")","v":""},{"$f":"IF(NRI!L7<>\"\",NRI!L7,\"\")","v":""},{"$f":"IF(NRI!M7<>\"\",NRI!M7,\"\")","v":""},null,2,{"$f":"C135","v":{"$error":"#DIV/0!"}},{"$f":"IF(P7=0,1,IF(P6=P7,1,0))","v":{"$error":"#DIV/0!"}},2,{"$f":"IF(C54>0,1+S6,0)","v":{"$error":"#DIV/0!"}},{"$f":"IF(S7=1,0,1)","v":{"$error":"#DIV/0!"}}]
[1990,{"$f":"IF(NRI!B8<>\"\",NRI!B8,\"\")","v":""},{"$f":"IF(NRI!C8<>\"\",NRI!C8,\"\")","v":""},{"$f":"IF(NRI!D8<>\"\",NRI!D8,\"\")","v":""},{"$f":"IF(NRI!E8<>\"\",NRI!E8,\"\")","v":""},{"$f":"IF(NRI!F8<>\"\",NRI!F8,\"\")","v":""},{"$f":"IF(NRI!G8<>\"\",NRI!G8,\"\")","v":""},{"$f":"IF(NRI!H8<>\"\",NRI!H8,\"\")","v":""},{"$f":"IF(NRI!I8<>\"\",NRI!I8,\"\")","v":""},{"$f":"IF(NRI!J8<>\"\",NRI!J8,\"\")","v":""},{"$f":"IF(NRI!K8<>\"\",NRI!K8,\"\")","v":""},{"$f":"IF(NRI!L8<>\"\",NRI!L8,\"\")","v":""},{"$f":"IF(NRI!M8<>\"\",NRI!M8,\"\")","v":""},null,3,{"$f":"D135","v":{"$error":"#DIV/0!"}},{"$error":"#DIV/0!"},3,{"$f":"IF(D54>0,1+S7,0)","v":{"$error":"#DIV/0!"}},{"$error":"#DIV/0!"}]
[1991,{"$f":"IF(NRI!B9<>\"\",NRI!B9,\"\")","v":""},{"$f":"IF(NRI!C9<>\"\",NRI!C9,\"\")","v":""},{"$f":"IF(NRI!D9<>\"\",NRI!D9,\"\")","v":""},{"$f":"IF(NRI!E9<>\"\",NRI!E9,\"\")","v":""},{"$f":"IF(NRI!F9<>\"\",NRI!F9,\"\")","v":""},{"$f":"IF(NRI!G9<>\"\",NRI!G9,\"\")","v":""},{"$f":"IF(NRI!H9<>\"\",NRI!H9,\"\")","v":""},{"$f":"IF(NRI!I9<>\"\",NRI!I9,\"\")","v":""},{"$f":"IF(NRI!J9<>\"\",NRI!J9,\"\")","v":""},{"$f":"IF(NRI!K9<>\"\",NRI!K9,\"\")","v":""},{"$f":"IF(NRI!L9<>\"\",NRI!L9,\"\")","v":""},{"$f":"IF(NRI!M9<>\"\",NRI!M9,\"\")","v":""},null,4,{"$f":"E135","v":{"$error":"#DIV/0!"}},{"$error":"#DIV/0!"},4,{"$f":"IF(E54>0,1+S8,0)","v":{"$error":"#DIV/0!"}},{"$error":"#DIV/0!"}]
[1992,{"$f":"IF(NRI!B10<>\"\",NRI!B10,\"\")","v":""},{"$f":"IF(NRI!C10<>\"\",NRI!C10,\"\")","v":""},{"$f":"IF(NRI!D10<>\"\",NRI!D10,\"\")","v":""},{"$f":"IF(NRI!E10<>\"\",NRI!E10,\"\")","v":""},{"$f":"IF(NRI!F10<>\"\",NRI!F10,\"\")","v":""},{"$f":"IF(NRI!G10<>\"\",NRI!G10,\"\")","v":""},{"$f":"IF(NRI!H10<>\"\",NRI!H10,\"\")","v":""},{"$f":"IF(NRI!I10<>\"\",NRI!I10,\"\")","v":""},{"$f":"IF(NRI!J10<>\"\",NRI!J10,\"\")","v":""},{"$f":"IF(NRI!K10<>\"\",NRI!K10,\"\")","v":""},{"$f":"IF(NRI!L10<>\"\",NRI!L10,\"\")","v":""},{"$f":"IF(NRI!M10<>\"\",NRI!M10,\"\")","v":""},null,5,{"$f":"F135","v":{"$error":"#DIV/0!"}},{"$error":"#DIV/0!"},5,{"$f":"IF(F54>0,1+S9,0)","v":{"$error":"#DIV/0!"}},{"$error":"#DIV/0!"}]
[1993,{"$f":"IF(NRI!B11<>\"\",NRI!B11,\"\")","v":""},{"$f":"IF(NRI!C11<>\"\",NRI!C11,\"\")","v":""},{"$f":"IF(NRI!D11<>\"\",NRI!D11,\"\")","v":""},{"$f":"IF(NRI!E11<>\"\",NRI!E11,\"\")","v":""},{"$f":"IF(NRI!F11<>\"\",NRI!F11,\"\")","v":""},{"$f":"IF(NRI!G11<>\"\",NRI!G11,\"\")","v":""},{"$f":"IF(NRI!H11<>\"\",NRI!H11,\"\")","v":""},{"$f":"IF(NRI!I11<>\"\",NRI!I11,\"\")","v":""},{"$f":"IF(NRI!J11<>\"\",NRI!J11,\"\")","v":""},{"$f":"IF(NRI!K11<>\"\",NRI!K11,\"\")","v":""},{"$f":"IF(NRI!L11<>\"\",NRI!L11,\"\")","v":""},{"$f":"IF(NRI!M11<>\"\",NRI!M11,\"\")","v":""},null,6,{"$f":"G135","v":{"$error":"#DIV/0!"}},{"$error":"#DIV/0!"},6,{"$f":"IF(G54>0,1+S10,0)","v":{"$error":"#DIV/0!"}},{"$error":"#DIV/0!"}]
[1994,{"$f":"IF(NRI!B12<>\"\",NRI!B12,\"\")","v":""},{"$f":"IF(NRI!C12<>\"\",NRI!C12,\"\")","v":""},{"$f":"IF(NRI!D12<>\"\",NRI!D12,\"\")","v":""},{"$f":"IF(NRI!E12<>\"\",NRI!E12,\"\")","v":""},{"$f":"IF(NRI!F12<>\"\",NRI!F12,\"\")","v":""},{"$f":"IF(NRI!G12<>\"\",NRI!G12,\"\")","v":""},{"$f":"IF(NRI!H12<>\"\",NRI!H12,\"\")","v":""},{"$f":"IF(NRI!I12<>\"\",NRI!I12,\"\")","v":""},{"$f":"IF(NRI!J12<>\"\",NRI!J12,\"\")","v":""},{"$f":"IF(NRI!K12<>\"\",NRI!K12,\"\")","v":""},{"$f":"IF(NRI!L12<>\"\",NRI!L12,\"\")","v":""},{"$f":"IF(NRI!M12<>\"\",NRI!M12,\"\")","v":""},null,7,{"$f":"H135","v":{"$error":"#DIV/0!"}},{"$error":"#DIV/0!"},7,{"$f":"IF(H54>0,1+S11,0)","v":{"$error":"#DIV/0!"}},{"$error":"#DIV/0!"}]
[1995,{"$f":"IF(NRI!B13<>\"\",NRI!B13,\"\")","v":""},{"$f":"IF(NRI!C13<>\"\",NRI!C13,\"\")","v":""},{"$f":"IF(NRI!D13<>\"\",NRI!D13,\"\")","v":""},{"$f":"IF(NRI!E13<>\"\",NRI!E13,\"\")","v":""},{"$f":"IF(NRI!F13<>\"\",NRI!F13,\"\")","v":""},{"$f":"IF(NRI!G13<>\"\",NRI!G13,\"\")","v":""},{"$f":"IF(NRI!H13<>\"\",NRI!H13,\"\")","v":""},{"$f":"IF(NRI!I13<>\"\",NRI!I13,\"\")","v":""},{"$f":"IF(NRI!J13<>\"\",NRI!J13,\"\")","v":""},{"$f":"IF(NRI!K13<>\"\",NRI!K13,\"\")","v":""},{"$f":"IF(NRI!L13<>\"\",NRI!L13,\"\")","v":""},{"$f":"IF(NRI!M13<>\"\",NRI!M13,\"\")","v":""},null,8,{"$f":"I135","v":{"$error":"#DIV/0!"}},{"$error":"#DIV/0!"},8,{"$f":"IF(I54>0,1+S12,0)","v":{"$error":"#DIV/0!"}},{"$error":"#DIV/0!"}]
[1996,{"$f":"IF(NRI!B14<>\"\",NRI!B14,\"\")","v":""},{"$f":"IF(NRI!C14<>\"\",NRI!C14,\"\")","v":""},{"$f":"IF(NRI!D14<>\"\",NRI!D14,\"\")","v":""},{"$f":"IF(NRI!E14<>\"\",NRI!E14,\"\")","v":""},{"$f":"IF(NRI!F14<>\"\",NRI!F14,\"\")","v":""},{"$f":"IF(NRI!G14<>\"\",NRI!G14,\"\")","v":""},{"$f":"IF(NRI!H14<>\"\",NRI!H14,\"\")","v":""},{"$f":"IF(NRI!I14<>\"\",NRI!I14,\"\")","v":""},{"$f":"IF(NRI!J14<>\"\",NRI!J14,\"\")","v":""},{"$f":"IF(NRI!K14<>\"\",NRI!K14,\"\")","v":""},{"$f":"IF(NRI!L14<>\"\",NRI!L14,\"\")","v":""},{"$f":"IF(NRI!M14<>\"\",NRI!M14,\"\")","v":""},null,9,{"$f":"J135","v":{"$error":"#DIV/0!"}},{"$error":"#DIV/0!"},9,{"$f":"IF(J54>0,1+S13,0)","v":{"$error":"#DIV/0!"}},{"$error":"#DIV/0!"}]
[1997,{"$f":"IF(NRI!B15<>\"\",NRI!B15,\"\")","v":""},{"$f":"IF(NRI!C15<>\"\",NRI!C15,\"\")","v":""},{"$f":"IF(NRI!D15<>\"\",NRI!D15,\"\")","v":""},{"$f":"IF(NRI!E15<>\"\",NRI!E15,\"\")","v":""},{"$f":"IF(NRI!F15<>\"\",NRI!F15,\"\")","v":""},{"$f":"IF(NRI!G15<>\"\",NRI!G15,\"\")","v":""},{"$f":"IF(NRI!H15<>\"\",NRI!H15,\"\")","v":""},{"$f":"IF(NRI!I15<>\"\",NRI!I15,\"\")","v":""},{"$f":"IF(NRI!J15<>\"\",NRI!J15,\"\")","v":""},{"$f":"IF(NRI!K15<>\"\",NRI!K15,\"\")","v":""},{"$f":"IF(NRI!L15<>\"\",NRI!L15,\"\")","v":""},{"$f":"IF(NRI!M15<>\"\",NRI!M15,\"\")","v":""},null,10,{"$f":"K135","v":{"$error":"#DIV/0!"}},{"$error":"#DIV/0!"},10,{"$f":"IF(K54>0,1+S14,0)","v":{"$error":"#DIV/0!"}},{"$error":"#DIV/0!"}]
[1998,{"$f":"IF(NRI!B16<>\"\",NRI!B16,\"\")","v":""},{"$f":"IF(NRI!C16<>\"\",NRI!C16,\"\")","v":""},{"$f":"IF(NRI!D16<>\"\",NRI!D16,\"\")","v":""},{"$f":"IF(NRI!E16<>\"\",NRI!E16,\"\")","v":""},{"$f":"IF(NRI!F16<>\"\",NRI!F16,\"\")","v":""},{"$f":"IF(NRI!G16<>\"\",NRI!G16,\"\")","v":""},{"$f":"IF(NRI!H16<>\"\",NRI!H16,\"\")","v":""},{"$f":"IF(NRI!I16<>\"\",NRI!I16,\"\")","v":""},{"$f":"IF(NRI!J16<>\"\",NRI!J16,\"\")","v":""},{"$f":"IF(NRI!K16<>\"\",NRI!K16,\"\")","v":""},{"$f":"IF(NRI!L16<>\"\",NRI!L16,\"\")","v":""},{"$f":"IF(NRI!M16<>\"\",NRI!M16,\"\")","v":""},null,11,{"$f":"L135","v":{"$error":"#DIV/0!"}},{"$f":"IF(P16=0,1,IF(P15=P16,1,0))","v":{"$error":"#DIV/0!"}},11,{"$f":"IF(L54>0,1+S15,0)","v":{"$error":"#DIV/0!"}},{"$error":"#DIV/0!"}]
[1999,{"$f":"IF(NRI!B17<>\"\",NRI!B17,\"\")","v":""},{"$f":"IF(NRI!C17<>\"\",NRI!C17,\"\")","v":""},{"$f":"IF(NRI!D17<>\"\",NRI!D17,\"\")","v":""},{"$f":"IF(NRI!E17<>\"\",NRI!E17,\"\")","v":""},{"$f":"IF(NRI!F17<>\"\",NRI!F17,\"\")","v":""},{"$f":"IF(NRI!G17<>\"\",NRI!G17,\"\")","v":""},{"$f":"IF(NRI!H17<>\"\",NRI!H17,\"\")","v":""},{"$f":"IF(NRI!I17<>\"\",NRI!I17,\"\")","v":""},{"$f":"IF(NRI!J17<>\"\",NRI!J17,\"\")","v":""},{"$f":"IF(NRI!K17<>\"\",NRI!K17,\"\")","v":""},{"$f":"IF(NRI!L17<>\"\",NRI!L17,\"\")","v":""},{"$f":"IF(NRI!M17<>\"\",NRI!M17,\"\")","v":""},null,12,{"$f":"M135","v":{"$error":"#DIV/0!"}},{"$f":"IF(P17=0,1,IF(P16=P17,1,0))","v":{"$error":"#DIV/0!"}},12,{"$f":"IF(M54>0,1+Y55,0)","v":{"$error":"#DIV/0!"}},{"$error":"#DIV/0!"}]
[2000,{"$f":"IF(NRI!B18<>\"\",NRI!B18,\"\")","v":""},{"$f":"IF(NRI!C18<>\"\",NRI!C18,\"\")","v":""},{"$f":"IF(NRI!D18<>\"\",NRI!D18,\"\")","v":""},{"$f":"IF(NRI!E18<>\"\",NRI!E18,\"\")","v":""},{"$f":"IF(NRI!F18<>\"\",NRI!F18,\"\")","v":""},{"$f":"IF(NRI!G18<>\"\",NRI!G18,\"\")","v":""},{"$f":"IF(NRI!H18<>\"\",NRI!H18,\"\")","v":""},{"$f":"IF(NRI!I18<>\"\",NRI!I18,\"\")","v":""},{"$f":"IF(NRI!J18<>\"\",NRI!J18,\"\")","v":""},{"$f":"IF(NRI!K18<>\"\",NRI!K18,\"\")","v":""},{"$f":"IF(NRI!L18<>\"\",NRI!L18,\"\")","v":""},{"$f":"IF(NRI!M18<>\"\",NRI!M18,\"\")","v":""}]
[2001,{"$f":"IF(NRI!B19<>\"\",NRI!B19,\"\")","v":""},{"$f":"IF(NRI!C19<>\"\",NRI!C19,\"\")","v":""},{"$f":"IF(NRI!D19<>\"\",NRI!D19,\"\")","v":""},{"$f":"IF(NRI!E19<>\"\",NRI!E19,\"\")","v":""},{"$f":"IF(NRI!F19<>\"\",NRI!F19,\"\")","v":""},{"$f":"IF(NRI!G19<>\"\",NRI!G19,\"\")","v":""},{"$f":"IF(NRI!H19<>\"\",NRI!H19,\"\")","v":""},{"$f":"IF(NRI!I19<>\"\",NRI!I19,\"\")","v":""},{"$f":"IF(NRI!J19<>\"\",NRI!J19,\"\")","v":""},{"$f":"IF(NRI!K19<>\"\",NRI!K19,\"\")","v":""},{"$f":"IF(NRI!L19<>\"\",NRI!L19,\"\")","v":""},{"$f":"IF(NRI!M19<>\"\",NRI!M19,\"\")","v":""}]
[2002,{"$f":"IF(NRI!B20<>\"\",NRI!B20,\"\")","v":""},{"$f":"IF(NRI!C20<>\"\",NRI!C20,\"\")","v":""},{"$f":"IF(NRI!D20<>\"\",NRI!D20,\"\")","v":""},{"$f":"IF(NRI!E20<>\"\",NRI!E20,\"\")","v":""},{"$f":"IF(NRI!F20<>\"\",NRI!F20,\"\")","v":""},{"$f":"IF(NRI!G20<>\"\",NRI!G20,\"\")","v":""},{"$f":"IF(NRI!H20<>\"\",NRI!H20,\"\")","v":""},{"$f":"IF(NRI!I20<>\"\",NRI!I20,\"\")","v":""},{"$f":"IF(NRI!J20<>\"\",NRI!J20,\"\")","v":""},{"$f":"IF(NRI!K20<>\"\",NRI!K20,\"\")","v":""},{"$f":"IF(NRI!L20<>\"\",NRI!L20,\"\")","v":""},{"$f":"IF(NRI!M20<>\"\",NRI!M20,\"\")","v":""}]
[2003,{"$f":"IF(NRI!B21<>\"\",NRI!B21,\"\")","v":""},{"$f":"IF(NRI!C21<>\"\",NRI!C21,\"\")","v":""},{"$f":"IF(NRI!D21<>\"\",NRI!D21,\"\")","v":""},{"$f":"IF(NRI!E21<>\"\",NRI!E21,\"\")","v":""},{"$f":"IF(NRI!F21<>\"\",NRI!F21,\"\")","v":""},{"$f":"IF(NRI!G21<>\"\",NRI!G21,\"\")","v":""},{"$f":"IF(NRI!H21<>\"\",NRI!H21,\"\")","v":""},{"$f":"IF(NRI!I21<>\"\",NRI!I21,\"\")","v":""},{"$f":"IF(NRI!J21<>\"\",NRI!J21,\"\")","v":""},{"$f":"IF(NRI!K21<>\"\",NRI!K21,\"\")","v":""},{"$f":"IF(NRI!L21<>\"\",NRI!L21,\"\")","v":""},{"$f":"IF(NRI!M21<>\"\",NRI!M21,\"\")","v":""}]
[2004,{"$f":"IF(NRI!B22<>\"\",NRI!B22,\"\")","v":""},{"$f":"IF(NRI!C22<>\"\",NRI!C22,\"\")","v":""},{"$f":"IF(NRI!D22<>\"\",NRI!D22,\"\")","v":""},{"$f":"IF(NRI!E22<>\"\",NRI!E22,\"\")","v":""},{"$f":"IF(NRI!F22<>\"\",NRI!F22,\"\")","v":""},{"$f":"IF(NRI!G22<>\"\",NRI!G22,\"\")","v":""},{"$f":"IF(NRI!H22<>\"\",NRI!H22,\"\")","v":""},{"$f":"IF(NRI!I22<>\"\",NRI!I22,\"\")","v":""},{"$f":"IF(NRI!J22<>\"\",NRI!J22,\"\")","v":""},{"$f":"IF(NRI!K22<>\"\",NRI!K22,\"\")","v":""},{"$f":"IF(NRI!L22<>\"\",NRI!L22,\"\")","v":""},{"$f":"IF(NRI!M22<>\"\",NRI!M22,\"\")","v":""}]
[2005,{"$f":"IF(NRI!B23<>\"\",NRI!B23,\"\")","v":""},{"$f":"IF(NRI!C23<>\"\",NRI!C23,\"\")","v":""},{"$f":"IF(NRI!D23<>\"\",NRI!D23,\"\")","v":""},{"$f":"IF(NRI!E23<>\"\",NRI!E23,\"\")","v":""},{"$f":"IF(NRI!F23<>\"\",NRI!F23,\"\")","v":""},{"$f":"IF(NRI!G23<>\"\",NRI!G23,\"\")","v":""},{"$f":"IF(NRI!H23<>\"\",NRI!H23,\"\")","v":""},{"$f":"IF(NRI!I23<>\"\",NRI!I23,\"\")","v":""},{"$f":"IF(NRI!J23<>\"\",NRI!J23,\"\")","v":""},{"$f":"IF(NRI!K23<>\"\",NRI!K23,\"\")","v":""},{"$f":"IF(NRI!L23<>\"\",NRI!L23,\"\")","v":""},{"$f":"IF(NRI!M23<>\"\",NRI!M23,\"\")","v":""}]
[2006,{"$f":"IF(NRI!B24<>\"\",NRI!B24,\"\")","v":""},{"$f":"IF(NRI!C24<>\"\",NRI!C24,\"\")","v":""},{"$f":"IF(NRI!D24<>\"\",NRI!D24,\"\")","v":""},{"$f":"IF(NRI!E24<>\"\",NRI!E24,\"\")","v":""},{"$f":"IF(NRI!F24<>\"\",NRI!F24,\"\")","v":""},{"$f":"IF(NRI!G24<>\"\",NRI!G24,\"\")","v":""},{"$f":"IF(NRI!H24<>\"\",NRI!H24,\"\")","v":""},{"$f":"IF(NRI!I24<>\"\",NRI!I24,\"\")","v":""},{"$f":"IF(NRI!J24<>\"\",NRI!J24,\"\")","v":""},{"$f":"IF(NRI!K24<>\"\",NRI!K24,\"\")","v":""},{"$f":"IF(NRI!L24<>\"\",NRI!L24,\"\")","v":""},{"$f":"IF(NRI!M24<>\"\",NRI!M24,\"\")","v":""}]
[2007,{"$f":"IF(NRI!B25<>\"\",NRI!B25,\"\")","v":""},{"$f":"IF(NRI!C25<>\"\",NRI!C25,\"\")","v":""},{"$f":"IF(NRI!D25<>\"\",NRI!D25,\"\")","v":""},{"$f":"IF(NRI!E25<>\"\",NRI!E25,\"\")","v":""},{"$f":"IF(NRI!F25<>\"\",NRI!F25,\"\")","v":""},{"$f":"IF(NRI!G25<>\"\",NRI!G25,\"\")","v":""},{"$f":"IF(NRI!H25<>\"\",NRI!H25,\"\")","v":""},{"$f":"IF(NRI!I25<>\"\",NRI!I25,\"\")","v":""},{"$f":"IF(NRI!J25<>\"\",NRI!J25,\"\")","v":""},{"$f":"IF(NRI!K25<>\"\",NRI!K25,\"\")","v":""},{"$f":"IF(NRI!L25<>\"\",NRI!L25,\"\")","v":""},{"$f":"IF(NRI!M25<>\"\",NRI!M25,\"\")","v":""}]
[2008,{"$f":"IF(NRI!B26<>\"\",NRI!B26,\"\")","v":""},{"$f":"IF(NRI!C26<>\"\",NRI!C26,\"\")","v":""},{"$f":"IF(NRI!D26<>\"\",NRI!D26,\"\")","v":""},{"$f":"IF(NRI!E26<>\"\",NRI!E26,\"\")","v":""},{"$f":"IF(NRI!F26<>\"\",NRI!F26,\"\")","v":""},{"$f":"IF(NRI!G26<>\"\",NRI!G26,\"\")","v":""},{"$f":"IF(NRI!H26<>\"\",NRI!H26,\"\")","v":""},{"$f":"IF(NRI!I26<>\"\",NRI!I26,\"\")","v":""},{"$f":"IF(NRI!J26<>\"\",NRI!J26,\"\")","v":""},{"$f":"IF(NRI!K26<>\"\",NRI!K26,\"\")","v":""},{"$f":"IF(NRI!L26<>\"\",NRI!L26,\"\")","v":""},{"$f":"IF(NRI!M26<>\"\",NRI!M26,\"\")","v":""}]
[2009,{"$f":"IF(NRI!B27<>\"\",NRI!B27,\"\")","v":""},{"$f":"IF(NRI!C27<>\"\",NRI!C27,\"\")","v":""},{"$f":"IF(NRI!D27<>\"\",NRI!D27,\"\")","v":""},{"$f":"IF(NRI!E27<>\"\",NRI!E27,\"\")","v":""},{"$f":"IF(NRI!F27<>\"\",NRI!F27,\"\")","v":""},{"$f":"IF(NRI!G27<>\"\",NRI!G27,\"\")","v":""},{"$f":"IF(NRI!H27<>\"\",NRI!H27,\"\")","v":""},{"$f":"IF(NRI!I27<>\"\",NRI!I27,\"\")","v":""},{"$f":"IF(NRI!J27<>\"\",NRI!J27,\"\")","v":""},{"$f":"IF(NRI!K27<>\"\",NRI!K27,\"\")","v":""},{"$f":"IF(NRI!L27<>\"\",NRI!L27,\"\")","v":""},{"$f":"IF(NRI!M27<>\"\",NRI!M27,\"\")","v":""}]
[2010,{"$f":"IF(NRI!B28<>\"\",NRI!B28,\"\")","v":""},{"$f":"IF(NRI!C28<>\"\",NRI!C28,\"\")","v":""},{"$f":"IF(NRI!D28<>\"\",NRI!D28,\"\")","v":""},{"$f":"IF(NRI!E28<>\"\",NRI!E28,\"\")","v":""},{"$f":"IF(NRI!F28<>\"\",NRI!F28,\"\")","v":""},{"$f":"IF(NRI!G28<>\"\",NRI!G28,\"\")","v":""},{"$f":"IF(NRI!H28<>\"\",NRI!H28,\"\")","v":""},{"$f":"IF(NRI!I28<>\"\",NRI!I28,\"\")","v":""},{"$f":"IF(NRI!J28<>\"\",NRI!J28,\"\")","v":""},{"$f":"IF(NRI!K28<>\"\",NRI!K28,\"\")","v":""},{"$f":"IF(NRI!L28<>\"\",NRI!L28,\"\")","v":""},{"$f":"IF(NRI!M28<>\"\",NRI!M28,\"\")","v":""}]
[2011,{"$f":"IF(NRI!B29<>\"\",NRI!B29,\"\")","v":""},{"$f":"IF(NRI!C29<>\"\",NRI!C29,\"\")","v":""},{"$f":"IF(NRI!D29<>\"\",NRI!D29,\"\")","v":""},{"$f":"IF(NRI!E29<>\"\",NRI!E29,\"\")","v":""},{"$f":"IF(NRI!F29<>\"\",NRI!F29,\"\")","v":""},{"$f":"IF(NRI!G29<>\"\",NRI!G29,\"\")","v":""},{"$f":"IF(NRI!H29<>\"\",NRI!H29,\"\")","v":""},{"$f":"IF(NRI!I29<>\"\",NRI!I29,\"\")","v":""},{"$f":"IF(NRI!J29<>\"\",NRI!J29,\"\")","v":""},{"$f":"IF(NRI!K29<>\"\",NRI!K29,\"\")","v":""},{"$f":"IF(NRI!L29<>\"\",NRI!L29,\"\")","v":""},{"$f":"IF(NRI!M29<>\"\",NRI!M29,\"\")","v":""}]
[2012,{"$f":"IF(NRI!B30<>\"\",NRI!B30,\"\")","v":""},{"$f":"IF(NRI!C30<>\"\",NRI!C30,\"\")","v":""},{"$f":"IF(NRI!D30<>\"\",NRI!D30,\"\")","v":""},{"$f":"IF(NRI!E30<>\"\",NRI!E30,\"\")","v":""},{"$f":"IF(NRI!F30<>\"\",NRI!F30,\"\")","v":""},{"$f":"IF(NRI!G30<>\"\",NRI!G30,\"\")","v":""},{"$f":"IF(NRI!H30<>\"\",NRI!H30,\"\")","v":""},{"$f":"IF(NRI!I30<>\"\",NRI!I30,\"\")","v":""},{"$f":"IF(NRI!J30<>\"\",NRI!J30,\"\")","v":""},{"$f":"IF(NRI!K30<>\"\",NRI!K30,\"\")","v":""},{"$f":"IF(NRI!L30<>\"\",NRI!L30,\"\")","v":""},{"$f":"IF(NRI!M30<>\"\",NRI!M30,\"\")","v":""}]
[2013,{"$f":"IF(NRI!B31<>\"\",NRI!B31,\"\")","v":""},{"$f":"IF(NRI!C31<>\"\",NRI!C31,\"\")","v":""},{"$f":"IF(NRI!D31<>\"\",NRI!D31,\"\")","v":""},{"$f":"IF(NRI!E31<>\"\",NRI!E31,\"\")","v":""},{"$f":"IF(NRI!F31<>\"\",NRI!F31,\"\")","v":""},{"$f":"IF(NRI!G31<>\"\",NRI!G31,\"\")","v":""},{"$f":"IF(NRI!H31<>\"\",NRI!H31,\"\")","v":""},{"$f":"IF(NRI!I31<>\"\",NRI!I31,\"\")","v":""},{"$f":"IF(NRI!J31<>\"\",NRI!J31,\"\")","v":""},{"$f":"IF(NRI!K31<>\"\",NRI!K31,\"\")","v":""},{"$f":"IF(NRI!L31<>\"\",NRI!L31,\"\")","v":""},{"$f":"IF(NRI!M31<>\"\",NRI!M31,\"\")","v":""}]
[2014,{"$f":"IF(NRI!B32<>\"\",NRI!B32,\"\")","v":""},{"$f":"IF(NRI!C32<>\"\",NRI!C32,\"\")","v":""},{"$f":"IF(NRI!D32<>\"\",NRI!D32,\"\")","v":""},{"$f":"IF(NRI!E32<>\"\",NRI!E32,\"\")","v":""},{"$f":"IF(NRI!F32<>\"\",NRI!F32,\"\")","v":""},{"$f":"IF(NRI!G32<>\"\",NRI!G32,\"\")","v":""},{"$f":"IF(NRI!H32<>\"\",NRI!H32,\"\")","v":""},{"$f":"IF(NRI!I32<>\"\",NRI!I32,\"\")","v":""},{"$f":"IF(NRI!J32<>\"\",NRI!J32,\"\")","v":""},{"$f":"IF(NRI!K32<>\"\",NRI!K32,\"\")","v":""},{"$f":"IF(NRI!L32<>\"\",NRI!L32,\"\")","v":""},{"$f":"IF(NRI!M32<>\"\",NRI!M32,\"\")","v":""}]
[2015,{"$f":"IF(NRI!B33<>\"\",NRI!B33,\"\")","v":""},{"$f":"IF(NRI!C33<>\"\",NRI!C33,\"\")","v":""},{"$f":"IF(NRI!D33<>\"\",NRI!D33,\"\")","v":""},{"$f":"IF(NRI!E33<>\"\",NRI!E33,\"\")","v":""},{"$f":"IF(NRI!F33<>\"\",NRI!F33,\"\")","v":""},{"$f":"IF(NRI!G33<>\"\",NRI!G33,\"\")","v":""},{"$f":"IF(NRI!H33<>\"\",NRI!H33,\"\")","v":""},{"$f":"IF(NRI!I33<>\"\",NRI!I33,\"\")","v":""},{"$f":"IF(NRI!J33<>\"\",NRI!J33,\"\")","v":""},{"$f":"IF(NRI!K33<>\"\",NRI!K33,\"\")","v":""},{"$f":"IF(NRI!L33<>\"\",NRI!L33,\"\")","v":""},{"$f":"IF(NRI!M33<>\"\",NRI!M33,\"\")","v":""}]
[2016,{"$f":"IF(NRI!B34<>\"\",NRI!B34,\"\")","v":""},{"$f":"IF(NRI!C34<>\"\",NRI!C34,\"\")","v":""},{"$f":"IF(NRI!D34<>\"\",NRI!D34,\"\")","v":""},{"$f":"IF(NRI!E34<>\"\",NRI!E34,\"\")","v":""},{"$f":"IF(NRI!F34<>\"\",NRI!F34,\"\")","v":""},{"$f":"IF(NRI!G34<>\"\",NRI!G34,\"\")","v":""},{"$f":"IF(NRI!H34<>\"\",NRI!H34,\"\")","v":""},{"$f":"IF(NRI!I34<>\"\",NRI!I34,\"\")","v":""},{"$f":"IF(NRI!J34<>\"\",NRI!J34,\"\")","v":""},{"$f":"IF(NRI!K34<>\"\",NRI!K34,\"\")","v":""},{"$f":"IF(NRI!L34<>\"\",NRI!L34,\"\")","v":""},{"$f":"IF(NRI!M34<>\"\",NRI!M34,\"\")","v":""}]
[2017,{"$f":"IF(NRI!B35<>\"\",NRI!B35,\"\")","v":""},{"$f":"IF(NRI!C35<>\"\",NRI!C35,\"\")","v":""},{"$f":"IF(NRI!D35<>\"\",NRI!D35,\"\")","v":""},{"$f":"IF(NRI!E35<>\"\",NRI!E35,\"\")","v":""},{"$f":"IF(NRI!F35<>\"\",NRI!F35,\"\")","v":""},{"$f":"IF(NRI!G35<>\"\",NRI!G35,\"\")","v":""},{"$f":"IF(NRI!H35<>\"\",NRI!H35,\"\")","v":""},{"$f":"IF(NRI!I35<>\"\",NRI!I35,\"\")","v":""},{"$f":"IF(NRI!J35<>\"\",NRI!J35,\"\")","v":""},{"$f":"IF(NRI!K35<>\"\",NRI!K35,\"\")","v":""},{"$f":"IF(NRI!L35<>\"\",NRI!L35,\"\")","v":""},{"$f":"IF(NRI!M35<>\"\",NRI!M35,\"\")","v":""}]
[2018,{"$f":"IF(NRI!B36<>\"\",NRI!B36,\"\")","v":""},{"$f":"IF(NRI!C36<>\"\",NRI!C36,\"\")","v":""},{"$f":"IF(NRI!D36<>\"\",NRI!D36,\"\")","v":""},{"$f":"IF(NRI!E36<>\"\",NRI!E36,\"\")","v":""},{"$f":"IF(NRI!F36<>\"\",NRI!F36,\"\")","v":""},{"$f":"IF(NRI!G36<>\"\",NRI!G36,\"\")","v":""},{"$f":"IF(NRI!H36<>\"\",NRI!H36,\"\")","v":""},{"$f":"IF(NRI!I36<>\"\",NRI!I36,\"\")","v":""},{"$f":"IF(NRI!J36<>\"\",NRI!J36,\"\")","v":""},{"$f":"IF(NRI!K36<>\"\",NRI!K36,\"\")","v":""},{"$f":"IF(NRI!L36<>\"\",NRI!L36,\"\")","v":""},{"$f":"IF(NRI!M36<>\"\",NRI!M36,\"\")","v":""}]
[{"$f":"A36+1","v":2019},{"$f":"IF(NRI!B37<>\"\",NRI!B37,\"\")","v":""},{"$f":"IF(NRI!C37<>\"\",NRI!C37,\"\")","v":""},{"$f":"IF(NRI!D37<>\"\",NRI!D37,\"\")","v":""},{"$f":"IF(NRI!E37<>\"\",NRI!E37,\"\")","v":""},{"$f":"IF(NRI!F37<>\"\",NRI!F37,\"\")","v":""},{"$f":"IF(NRI!G37<>\"\",NRI!G37,\"\")","v":""},{"$f":"IF(NRI!H37<>\"\",NRI!H37,\"\")","v":""},{"$f":"IF(NRI!I37<>\"\",NRI!I37,\"\")","v":""},{"$f":"IF(NRI!J37<>\"\",NRI!J37,\"\")","v":""},{"$f":"IF(NRI!K37<>\"\",NRI!K37,\"\")","v":""},{"$f":"IF(NRI!L37<>\"\",NRI!L37,\"\")","v":""},{"$f":"IF(NRI!M37<>\"\",NRI!M37,\"\")","v":""}]
[2020,{"$f":"IF(NRI!B38<>\"\",NRI!B38,\"\")","v":""},{"$f":"IF(NRI!C38<>\"\",NRI!C38,\"\")","v":""},{"$f":"IF(NRI!D38<>\"\",NRI!D38,\"\")","v":""},{"$f":"IF(NRI!E38<>\"\",NRI!E38,\"\")","v":""},{"$f":"IF(NRI!F38<>\"\",NRI!F38,\"\")","v":""},{"$f":"IF(NRI!G38<>\"\",NRI!G38,\"\")","v":""},{"$f":"IF(NRI!H38<>\"\",NRI!H38,\"\")","v":""},{"$f":"IF(NRI!I38<>\"\",NRI!I38,\"\")","v":""},{"$f":"IF(NRI!J38<>\"\",NRI!J38,\"\")","v":""},{"$f":"IF(NRI!K38<>\"\",NRI!K38,\"\")","v":""},{"$f":"IF(NRI!L38<>\"\",NRI!L38,\"\")","v":""},{"$f":"IF(NRI!M38<>\"\",NRI!M38,\"\")","v":""}]
[2021,{"$f":"IF(NRI!B39<>\"\",NRI!B39,\"\")","v":""},{"$f":"IF(NRI!C39<>\"\",NRI!C39,\"\")","v":""},{"$f":"IF(NRI!D39<>\"\",NRI!D39,\"\")","v":""},{"$f":"IF(NRI!E39<>\"\",NRI!E39,\"\")","v":""},{"$f":"IF(NRI!F39<>\"\",NRI!F39,\"\")","v":""},{"$f":"IF(NRI!G39<>\"\",NRI!G39,\"\")","v":""},{"$f":"IF(NRI!H39<>\"\",NRI!H39,\"\")","v":""},{"$f":"IF(NRI!I39<>\"\",NRI!I39,\"\")","v":""},{"$f":"IF(NRI!J39<>\"\",NRI!J39,\"\")","v":""},{"$f":"IF(NRI!K39<>\"\",NRI!K39,\"\")","v":""},{"$f":"IF(NRI!L39<>\"\",NRI!L39,\"\")","v":""},{"$f":"IF(NRI!M39<>\"\",NRI!M39,\"\")","v":""}]
[2022,{"$f":"IF(NRI!B40<>\"\",NRI!B40,\"\")","v":""},{"$f":"IF(NRI!C40<>\"\",NRI!C40,\"\")","v":""},{"$f":"IF(NRI!D40<>\"\",NRI!D40,\"\")","v":""},{"$f":"IF(NRI!E40<>\"\",NRI!E40,\"\")","v":""},{"$f":"IF(NRI!F40<>\"\",NRI!F40,\"\")","v":""},{"$f":"IF(NRI!G40<>\"\",NRI!G40,\"\")","v":""},{"$f":"IF(NRI!H40<>\"\",NRI!H40,\"\")","v":""},{"$f":"IF(NRI!I40<>\"\",NRI!I40,\"\")","v":""},{"$f":"IF(NRI!J40<>\"\",NRI!J40,\"\")","v":""},{"$f":"IF(NRI!K40<>\"\",NRI!K40,\"\")","v":""},{"$f":"IF(NRI!L40<>\"\",NRI!L40,\"\")","v":""},{"$f":"IF(NRI!M40<>\"\",NRI!M40,\"\")","v":""}]
[2023,{"$f":"IF(NRI!B41<>\"\",NRI!B41,\"\")","v":""},{"$f":"IF(NRI!C41<>\"\",NRI!C41,\"\")","v":""},{"$f":"IF(NRI!D41<>\"\",NRI!D41,\"\")","v":""},{"$f":"IF(NRI!E41<>\"\",NRI!E41,\"\")","v":""},{"$f":"IF(NRI!F41<>\"\",NRI!F41,\"\")","v":""},{"$f":"IF(NRI!G41<>\"\",NRI!G41,\"\")","v":""},{"$f":"IF(NRI!H41<>\"\",NRI!H41,\"\")","v":""},{"$f":"IF(NRI!I41<>\"\",NRI!I41,\"\")","v":""},{"$f":"IF(NRI!J41<>\"\",NRI!J41,\"\")","v":""},{"$f":"IF(NRI!K41<>\"\",NRI!K41,\"\")","v":""},{"$f":"IF(NRI!L41<>\"\",NRI!L41,\"\")","v":""},{"$f":"IF(NRI!M41<>\"\",NRI!M41,\"\")","v":""}]
[2024,{"$f":"IF(NRI!B42<>\"\",NRI!B42,\"\")","v":""},{"$f":"IF(NRI!C42<>\"\",NRI!C42,\"\")","v":""},{"$f":"IF(NRI!D42<>\"\",NRI!D42,\"\")","v":""},{"$f":"IF(NRI!E42<>\"\",NRI!E42,\"\")","v":""},{"$f":"IF(NRI!F42<>\"\",NRI!F42,\"\")","v":""},{"$f":"IF(NRI!G42<>\"\",NRI!G42,\"\")","v":""},{"$f":"IF(NRI!H42<>\"\",NRI!H42,\"\")","v":""},{"$f":"IF(NRI!I42<>\"\",NRI!I42,\"\")","v":""},{"$f":"IF(NRI!J42<>\"\",NRI!J42,\"\")","v":""},{"$f":"IF(NRI!K42<>\"\",NRI!K42,\"\")","v":""},{"$f":"IF(NRI!L42<>\"\",NRI!L42,\"\")","v":""},{"$f":"IF(NRI!M42<>\"\",NRI!M42,\"\")","v":""}]
[2025,{"$f":"IF(NRI!B43<>\"\",NRI!B43,\"\")","v":""},{"$f":"IF(NRI!C43<>\"\",NRI!C43,\"\")","v":""},{"$f":"IF(NRI!D43<>\"\",NRI!D43,\"\")","v":""},{"$f":"IF(NRI!E43<>\"\",NRI!E43,\"\")","v":""},{"$f":"IF(NRI!F43<>\"\",NRI!F43,\"\")","v":""},{"$f":"IF(NRI!G43<>\"\",NRI!G43,\"\")","v":""},{"$f":"IF(NRI!H43<>\"\",NRI!H43,\"\")","v":""},{"$f":"IF(NRI!I43<>\"\",NRI!I43,\"\")","v":""},{"$f":"IF(NRI!J43<>\"\",NRI!J43,\"\")","v":""},{"$f":"IF(NRI!K43<>\"\",NRI!K43,\"\")","v":""},{"$f":"IF(NRI!L43<>\"\",NRI!L43,\"\")","v":""},{"$f":"IF(NRI!M43<>\"\",NRI!M43,\"\")","v":""}]
[2026,{"$f":"IF(NRI!B44<>\"\",NRI!B44,\"\")","v":""},{"$f":"IF(NRI!C44<>\"\",NRI!C44,\"\")","v":""},{"$f":"IF(NRI!D44<>\"\",NRI!D44,\"\")","v":""},{"$f":"IF(NRI!E44<>\"\",NRI!E44,\"\")","v":""},{"$f":"IF(NRI!F44<>\"\",NRI!F44,\"\")","v":""},{"$f":"IF(NRI!G44<>\"\",NRI!G44,\"\")","v":""},{"$f":"IF(NRI!H44<>\"\",NRI!H44,\"\")","v":""},{"$f":"IF(NRI!I44<>\"\",NRI!I44,\"\")","v":""},{"$f":"IF(NRI!J44<>\"\",NRI!J44,\"\")","v":""},{"$f":"IF(NRI!K44<>\"\",NRI!K44,\"\")","v":""},{"$f":"IF(NRI!L44<>\"\",NRI!L44,\"\")","v":""},{"$f":"IF(NRI!M44<>\"\",NRI!M44,\"\")","v":""}]
[2027,{"$f":"IF(NRI!B45<>\"\",NRI!B45,\"\")","v":""},{"$f":"IF(NRI!C45<>\"\",NRI!C45,\"\")","v":""},{"$f":"IF(NRI!D45<>\"\",NRI!D45,\"\")","v":""},{"$f":"IF(NRI!E45<>\"\",NRI!E45,\"\")","v":""},{"$f":"IF(NRI!F45<>\"\",NRI!F45,\"\")","v":""},{"$f":"IF(NRI!G45<>\"\",NRI!G45,\"\")","v":""},{"$f":"IF(NRI!H45<>\"\",NRI!H45,\"\")","v":""},{"$f":"IF(NRI!I45<>\"\",NRI!I45,\"\")","v":""},{"$f":"IF(NRI!J45<>\"\",NRI!J45,\"\")","v":""},{"$f":"IF(NRI!K45<>\"\",NRI!K45,\"\")","v":""},{"$f":"IF(NRI!L45<>\"\",NRI!L45,\"\")","v":""},{"$f":"IF(NRI!M45<>\"\",NRI!M45,\"\")","v":""}]
[2028,{"$f":"IF(NRI!B46<>\"\",NRI!B46,\"\")","v":""},{"$f":"IF(NRI!C46<>\"\",NRI!C46,\"\")","v":""},{"$f":"IF(NRI!D46<>\"\",NRI!D46,\"\")","v":""},{"$f":"IF(NRI!E46<>\"\",NRI!E46,\"\")","v":""},{"$f":"IF(NRI!F46<>\"\",NRI!F46,\"\")","v":""},{"$f":"IF(NRI!G46<>\"\",NRI!G46,\"\")","v":""},{"$f":"IF(NRI!H46<>\"\",NRI!H46,\"\")","v":""},{"$f":"IF(NRI!I46<>\"\",NRI!I46,\"\")","v":""},{"$f":"IF(NRI!J46<>\"\",NRI!J46,\"\")","v":""},{"$f":"IF(NRI!K46<>\"\",NRI!K46,\"\")","v":""},{"$f":"IF(NRI!L46<>\"\",NRI!L46,\"\")","v":""},{"$f":"IF(NRI!M46<>\"\",NRI!M46,\"\")","v":""}]
[2029,{"$f":"IF(NRI!B47<>\"\",NRI!B47,\"\")","v":""},{"$f":"IF(NRI!C47<>\"\",NRI!C47,\"\")","v":""},{"$f":"IF(NRI!D47<>\"\",NRI!D47,\"\")","v":""},{"$f":"IF(NRI!E47<>\"\",NRI!E47,\"\")","v":""},{"$f":"IF(NRI!F47<>\"\",NRI!F47,\"\")","v":""},{"$f":"IF(NRI!G47<>\"\",NRI!G47,\"\")","v":""},{"$f":"IF(NRI!H47<>\"\",NRI!H47,\"\")","v":""},{"$f":"IF(NRI!I47<>\"\",NRI!I47,\"\")","v":""},{"$f":"IF(NRI!J47<>\"\",NRI!J47,\"\")","v":""},{"$f":"IF(NRI!K47<>\"\",NRI!K47,\"\")","v":""},{"$f":"IF(NRI!L47<>\"\",NRI!L47,\"\")","v":""},{"$f":"IF(NRI!M47<>\"\",NRI!M47,\"\")","v":""}]
[2030,{"$f":"IF(NRI!B48<>\"\",NRI!B48,\"\")","v":""},{"$f":"IF(NRI!C48<>\"\",NRI!C48,\"\")","v":""},{"$f":"IF(NRI!D48<>\"\",NRI!D48,\"\")","v":""},{"$f":"IF(NRI!E48<>\"\",NRI!E48,\"\")","v":""},{"$f":"IF(NRI!F48<>\"\",NRI!F48,\"\")","v":""},{"$f":"IF(NRI!G48<>\"\",NRI!G48,\"\")","v":""},{"$f":"IF(NRI!H48<>\"\",NRI!H48,\"\")","v":""},{"$f":"IF(NRI!I48<>\"\",NRI!I48,\"\")","v":""},{"$f":"IF(NRI!J48<>\"\",NRI!J48,\"\")","v":""},{"$f":"IF(NRI!K48<>\"\",NRI!K48,\"\")","v":""},{"$f":"IF(NRI!L48<>\"\",NRI!L48,\"\")","v":""},{"$f":"IF(NRI!M48<>\"\",NRI!M48,\"\")","v":""}]
[2031,{"$f":"IF(NRI!B49<>\"\",NRI!B49,\"\")","v":""},{"$f":"IF(NRI!C49<>\"\",NRI!C49,\"\")","v":""},{"$f":"IF(NRI!D49<>\"\",NRI!D49,\"\")","v":""},{"$f":"IF(NRI!E49<>\"\",NRI!E49,\"\")","v":""},{"$f":"IF(NRI!F49<>\"\",NRI!F49,\"\")","v":""},{"$f":"IF(NRI!G49<>\"\",NRI!G49,\"\")","v":""},{"$f":"IF(NRI!H49<>\"\",NRI!H49,\"\")","v":""},{"$f":"IF(NRI!I49<>\"\",NRI!I49,\"\")","v":""},{"$f":"IF(NRI!J49<>\"\",NRI!J49,\"\")","v":""},{"$f":"IF(NRI!K49<>\"\",NRI!K49,\"\")","v":""},{"$f":"IF(NRI!L49<>\"\",NRI!L49,\"\")","v":""},{"$f":"IF(NRI!M49<>\"\",NRI!M49,\"\")","v":""}]
[2032,{"$f":"IF(NRI!B50<>\"\",NRI!B50,\"\")","v":""},{"$f":"IF(NRI!C50<>\"\",NRI!C50,\"\")","v":""},{"$f":"IF(NRI!D50<>\"\",NRI!D50,\"\")","v":""},{"$f":"IF(NRI!E50<>\"\",NRI!E50,\"\")","v":""},{"$f":"IF(NRI!F50<>\"\",NRI!F50,\"\")","v":""},{"$f":"IF(NRI!G50<>\"\",NRI!G50,\"\")","v":""},{"$f":"IF(NRI!H50<>\"\",NRI!H50,\"\")","v":""},{"$f":"IF(NRI!I50<>\"\",NRI!I50,\"\")","v":""},{"$f":"IF(NRI!J50<>\"\",NRI!J50,\"\")","v":""},{"$f":"IF(NRI!K50<>\"\",NRI!K50,\"\")","v":""},{"$f":"IF(NRI!L50<>\"\",NRI!L50,\"\")","v":""},{"$f":"IF(NRI!M50<>\"\",NRI!M50,\"\")","v":""}]
[2033,{"$f":"IF(NRI!B51<>\"\",NRI!B51,\"\")","v":""},{"$f":"IF(NRI!C51<>\"\",NRI!C51,\"\")","v":""},{"$f":"IF(NRI!D51<>\"\",NRI!D51,\"\")","v":""},{"$f":"IF(NRI!E51<>\"\",NRI!E51,\"\")","v":""},{"$f":"IF(NRI!F51<>\"\",NRI!F51,\"\")","v":""},{"$f":"IF(NRI!G51<>\"\",NRI!G51,\"\")","v":""},{"$f":"IF(NRI!H51<>\"\",NRI!H51,\"\")","v":""},{"$f":"IF(NRI!I51<>\"\",NRI!I51,\"\")","v":""},{"$f":"IF(NRI!J51<>\"\",NRI!J51,\"\")","v":""},{"$f":"IF(NRI!K51<>\"\",NRI!K51,\"\")","v":""},{"$f":"IF(NRI!L51<>\"\",NRI!L51,\"\")","v":""},{"$f":"IF(NRI!M51<>\"\",NRI!M51,\"\")","v":""}]
[2034,{"$f":"IF(NRI!B52<>\"\",NRI!B52,\"\")","v":""},{"$f":"IF(NRI!C52<>\"\",NRI!C52,\"\")","v":""},{"$f":"IF(NRI!D52<>\"\",NRI!D52,\"\")","v":""},{"$f":"IF(NRI!E52<>\"\",NRI!E52,\"\")","v":""},{"$f":"IF(NRI!F52<>\"\",NRI!F52,\"\")","v":""},{"$f":"IF(NRI!G52<>\"\",NRI!G52,\"\")","v":""},{"$f":"IF(NRI!H52<>\"\",NRI!H52,\"\")","v":""},{"$f":"IF(NRI!I52<>\"\",NRI!I52,\"\")","v":""},{"$f":"IF(NRI!J52<>\"\",NRI!J52,\"\")","v":""},{"$f":"IF(NRI!K52<>\"\",NRI!K52,\"\")","v":""},{"$f":"IF(NRI!L52<>\"\",NRI!L52,\"\")","v":""},{"$f":"IF(NRI!M52<>\"\",NRI!M52,\"\")","v":""}]
[2035,{"$f":"IF(NRI!B53<>\"\",NRI!B53,\"\")","v":""},{"$f":"IF(NRI!C53<>\"\",NRI!C53,\"\")","v":""},{"$f":"IF(NRI!D53<>\"\",NRI!D53,\"\")","v":""},{"$f":"IF(NRI!E53<>\"\",NRI!E53,\"\")","v":""},{"$f":"IF(NRI!F53<>\"\",NRI!F53,\"\")","v":""},{"$f":"IF(NRI!G53<>\"\",NRI!G53,\"\")","v":""},{"$f":"IF(NRI!H53<>\"\",NRI!H53,\"\")","v":""},{"$f":"IF(NRI!I53<>\"\",NRI!I53,\"\")","v":""},{"$f":"IF(NRI!J53<>\"\",NRI!J53,\"\")","v":""},{"$f":"IF(NRI!K53<>\"\",NRI!K53,\"\")","v":""},{"$f":"IF(NRI!L53<>\"\",NRI!L53,\"\")","v":""},{"$f":"IF(NRI!M53<>\"\",NRI!M53,\"\")","v":""}]
["Mean",{"$f":"AVERAGE(B4:B53)","v":{"$error":"#DIV/0!"}},{"$f":"AVERAGE(C4:C42)","v":{"$error":"#DIV/0!"}},{"$error":"#DIV/0!"},{"$error":"#DIV/0!"},{"$error":"#DIV/0!"},{"$error":"#DIV/0!"},{"$error":"#DIV/0!"},{"$error":"#DIV/0!"},{"$error":"#DIV/0!"},{"$error":"#DIV/0!"},{"$error":"#DIV/0!"},{"$error":"#DIV/0!"}]
[]
[]
[]
[2,"กราฟแบ่งฤดู"]
[]
[]
[]
[]
[]
[]
[]
[]
[]
[]
[]
[]
[]
[]
[]
[]
[]
[]
[]
[]
[]
[null,"ม.ค.","ก.พ.","มี.ค.","เม.ย.","พ.ค.","มิ.ย.","ก.ค.","ส.ค.","ก.ย.","ต.ค.","พ.ย.","ธ.ค.","ม.ค.","ก.พ.","มี.ค.","เม.ย.","พ.ค.","มิ.ย.","ก.ค.","ส.ค.","ก.ย.","ต.ค.","พ.ย.","ธ.ค."]
["Year/Month","Jan","Feb","Mar","Apr","May","Jun","Jul","Aug","Sep","Oct","Nov","Dec","Jan","Feb","Mar","Apr","May","Jun","Jul","Aug","Sep","Oct","Nov","Dec"]
[{"$f":"A4","v":1986},{"$f":"B4","v":""},{"$f":"C4","v":""},"","","","","","","","","","",{"$f":"IF(B5<>\"\",B5,B4)","v":""},{"$f":"IF(C5<>\"\",C5,C4)","v":""},"","","","",{"$f":"IF(H5<>\"\",H5,H4)","v":""},{"$f":"IF(I5<>\"\",I5,I4)","v":""},{"$f":"IF(J5<>\"\",J5,J4)","v":""},{"$f":"IF(K5<>\"\",K5,K4)","v":""},{"$f":"IF(L5<>\"\",L5,L4)","v":""},{"$f":"IF(M5<>\"\",M5,M4)","v":""}]
[1987,"",{"$f":"C5","v":""},"","","","","","","","","","",{"$f":"IF(B6<>\"\",B6,B5)","v":""},"","","","","","","","","","",""]
[1988,"",{"$f":"C6","v":""},"","","","","","","","","","","","","","","","","","","","","",""]
[1989,"",{"$f":"C7","v":""},"","","","","","","","","","","","","","","","","","","","","",""]
[1990,"",{"$f":"C8","v":""},"","","","","","","","","","","","","","","","","","","","","",""]
[1991,"",{"$f":"C9","v":""},"","","","","","","","","","","","","","","","","","","","","",""]
[1992,"",{"$f":"C10","v":""},"","","","","","","","","","","","","","","","","","","","","",""]
[1993,"",{"$f":"C11","v":""},"","","","","","","","","","","","","","","","","","","","","",""]
[1994,"",{"$f":"C12","v":""},"","","","","","","","","","","","","","","","","","","","","",""]
[1995,"",{"$f":"C13","v":""},"","","","","","","","","","","","","","","","","","","","","",""]
[1996,"",{"$f":"C14","v":""},"","","","","","","","","","","","","","","","","","","","","",""]
[1997,"",{"$f":"C15","v":""},"","","","","","","","","","","","","","","","","","","","","",""]
[1998,"",{"$f":"C16","v":""},"","","","","","","","","","","","","","","","","","","","","",""]
[1999,"",{"$f":"C17","v":""},"","","","","","","","","","","","","","","","","","","","","",""]
[2000,"",{"$f":"C18","v":""},"","","","","","","","","","","","","","","","","","","","","",""]
[2001,"",{"$f":"C19","v":""},"","","","","","","","","","","","","","","","","","","","","",""]
[2002,"",{"$f":"C20","v":""},"","","","","","","","","","","",{"$f":"IF(C21<>\"\",C21,C20)","v":""},{"$f":"IF(D21<>\"\",D21,D20)","v":""},{"$f":"IF(E21<>\"\",E21,E20)","v":""},{"$f":"IF(F21<>\"\",F21,F20)","v":""},{"$f":"IF(G21<>\"\",G21,G20)","v":""},"","","","","",""]
[2003,"",{"$f":"C21","v":""},"","","","","","","","","","","","","","","","","","","","","",""]
[2004,"",{"$f":"C22","v":""},"","","","","","","","","","","","","","","","","","","","","",""]
[2005,"",{"$f":"C23","v":""},"","","","","","","","","","","","","","","","","","","","","",""]
[2006,"",{"$f":"C24","v":""},"","","","","","","","","","",{"$f":"IF(B25<>\"\",B25,B24)","v":""},{"$f":"C24","v":""},{"$f":"D24","v":""},{"$f":"E24","v":""},{"$f":"F24","v":""},{"$f":"G24","v":""},{"$f":"H24","v":""},{"$f":"I24","v":""},{"$f":"J24","v":""},{"$f":"K24","v":""},{"$f":"L24","v":""},{"$f":"M24","v":""}]
[2007,"",{"$f":"C25","v":""},"","","","","","","","","","",{"$f":"B25","v":""},"","","","","","","","","","",""]
[2008,"",{"$f":"C26","v":""},"","","","","","","","","","","","","","","","","","","","","",""]
[2009,"",{"$f":"C27","v":""},"","","","","","","","","","","","","","","","","","","","","",""]
[2010,"",{"$f":"C28","v":""},"","","","","","","","","","","","","","","","","","","","","",""]
[2011,"",{"$f":"C29","v":""},"","","","","","","","","","","","","","","","","","","","","",""]
[2012,"",{"$f":"C30","v":""},"","","","","","","","","","","","","","","","","","","","","",""]
[2013,"",{"$f":"C31","v":""},"","","","","","","","","","","","","","","","","","","","","",""]
[2014,"",{"$f":"C32","v":""},"","","","","","","","","","","","","","","","","","","","","",""]
[2015,"",{"$f":"C33","v":""},"","","","","","","","","","","","","","","","","","","","","",""]
[2016,"",{"$f":"C34","v":""},"","","","","","","","","","","","","","","","","","","","","",""]
[2017,"",{"$f":"C35","v":""},"","","","","","","","","","","","","","","","","","","","","",""]
[{"$f":"A36","v":2018},"",{"$f":"C36","v":""},"","","","","","","","","","",{"$f":"B36","v":""},{"$f":"C36","v":""},{"$f":"D36","v":""},{"$f":"E36","v":""},{"$f":"F36","v":""},{"$f":"G36","v":""},"","","","","",""]
[2019,"",{"$f":"C37","v":""},"","","","","","","","","","","","","","","","","","","","","",""]
[2020,"",{"$f":"C38","v":""},"","","","","","","","","","","","","","","","","","","","","",""]
[2021,"",{"$f":"C39","v":""},"","","","","","","","","","","","","","","","","","","","","",""]
[2022,"",{"$f":"C40","v":""},"","","","","","","","","","","","","","","","","","","","","",""]
[2023,"",{"$f":"C41","v":""},"","","","","","","","","","","","","","","","","","","","","",""]
[2024,"",{"$f":"C42","v":""},"","","","","","","","","","","","","","","","","","","","","",""]
[2025,"",{"$f":"C43","v":""},"","","","","","","","","","","","","","","","","","","","","",""]
[2026,"",{"$f":"C44","v":""},"","","","","","","","","","","","","","","","","","","","","",""]
[2027,"",{"$f":"C45","v":""},"","","","","","","","","","","","","","","","","","","","","",""]
[2028,"",{"$f":"C46","v":""},"","","","","","","","","","","","","","","","","","","","","",""]
[2029,"",{"$f":"C47","v":""},"","","","","","","","","","","","","","","","","","","","","",""]
[2030,"",{"$f":"C48","v":""},"","","","","","","","","","","","","","","","","","","","","",""]
[2031,"",{"$f":"C49","v":""},"","","","","","","","","","","","","","","","","","","","","",""]
[2032,"",{"$f":"C50","v":""},"","","","","","","","","","","","","","","","","","","","","",""]
[2033,"",{"$f":"C51","v":""},"","","","","","","","","","","","","","","","","","","","","",""]
[2034,"",{"$f":"C52","v":""},"","","","","","","","","","","","","","","","","","","","","",""]
[2035,"",{"$f":"C53","v":""},"","","","","","","","","","","","","","","","","","","","","",""]
["Mean",{"$f":"AVERAGE(B82:B120)","v":{"$error":"#DIV/0!"}},{"$error":"#DIV/0!"},{"$error":"#DIV/0!"},{"$error":"#DIV/0!"},{"$error":"#DIV/0!"},{"$error":"#DIV/0!"},{"$error":"#DIV/0!"},{"$error":"#DIV/0!"},{"$error":"#DIV/0!"},{"$error":"#DIV/0!"},{"$error":"#DIV/0!"},{"$f":"AVERAGE(M82:M131)","v":{"$error":"#DIV/0!"}},{"$error":"#DIV/0!"},{"$error":"#DIV/0!"},{"$error":"#DIV/0!"},{"$error":"#DIV/0!"},{"$error":"#DIV/0!"},{"$error":"#DIV/0!"},{"$error":"#DIV/0!"},{"$error":"#DIV/0!"},{"$error":"#DIV/0!"},{"$error":"#DIV/0!"},{"$error":"#DIV/0!"},{"$error":"#DIV/0!"}]
[null,{"$f":"IF(AND(B132<0,C132<0),\"\",-1)","v":{"$error":"#DIV/0!"}},{"$f":"IF(AND(B133=\"\",C132<0),\"\",IF(AND(B133>0,C132<0),B133*-1,IF(AND(B133<0,C132<0),B133-1,1)))","v":{"$error":"#DIV/0!"}},{"$error":"#DIV/0!"},{"$error":"#DIV/0!"},{"$error":"#DIV/0!"},{"$error":"#DIV/0!"},{"$error":"#DIV/0!"},{"$error":"#DIV/0!"},{"$error":"#DIV/0!"},{"$error":"#DIV/0!"},{"$error":"#DIV/0!"},{"$error":"#DIV/0!"},{"$error":"#DIV/0!"},{"$error":"#DIV/0!"},{"$error":"#DIV/0!"},{"$error":"#DIV/0!"},{"$error":"#DIV/0!"},{"$error":"#DIV/0!"},{"$f":"IF(AND(S133=\"\",T132<0),\"\",IF(AND(S133>0,T132<0),S133*-1,IF(AND(S133<0,T132<0),S133-1,1)))","v":{"$error":"#DIV/0!"}},{"$error":"#DIV/0!"},{"$error":"#DIV/0!"},{"$error":"#DIV/0!"},{"$error":"#DIV/0!"},{"$error":"#DIV/0!"}]
[null,{"$f":"IF(B133<0,B133*-1,0)","v":{"$error":"#DIV/0!"}},{"$error":"#DIV/0!"},{"$error":"#DIV/0!"},{"$error":"#DIV/0!"},{"$error":"#DIV/0!"},{"$f":"IF(G133<0,G133*-1,0)","v":{"$error":"#DIV/0!"}},{"$f":"IF(H133<0,H133*-1,0)","v":{"$error":"#DIV/0!"}},{"$f":"IF(I133<0,I133*-1,0)","v":{"$error":"#DIV/0!"}},{"$f":"IF(J133<0,J133*-1,0)","v":{"$error":"#DIV/0!"}},{"$f":"IF(K133<0,K133*-1,0)","v":{"$error":"#DIV/0!"}},{"$f":"IF(L133<0,L133*-1,0)","v":{"$error":"#DIV/0!"}},{"$error":"#DIV/0!"},{"$f":"IF(N133<0,N133*-1,0)","v":{"$error":"#DIV/0!"}},{"$f":"IF(O133<0,O133*-1,0)","v":{"$error":"#DIV/0!"}},{"$f":"IF(P133<0,P133*-1,0)","v":{"$error":"#DIV/0!"}},{"$f":"IF(Q133<0,Q133*-1,0)","v":{"$error":"#DIV/0!"}},{"$f":"IF(R133<0,R133*-1,0)","v":{"$error":"#DIV/0!"}},{"$error":"#DIV/0!"},{"$f":"IF(T133<0,T133*-1,0)","v":{"$error":"#DIV/0!"}},{"$f":"IF(U133<0,U133*-1,0)","v":{"$error":"#DIV/0!"}},{"$f":"IF(V133<0,V133*-1,0)","v":{"$error":"#DIV/0!"}},{"$f":"IF(W133<0,W133*-1,0)","v":{"$error":"#DIV/0!"}},{"$f":"IF(X133<0,X133*-1,0)","v":{"$error":"#DIV/0!"}},{"$error":"#DIV/0!"}]
[null,{"$f":"IF(B134=0,0,IF(IF(C134>B134,C134,B134)<C135,C135,IF(C134>B134,C134,B134)))","v":{"$error":"#DIV/0!"}},{"$error":"#DIV/0!"},{"$error":"#DIV/0!"},{"$error":"#DIV/0!"},{"$error":"#DIV/0!"},{"$error":"#DIV/0!"},{"$error":"#DIV/0!"},{"$f":"IF(I134=0,0,IF(IF(J134>I134,J134,I134)<J135,J135,IF(J134>I134,J134,I134)))","v":{"$error":"#DIV/0!"}},{"$f":"IF(J134=0,0,IF(IF(K134>J134,K134,J134)<K135,K135,IF(K134>J134,K134,J134)))","v":{"$error":"#DIV/0!"}},{"$error":"#DIV/0!"},{"$error":"#DIV/0!"},{"$error":"#DIV/0!"},{"$error":"#DIV/0!"},{"$error":"#DIV/0!"},{"$error":"#DIV/0!"},{"$error":"#DIV/0!"},{"$error":"#DIV/0!"},{"$f":"IF(S134=0,0,IF(IF(T134>S134,T134,S134)<T135,T135,IF(T134>S134,T134,S134)))","v":{"$error":"#DIV/0!"}},{"$error":"#DIV/0!"},{"$error":"#DIV/0!"},{"$error":"#DIV/0!"},{"$error":"#DIV/0!"},{"$error":"#DIV/0!"},{"$error":"#DIV/0!"}]
[null,{"$f":"IF(B133=\"\",0,1)","v":{"$error":"#DIV/0!"}},{"$f":"IF(C133=\"\",0,IF(B136<>\"\",B136+1,1))","v":{"$error":"#DIV/0!"}},{"$error":"#DIV/0!"},{"$error":"#DIV/0!"},{"$error":"#DIV/0!"},{"$error":"#DIV/0!"},{"$error":"#DIV/0!"},{"$error":"#DIV/0!"},{"$error":"#DIV/0!"},{"$error":"#DIV/0!"},{"$error":"#DIV/0!"},{"$error":"#DIV/0!"},{"$error":"#DIV/0!"},{"$error":"#DIV/0!"},{"$error":"#DIV/0!"},{"$error":"#DIV/0!"},{"$error":"#DIV/0!"},{"$error":"#DIV/0!"},{"$f":"IF(T133=\"\",0,IF(S136<>\"\",S136+1,1))","v":{"$error":"#DIV/0!"}},{"$error":"#DIV/0!"},{"$error":"#DIV/0!"},{"$error":"#DIV/0!"},{"$error":"#DIV/0!"},{"$error":"#DIV/0!"}]
["Year/Month","Jan","Feb","Mar","Apr","May","Jun","Jul","Aug","Sep","Oct","Nov","Dec","Jan","Feb","Mar","Apr","May","Jun","Jul","Aug","Sep","Oct","Nov","Dec",null,null,3,"ใส่ NRI รายเดือน"]
[{"$f":"A4","v":1986},{"$f":"IF(OR(B$136=0,B$136>12),\"\",IF(B$133<0,-1*SUM(OFFSET(B82,0,0,1,IF(AND(A$133>0,C$133>0),1,(B$135)+1+B$133))),B82*-1))","v":{"$error":"#DIV/0!"}},{"$f":"IF(OR(C$136=0,C$136>12),\"\",IF(C$133<0,-1*SUM(OFFSET(C82,0,0,1,IF(AND(B$133>0,D$133>0),1,(C$135)+1+C$133))),C82*-1))","v":{"$error":"#DIV/0!"}},{"$error":"#DIV/0!"},{"$error":"#DIV/0!"},{"$error":"#DIV/0!"},{"$error":"#DIV/0!"},{"$error":"#DIV/0!"},{"$error":"#DIV/0!"},{"$error":"#DIV/0!"},{"$error":"#DIV/0!"},{"$error":"#DIV/0!"},{"$error":"#DIV/0!"},{"$f":"IF(OR(N$136=0,N$136>12),\"\",IF(N$133<0,-1*SUM(OFFSET(B82,0,0,1,IF(AND(M$133>0,O$133>0),1,(N$135)+1+N$133))),B82*-1))","v":{"$error":"#DIV/0!"}},{"$f":"IF(OR(O$136=0,O$136>12),\"\",IF(O$133<0,-1*SUM(OFFSET(C82,0,0,1,IF(AND(N$133>0,P$133>0),1,(O$135)+1+O$133))),C82*-1))","v":{"$error":"#DIV/0!"}},{"$error":"#DIV/0!"},{"$error":"#DIV/0!"},{"$error":"#DIV/0!"},{"$error":"#DIV/0!"},{"$f":"IF(OR(T$136=0,T$136>12),\"\",IF(T$133<0,-1*SUM(OFFSET(H82,0,0,1,IF(AND(S$133>0,U$133>0),1,T$135+1+T$133))),H82))","v":{"$error":"#DIV/0!"}},{"$f":"IF(OR(U$136=0,U$136>12),\"\",IF(U$133<0,-1*SUM(OFFSET(I82,0,0,1,IF(AND(T$133>0,V$133>0),1,U$135+1+U$133))),I82))","v":{"$error":"#DIV/0!"}},{"$f":"IF(OR(V$136=0,V$136>12),\"\",IF(V$133<0,-1*SUM(OFFSET(J82,0,0,1,IF(AND(U$133>0,W$133>0),1,V$135+1+V$133))),J82))","v":{"$error":"#DIV/0!"}},{"$f":"IF(OR(W$136=0,W$136>12),\"\",IF(W$133<0,-1*SUM(OFFSET(K82,0,0,1,IF(AND(V$133>0,X$133>0),1,W$135+1+W$133))),K82))","v":{"$error":"#DIV/0!"}},{"$f":"IF(OR(X$136=0,X$136>12),\"\",IF(X$133<0,-1*SUM(OFFSET(L82,0,0,1,IF(AND(W$133>0,Y$133>0),1,X$135+1+X$133))),L82))","v":{"$error":"#DIV/0!"}},{"$f":"IF(OR(Y$136=0,Y$136>12),\"\",IF(Y$133<0,-1*SUM(OFFSET(M82,0,0,1,IF(AND(X$133>0,Z$133>0),1,Y$135+1+Y$133))),M82))","v":{"$error":"#DIV/0!"}},null,null,null,null,"ม.ค.","ก.พ.","มี.ค.","เม.ย.","พ.ค.","มิ.ย.","ก.ค.","ส.ค.","ก.ย.","ต.ค.","พ.ย.","ธ.ค."]
[{"$f":"A5","v":1987},{"$f":"IF(OR(B$136=0,B$136>12),\"\",IF(B$133<0,-1*SUM(OFFSET(B83,0,0,1,IF(AND(A$133>0,C$133>0),1,(B$135)+1+B$133))),B83*-1))","v":{"$error":"#DIV/0!"}},{"$error":"#DIV/0!"},{"$error":"#DIV/0!"},{"$error":"#DIV/0!"},{"$error":"#DIV/0!"},{"$error":"#DIV/0!"},{"$error":"#DIV/0!"},{"$error":"#DIV/0!"},{"$error":"#DIV/0!"},{"$error":"#DIV/0!"},{"$error":"#DIV/0!"},{"$error":"#DIV/0!"},{"$f":"IF(OR(N$136=0,N$136>12),\"\",IF(N$133<0,-1*SUM(OFFSET(B83,0,0,1,IF(AND(M$133>0,O$133>0),1,(N$135)+1+N$133))),B83*-1))","v":{"$error":"#DIV/0!"}},{"$error":"#DIV/0!"},{"$error":"#DIV/0!"},{"$error":"#DIV/0!"},{"$error":"#DIV/0!"},{"$error":"#DIV/0!"},{"$error":"#DIV/0!"},{"$error":"#DIV/0!"},{"$error":"#DIV/0!"},{"$error":"#DIV/0!"},{"$error":"#DIV/0!"},{"$error":"#DIV/0!"},null,null,"ปี ค.ศ.","ปี พ.ศ.","Jan","Feb","Mar","Apr","May","Jun","Jul","Aug","Sep","Oct","Nov","Dec"]
[1988,{"$f":"IF(OR(B$136=0,B$136>12),\"\",IF(B$133<0,-1*SUM(OFFSET(B84,0,0,1,IF(AND(A$133>0,C$133>0),1,(B$135)+1+B$133))),B84*-1))","v":{"$error":"#DIV/0!"}},{"$error":"#DIV/0!"},{"$error":"#DIV/0!"},{"$error":"#DIV/0!"},{"$error":"#DIV/0!"},{"$error":"#DIV/0!"},{"$error":"#DIV/0!"},{"$error":"#DIV/0!"},{"$error":"#DIV/0!"},{"$error":"#DIV/0!"},{"$error":"#DIV/0!"},{"$error":"#DIV/0!"},{"$f":"IF(OR(N$136=0,N$136>12),\"\",IF(N$133<0,-1*SUM(OFFSET(B84,0,0,1,IF(AND(M$133>0,O$133>0),1,(N$135)+1+N$133))),B84*-1))","v":{"$error":"#DIV/0!"}},{"$error":"#DIV/0!"},{"$error":"#DIV/0!"},{"$error":"#DIV/0!"},{"$error":"#DIV/0!"},{"$error":"#DIV/0!"},{"$error":"#DIV/0!"},{"$error":"#DIV/0!"},{"$error":"#DIV/0!"},{"$error":"#DIV/0!"},{"$error":"#DIV/0!"},{"$error":"#DIV/0!"},null,null,{"$f":"A4","v":1986},{"$f":"A195+543","v":2529},{"$f":"IF(B138<>\"\",IF(B138=0,\"\",B138),IF(N138=0,\"\",N138))","v":{"$error":"#DIV/0!"}},{"$f":"IF(C138<>\"\",IF(C138=0,\"\",C138),IF(O138=0,\"\",O138))","v":{"$error":"#DIV/0!"}},{"$f":"IF(D138<>\"\",IF(D138=0,\"\",D138),IF(P138=0,\"\",P138))","v":{"$error":"#DIV/0!"}},{"$f":"IF(E138<>\"\",IF(E138=0,\"\",E138),IF(Q138=0,\"\",Q138))","v":{"$error":"#DIV/0!"}},{"$f":"IF(F138<>\"\",IF(F138=0,\"\",F138),IF(R138=0,\"\",R138))","v":{"$error":"#DIV/0!"}},{"$f":"IF(G138<>\"\",IF(G138=0,\"\",G138),IF(S138=0,\"\",S138))","v":{"$error":"#DIV/0!"}},{"$f":"IF(H138<>\"\",IF(H138=0,\"\",H138),IF(T138=0,\"\",T138))","v":{"$error":"#DIV/0!"}},{"$f":"IF(I138<>\"\",IF(I138=0,\"\",I138),IF(U138=0,\"\",U138))","v":{"$error":"#DIV/0!"}},{"$f":"IF(J138<>\"\",IF(J138=0,\"\",J138),IF(V138=0,\"\",V138))","v":{"$error":"#DIV/0!"}},{"$f":"IF(K138<>\"\",IF(K138=0,\"\",K138),IF(W138=0,\"\",W138))","v":{"$error":"#DIV/0!"}},{"$f":"IF(L138<>\"\",IF(L138=0,\"\",L138),IF(X138=0,\"\",X138))","v":{"$error":"#DIV/0!"}},{"$f":"IF(M138<>\"\",IF(M138=0,\"\",M138),IF(Y138=0,\"\",Y138))","v":{"$error":"#DIV/0!"}}]
[1989,{"$error":"#DIV/0!"},{"$error":"#DIV/0!"},{"$error":"#DIV/0!"},{"$error":"#DIV/0!"},{"$error":"#DIV/0!"},{"$error":"#DIV/0!"},{"$error":"#DIV/0!"},{"$error":"#DIV/0!"},{"$error":"#DIV/0!"},{"$error":"#DIV/0!"},{"$error":"#DIV/0!"},{"$error":"#DIV/0!"},{"$error":"#DIV/0!"},{"$error":"#DIV/0!"},{"$error":"#DIV/0!"},{"$error":"#DIV/0!"},{"$error":"#DIV/0!"},{"$error":"#DIV/0!"},{"$error":"#DIV/0!"},{"$error":"#DIV/0!"},{"$error":"#DIV/0!"},{"$error":"#DIV/0!"},{"$error":"#DIV/0!"},{"$error":"#DIV/0!"},null,null,{"$f":"A195+1","v":1987},2530,{"$error":"#DIV/0!"},{"$error":"#DIV/0!"},{"$error":"#DIV/0!"},{"$error":"#DIV/0!"},{"$error":"#DIV/0!"},{"$error":"#DIV/0!"},{"$error":"#DIV/0!"},{"$error":"#DIV/0!"},{"$error":"#DIV/0!"},{"$error":"#DIV/0!"},{"$error":"#DIV/0!"},{"$error":"#DIV/0!"}]
[1990,{"$error":"#DIV/0!"},{"$error":"#DIV/0!"},{"$error":"#DIV/0!"},{"$error":"#DIV/0!"},{"$error":"#DIV/0!"},{"$error":"#DIV/0!"},{"$error":"#DIV/0!"},{"$error":"#DIV/0!"},{"$error":"#DIV/0!"},{"$error":"#DIV/0!"},{"$error":"#DIV/0!"},{"$error":"#DIV/0!"},{"$error":"#DIV/0!"},{"$error":"#DIV/0!"},{"$error":"#DIV/0!"},{"$error":"#DIV/0!"},{"$error":"#DIV/0!"},{"$error":"#DIV/0!"},{"$error":"#DIV/0!"},{"$error":"#DIV/0!"},{"$error":"#DIV/0!"},{"$error":"#DIV/0!"},{"$error":"#DIV/0!"},{"$error":"#DIV/0!"},null,null,1988,2531,{"$error":"#DIV/0!"},{"$error":"#DIV/0!"},{"$error":"#DIV/0!"},{"$error":"#DIV/0!"},{"$error":"#DIV/0!"},{"$error":"#DIV/0!"},{"$error":"#DIV/0!"},{"$error":"#DIV/0!"},{"$error":"#DIV/0!"},{"$error":"#DIV/0!"},{"$error":"#DIV/0!"},{"$error":"#DIV/0!"}]
[1991,{"$error":"#DIV/0!"},{"$error":"#DIV/0!"},{"$error":"#DIV/0!"},{"$error":"#DIV/0!"},{"$error":"#DIV/0!"},{"$error":"#DIV/0!"},{"$error":"#DIV/0!"},{"$error":"#DIV/0!"},{"$error":"#DIV/0!"},{"$error":"#DIV/0!"},{"$error":"#DIV/0!"},{"$error":"#DIV/0!"},{"$error":"#DIV/0!"},{"$error":"#DIV/0!"},{"$error":"#DIV/0!"},{"$error":"#DIV/0!"},{"$error":"#DIV/0!"},{"$error":"#DIV/0!"},{"$error":"#DIV/0!"},{"$error":"#DIV/0!"},{"$error":"#DIV/0!"},{"$error":"#DIV/0!"},{"$error":"#DIV/0!"},{"$error":"#DIV/0!"},null,null,1989,2532,{"$error":"#DIV/0!"},{"$error":"#DIV/0!"},{"$error":"#DIV/0!"},{"$error":"#DIV/0!"},{"$error":"#DIV/0!"},{"$error":"#DIV/0!"},{"$error":"#DIV/0!"},{"$error":"#DIV/0!"},{"$error":"#DIV/0!"},{"$error":"#DIV/0!"},{"$error":"#DIV/0!"},{"$error":"#DIV/0!"}]
[1992,{"$error":"#DIV/0!"},{"$error":"#DIV/0!"},{"$error":"#DIV/0!"},{"$error":"#DIV/0!"},{"$error":"#DIV/0!"},{"$error":"#DIV/0!"},{"$error":"#DIV/0!"},{"$error":"#DIV/0!"},{"$error":"#DIV/0!"},{"$error":"#DIV/0!"},{"$error":"#DIV/0!"},{"$error":"#DIV/0!"},{"$error":"#DIV/0!"},{"$error":"#DIV/0!"},{"$error":"#DIV/0!"},{"$error":"#DIV/0!"},{"$error":"#DIV/0!"},{"$error":"#DIV/0!"},{"$error":"#DIV/0!"},{"$error":"#DIV/0!"},{"$error":"#DIV/0!"},{"$error":"#DIV/0!"},{"$error":"#DIV/0!"},{"$error":"#DIV/0!"},null,null,1990,2533,{"$error":"#DIV/0!"},{"$error":"#DIV/0!"},{"$error":"#DIV/0!"},{"$error":"#DIV/0!"},{"$error":"#DIV/0!"},{"$error":"#DIV/0!"},{"$error":"#DIV/0!"},{"$error":"#DIV/0!"},{"$error":"#DIV/0!"},{"$error":"#DIV/0!"},{"$error":"#DIV/0!"},{"$error":"#DIV/0!"}]
[1993,{"$error":"#DIV/0!"},{"$error":"#DIV/0!"},{"$error":"#DIV/0!"},{"$error":"#DIV/0!"},{"$error":"#DIV/0!"},{"$error":"#DIV/0!"},{"$error":"#DIV/0!"},{"$error":"#DIV/0!"},{"$error":"#DIV/0!"},{"$error":"#DIV/0!"},{"$error":"#DIV/0!"},{"$error":"#DIV/0!"},{"$error":"#DIV/0!"},{"$error":"#DIV/0!"},{"$error":"#DIV/0!"},{"$error":"#DIV/0!"},{"$error":"#DIV/0!"},{"$error":"#DIV/0!"},{"$error":"#DIV/0!"},{"$error":"#DIV/0!"},{"$error":"#DIV/0!"},{"$error":"#DIV/0!"},{"$error":"#DIV/0!"},{"$error":"#DIV/0!"},null,null,1991,2534,{"$error":"#DIV/0!"},{"$error":"#DIV/0!"},{"$error":"#DIV/0!"},{"$error":"#DIV/0!"},{"$error":"#DIV/0!"},{"$error":"#DIV/0!"},{"$error":"#DIV/0!"},{"$error":"#DIV/0!"},{"$error":"#DIV/0!"},{"$error":"#DIV/0!"},{"$error":"#DIV/0!"},{"$error":"#DIV/0!"}]
[1994,{"$error":"#DIV/0!"},{"$error":"#DIV/0!"},{"$error":"#DIV/0!"},{"$error":"#DIV/0!"},{"$error":"#DIV/0!"},{"$error":"#DIV/0!"},{"$error":"#DIV/0!"},{"$error":"#DIV/0!"},{"$error":"#DIV/0!"},{"$error":"#DIV/0!"},{"$error":"#DIV/0!"},{"$error":"#DIV/0!"},{"$error":"#DIV/0!"},{"$error":"#DIV/0!"},{"$error":"#DIV/0!"},{"$error":"#DIV/0!"},{"$error":"#DIV/0!"},{"$error":"#DIV/0!"},{"$error":"#DIV/0!"},{"$error":"#DIV/0!"},{"$error":"#DIV/0!"},{"$error":"#DIV/0!"},{"$error":"#DIV/0!"},{"$error":"#DIV/0!"},null,null,1992,2535,{"$error":"#DIV/0!"},{"$error":"#DIV/0!"},{"$error":"#DIV/0!"},{"$error":"#DIV/0!"},{"$error":"#DIV/0!"},{"$error":"#DIV/0!"},{"$error":"#DIV/0!"},{"$error":"#DIV/0!"},{"$error":"#DIV/0!"},{"$error":"#DIV/0!"},{"$error":"#DIV/0!"},{"$error":"#DIV/0!"}]
[1995,{"$error":"#DIV/0!"},{"$error":"#DIV/0!"},{"$error":"#DIV/0!"},{"$error":"#DIV/0!"},{"$error":"#DIV/0!"},{"$error":"#DIV/0!"},{"$error":"#DIV/0!"},{"$error":"#DIV/0!"},{"$error":"#DIV/0!"},{"$error":"#DIV/0!"},{"$error":"#DIV/0!"},{"$error":"#DIV/0!"},{"$error":"#DIV/0!"},{"$error":"#DIV/0!"},{"$error":"#DIV/0!"},{"$error":"#DIV/0!"},{"$error":"#DIV/0!"},{"$error":"#DIV/0!"},{"$error":"#DIV/0!"},{"$error":"#DIV/0!"},{"$error":"#DIV/0!"},{"$error":"#DIV/0!"},{"$error":"#DIV/0!"},{"$error":"#DIV/0!"},null,null,1993,2536,{"$error":"#DIV/0!"},{"$error":"#DIV/0!"},{"$error":"#DIV/0!"},{"$error":"#DIV/0!"},{"$error":"#DIV/0!"},{"$error":"#DIV/0!"},{"$error":"#DIV/0!"},{"$error":"#DIV/0!"},{"$error":"#DIV/0!"},{"$error":"#DIV/0!"},{"$error":"#DIV/0!"},{"$error":"#DIV/0!"}]
[1996,{"$error":"#DIV/0!"},{"$error":"#DIV/0!"},{"$error":"#DIV/0!"},{"$error":"#DIV/0!"},{"$error":"#DIV/0!"},{"$error":"#DIV/0!"},{"$error":"#DIV/0!"},{"$error":"#DIV/0!"},{"$error":"#DIV/0!"},{"$error":"#DIV/0!"},{"$error":"#DIV/0!"},{"$error":"#DIV/0!"},{"$error":"#DIV/0!"},{"$error":"#DIV/0!"},{"$error":"#DIV/0!"},{"$error":"#DIV/0!"},{"$error":"#DIV/0!"},{"$error":"#DIV/0!"},{"$error":"#DIV/0!"},{"$error":"#DIV/0!"},{"$error":"#DIV/0!"},{"$error":"#DIV/0!"},{"$error":"#DIV/0!"},{"$error":"#DIV/0!"},null,null,1994,2537,{"$error":"#DIV/0!"},{"$error":"#DIV/0!"},{"$error":"#DIV/0!"},{"$error":"#DIV/0!"},{"$error":"#DIV/0!"},{"$error":"#DIV/0!"},{"$error":"#DIV/0!"},{"$error":"#DIV/0!"},{"$error":"#DIV/0!"},{"$error":"#DIV/0!"},{"$error":"#DIV/0!"},{"$error":"#DIV/0!"}]
[1997,{"$error":"#DIV/0!"},{"$error":"#DIV/0!"},{"$error":"#DIV/0!"},{"$error":"#DIV/0!"},{"$error":"#DIV/0!"},{"$error":"#DIV/0!"},{"$error":"#DIV/0!"},{"$error":"#DIV/0!"},{"$error":"#DIV/0!"},{"$error":"#DIV/0!"},{"$error":"#DIV/0!"},{"$error":"#DIV/0!"},{"$error":"#DIV/0!"},{"$error":"#DIV/0!"},{"$error":"#DIV/0!"},{"$error":"#DIV/0!"},{"$error":"#DIV/0!"},{"$error":"#DIV/0!"},{"$error":"#DIV/0!"},{"$error":"#DIV/0!"},{"$error":"#DIV/0!"},{"$error":"#DIV/0!"},{"$error":"#DIV/0!"},{"$error":"#DIV/0!"},null,null,1995,2538,{"$error":"#DIV/0!"},{"$error":"#DIV/0!"},{"$error":"#DIV/0!"},{"$error":"#DIV/0!"},{"$error":"#DIV/0!"},{"$error":"#DIV/0!"},{"$error":"#DIV/0!"},{"$error":"#DIV/0!"},{"$error":"#DIV/0!"},{"$error":"#DIV/0!"},{"$error":"#DIV/0!"},{"$error":"#DIV/0!"}]
[1998,{"$error":"#DIV/0!"},{"$error":"#DIV/0!"},{"$error":"#DIV/0!"},{"$error":"#DIV/0!"},{"$error":"#DIV/0!"},{"$error":"#DIV/0!"},{"$error":"#DIV/0!"},{"$error":"#DIV/0!"},{"$error":"#DIV/0!"},{"$error":"#DIV/0!"},{"$error":"#DIV/0!"},{"$error":"#DIV/0!"},{"$error":"#DIV/0!"},{"$error":"#DIV/0!"},{"$error":"#DIV/0!"},{"$error":"#DIV/0!"},{"$error":"#DIV/0!"},{"$error":"#DIV/0!"},{"$error":"#DIV/0!"},{"$error":"#DIV/0!"},{"$error":"#DIV/0!"},{"$error":"#DIV/0!"},{"$error":"#DIV/0!"},{"$error":"#DIV/0!"},null,null,1996,2539,{"$error":"#DIV/0!"},{"$error":"#DIV/0!"},{"$error":"#DIV/0!"},{"$error":"#DIV/0!"},{"$error":"#DIV/0!"},{"$error":"#DIV/0!"},{"$error":"#DIV/0!"},{"$error":"#DIV/0!"},{"$error":"#DIV/0!"},{"$error":"#DIV/0!"},{"$error":"#DIV/0!"},{"$error":"#DIV/0!"}]
[1999,{"$error":"#DIV/0!"},{"$error":"#DIV/0!"},{"$error":"#DIV/0!"},{"$error":"#DIV/0!"},{"$error":"#DIV/0!"},{"$error":"#DIV/0!"},{"$error":"#DIV/0!"},{"$error":"#DIV/0!"},{"$error":"#DIV/0!"},{"$error":"#DIV/0!"},{"$error":"#DIV/0!"},{"$error":"#DIV/0!"},{"$error":"#DIV/0!"},{"$error":"#DIV/0!"},{"$error":"#DIV/0!"},{"$error":"#DIV/0!"},{"$error":"#DIV/0!"},{"$error":"#DIV/0!"},{"$error":"#DIV/0!"},{"$error":"#DIV/0!"},{"$error":"#DIV/0!"},{"$error":"#DIV/0!"},{"$error":"#DIV/0!"},{"$error":"#DIV/0!"},null,null,1997,2540,{"$error":"#DIV/0!"},{"$error":"#DIV/0!"},{"$error":"#DIV/0!"},{"$error":"#DIV/0!"},{"$error":"#DIV/0!"},{"$error":"#DIV/0!"},{"$error":"#DIV/0!"},{"$error":"#DIV/0!"},{"$error":"#DIV/0!"},{"$error":"#DIV/0!"},{"$error":"#DIV/0!"},{"$error":"#DIV/0!"}]
[2000,{"$error":"#DIV/0!"},{"$error":"#DIV/0!"},{"$error":"#DIV/0!"},{"$error":"#DIV/0!"},{"$error":"#DIV/0!"},{"$error":"#DIV/0!"},{"$error":"#DIV/0!"},{"$error":"#DIV/0!"},{"$error":"#DIV/0!"},{"$error":"#DIV/0!"},{"$error":"#DIV/0!"},{"$error":"#DIV/0!"},{"$error":"#DIV/0!"},{"$error":"#DIV/0!"},{"$error":"#DIV/0!"},{"$error":"#DIV/0!"},{"$error":"#DIV/0!"},{"$error":"#DIV/0!"},{"$error":"#DIV/0!"},{"$error":"#DIV/0!"},{"$error":"#DIV/0!"},{"$error":"#DIV/0!"},{"$error":"#DIV/0!"},{"$error":"#DIV/0!"},null,null,1998,2541,{"$error":"#DIV/0!"},{"$error":"#DIV/0!"},{"$error":"#DIV/0!"},{"$error":"#DIV/0!"},{"$error":"#DIV/0!"},{"$error":"#DIV/0!"},{"$error":"#DIV/0!"},{"$error":"#DIV/0!"},{"$error":"#DIV/0!"},{"$error":"#DIV/0!"},{"$error":"#DIV/0!"},{"$error":"#DIV/0!"}]
[2001,{"$error":"#DIV/0!"},{"$error":"#DIV/0!"},{"$error":"#DIV/0!"},{"$error":"#DIV/0!"},{"$error":"#DIV/0!"},{"$error":"#DIV/0!"},{"$error":"#DIV/0!"},{"$error":"#DIV/0!"},{"$error":"#DIV/0!"},{"$error":"#DIV/0!"},{"$error":"#DIV/0!"},{"$error":"#DIV/0!"},{"$error":"#DIV/0!"},{"$error":"#DIV/0!"},{"$error":"#DIV/0!"},{"$error":"#DIV/0!"},{"$error":"#DIV/0!"},{"$error":"#DIV/0!"},{"$error":"#DIV/0!"},{"$error":"#DIV/0!"},{"$error":"#DIV/0!"},{"$error":"#DIV/0!"},{"$error":"#DIV/0!"},{"$error":"#DIV/0!"},null,null,1999,2542,{"$error":"#DIV/0!"},{"$error":"#DIV/0!"},{"$error":"#DIV/0!"},{"$error":"#DIV/0!"},{"$error":"#DIV/0!"},{"$error":"#DIV/0!"},{"$error":"#DIV/0!"},{"$error":"#DIV/0!"},{"$error":"#DIV/0!"},{"$error":"#DIV/0!"},{"$error":"#DIV/0!"},{"$error":"#DIV/0!"}]
[2002,{"$error":"#DIV/0!"},{"$error":"#DIV/0!"},{"$error":"#DIV/0!"},{"$error":"#DIV/0!"},{"$error":"#DIV/0!"},{"$error":"#DIV/0!"},{"$error":"#DIV/0!"},{"$error":"#DIV/0!"},{"$error":"#DIV/0!"},{"$error":"#DIV/0!"},{"$error":"#DIV/0!"},{"$error":"#DIV/0!"},{"$error":"#DIV/0!"},{"$error":"#DIV/0!"},{"$error":"#DIV/0!"},{"$error":"#DIV/0!"},{"$error":"#DIV/0!"},{"$error":"#DIV/0!"},{"$error":"#DIV/0!"},{"$error":"#DIV/0!"},{"$error":"#DIV/0!"},{"$error":"#DIV/0!"},{"$error":"#DIV/0!"},{"$error":"#DIV/0!"},null,null,2000,2543,{"$error":"#DIV/0!"},{"$error":"#DIV/0!"},{"$error":"#DIV/0!"},{"$error":"#DIV/0!"},{"$error":"#DIV/0!"},{"$error":"#DIV/0!"},{"$error":"#DIV/0!"},{"$error":"#DIV/0!"},{"$error":"#DIV/0!"},{"$error":"#DIV/0!"},{"$error":"#DIV/0!"},{"$error":"#DIV/0!"}]
[2003,{"$error":"#DIV/0!"},{"$error":"#DIV/0!"},{"$error":"#DIV/0!"},{"$error":"#DIV/0!"},{"$error":"#DIV/0!"},{"$error":"#DIV/0!"},{"$error":"#DIV/0!"},{"$error":"#DIV/0!"},{"$error":"#DIV/0!"},{"$error":"#DIV/0!"},{"$error":"#DIV/0!"},{"$error":"#DIV/0!"},{"$error":"#DIV/0!"},{"$error":"#DIV/0!"},{"$error":"#DIV/0!"},{"$error":"#DIV/0!"},{"$error":"#DIV/0!"},{"$error":"#DIV/0!"},{"$error":"#DIV/0!"},{"$error":"#DIV/0!"},{"$error":"#DIV/0!"},{"$error":"#DIV/0!"},{"$error":"#DIV/0!"},{"$error":"#DIV/0!"},null,null,2001,2544,{"$error":"#DIV/0!"},{"$error":"#DIV/0!"},{"$error":"#DIV/0!"},{"$error":"#DIV/0!"},{"$error":"#DIV/0!"},{"$error":"#DIV/0!"},{"$error":"#DIV/0!"},{"$error":"#DIV/0!"},{"$error":"#DIV/0!"},{"$error":"#DIV/0!"},{"$error":"#DIV/0!"},{"$error":"#DIV/0!"}]
[2004,{"$f":"IF(OR(B$136=0,B$136>12),\"\",IF(B$133<0,-1*SUM(OFFSET(B100,0,0,1,IF(AND(A$133>0,C$133>0),1,(B$135)+1+B$133))),B100*-1))","v":{"$error":"#DIV/0!"}},{"$error":"#DIV/0!"},{"$error":"#DIV/0!"},{"$error":"#DIV/0!"},{"$error":"#DIV/0!"},{"$error":"#DIV/0!"},{"$error":"#DIV/0!"},{"$error":"#DIV/0!"},{"$error":"#DIV/0!"},{"$error":"#DIV/0!"},{"$error":"#DIV/0!"},{"$error":"#DIV/0!"},{"$f":"IF(OR(N$136=0,N$136>12),\"\",IF(N$133<0,-1*SUM(OFFSET(B100,0,0,1,IF(AND(M$133>0,O$133>0),1,(N$135)+1+N$133))),B100*-1))","v":{"$error":"#DIV/0!"}},{"$error":"#DIV/0!"},{"$error":"#DIV/0!"},{"$error":"#DIV/0!"},{"$error":"#DIV/0!"},{"$error":"#DIV/0!"},{"$error":"#DIV/0!"},{"$error":"#DIV/0!"},{"$error":"#DIV/0!"},{"$error":"#DIV/0!"},{"$error":"#DIV/0!"},{"$error":"#DIV/0!"},null,null,2002,2545,{"$error":"#DIV/0!"},{"$error":"#DIV/0!"},{"$error":"#DIV/0!"},{"$error":"#DIV/0!"},{"$error":"#DIV/0!"},{"$error":"#DIV/0!"},{"$error":"#DIV/0!"},{"$error":"#DIV/0!"},{"$error":"#DIV/0!"},{"$error":"#DIV/0!"},{"$error":"#DIV/0!"},{"$error":"#DIV/0!"}]
[2005,{"$error":"#DIV/0!"},{"$error":"#DIV/0!"},{"$error":"#DIV/0!"},{"$error":"#DIV/0!"},{"$error":"#DIV/0!"},{"$error":"#DIV/0!"},{"$error":"#DIV/0!"},{"$error":"#DIV/0!"},{"$error":"#DIV/0!"},{"$error":"#DIV/0!"},{"$error":"#DIV/0!"},{"$error":"#DIV/0!"},{"$error":"#DIV/0!"},{"$error":"#DIV/0!"},{"$error":"#DIV/0!"},{"$error":"#DIV/0!"},{"$error":"#DIV/0!"},{"$error":"#DIV/0!"},{"$error":"#DIV/0!"},{"$error":"#DIV/0!"},{"$error":"#DIV/0!"},{"$error":"#DIV/0!"},{"$error":"#DIV/0!"},{"$error":"#DIV/0!"},null,null,2003,2546,{"$error":"#DIV/0!"},{"$error":"#DIV/0!"},{"$error":"#DIV/0!"},{"$error":"#DIV/0!"},{"$error":"#DIV/0!"},{"$error":"#DIV/0!"},{"$error":"#DIV/0!"},{"$error":"#DIV/0!"},{"$error":"#DIV/0!"},{"$error":"#DIV/0!"},{"$error":"#DIV/0!"},{"$error":"#DIV/0!"}]
[2006,{"$error":"#DIV/0!"},{"$error":"#DIV/0!"},{"$error":"#DIV/0!"},{"$error":"#DIV/0!"},{"$error":"#DIV/0!"},{"$error":"#DIV/0!"},{"$error":"#DIV/0!"},{"$error":"#DIV/0!"},{"$error":"#DIV/0!"},{"$error":"#DIV/0!"},{"$error":"#DIV/0!"},{"$error":"#DIV/0!"},{"$error":"#DIV/0!"},{"$error":"#DIV/0!"},{"$error":"#DIV/0!"},{"$error":"#DIV/0!"},{"$error":"#DIV/0!"},{"$error":"#DIV/0!"},{"$error":"#DIV/0!"},{"$error":"#DIV/0!"},{"$error":"#DIV/0!"},{"$error":"#DIV/0!"},{"$error":"#DIV/0!"},{"$error":"#DIV/0!"},null,null,2004,2547,{"$error":"#DIV/0!"},{"$error":"#DIV/0!"},{"$error":"#DIV/0!"},{"$error":"#DIV/0!"},{"$error":"#DIV/0!"},{"$error":"#DIV/0!"},{"$error":"#DIV/0!"},{"$error":"#DIV/0!"},{"$error":"#DIV/0!"},{"$error":"#DIV/0!"},{"$error":"#DIV/0!"},{"$error":"#DIV/0!"}]
[2007,{"$error":"#DIV/0!"},{"$error":"#DIV/0!"},{"$error":"#DIV/0!"},{"$error":"#DIV/0!"},{"$error":"#DIV/0!"},{"$error":"#DIV/0!"},{"$error":"#DIV/0!"},{"$error":"#DIV/0!"},{"$error":"#DIV/0!"},{"$error":"#DIV/0!"},{"$error":"#DIV/0!"},{"$error":"#DIV/0!"},{"$error":"#DIV/0!"},{"$error":"#DIV/0!"},{"$error":"#DIV/0!"},{"$error":"#DIV/0!"},{"$error":"#DIV/0!"},{"$error":"#DIV/0!"},{"$error":"#DIV/0!"},{"$error":"#DIV/0!"},{"$error":"#DIV/0!"},{"$error":"#DIV/0!"},{"$error":"#DIV/0!"},{"$error":"#DIV/0!"},null,null,2005,2548,{"$error":"#DIV/0!"},{"$error":"#DIV/0!"},{"$error":"#DIV/0!"},{"$error":"#DIV/0!"},{"$error":"#DIV/0!"},{"$error":"#DIV/0!"},{"$error":"#DIV/0!"},{"$error":"#DIV/0!"},{"$error":"#DIV/0!"},{"$error":"#DIV/0!"},{"$error":"#DIV/0!"},{"$error":"#DIV/0!"}]
[2008,{"$error":"#DIV/0!"},{"$error":"#DIV/0!"},{"$error":"#DIV/0!"},{"$error":"#DIV/0!"},{"$error":"#DIV/0!"},{"$error":"#DIV/0!"},{"$error":"#DIV/0!"},{"$error":"#DIV/0!"},{"$error":"#DIV/0!"},{"$error":"#DIV/0!"},{"$error":"#DIV/0!"},{"$error":"#DIV/0!"},{"$error":"#DIV/0!"},{"$error":"#DIV/0!"},{"$error":"#DIV/0!"},{"$error":"#DIV/0!"},{"$error":"#DIV/0!"},{"$error":"#DIV/0!"},{"$error":"#DIV/0!"},{"$error":"#DIV/0!"},{"$error":"#DIV/0!"},{"$error":"#DIV/0!"},{"$error":"#DIV/0!"},{"$error":"#DIV/0!"},null,null,2006,2549,{"$error":"#DIV/0!"},{"$error":"#DIV/0!"},{"$error":"#DIV/0!"},{"$error":"#DIV/0!"},{"$error":"#DIV/0!"},{"$error":"#DIV/0!"},{"$error":"#DIV/0!"},{"$error":"#DIV/0!"},{"$error":"#DIV/0!"},{"$error":"#DIV/0!"},{"$error":"#DIV/0!"},{"$error":"#DIV/0!"}]
[2009,{"$error":"#DIV/0!"},{"$error":"#DIV/0!"},{"$error":"#DIV/0!"},{"$error":"#DIV/0!"},{"$error":"#DIV/0!"},{"$error":"#DIV/0!"},{"$error":"#DIV/0!"},{"$error":"#DIV/0!"},{"$error":"#DIV/0!"},{"$error":"#DIV/0!"},{"$error":"#DIV/0!"},{"$error":"#DIV/0!"},{"$error":"#DIV/0!"},{"$error":"#DIV/0!"},{"$error":"#DIV/0!"},{"$error":"#DIV/0!"},{"$error":"#DIV/0!"},{"$error":"#DIV/0!"},{"$error":"#DIV/0!"},{"$error":"#DIV/0!"},{"$error":"#DIV/0!"},{"$error":"#DIV/0!"},{"$error":"#DIV/0!"},{"$error":"#DIV/0!"},null,null,2007,2550,{"$error":"#DIV/0!"},{"$error":"#DIV/0!"},{"$error":"#DIV/0!"},{"$error":"#DIV/0!"},{"$error":"#DIV/0!"},{"$error":"#DIV/0!"},{"$error":"#DIV/0!"},{"$error":"#DIV/0!"},{"$error":"#DIV/0!"},{"$error":"#DIV/0!"},{"$error":"#DIV/0!"},{"$error":"#DIV/0!"}]
[2010,{"$error":"#DIV/0!"},{"$error":"#DIV/0!"},{"$error":"#DIV/0!"},{"$error":"#DIV/0!"},{"$error":"#DIV/0!"},{"$error":"#DIV/0!"},{"$error":"#DIV/0!"},{"$error":"#DIV/0!"},{"$error":"#DIV/0!"},{"$error":"#DIV/0!"},{"$error":"#DIV/0!"},{"$error":"#DIV/0!"},{"$error":"#DIV/0!"},{"$error":"#DIV/0!"},{"$error":"#DIV/0!"},{"$error":"#DIV/0!"},{"$error":"#DIV/0!"},{"$error":"#DIV/0!"},{"$error":"#DIV/0!"},{"$error":"#DIV/0!"},{"$error":"#DIV/0!"},{"$error":"#DIV/0!"},{"$error":"#DIV/0!"},{"$error":"#DIV/0!"},null,null,2008,2551,{"$error":"#DIV/0!"},{"$error":"#DIV/0!"},{"$error":"#DIV/0!"},{"$error":"#DIV/0!"},{"$error":"#DIV/0!"},{"$error":"#DIV/0!"},{"$error":"#DIV/0!"},{"$error":"#DIV/0!"},{"$error":"#DIV/0!"},{"$error":"#DIV/0!"},{"$error":"#DIV/0!"},{"$error":"#DIV/0!"}]
[2011,{"$error":"#DIV/0!"},{"$error":"#DIV/0!"},{"$error":"#DIV/0!"},{"$error":"#DIV/0!"},{"$error":"#DIV/0!"},{"$error":"#DIV/0!"},{"$error":"#DIV/0!"},{"$error":"#DIV/0!"},{"$error":"#DIV/0!"},{"$error":"#DIV/0!"},{"$error":"#DIV/0!"},{"$error":"#DIV/0!"},{"$error":"#DIV/0!"},{"$error":"#DIV/0!"},{"$error":"#DIV/0!"},{"$error":"#DIV/0!"},{"$error":"#DIV/0!"},{"$error":"#DIV/0!"},{"$error":"#DIV/0!"},{"$error":"#DIV/0!"},{"$error":"#DIV/0!"},{"$error":"#DIV/0!"},{"$error":"#DIV/0!"},{"$error":"#DIV/0!"},null,null,2009,2552,{"$error":"#DIV/0!"},{"$error":"#DIV/0!"},{"$error":"#DIV/0!"},{"$error":"#DIV/0!"},{"$error":"#DIV/0!"},{"$error":"#DIV/0!"},{"$error":"#DIV/0!"},{"$error":"#DIV/0!"},{"$error":"#DIV/0!"},{"$error":"#DIV/0!"},{"$error":"#DIV/0!"},{"$error":"#DIV/0!"}]
[2012,{"$error":"#DIV/0!"},{"$error":"#DIV/0!"},{"$error":"#DIV/0!"},{"$error":"#DIV/0!"},{"$error":"#DIV/0!"},{"$error":"#DIV/0!"},{"$error":"#DIV/0!"},{"$error":"#DIV/0!"},{"$error":"#DIV/0!"},{"$error":"#DIV/0!"},{"$error":"#DIV/0!"},{"$error":"#DIV/0!"},{"$error":"#DIV/0!"},{"$error":"#DIV/0!"},{"$error":"#DIV/0!"},{"$error":"#DIV/0!"},{"$error":"#DIV/0!"},{"$error":"#DIV/0!"},{"$error":"#DIV/0!"},{"$error":"#DIV/0!"},{"$error":"#DIV/0!"},{"$error":"#DIV/0!"},{"$error":"#DIV/0!"},{"$error":"#DIV/0!"},null,null,2010,2553,{"$error":"#DIV/0!"},{"$error":"#DIV/0!"},{"$error":"#DIV/0!"},{"$error":"#DIV/0!"},{"$error":"#DIV/0!"},{"$error":"#DIV/0!"},{"$error":"#DIV/0!"},{"$error":"#DIV/0!"},{"$error":"#DIV/0!"},{"$error":"#DIV/0!"},{"$error":"#DIV/0!"},{"$error":"#DIV/0!"}]
[2013,{"$error":"#DIV/0!"},{"$error":"#DIV/0!"},{"$error":"#DIV/0!"},{"$error":"#DIV/0!"},{"$error":"#DIV/0!"},{"$error":"#DIV/0!"},{"$error":"#DIV/0!"},{"$error":"#DIV/0!"},{"$error":"#DIV/0!"},{"$error":"#DIV/0!"},{"$error":"#DIV/0!"},{"$error":"#DIV/0!"},{"$error":"#DIV/0!"},{"$error":"#DIV/0!"},{"$error":"#DIV/0!"},{"$error":"#DIV/0!"},{"$error":"#DIV/0!"},{"$error":"#DIV/0!"},{"$error":"#DIV/0!"},{"$error":"#DIV/0!"},{"$error":"#DIV/0!"},{"$error":"#DIV/0!"},{"$error":"#DIV/0!"},{"$error":"#DIV/0!"},null,null,2011,2554,{"$error":"#DIV/0!"},{"$error":"#DIV/0!"},{"$error":"#DIV/0!"},{"$error":"#DIV/0!"},{"$error":"#DIV/0!"},{"$error":"#DIV/0!"},{"$error":"#DIV/0!"},{"$error":"#DIV/0!"},{"$error":"#DIV/0!"},{"$error":"#DIV/0!"},{"$error":"#DIV/0!"},{"$error":"#DIV/0!"}]
[2014,{"$error":"#DIV/0!"},{"$error":"#DIV/0!"},{"$error":"#DIV/0!"},{"$error":"#DIV/0!"},{"$error":"#DIV/0!"},{"$error":"#DIV/0!"},{"$error":"#DIV/0!"},{"$error":"#DIV/0!"},{"$error":"#DIV/0!"},{"$error":"#DIV/0!"},{"$error":"#DIV/0!"},{"$error":"#DIV/0!"},{"$error":"#DIV/0!"},{"$error":"#DIV/0!"},{"$error":"#DIV/0!"},{"$error":"#DIV/0!"},{"$error":"#DIV/0!"},{"$error":"#DIV/0!"},{"$error":"#DIV/0!"},{"$error":"#DIV/0!"},{"$error":"#DIV/0!"},{"$error":"#DIV/0!"},{"$error":"#DIV/0!"},{"$error":"#DIV/0!"},null,null,2012,2555,{"$error":"#DIV/0!"},{"$error":"#DIV/0!"},{"$error":"#DIV/0!"},{"$error":"#DIV/0!"},{"$error":"#DIV/0!"},{"$error":"#DIV/0!"},{"$error":"#DIV/0!"},{"$error":"#DIV/0!"},{"$error":"#DIV/0!"},{"$error":"#DIV/0!"},{"$error":"#DIV/0!"},{"$error":"#DIV/0!"}]
[2015,{"$error":"#DIV/0!"},{"$error":"#DIV/0!"},{"$error":"#DIV/0!"},{"$error":"#DIV/0!"},{"$error":"#DIV/0!"},{"$error":"#DIV/0!"},{"$error":"#DIV/0!"},{"$error":"#DIV/0!"},{"$error":"#DIV/0!"},{"$error":"#DIV/0!"},{"$error":"#DIV/0!"},{"$error":"#DIV/0!"},{"$error":"#DIV/0!"},{"$error":"#DIV/0!"},{"$error":"#DIV/0!"},{"$error":"#DIV/0!"},{"$error":"#DIV/0!"},{"$error":"#DIV/0!"},{"$error":"#DIV/0!"},{"$error":"#DIV/0!"},{"$error":"#DIV/0!"},{"$error":"#DIV/0!"},{"$error":"#DIV/0!"},{"$error":"#DIV/0!"},null,null,2013,2556,{"$error":"#DIV/0!"},{"$error":"#DIV/0!"},{"$error":"#DIV/0!"},{"$error":"#DIV/0!"},{"$error":"#DIV/0!"},{"$error":"#DIV/0!"},{"$error":"#DIV/0!"},{"$error":"#DIV/0!"},{"$error":"#DIV/0!"},{"$error":"#DIV/0!"},{"$error":"#DIV/0!"},{"$error":"#DIV/0!"}]
[2016,{"$error":"#DIV/0!"},{"$error":"#DIV/0!"},{"$error":"#DIV/0!"},{"$error":"#DIV/0!"},{"$error":"#DIV/0!"},{"$error":"#DIV/0!"},{"$error":"#DIV/0!"},{"$error":"#DIV/0!"},{"$error":"#DIV/0!"},{"$error":"#DIV/0!"},{"$error":"#DIV/0!"},{"$error":"#DIV/0!"},{"$error":"#DIV/0!"},{"$error":"#DIV/0!"},{"$error":"#DIV/0!"},{"$error":"#DIV/0!"},{"$error":"#DIV/0!"},{"$error":"#DIV/0!"},{"$error":"#DIV/0!"},{"$error":"#DIV/0!"},{"$error":"#DIV/0!"},{"$error":"#DIV/0!"},{"$error":"#DIV/0!"},{"$error":"#DIV/0!"},null,null,2014,2557,{"$error":"#DIV/0!"},{"$error":"#DIV/0!"},{"$error":"#DIV/0!"},{"$error":"#DIV/0!"},{"$error":"#DIV/0!"},{"$error":"#DIV/0!"},{"$error":"#DIV/0!"},{"$error":"#DIV/0!"},{"$error":"#DIV/0!"},{"$error":"#DIV/0!"},{"$error":"#DIV/0!"},{"$error":"#DIV/0!"}]
[2017,{"$error":"#DIV/0!"},{"$error":"#DIV/0!"},{"$error":"#DIV/0!"},{"$error":"#DIV/0!"},{"$error":"#DIV/0!"},{"$error":"#DIV/0!"},{"$error":"#DIV/0!"},{"$error":"#DIV/0!"},{"$error":"#DIV/0!"},{"$error":"#DIV/0!"},{"$error":"#DIV/0!"},{"$error":"#DIV/0!"},{"$error":"#DIV/0!"},{"$error":"#DIV/0!"},{"$error":"#DIV/0!"},{"$error":"#DIV/0!"},{"$error":"#DIV/0!"},{"$error":"#DIV/0!"},{"$error":"#DIV/0!"},{"$error":"#DIV/0!"},{"$error":"#DIV/0!"},{"$error":"#DIV/0!"},{"$error":"#DIV/0!"},{"$error":"#DIV/0!"},null,null,2015,2558,{"$error":"#DIV/0!"},{"$error":"#DIV/0!"},{"$error":"#DIV/0!"},{"$error":"#DIV/0!"},{"$error":"#DIV/0!"},{"$error":"#DIV/0!"},{"$error":"#DIV/0!"},{"$error":"#DIV/0!"},{"$error":"#DIV/0!"},{"$error":"#DIV/0!"},{"$error":"#DIV/0!"},{"$error":"#DIV/0!"}]
[2018,{"$error":"#DIV/0!"},{"$error":"#DIV/0!"},{"$error":"#DIV/0!"},{"$error":"#DIV/0!"},{"$error":"#DIV/0!"},{"$error":"#DIV/0!"},{"$error":"#DIV/0!"},{"$error":"#DIV/0!"},{"$error":"#DIV/0!"},{"$error":"#DIV/0!"},{"$error":"#DIV/0!"},{"$error":"#DIV/0!"},{"$error":"#DIV/0!"},{"$error":"#DIV/0!"},{"$error":"#DIV/0!"},{"$error":"#DIV/0!"},{"$error":"#DIV/0!"},{"$error":"#DIV/0!"},{"$f":"IF(OR(T$136=0,T$136>12),\"\",IF(T$133<0,-1*SUM(OFFSET(H114,0,0,1,IF(AND(S$133>0,U$133>0),1,T$135+1+T$133))),H114))","v":{"$error":"#DIV/0!"}},{"$f":"IF(OR(U$136=0,U$136>12),\"\",IF(U$133<0,-1*SUM(OFFSET(I114,0,0,1,IF(AND(T$133>0,V$133>0),1,U$135+1+U$133))),I114))","v":{"$error":"#DIV/0!"}},{"$f":"IF(OR(V$136=0,V$136>12),\"\",IF(V$133<0,-1*SUM(OFFSET(J114,0,0,1,IF(AND(U$133>0,W$133>0),1,V$135+1+V$133))),J114))","v":{"$error":"#DIV/0!"}},{"$f":"IF(OR(W$136=0,W$136>12),\"\",IF(W$133<0,-1*SUM(OFFSET(K114,0,0,1,IF(AND(V$133>0,X$133>0),1,W$135+1+W$133))),K114))","v":{"$error":"#DIV/0!"}},{"$f":"IF(OR(X$136=0,X$136>12),\"\",IF(X$133<0,-1*SUM(OFFSET(L114,0,0,1,IF(AND(W$133>0,Y$133>0),1,X$135+1+X$133))),L114))","v":{"$error":"#DIV/0!"}},{"$f":"IF(OR(Y$136=0,Y$136>12),\"\",IF(Y$133<0,-1*SUM(OFFSET(M114,0,0,1,IF(AND(X$133>0,Z$133>0),1,Y$135+1+Y$133))),M114))","v":{"$error":"#DIV/0!"}},null,null,2016,2559,{"$error":"#DIV/0!"},{"$error":"#DIV/0!"},{"$error":"#DIV/0!"},{"$error":"#DIV/0!"},{"$error":"#DIV/0!"},{"$error":"#DIV/0!"},{"$error":"#DIV/0!"},{"$error":"#DIV/0!"},{"$error":"#DIV/0!"},{"$error":"#DIV/0!"},{"$error":"#DIV/0!"},{"$error":"#DIV/0!"}]
[2019,{"$error":"#DIV/0!"},{"$error":"#DIV/0!"},{"$error":"#DIV/0!"},{"$error":"#DIV/0!"},{"$error":"#DIV/0!"},{"$error":"#DIV/0!"},{"$error":"#DIV/0!"},{"$error":"#DIV/0!"},{"$error":"#DIV/0!"},{"$error":"#DIV/0!"},{"$error":"#DIV/0!"},{"$error":"#DIV/0!"},{"$error":"#DIV/0!"},{"$error":"#DIV/0!"},{"$error":"#DIV/0!"},{"$error":"#DIV/0!"},{"$error":"#DIV/0!"},{"$error":"#DIV/0!"},{"$error":"#DIV/0!"},{"$error":"#DIV/0!"},{"$error":"#DIV/0!"},{"$error":"#DIV/0!"},{"$error":"#DIV/0!"},{"$error":"#DIV/0!"},null,null,2017,2560,{"$error":"#DIV/0!"},{"$error":"#DIV/0!"},{"$error":"#DIV/0!"},{"$error":"#DIV/0!"},{"$error":"#DIV/0!"},{"$error":"#DIV/0!"},{"$error":"#DIV/0!"},{"$error":"#DIV/0!"},{"$error":"#DIV/0!"},{"$error":"#DIV/0!"},{"$error":"#DIV/0!"},{"$error":"#DIV/0!"}]
[2020,{"$f":"IF(OR(B$136=0,B$136>12),\"\",IF(B$133<0,-1*SUM(OFFSET(B116,0,0,1,IF(AND(A$133>0,C$133>0),1,(B$135)+1+B$133))),B116*-1))","v":{"$error":"#DIV/0!"}},{"$error":"#DIV/0!"},{"$error":"#DIV/0!"},{"$error":"#DIV/0!"},{"$error":"#DIV/0!"},{"$error":"#DIV/0!"},{"$error":"#DIV/0!"},{"$error":"#DIV/0!"},{"$error":"#DIV/0!"},{"$error":"#DIV/0!"},{"$error":"#DIV/0!"},{"$error":"#DIV/0!"},{"$f":"IF(OR(N$136=0,N$136>12),\"\",IF(N$133<0,-1*SUM(OFFSET(B116,0,0,1,IF(AND(M$133>0,O$133>0),1,(N$135)+1+N$133))),B116*-1))","v":{"$error":"#DIV/0!"}},{"$error":"#DIV/0!"},{"$error":"#DIV/0!"},{"$error":"#DIV/0!"},{"$error":"#DIV/0!"},{"$error":"#DIV/0!"},{"$error":"#DIV/0!"},{"$error":"#DIV/0!"},{"$error":"#DIV/0!"},{"$error":"#DIV/0!"},{"$error":"#DIV/0!"},{"$error":"#DIV/0!"},null,null,2018,{"$f":"A227+543","v":2561},{"$f":"IF(B170<>\"\",IF(B170=0,\"\",B170),IF(N170=0,\"\",N170))","v":{"$error":"#DIV/0!"}},{"$f":"IF(C170<>\"\",IF(C170=0,\"\",C170),IF(O170=0,\"\",O170))","v":{"$error":"#DIV/0!"}},{"$f":"IF(D170<>\"\",IF(D170=0,\"\",D170),IF(P170=0,\"\",P170))","v":{"$error":"#DIV/0!"}},{"$f":"IF(E170<>\"\",IF(E170=0,\"\",E170),IF(Q170=0,\"\",Q170))","v":{"$error":"#DIV/0!"}},{"$f":"IF(F170<>\"\",IF(F170=0,\"\",F170),IF(R170=0,\"\",R170))","v":{"$error":"#DIV/0!"}},{"$f":"IF(G170<>\"\",IF(G170=0,\"\",G170),IF(S170=0,\"\",S170))","v":{"$error":"#DIV/0!"}},{"$f":"IF(H170<>\"\",IF(H170=0,\"\",H170),IF(T170=0,\"\",T170))","v":{"$error":"#DIV/0!"}},{"$f":"IF(I170<>\"\",IF(I170=0,\"\",I170),IF(U170=0,\"\",U170))","v":{"$error":"#DIV/0!"}},{"$f":"IF(J170<>\"\",IF(J170=0,\"\",J170),IF(V170=0,\"\",V170))","v":{"$error":"#DIV/0!"}},{"$f":"IF(K170<>\"\",IF(K170=0,\"\",K170),IF(W170=0,\"\",W170))","v":{"$error":"#DIV/0!"}},{"$f":"IF(L170<>\"\",IF(L170=0,\"\",L170),IF(X170=0,\"\",X170))","v":{"$error":"#DIV/0!"}},{"$f":"IF(M170<>\"\",IF(M170=0,\"\",M170),IF(Y170=0,\"\",Y170))","v":{"$error":"#DIV/0!"}}]
[2021,{"$error":"#DIV/0!"},{"$error":"#DIV/0!"},{"$error":"#DIV/0!"},{"$error":"#DIV/0!"},{"$error":"#DIV/0!"},{"$error":"#DIV/0!"},{"$error":"#DIV/0!"},{"$error":"#DIV/0!"},{"$error":"#DIV/0!"},{"$error":"#DIV/0!"},{"$error":"#DIV/0!"},{"$error":"#DIV/0!"},{"$error":"#DIV/0!"},{"$error":"#DIV/0!"},{"$error":"#DIV/0!"},{"$error":"#DIV/0!"},{"$error":"#DIV/0!"},{"$error":"#DIV/0!"},{"$error":"#DIV/0!"},{"$error":"#DIV/0!"},{"$error":"#DIV/0!"},{"$error":"#DIV/0!"},{"$error":"#DIV/0!"},{"$error":"#DIV/0!"},null,null,{"$f":"A227+1","v":2019},2562,{"$error":"#DIV/0!"},{"$error":"#DIV/0!"},{"$error":"#DIV/0!"},{"$error":"#DIV/0!"},{"$error":"#DIV/0!"},{"$error":"#DIV/0!"},{"$error":"#DIV/0!"},{"$error":"#DIV/0!"},{"$error":"#DIV/0!"},{"$error":"#DIV/0!"},{"$error":"#DIV/0!"},{"$error":"#DIV/0!"}]
[2022,{"$error":"#DIV/0!"},{"$error":"#DIV/0!"},{"$error":"#DIV/0!"},{"$error":"#DIV/0!"},{"$error":"#DIV/0!"},{"$error":"#DIV/0!"},{"$error":"#DIV/0!"},{"$error":"#DIV/0!"},{"$error":"#DIV/0!"},{"$error":"#DIV/0!"},{"$error":"#DIV/0!"},{"$error":"#DIV/0!"},{"$error":"#DIV/0!"},{"$error":"#DIV/0!"},{"$error":"#DIV/0!"},{"$error":"#DIV/0!"},{"$error":"#DIV/0!"},{"$error":"#DIV/0!"},{"$error":"#DIV/0!"},{"$error":"#DIV/0!"},{"$error":"#DIV/0!"},{"$error":"#DIV/0!"},{"$error":"#DIV/0!"},{"$error":"#DIV/0!"},null,null,2020,2563,{"$error":"#DIV/0!"},{"$error":"#DIV/0!"},{"$error":"#DIV/0!"},{"$error":"#DIV/0!"},{"$error":"#DIV/0!"},{"$error":"#DIV/0!"},{"$error":"#DIV/0!"},{"$error":"#DIV/0!"},{"$error":"#DIV/0!"},{"$error":"#DIV/0!"},{"$error":"#DIV/0!"},{"$error":"#DIV/0!"}]
[2023,{"$error":"#DIV/0!"},{"$error":"#DIV/0!"},{"$error":"#DIV/0!"},{"$error":"#DIV/0!"},{"$error":"#DIV/0!"},{"$error":"#DIV/0!"},{"$error":"#DIV/0!"},{"$error":"#DIV/0!"},{"$error":"#DIV/0!"},{"$error":"#DIV/0!"},{"$error":"#DIV/0!"},{"$error":"#DIV/0!"},{"$error":"#DIV/0!"},{"$error":"#DIV/0!"},{"$error":"#DIV/0!"},{"$error":"#DIV/0!"},{"$error":"#DIV/0!"},{"$error":"#DIV/0!"},{"$error":"#DIV/0!"},{"$error":"#DIV/0!"},{"$error":"#DIV/0!"},{"$error":"#DIV/0!"},{"$error":"#DIV/0!"},{"$error":"#DIV/0!"},null,null,2021,2564,{"$error":"#DIV/0!"},{"$error":"#DIV/0!"},{"$error":"#DIV/0!"},{"$error":"#DIV/0!"},{"$error":"#DIV/0!"},{"$error":"#DIV/0!"},{"$error":"#DIV/0!"},{"$error":"#DIV/0!"},{"$error":"#DIV/0!"},{"$error":"#DIV/0!"},{"$error":"#DIV/0!"},{"$error":"#DIV/0!"}]
[2024,{"$error":"#DIV/0!"},{"$error":"#DIV/0!"},{"$error":"#DIV/0!"},{"$error":"#DIV/0!"},{"$error":"#DIV/0!"},{"$error":"#DIV/0!"},{"$error":"#DIV/0!"},{"$error":"#DIV/0!"},{"$error":"#DIV/0!"},{"$error":"#DIV/0!"},{"$error":"#DIV/0!"},{"$error":"#DIV/0!"},{"$error":"#DIV/0!"},{"$error":"#DIV/0!"},{"$error":"#DIV/0!"},{"$error":"#DIV/0!"},{"$error":"#DIV/0!"},{"$error":"#DIV/0!"},{"$error":"#DIV/0!"},{"$error":"#DIV/0!"},{"$error":"#DIV/0!"},{"$error":"#DIV/0!"},{"$error":"#DIV/0!"},{"$error":"#DIV/0!"},null,null,2022,2565,{"$error":"#DIV/0!"},{"$error":"#DIV/0!"},{"$error":"#DIV/0!"},{"$error":"#DIV/0!"},{"$error":"#DIV/0!"},{"$error":"#DIV/0!"},{"$error":"#DIV/0!"},{"$error":"#DIV/0!"},{"$error":"#DIV/0!"},{"$error":"#DIV/0!"},{"$error":"#DIV/0!"},{"$error":"#DIV/0!"}]
[2025,{"$error":"#DIV/0!"},{"$error":"#DIV/0!"},{"$error":"#DIV/0!"},{"$error":"#DIV/0!"},{"$error":"#DIV/0!"},{"$error":"#DIV/0!"},{"$error":"#DIV/0!"},{"$error":"#DIV/0!"},{"$error":"#DIV/0!"},{"$error":"#DIV/0!"},{"$error":"#DIV/0!"},{"$error":"#DIV/0!"},{"$error":"#DIV/0!"},{"$error":"#DIV/0!"},{"$error":"#DIV/0!"},{"$error":"#DIV/0!"},{"$error":"#DIV/0!"},{"$error":"#DIV/0!"},{"$error":"#DIV/0!"},{"$error":"#DIV/0!"},{"$error":"#DIV/0!"},{"$error":"#DIV/0!"},{"$error":"#DIV/0!"},{"$error":"#DIV/0!"},null,null,2023,2566,{"$error":"#DIV/0!"},{"$error":"#DIV/0!"},{"$error":"#DIV/0!"},{"$error":"#DIV/0!"},{"$error":"#DIV/0!"},{"$error":"#DIV/0!"},{"$error":"#DIV/0!"},{"$error":"#DIV/0!"},{"$error":"#DIV/0!"},{"$error":"#DIV/0!"},{"$error":"#DIV/0!"},{"$error":"#DIV/0!"}]
[2026,{"$error":"#DIV/0!"},{"$error":"#DIV/0!"},{"$error":"#DIV/0!"},{"$error":"#DIV/0!"},{"$error":"#DIV/0!"},{"$error":"#DIV/0!"},{"$error":"#DIV/0!"},{"$error":"#DIV/0!"},{"$error":"#DIV/0!"},{"$error":"#DIV/0!"},{"$error":"#DIV/0!"},{"$error":"#DIV/0!"},{"$error":"#DIV/0!"},{"$error":"#DIV/0!"},{"$error":"#DIV/0!"},{"$error":"#DIV/0!"},{"$error":"#DIV/0!"},{"$error":"#DIV/0!"},{"$error":"#DIV/0!"},{"$error":"#DIV/0!"},{"$error":"#DIV/0!"},{"$error":"#DIV/0!"},{"$error":"#DIV/0!"},{"$error":"#DIV/0!"},null,null,2024,2567,{"$error":"#DIV/0!"},{"$error":"#DIV/0!"},{"$error":"#DIV/0!"},{"$error":"#DIV/0!"},{"$error":"#DIV/0!"},{"$error":"#DIV/0!"},{"$error":"#DIV/0!"},{"$error":"#DIV/0!"},{"$error":"#DIV/0!"},{"$error":"#DIV/0!"},{"$error":"#DIV/0!"},{"$error":"#DIV/0!"}]
[2027,{"$error":"#DIV/0!"},{"$error":"#DIV/0!"},{"$error":"#DIV/0!"},{"$error":"#DIV/0!"},{"$error":"#DIV/0!"},{"$error":"#DIV/0!"},{"$error":"#DIV/0!"},{"$error":"#DIV/0!"},{"$error":"#DIV/0!"},{"$error":"#DIV/0!"},{"$error":"#DIV/0!"},{"$error":"#DIV/0!"},{"$error":"#DIV/0!"},{"$error":"#DIV/0!"},{"$error":"#DIV/0!"},{"$error":"#DIV/0!"},{"$error":"#DIV/0!"},{"$error":"#DIV/0!"},{"$error":"#DIV/0!"},{"$error":"#DIV/0!"},{"$error":"#DIV/0!"},{"$error":"#DIV/0!"},{"$error":"#DIV/0!"},{"$error":"#DIV/0!"},null,null,2025,2568,{"$error":"#DIV/0!"},{"$error":"#DIV/0!"},{"$error":"#DIV/0!"},{"$error":"#DIV/0!"},{"$error":"#DIV/0!"},{"$error":"#DIV/0!"},{"$error":"#DIV/0!"},{"$error":"#DIV/0!"},{"$error":"#DIV/0!"},{"$error":"#DIV/0!"},{"$error":"#DIV/0!"},{"$error":"#DIV/0!"}]
[2028,{"$error":"#DIV/0!"},{"$error":"#DIV/0!"},{"$error":"#DIV/0!"},{"$error":"#DIV/0!"},{"$error":"#DIV/0!"},{"$error":"#DIV/0!"},{"$error":"#DIV/0!"},{"$error":"#DIV/0!"},{"$error":"#DIV/0!"},{"$error":"#DIV/0!"},{"$error":"#DIV/0!"},{"$error":"#DIV/0!"},{"$error":"#DIV/0!"},{"$error":"#DIV/0!"},{"$error":"#DIV/0!"},{"$error":"#DIV/0!"},{"$error":"#DIV/0!"},{"$error":"#DIV/0!"},{"$error":"#DIV/0!"},{"$error":"#DIV/0!"},{"$error":"#DIV/0!"},{"$error":"#DIV/0!"},{"$error":"#DIV/0!"},{"$error":"#DIV/0!"},null,null,2026,2569,{"$error":"#DIV/0!"},{"$error":"#DIV/0!"},{"$error":"#DIV/0!"},{"$error":"#DIV/0!"},{"$error":"#DIV/0!"},{"$error":"#DIV/0!"},{"$error":"#DIV/0!"},{"$error":"#DIV/0!"},{"$error":"#DIV/0!"},{"$error":"#DIV/0!"},{"$error":"#DIV/0!"},{"$error":"#DIV/0!"}]
[2029,{"$error":"#DIV/0!"},{"$error":"#DIV/0!"},{"$error":"#DIV/0!"},{"$error":"#DIV/0!"},{"$error":"#DIV/0!"},{"$error":"#DIV/0!"},{"$error":"#DIV/0!"},{"$error":"#DIV/0!"},{"$error":"#DIV/0!"},{"$error":"#DIV/0!"},{"$error":"#DIV/0!"},{"$error":"#DIV/0!"},{"$error":"#DIV/0!"},{"$error":"#DIV/0!"},{"$error":"#DIV/0!"},{"$error":"#DIV/0!"},{"$error":"#DIV/0!"},{"$error":"#DIV/0!"},{"$error":"#DIV/0!"},{"$error":"#DIV/0!"},{"$error":"#DIV/0!"},{"$error":"#DIV/0!"},{"$error":"#DIV/0!"},{"$error":"#DIV/0!"},null,null,2027,2570,{"$error":"#DIV/0!"},{"$error":"#DIV/0!"},{"$error":"#DIV/0!"},{"$error":"#DIV/0!"},{"$error":"#DIV/0!"},{"$error":"#DIV/0!"},{"$error":"#DIV/0!"},{"$error":"#DIV/0!"},{"$error":"#DIV/0!"},{"$error":"#DIV/0!"},{"$error":"#DIV/0!"},{"$error":"#DIV/0!"}]
[2030,{"$error":"#DIV/0!"},{"$error":"#DIV/0!"},{"$error":"#DIV/0!"},{"$error":"#DIV/0!"},{"$error":"#DIV/0!"},{"$error":"#DIV/0!"},{"$error":"#DIV/0!"},{"$error":"#DIV/0!"},{"$error":"#DIV/0!"},{"$error":"#DIV/0!"},{"$error":"#DIV/0!"},{"$error":"#DIV/0!"},{"$error":"#DIV/0!"},{"$error":"#DIV/0!"},{"$error":"#DIV/0!"},{"$error":"#DIV/0!"},{"$error":"#DIV/0!"},{"$error":"#DIV/0!"},{"$error":"#DIV/0!"},{"$error":"#DIV/0!"},{"$error":"#DIV/0!"},{"$error":"#DIV/0!"},{"$error":"#DIV/0!"},{"$error":"#DIV/0!"},null,null,2028,2571,{"$error":"#DIV/0!"},{"$error":"#DIV/0!"},{"$error":"#DIV/0!"},{"$error":"#DIV/0!"},{"$error":"#DIV/0!"},{"$error":"#DIV/0!"},{"$error":"#DIV/0!"},{"$error":"#DIV/0!"},{"$error":"#DIV/0!"},{"$error":"#DIV/0!"},{"$error":"#DIV/0!"},{"$error":"#DIV/0!"}]
[2031,{"$error":"#DIV/0!"},{"$error":"#DIV/0!"},{"$error":"#DIV/0!"},{"$error":"#DIV/0!"},{"$error":"#DIV/0!"},{"$error":"#DIV/0!"},{"$error":"#DIV/0!"},{"$error":"#DIV/0!"},{"$error":"#DIV/0!"},{"$error":"#DIV/0!"},{"$error":"#DIV/0!"},{"$error":"#DIV/0!"},{"$error":"#DIV/0!"},{"$error":"#DIV/0!"},{"$error":"#DIV/0!"},{"$error":"#DIV/0!"},{"$error":"#DIV/0!"},{"$error":"#DIV/0!"},{"$error":"#DIV/0!"},{"$error":"#DIV/0!"},{"$error":"#DIV/0!"},{"$error":"#DIV/0!"},{"$error":"#DIV/0!"},{"$error":"#DIV/0!"},null,null,2029,2572,{"$error":"#DIV/0!"},{"$error":"#DIV/0!"},{"$error":"#DIV/0!"},{"$error":"#DIV/0!"},{"$error":"#DIV/0!"},{"$error":"#DIV/0!"},{"$error":"#DIV/0!"},{"$error":"#DIV/0!"},{"$error":"#DIV/0!"},{"$error":"#DIV/0!"},{"$error":"#DIV/0!"},{"$error":"#DIV/0!"}]
[2032,{"$error":"#DIV/0!"},{"$error":"#DIV/0!"},{"$error":"#DIV/0!"},{"$error":"#DIV/0!"},{"$error":"#DIV/0!"},{"$error":"#DIV/0!"},{"$error":"#DIV/0!"},{"$error":"#DIV/0!"},{"$error":"#DIV/0!"},{"$error":"#DIV/0!"},{"$error":"#DIV/0!"},{"$error":"#DIV/0!"},{"$error":"#DIV/0!"},{"$error":"#DIV/0!"},{"$error":"#DIV/0!"},{"$error":"#DIV/0!"},{"$error":"#DIV/0!"},{"$error":"#DIV/0!"},{"$error":"#DIV/0!"},{"$error":"#DIV/0!"},{"$error":"#DIV/0!"},{"$error":"#DIV/0!"},{"$error":"#DIV/0!"},{"$error":"#DIV/0!"},null,null,2030,2573,{"$error":"#DIV/0!"},{"$error":"#DIV/0!"},{"$error":"#DIV/0!"},{"$error":"#DIV/0!"},{"$error":"#DIV/0!"},{"$error":"#DIV/0!"},{"$error":"#DIV/0!"},{"$error":"#DIV/0!"},{"$error":"#DIV/0!"},{"$error":"#DIV/0!"},{"$error":"#DIV/0!"},{"$error":"#DIV/0!"}]
[2033,{"$error":"#DIV/0!"},{"$error":"#DIV/0!"},{"$error":"#DIV/0!"},{"$error":"#DIV/0!"},{"$error":"#DIV/0!"},{"$error":"#DIV/0!"},{"$error":"#DIV/0!"},{"$error":"#DIV/0!"},{"$error":"#DIV/0!"},{"$error":"#DIV/0!"},{"$error":"#DIV/0!"},{"$error":"#DIV/0!"},{"$error":"#DIV/0!"},{"$error":"#DIV/0!"},{"$error":"#DIV/0!"},{"$error":"#DIV/0!"},{"$error":"#DIV/0!"},{"$error":"#DIV/0!"},{"$error":"#DIV/0!"},{"$error":"#DIV/0!"},{"$error":"#DIV/0!"},{"$error":"#DIV/0!"},{"$error":"#DIV/0!"},{"$error":"#DIV/0!"},null,null,2031,2574,{"$error":"#DIV/0!"},{"$error":"#DIV/0!"},{"$error":"#DIV/0!"},{"$error":"#DIV/0!"},{"$error":"#DIV/0!"},{"$error":"#DIV/0!"},{"$error":"#DIV/0!"},{"$error":"#DIV/0!"},{"$error":"#DIV/0!"},{"$error":"#DIV/0!"},{"$error":"#DIV/0!"},{"$error":"#DIV/0!"}]
[2034,{"$f":"IF(OR(B$136=0,B$136>12),\"\",IF(B$133<0,-1*SUM(OFFSET(B130,0,0,1,IF(AND(A$133>0,C$133>0),1,(B$135)+1+B$133))),B130*-1))","v":{"$error":"#DIV/0!"}},{"$f":"IF(OR(C$136=0,C$136>12),\"\",IF(C$133<0,-1*SUM(OFFSET(C130,0,0,1,IF(AND(B$133>0,D$133>0),1,(C$135)+1+C$133))),C130*-1))","v":{"$error":"#DIV/0!"}},{"$error":"#DIV/0!"},{"$error":"#DIV/0!"},{"$error":"#DIV/0!"},{"$error":"#DIV/0!"},{"$error":"#DIV/0!"},{"$error":"#DIV/0!"},{"$error":"#DIV/0!"},{"$error":"#DIV/0!"},{"$error":"#DIV/0!"},{"$error":"#DIV/0!"},{"$error":"#DIV/0!"},{"$error":"#DIV/0!"},{"$error":"#DIV/0!"},{"$error":"#DIV/0!"},{"$error":"#DIV/0!"},{"$f":"IF(OR(S$136=0,S$136>12),\"\",IF(S$133<0,-1*SUM(OFFSET(S130,0,0,1,IF(AND(R$133>0,T$133>0),1,(S$135)+1+S$133))),S130*-1))","v":{"$error":"#DIV/0!"}},{"$error":"#DIV/0!"},{"$error":"#DIV/0!"},{"$error":"#DIV/0!"},{"$error":"#DIV/0!"},{"$error":"#DIV/0!"},{"$error":"#DIV/0!"},null,null,2032,2575,{"$error":"#DIV/0!"},{"$error":"#DIV/0!"},{"$error":"#DIV/0!"},{"$error":"#DIV/0!"},{"$error":"#DIV/0!"},{"$error":"#DIV/0!"},{"$error":"#DIV/0!"},{"$error":"#DIV/0!"},{"$error":"#DIV/0!"},{"$error":"#DIV/0!"},{"$error":"#DIV/0!"},{"$error":"#DIV/0!"}]
[2035,{"$f":"IF(OR(B$136=0,B$136>12),\"\",IF(B$133<0,-1*SUM(OFFSET(B131,0,0,1,IF(AND(A$133>0,C$133>0),1,(B$135)+1+B$133))),B131*-1))","v":{"$error":"#DIV/0!"}},{"$f":"IF(OR(C$136=0,C$136>12),\"\",IF(C$133<0,-1*SUM(OFFSET(C131,0,0,1,IF(AND(B$133>0,D$133>0),1,(C$135)+1+C$133))),C131*-1))","v":{"$error":"#DIV/0!"}},{"$error":"#DIV/0!"},{"$error":"#DIV/0!"},{"$error":"#DIV/0!"},{"$error":"#DIV/0!"},{"$error":"#DIV/0!"},{"$error":"#DIV/0!"},{"$error":"#DIV/0!"},{"$error":"#DIV/0!"},{"$error":"#DIV/0!"},{"$error":"#DIV/0!"},{"$error":"#DIV/0!"},{"$error":"#DIV/0!"},{"$error":"#DIV/0!"},{"$error":"#DIV/0!"},{"$error":"#DIV/0!"},{"$f":"IF(OR(S$136=0,S$136>12),\"\",IF(S$133<0,-1*SUM(OFFSET(S131,0,0,1,IF(AND(R$133>0,T$133>0),1,(S$135)+1+S$133))),S131*-1))","v":{"$error":"#DIV/0!"}},{"$error":"#DIV/0!"},{"$error":"#DIV/0!"},{"$error":"#DIV/0!"},{"$error":"#DIV/0!"},{"$error":"#DIV/0!"},{"$error":"#DIV/0!"},null,null,2033,2576,{"$error":"#DIV/0!"},{"$error":"#DIV/0!"},{"$error":"#DIV/0!"},{"$error":"#DIV/0!"},{"$error":"#DIV/0!"},{"$error":"#DIV/0!"},{"$error":"#DIV/0!"},{"$error":"#DIV/0!"},{"$error":"#DIV/0!"},{"$error":"#DIV/0!"},{"$error":"#DIV/0!"},{"$error":"#DIV/0!"}]
[null,null,null,null,null,null,null,null,null,null,null,null,null,null,null,null,null,null,null,null,null,null,null,null,null,null,null,2034,2577,{"$error":"#DIV/0!"},{"$error":"#DIV/0!"},{"$error":"#DIV/0!"},{"$error":"#DIV/0!"},{"$error":"#DIV/0!"},{"$error":"#DIV/0!"},{"$error":"#DIV/0!"},{"$error":"#DIV/0!"},{"$error":"#DIV/0!"},{"$error":"#DIV/0!"},{"$error":"#DIV/0!"},{"$error":"#DIV/0!"}]
[null,null,null,null,null,null,null,null,null,null,null,null,null,null,null,null,null,null,null,null,null,null,null,null,null,null,null,2035,2578,{"$error":"#DIV/0!"},{"$error":"#DIV/0!"},{"$error":"#DIV/0!"},{"$error":"#DIV/0!"},{"$error":"#DIV/0!"},{"$error":"#DIV/0!"},{"$error":"#DIV/0!"},{"$error":"#DIV/0!"},{"$error":"#DIV/0!"},{"$error":"#DIV/0!"},{"$error":"#DIV/0!"},{"$error":"#DIV/0!"}]
[]
[null,null,null,null,null,null,null,null,null,null,null,null,null,null,null,{"$f":"MIN(R195:AC244)","v":0},1,{"$f":"IF(QUOTIENT(P191,1)>0,1,IF(QUOTIENT(P191,0.1)>0,10,IF(QUOTIENT(P191,0.01)>0,100,IF(QUOTIENT(P191,0.001)>0,1000,10000))))","v":10000}]
[5,"ใส่ NRI รายเดือน",null,null,null,null,null,null,null,null,null,null,null,null,null,4,"ปรับขยาย Scal"]
[null,null,"ม.ค.","ก.พ.","มี.ค.","เม.ย.","พ.ค.","มิ.ย.","ก.ค.","ส.ค.","ก.ย.","ต.ค.","พ.ย.","ธ.ค.",null,null,null,"ม.ค.","ก.พ.","มี.ค.","เม.ย.","พ.ค.","มิ.ย.","ก.ค.","ส.ค.","ก.ย.","ต.ค.","พ.ย.","ธ.ค."]
["ปี ค.ศ.","ปี พ.ศ.","Jan","Feb","Mar","Apr","May","Jun","Jul","Aug","Sep","Oct","Nov","Dec",null,"ปี ค.ศ.","ปี พ.ศ.","Jan","Feb","Mar","Apr","May","Jun","Jul","Aug","Sep","Oct","Nov","Dec"]
[{"$f":"A4","v":1986},{"$f":"A195+543","v":2529},{"$f":"IFERROR(AD140*$Q$191,\"\")","v":""},{"$f":"IFERROR(AE140*$Q$191,IF($C195=\"\",\"\",0))","v":""},{"$f":"IFERROR(AF140*$Q$191,IF($C195=\"\",\"\",0))","v":""},{"$f":"IFERROR(AG140*$Q$191,IF($C195=\"\",\"\",0))","v":""},{"$f":"IFERROR(AH140*$Q$191,IF($C195=\"\",\"\",0))","v":""},{"$f":"IFERROR(AI140*$Q$191,IF($C195=\"\",\"\",0))","v":""},{"$f":"IFERROR(AJ140*$Q$191,IF($C195=\"\",\"\",0))","v":""},{"$f":"IFERROR(AK140*$Q$191,IF($C195=\"\",\"\",0))","v":""},{"$f":"IFERROR(AL140*$Q$191,IF($C195=\"\",\"\",0))","v":""},{"$f":"IFERROR(AM140*$Q$191,IF($C195=\"\",\"\",0))","v":""},{"$f":"IFERROR(AN140*$Q$191,IF($C195=\"\",\"\",0))","v":""},{"$f":"IFERROR(AO140*$Q$191,IF($C195=\"\",\"\",0))","v":""},null,{"$f":"A4","v":1986},{"$f":"A195+543","v":2529},{"$f":"IFERROR(ABS(AD140),\"\")","v":""},{"$f":"IFERROR(ABS(AE140),\"\")","v":""},{"$f":"IFERROR(ABS(AF140),\"\")","v":""},"","","","","","","","",""]
[{"$f":"A195+1","v":1987},2530,"","","","","","","","","","","","",null,{"$f":"A195+1","v":1987},2530,{"$f":"IFERROR(ABS(AD141),\"\")","v":""},{"$f":"IFERROR(ABS(AE141),\"\")","v":""},{"$f":"IFERROR(ABS(AF141),\"\")","v":""},{"$f":"IFERROR(ABS(AG141),\"\")","v":""},{"$f":"IFERROR(ABS(AH141),\"\")","v":""},{"$f":"IFERROR(ABS(AI141),\"\")","v":""},{"$f":"IFERROR(ABS(AJ141),\"\")","v":""},{"$f":"IFERROR(ABS(AK141),\"\")","v":""},{"$f":"IFERROR(ABS(AL141),\"\")","v":""},{"$f":"IFERROR(ABS(AM141),\"\")","v":""},{"$f":"IFERROR(ABS(AN141),\"\")","v":""},{"$f":"IFERROR(ABS(AO141),\"\")","v":""}]
[1988,2531,"","","","","","","","","","","","",null,1988,2531,"","","","","","","","","","","",""]
[1989,2532,"","","","","","","","","","","","",null,1989,2532,"","","","","","","","","","","",""]
[1990,2533,"","","","","","","","","","","","",null,1990,2533,"","","","","","","","","","","",""]
[1991,2534,"","","","","","","","","","","","",null,1991,2534,"","","","","","","","","","","",""]
[1992,2535,"","","","","","","","","","","","",null,1992,2535,"","","","","","","","","","","",""]
[1993,2536,"","","","","","","","","","","","",null,1993,2536,"","","","","","","","","","","",""]
[1994,2537,"","","","","","","","","","","","",null,1994,2537,"","","","","","","","","","","",""]
[1995,2538,"","","","","","","","","","","","",null,1995,2538,"","","","","","","","","","","",""]
[1996,2539,"","","","","","","","","","","","",null,1996,2539,"","","","","","","","","","","",""]
[1997,2540,"","","","","","","","","","","","",null,1997,2540,"","","","","","","","","","","",""]
[1998,2541,"","","","","","","","","","","","",null,1998,2541,"","","","","","","","","","","",""]
[1999,2542,"","","","","","","","","","","","",null,1999,2542,"","","","","","","","","","","",""]
[2000,2543,"","","","","","","","","","","","",null,2000,2543,"","","","","","","","","","","",""]
[2001,2544,"","","","","","","","","","","","",null,2001,2544,"","","","","","","","","","","",""]
[2002,2545,"","","","","","","","","","","","",null,2002,2545,"","","","","","","","","","","",""]
[2003,2546,"","","","","","","","","","","","",null,2003,2546,"","","","","","","","","","","",""]
[2004,2547,"","","","","","","","","","","","",null,2004,2547,"","","","","","","","","","","",""]
[2005,2548,"","","","","","","","","","","","",null,2005,2548,"","","","","","","","","","","",""]
[2006,2549,"","","","","","","","","","","","",null,2006,2549,"","","","","","","","","","","",""]
[2007,2550,"","","","","","","","","","","","",null,2007,2550,"","","","","","","","","","","",""]
[2008,2551,"","","","","","","","","","","","",null,2008,2551,"","","","","","","","","","","",""]
[2009,2552,"","","","","","","","","","","","",null,2009,2552,"","","","","","","","","","","",""]
[2010,2553,"","","","","","","","","","","","",null,2010,2553,"","","","","","","","","","","",""]
[2011,2554,"","","","","","","","","","","","",null,2011,2554,"","","","","","","","","","","",""]
[2012,2555,"","","","","","","","","","","","",null,2012,2555,"","","","","","","","","","","",""]
[2013,2556,"","","","","","","","","","","","",null,2013,2556,"","","","","","","","","","","",""]
[2014,2557,"","","","","","","","","","","","",null,2014,2557,"","","","","","","","","","","",""]
[2015,2558,"","","","","","","","","","","","",null,2015,2558,"","","","","","","","","","","",""]
[2016,2559,"","","","","","","","","","","","",null,2016,2559,"","","","","","","","","","","",""]
[2017,2560,"","","","","","","","","","","","",null,2017,2560,"","","","","","","","","","","",""]
[2018,2561,{"$f":"IFERROR(AD172*$Q$191,\"\")","v":""},{"$f":"IFERROR(AE172*$Q$191,IF($C227=\"\",\"\",0))","v":""},{"$f":"IFERROR(AF172*$Q$191,IF($C227=\"\",\"\",0))","v":""},{"$f":"IFERROR(AG172*$Q$191,IF($C227=\"\",\"\",0))","v":""},{"$f":"IFERROR(AH172*$Q$191,IF($C227=\"\",\"\",0))","v":""},{"$f":"IFERROR(AI172*$Q$191,IF($C227=\"\",\"\",0))","v":""},{"$f":"IFERROR(AJ172*$Q$191,IF($C227=\"\",\"\",0))","v":""},{"$f":"IFERROR(AK172*$Q$191,IF($C227=\"\",\"\",0))","v":""},{"$f":"IFERROR(AL172*$Q$191,IF($C227=\"\",\"\",0))","v":""},{"$f":"IFERROR(AM172*$Q$191,IF($C227=\"\",\"\",0))","v":""},{"$f":"IFERROR(AN172*$Q$191,IF($C227=\"\",\"\",0))","v":""},{"$f":"IFERROR(AO172*$Q$191,IF($C227=\"\",\"\",0))","v":""},null,2018,{"$f":"A227+543","v":2561},"","","","","","","","","","","",""]
[2019,2562,"","","","","","","","","","","","",null,{"$f":"A227+1","v":2019},2562,"","","","","","","","","","","",""]
[2020,2563,"","","","","","","","","","","","",null,2020,2563,"","","","","","","","","","","",""]
[2021,2564,"","","","","","","","","","","","",null,2021,2564,"","","","","","","","","","","",""]
[2022,2565,"","","","","","","","","","","","",null,2022,2565,"","","","","","","","","","","",""]
[2023,2566,"","","","","","","","","","","","",null,2023,2566,"","","","","","","","","","","",""]
[2024,2567,"","","","","","","","","","","","",null,2024,2567,"","","","","","","","","","","",""]
[2025,2568,"","","","","","","","","","","","",null,2025,2568,"","","","","","","","","","","",""]
[2026,2569,"","","","","","","","","","","","",null,2026,2569,"","","","","","","","","","","",""]
[2027,2570,"","","","","","","","","","","","",null,2027,2570,"","","","","","","","","","","",""]
[2028,2571,"","","","","","","","","","","","",null,2028,2571,"","","","","","","","","","","",""]
[2029,2572,"","","","","","","","","","","","",null,2029,2572,"","","","","","","","","","","",""]
[2030,2573,"","","","","","","","","","","","",null,2030,2573,"","","","","","","","","","","",""]
[2031,2574,"","","","","","","","","","","","",null,2031,2574,"","","","","","","","","","","",""]
[2032,2575,"","","","","","","","","","","","",null,2032,2575,"","","","","","","","","","","",""]
[2033,2576,"","","","","","","","","","","","",null,2033,2576,"","","","","","","","","","","",""]
[2034,2577,"","","","","","","","","","","","",null,2034,2577,"","","","","","","","","","","",""]
[2035,2578,"","","","","","","","","","","","",null,2035,2578,"","","","","","","","","","","",""]

{"sheet":"URC POP","index":6,"n_rows":101,"n_cols":26,"rows_kept":101,"cut":false,"hidden":false,"merged":[[1,0,2,0],[78,1,78,4]]}
["Step 3. Tranforming data  for distribution fitting test "]
["Year","Jan","Transform","Feb","Transform","Mar","Transform","Apr","Transform","May","Transform","Jun","Transform","Jul","Transform","Aug","Transform","Sep","Transform","Oct","Transform","Nov","Transform","Dec","Transform"]
[null,"Xt","Yt","Xt","Yt","Xt","Yt","Xt","Yt","Xt","Yt","Xt","Yt","Xt","Yt","Xt","Yt","Xt","Yt","Xt","Yt","Xt","Yt","Xt","Yt"]
[1,{"$f":"IF(NRI!B4<>\"\",NRI!B4,\"\")","v":""},{"$f":"IFERROR(B4-(1.01*B$57),\"\")","v":""},{"$f":"IF(NRI!C4<>\"\",NRI!C4,\"\")","v":""},{"$f":"IFERROR(D4-(1.01*D$57),\"\")","v":""},{"$f":"IF(NRI!D4<>\"\",NRI!D4,\"\")","v":""},{"$f":"IFERROR(F4-(1.01*F$57),\"\")","v":""},{"$f":"IF(NRI!E4<>\"\",NRI!E4,\"\")","v":""},{"$f":"IFERROR(H4-(1.01*H$57),\"\")","v":""},{"$f":"IF(NRI!F4<>\"\",NRI!F4,\"\")","v":""},{"$f":"IFERROR(J4-(1.01*J$57),\"\")","v":""},{"$f":"IF(NRI!G4<>\"\",NRI!G4,\"\")","v":""},{"$f":"IFERROR(L4-(1.01*L$57),\"\")","v":""},{"$f":"IF(NRI!H4<>\"\",NRI!H4,\"\")","v":""},{"$f":"IFERROR(N4-(1.01*N$57),\"\")","v":""},{"$f":"IF(NRI!I4<>\"\",NRI!I4,\"\")","v":""},{"$f":"IFERROR(P4-(1.01*P$57),\"\")","v":""},{"$f":"IF(NRI!J4<>\"\",NRI!J4,\"\")","v":""},{"$f":"IFERROR(R4-(1.01*R$57),\"\")","v":""},{"$f":"IF(NRI!K4<>\"\",NRI!K4,\"\")","v":""},{"$f":"IFERROR(T4-(1.01*T$57),\"\")","v":""},{"$f":"IF(NRI!L4<>\"\",NRI!L4,\"\")","v":""},{"$f":"IFERROR(V4-(1.01*V$57),\"\")","v":""},{"$f":"IF(NRI!M4<>\"\",NRI!M4,\"\")","v":""},{"$f":"IFERROR(X4-(1.01*X$57),\"\")","v":""}]
[2,{"$f":"IF(NRI!B5<>\"\",NRI!B5,\"\")","v":""},{"$f":"IFERROR(B5-(1.01*B$57),\"\")","v":""},{"$f":"IF(NRI!C5<>\"\",NRI!C5,\"\")","v":""},"",{"$f":"IF(NRI!D5<>\"\",NRI!D5,\"\")","v":""},{"$f":"IFERROR(F5-(1.01*F$57),\"\")","v":""},{"$f":"IF(NRI!E5<>\"\",NRI!E5,\"\")","v":""},{"$f":"IFERROR(H5-(1.01*H$57),\"\")","v":""},{"$f":"IF(NRI!F5<>\"\",NRI!F5,\"\")","v":""},{"$f":"IFERROR(J5-(1.01*J$57),\"\")","v":""},{"$f":"IF(NRI!G5<>\"\",NRI!G5,\"\")","v":""},{"$f":"IFERROR(L5-(1.01*L$57),\"\")","v":""},{"$f":"IF(NRI!H5<>\"\",NRI!H5,\"\")","v":""},{"$f":"IFERROR(N5-(1.01*N$57),\"\")","v":""},{"$f":"IF(NRI!I5<>\"\",NRI!I5,\"\")","v":""},{"$f":"IFERROR(P5-(1.01*P$57),\"\")","v":""},{"$f":"IF(NRI!J5<>\"\",NRI!J5,\"\")","v":""},{"$f":"IFERROR(R5-(1.01*R$57),\"\")","v":""},{"$f":"IF(NRI!K5<>\"\",NRI!K5,\"\")","v":""},{"$f":"IFERROR(T5-(1.01*T$57),\"\")","v":""},{"$f":"IF(NRI!L5<>\"\",NRI!L5,\"\")","v":""},{"$f":"IFERROR(V5-(1.01*V$57),\"\")","v":""},{"$f":"IF(NRI!M5<>\"\",NRI!M5,\"\")","v":""},{"$f":"IFERROR(X5-(1.01*X$57),\"\")","v":""}]
[3,{"$f":"IF(NRI!B6<>\"\",NRI!B6,\"\")","v":""},"",{"$f":"IF(NRI!C6<>\"\",NRI!C6,\"\")","v":""},"",{"$f":"IF(NRI!D6<>\"\",NRI!D6,\"\")","v":""},{"$f":"IFERROR(F6-(1.01*F$57),\"\")","v":""},{"$f":"IF(NRI!E6<>\"\",NRI!E6,\"\")","v":""},{"$f":"IFERROR(H6-(1.01*H$57),\"\")","v":""},{"$f":"IF(NRI!F6<>\"\",NRI!F6,\"\")","v":""},{"$f":"IFERROR(J6-(1.01*J$57),\"\")","v":""},{"$f":"IF(NRI!G6<>\"\",NRI!G6,\"\")","v":""},{"$f":"IFERROR(L6-(1.01*L$57),\"\")","v":""},{"$f":"IF(NRI!H6<>\"\",NRI!H6,\"\")","v":""},{"$f":"IFERROR(N6-(1.01*N$57),\"\")","v":""},{"$f":"IF(NRI!I6<>\"\",NRI!I6,\"\")","v":""},{"$f":"IFERROR(P6-(1.01*P$57),\"\")","v":""},{"$f":"IF(NRI!J6<>\"\",NRI!J6,\"\")","v":""},{"$f":"IFERROR(R6-(1.01*R$57),\"\")","v":""},{"$f":"IF(NRI!K6<>\"\",NRI!K6,\"\")","v":""},{"$f":"IFERROR(T6-(1.01*T$57),\"\")","v":""},{"$f":"IF(NRI!L6<>\"\",NRI!L6,\"\")","v":""},{"$f":"IFERROR(V6-(1.01*V$57),\"\")","v":""},{"$f":"IF(NRI!M6<>\"\",NRI!M6,\"\")","v":""},{"$f":"IFERROR(X6-(1.01*X$57),\"\")","v":""}]
[4,{"$f":"IF(NRI!B7<>\"\",NRI!B7,\"\")","v":""},"",{"$f":"IF(NRI!C7<>\"\",NRI!C7,\"\")","v":""},"",{"$f":"IF(NRI!D7<>\"\",NRI!D7,\"\")","v":""},{"$f":"IFERROR(F7-(1.01*F$57),\"\")","v":""},{"$f":"IF(NRI!E7<>\"\",NRI!E7,\"\")","v":""},{"$f":"IFERROR(H7-(1.01*H$57),\"\")","v":""},{"$f":"IF(NRI!F7<>\"\",NRI!F7,\"\")","v":""},{"$f":"IFERROR(J7-(1.01*J$57),\"\")","v":""},{"$f":"IF(NRI!G7<>\"\",NRI!G7,\"\")","v":""},{"$f":"IFERROR(L7-(1.01*L$57),\"\")","v":""},{"$f":"IF(NRI!H7<>\"\",NRI!H7,\"\")","v":""},{"$f":"IFERROR(N7-(1.01*N$57),\"\")","v":""},{"$f":"IF(NRI!I7<>\"\",NRI!I7,\"\")","v":""},{"$f":"IFERROR(P7-(1.01*P$57),\"\")","v":""},{"$f":"IF(NRI!J7<>\"\",NRI!J7,\"\")","v":""},{"$f":"IFERROR(R7-(1.01*R$57),\"\")","v":""},{"$f":"IF(NRI!K7<>\"\",NRI!K7,\"\")","v":""},{"$f":"IFERROR(T7-(1.01*T$57),\"\")","v":""},{"$f":"IF(NRI!L7<>\"\",NRI!L7,\"\")","v":""},{"$f":"IFERROR(V7-(1.01*V$57),\"\")","v":""},{"$f":"IF(NRI!M7<>\"\",NRI!M7,\"\")","v":""},{"$f":"IFERROR(X7-(1.01*X$57),\"\")","v":""}]
[5,{"$f":"IF(NRI!B8<>\"\",NRI!B8,\"\")","v":""},"",{"$f":"IF(NRI!C8<>\"\",NRI!C8,\"\")","v":""},"",{"$f":"IF(NRI!D8<>\"\",NRI!D8,\"\")","v":""},{"$f":"IFERROR(F8-(1.01*F$57),\"\")","v":""},{"$f":"IF(NRI!E8<>\"\",NRI!E8,\"\")","v":""},{"$f":"IFERROR(H8-(1.01*H$57),\"\")","v":""},{"$f":"IF(NRI!F8<>\"\",NRI!F8,\"\")","v":""},{"$f":"IFERROR(J8-(1.01*J$57),\"\")","v":""},{"$f":"IF(NRI!G8<>\"\",NRI!G8,\"\")","v":""},{"$f":"IFERROR(L8-(1.01*L$57),\"\")","v":""},{"$f":"IF(NRI!H8<>\"\",NRI!H8,\"\")","v":""},{"$f":"IFERROR(N8-(1.01*N$57),\"\")","v":""},{"$f":"IF(NRI!I8<>\"\",NRI!I8,\"\")","v":""},{"$f":"IFERROR(P8-(1.01*P$57),\"\")","v":""},{"$f":"IF(NRI!J8<>\"\",NRI!J8,\"\")","v":""},{"$f":"IFERROR(R8-(1.01*R$57),\"\")","v":""},{"$f":"IF(NRI!K8<>\"\",NRI!K8,\"\")","v":""},{"$f":"IFERROR(T8-(1.01*T$57),\"\")","v":""},{"$f":"IF(NRI!L8<>\"\",NRI!L8,\"\")","v":""},{"$f":"IFERROR(V8-(1.01*V$57),\"\")","v":""},{"$f":"IF(NRI!M8<>\"\",NRI!M8,\"\")","v":""},{"$f":"IFERROR(X8-(1.01*X$57),\"\")","v":""}]
[6,{"$f":"IF(NRI!B9<>\"\",NRI!B9,\"\")","v":""},"",{"$f":"IF(NRI!C9<>\"\",NRI!C9,\"\")","v":""},"",{"$f":"IF(NRI!D9<>\"\",NRI!D9,\"\")","v":""},{"$f":"IFERROR(F9-(1.01*F$57),\"\")","v":""},{"$f":"IF(NRI!E9<>\"\",NRI!E9,\"\")","v":""},{"$f":"IFERROR(H9-(1.01*H$57),\"\")","v":""},{"$f":"IF(NRI!F9<>\"\",NRI!F9,\"\")","v":""},{"$f":"IFERROR(J9-(1.01*J$57),\"\")","v":""},{"$f":"IF(NRI!G9<>\"\",NRI!G9,\"\")","v":""},{"$f":"IFERROR(L9-(1.01*L$57),\"\")","v":""},{"$f":"IF(NRI!H9<>\"\",NRI!H9,\"\")","v":""},{"$f":"IFERROR(N9-(1.01*N$57),\"\")","v":""},{"$f":"IF(NRI!I9<>\"\",NRI!I9,\"\")","v":""},{"$f":"IFERROR(P9-(1.01*P$57),\"\")","v":""},{"$f":"IF(NRI!J9<>\"\",NRI!J9,\"\")","v":""},{"$f":"IFERROR(R9-(1.01*R$57),\"\")","v":""},{"$f":"IF(NRI!K9<>\"\",NRI!K9,\"\")","v":""},{"$f":"IFERROR(T9-(1.01*T$57),\"\")","v":""},{"$f":"IF(NRI!L9<>\"\",NRI!L9,\"\")","v":""},{"$f":"IFERROR(V9-(1.01*V$57),\"\")","v":""},{"$f":"IF(NRI!M9<>\"\",NRI!M9,\"\")","v":""},{"$f":"IFERROR(X9-(1.01*X$57),\"\")","v":""}]
[7,{"$f":"IF(NRI!B10<>\"\",NRI!B10,\"\")","v":""},"",{"$f":"IF(NRI!C10<>\"\",NRI!C10,\"\")","v":""},"",{"$f":"IF(NRI!D10<>\"\",NRI!D10,\"\")","v":""},{"$f":"IFERROR(F10-(1.01*F$57),\"\")","v":""},{"$f":"IF(NRI!E10<>\"\",NRI!E10,\"\")","v":""},{"$f":"IFERROR(H10-(1.01*H$57),\"\")","v":""},{"$f":"IF(NRI!F10<>\"\",NRI!F10,\"\")","v":""},{"$f":"IFERROR(J10-(1.01*J$57),\"\")","v":""},{"$f":"IF(NRI!G10<>\"\",NRI!G10,\"\")","v":""},{"$f":"IFERROR(L10-(1.01*L$57),\"\")","v":""},{"$f":"IF(NRI!H10<>\"\",NRI!H10,\"\")","v":""},{"$f":"IFERROR(N10-(1.01*N$57),\"\")","v":""},{"$f":"IF(NRI!I10<>\"\",NRI!I10,\"\")","v":""},{"$f":"IFERROR(P10-(1.01*P$57),\"\")","v":""},{"$f":"IF(NRI!J10<>\"\",NRI!J10,\"\")","v":""},{"$f":"IFERROR(R10-(1.01*R$57),\"\")","v":""},{"$f":"IF(NRI!K10<>\"\",NRI!K10,\"\")","v":""},{"$f":"IFERROR(T10-(1.01*T$57),\"\")","v":""},{"$f":"IF(NRI!L10<>\"\",NRI!L10,\"\")","v":""},{"$f":"IFERROR(V10-(1.01*V$57),\"\")","v":""},{"$f":"IF(NRI!M10<>\"\",NRI!M10,\"\")","v":""},{"$f":"IFERROR(X10-(1.01*X$57),\"\")","v":""}]
[8,{"$f":"IF(NRI!B11<>\"\",NRI!B11,\"\")","v":""},"",{"$f":"IF(NRI!C11<>\"\",NRI!C11,\"\")","v":""},"",{"$f":"IF(NRI!D11<>\"\",NRI!D11,\"\")","v":""},{"$f":"IFERROR(F11-(1.01*F$57),\"\")","v":""},{"$f":"IF(NRI!E11<>\"\",NRI!E11,\"\")","v":""},{"$f":"IFERROR(H11-(1.01*H$57),\"\")","v":""},{"$f":"IF(NRI!F11<>\"\",NRI!F11,\"\")","v":""},{"$f":"IFERROR(J11-(1.01*J$57),\"\")","v":""},{"$f":"IF(NRI!G11<>\"\",NRI!G11,\"\")","v":""},{"$f":"IFERROR(L11-(1.01*L$57),\"\")","v":""},{"$f":"IF(NRI!H11<>\"\",NRI!H11,\"\")","v":""},{"$f":"IFERROR(N11-(1.01*N$57),\"\")","v":""},{"$f":"IF(NRI!I11<>\"\",NRI!I11,\"\")","v":""},{"$f":"IFERROR(P11-(1.01*P$57),\"\")","v":""},{"$f":"IF(NRI!J11<>\"\",NRI!J11,\"\")","v":""},{"$f":"IFERROR(R11-(1.01*R$57),\"\")","v":""},{"$f":"IF(NRI!K11<>\"\",NRI!K11,\"\")","v":""},{"$f":"IFERROR(T11-(1.01*T$57),\"\")","v":""},{"$f":"IF(NRI!L11<>\"\",NRI!L11,\"\")","v":""},{"$f":"IFERROR(V11-(1.01*V$57),\"\")","v":""},{"$f":"IF(NRI!M11<>\"\",NRI!M11,\"\")","v":""},{"$f":"IFERROR(X11-(1.01*X$57),\"\")","v":""}]
[9,{"$f":"IF(NRI!B12<>\"\",NRI!B12,\"\")","v":""},"",{"$f":"IF(NRI!C12<>\"\",NRI!C12,\"\")","v":""},"",{"$f":"IF(NRI!D12<>\"\",NRI!D12,\"\")","v":""},{"$f":"IFERROR(F12-(1.01*F$57),\"\")","v":""},{"$f":"IF(NRI!E12<>\"\",NRI!E12,\"\")","v":""},{"$f":"IFERROR(H12-(1.01*H$57),\"\")","v":""},{"$f":"IF(NRI!F12<>\"\",NRI!F12,\"\")","v":""},{"$f":"IFERROR(J12-(1.01*J$57),\"\")","v":""},{"$f":"IF(NRI!G12<>\"\",NRI!G12,\"\")","v":""},{"$f":"IFERROR(L12-(1.01*L$57),\"\")","v":""},{"$f":"IF(NRI!H12<>\"\",NRI!H12,\"\")","v":""},{"$f":"IFERROR(N12-(1.01*N$57),\"\")","v":""},{"$f":"IF(NRI!I12<>\"\",NRI!I12,\"\")","v":""},{"$f":"IFERROR(P12-(1.01*P$57),\"\")","v":""},{"$f":"IF(NRI!J12<>\"\",NRI!J12,\"\")","v":""},{"$f":"IFERROR(R12-(1.01*R$57),\"\")","v":""},{"$f":"IF(NRI!K12<>\"\",NRI!K12,\"\")","v":""},{"$f":"IFERROR(T12-(1.01*T$57),\"\")","v":""},{"$f":"IF(NRI!L12<>\"\",NRI!L12,\"\")","v":""},{"$f":"IFERROR(V12-(1.01*V$57),\"\")","v":""},{"$f":"IF(NRI!M12<>\"\",NRI!M12,\"\")","v":""},{"$f":"IFERROR(X12-(1.01*X$57),\"\")","v":""}]
[10,{"$f":"IF(NRI!B13<>\"\",NRI!B13,\"\")","v":""},"",{"$f":"IF(NRI!C13<>\"\",NRI!C13,\"\")","v":""},"",{"$f":"IF(NRI!D13<>\"\",NRI!D13,\"\")","v":""},{"$f":"IFERROR(F13-(1.01*F$57),\"\")","v":""},{"$f":"IF(NRI!E13<>\"\",NRI!E13,\"\")","v":""},{"$f":"IFERROR(H13-(1.01*H$57),\"\")","v":""},{"$f":"IF(NRI!F13<>\"\",NRI!F13,\"\")","v":""},{"$f":"IFERROR(J13-(1.01*J$57),\"\")","v":""},{"$f":"IF(NRI!G13<>\"\",NRI!G13,\"\")","v":""},{"$f":"IFERROR(L13-(1.01*L$57),\"\")","v":""},{"$f":"IF(NRI!H13<>\"\",NRI!H13,\"\")","v":""},{"$f":"IFERROR(N13-(1.01*N$57),\"\")","v":""},{"$f":"IF(NRI!I13<>\"\",NRI!I13,\"\")","v":""},{"$f":"IFERROR(P13-(1.01*P$57),\"\")","v":""},{"$f":"IF(NRI!J13<>\"\",NRI!J13,\"\")","v":""},{"$f":"IFERROR(R13-(1.01*R$57),\"\")","v":""},{"$f":"IF(NRI!K13<>\"\",NRI!K13,\"\")","v":""},{"$f":"IFERROR(T13-(1.01*T$57),\"\")","v":""},{"$f":"IF(NRI!L13<>\"\",NRI!L13,\"\")","v":""},{"$f":"IFERROR(V13-(1.01*V$57),\"\")","v":""},{"$f":"IF(NRI!M13<>\"\",NRI!M13,\"\")","v":""},{"$f":"IFERROR(X13-(1.01*X$57),\"\")","v":""}]
[11,{"$f":"IF(NRI!B14<>\"\",NRI!B14,\"\")","v":""},"",{"$f":"IF(NRI!C14<>\"\",NRI!C14,\"\")","v":""},"",{"$f":"IF(NRI!D14<>\"\",NRI!D14,\"\")","v":""},{"$f":"IFERROR(F14-(1.01*F$57),\"\")","v":""},{"$f":"IF(NRI!E14<>\"\",NRI!E14,\"\")","v":""},{"$f":"IFERROR(H14-(1.01*H$57),\"\")","v":""},{"$f":"IF(NRI!F14<>\"\",NRI!F14,\"\")","v":""},{"$f":"IFERROR(J14-(1.01*J$57),\"\")","v":""},{"$f":"IF(NRI!G14<>\"\",NRI!G14,\"\")","v":""},{"$f":"IFERROR(L14-(1.01*L$57),\"\")","v":""},{"$f":"IF(NRI!H14<>\"\",NRI!H14,\"\")","v":""},{"$f":"IFERROR(N14-(1.01*N$57),\"\")","v":""},{"$f":"IF(NRI!I14<>\"\",NRI!I14,\"\")","v":""},{"$f":"IFERROR(P14-(1.01*P$57),\"\")","v":""},{"$f":"IF(NRI!J14<>\"\",NRI!J14,\"\")","v":""},{"$f":"IFERROR(R14-(1.01*R$57),\"\")","v":""},{"$f":"IF(NRI!K14<>\"\",NRI!K14,\"\")","v":""},{"$f":"IFERROR(T14-(1.01*T$57),\"\")","v":""},{"$f":"IF(NRI!L14<>\"\",NRI!L14,\"\")","v":""},{"$f":"IFERROR(V14-(1.01*V$57),\"\")","v":""},{"$f":"IF(NRI!M14<>\"\",NRI!M14,\"\")","v":""},{"$f":"IFERROR(X14-(1.01*X$57),\"\")","v":""}]
[12,{"$f":"IF(NRI!B15<>\"\",NRI!B15,\"\")","v":""},"",{"$f":"IF(NRI!C15<>\"\",NRI!C15,\"\")","v":""},"",{"$f":"IF(NRI!D15<>\"\",NRI!D15,\"\")","v":""},{"$f":"IFERROR(F15-(1.01*F$57),\"\")","v":""},{"$f":"IF(NRI!E15<>\"\",NRI!E15,\"\")","v":""},{"$f":"IFERROR(H15-(1.01*H$57),\"\")","v":""},{"$f":"IF(NRI!F15<>\"\",NRI!F15,\"\")","v":""},{"$f":"IFERROR(J15-(1.01*J$57),\"\")","v":""},{"$f":"IF(NRI!G15<>\"\",NRI!G15,\"\")","v":""},{"$f":"IFERROR(L15-(1.01*L$57),\"\")","v":""},{"$f":"IF(NRI!H15<>\"\",NRI!H15,\"\")","v":""},{"$f":"IFERROR(N15-(1.01*N$57),\"\")","v":""},{"$f":"IF(NRI!I15<>\"\",NRI!I15,\"\")","v":""},{"$f":"IFERROR(P15-(1.01*P$57),\"\")","v":""},{"$f":"IF(NRI!J15<>\"\",NRI!J15,\"\")","v":""},{"$f":"IFERROR(R15-(1.01*R$57),\"\")","v":""},{"$f":"IF(NRI!K15<>\"\",NRI!K15,\"\")","v":""},{"$f":"IFERROR(T15-(1.01*T$57),\"\")","v":""},{"$f":"IF(NRI!L15<>\"\",NRI!L15,\"\")","v":""},{"$f":"IFERROR(V15-(1.01*V$57),\"\")","v":""},{"$f":"IF(NRI!M15<>\"\",NRI!M15,\"\")","v":""},{"$f":"IFERROR(X15-(1.01*X$57),\"\")","v":""}]
[13,{"$f":"IF(NRI!B16<>\"\",NRI!B16,\"\")","v":""},"",{"$f":"IF(NRI!C16<>\"\",NRI!C16,\"\")","v":""},"",{"$f":"IF(NRI!D16<>\"\",NRI!D16,\"\")","v":""},{"$f":"IFERROR(F16-(1.01*F$57),\"\")","v":""},{"$f":"IF(NRI!E16<>\"\",NRI!E16,\"\")","v":""},{"$f":"IFERROR(H16-(1.01*H$57),\"\")","v":""},{"$f":"IF(NRI!F16<>\"\",NRI!F16,\"\")","v":""},{"$f":"IFERROR(J16-(1.01*J$57),\"\")","v":""},{"$f":"IF(NRI!G16<>\"\",NRI!G16,\"\")","v":""},{"$f":"IFERROR(L16-(1.01*L$57),\"\")","v":""},{"$f":"IF(NRI!H16<>\"\",NRI!H16,\"\")","v":""},{"$f":"IFERROR(N16-(1.01*N$57),\"\")","v":""},{"$f":"IF(NRI!I16<>\"\",NRI!I16,\"\")","v":""},{"$f":"IFERROR(P16-(1.01*P$57),\"\")","v":""},{"$f":"IF(NRI!J16<>\"\",NRI!J16,\"\")","v":""},{"$f":"IFERROR(R16-(1.01*R$57),\"\")","v":""},{"$f":"IF(NRI!K16<>\"\",NRI!K16,\"\")","v":""},{"$f":"IFERROR(T16-(1.01*T$57),\"\")","v":""},{"$f":"IF(NRI!L16<>\"\",NRI!L16,\"\")","v":""},{"$f":"IFERROR(V16-(1.01*V$57),\"\")","v":""},{"$f":"IF(NRI!M16<>\"\",NRI!M16,\"\")","v":""},{"$f":"IFERROR(X16-(1.01*X$57),\"\")","v":""}]
[14,{"$f":"IF(NRI!B17<>\"\",NRI!B17,\"\")","v":""},"",{"$f":"IF(NRI!C17<>\"\",NRI!C17,\"\")","v":""},"",{"$f":"IF(NRI!D17<>\"\",NRI!D17,\"\")","v":""},{"$f":"IFERROR(F17-(1.01*F$57),\"\")","v":""},{"$f":"IF(NRI!E17<>\"\",NRI!E17,\"\")","v":""},{"$f":"IFERROR(H17-(1.01*H$57),\"\")","v":""},{"$f":"IF(NRI!F17<>\"\",NRI!F17,\"\")","v":""},{"$f":"IFERROR(J17-(1.01*J$57),\"\")","v":""},{"$f":"IF(NRI!G17<>\"\",NRI!G17,\"\")","v":""},{"$f":"IFERROR(L17-(1.01*L$57),\"\")","v":""},{"$f":"IF(NRI!H17<>\"\",NRI!H17,\"\")","v":""},{"$f":"IFERROR(N17-(1.01*N$57),\"\")","v":""},{"$f":"IF(NRI!I17<>\"\",NRI!I17,\"\")","v":""},{"$f":"IFERROR(P17-(1.01*P$57),\"\")","v":""},{"$f":"IF(NRI!J17<>\"\",NRI!J17,\"\")","v":""},{"$f":"IFERROR(R17-(1.01*R$57),\"\")","v":""},{"$f":"IF(NRI!K17<>\"\",NRI!K17,\"\")","v":""},{"$f":"IFERROR(T17-(1.01*T$57),\"\")","v":""},{"$f":"IF(NRI!L17<>\"\",NRI!L17,\"\")","v":""},{"$f":"IFERROR(V17-(1.01*V$57),\"\")","v":""},{"$f":"IF(NRI!M17<>\"\",NRI!M17,\"\")","v":""},{"$f":"IFERROR(X17-(1.01*X$57),\"\")","v":""}]
[15,{"$f":"IF(NRI!B18<>\"\",NRI!B18,\"\")","v":""},"",{"$f":"IF(NRI!C18<>\"\",NRI!C18,\"\")","v":""},"",{"$f":"IF(NRI!D18<>\"\",NRI!D18,\"\")","v":""},{"$f":"IFERROR(F18-(1.01*F$57),\"\")","v":""},{"$f":"IF(NRI!E18<>\"\",NRI!E18,\"\")","v":""},{"$f":"IFERROR(H18-(1.01*H$57),\"\")","v":""},{"$f":"IF(NRI!F18<>\"\",NRI!F18,\"\")","v":""},{"$f":"IFERROR(J18-(1.01*J$57),\"\")","v":""},{"$f":"IF(NRI!G18<>\"\",NRI!G18,\"\")","v":""},{"$f":"IFERROR(L18-(1.01*L$57),\"\")","v":""},{"$f":"IF(NRI!H18<>\"\",NRI!H18,\"\")","v":""},{"$f":"IFERROR(N18-(1.01*N$57),\"\")","v":""},{"$f":"IF(NRI!I18<>\"\",NRI!I18,\"\")","v":""},{"$f":"IFERROR(P18-(1.01*P$57),\"\")","v":""},{"$f":"IF(NRI!J18<>\"\",NRI!J18,\"\")","v":""},{"$f":"IFERROR(R18-(1.01*R$57),\"\")","v":""},{"$f":"IF(NRI!K18<>\"\",NRI!K18,\"\")","v":""},{"$f":"IFERROR(T18-(1.01*T$57),\"\")","v":""},{"$f":"IF(NRI!L18<>\"\",NRI!L18,\"\")","v":""},{"$f":"IFERROR(V18-(1.01*V$57),\"\")","v":""},{"$f":"IF(NRI!M18<>\"\",NRI!M18,\"\")","v":""},{"$f":"IFERROR(X18-(1.01*X$57),\"\")","v":""}]
[16,{"$f":"IF(NRI!B19<>\"\",NRI!B19,\"\")","v":""},"",{"$f":"IF(NRI!C19<>\"\",NRI!C19,\"\")","v":""},"",{"$f":"IF(NRI!D19<>\"\",NRI!D19,\"\")","v":""},{"$f":"IFERROR(F19-(1.01*F$57),\"\")","v":""},{"$f":"IF(NRI!E19<>\"\",NRI!E19,\"\")","v":""},{"$f":"IFERROR(H19-(1.01*H$57),\"\")","v":""},{"$f":"IF(NRI!F19<>\"\",NRI!F19,\"\")","v":""},{"$f":"IFERROR(J19-(1.01*J$57),\"\")","v":""},{"$f":"IF(NRI!G19<>\"\",NRI!G19,\"\")","v":""},{"$f":"IFERROR(L19-(1.01*L$57),\"\")","v":""},{"$f":"IF(NRI!H19<>\"\",NRI!H19,\"\")","v":""},{"$f":"IFERROR(N19-(1.01*N$57),\"\")","v":""},{"$f":"IF(NRI!I19<>\"\",NRI!I19,\"\")","v":""},{"$f":"IFERROR(P19-(1.01*P$57),\"\")","v":""},{"$f":"IF(NRI!J19<>\"\",NRI!J19,\"\")","v":""},{"$f":"IFERROR(R19-(1.01*R$57),\"\")","v":""},{"$f":"IF(NRI!K19<>\"\",NRI!K19,\"\")","v":""},{"$f":"IFERROR(T19-(1.01*T$57),\"\")","v":""},{"$f":"IF(NRI!L19<>\"\",NRI!L19,\"\")","v":""},{"$f":"IFERROR(V19-(1.01*V$57),\"\")","v":""},{"$f":"IF(NRI!M19<>\"\",NRI!M19,\"\")","v":""},{"$f":"IFERROR(X19-(1.01*X$57),\"\")","v":""}]
[17,{"$f":"IF(NRI!B20<>\"\",NRI!B20,\"\")","v":""},"",{"$f":"IF(NRI!C20<>\"\",NRI!C20,\"\")","v":""},"",{"$f":"IF(NRI!D20<>\"\",NRI!D20,\"\")","v":""},{"$f":"IFERROR(F20-(1.01*F$57),\"\")","v":""},{"$f":"IF(NRI!E20<>\"\",NRI!E20,\"\")","v":""},{"$f":"IFERROR(H20-(1.01*H$57),\"\")","v":""},{"$f":"IF(NRI!F20<>\"\",NRI!F20,\"\")","v":""},{"$f":"IFERROR(J20-(1.01*J$57),\"\")","v":""},{"$f":"IF(NRI!G20<>\"\",NRI!G20,\"\")","v":""},{"$f":"IFERROR(L20-(1.01*L$57),\"\")","v":""},{"$f":"IF(NRI!H20<>\"\",NRI!H20,\"\")","v":""},{"$f":"IFERROR(N20-(1.01*N$57),\"\")","v":""},{"$f":"IF(NRI!I20<>\"\",NRI!I20,\"\")","v":""},{"$f":"IFERROR(P20-(1.01*P$57),\"\")","v":""},{"$f":"IF(NRI!J20<>\"\",NRI!J20,\"\")","v":""},{"$f":"IFERROR(R20-(1.01*R$57),\"\")","v":""},{"$f":"IF(NRI!K20<>\"\",NRI!K20,\"\")","v":""},{"$f":"IFERROR(T20-(1.01*T$57),\"\")","v":""},{"$f":"IF(NRI!L20<>\"\",NRI!L20,\"\")","v":""},{"$f":"IFERROR(V20-(1.01*V$57),\"\")","v":""},{"$f":"IF(NRI!M20<>\"\",NRI!M20,\"\")","v":""},{"$f":"IFERROR(X20-(1.01*X$57),\"\")","v":""}]
[18,{"$f":"IF(NRI!B21<>\"\",NRI!B21,\"\")","v":""},"",{"$f":"IF(NRI!C21<>\"\",NRI!C21,\"\")","v":""},"",{"$f":"IF(NRI!D21<>\"\",NRI!D21,\"\")","v":""},{"$f":"IFERROR(F21-(1.01*F$57),\"\")","v":""},{"$f":"IF(NRI!E21<>\"\",NRI!E21,\"\")","v":""},{"$f":"IFERROR(H21-(1.01*H$57),\"\")","v":""},{"$f":"IF(NRI!F21<>\"\",NRI!F21,\"\")","v":""},{"$f":"IFERROR(J21-(1.01*J$57),\"\")","v":""},{"$f":"IF(NRI!G21<>\"\",NRI!G21,\"\")","v":""},{"$f":"IFERROR(L21-(1.01*L$57),\"\")","v":""},{"$f":"IF(NRI!H21<>\"\",NRI!H21,\"\")","v":""},{"$f":"IFERROR(N21-(1.01*N$57),\"\")","v":""},{"$f":"IF(NRI!I21<>\"\",NRI!I21,\"\")","v":""},{"$f":"IFERROR(P21-(1.01*P$57),\"\")","v":""},{"$f":"IF(NRI!J21<>\"\",NRI!J21,\"\")","v":""},{"$f":"IFERROR(R21-(1.01*R$57),\"\")","v":""},{"$f":"IF(NRI!K21<>\"\",NRI!K21,\"\")","v":""},{"$f":"IFERROR(T21-(1.01*T$57),\"\")","v":""},{"$f":"IF(NRI!L21<>\"\",NRI!L21,\"\")","v":""},{"$f":"IFERROR(V21-(1.01*V$57),\"\")","v":""},{"$f":"IF(NRI!M21<>\"\",NRI!M21,\"\")","v":""},{"$f":"IFERROR(X21-(1.01*X$57),\"\")","v":""}]
[19,{"$f":"IF(NRI!B22<>\"\",NRI!B22,\"\")","v":""},"",{"$f":"IF(NRI!C22<>\"\",NRI!C22,\"\")","v":""},"",{"$f":"IF(NRI!D22<>\"\",NRI!D22,\"\")","v":""},{"$f":"IFERROR(F22-(1.01*F$57),\"\")","v":""},{"$f":"IF(NRI!E22<>\"\",NRI!E22,\"\")","v":""},{"$f":"IFERROR(H22-(1.01*H$57),\"\")","v":""},{"$f":"IF(NRI!F22<>\"\",NRI!F22,\"\")","v":""},{"$f":"IFERROR(J22-(1.01*J$57),\"\")","v":""},{"$f":"IF(NRI!G22<>\"\",NRI!G22,\"\")","v":""},{"$f":"IFERROR(L22-(1.01*L$57),\"\")","v":""},{"$f":"IF(NRI!H22<>\"\",NRI!H22,\"\")","v":""},{"$f":"IFERROR(N22-(1.01*N$57),\"\")","v":""},{"$f":"IF(NRI!I22<>\"\",NRI!I22,\"\")","v":""},{"$f":"IFERROR(P22-(1.01*P$57),\"\")","v":""},{"$f":"IF(NRI!J22<>\"\",NRI!J22,\"\")","v":""},{"$f":"IFERROR(R22-(1.01*R$57),\"\")","v":""},{"$f":"IF(NRI!K22<>\"\",NRI!K22,\"\")","v":""},{"$f":"IFERROR(T22-(1.01*T$57),\"\")","v":""},{"$f":"IF(NRI!L22<>\"\",NRI!L22,\"\")","v":""},{"$f":"IFERROR(V22-(1.01*V$57),\"\")","v":""},{"$f":"IF(NRI!M22<>\"\",NRI!M22,\"\")","v":""},{"$f":"IFERROR(X22-(1.01*X$57),\"\")","v":""}]
[20,{"$f":"IF(NRI!B23<>\"\",NRI!B23,\"\")","v":""},"",{"$f":"IF(NRI!C23<>\"\",NRI!C23,\"\")","v":""},"",{"$f":"IF(NRI!D23<>\"\",NRI!D23,\"\")","v":""},{"$f":"IFERROR(F23-(1.01*F$57),\"\")","v":""},{"$f":"IF(NRI!E23<>\"\",NRI!E23,\"\")","v":""},{"$f":"IFERROR(H23-(1.01*H$57),\"\")","v":""},{"$f":"IF(NRI!F23<>\"\",NRI!F23,\"\")","v":""},{"$f":"IFERROR(J23-(1.01*J$57),\"\")","v":""},{"$f":"IF(NRI!G23<>\"\",NRI!G23,\"\")","v":""},{"$f":"IFERROR(L23-(1.01*L$57),\"\")","v":""},{"$f":"IF(NRI!H23<>\"\",NRI!H23,\"\")","v":""},{"$f":"IFERROR(N23-(1.01*N$57),\"\")","v":""},{"$f":"IF(NRI!I23<>\"\",NRI!I23,\"\")","v":""},{"$f":"IFERROR(P23-(1.01*P$57),\"\")","v":""},{"$f":"IF(NRI!J23<>\"\",NRI!J23,\"\")","v":""},{"$f":"IFERROR(R23-(1.01*R$57),\"\")","v":""},{"$f":"IF(NRI!K23<>\"\",NRI!K23,\"\")","v":""},{"$f":"IFERROR(T23-(1.01*T$57),\"\")","v":""},{"$f":"IF(NRI!L23<>\"\",NRI!L23,\"\")","v":""},{"$f":"IFERROR(V23-(1.01*V$57),\"\")","v":""},{"$f":"IF(NRI!M23<>\"\",NRI!M23,\"\")","v":""},{"$f":"IFERROR(X23-(1.01*X$57),\"\")","v":""}]
[21,{"$f":"IF(NRI!B24<>\"\",NRI!B24,\"\")","v":""},"",{"$f":"IF(NRI!C24<>\"\",NRI!C24,\"\")","v":""},"",{"$f":"IF(NRI!D24<>\"\",NRI!D24,\"\")","v":""},{"$f":"IFERROR(F24-(1.01*F$57),\"\")","v":""},{"$f":"IF(NRI!E24<>\"\",NRI!E24,\"\")","v":""},{"$f":"IFERROR(H24-(1.01*H$57),\"\")","v":""},{"$f":"IF(NRI!F24<>\"\",NRI!F24,\"\")","v":""},{"$f":"IFERROR(J24-(1.01*J$57),\"\")","v":""},{"$f":"IF(NRI!G24<>\"\",NRI!G24,\"\")","v":""},{"$f":"IFERROR(L24-(1.01*L$57),\"\")","v":""},{"$f":"IF(NRI!H24<>\"\",NRI!H24,\"\")","v":""},{"$f":"IFERROR(N24-(1.01*N$57),\"\")","v":""},{"$f":"IF(NRI!I24<>\"\",NRI!I24,\"\")","v":""},{"$f":"IFERROR(P24-(1.01*P$57),\"\")","v":""},{"$f":"IF(NRI!J24<>\"\",NRI!J24,\"\")","v":""},{"$f":"IFERROR(R24-(1.01*R$57),\"\")","v":""},{"$f":"IF(NRI!K24<>\"\",NRI!K24,\"\")","v":""},{"$f":"IFERROR(T24-(1.01*T$57),\"\")","v":""},{"$f":"IF(NRI!L24<>\"\",NRI!L24,\"\")","v":""},{"$f":"IFERROR(V24-(1.01*V$57),\"\")","v":""},{"$f":"IF(NRI!M24<>\"\",NRI!M24,\"\")","v":""},{"$f":"IFERROR(X24-(1.01*X$57),\"\")","v":""}]
[22,{"$f":"IF(NRI!B25<>\"\",NRI!B25,\"\")","v":""},"",{"$f":"IF(NRI!C25<>\"\",NRI!C25,\"\")","v":""},"",{"$f":"IF(NRI!D25<>\"\",NRI!D25,\"\")","v":""},{"$f":"IFERROR(F25-(1.01*F$57),\"\")","v":""},{"$f":"IF(NRI!E25<>\"\",NRI!E25,\"\")","v":""},{"$f":"IFERROR(H25-(1.01*H$57),\"\")","v":""},{"$f":"IF(NRI!F25<>\"\",NRI!F25,\"\")","v":""},{"$f":"IFERROR(J25-(1.01*J$57),\"\")","v":""},{"$f":"IF(NRI!G25<>\"\",NRI!G25,\"\")","v":""},{"$f":"IFERROR(L25-(1.01*L$57),\"\")","v":""},{"$f":"IF(NRI!H25<>\"\",NRI!H25,\"\")","v":""},{"$f":"IFERROR(N25-(1.01*N$57),\"\")","v":""},{"$f":"IF(NRI!I25<>\"\",NRI!I25,\"\")","v":""},{"$f":"IFERROR(P25-(1.01*P$57),\"\")","v":""},{"$f":"IF(NRI!J25<>\"\",NRI!J25,\"\")","v":""},{"$f":"IFERROR(R25-(1.01*R$57),\"\")","v":""},{"$f":"IF(NRI!K25<>\"\",NRI!K25,\"\")","v":""},{"$f":"IFERROR(T25-(1.01*T$57),\"\")","v":""},{"$f":"IF(NRI!L25<>\"\",NRI!L25,\"\")","v":""},{"$f":"IFERROR(V25-(1.01*V$57),\"\")","v":""},{"$f":"IF(NRI!M25<>\"\",NRI!M25,\"\")","v":""},{"$f":"IFERROR(X25-(1.01*X$57),\"\")","v":""}]
[23,{"$f":"IF(NRI!B26<>\"\",NRI!B26,\"\")","v":""},"",{"$f":"IF(NRI!C26<>\"\",NRI!C26,\"\")","v":""},"",{"$f":"IF(NRI!D26<>\"\",NRI!D26,\"\")","v":""},{"$f":"IFERROR(F26-(1.01*F$57),\"\")","v":""},{"$f":"IF(NRI!E26<>\"\",NRI!E26,\"\")","v":""},{"$f":"IFERROR(H26-(1.01*H$57),\"\")","v":""},{"$f":"IF(NRI!F26<>\"\",NRI!F26,\"\")","v":""},{"$f":"IFERROR(J26-(1.01*J$57),\"\")","v":""},{"$f":"IF(NRI!G26<>\"\",NRI!G26,\"\")","v":""},{"$f":"IFERROR(L26-(1.01*L$57),\"\")","v":""},{"$f":"IF(NRI!H26<>\"\",NRI!H26,\"\")","v":""},{"$f":"IFERROR(N26-(1.01*N$57),\"\")","v":""},{"$f":"IF(NRI!I26<>\"\",NRI!I26,\"\")","v":""},{"$f":"IFERROR(P26-(1.01*P$57),\"\")","v":""},{"$f":"IF(NRI!J26<>\"\",NRI!J26,\"\")","v":""},{"$f":"IFERROR(R26-(1.01*R$57),\"\")","v":""},{"$f":"IF(NRI!K26<>\"\",NRI!K26,\"\")","v":""},{"$f":"IFERROR(T26-(1.01*T$57),\"\")","v":""},{"$f":"IF(NRI!L26<>\"\",NRI!L26,\"\")","v":""},{"$f":"IFERROR(V26-(1.01*V$57),\"\")","v":""},{"$f":"IF(NRI!M26<>\"\",NRI!M26,\"\")","v":""},{"$f":"IFERROR(X26-(1.01*X$57),\"\")","v":""}]
[24,{"$f":"IF(NRI!B27<>\"\",NRI!B27,\"\")","v":""},"",{"$f":"IF(NRI!C27<>\"\",NRI!C27,\"\")","v":""},"",{"$f":"IF(NRI!D27<>\"\",NRI!D27,\"\")","v":""},{"$f":"IFERROR(F27-(1.01*F$57),\"\")","v":""},{"$f":"IF(NRI!E27<>\"\",NRI!E27,\"\")","v":""},{"$f":"IFERROR(H27-(1.01*H$57),\"\")","v":""},{"$f":"IF(NRI!F27<>\"\",NRI!F27,\"\")","v":""},{"$f":"IFERROR(J27-(1.01*J$57),\"\")","v":""},{"$f":"IF(NRI!G27<>\"\",NRI!G27,\"\")","v":""},{"$f":"IFERROR(L27-(1.01*L$57),\"\")","v":""},{"$f":"IF(NRI!H27<>\"\",NRI!H27,\"\")","v":""},{"$f":"IFERROR(N27-(1.01*N$57),\"\")","v":""},{"$f":"IF(NRI!I27<>\"\",NRI!I27,\"\")","v":""},{"$f":"IFERROR(P27-(1.01*P$57),\"\")","v":""},{"$f":"IF(NRI!J27<>\"\",NRI!J27,\"\")","v":""},{"$f":"IFERROR(R27-(1.01*R$57),\"\")","v":""},{"$f":"IF(NRI!K27<>\"\",NRI!K27,\"\")","v":""},{"$f":"IFERROR(T27-(1.01*T$57),\"\")","v":""},{"$f":"IF(NRI!L27<>\"\",NRI!L27,\"\")","v":""},{"$f":"IFERROR(V27-(1.01*V$57),\"\")","v":""},{"$f":"IF(NRI!M27<>\"\",NRI!M27,\"\")","v":""},{"$f":"IFERROR(X27-(1.01*X$57),\"\")","v":""}]
[25,{"$f":"IF(NRI!B28<>\"\",NRI!B28,\"\")","v":""},"",{"$f":"IF(NRI!C28<>\"\",NRI!C28,\"\")","v":""},"",{"$f":"IF(NRI!D28<>\"\",NRI!D28,\"\")","v":""},{"$f":"IFERROR(F28-(1.01*F$57),\"\")","v":""},{"$f":"IF(NRI!E28<>\"\",NRI!E28,\"\")","v":""},{"$f":"IFERROR(H28-(1.01*H$57),\"\")","v":""},{"$f":"IF(NRI!F28<>\"\",NRI!F28,\"\")","v":""},{"$f":"IFERROR(J28-(1.01*J$57),\"\")","v":""},{"$f":"IF(NRI!G28<>\"\",NRI!G28,\"\")","v":""},{"$f":"IFERROR(L28-(1.01*L$57),\"\")","v":""},{"$f":"IF(NRI!H28<>\"\",NRI!H28,\"\")","v":""},{"$f":"IFERROR(N28-(1.01*N$57),\"\")","v":""},{"$f":"IF(NRI!I28<>\"\",NRI!I28,\"\")","v":""},{"$f":"IFERROR(P28-(1.01*P$57),\"\")","v":""},{"$f":"IF(NRI!J28<>\"\",NRI!J28,\"\")","v":""},{"$f":"IFERROR(R28-(1.01*R$57),\"\")","v":""},{"$f":"IF(NRI!K28<>\"\",NRI!K28,\"\")","v":""},{"$f":"IFERROR(T28-(1.01*T$57),\"\")","v":""},{"$f":"IF(NRI!L28<>\"\",NRI!L28,\"\")","v":""},{"$f":"IFERROR(V28-(1.01*V$57),\"\")","v":""},{"$f":"IF(NRI!M28<>\"\",NRI!M28,\"\")","v":""},{"$f":"IFERROR(X28-(1.01*X$57),\"\")","v":""}]
[26,{"$f":"IF(NRI!B29<>\"\",NRI!B29,\"\")","v":""},"",{"$f":"IF(NRI!C29<>\"\",NRI!C29,\"\")","v":""},"",{"$f":"IF(NRI!D29<>\"\",NRI!D29,\"\")","v":""},{"$f":"IFERROR(F29-(1.01*F$57),\"\")","v":""},{"$f":"IF(NRI!E29<>\"\",NRI!E29,\"\")","v":""},{"$f":"IFERROR(H29-(1.01*H$57),\"\")","v":""},{"$f":"IF(NRI!F29<>\"\",NRI!F29,\"\")","v":""},{"$f":"IFERROR(J29-(1.01*J$57),\"\")","v":""},{"$f":"IF(NRI!G29<>\"\",NRI!G29,\"\")","v":""},{"$f":"IFERROR(L29-(1.01*L$57),\"\")","v":""},{"$f":"IF(NRI!H29<>\"\",NRI!H29,\"\")","v":""},{"$f":"IFERROR(N29-(1.01*N$57),\"\")","v":""},{"$f":"IF(NRI!I29<>\"\",NRI!I29,\"\")","v":""},{"$f":"IFERROR(P29-(1.01*P$57),\"\")","v":""},{"$f":"IF(NRI!J29<>\"\",NRI!J29,\"\")","v":""},{"$f":"IFERROR(R29-(1.01*R$57),\"\")","v":""},{"$f":"IF(NRI!K29<>\"\",NRI!K29,\"\")","v":""},{"$f":"IFERROR(T29-(1.01*T$57),\"\")","v":""},{"$f":"IF(NRI!L29<>\"\",NRI!L29,\"\")","v":""},{"$f":"IFERROR(V29-(1.01*V$57),\"\")","v":""},{"$f":"IF(NRI!M29<>\"\",NRI!M29,\"\")","v":""},{"$f":"IFERROR(X29-(1.01*X$57),\"\")","v":""}]
[27,{"$f":"IF(NRI!B30<>\"\",NRI!B30,\"\")","v":""},"",{"$f":"IF(NRI!C30<>\"\",NRI!C30,\"\")","v":""},"",{"$f":"IF(NRI!D30<>\"\",NRI!D30,\"\")","v":""},{"$f":"IFERROR(F30-(1.01*F$57),\"\")","v":""},{"$f":"IF(NRI!E30<>\"\",NRI!E30,\"\")","v":""},{"$f":"IFERROR(H30-(1.01*H$57),\"\")","v":""},{"$f":"IF(NRI!F30<>\"\",NRI!F30,\"\")","v":""},{"$f":"IFERROR(J30-(1.01*J$57),\"\")","v":""},{"$f":"IF(NRI!G30<>\"\",NRI!G30,\"\")","v":""},{"$f":"IFERROR(L30-(1.01*L$57),\"\")","v":""},{"$f":"IF(NRI!H30<>\"\",NRI!H30,\"\")","v":""},{"$f":"IFERROR(N30-(1.01*N$57),\"\")","v":""},{"$f":"IF(NRI!I30<>\"\",NRI!I30,\"\")","v":""},{"$f":"IFERROR(P30-(1.01*P$57),\"\")","v":""},{"$f":"IF(NRI!J30<>\"\",NRI!J30,\"\")","v":""},{"$f":"IFERROR(R30-(1.01*R$57),\"\")","v":""},{"$f":"IF(NRI!K30<>\"\",NRI!K30,\"\")","v":""},{"$f":"IFERROR(T30-(1.01*T$57),\"\")","v":""},{"$f":"IF(NRI!L30<>\"\",NRI!L30,\"\")","v":""},{"$f":"IFERROR(V30-(1.01*V$57),\"\")","v":""},{"$f":"IF(NRI!M30<>\"\",NRI!M30,\"\")","v":""},{"$f":"IFERROR(X30-(1.01*X$57),\"\")","v":""}]
[28,{"$f":"IF(NRI!B31<>\"\",NRI!B31,\"\")","v":""},"",{"$f":"IF(NRI!C31<>\"\",NRI!C31,\"\")","v":""},"",{"$f":"IF(NRI!D31<>\"\",NRI!D31,\"\")","v":""},{"$f":"IFERROR(F31-(1.01*F$57),\"\")","v":""},{"$f":"IF(NRI!E31<>\"\",NRI!E31,\"\")","v":""},{"$f":"IFERROR(H31-(1.01*H$57),\"\")","v":""},{"$f":"IF(NRI!F31<>\"\",NRI!F31,\"\")","v":""},{"$f":"IFERROR(J31-(1.01*J$57),\"\")","v":""},{"$f":"IF(NRI!G31<>\"\",NRI!G31,\"\")","v":""},{"$f":"IFERROR(L31-(1.01*L$57),\"\")","v":""},{"$f":"IF(NRI!H31<>\"\",NRI!H31,\"\")","v":""},{"$f":"IFERROR(N31-(1.01*N$57),\"\")","v":""},{"$f":"IF(NRI!I31<>\"\",NRI!I31,\"\")","v":""},{"$f":"IFERROR(P31-(1.01*P$57),\"\")","v":""},{"$f":"IF(NRI!J31<>\"\",NRI!J31,\"\")","v":""},{"$f":"IFERROR(R31-(1.01*R$57),\"\")","v":""},{"$f":"IF(NRI!K31<>\"\",NRI!K31,\"\")","v":""},{"$f":"IFERROR(T31-(1.01*T$57),\"\")","v":""},{"$f":"IF(NRI!L31<>\"\",NRI!L31,\"\")","v":""},{"$f":"IFERROR(V31-(1.01*V$57),\"\")","v":""},{"$f":"IF(NRI!M31<>\"\",NRI!M31,\"\")","v":""},{"$f":"IFERROR(X31-(1.01*X$57),\"\")","v":""}]
[29,{"$f":"IF(NRI!B32<>\"\",NRI!B32,\"\")","v":""},"",{"$f":"IF(NRI!C32<>\"\",NRI!C32,\"\")","v":""},"",{"$f":"IF(NRI!D32<>\"\",NRI!D32,\"\")","v":""},{"$f":"IFERROR(F32-(1.01*F$57),\"\")","v":""},{"$f":"IF(NRI!E32<>\"\",NRI!E32,\"\")","v":""},{"$f":"IFERROR(H32-(1.01*H$57),\"\")","v":""},{"$f":"IF(NRI!F32<>\"\",NRI!F32,\"\")","v":""},{"$f":"IFERROR(J32-(1.01*J$57),\"\")","v":""},{"$f":"IF(NRI!G32<>\"\",NRI!G32,\"\")","v":""},{"$f":"IFERROR(L32-(1.01*L$57),\"\")","v":""},{"$f":"IF(NRI!H32<>\"\",NRI!H32,\"\")","v":""},{"$f":"IFERROR(N32-(1.01*N$57),\"\")","v":""},{"$f":"IF(NRI!I32<>\"\",NRI!I32,\"\")","v":""},{"$f":"IFERROR(P32-(1.01*P$57),\"\")","v":""},{"$f":"IF(NRI!J32<>\"\",NRI!J32,\"\")","v":""},{"$f":"IFERROR(R32-(1.01*R$57),\"\")","v":""},{"$f":"IF(NRI!K32<>\"\",NRI!K32,\"\")","v":""},{"$f":"IFERROR(T32-(1.01*T$57),\"\")","v":""},{"$f":"IF(NRI!L32<>\"\",NRI!L32,\"\")","v":""},{"$f":"IFERROR(V32-(1.01*V$57),\"\")","v":""},{"$f":"IF(NRI!M32<>\"\",NRI!M32,\"\")","v":""},{"$f":"IFERROR(X32-(1.01*X$57),\"\")","v":""}]
[30,{"$f":"IF(NRI!B33<>\"\",NRI!B33,\"\")","v":""},"",{"$f":"IF(NRI!C33<>\"\",NRI!C33,\"\")","v":""},"",{"$f":"IF(NRI!D33<>\"\",NRI!D33,\"\")","v":""},{"$f":"IFERROR(F33-(1.01*F$57),\"\")","v":""},{"$f":"IF(NRI!E33<>\"\",NRI!E33,\"\")","v":""},{"$f":"IFERROR(H33-(1.01*H$57),\"\")","v":""},{"$f":"IF(NRI!F33<>\"\",NRI!F33,\"\")","v":""},{"$f":"IFERROR(J33-(1.01*J$57),\"\")","v":""},{"$f":"IF(NRI!G33<>\"\",NRI!G33,\"\")","v":""},{"$f":"IFERROR(L33-(1.01*L$57),\"\")","v":""},{"$f":"IF(NRI!H33<>\"\",NRI!H33,\"\")","v":""},{"$f":"IFERROR(N33-(1.01*N$57),\"\")","v":""},{"$f":"IF(NRI!I33<>\"\",NRI!I33,\"\")","v":""},{"$f":"IFERROR(P33-(1.01*P$57),\"\")","v":""},{"$f":"IF(NRI!J33<>\"\",NRI!J33,\"\")","v":""},{"$f":"IFERROR(R33-(1.01*R$57),\"\")","v":""},{"$f":"IF(NRI!K33<>\"\",NRI!K33,\"\")","v":""},{"$f":"IFERROR(T33-(1.01*T$57),\"\")","v":""},{"$f":"IF(NRI!L33<>\"\",NRI!L33,\"\")","v":""},{"$f":"IFERROR(V33-(1.01*V$57),\"\")","v":""},{"$f":"IF(NRI!M33<>\"\",NRI!M33,\"\")","v":""},{"$f":"IFERROR(X33-(1.01*X$57),\"\")","v":""}]
[31,{"$f":"IF(NRI!B34<>\"\",NRI!B34,\"\")","v":""},"",{"$f":"IF(NRI!C34<>\"\",NRI!C34,\"\")","v":""},"",{"$f":"IF(NRI!D34<>\"\",NRI!D34,\"\")","v":""},{"$f":"IFERROR(F34-(1.01*F$57),\"\")","v":""},{"$f":"IF(NRI!E34<>\"\",NRI!E34,\"\")","v":""},{"$f":"IFERROR(H34-(1.01*H$57),\"\")","v":""},{"$f":"IF(NRI!F34<>\"\",NRI!F34,\"\")","v":""},{"$f":"IFERROR(J34-(1.01*J$57),\"\")","v":""},{"$f":"IF(NRI!G34<>\"\",NRI!G34,\"\")","v":""},{"$f":"IFERROR(L34-(1.01*L$57),\"\")","v":""},{"$f":"IF(NRI!H34<>\"\",NRI!H34,\"\")","v":""},{"$f":"IFERROR(N34-(1.01*N$57),\"\")","v":""},{"$f":"IF(NRI!I34<>\"\",NRI!I34,\"\")","v":""},{"$f":"IFERROR(P34-(1.01*P$57),\"\")","v":""},{"$f":"IF(NRI!J34<>\"\",NRI!J34,\"\")","v":""},{"$f":"IFERROR(R34-(1.01*R$57),\"\")","v":""},{"$f":"IF(NRI!K34<>\"\",NRI!K34,\"\")","v":""},{"$f":"IFERROR(T34-(1.01*T$57),\"\")","v":""},{"$f":"IF(NRI!L34<>\"\",NRI!L34,\"\")","v":""},{"$f":"IFERROR(V34-(1.01*V$57),\"\")","v":""},{"$f":"IF(NRI!M34<>\"\",NRI!M34,\"\")","v":""},{"$f":"IFERROR(X34-(1.01*X$57),\"\")","v":""}]
[32,{"$f":"IF(NRI!B35<>\"\",NRI!B35,\"\")","v":""},"",{"$f":"IF(NRI!C35<>\"\",NRI!C35,\"\")","v":""},"",{"$f":"IF(NRI!D35<>\"\",NRI!D35,\"\")","v":""},{"$f":"IFERROR(F35-(1.01*F$57),\"\")","v":""},{"$f":"IF(NRI!E35<>\"\",NRI!E35,\"\")","v":""},{"$f":"IFERROR(H35-(1.01*H$57),\"\")","v":""},{"$f":"IF(NRI!F35<>\"\",NRI!F35,\"\")","v":""},{"$f":"IFERROR(J35-(1.01*J$57),\"\")","v":""},{"$f":"IF(NRI!G35<>\"\",NRI!G35,\"\")","v":""},{"$f":"IFERROR(L35-(1.01*L$57),\"\")","v":""},{"$f":"IF(NRI!H35<>\"\",NRI!H35,\"\")","v":""},{"$f":"IFERROR(N35-(1.01*N$57),\"\")","v":""},{"$f":"IF(NRI!I35<>\"\",NRI!I35,\"\")","v":""},{"$f":"IFERROR(P35-(1.01*P$57),\"\")","v":""},{"$f":"IF(NRI!J35<>\"\",NRI!J35,\"\")","v":""},{"$f":"IFERROR(R35-(1.01*R$57),\"\")","v":""},{"$f":"IF(NRI!K35<>\"\",NRI!K35,\"\")","v":""},{"$f":"IFERROR(T35-(1.01*T$57),\"\")","v":""},{"$f":"IF(NRI!L35<>\"\",NRI!L35,\"\")","v":""},{"$f":"IFERROR(V35-(1.01*V$57),\"\")","v":""},{"$f":"IF(NRI!M35<>\"\",NRI!M35,\"\")","v":""},{"$f":"IFERROR(X35-(1.01*X$57),\"\")","v":""}]
[33,{"$f":"IF(NRI!B36<>\"\",NRI!B36,\"\")","v":""},"",{"$f":"IF(NRI!C36<>\"\",NRI!C36,\"\")","v":""},"",{"$f":"IF(NRI!D36<>\"\",NRI!D36,\"\")","v":""},{"$f":"IFERROR(F36-(1.01*F$57),\"\")","v":""},{"$f":"IF(NRI!E36<>\"\",NRI!E36,\"\")","v":""},{"$f":"IFERROR(H36-(1.01*H$57),\"\")","v":""},{"$f":"IF(NRI!F36<>\"\",NRI!F36,\"\")","v":""},{"$f":"IFERROR(J36-(1.01*J$57),\"\")","v":""},{"$f":"IF(NRI!G36<>\"\",NRI!G36,\"\")","v":""},{"$f":"IFERROR(L36-(1.01*L$57),\"\")","v":""},{"$f":"IF(NRI!H36<>\"\",NRI!H36,\"\")","v":""},{"$f":"IFERROR(N36-(1.01*N$57),\"\")","v":""},{"$f":"IF(NRI!I36<>\"\",NRI!I36,\"\")","v":""},{"$f":"IFERROR(P36-(1.01*P$57),\"\")","v":""},{"$f":"IF(NRI!J36<>\"\",NRI!J36,\"\")","v":""},{"$f":"IFERROR(R36-(1.01*R$57),\"\")","v":""},{"$f":"IF(NRI!K36<>\"\",NRI!K36,\"\")","v":""},{"$f":"IFERROR(T36-(1.01*T$57),\"\")","v":""},{"$f":"IF(NRI!L36<>\"\",NRI!L36,\"\")","v":""},{"$f":"IFERROR(V36-(1.01*V$57),\"\")","v":""},{"$f":"IF(NRI!M36<>\"\",NRI!M36,\"\")","v":""},{"$f":"IFERROR(X36-(1.01*X$57),\"\")","v":""}]
[34,{"$f":"IF(NRI!B37<>\"\",NRI!B37,\"\")","v":""},"",{"$f":"IF(NRI!C37<>\"\",NRI!C37,\"\")","v":""},"",{"$f":"IF(NRI!D37<>\"\",NRI!D37,\"\")","v":""},{"$f":"IFERROR(F37-(1.01*F$57),\"\")","v":""},{"$f":"IF(NRI!E37<>\"\",NRI!E37,\"\")","v":""},{"$f":"IFERROR(H37-(1.01*H$57),\"\")","v":""},{"$f":"IF(NRI!F37<>\"\",NRI!F37,\"\")","v":""},{"$f":"IFERROR(J37-(1.01*J$57),\"\")","v":""},{"$f":"IF(NRI!G37<>\"\",NRI!G37,\"\")","v":""},{"$f":"IFERROR(L37-(1.01*L$57),\"\")","v":""},{"$f":"IF(NRI!H37<>\"\",NRI!H37,\"\")","v":""},{"$f":"IFERROR(N37-(1.01*N$57),\"\")","v":""},{"$f":"IF(NRI!I37<>\"\",NRI!I37,\"\")","v":""},{"$f":"IFERROR(P37-(1.01*P$57),\"\")","v":""},{"$f":"IF(NRI!J37<>\"\",NRI!J37,\"\")","v":""},{"$f":"IFERROR(R37-(1.01*R$57),\"\")","v":""},{"$f":"IF(NRI!K37<>\"\",NRI!K37,\"\")","v":""},{"$f":"IFERROR(T37-(1.01*T$57),\"\")","v":""},{"$f":"IF(NRI!L37<>\"\",NRI!L37,\"\")","v":""},{"$f":"IFERROR(V37-(1.01*V$57),\"\")","v":""},{"$f":"IF(NRI!M37<>\"\",NRI!M37,\"\")","v":""},{"$f":"IFERROR(X37-(1.01*X$57),\"\")","v":""}]
[35,{"$f":"IF(NRI!B38<>\"\",NRI!B38,\"\")","v":""},"",{"$f":"IF(NRI!C38<>\"\",NRI!C38,\"\")","v":""},"",{"$f":"IF(NRI!D38<>\"\",NRI!D38,\"\")","v":""},{"$f":"IFERROR(F38-(1.01*F$57),\"\")","v":""},{"$f":"IF(NRI!E38<>\"\",NRI!E38,\"\")","v":""},{"$f":"IFERROR(H38-(1.01*H$57),\"\")","v":""},{"$f":"IF(NRI!F38<>\"\",NRI!F38,\"\")","v":""},{"$f":"IFERROR(J38-(1.01*J$57),\"\")","v":""},{"$f":"IF(NRI!G38<>\"\",NRI!G38,\"\")","v":""},{"$f":"IFERROR(L38-(1.01*L$57),\"\")","v":""},{"$f":"IF(NRI!H38<>\"\",NRI!H38,\"\")","v":""},{"$f":"IFERROR(N38-(1.01*N$57),\"\")","v":""},{"$f":"IF(NRI!I38<>\"\",NRI!I38,\"\")","v":""},{"$f":"IFERROR(P38-(1.01*P$57),\"\")","v":""},{"$f":"IF(NRI!J38<>\"\",NRI!J38,\"\")","v":""},{"$f":"IFERROR(R38-(1.01*R$57),\"\")","v":""},{"$f":"IF(NRI!K38<>\"\",NRI!K38,\"\")","v":""},{"$f":"IFERROR(T38-(1.01*T$57),\"\")","v":""},{"$f":"IF(NRI!L38<>\"\",NRI!L38,\"\")","v":""},{"$f":"IFERROR(V38-(1.01*V$57),\"\")","v":""},{"$f":"IF(NRI!M38<>\"\",NRI!M38,\"\")","v":""},{"$f":"IFERROR(X38-(1.01*X$57),\"\")","v":""}]
[36,{"$f":"IF(NRI!B39<>\"\",NRI!B39,\"\")","v":""},"",{"$f":"IF(NRI!C39<>\"\",NRI!C39,\"\")","v":""},"",{"$f":"IF(NRI!D39<>\"\",NRI!D39,\"\")","v":""},{"$f":"IFERROR(F39-(1.01*F$57),\"\")","v":""},{"$f":"IF(NRI!E39<>\"\",NRI!E39,\"\")","v":""},{"$f":"IFERROR(H39-(1.01*H$57),\"\")","v":""},{"$f":"IF(NRI!F39<>\"\",NRI!F39,\"\")","v":""},{"$f":"IFERROR(J39-(1.01*J$57),\"\")","v":""},{"$f":"IF(NRI!G39<>\"\",NRI!G39,\"\")","v":""},{"$f":"IFERROR(L39-(1.01*L$57),\"\")","v":""},{"$f":"IF(NRI!H39<>\"\",NRI!H39,\"\")","v":""},{"$f":"IFERROR(N39-(1.01*N$57),\"\")","v":""},{"$f":"IF(NRI!I39<>\"\",NRI!I39,\"\")","v":""},{"$f":"IFERROR(P39-(1.01*P$57),\"\")","v":""},{"$f":"IF(NRI!J39<>\"\",NRI!J39,\"\")","v":""},{"$f":"IFERROR(R39-(1.01*R$57),\"\")","v":""},{"$f":"IF(NRI!K39<>\"\",NRI!K39,\"\")","v":""},{"$f":"IFERROR(T39-(1.01*T$57),\"\")","v":""},{"$f":"IF(NRI!L39<>\"\",NRI!L39,\"\")","v":""},{"$f":"IFERROR(V39-(1.01*V$57),\"\")","v":""},{"$f":"IF(NRI!M39<>\"\",NRI!M39,\"\")","v":""},{"$f":"IFERROR(X39-(1.01*X$57),\"\")","v":""}]
[37,{"$f":"IF(NRI!B40<>\"\",NRI!B40,\"\")","v":""},"",{"$f":"IF(NRI!C40<>\"\",NRI!C40,\"\")","v":""},"",{"$f":"IF(NRI!D40<>\"\",NRI!D40,\"\")","v":""},{"$f":"IFERROR(F40-(1.01*F$57),\"\")","v":""},{"$f":"IF(NRI!E40<>\"\",NRI!E40,\"\")","v":""},{"$f":"IFERROR(H40-(1.01*H$57),\"\")","v":""},{"$f":"IF(NRI!F40<>\"\",NRI!F40,\"\")","v":""},{"$f":"IFERROR(J40-(1.01*J$57),\"\")","v":""},{"$f":"IF(NRI!G40<>\"\",NRI!G40,\"\")","v":""},{"$f":"IFERROR(L40-(1.01*L$57),\"\")","v":""},{"$f":"IF(NRI!H40<>\"\",NRI!H40,\"\")","v":""},{"$f":"IFERROR(N40-(1.01*N$57),\"\")","v":""},{"$f":"IF(NRI!I40<>\"\",NRI!I40,\"\")","v":""},{"$f":"IFERROR(P40-(1.01*P$57),\"\")","v":""},{"$f":"IF(NRI!J40<>\"\",NRI!J40,\"\")","v":""},{"$f":"IFERROR(R40-(1.01*R$57),\"\")","v":""},{"$f":"IF(NRI!K40<>\"\",NRI!K40,\"\")","v":""},{"$f":"IFERROR(T40-(1.01*T$57),\"\")","v":""},{"$f":"IF(NRI!L40<>\"\",NRI!L40,\"\")","v":""},{"$f":"IFERROR(V40-(1.01*V$57),\"\")","v":""},{"$f":"IF(NRI!M40<>\"\",NRI!M40,\"\")","v":""},{"$f":"IFERROR(X40-(1.01*X$57),\"\")","v":""}]
[38,{"$f":"IF(NRI!B41<>\"\",NRI!B41,\"\")","v":""},"",{"$f":"IF(NRI!C41<>\"\",NRI!C41,\"\")","v":""},"",{"$f":"IF(NRI!D41<>\"\",NRI!D41,\"\")","v":""},{"$f":"IFERROR(F41-(1.01*F$57),\"\")","v":""},{"$f":"IF(NRI!E41<>\"\",NRI!E41,\"\")","v":""},{"$f":"IFERROR(H41-(1.01*H$57),\"\")","v":""},{"$f":"IF(NRI!F41<>\"\",NRI!F41,\"\")","v":""},{"$f":"IFERROR(J41-(1.01*J$57),\"\")","v":""},{"$f":"IF(NRI!G41<>\"\",NRI!G41,\"\")","v":""},{"$f":"IFERROR(L41-(1.01*L$57),\"\")","v":""},{"$f":"IF(NRI!H41<>\"\",NRI!H41,\"\")","v":""},{"$f":"IFERROR(N41-(1.01*N$57),\"\")","v":""},{"$f":"IF(NRI!I41<>\"\",NRI!I41,\"\")","v":""},{"$f":"IFERROR(P41-(1.01*P$57),\"\")","v":""},{"$f":"IF(NRI!J41<>\"\",NRI!J41,\"\")","v":""},{"$f":"IFERROR(R41-(1.01*R$57),\"\")","v":""},{"$f":"IF(NRI!K41<>\"\",NRI!K41,\"\")","v":""},{"$f":"IFERROR(T41-(1.01*T$57),\"\")","v":""},{"$f":"IF(NRI!L41<>\"\",NRI!L41,\"\")","v":""},{"$f":"IFERROR(V41-(1.01*V$57),\"\")","v":""},{"$f":"IF(NRI!M41<>\"\",NRI!M41,\"\")","v":""},{"$f":"IFERROR(X41-(1.01*X$57),\"\")","v":""}]
[39,{"$f":"IF(NRI!B42<>\"\",NRI!B42,\"\")","v":""},"",{"$f":"IF(NRI!C42<>\"\",NRI!C42,\"\")","v":""},"",{"$f":"IF(NRI!D42<>\"\",NRI!D42,\"\")","v":""},{"$f":"IFERROR(F42-(1.01*F$57),\"\")","v":""},{"$f":"IF(NRI!E42<>\"\",NRI!E42,\"\")","v":""},{"$f":"IFERROR(H42-(1.01*H$57),\"\")","v":""},{"$f":"IF(NRI!F42<>\"\",NRI!F42,\"\")","v":""},{"$f":"IFERROR(J42-(1.01*J$57),\"\")","v":""},{"$f":"IF(NRI!G42<>\"\",NRI!G42,\"\")","v":""},{"$f":"IFERROR(L42-(1.01*L$57),\"\")","v":""},{"$f":"IF(NRI!H42<>\"\",NRI!H42,\"\")","v":""},{"$f":"IFERROR(N42-(1.01*N$57),\"\")","v":""},{"$f":"IF(NRI!I42<>\"\",NRI!I42,\"\")","v":""},{"$f":"IFERROR(P42-(1.01*P$57),\"\")","v":""},{"$f":"IF(NRI!J42<>\"\",NRI!J42,\"\")","v":""},{"$f":"IFERROR(R42-(1.01*R$57),\"\")","v":""},{"$f":"IF(NRI!K42<>\"\",NRI!K42,\"\")","v":""},{"$f":"IFERROR(T42-(1.01*T$57),\"\")","v":""},{"$f":"IF(NRI!L42<>\"\",NRI!L42,\"\")","v":""},{"$f":"IFERROR(V42-(1.01*V$57),\"\")","v":""},{"$f":"IF(NRI!M42<>\"\",NRI!M42,\"\")","v":""},{"$f":"IFERROR(X42-(1.01*X$57),\"\")","v":""}]
[40,{"$f":"IF(NRI!B43<>\"\",NRI!B43,\"\")","v":""},"",{"$f":"IF(NRI!C43<>\"\",NRI!C43,\"\")","v":""},"",{"$f":"IF(NRI!D43<>\"\",NRI!D43,\"\")","v":""},{"$f":"IFERROR(F43-(1.01*F$57),\"\")","v":""},{"$f":"IF(NRI!E43<>\"\",NRI!E43,\"\")","v":""},{"$f":"IFERROR(H43-(1.01*H$57),\"\")","v":""},{"$f":"IF(NRI!F43<>\"\",NRI!F43,\"\")","v":""},{"$f":"IFERROR(J43-(1.01*J$57),\"\")","v":""},{"$f":"IF(NRI!G43<>\"\",NRI!G43,\"\")","v":""},{"$f":"IFERROR(L43-(1.01*L$57),\"\")","v":""},{"$f":"IF(NRI!H43<>\"\",NRI!H43,\"\")","v":""},{"$f":"IFERROR(N43-(1.01*N$57),\"\")","v":""},{"$f":"IF(NRI!I43<>\"\",NRI!I43,\"\")","v":""},{"$f":"IFERROR(P43-(1.01*P$57),\"\")","v":""},{"$f":"IF(NRI!J43<>\"\",NRI!J43,\"\")","v":""},{"$f":"IFERROR(R43-(1.01*R$57),\"\")","v":""},{"$f":"IF(NRI!K43<>\"\",NRI!K43,\"\")","v":""},{"$f":"IFERROR(T43-(1.01*T$57),\"\")","v":""},{"$f":"IF(NRI!L43<>\"\",NRI!L43,\"\")","v":""},{"$f":"IFERROR(V43-(1.01*V$57),\"\")","v":""},{"$f":"IF(NRI!M43<>\"\",NRI!M43,\"\")","v":""},{"$f":"IFERROR(X43-(1.01*X$57),\"\")","v":""}]
[41,{"$f":"IF(NRI!B44<>\"\",NRI!B44,\"\")","v":""},"",{"$f":"IF(NRI!C44<>\"\",NRI!C44,\"\")","v":""},"",{"$f":"IF(NRI!D44<>\"\",NRI!D44,\"\")","v":""},{"$f":"IFERROR(F44-(1.01*F$57),\"\")","v":""},{"$f":"IF(NRI!E44<>\"\",NRI!E44,\"\")","v":""},{"$f":"IFERROR(H44-(1.01*H$57),\"\")","v":""},{"$f":"IF(NRI!F44<>\"\",NRI!F44,\"\")","v":""},{"$f":"IFERROR(J44-(1.01*J$57),\"\")","v":""},{"$f":"IF(NRI!G44<>\"\",NRI!G44,\"\")","v":""},{"$f":"IFERROR(L44-(1.01*L$57),\"\")","v":""},{"$f":"IF(NRI!H44<>\"\",NRI!H44,\"\")","v":""},{"$f":"IFERROR(N44-(1.01*N$57),\"\")","v":""},{"$f":"IF(NRI!I44<>\"\",NRI!I44,\"\")","v":""},{"$f":"IFERROR(P44-(1.01*P$57),\"\")","v":""},{"$f":"IF(NRI!J44<>\"\",NRI!J44,\"\")","v":""},{"$f":"IFERROR(R44-(1.01*R$57),\"\")","v":""},{"$f":"IF(NRI!K44<>\"\",NRI!K44,\"\")","v":""},{"$f":"IFERROR(T44-(1.01*T$57),\"\")","v":""},{"$f":"IF(NRI!L44<>\"\",NRI!L44,\"\")","v":""},{"$f":"IFERROR(V44-(1.01*V$57),\"\")","v":""},{"$f":"IF(NRI!M44<>\"\",NRI!M44,\"\")","v":""},{"$f":"IFERROR(X44-(1.01*X$57),\"\")","v":""}]
[42,{"$f":"IF(NRI!B45<>\"\",NRI!B45,\"\")","v":""},"",{"$f":"IF(NRI!C45<>\"\",NRI!C45,\"\")","v":""},"",{"$f":"IF(NRI!D45<>\"\",NRI!D45,\"\")","v":""},{"$f":"IFERROR(F45-(1.01*F$57),\"\")","v":""},{"$f":"IF(NRI!E45<>\"\",NRI!E45,\"\")","v":""},{"$f":"IFERROR(H45-(1.01*H$57),\"\")","v":""},{"$f":"IF(NRI!F45<>\"\",NRI!F45,\"\")","v":""},{"$f":"IFERROR(J45-(1.01*J$57),\"\")","v":""},{"$f":"IF(NRI!G45<>\"\",NRI!G45,\"\")","v":""},{"$f":"IFERROR(L45-(1.01*L$57),\"\")","v":""},{"$f":"IF(NRI!H45<>\"\",NRI!H45,\"\")","v":""},{"$f":"IFERROR(N45-(1.01*N$57),\"\")","v":""},{"$f":"IF(NRI!I45<>\"\",NRI!I45,\"\")","v":""},{"$f":"IFERROR(P45-(1.01*P$57),\"\")","v":""},{"$f":"IF(NRI!J45<>\"\",NRI!J45,\"\")","v":""},{"$f":"IFERROR(R45-(1.01*R$57),\"\")","v":""},{"$f":"IF(NRI!K45<>\"\",NRI!K45,\"\")","v":""},{"$f":"IFERROR(T45-(1.01*T$57),\"\")","v":""},{"$f":"IF(NRI!L45<>\"\",NRI!L45,\"\")","v":""},{"$f":"IFERROR(V45-(1.01*V$57),\"\")","v":""},{"$f":"IF(NRI!M45<>\"\",NRI!M45,\"\")","v":""},{"$f":"IFERROR(X45-(1.01*X$57),\"\")","v":""}]
[43,{"$f":"IF(NRI!B46<>\"\",NRI!B46,\"\")","v":""},"",{"$f":"IF(NRI!C46<>\"\",NRI!C46,\"\")","v":""},"",{"$f":"IF(NRI!D46<>\"\",NRI!D46,\"\")","v":""},{"$f":"IFERROR(F46-(1.01*F$57),\"\")","v":""},{"$f":"IF(NRI!E46<>\"\",NRI!E46,\"\")","v":""},{"$f":"IFERROR(H46-(1.01*H$57),\"\")","v":""},{"$f":"IF(NRI!F46<>\"\",NRI!F46,\"\")","v":""},{"$f":"IFERROR(J46-(1.01*J$57),\"\")","v":""},{"$f":"IF(NRI!G46<>\"\",NRI!G46,\"\")","v":""},{"$f":"IFERROR(L46-(1.01*L$57),\"\")","v":""},{"$f":"IF(NRI!H46<>\"\",NRI!H46,\"\")","v":""},{"$f":"IFERROR(N46-(1.01*N$57),\"\")","v":""},{"$f":"IF(NRI!I46<>\"\",NRI!I46,\"\")","v":""},{"$f":"IFERROR(P46-(1.01*P$57),\"\")","v":""},{"$f":"IF(NRI!J46<>\"\",NRI!J46,\"\")","v":""},{"$f":"IFERROR(R46-(1.01*R$57),\"\")","v":""},{"$f":"IF(NRI!K46<>\"\",NRI!K46,\"\")","v":""},{"$f":"IFERROR(T46-(1.01*T$57),\"\")","v":""},{"$f":"IF(NRI!L46<>\"\",NRI!L46,\"\")","v":""},{"$f":"IFERROR(V46-(1.01*V$57),\"\")","v":""},{"$f":"IF(NRI!M46<>\"\",NRI!M46,\"\")","v":""},{"$f":"IFERROR(X46-(1.01*X$57),\"\")","v":""}]
[44,{"$f":"IF(NRI!B47<>\"\",NRI!B47,\"\")","v":""},"",{"$f":"IF(NRI!C47<>\"\",NRI!C47,\"\")","v":""},"",{"$f":"IF(NRI!D47<>\"\",NRI!D47,\"\")","v":""},{"$f":"IFERROR(F47-(1.01*F$57),\"\")","v":""},{"$f":"IF(NRI!E47<>\"\",NRI!E47,\"\")","v":""},{"$f":"IFERROR(H47-(1.01*H$57),\"\")","v":""},{"$f":"IF(NRI!F47<>\"\",NRI!F47,\"\")","v":""},{"$f":"IFERROR(J47-(1.01*J$57),\"\")","v":""},{"$f":"IF(NRI!G47<>\"\",NRI!G47,\"\")","v":""},{"$f":"IFERROR(L47-(1.01*L$57),\"\")","v":""},{"$f":"IF(NRI!H47<>\"\",NRI!H47,\"\")","v":""},{"$f":"IFERROR(N47-(1.01*N$57),\"\")","v":""},{"$f":"IF(NRI!I47<>\"\",NRI!I47,\"\")","v":""},{"$f":"IFERROR(P47-(1.01*P$57),\"\")","v":""},{"$f":"IF(NRI!J47<>\"\",NRI!J47,\"\")","v":""},{"$f":"IFERROR(R47-(1.01*R$57),\"\")","v":""},{"$f":"IF(NRI!K47<>\"\",NRI!K47,\"\")","v":""},{"$f":"IFERROR(T47-(1.01*T$57),\"\")","v":""},{"$f":"IF(NRI!L47<>\"\",NRI!L47,\"\")","v":""},{"$f":"IFERROR(V47-(1.01*V$57),\"\")","v":""},{"$f":"IF(NRI!M47<>\"\",NRI!M47,\"\")","v":""},{"$f":"IFERROR(X47-(1.01*X$57),\"\")","v":""}]
[45,{"$f":"IF(NRI!B48<>\"\",NRI!B48,\"\")","v":""},"",{"$f":"IF(NRI!C48<>\"\",NRI!C48,\"\")","v":""},"",{"$f":"IF(NRI!D48<>\"\",NRI!D48,\"\")","v":""},{"$f":"IFERROR(F48-(1.01*F$57),\"\")","v":""},{"$f":"IF(NRI!E48<>\"\",NRI!E48,\"\")","v":""},{"$f":"IFERROR(H48-(1.01*H$57),\"\")","v":""},{"$f":"IF(NRI!F48<>\"\",NRI!F48,\"\")","v":""},{"$f":"IFERROR(J48-(1.01*J$57),\"\")","v":""},{"$f":"IF(NRI!G48<>\"\",NRI!G48,\"\")","v":""},{"$f":"IFERROR(L48-(1.01*L$57),\"\")","v":""},{"$f":"IF(NRI!H48<>\"\",NRI!H48,\"\")","v":""},{"$f":"IFERROR(N48-(1.01*N$57),\"\")","v":""},{"$f":"IF(NRI!I48<>\"\",NRI!I48,\"\")","v":""},{"$f":"IFERROR(P48-(1.01*P$57),\"\")","v":""},{"$f":"IF(NRI!J48<>\"\",NRI!J48,\"\")","v":""},{"$f":"IFERROR(R48-(1.01*R$57),\"\")","v":""},{"$f":"IF(NRI!K48<>\"\",NRI!K48,\"\")","v":""},{"$f":"IFERROR(T48-(1.01*T$57),\"\")","v":""},{"$f":"IF(NRI!L48<>\"\",NRI!L48,\"\")","v":""},{"$f":"IFERROR(V48-(1.01*V$57),\"\")","v":""},{"$f":"IF(NRI!M48<>\"\",NRI!M48,\"\")","v":""},{"$f":"IFERROR(X48-(1.01*X$57),\"\")","v":""}]
[46,{"$f":"IF(NRI!B49<>\"\",NRI!B49,\"\")","v":""},"",{"$f":"IF(NRI!C49<>\"\",NRI!C49,\"\")","v":""},"",{"$f":"IF(NRI!D49<>\"\",NRI!D49,\"\")","v":""},{"$f":"IFERROR(F49-(1.01*F$57),\"\")","v":""},{"$f":"IF(NRI!E49<>\"\",NRI!E49,\"\")","v":""},{"$f":"IFERROR(H49-(1.01*H$57),\"\")","v":""},{"$f":"IF(NRI!F49<>\"\",NRI!F49,\"\")","v":""},{"$f":"IFERROR(J49-(1.01*J$57),\"\")","v":""},{"$f":"IF(NRI!G49<>\"\",NRI!G49,\"\")","v":""},{"$f":"IFERROR(L49-(1.01*L$57),\"\")","v":""},{"$f":"IF(NRI!H49<>\"\",NRI!H49,\"\")","v":""},{"$f":"IFERROR(N49-(1.01*N$57),\"\")","v":""},{"$f":"IF(NRI!I49<>\"\",NRI!I49,\"\")","v":""},{"$f":"IFERROR(P49-(1.01*P$57),\"\")","v":""},{"$f":"IF(NRI!J49<>\"\",NRI!J49,\"\")","v":""},{"$f":"IFERROR(R49-(1.01*R$57),\"\")","v":""},{"$f":"IF(NRI!K49<>\"\",NRI!K49,\"\")","v":""},{"$f":"IFERROR(T49-(1.01*T$57),\"\")","v":""},{"$f":"IF(NRI!L49<>\"\",NRI!L49,\"\")","v":""},{"$f":"IFERROR(V49-(1.01*V$57),\"\")","v":""},{"$f":"IF(NRI!M49<>\"\",NRI!M49,\"\")","v":""},{"$f":"IFERROR(X49-(1.01*X$57),\"\")","v":""}]
[47,{"$f":"IF(NRI!B50<>\"\",NRI!B50,\"\")","v":""},"",{"$f":"IF(NRI!C50<>\"\",NRI!C50,\"\")","v":""},"",{"$f":"IF(NRI!D50<>\"\",NRI!D50,\"\")","v":""},{"$f":"IFERROR(F50-(1.01*F$57),\"\")","v":""},{"$f":"IF(NRI!E50<>\"\",NRI!E50,\"\")","v":""},{"$f":"IFERROR(H50-(1.01*H$57),\"\")","v":""},{"$f":"IF(NRI!F50<>\"\",NRI!F50,\"\")","v":""},{"$f":"IFERROR(J50-(1.01*J$57),\"\")","v":""},{"$f":"IF(NRI!G50<>\"\",NRI!G50,\"\")","v":""},{"$f":"IFERROR(L50-(1.01*L$57),\"\")","v":""},{"$f":"IF(NRI!H50<>\"\",NRI!H50,\"\")","v":""},{"$f":"IFERROR(N50-(1.01*N$57),\"\")","v":""},{"$f":"IF(NRI!I50<>\"\",NRI!I50,\"\")","v":""},{"$f":"IFERROR(P50-(1.01*P$57),\"\")","v":""},{"$f":"IF(NRI!J50<>\"\",NRI!J50,\"\")","v":""},{"$f":"IFERROR(R50-(1.01*R$57),\"\")","v":""},{"$f":"IF(NRI!K50<>\"\",NRI!K50,\"\")","v":""},{"$f":"IFERROR(T50-(1.01*T$57),\"\")","v":""},{"$f":"IF(NRI!L50<>\"\",NRI!L50,\"\")","v":""},{"$f":"IFERROR(V50-(1.01*V$57),\"\")","v":""},{"$f":"IF(NRI!M50<>\"\",NRI!M50,\"\")","v":""},{"$f":"IFERROR(X50-(1.01*X$57),\"\")","v":""}]
[48,{"$f":"IF(NRI!B51<>\"\",NRI!B51,\"\")","v":""},"",{"$f":"IF(NRI!C51<>\"\",NRI!C51,\"\")","v":""},"",{"$f":"IF(NRI!D51<>\"\",NRI!D51,\"\")","v":""},{"$f":"IFERROR(F51-(1.01*F$57),\"\")","v":""},{"$f":"IF(NRI!E51<>\"\",NRI!E51,\"\")","v":""},{"$f":"IFERROR(H51-(1.01*H$57),\"\")","v":""},{"$f":"IF(NRI!F51<>\"\",NRI!F51,\"\")","v":""},{"$f":"IFERROR(J51-(1.01*J$57),\"\")","v":""},{"$f":"IF(NRI!G51<>\"\",NRI!G51,\"\")","v":""},{"$f":"IFERROR(L51-(1.01*L$57),\"\")","v":""},{"$f":"IF(NRI!H51<>\"\",NRI!H51,\"\")","v":""},{"$f":"IFERROR(N51-(1.01*N$57),\"\")","v":""},{"$f":"IF(NRI!I51<>\"\",NRI!I51,\"\")","v":""},{"$f":"IFERROR(P51-(1.01*P$57),\"\")","v":""},{"$f":"IF(NRI!J51<>\"\",NRI!J51,\"\")","v":""},{"$f":"IFERROR(R51-(1.01*R$57),\"\")","v":""},{"$f":"IF(NRI!K51<>\"\",NRI!K51,\"\")","v":""},{"$f":"IFERROR(T51-(1.01*T$57),\"\")","v":""},{"$f":"IF(NRI!L51<>\"\",NRI!L51,\"\")","v":""},{"$f":"IFERROR(V51-(1.01*V$57),\"\")","v":""},{"$f":"IF(NRI!M51<>\"\",NRI!M51,\"\")","v":""},{"$f":"IFERROR(X51-(1.01*X$57),\"\")","v":""}]
[49,{"$f":"IF(NRI!B52<>\"\",NRI!B52,\"\")","v":""},"",{"$f":"IF(NRI!C52<>\"\",NRI!C52,\"\")","v":""},"",{"$f":"IF(NRI!D52<>\"\",NRI!D52,\"\")","v":""},{"$f":"IFERROR(F52-(1.01*F$57),\"\")","v":""},{"$f":"IF(NRI!E52<>\"\",NRI!E52,\"\")","v":""},{"$f":"IFERROR(H52-(1.01*H$57),\"\")","v":""},{"$f":"IF(NRI!F52<>\"\",NRI!F52,\"\")","v":""},{"$f":"IFERROR(J52-(1.01*J$57),\"\")","v":""},{"$f":"IF(NRI!G52<>\"\",NRI!G52,\"\")","v":""},{"$f":"IFERROR(L52-(1.01*L$57),\"\")","v":""},{"$f":"IF(NRI!H52<>\"\",NRI!H52,\"\")","v":""},{"$f":"IFERROR(N52-(1.01*N$57),\"\")","v":""},{"$f":"IF(NRI!I52<>\"\",NRI!I52,\"\")","v":""},{"$f":"IFERROR(P52-(1.01*P$57),\"\")","v":""},{"$f":"IF(NRI!J52<>\"\",NRI!J52,\"\")","v":""},{"$f":"IFERROR(R52-(1.01*R$57),\"\")","v":""},{"$f":"IF(NRI!K52<>\"\",NRI!K52,\"\")","v":""},{"$f":"IFERROR(T52-(1.01*T$57),\"\")","v":""},{"$f":"IF(NRI!L52<>\"\",NRI!L52,\"\")","v":""},{"$f":"IFERROR(V52-(1.01*V$57),\"\")","v":""},{"$f":"IF(NRI!M52<>\"\",NRI!M52,\"\")","v":""},{"$f":"IFERROR(X52-(1.01*X$57),\"\")","v":""}]
[50,{"$f":"IF(NRI!B53<>\"\",NRI!B53,\"\")","v":""},"",{"$f":"IF(NRI!C53<>\"\",NRI!C53,\"\")","v":""},"",{"$f":"IF(NRI!D53<>\"\",NRI!D53,\"\")","v":""},{"$f":"IFERROR(F53-(1.01*F$57),\"\")","v":""},{"$f":"IF(NRI!E53<>\"\",NRI!E53,\"\")","v":""},{"$f":"IFERROR(H53-(1.01*H$57),\"\")","v":""},{"$f":"IF(NRI!F53<>\"\",NRI!F53,\"\")","v":""},{"$f":"IFERROR(J53-(1.01*J$57),\"\")","v":""},{"$f":"IF(NRI!G53<>\"\",NRI!G53,\"\")","v":""},{"$f":"IFERROR(L53-(1.01*L$57),\"\")","v":""},{"$f":"IF(NRI!H53<>\"\",NRI!H53,\"\")","v":""},{"$f":"IFERROR(N53-(1.01*N$57),\"\")","v":""},{"$f":"IF(NRI!I53<>\"\",NRI!I53,\"\")","v":""},{"$f":"IFERROR(P53-(1.01*P$57),\"\")","v":""},{"$f":"IF(NRI!J53<>\"\",NRI!J53,\"\")","v":""},{"$f":"IFERROR(R53-(1.01*R$57),\"\")","v":""},{"$f":"IF(NRI!K53<>\"\",NRI!K53,\"\")","v":""},{"$f":"IFERROR(T53-(1.01*T$57),\"\")","v":""},{"$f":"IF(NRI!L53<>\"\",NRI!L53,\"\")","v":""},{"$f":"IFERROR(V53-(1.01*V$57),\"\")","v":""},{"$f":"IF(NRI!M53<>\"\",NRI!M53,\"\")","v":""},{"$f":"IFERROR(X53-(1.01*X$57),\"\")","v":""}]
["Mean",{"$f":"AVERAGE(B4:B53)","v":{"$error":"#DIV/0!"}},{"$error":"#DIV/0!"},{"$error":"#DIV/0!"},{"$error":"#DIV/0!"},{"$error":"#DIV/0!"},{"$error":"#DIV/0!"},{"$error":"#DIV/0!"},{"$error":"#DIV/0!"},{"$error":"#DIV/0!"},{"$error":"#DIV/0!"},{"$error":"#DIV/0!"},{"$error":"#DIV/0!"},{"$error":"#DIV/0!"},{"$error":"#DIV/0!"},{"$error":"#DIV/0!"},{"$error":"#DIV/0!"},{"$error":"#DIV/0!"},{"$error":"#DIV/0!"},{"$error":"#DIV/0!"},{"$error":"#DIV/0!"},{"$error":"#DIV/0!"},{"$error":"#DIV/0!"},{"$error":"#DIV/0!"},{"$error":"#DIV/0!"}]
["Stdev.",{"$f":"STDEV(B4:B53)","v":{"$error":"#DIV/0!"}},{"$f":"STDEV(C4:C53)","v":{"$error":"#DIV/0!"}},{"$error":"#DIV/0!"},{"$error":"#DIV/0!"},{"$error":"#DIV/0!"},{"$error":"#DIV/0!"},{"$error":"#DIV/0!"},{"$error":"#DIV/0!"},{"$error":"#DIV/0!"},{"$error":"#DIV/0!"},{"$error":"#DIV/0!"},{"$error":"#DIV/0!"},{"$error":"#DIV/0!"},{"$error":"#DIV/0!"},{"$error":"#DIV/0!"},{"$error":"#DIV/0!"},{"$error":"#DIV/0!"},{"$error":"#DIV/0!"},{"$error":"#DIV/0!"},{"$error":"#DIV/0!"},{"$error":"#DIV/0!"},{"$error":"#DIV/0!"},{"$error":"#DIV/0!"},{"$error":"#DIV/0!"}]
["Skewness",{"$f":"SKEW(B4:B53)","v":{"$error":"#DIV/0!"}},{"$f":"SKEW(C4:C53)","v":{"$error":"#DIV/0!"}},{"$error":"#DIV/0!"},{"$error":"#DIV/0!"},{"$error":"#DIV/0!"},{"$error":"#DIV/0!"},{"$error":"#DIV/0!"},{"$error":"#DIV/0!"},{"$error":"#DIV/0!"},{"$error":"#DIV/0!"},{"$error":"#DIV/0!"},{"$error":"#DIV/0!"},{"$error":"#DIV/0!"},{"$error":"#DIV/0!"},{"$error":"#DIV/0!"},{"$error":"#DIV/0!"},{"$error":"#DIV/0!"},{"$error":"#DIV/0!"},{"$error":"#DIV/0!"},{"$error":"#DIV/0!"},{"$error":"#DIV/0!"},{"$error":"#DIV/0!"},{"$error":"#DIV/0!"},{"$error":"#DIV/0!"}]
["Min",{"$f":"MIN(B4:B53)","v":0},null,{"$f":"MIN(D4:D53)","v":0},null,{"$f":"MIN(F4:F53)","v":0},null,{"$f":"MIN(H4:H53)","v":0},null,{"$f":"MIN(J4:J53)","v":0},null,{"$f":"MIN(L4:L53)","v":0},null,{"$f":"MIN(N4:N53)","v":0},null,{"$f":"MIN(P4:P53)","v":0},null,{"$f":"MIN(R4:R53)","v":0},null,{"$f":"MIN(T4:T53)","v":0},null,{"$f":"MIN(V4:V53)","v":0},null,{"$f":"MIN(X4:X53)","v":0}]
[]
["Step 4. Gumbel distribution is selected"]
["Parameter","Jan","Feb","Mar","Apr","May","Jun","Jul","Aug","Sep","Oct","Nov","Dec"]
["Xo=mue",{"$f":"C54-0.45*C55","v":{"$error":"#DIV/0!"}},{"$f":"E54-0.45*E55","v":{"$error":"#DIV/0!"}},{"$f":"G54-0.45*G55","v":{"$error":"#DIV/0!"}},{"$f":"I54-0.45*I55","v":{"$error":"#DIV/0!"}},{"$f":"K54-0.45*K55","v":{"$error":"#DIV/0!"}},{"$f":"M54-0.45*M55","v":{"$error":"#DIV/0!"}},{"$f":"O54-0.45*O55","v":{"$error":"#DIV/0!"}},{"$f":"Q54-0.45*Q55","v":{"$error":"#DIV/0!"}},{"$f":"S54-0.45*S55","v":{"$error":"#DIV/0!"}},{"$f":"U54-0.45*U55","v":{"$error":"#DIV/0!"}},{"$f":"W54-0.45*W55","v":{"$error":"#DIV/0!"}},{"$f":"Y54-0.45*Y55","v":{"$error":"#DIV/0!"}}]
["alpha",{"$f":"0.7797*C55","v":{"$error":"#DIV/0!"}},{"$f":"0.7797*E55","v":{"$error":"#DIV/0!"}},{"$f":"0.7797*G55","v":{"$error":"#DIV/0!"}},{"$f":"0.7797*I55","v":{"$error":"#DIV/0!"}},{"$f":"0.7797*K55","v":{"$error":"#DIV/0!"}},{"$f":"0.7797*M55","v":{"$error":"#DIV/0!"}},{"$f":"0.7797*O55","v":{"$error":"#DIV/0!"}},{"$f":"0.7797*Q55","v":{"$error":"#DIV/0!"}},{"$f":"0.7797*S55","v":{"$error":"#DIV/0!"}},{"$f":"0.7797*U55","v":{"$error":"#DIV/0!"}},{"$f":"0.7797*W55","v":{"$error":"#DIV/0!"}},{"$f":"0.7797*Y55","v":{"$error":"#DIV/0!"}}]
[]
["Step 5. Find VFCt_Yt at the specific risk values"]
["Risk","Jan","Feb","Mar","Apr","May","Jun","Jul","Aug","Sep","Oct","Nov","Dec",null,1,2,3,4,5,6,7,8,9,10,11,12]
[{"$f":"A96","v":0.05},{"$f":"C$54+$C$96*C$55","v":{"$error":"#DIV/0!"}},{"$f":"E$54+$C$96*E$55","v":{"$error":"#DIV/0!"}},{"$f":"G$54+$C$96*G$55","v":{"$error":"#DIV/0!"}},{"$f":"I$54+$C$96*I$55","v":{"$error":"#DIV/0!"}},{"$f":"K$54+$C$96*K$55","v":{"$error":"#DIV/0!"}},{"$f":"M$54+$C$96*M$55","v":{"$error":"#DIV/0!"}},{"$f":"O$54+$C$96*O$55","v":{"$error":"#DIV/0!"}},{"$f":"Q$54+$C$96*Q$55","v":{"$error":"#DIV/0!"}},{"$f":"S$54+$C$96*S$55","v":{"$error":"#DIV/0!"}},{"$f":"U$54+$C$96*U$55","v":{"$error":"#DIV/0!"}},{"$f":"W$54+$C$96*W$55","v":{"$error":"#DIV/0!"}},{"$f":"Y$54+$C$96*Y$55","v":{"$error":"#DIV/0!"}},null,{"$f":"C$54+$C$96*C$55","v":{"$error":"#DIV/0!"}},{"$f":"E$54+$C$96*E$55","v":{"$error":"#DIV/0!"}},{"$f":"G$54+$C$96*G$55","v":{"$error":"#DIV/0!"}},{"$f":"I$54+$C$96*I$55","v":{"$error":"#DIV/0!"}},{"$f":"K$54+$C$96*K$55","v":{"$error":"#DIV/0!"}},{"$f":"M$54+$C$96*M$55","v":{"$error":"#DIV/0!"}},{"$f":"O$54+$C$96*O$55","v":{"$error":"#DIV/0!"}},{"$f":"Q$54+$C$96*Q$55","v":{"$error":"#DIV/0!"}},{"$f":"S$54+$C$96*S$55","v":{"$error":"#DIV/0!"}},{"$f":"U$54+$C$96*U$55","v":{"$error":"#DIV/0!"}},{"$f":"W$54+$C$96*W$55","v":{"$error":"#DIV/0!"}},{"$f":"Y$54+$C$96*Y$55","v":{"$error":"#DIV/0!"}}]
[{"$f":"A97","v":0.1},{"$f":"C$54+$C$97*C$55","v":{"$error":"#DIV/0!"}},{"$f":"E$54+$C$97*E$55","v":{"$error":"#DIV/0!"}},{"$f":"G$54+$C$97*G$55","v":{"$error":"#DIV/0!"}},{"$f":"I$54+$C$97*I$55","v":{"$error":"#DIV/0!"}},{"$f":"K$54+$C$97*K$55","v":{"$error":"#DIV/0!"}},{"$f":"M$54+$C$97*M$55","v":{"$error":"#DIV/0!"}},{"$f":"O$54+$C$97*O$55","v":{"$error":"#DIV/0!"}},{"$f":"Q$54+$C$97*Q$55","v":{"$error":"#DIV/0!"}},{"$f":"S$54+$C$97*S$55","v":{"$error":"#DIV/0!"}},{"$f":"U$54+$C$97*U$55","v":{"$error":"#DIV/0!"}},{"$f":"W$54+$C$97*W$55","v":{"$error":"#DIV/0!"}},{"$f":"Y$54+$C$97*Y$55","v":{"$error":"#DIV/0!"}}]
[0.15,{"$f":"C$54+$C$98*C$55","v":{"$error":"#DIV/0!"}},{"$f":"E$54+$C$98*E$55","v":{"$error":"#DIV/0!"}},{"$f":"G$54+$C$98*G$55","v":{"$error":"#DIV/0!"}},{"$f":"I$54+$C$98*I$55","v":{"$error":"#DIV/0!"}},{"$f":"K$54+$C$98*K$55","v":{"$error":"#DIV/0!"}},{"$f":"M$54+$C$98*M$55","v":{"$error":"#DIV/0!"}},{"$f":"O$54+$C$98*O$55","v":{"$error":"#DIV/0!"}},{"$f":"Q$54+$C$98*Q$55","v":{"$error":"#DIV/0!"}},{"$f":"S$54+$C$98*S$55","v":{"$error":"#DIV/0!"}},{"$f":"U$54+$C$98*U$55","v":{"$error":"#DIV/0!"}},{"$f":"W$54+$C$98*W$55","v":{"$error":"#DIV/0!"}},{"$f":"Y$54+$C$98*Y$55","v":{"$error":"#DIV/0!"}}]
[0.2,{"$f":"C$54+$C$99*C$55","v":{"$error":"#DIV/0!"}},{"$f":"E$54+$C$99*E$55","v":{"$error":"#DIV/0!"}},{"$f":"G$54+$C$99*G$55","v":{"$error":"#DIV/0!"}},{"$f":"I$54+$C$99*I$55","v":{"$error":"#DIV/0!"}},{"$f":"K$54+$C$99*K$55","v":{"$error":"#DIV/0!"}},{"$f":"M$54+$C$99*M$55","v":{"$error":"#DIV/0!"}},{"$f":"O$54+$C$99*O$55","v":{"$error":"#DIV/0!"}},{"$f":"Q$54+$C$99*Q$55","v":{"$error":"#DIV/0!"}},{"$f":"S$54+$C$99*S$55","v":{"$error":"#DIV/0!"}},{"$f":"U$54+$C$99*U$55","v":{"$error":"#DIV/0!"}},{"$f":"W$54+$C$99*W$55","v":{"$error":"#DIV/0!"}},{"$f":"Y$54+$C$99*Y$55","v":{"$error":"#DIV/0!"}}]
[]
["Step 6. Retransform VFCt)_Yt into VFCt_Xt"]
["Risk","Jan","Feb","Mar","Apr","May","Jun","Jul","Aug","Sep","Oct","Nov","Dec"]
[{"$f":"A96","v":0.05},{"$f":"B66+(1.01*$B$57)","v":{"$error":"#DIV/0!"}},{"$f":"C66+(1.01*$D$57)","v":{"$error":"#DIV/0!"}},{"$f":"D66+(1.01*$F$57)","v":{"$error":"#DIV/0!"}},{"$f":"E66+(1.01*$H$57)","v":{"$error":"#DIV/0!"}},{"$f":"F66+(1.01*$J$57)","v":{"$error":"#DIV/0!"}},{"$f":"G66+(1.01*$L$57)","v":{"$error":"#DIV/0!"}},{"$f":"H66+(1.01*$N$57)","v":{"$error":"#DIV/0!"}},{"$f":"I66+(1.01*$P$57)","v":{"$error":"#DIV/0!"}},{"$f":"J66+(1.01*$R$57)","v":{"$error":"#DIV/0!"}},{"$f":"K66+(1.01*$T$57)","v":{"$error":"#DIV/0!"}},{"$f":"L66+(1.01*$V$57)","v":{"$error":"#DIV/0!"}},{"$f":"M66+(1.01*$X$57)","v":{"$error":"#DIV/0!"}}]
[{"$f":"A97","v":0.1},{"$f":"B67+(1.01*$B$57)","v":{"$error":"#DIV/0!"}},{"$f":"C67+(1.01*$D$57)","v":{"$error":"#DIV/0!"}},{"$f":"D67+(1.01*$F$57)","v":{"$error":"#DIV/0!"}},{"$f":"E67+(1.01*$H$57)","v":{"$error":"#DIV/0!"}},{"$f":"F67+(1.01*$J$57)","v":{"$error":"#DIV/0!"}},{"$f":"G67+(1.01*$L$57)","v":{"$error":"#DIV/0!"}},{"$f":"H67+(1.01*$N$57)","v":{"$error":"#DIV/0!"}},{"$f":"I67+(1.01*$P$57)","v":{"$error":"#DIV/0!"}},{"$f":"J67+(1.01*$R$57)","v":{"$error":"#DIV/0!"}},{"$f":"K67+(1.01*$T$57)","v":{"$error":"#DIV/0!"}},{"$f":"L67+(1.01*$V$57)","v":{"$error":"#DIV/0!"}},{"$f":"M67+(1.01*$X$57)","v":{"$error":"#DIV/0!"}}]
[0.15,{"$f":"B68+(1.01*$B$57)","v":{"$error":"#DIV/0!"}},{"$f":"C68+(1.01*$D$57)","v":{"$error":"#DIV/0!"}},{"$f":"D68+(1.01*$F$57)","v":{"$error":"#DIV/0!"}},{"$f":"E68+(1.01*$H$57)","v":{"$error":"#DIV/0!"}},{"$f":"F68+(1.01*$J$57)","v":{"$error":"#DIV/0!"}},{"$f":"G68+(1.01*$L$57)","v":{"$error":"#DIV/0!"}},{"$f":"H68+(1.01*$N$57)","v":{"$error":"#DIV/0!"}},{"$f":"I68+(1.01*$P$57)","v":{"$error":"#DIV/0!"}},{"$f":"J68+(1.01*$R$57)","v":{"$error":"#DIV/0!"}},{"$f":"K68+(1.01*$T$57)","v":{"$error":"#DIV/0!"}},{"$f":"L68+(1.01*$V$57)","v":{"$error":"#DIV/0!"}},{"$f":"M68+(1.01*$X$57)","v":{"$error":"#DIV/0!"}}]
[0.2,{"$f":"B69+(1.01*$B$57)","v":{"$error":"#DIV/0!"}},{"$f":"C69+(1.01*$D$57)","v":{"$error":"#DIV/0!"}},{"$f":"D69+(1.01*$F$57)","v":{"$error":"#DIV/0!"}},{"$f":"E69+(1.01*$H$57)","v":{"$error":"#DIV/0!"}},{"$f":"F69+(1.01*$J$57)","v":{"$error":"#DIV/0!"}},{"$f":"G69+(1.01*$L$57)","v":{"$error":"#DIV/0!"}},{"$f":"H69+(1.01*$N$57)","v":{"$error":"#DIV/0!"}},{"$f":"I69+(1.01*$P$57)","v":{"$error":"#DIV/0!"}},{"$f":"J69+(1.01*$R$57)","v":{"$error":"#DIV/0!"}},{"$f":"K69+(1.01*$T$57)","v":{"$error":"#DIV/0!"}},{"$f":"L69+(1.01*$V$57)","v":{"$error":"#DIV/0!"}},{"$f":"M69+(1.01*$X$57)","v":{"$error":"#DIV/0!"}}]
[]
["Upper Rule Curve"]
["MONTH","URC"]
[null,{"$f":"A96","v":0.05},{"$f":"A97","v":0.1},{"$f":"A98","v":0.15},{"$f":"A99","v":0.2}]
["Jan",{"$f":"IF($B$73>0,NRI!$P$2-$B$73,NRI!$P$2)","v":{"$error":"#DIV/0!"}},{"$f":"IF($B$74>0,NRI!$P$2-$B$74,NRI!$P$2)","v":{"$error":"#DIV/0!"}},{"$f":"IF($B$75>0,NRI!$P$2-$B$75,NRI!$P$2)","v":{"$error":"#DIV/0!"}},{"$f":"IF($B$76>0,NRI!$P$2-$B$76,NRI!$P$2)","v":{"$error":"#DIV/0!"}}]
["Feb",{"$f":"IF($C$73>0,NRI!$P$2-$C$73,NRI!$P$2)","v":{"$error":"#DIV/0!"}},{"$f":"IF($C$74>0,NRI!$P$2-$C$74,NRI!$P$2)","v":{"$error":"#DIV/0!"}},{"$f":"IF($C$75>0,NRI!$P$2-$C$75,NRI!$P$2)","v":{"$error":"#DIV/0!"}},{"$f":"IF($C$76>0,NRI!$P$2-$C$76,NRI!$P$2)","v":{"$error":"#DIV/0!"}}]
["Mar",{"$f":"IF($D$73>0,NRI!$P$2-$D$73,NRI!$P$2)","v":{"$error":"#DIV/0!"}},{"$f":"IF($D$74>0,NRI!$P$2-$D$74,NRI!$P$2)","v":{"$error":"#DIV/0!"}},{"$f":"IF($D$75>0,NRI!$P$2-$D$75,NRI!$P$2)","v":{"$error":"#DIV/0!"}},{"$f":"IF($D$76>0,NRI!$P$2-$D$76,NRI!$P$2)","v":{"$error":"#DIV/0!"}}]
["Apr",{"$f":"IF($E$73>0,NRI!$P$2-$E$73,NRI!$P$2)","v":{"$error":"#DIV/0!"}},{"$f":"IF($E$74>0,NRI!$P$2-$E$74,NRI!$P$2)","v":{"$error":"#DIV/0!"}},{"$f":"IF($E$75>0,NRI!$P$2-$E$75,NRI!$P$2)","v":{"$error":"#DIV/0!"}},{"$f":"IF($I$743>0,NRI!$P$2-$E$76,NRI!$P$2)","v":0}]
["May",{"$f":"IF($F$73>0,NRI!$P$2-$F$73,NRI!$P$2)","v":{"$error":"#DIV/0!"}},{"$f":"IF($F$74>0,NRI!$P$2-$F$74,NRI!$P$2)","v":{"$error":"#DIV/0!"}},{"$f":"IF($F$75>0,NRI!$P$2-$F$75,NRI!$P$2)","v":{"$error":"#DIV/0!"}},{"$f":"IF($F$76>0,NRI!$P$2-$F$76,NRI!$P$2)","v":{"$error":"#DIV/0!"}}]
["Jun",{"$f":"IF($G$73>0,NRI!$P$2-$G$73,NRI!$P$2)","v":{"$error":"#DIV/0!"}},{"$f":"IF($G$74>0,NRI!$P$2-$G$74,NRI!$P$2)","v":{"$error":"#DIV/0!"}},{"$f":"IF($G$75>0,NRI!$P$2-$G$75,NRI!$P$2)","v":{"$error":"#DIV/0!"}},{"$f":"IF($G$76>0,NRI!$P$2-$G$76,NRI!$P$2)","v":{"$error":"#DIV/0!"}}]
["Jul",{"$f":"IF($H$73>0,NRI!$P$2-$H$73,NRI!$P$2)","v":{"$error":"#DIV/0!"}},{"$f":"IF($H$74>0,NRI!$P$2-$H$74,NRI!$P$2)","v":{"$error":"#DIV/0!"}},{"$f":"IF($H$75>0,NRI!$P$2-$H$75,NRI!$P$2)","v":{"$error":"#DIV/0!"}},{"$f":"IF($H$76>0,NRI!$P$2-$H$76,NRI!$P$2)","v":{"$error":"#DIV/0!"}}]
["Aug",{"$f":"IF($I$73>0,NRI!$P$2-$I$73,NRI!$P$2)","v":{"$error":"#DIV/0!"}},{"$f":"IF($I$74>0,NRI!$P$2-$I$74,NRI!$P$2)","v":{"$error":"#DIV/0!"}},{"$f":"IF($I$75>0,NRI!$P$2-$I$75,NRI!$P$2)","v":{"$error":"#DIV/0!"}},{"$f":"IF($I$76>0,NRI!$P$2-$I$76,NRI!$P$2)","v":{"$error":"#DIV/0!"}}]
["Sep",{"$f":"IF($J$73>0,NRI!$P$2-$J$73,NRI!$P$2)","v":{"$error":"#DIV/0!"}},{"$f":"IF($J$74>0,NRI!$P$2-$J$74,NRI!$P$2)","v":{"$error":"#DIV/0!"}},{"$f":"IF($J$75>0,NRI!$P$2-$J$75,NRI!$P$2)","v":{"$error":"#DIV/0!"}},{"$f":"IF($J$76>0,NRI!$P$2-$J$76,NRI!$P$2)","v":{"$error":"#DIV/0!"}}]
["Oct",{"$f":"IF($K$73>0,NRI!$P$2-$K$73,NRI!$P$2)","v":{"$error":"#DIV/0!"}},{"$f":"IF($K$74>0,NRI!$P$2-$K$74,NRI!$P$2)","v":{"$error":"#DIV/0!"}},{"$f":"IF($K$75>0,NRI!$P$2-$K$75,NRI!$P$2)","v":{"$error":"#DIV/0!"}},{"$f":"IF($K$76>0,NRI!$P$2-$K$76,NRI!$P$2)","v":{"$error":"#DIV/0!"}}]
["Nov",{"$f":"IF($L$73>0,NRI!$P$2-$L$73,NRI!$P$2)","v":{"$error":"#DIV/0!"}},{"$f":"IF($L$74>0,NRI!$P$2-$L$74,NRI!$P$2)","v":{"$error":"#DIV/0!"}},{"$f":"IF($L$75>0,NRI!$P$2-$L$75,NRI!$P$2)","v":{"$error":"#DIV/0!"}},{"$f":"IF($L$76>0,NRI!$P$2-$L$76,NRI!$P$2)","v":{"$error":"#DIV/0!"}}]
["Dec",{"$f":"IF($M$73>0,NRI!$P$2-$M$73,NRI!$P$2)","v":{"$error":"#DIV/0!"}},{"$f":"IF($M$74>0,NRI!$P$2-$M$74,NRI!$P$2)","v":{"$error":"#DIV/0!"}},{"$f":"IF($M$75>0,NRI!$P$2-$M$75,NRI!$P$2)","v":{"$error":"#DIV/0!"}},{"$f":"IF($M$76>0,NRI!$P$2-$M$76,NRI!$P$2)","v":{"$error":"#DIV/0!"}}]
[]
["Remark"]
["Risk","Tr","KTr"]
[0.05,"1/20",{"$f":"-0.45-0.7797*LN(-LN(1-A96))","v":1.8658612356781747}]
[0.1,"1/10",{"$f":"-0.45-0.7797*LN(-LN(1-A97))","v":1.3046114051055135}]
[0.15,"1/5",{"$f":"-0.45-0.7797*LN(-LN(1-A98))","v":0.96668433168966206}]
[0.2,"1/3.33",{"$f":"-0.45-0.7797*LN(-LN(1-A99))","v":0.71950320767639453}]
[]
["The Gumbel Probability Distribution is selected "]

{"sheet":"LRC POP","index":7,"n_rows":90,"n_cols":27,"rows_kept":90,"cut":false,"hidden":false,"merged":[[76,14,77,14],[76,15,76,18],[1,0,2,0],[1,1,1,12],[1,14,2,14],[1,15,1,26]]}
["Step 3.  Analysing sum of NRI in the dry season",null,null,null,null,null,null,null,null,null,null,null,null,null,"Step 4. Transforming data for distribution fitting"]
["Year","Sum of Net Reservoirs Inflow Volume",null,null,null,null,null,null,null,null,null,null,null,null,"Year","Sum of Net Reservoirs Inflow Volume"]
[null,"Jan","Feb","Mar","Apr","May","Jun","Jul","Aug","Sep","Oct","Nov","Dec",null,null,"Jan","Feb","Mar","Apr","May","Jun","Jul","Aug","Sep","Oct","Nov","Dec"]
[1,{"$f":"IF(NRI!C82<>\"\",NRI!C82,\"\")","v":""},{"$f":"IF(NRI!D82<>\"\",NRI!D82,\"\")","v":""},{"$f":"IF(NRI!E82<>\"\",NRI!E82,\"\")","v":""},{"$f":"IF(NRI!F82<>\"\",NRI!F82,\"\")","v":""},{"$f":"IF(NRI!G82<>\"\",NRI!G82,\"\")","v":""},{"$f":"IF(NRI!H82<>\"\",NRI!H82,\"\")","v":""},{"$f":"IF(NRI!I82<>\"\",NRI!I82,\"\")","v":""},{"$f":"IF(NRI!J82<>\"\",NRI!J82,\"\")","v":""},{"$f":"IF(NRI!K82<>\"\",NRI!K82,\"\")","v":""},{"$f":"IF(NRI!L82<>\"\",NRI!L82,\"\")","v":""},{"$f":"IF(NRI!M82<>\"\",NRI!M82,\"\")","v":""},{"$f":"IF(NRI!N82<>\"\",NRI!N82,\"\")","v":""},null,1,{"$f":"IFERROR(B4-(1.01*B$57),\"\")","v":""},{"$f":"IFERROR(C4-(1.01*C$57),\"\")","v":""},{"$f":"IFERROR(D4-(1.01*D$57),\"\")","v":""},{"$f":"IFERROR(E4-(1.01*E$57),\"\")","v":""},{"$f":"IFERROR(F4-(1.01*F$57),\"\")","v":""},{"$f":"IFERROR(G4-(1.01*G$57),\"\")","v":""},{"$f":"IFERROR(H4-(1.01*H$57),\"\")","v":""},{"$f":"IFERROR(I4-(1.01*I$57),\"\")","v":""},{"$f":"IFERROR(J4-(1.01*J$57),\"\")","v":""},{"$f":"IFERROR(K4-(1.01*K$57),\"\")","v":""},{"$f":"IFERROR(L4-(1.01*L$57),\"\")","v":""},{"$f":"IFERROR(M4-(1.01*M$57),\"\")","v":""}]
[2,{"$f":"IF(NRI!C83<>\"\",NRI!C83,\"\")","v":""},{"$f":"IF(NRI!D83<>\"\",NRI!D83,\"\")","v":""},{"$f":"IF(NRI!E83<>\"\",NRI!E83,\"\")","v":""},{"$f":"IF(NRI!F83<>\"\",NRI!F83,\"\")","v":""},{"$f":"IF(NRI!G83<>\"\",NRI!G83,\"\")","v":""},{"$f":"IF(NRI!H83<>\"\",NRI!H83,\"\")","v":""},{"$f":"IF(NRI!I83<>\"\",NRI!I83,\"\")","v":""},{"$f":"IF(NRI!J83<>\"\",NRI!J83,\"\")","v":""},{"$f":"IF(NRI!K83<>\"\",NRI!K83,\"\")","v":""},{"$f":"IF(NRI!L83<>\"\",NRI!L83,\"\")","v":""},{"$f":"IF(NRI!M83<>\"\",NRI!M83,\"\")","v":""},{"$f":"IF(NRI!N83<>\"\",NRI!N83,\"\")","v":""},null,2,"","","","","","","","","","","",""]
[3,{"$f":"IF(NRI!C84<>\"\",NRI!C84,\"\")","v":""},{"$f":"IF(NRI!D84<>\"\",NRI!D84,\"\")","v":""},{"$f":"IF(NRI!E84<>\"\",NRI!E84,\"\")","v":""},{"$f":"IF(NRI!F84<>\"\",NRI!F84,\"\")","v":""},{"$f":"IF(NRI!G84<>\"\",NRI!G84,\"\")","v":""},{"$f":"IF(NRI!H84<>\"\",NRI!H84,\"\")","v":""},{"$f":"IF(NRI!I84<>\"\",NRI!I84,\"\")","v":""},{"$f":"IF(NRI!J84<>\"\",NRI!J84,\"\")","v":""},{"$f":"IF(NRI!K84<>\"\",NRI!K84,\"\")","v":""},{"$f":"IF(NRI!L84<>\"\",NRI!L84,\"\")","v":""},{"$f":"IF(NRI!M84<>\"\",NRI!M84,\"\")","v":""},{"$f":"IF(NRI!N84<>\"\",NRI!N84,\"\")","v":""},null,3,"","","","","","","","","","","",""]
[4,{"$f":"IF(NRI!C85<>\"\",NRI!C85,\"\")","v":""},{"$f":"IF(NRI!D85<>\"\",NRI!D85,\"\")","v":""},{"$f":"IF(NRI!E85<>\"\",NRI!E85,\"\")","v":""},{"$f":"IF(NRI!F85<>\"\",NRI!F85,\"\")","v":""},{"$f":"IF(NRI!G85<>\"\",NRI!G85,\"\")","v":""},{"$f":"IF(NRI!H85<>\"\",NRI!H85,\"\")","v":""},{"$f":"IF(NRI!I85<>\"\",NRI!I85,\"\")","v":""},{"$f":"IF(NRI!J85<>\"\",NRI!J85,\"\")","v":""},{"$f":"IF(NRI!K85<>\"\",NRI!K85,\"\")","v":""},{"$f":"IF(NRI!L85<>\"\",NRI!L85,\"\")","v":""},{"$f":"IF(NRI!M85<>\"\",NRI!M85,\"\")","v":""},{"$f":"IF(NRI!N85<>\"\",NRI!N85,\"\")","v":""},null,4,"","","","","","","","","","","",""]
[5,{"$f":"IF(NRI!C86<>\"\",NRI!C86,\"\")","v":""},{"$f":"IF(NRI!D86<>\"\",NRI!D86,\"\")","v":""},{"$f":"IF(NRI!E86<>\"\",NRI!E86,\"\")","v":""},{"$f":"IF(NRI!F86<>\"\",NRI!F86,\"\")","v":""},{"$f":"IF(NRI!G86<>\"\",NRI!G86,\"\")","v":""},{"$f":"IF(NRI!H86<>\"\",NRI!H86,\"\")","v":""},{"$f":"IF(NRI!I86<>\"\",NRI!I86,\"\")","v":""},{"$f":"IF(NRI!J86<>\"\",NRI!J86,\"\")","v":""},{"$f":"IF(NRI!K86<>\"\",NRI!K86,\"\")","v":""},{"$f":"IF(NRI!L86<>\"\",NRI!L86,\"\")","v":""},{"$f":"IF(NRI!M86<>\"\",NRI!M86,\"\")","v":""},{"$f":"IF(NRI!N86<>\"\",NRI!N86,\"\")","v":""},null,5,"","","","","","","","","","","",""]
[6,{"$f":"IF(NRI!C87<>\"\",NRI!C87,\"\")","v":""},{"$f":"IF(NRI!D87<>\"\",NRI!D87,\"\")","v":""},{"$f":"IF(NRI!E87<>\"\",NRI!E87,\"\")","v":""},{"$f":"IF(NRI!F87<>\"\",NRI!F87,\"\")","v":""},{"$f":"IF(NRI!G87<>\"\",NRI!G87,\"\")","v":""},{"$f":"IF(NRI!H87<>\"\",NRI!H87,\"\")","v":""},{"$f":"IF(NRI!I87<>\"\",NRI!I87,\"\")","v":""},{"$f":"IF(NRI!J87<>\"\",NRI!J87,\"\")","v":""},{"$f":"IF(NRI!K87<>\"\",NRI!K87,\"\")","v":""},{"$f":"IF(NRI!L87<>\"\",NRI!L87,\"\")","v":""},{"$f":"IF(NRI!M87<>\"\",NRI!M87,\"\")","v":""},{"$f":"IF(NRI!N87<>\"\",NRI!N87,\"\")","v":""},null,6,"","","","","","","","","","","",""]
[7,{"$f":"IF(NRI!C88<>\"\",NRI!C88,\"\")","v":""},{"$f":"IF(NRI!D88<>\"\",NRI!D88,\"\")","v":""},{"$f":"IF(NRI!E88<>\"\",NRI!E88,\"\")","v":""},{"$f":"IF(NRI!F88<>\"\",NRI!F88,\"\")","v":""},{"$f":"IF(NRI!G88<>\"\",NRI!G88,\"\")","v":""},{"$f":"IF(NRI!H88<>\"\",NRI!H88,\"\")","v":""},{"$f":"IF(NRI!I88<>\"\",NRI!I88,\"\")","v":""},{"$f":"IF(NRI!J88<>\"\",NRI!J88,\"\")","v":""},{"$f":"IF(NRI!K88<>\"\",NRI!K88,\"\")","v":""},{"$f":"IF(NRI!L88<>\"\",NRI!L88,\"\")","v":""},{"$f":"IF(NRI!M88<>\"\",NRI!M88,\"\")","v":""},{"$f":"IF(NRI!N88<>\"\",NRI!N88,\"\")","v":""},null,7,"","","","","","","","","","","",""]
[8,{"$f":"IF(NRI!C89<>\"\",NRI!C89,\"\")","v":""},{"$f":"IF(NRI!D89<>\"\",NRI!D89,\"\")","v":""},{"$f":"IF(NRI!E89<>\"\",NRI!E89,\"\")","v":""},{"$f":"IF(NRI!F89<>\"\",NRI!F89,\"\")","v":""},{"$f":"IF(NRI!G89<>\"\",NRI!G89,\"\")","v":""},{"$f":"IF(NRI!H89<>\"\",NRI!H89,\"\")","v":""},{"$f":"IF(NRI!I89<>\"\",NRI!I89,\"\")","v":""},{"$f":"IF(NRI!J89<>\"\",NRI!J89,\"\")","v":""},{"$f":"IF(NRI!K89<>\"\",NRI!K89,\"\")","v":""},{"$f":"IF(NRI!L89<>\"\",NRI!L89,\"\")","v":""},{"$f":"IF(NRI!M89<>\"\",NRI!M89,\"\")","v":""},{"$f":"IF(NRI!N89<>\"\",NRI!N89,\"\")","v":""},null,8,"","","","","","","","","","","",""]
[9,{"$f":"IF(NRI!C90<>\"\",NRI!C90,\"\")","v":""},{"$f":"IF(NRI!D90<>\"\",NRI!D90,\"\")","v":""},{"$f":"IF(NRI!E90<>\"\",NRI!E90,\"\")","v":""},{"$f":"IF(NRI!F90<>\"\",NRI!F90,\"\")","v":""},{"$f":"IF(NRI!G90<>\"\",NRI!G90,\"\")","v":""},{"$f":"IF(NRI!H90<>\"\",NRI!H90,\"\")","v":""},{"$f":"IF(NRI!I90<>\"\",NRI!I90,\"\")","v":""},{"$f":"IF(NRI!J90<>\"\",NRI!J90,\"\")","v":""},{"$f":"IF(NRI!K90<>\"\",NRI!K90,\"\")","v":""},{"$f":"IF(NRI!L90<>\"\",NRI!L90,\"\")","v":""},{"$f":"IF(NRI!M90<>\"\",NRI!M90,\"\")","v":""},{"$f":"IF(NRI!N90<>\"\",NRI!N90,\"\")","v":""},null,9,"","","","","","","","","","","",""]
[10,{"$f":"IF(NRI!C91<>\"\",NRI!C91,\"\")","v":""},{"$f":"IF(NRI!D91<>\"\",NRI!D91,\"\")","v":""},{"$f":"IF(NRI!E91<>\"\",NRI!E91,\"\")","v":""},{"$f":"IF(NRI!F91<>\"\",NRI!F91,\"\")","v":""},{"$f":"IF(NRI!G91<>\"\",NRI!G91,\"\")","v":""},{"$f":"IF(NRI!H91<>\"\",NRI!H91,\"\")","v":""},{"$f":"IF(NRI!I91<>\"\",NRI!I91,\"\")","v":""},{"$f":"IF(NRI!J91<>\"\",NRI!J91,\"\")","v":""},{"$f":"IF(NRI!K91<>\"\",NRI!K91,\"\")","v":""},{"$f":"IF(NRI!L91<>\"\",NRI!L91,\"\")","v":""},{"$f":"IF(NRI!M91<>\"\",NRI!M91,\"\")","v":""},{"$f":"IF(NRI!N91<>\"\",NRI!N91,\"\")","v":""},null,10,"","","","","","","","","","","",""]
[11,{"$f":"IF(NRI!C92<>\"\",NRI!C92,\"\")","v":""},{"$f":"IF(NRI!D92<>\"\",NRI!D92,\"\")","v":""},{"$f":"IF(NRI!E92<>\"\",NRI!E92,\"\")","v":""},{"$f":"IF(NRI!F92<>\"\",NRI!F92,\"\")","v":""},{"$f":"IF(NRI!G92<>\"\",NRI!G92,\"\")","v":""},{"$f":"IF(NRI!H92<>\"\",NRI!H92,\"\")","v":""},{"$f":"IF(NRI!I92<>\"\",NRI!I92,\"\")","v":""},{"$f":"IF(NRI!J92<>\"\",NRI!J92,\"\")","v":""},{"$f":"IF(NRI!K92<>\"\",NRI!K92,\"\")","v":""},{"$f":"IF(NRI!L92<>\"\",NRI!L92,\"\")","v":""},{"$f":"IF(NRI!M92<>\"\",NRI!M92,\"\")","v":""},{"$f":"IF(NRI!N92<>\"\",NRI!N92,\"\")","v":""},null,11,"","","","","","","","","","","",""]
[12,{"$f":"IF(NRI!C93<>\"\",NRI!C93,\"\")","v":""},{"$f":"IF(NRI!D93<>\"\",NRI!D93,\"\")","v":""},{"$f":"IF(NRI!E93<>\"\",NRI!E93,\"\")","v":""},{"$f":"IF(NRI!F93<>\"\",NRI!F93,\"\")","v":""},{"$f":"IF(NRI!G93<>\"\",NRI!G93,\"\")","v":""},{"$f":"IF(NRI!H93<>\"\",NRI!H93,\"\")","v":""},{"$f":"IF(NRI!I93<>\"\",NRI!I93,\"\")","v":""},{"$f":"IF(NRI!J93<>\"\",NRI!J93,\"\")","v":""},{"$f":"IF(NRI!K93<>\"\",NRI!K93,\"\")","v":""},{"$f":"IF(NRI!L93<>\"\",NRI!L93,\"\")","v":""},{"$f":"IF(NRI!M93<>\"\",NRI!M93,\"\")","v":""},{"$f":"IF(NRI!N93<>\"\",NRI!N93,\"\")","v":""},null,12,"","","","","","","","","","","",""]
[13,{"$f":"IF(NRI!C94<>\"\",NRI!C94,\"\")","v":""},{"$f":"IF(NRI!D94<>\"\",NRI!D94,\"\")","v":""},{"$f":"IF(NRI!E94<>\"\",NRI!E94,\"\")","v":""},{"$f":"IF(NRI!F94<>\"\",NRI!F94,\"\")","v":""},{"$f":"IF(NRI!G94<>\"\",NRI!G94,\"\")","v":""},{"$f":"IF(NRI!H94<>\"\",NRI!H94,\"\")","v":""},{"$f":"IF(NRI!I94<>\"\",NRI!I94,\"\")","v":""},{"$f":"IF(NRI!J94<>\"\",NRI!J94,\"\")","v":""},{"$f":"IF(NRI!K94<>\"\",NRI!K94,\"\")","v":""},{"$f":"IF(NRI!L94<>\"\",NRI!L94,\"\")","v":""},{"$f":"IF(NRI!M94<>\"\",NRI!M94,\"\")","v":""},{"$f":"IF(NRI!N94<>\"\",NRI!N94,\"\")","v":""},null,13,"","","","","","","","","","","",""]
[14,{"$f":"IF(NRI!C95<>\"\",NRI!C95,\"\")","v":""},{"$f":"IF(NRI!D95<>\"\",NRI!D95,\"\")","v":""},{"$f":"IF(NRI!E95<>\"\",NRI!E95,\"\")","v":""},{"$f":"IF(NRI!F95<>\"\",NRI!F95,\"\")","v":""},{"$f":"IF(NRI!G95<>\"\",NRI!G95,\"\")","v":""},{"$f":"IF(NRI!H95<>\"\",NRI!H95,\"\")","v":""},{"$f":"IF(NRI!I95<>\"\",NRI!I95,\"\")","v":""},{"$f":"IF(NRI!J95<>\"\",NRI!J95,\"\")","v":""},{"$f":"IF(NRI!K95<>\"\",NRI!K95,\"\")","v":""},{"$f":"IF(NRI!L95<>\"\",NRI!L95,\"\")","v":""},{"$f":"IF(NRI!M95<>\"\",NRI!M95,\"\")","v":""},{"$f":"IF(NRI!N95<>\"\",NRI!N95,\"\")","v":""},null,14,"","","","","","","","","","","",""]
[15,{"$f":"IF(NRI!C96<>\"\",NRI!C96,\"\")","v":""},{"$f":"IF(NRI!D96<>\"\",NRI!D96,\"\")","v":""},{"$f":"IF(NRI!E96<>\"\",NRI!E96,\"\")","v":""},{"$f":"IF(NRI!F96<>\"\",NRI!F96,\"\")","v":""},{"$f":"IF(NRI!G96<>\"\",NRI!G96,\"\")","v":""},{"$f":"IF(NRI!H96<>\"\",NRI!H96,\"\")","v":""},{"$f":"IF(NRI!I96<>\"\",NRI!I96,\"\")","v":""},{"$f":"IF(NRI!J96<>\"\",NRI!J96,\"\")","v":""},{"$f":"IF(NRI!K96<>\"\",NRI!K96,\"\")","v":""},{"$f":"IF(NRI!L96<>\"\",NRI!L96,\"\")","v":""},{"$f":"IF(NRI!M96<>\"\",NRI!M96,\"\")","v":""},{"$f":"IF(NRI!N96<>\"\",NRI!N96,\"\")","v":""},null,15,"","","","","","","","","","","",""]
[16,{"$f":"IF(NRI!C97<>\"\",NRI!C97,\"\")","v":""},{"$f":"IF(NRI!D97<>\"\",NRI!D97,\"\")","v":""},{"$f":"IF(NRI!E97<>\"\",NRI!E97,\"\")","v":""},{"$f":"IF(NRI!F97<>\"\",NRI!F97,\"\")","v":""},{"$f":"IF(NRI!G97<>\"\",NRI!G97,\"\")","v":""},{"$f":"IF(NRI!H97<>\"\",NRI!H97,\"\")","v":""},{"$f":"IF(NRI!I97<>\"\",NRI!I97,\"\")","v":""},{"$f":"IF(NRI!J97<>\"\",NRI!J97,\"\")","v":""},{"$f":"IF(NRI!K97<>\"\",NRI!K97,\"\")","v":""},{"$f":"IF(NRI!L97<>\"\",NRI!L97,\"\")","v":""},{"$f":"IF(NRI!M97<>\"\",NRI!M97,\"\")","v":""},{"$f":"IF(NRI!N97<>\"\",NRI!N97,\"\")","v":""},null,16,"","","","","","","","","","","",""]
[17,{"$f":"IF(NRI!C98<>\"\",NRI!C98,\"\")","v":""},{"$f":"IF(NRI!D98<>\"\",NRI!D98,\"\")","v":""},{"$f":"IF(NRI!E98<>\"\",NRI!E98,\"\")","v":""},{"$f":"IF(NRI!F98<>\"\",NRI!F98,\"\")","v":""},{"$f":"IF(NRI!G98<>\"\",NRI!G98,\"\")","v":""},{"$f":"IF(NRI!H98<>\"\",NRI!H98,\"\")","v":""},{"$f":"IF(NRI!I98<>\"\",NRI!I98,\"\")","v":""},{"$f":"IF(NRI!J98<>\"\",NRI!J98,\"\")","v":""},{"$f":"IF(NRI!K98<>\"\",NRI!K98,\"\")","v":""},{"$f":"IF(NRI!L98<>\"\",NRI!L98,\"\")","v":""},{"$f":"IF(NRI!M98<>\"\",NRI!M98,\"\")","v":""},{"$f":"IF(NRI!N98<>\"\",NRI!N98,\"\")","v":""},null,17,"","","","","","","","","","","",""]
[18,{"$f":"IF(NRI!C99<>\"\",NRI!C99,\"\")","v":""},{"$f":"IF(NRI!D99<>\"\",NRI!D99,\"\")","v":""},{"$f":"IF(NRI!E99<>\"\",NRI!E99,\"\")","v":""},{"$f":"IF(NRI!F99<>\"\",NRI!F99,\"\")","v":""},{"$f":"IF(NRI!G99<>\"\",NRI!G99,\"\")","v":""},{"$f":"IF(NRI!H99<>\"\",NRI!H99,\"\")","v":""},{"$f":"IF(NRI!I99<>\"\",NRI!I99,\"\")","v":""},{"$f":"IF(NRI!J99<>\"\",NRI!J99,\"\")","v":""},{"$f":"IF(NRI!K99<>\"\",NRI!K99,\"\")","v":""},{"$f":"IF(NRI!L99<>\"\",NRI!L99,\"\")","v":""},{"$f":"IF(NRI!M99<>\"\",NRI!M99,\"\")","v":""},{"$f":"IF(NRI!N99<>\"\",NRI!N99,\"\")","v":""},null,18,"","","","","","","","","","","",""]
[19,{"$f":"IF(NRI!C100<>\"\",NRI!C100,\"\")","v":""},{"$f":"IF(NRI!D100<>\"\",NRI!D100,\"\")","v":""},{"$f":"IF(NRI!E100<>\"\",NRI!E100,\"\")","v":""},{"$f":"IF(NRI!F100<>\"\",NRI!F100,\"\")","v":""},{"$f":"IF(NRI!G100<>\"\",NRI!G100,\"\")","v":""},{"$f":"IF(NRI!H100<>\"\",NRI!H100,\"\")","v":""},{"$f":"IF(NRI!I100<>\"\",NRI!I100,\"\")","v":""},{"$f":"IF(NRI!J100<>\"\",NRI!J100,\"\")","v":""},{"$f":"IF(NRI!K100<>\"\",NRI!K100,\"\")","v":""},{"$f":"IF(NRI!L100<>\"\",NRI!L100,\"\")","v":""},{"$f":"IF(NRI!M100<>\"\",NRI!M100,\"\")","v":""},{"$f":"IF(NRI!N100<>\"\",NRI!N100,\"\")","v":""},null,19,"","","","","","","","","","","",""]
[20,{"$f":"IF(NRI!C101<>\"\",NRI!C101,\"\")","v":""},{"$f":"IF(NRI!D101<>\"\",NRI!D101,\"\")","v":""},{"$f":"IF(NRI!E101<>\"\",NRI!E101,\"\")","v":""},{"$f":"IF(NRI!F101<>\"\",NRI!F101,\"\")","v":""},{"$f":"IF(NRI!G101<>\"\",NRI!G101,\"\")","v":""},{"$f":"IF(NRI!H101<>\"\",NRI!H101,\"\")","v":""},{"$f":"IF(NRI!I101<>\"\",NRI!I101,\"\")","v":""},{"$f":"IF(NRI!J101<>\"\",NRI!J101,\"\")","v":""},{"$f":"IF(NRI!K101<>\"\",NRI!K101,\"\")","v":""},{"$f":"IF(NRI!L101<>\"\",NRI!L101,\"\")","v":""},{"$f":"IF(NRI!M101<>\"\",NRI!M101,\"\")","v":""},{"$f":"IF(NRI!N101<>\"\",NRI!N101,\"\")","v":""},null,20,"","","","","","","","","","","",""]
[21,{"$f":"IF(NRI!C102<>\"\",NRI!C102,\"\")","v":""},{"$f":"IF(NRI!D102<>\"\",NRI!D102,\"\")","v":""},{"$f":"IF(NRI!E102<>\"\",NRI!E102,\"\")","v":""},{"$f":"IF(NRI!F102<>\"\",NRI!F102,\"\")","v":""},{"$f":"IF(NRI!G102<>\"\",NRI!G102,\"\")","v":""},{"$f":"IF(NRI!H102<>\"\",NRI!H102,\"\")","v":""},{"$f":"IF(NRI!I102<>\"\",NRI!I102,\"\")","v":""},{"$f":"IF(NRI!J102<>\"\",NRI!J102,\"\")","v":""},{"$f":"IF(NRI!K102<>\"\",NRI!K102,\"\")","v":""},{"$f":"IF(NRI!L102<>\"\",NRI!L102,\"\")","v":""},{"$f":"IF(NRI!M102<>\"\",NRI!M102,\"\")","v":""},{"$f":"IF(NRI!N102<>\"\",NRI!N102,\"\")","v":""},null,21,"","","","","","","","","","","",""]
[22,{"$f":"IF(NRI!C103<>\"\",NRI!C103,\"\")","v":""},{"$f":"IF(NRI!D103<>\"\",NRI!D103,\"\")","v":""},{"$f":"IF(NRI!E103<>\"\",NRI!E103,\"\")","v":""},{"$f":"IF(NRI!F103<>\"\",NRI!F103,\"\")","v":""},{"$f":"IF(NRI!G103<>\"\",NRI!G103,\"\")","v":""},{"$f":"IF(NRI!H103<>\"\",NRI!H103,\"\")","v":""},{"$f":"IF(NRI!I103<>\"\",NRI!I103,\"\")","v":""},{"$f":"IF(NRI!J103<>\"\",NRI!J103,\"\")","v":""},{"$f":"IF(NRI!K103<>\"\",NRI!K103,\"\")","v":""},{"$f":"IF(NRI!L103<>\"\",NRI!L103,\"\")","v":""},{"$f":"IF(NRI!M103<>\"\",NRI!M103,\"\")","v":""},{"$f":"IF(NRI!N103<>\"\",NRI!N103,\"\")","v":""},null,22,"","","","","","","","","","","",""]
[23,{"$f":"IF(NRI!C104<>\"\",NRI!C104,\"\")","v":""},{"$f":"IF(NRI!D104<>\"\",NRI!D104,\"\")","v":""},{"$f":"IF(NRI!E104<>\"\",NRI!E104,\"\")","v":""},{"$f":"IF(NRI!F104<>\"\",NRI!F104,\"\")","v":""},{"$f":"IF(NRI!G104<>\"\",NRI!G104,\"\")","v":""},{"$f":"IF(NRI!H104<>\"\",NRI!H104,\"\")","v":""},{"$f":"IF(NRI!I104<>\"\",NRI!I104,\"\")","v":""},{"$f":"IF(NRI!J104<>\"\",NRI!J104,\"\")","v":""},{"$f":"IF(NRI!K104<>\"\",NRI!K104,\"\")","v":""},{"$f":"IF(NRI!L104<>\"\",NRI!L104,\"\")","v":""},{"$f":"IF(NRI!M104<>\"\",NRI!M104,\"\")","v":""},{"$f":"IF(NRI!N104<>\"\",NRI!N104,\"\")","v":""},null,23,"","","","","","","","","","","",""]
[24,{"$f":"IF(NRI!C105<>\"\",NRI!C105,\"\")","v":""},{"$f":"IF(NRI!D105<>\"\",NRI!D105,\"\")","v":""},{"$f":"IF(NRI!E105<>\"\",NRI!E105,\"\")","v":""},{"$f":"IF(NRI!F105<>\"\",NRI!F105,\"\")","v":""},{"$f":"IF(NRI!G105<>\"\",NRI!G105,\"\")","v":""},{"$f":"IF(NRI!H105<>\"\",NRI!H105,\"\")","v":""},{"$f":"IF(NRI!I105<>\"\",NRI!I105,\"\")","v":""},{"$f":"IF(NRI!J105<>\"\",NRI!J105,\"\")","v":""},{"$f":"IF(NRI!K105<>\"\",NRI!K105,\"\")","v":""},{"$f":"IF(NRI!L105<>\"\",NRI!L105,\"\")","v":""},{"$f":"IF(NRI!M105<>\"\",NRI!M105,\"\")","v":""},{"$f":"IF(NRI!N105<>\"\",NRI!N105,\"\")","v":""},null,24,"","","","","","","","","","","",""]
[25,{"$f":"IF(NRI!C106<>\"\",NRI!C106,\"\")","v":""},{"$f":"IF(NRI!D106<>\"\",NRI!D106,\"\")","v":""},{"$f":"IF(NRI!E106<>\"\",NRI!E106,\"\")","v":""},{"$f":"IF(NRI!F106<>\"\",NRI!F106,\"\")","v":""},{"$f":"IF(NRI!G106<>\"\",NRI!G106,\"\")","v":""},{"$f":"IF(NRI!H106<>\"\",NRI!H106,\"\")","v":""},{"$f":"IF(NRI!I106<>\"\",NRI!I106,\"\")","v":""},{"$f":"IF(NRI!J106<>\"\",NRI!J106,\"\")","v":""},{"$f":"IF(NRI!K106<>\"\",NRI!K106,\"\")","v":""},{"$f":"IF(NRI!L106<>\"\",NRI!L106,\"\")","v":""},{"$f":"IF(NRI!M106<>\"\",NRI!M106,\"\")","v":""},{"$f":"IF(NRI!N106<>\"\",NRI!N106,\"\")","v":""},null,25,"","","","","","","","","","","",""]
[26,{"$f":"IF(NRI!C107<>\"\",NRI!C107,\"\")","v":""},{"$f":"IF(NRI!D107<>\"\",NRI!D107,\"\")","v":""},{"$f":"IF(NRI!E107<>\"\",NRI!E107,\"\")","v":""},{"$f":"IF(NRI!F107<>\"\",NRI!F107,\"\")","v":""},{"$f":"IF(NRI!G107<>\"\",NRI!G107,\"\")","v":""},{"$f":"IF(NRI!H107<>\"\",NRI!H107,\"\")","v":""},{"$f":"IF(NRI!I107<>\"\",NRI!I107,\"\")","v":""},{"$f":"IF(NRI!J107<>\"\",NRI!J107,\"\")","v":""},{"$f":"IF(NRI!K107<>\"\",NRI!K107,\"\")","v":""},{"$f":"IF(NRI!L107<>\"\",NRI!L107,\"\")","v":""},{"$f":"IF(NRI!M107<>\"\",NRI!M107,\"\")","v":""},{"$f":"IF(NRI!N107<>\"\",NRI!N107,\"\")","v":""},null,26,"","","","","","","","","","","",""]
[27,{"$f":"IF(NRI!C108<>\"\",NRI!C108,\"\")","v":""},{"$f":"IF(NRI!D108<>\"\",NRI!D108,\"\")","v":""},{"$f":"IF(NRI!E108<>\"\",NRI!E108,\"\")","v":""},{"$f":"IF(NRI!F108<>\"\",NRI!F108,\"\")","v":""},{"$f":"IF(NRI!G108<>\"\",NRI!G108,\"\")","v":""},{"$f":"IF(NRI!H108<>\"\",NRI!H108,\"\")","v":""},{"$f":"IF(NRI!I108<>\"\",NRI!I108,\"\")","v":""},{"$f":"IF(NRI!J108<>\"\",NRI!J108,\"\")","v":""},{"$f":"IF(NRI!K108<>\"\",NRI!K108,\"\")","v":""},{"$f":"IF(NRI!L108<>\"\",NRI!L108,\"\")","v":""},{"$f":"IF(NRI!M108<>\"\",NRI!M108,\"\")","v":""},{"$f":"IF(NRI!N108<>\"\",NRI!N108,\"\")","v":""},null,27,"","","","","","","","","","","",""]
[28,{"$f":"IF(NRI!C109<>\"\",NRI!C109,\"\")","v":""},{"$f":"IF(NRI!D109<>\"\",NRI!D109,\"\")","v":""},{"$f":"IF(NRI!E109<>\"\",NRI!E109,\"\")","v":""},{"$f":"IF(NRI!F109<>\"\",NRI!F109,\"\")","v":""},{"$f":"IF(NRI!G109<>\"\",NRI!G109,\"\")","v":""},{"$f":"IF(NRI!H109<>\"\",NRI!H109,\"\")","v":""},{"$f":"IF(NRI!I109<>\"\",NRI!I109,\"\")","v":""},{"$f":"IF(NRI!J109<>\"\",NRI!J109,\"\")","v":""},{"$f":"IF(NRI!K109<>\"\",NRI!K109,\"\")","v":""},{"$f":"IF(NRI!L109<>\"\",NRI!L109,\"\")","v":""},{"$f":"IF(NRI!M109<>\"\",NRI!M109,\"\")","v":""},{"$f":"IF(NRI!N109<>\"\",NRI!N109,\"\")","v":""},null,28,"","","","","","","","","","","",""]
[29,{"$f":"IF(NRI!C110<>\"\",NRI!C110,\"\")","v":""},{"$f":"IF(NRI!D110<>\"\",NRI!D110,\"\")","v":""},{"$f":"IF(NRI!E110<>\"\",NRI!E110,\"\")","v":""},{"$f":"IF(NRI!F110<>\"\",NRI!F110,\"\")","v":""},{"$f":"IF(NRI!G110<>\"\",NRI!G110,\"\")","v":""},{"$f":"IF(NRI!H110<>\"\",NRI!H110,\"\")","v":""},{"$f":"IF(NRI!I110<>\"\",NRI!I110,\"\")","v":""},{"$f":"IF(NRI!J110<>\"\",NRI!J110,\"\")","v":""},{"$f":"IF(NRI!K110<>\"\",NRI!K110,\"\")","v":""},{"$f":"IF(NRI!L110<>\"\",NRI!L110,\"\")","v":""},{"$f":"IF(NRI!M110<>\"\",NRI!M110,\"\")","v":""},{"$f":"IF(NRI!N110<>\"\",NRI!N110,\"\")","v":""},null,29,"","","","","","","","","","","",""]
[30,{"$f":"IF(NRI!C111<>\"\",NRI!C111,\"\")","v":""},{"$f":"IF(NRI!D111<>\"\",NRI!D111,\"\")","v":""},{"$f":"IF(NRI!E111<>\"\",NRI!E111,\"\")","v":""},{"$f":"IF(NRI!F111<>\"\",NRI!F111,\"\")","v":""},{"$f":"IF(NRI!G111<>\"\",NRI!G111,\"\")","v":""},{"$f":"IF(NRI!H111<>\"\",NRI!H111,\"\")","v":""},{"$f":"IF(NRI!I111<>\"\",NRI!I111,\"\")","v":""},{"$f":"IF(NRI!J111<>\"\",NRI!J111,\"\")","v":""},{"$f":"IF(NRI!K111<>\"\",NRI!K111,\"\")","v":""},{"$f":"IF(NRI!L111<>\"\",NRI!L111,\"\")","v":""},{"$f":"IF(NRI!M111<>\"\",NRI!M111,\"\")","v":""},{"$f":"IF(NRI!N111<>\"\",NRI!N111,\"\")","v":""},null,30,"","","","","","","","","","","",""]
[31,{"$f":"IF(NRI!C112<>\"\",NRI!C112,\"\")","v":""},{"$f":"IF(NRI!D112<>\"\",NRI!D112,\"\")","v":""},{"$f":"IF(NRI!E112<>\"\",NRI!E112,\"\")","v":""},{"$f":"IF(NRI!F112<>\"\",NRI!F112,\"\")","v":""},{"$f":"IF(NRI!G112<>\"\",NRI!G112,\"\")","v":""},{"$f":"IF(NRI!H112<>\"\",NRI!H112,\"\")","v":""},{"$f":"IF(NRI!I112<>\"\",NRI!I112,\"\")","v":""},{"$f":"IF(NRI!J112<>\"\",NRI!J112,\"\")","v":""},{"$f":"IF(NRI!K112<>\"\",NRI!K112,\"\")","v":""},{"$f":"IF(NRI!L112<>\"\",NRI!L112,\"\")","v":""},{"$f":"IF(NRI!M112<>\"\",NRI!M112,\"\")","v":""},{"$f":"IF(NRI!N112<>\"\",NRI!N112,\"\")","v":""},null,31,"","","","","","","","","","","",""]
[32,{"$f":"IF(NRI!C113<>\"\",NRI!C113,\"\")","v":""},{"$f":"IF(NRI!D113<>\"\",NRI!D113,\"\")","v":""},{"$f":"IF(NRI!E113<>\"\",NRI!E113,\"\")","v":""},{"$f":"IF(NRI!F113<>\"\",NRI!F113,\"\")","v":""},{"$f":"IF(NRI!G113<>\"\",NRI!G113,\"\")","v":""},{"$f":"IF(NRI!H113<>\"\",NRI!H113,\"\")","v":""},{"$f":"IF(NRI!I113<>\"\",NRI!I113,\"\")","v":""},{"$f":"IF(NRI!J113<>\"\",NRI!J113,\"\")","v":""},{"$f":"IF(NRI!K113<>\"\",NRI!K113,\"\")","v":""},{"$f":"IF(NRI!L113<>\"\",NRI!L113,\"\")","v":""},{"$f":"IF(NRI!M113<>\"\",NRI!M113,\"\")","v":""},{"$f":"IF(NRI!N113<>\"\",NRI!N113,\"\")","v":""},null,32,"","","","","","","","","","","",""]
[33,{"$f":"IF(NRI!C114<>\"\",NRI!C114,\"\")","v":""},{"$f":"IF(NRI!D114<>\"\",NRI!D114,\"\")","v":""},{"$f":"IF(NRI!E114<>\"\",NRI!E114,\"\")","v":""},{"$f":"IF(NRI!F114<>\"\",NRI!F114,\"\")","v":""},{"$f":"IF(NRI!G114<>\"\",NRI!G114,\"\")","v":""},{"$f":"IF(NRI!H114<>\"\",NRI!H114,\"\")","v":""},{"$f":"IF(NRI!I114<>\"\",NRI!I114,\"\")","v":""},{"$f":"IF(NRI!J114<>\"\",NRI!J114,\"\")","v":""},{"$f":"IF(NRI!K114<>\"\",NRI!K114,\"\")","v":""},{"$f":"IF(NRI!L114<>\"\",NRI!L114,\"\")","v":""},{"$f":"IF(NRI!M114<>\"\",NRI!M114,\"\")","v":""},{"$f":"IF(NRI!N114<>\"\",NRI!N114,\"\")","v":""},null,33,{"$f":"IFERROR(B36-(1.01*B$57),\"\")","v":""},{"$f":"IFERROR(C36-(1.01*C$57),\"\")","v":""},{"$f":"IFERROR(D36-(1.01*D$57),\"\")","v":""},{"$f":"IFERROR(E36-(1.01*E$57),\"\")","v":""},{"$f":"IFERROR(F36-(1.01*F$57),\"\")","v":""},{"$f":"IFERROR(G36-(1.01*G$57),\"\")","v":""},{"$f":"IFERROR(H36-(1.01*H$57),\"\")","v":""},{"$f":"IFERROR(I36-(1.01*I$57),\"\")","v":""},{"$f":"IFERROR(J36-(1.01*J$57),\"\")","v":""},{"$f":"IFERROR(K36-(1.01*K$57),\"\")","v":""},{"$f":"IFERROR(L36-(1.01*L$57),\"\")","v":""},{"$f":"IFERROR(M36-(1.01*M$57),\"\")","v":""}]
[34,{"$f":"IF(NRI!C115<>\"\",NRI!C115,\"\")","v":""},{"$f":"IF(NRI!D115<>\"\",NRI!D115,\"\")","v":""},{"$f":"IF(NRI!E115<>\"\",NRI!E115,\"\")","v":""},{"$f":"IF(NRI!F115<>\"\",NRI!F115,\"\")","v":""},{"$f":"IF(NRI!G115<>\"\",NRI!G115,\"\")","v":""},{"$f":"IF(NRI!H115<>\"\",NRI!H115,\"\")","v":""},{"$f":"IF(NRI!I115<>\"\",NRI!I115,\"\")","v":""},{"$f":"IF(NRI!J115<>\"\",NRI!J115,\"\")","v":""},{"$f":"IF(NRI!K115<>\"\",NRI!K115,\"\")","v":""},{"$f":"IF(NRI!L115<>\"\",NRI!L115,\"\")","v":""},{"$f":"IF(NRI!M115<>\"\",NRI!M115,\"\")","v":""},{"$f":"IF(NRI!N115<>\"\",NRI!N115,\"\")","v":""},null,34,"","","","","","","","","","","",""]
[35,{"$f":"IF(NRI!C116<>\"\",NRI!C116,\"\")","v":""},{"$f":"IF(NRI!D116<>\"\",NRI!D116,\"\")","v":""},{"$f":"IF(NRI!E116<>\"\",NRI!E116,\"\")","v":""},{"$f":"IF(NRI!F116<>\"\",NRI!F116,\"\")","v":""},{"$f":"IF(NRI!G116<>\"\",NRI!G116,\"\")","v":""},{"$f":"IF(NRI!H116<>\"\",NRI!H116,\"\")","v":""},{"$f":"IF(NRI!I116<>\"\",NRI!I116,\"\")","v":""},{"$f":"IF(NRI!J116<>\"\",NRI!J116,\"\")","v":""},{"$f":"IF(NRI!K116<>\"\",NRI!K116,\"\")","v":""},{"$f":"IF(NRI!L116<>\"\",NRI!L116,\"\")","v":""},{"$f":"IF(NRI!M116<>\"\",NRI!M116,\"\")","v":""},{"$f":"IF(NRI!N116<>\"\",NRI!N116,\"\")","v":""},null,35,"","","","","","","","","","","",""]
[36,{"$f":"IF(NRI!C117<>\"\",NRI!C117,\"\")","v":""},{"$f":"IF(NRI!D117<>\"\",NRI!D117,\"\")","v":""},{"$f":"IF(NRI!E117<>\"\",NRI!E117,\"\")","v":""},{"$f":"IF(NRI!F117<>\"\",NRI!F117,\"\")","v":""},{"$f":"IF(NRI!G117<>\"\",NRI!G117,\"\")","v":""},{"$f":"IF(NRI!H117<>\"\",NRI!H117,\"\")","v":""},{"$f":"IF(NRI!I117<>\"\",NRI!I117,\"\")","v":""},{"$f":"IF(NRI!J117<>\"\",NRI!J117,\"\")","v":""},{"$f":"IF(NRI!K117<>\"\",NRI!K117,\"\")","v":""},{"$f":"IF(NRI!L117<>\"\",NRI!L117,\"\")","v":""},{"$f":"IF(NRI!M117<>\"\",NRI!M117,\"\")","v":""},{"$f":"IF(NRI!N117<>\"\",NRI!N117,\"\")","v":""},null,36,"","","","","","","","","","","",""]
[37,{"$f":"IF(NRI!C118<>\"\",NRI!C118,\"\")","v":""},{"$f":"IF(NRI!D118<>\"\",NRI!D118,\"\")","v":""},{"$f":"IF(NRI!E118<>\"\",NRI!E118,\"\")","v":""},{"$f":"IF(NRI!F118<>\"\",NRI!F118,\"\")","v":""},{"$f":"IF(NRI!G118<>\"\",NRI!G118,\"\")","v":""},{"$f":"IF(NRI!H118<>\"\",NRI!H118,\"\")","v":""},{"$f":"IF(NRI!I118<>\"\",NRI!I118,\"\")","v":""},{"$f":"IF(NRI!J118<>\"\",NRI!J118,\"\")","v":""},{"$f":"IF(NRI!K118<>\"\",NRI!K118,\"\")","v":""},{"$f":"IF(NRI!L118<>\"\",NRI!L118,\"\")","v":""},{"$f":"IF(NRI!M118<>\"\",NRI!M118,\"\")","v":""},{"$f":"IF(NRI!N118<>\"\",NRI!N118,\"\")","v":""},null,37,"","","","","","","","","","","",""]
[38,{"$f":"IF(NRI!C119<>\"\",NRI!C119,\"\")","v":""},{"$f":"IF(NRI!D119<>\"\",NRI!D119,\"\")","v":""},{"$f":"IF(NRI!E119<>\"\",NRI!E119,\"\")","v":""},{"$f":"IF(NRI!F119<>\"\",NRI!F119,\"\")","v":""},{"$f":"IF(NRI!G119<>\"\",NRI!G119,\"\")","v":""},{"$f":"IF(NRI!H119<>\"\",NRI!H119,\"\")","v":""},{"$f":"IF(NRI!I119<>\"\",NRI!I119,\"\")","v":""},{"$f":"IF(NRI!J119<>\"\",NRI!J119,\"\")","v":""},{"$f":"IF(NRI!K119<>\"\",NRI!K119,\"\")","v":""},{"$f":"IF(NRI!L119<>\"\",NRI!L119,\"\")","v":""},{"$f":"IF(NRI!M119<>\"\",NRI!M119,\"\")","v":""},{"$f":"IF(NRI!N119<>\"\",NRI!N119,\"\")","v":""},null,38,"","","","","","","","","","","",""]
[39,{"$f":"IF(NRI!C120<>\"\",NRI!C120,\"\")","v":""},{"$f":"IF(NRI!D120<>\"\",NRI!D120,\"\")","v":""},{"$f":"IF(NRI!E120<>\"\",NRI!E120,\"\")","v":""},{"$f":"IF(NRI!F120<>\"\",NRI!F120,\"\")","v":""},{"$f":"IF(NRI!G120<>\"\",NRI!G120,\"\")","v":""},{"$f":"IF(NRI!H120<>\"\",NRI!H120,\"\")","v":""},{"$f":"IF(NRI!I120<>\"\",NRI!I120,\"\")","v":""},{"$f":"IF(NRI!J120<>\"\",NRI!J120,\"\")","v":""},{"$f":"IF(NRI!K120<>\"\",NRI!K120,\"\")","v":""},{"$f":"IF(NRI!L120<>\"\",NRI!L120,\"\")","v":""},{"$f":"IF(NRI!M120<>\"\",NRI!M120,\"\")","v":""},{"$f":"IF(NRI!N120<>\"\",NRI!N120,\"\")","v":""},null,39,"","","","","","","","","","","",""]
[40,{"$f":"IF(NRI!C121<>\"\",NRI!C121,\"\")","v":""},{"$f":"IF(NRI!D121<>\"\",NRI!D121,\"\")","v":""},{"$f":"IF(NRI!E121<>\"\",NRI!E121,\"\")","v":""},{"$f":"IF(NRI!F121<>\"\",NRI!F121,\"\")","v":""},{"$f":"IF(NRI!G121<>\"\",NRI!G121,\"\")","v":""},{"$f":"IF(NRI!H121<>\"\",NRI!H121,\"\")","v":""},{"$f":"IF(NRI!I121<>\"\",NRI!I121,\"\")","v":""},{"$f":"IF(NRI!J121<>\"\",NRI!J121,\"\")","v":""},{"$f":"IF(NRI!K121<>\"\",NRI!K121,\"\")","v":""},{"$f":"IF(NRI!L121<>\"\",NRI!L121,\"\")","v":""},{"$f":"IF(NRI!M121<>\"\",NRI!M121,\"\")","v":""},{"$f":"IF(NRI!N121<>\"\",NRI!N121,\"\")","v":""},null,40,"","","","","","","","","","","",""]
[41,{"$f":"IF(NRI!C122<>\"\",NRI!C122,\"\")","v":""},{"$f":"IF(NRI!D122<>\"\",NRI!D122,\"\")","v":""},{"$f":"IF(NRI!E122<>\"\",NRI!E122,\"\")","v":""},{"$f":"IF(NRI!F122<>\"\",NRI!F122,\"\")","v":""},{"$f":"IF(NRI!G122<>\"\",NRI!G122,\"\")","v":""},{"$f":"IF(NRI!H122<>\"\",NRI!H122,\"\")","v":""},{"$f":"IF(NRI!I122<>\"\",NRI!I122,\"\")","v":""},{"$f":"IF(NRI!J122<>\"\",NRI!J122,\"\")","v":""},{"$f":"IF(NRI!K122<>\"\",NRI!K122,\"\")","v":""},{"$f":"IF(NRI!L122<>\"\",NRI!L122,\"\")","v":""},{"$f":"IF(NRI!M122<>\"\",NRI!M122,\"\")","v":""},{"$f":"IF(NRI!N122<>\"\",NRI!N122,\"\")","v":""},null,41,"","","","","","","","","","","",""]
[42,{"$f":"IF(NRI!C123<>\"\",NRI!C123,\"\")","v":""},{"$f":"IF(NRI!D123<>\"\",NRI!D123,\"\")","v":""},{"$f":"IF(NRI!E123<>\"\",NRI!E123,\"\")","v":""},{"$f":"IF(NRI!F123<>\"\",NRI!F123,\"\")","v":""},{"$f":"IF(NRI!G123<>\"\",NRI!G123,\"\")","v":""},{"$f":"IF(NRI!H123<>\"\",NRI!H123,\"\")","v":""},{"$f":"IF(NRI!I123<>\"\",NRI!I123,\"\")","v":""},{"$f":"IF(NRI!J123<>\"\",NRI!J123,\"\")","v":""},{"$f":"IF(NRI!K123<>\"\",NRI!K123,\"\")","v":""},{"$f":"IF(NRI!L123<>\"\",NRI!L123,\"\")","v":""},{"$f":"IF(NRI!M123<>\"\",NRI!M123,\"\")","v":""},{"$f":"IF(NRI!N123<>\"\",NRI!N123,\"\")","v":""},null,42,"","","","","","","","","","","",""]
[43,{"$f":"IF(NRI!C124<>\"\",NRI!C124,\"\")","v":""},{"$f":"IF(NRI!D124<>\"\",NRI!D124,\"\")","v":""},{"$f":"IF(NRI!E124<>\"\",NRI!E124,\"\")","v":""},{"$f":"IF(NRI!F124<>\"\",NRI!F124,\"\")","v":""},{"$f":"IF(NRI!G124<>\"\",NRI!G124,\"\")","v":""},{"$f":"IF(NRI!H124<>\"\",NRI!H124,\"\")","v":""},{"$f":"IF(NRI!I124<>\"\",NRI!I124,\"\")","v":""},{"$f":"IF(NRI!J124<>\"\",NRI!J124,\"\")","v":""},{"$f":"IF(NRI!K124<>\"\",NRI!K124,\"\")","v":""},{"$f":"IF(NRI!L124<>\"\",NRI!L124,\"\")","v":""},{"$f":"IF(NRI!M124<>\"\",NRI!M124,\"\")","v":""},{"$f":"IF(NRI!N124<>\"\",NRI!N124,\"\")","v":""},null,43,"","","","","","","","","","","",""]
[44,{"$f":"IF(NRI!C125<>\"\",NRI!C125,\"\")","v":""},{"$f":"IF(NRI!D125<>\"\",NRI!D125,\"\")","v":""},{"$f":"IF(NRI!E125<>\"\",NRI!E125,\"\")","v":""},{"$f":"IF(NRI!F125<>\"\",NRI!F125,\"\")","v":""},{"$f":"IF(NRI!G125<>\"\",NRI!G125,\"\")","v":""},{"$f":"IF(NRI!H125<>\"\",NRI!H125,\"\")","v":""},{"$f":"IF(NRI!I125<>\"\",NRI!I125,\"\")","v":""},{"$f":"IF(NRI!J125<>\"\",NRI!J125,\"\")","v":""},{"$f":"IF(NRI!K125<>\"\",NRI!K125,\"\")","v":""},{"$f":"IF(NRI!L125<>\"\",NRI!L125,\"\")","v":""},{"$f":"IF(NRI!M125<>\"\",NRI!M125,\"\")","v":""},{"$f":"IF(NRI!N125<>\"\",NRI!N125,\"\")","v":""},null,44,"","","","","","","","","","","",""]
[45,{"$f":"IF(NRI!C126<>\"\",NRI!C126,\"\")","v":""},{"$f":"IF(NRI!D126<>\"\",NRI!D126,\"\")","v":""},{"$f":"IF(NRI!E126<>\"\",NRI!E126,\"\")","v":""},{"$f":"IF(NRI!F126<>\"\",NRI!F126,\"\")","v":""},{"$f":"IF(NRI!G126<>\"\",NRI!G126,\"\")","v":""},{"$f":"IF(NRI!H126<>\"\",NRI!H126,\"\")","v":""},{"$f":"IF(NRI!I126<>\"\",NRI!I126,\"\")","v":""},{"$f":"IF(NRI!J126<>\"\",NRI!J126,\"\")","v":""},{"$f":"IF(NRI!K126<>\"\",NRI!K126,\"\")","v":""},{"$f":"IF(NRI!L126<>\"\",NRI!L126,\"\")","v":""},{"$f":"IF(NRI!M126<>\"\",NRI!M126,\"\")","v":""},{"$f":"IF(NRI!N126<>\"\",NRI!N126,\"\")","v":""},null,45,"","","","","","","","","","","",""]
[46,{"$f":"IF(NRI!C127<>\"\",NRI!C127,\"\")","v":""},{"$f":"IF(NRI!D127<>\"\",NRI!D127,\"\")","v":""},{"$f":"IF(NRI!E127<>\"\",NRI!E127,\"\")","v":""},{"$f":"IF(NRI!F127<>\"\",NRI!F127,\"\")","v":""},{"$f":"IF(NRI!G127<>\"\",NRI!G127,\"\")","v":""},{"$f":"IF(NRI!H127<>\"\",NRI!H127,\"\")","v":""},{"$f":"IF(NRI!I127<>\"\",NRI!I127,\"\")","v":""},{"$f":"IF(NRI!J127<>\"\",NRI!J127,\"\")","v":""},{"$f":"IF(NRI!K127<>\"\",NRI!K127,\"\")","v":""},{"$f":"IF(NRI!L127<>\"\",NRI!L127,\"\")","v":""},{"$f":"IF(NRI!M127<>\"\",NRI!M127,\"\")","v":""},{"$f":"IF(NRI!N127<>\"\",NRI!N127,\"\")","v":""},null,46,"","","","","","","","","","","",""]
[47,{"$f":"IF(NRI!C128<>\"\",NRI!C128,\"\")","v":""},{"$f":"IF(NRI!D128<>\"\",NRI!D128,\"\")","v":""},{"$f":"IF(NRI!E128<>\"\",NRI!E128,\"\")","v":""},{"$f":"IF(NRI!F128<>\"\",NRI!F128,\"\")","v":""},{"$f":"IF(NRI!G128<>\"\",NRI!G128,\"\")","v":""},{"$f":"IF(NRI!H128<>\"\",NRI!H128,\"\")","v":""},{"$f":"IF(NRI!I128<>\"\",NRI!I128,\"\")","v":""},{"$f":"IF(NRI!J128<>\"\",NRI!J128,\"\")","v":""},{"$f":"IF(NRI!K128<>\"\",NRI!K128,\"\")","v":""},{"$f":"IF(NRI!L128<>\"\",NRI!L128,\"\")","v":""},{"$f":"IF(NRI!M128<>\"\",NRI!M128,\"\")","v":""},{"$f":"IF(NRI!N128<>\"\",NRI!N128,\"\")","v":""},null,47,"","","","","","","","","","","",""]
[48,{"$f":"IF(NRI!C129<>\"\",NRI!C129,\"\")","v":""},{"$f":"IF(NRI!D129<>\"\",NRI!D129,\"\")","v":""},{"$f":"IF(NRI!E129<>\"\",NRI!E129,\"\")","v":""},{"$f":"IF(NRI!F129<>\"\",NRI!F129,\"\")","v":""},{"$f":"IF(NRI!G129<>\"\",NRI!G129,\"\")","v":""},{"$f":"IF(NRI!H129<>\"\",NRI!H129,\"\")","v":""},{"$f":"IF(NRI!I129<>\"\",NRI!I129,\"\")","v":""},{"$f":"IF(NRI!J129<>\"\",NRI!J129,\"\")","v":""},{"$f":"IF(NRI!K129<>\"\",NRI!K129,\"\")","v":""},{"$f":"IF(NRI!L129<>\"\",NRI!L129,\"\")","v":""},{"$f":"IF(NRI!M129<>\"\",NRI!M129,\"\")","v":""},{"$f":"IF(NRI!N129<>\"\",NRI!N129,\"\")","v":""},null,48,"","","","","","","","","","","",""]
[49,{"$f":"IF(NRI!C130<>\"\",NRI!C130,\"\")","v":""},{"$f":"IF(NRI!D130<>\"\",NRI!D130,\"\")","v":""},{"$f":"IF(NRI!E130<>\"\",NRI!E130,\"\")","v":""},{"$f":"IF(NRI!F130<>\"\",NRI!F130,\"\")","v":""},{"$f":"IF(NRI!G130<>\"\",NRI!G130,\"\")","v":""},{"$f":"IF(NRI!H130<>\"\",NRI!H130,\"\")","v":""},{"$f":"IF(NRI!I130<>\"\",NRI!I130,\"\")","v":""},{"$f":"IF(NRI!J130<>\"\",NRI!J130,\"\")","v":""},{"$f":"IF(NRI!K130<>\"\",NRI!K130,\"\")","v":""},{"$f":"IF(NRI!L130<>\"\",NRI!L130,\"\")","v":""},{"$f":"IF(NRI!M130<>\"\",NRI!M130,\"\")","v":""},{"$f":"IF(NRI!N130<>\"\",NRI!N130,\"\")","v":""},null,49,"","","","","","","","","","","",""]
[50,{"$f":"IF(NRI!C131<>\"\",NRI!C131,\"\")","v":""},{"$f":"IF(NRI!D131<>\"\",NRI!D131,\"\")","v":""},{"$f":"IF(NRI!E131<>\"\",NRI!E131,\"\")","v":""},{"$f":"IF(NRI!F131<>\"\",NRI!F131,\"\")","v":""},{"$f":"IF(NRI!G131<>\"\",NRI!G131,\"\")","v":""},{"$f":"IF(NRI!H131<>\"\",NRI!H131,\"\")","v":""},{"$f":"IF(NRI!I131<>\"\",NRI!I131,\"\")","v":""},{"$f":"IF(NRI!J131<>\"\",NRI!J131,\"\")","v":""},{"$f":"IF(NRI!K131<>\"\",NRI!K131,\"\")","v":""},{"$f":"IF(NRI!L131<>\"\",NRI!L131,\"\")","v":""},{"$f":"IF(NRI!M131<>\"\",NRI!M131,\"\")","v":""},{"$f":"IF(NRI!N131<>\"\",NRI!N131,\"\")","v":""},null,50,"","","","","","","","","","","",""]
["Mean",{"$f":"AVERAGE(B4:B53)","v":{"$error":"#DIV/0!"}},{"$error":"#DIV/0!"},{"$error":"#DIV/0!"},{"$error":"#DIV/0!"},{"$error":"#DIV/0!"},{"$error":"#DIV/0!"},{"$error":"#DIV/0!"},{"$f":"AVERAGE(I4:I53)","v":{"$error":"#DIV/0!"}},{"$f":"AVERAGE(J4:J53)","v":{"$error":"#DIV/0!"}},{"$f":"AVERAGE(K4:K53)","v":{"$error":"#DIV/0!"}},{"$f":"AVERAGE(L4:L53)","v":{"$error":"#DIV/0!"}},{"$f":"AVERAGE(M4:M53)","v":{"$error":"#DIV/0!"}},null,"Mean",{"$f":"AVERAGE(P4:P53)","v":{"$error":"#DIV/0!"}},{"$error":"#DIV/0!"},{"$error":"#DIV/0!"},{"$error":"#DIV/0!"},{"$error":"#DIV/0!"},{"$error":"#DIV/0!"},{"$error":"#DIV/0!"},{"$f":"AVERAGE(W4:W53)","v":{"$error":"#DIV/0!"}},{"$f":"AVERAGE(X4:X53)","v":{"$error":"#DIV/0!"}},{"$f":"AVERAGE(Y4:Y53)","v":{"$error":"#DIV/0!"}},{"$f":"AVERAGE(Z4:Z53)","v":{"$error":"#DIV/0!"}},{"$f":"AVERAGE(AA4:AA53)","v":{"$error":"#DIV/0!"}}]
["Stdev.",{"$f":"STDEV(B4:B53)","v":{"$error":"#DIV/0!"}},{"$f":"STDEV(C4:C53)","v":{"$error":"#DIV/0!"}},{"$error":"#DIV/0!"},{"$error":"#DIV/0!"},{"$error":"#DIV/0!"},{"$error":"#DIV/0!"},{"$error":"#DIV/0!"},{"$f":"STDEV(I4:I53)","v":{"$error":"#DIV/0!"}},{"$f":"STDEV(J4:J53)","v":{"$error":"#DIV/0!"}},{"$f":"STDEV(K4:K53)","v":{"$error":"#DIV/0!"}},{"$f":"STDEV(L4:L53)","v":{"$error":"#DIV/0!"}},{"$f":"STDEV(M4:M53)","v":{"$error":"#DIV/0!"}},null,"Stdev.",{"$f":"STDEV(P4:P53)","v":{"$error":"#DIV/0!"}},{"$error":"#DIV/0!"},{"$error":"#DIV/0!"},{"$error":"#DIV/0!"},{"$error":"#DIV/0!"},{"$error":"#DIV/0!"},{"$error":"#DIV/0!"},{"$error":"#DIV/0!"},{"$error":"#DIV/0!"},{"$error":"#DIV/0!"},{"$error":"#DIV/0!"},{"$error":"#DIV/0!"}]
["Skewness",{"$f":"SKEW(B4:B53)","v":{"$error":"#DIV/0!"}},{"$f":"SKEW(C4:C53)","v":{"$error":"#DIV/0!"}},{"$error":"#DIV/0!"},{"$error":"#DIV/0!"},{"$error":"#DIV/0!"},{"$error":"#DIV/0!"},{"$error":"#DIV/0!"},{"$f":"SKEW(I4:I53)","v":{"$error":"#DIV/0!"}},{"$f":"SKEW(J4:J53)","v":{"$error":"#DIV/0!"}},{"$f":"SKEW(K4:K53)","v":{"$error":"#DIV/0!"}},{"$f":"SKEW(L4:L53)","v":{"$error":"#DIV/0!"}},{"$f":"SKEW(M4:M53)","v":{"$error":"#DIV/0!"}},null,"Skewness",{"$f":"SKEW(P4:P53)","v":{"$error":"#DIV/0!"}},{"$error":"#DIV/0!"},{"$error":"#DIV/0!"},{"$error":"#DIV/0!"},{"$error":"#DIV/0!"},{"$error":"#DIV/0!"},{"$error":"#DIV/0!"},{"$error":"#DIV/0!"},{"$error":"#DIV/0!"},{"$error":"#DIV/0!"},{"$error":"#DIV/0!"},{"$error":"#DIV/0!"}]
["Min",{"$f":"MIN(B4:B53)","v":0},{"$f":"MIN(C4:C53)","v":0},0,0,0,0,0,0,0,0,0,0]
[null,null,null,null,null,null,null,null,null,null,null,null,null,null,"Step 5. Gumbel distribution is selected"]
[null,null,null,null,null,null,null,null,null,null,null,null,null,null,"Parameter","Jan","Feb","Mar","Apr","May","Jun","Jul","Aug","Sep","Oct","Nov","Dec"]
[null,null,null,null,null,null,null,null,null,null,null,null,null,null,"Xo",{"$f":"P54-0.45*P55","v":{"$error":"#DIV/0!"}},{"$error":"#DIV/0!"},{"$error":"#DIV/0!"},{"$error":"#DIV/0!"},{"$error":"#DIV/0!"},{"$error":"#DIV/0!"},{"$error":"#DIV/0!"},{"$error":"#DIV/0!"},{"$error":"#DIV/0!"},{"$error":"#DIV/0!"},{"$error":"#DIV/0!"},{"$error":"#DIV/0!"}]
[null,null,null,null,null,null,null,null,null,null,null,null,null,null,"alpha",{"$f":"0.7797*P55","v":{"$error":"#DIV/0!"}},{"$error":"#DIV/0!"},{"$error":"#DIV/0!"},{"$error":"#DIV/0!"},{"$error":"#DIV/0!"},{"$error":"#DIV/0!"},{"$error":"#DIV/0!"},{"$error":"#DIV/0!"},{"$error":"#DIV/0!"},{"$error":"#DIV/0!"},{"$error":"#DIV/0!"},{"$error":"#DIV/0!"}]
[]
[null,null,null,null,null,null,null,null,null,null,null,null,null,null,"Step 6. Find VBUFt_Xt at the specific risk values"]
[null,null,null,null,null,null,null,null,null,null,null,null,null,null,"Risk","Jan","Feb","Mar","Apr","May","Jun","Jul","Aug","Sep","Oct","Nov","Dec"]
[null,null,null,null,null,null,null,null,null,null,null,null,null,null,{"$f":"'URC POP'!A96","v":0.05},{"$f":"P$54+'URC POP'!$C$96*P$55","v":{"$error":"#DIV/0!"}},{"$f":"Q$54+'URC POP'!$C$96*Q$55","v":{"$error":"#DIV/0!"}},{"$f":"R$54+'URC POP'!$C$96*R$55","v":{"$error":"#DIV/0!"}},{"$f":"S$54+'URC POP'!$C$96*S$55","v":{"$error":"#DIV/0!"}},{"$f":"T$54+'URC POP'!$C$96*T$55","v":{"$error":"#DIV/0!"}},{"$f":"U$54+'URC POP'!$C$96*U$55","v":{"$error":"#DIV/0!"}},{"$f":"V$54+'URC POP'!$C$96*V$55","v":{"$error":"#DIV/0!"}},{"$f":"W$54+'URC POP'!$C$96*W$55","v":{"$error":"#DIV/0!"}},{"$f":"X$54+'URC POP'!$C$96*X$55","v":{"$error":"#DIV/0!"}},{"$f":"Y$54+'URC POP'!$C$96*Y$55","v":{"$error":"#DIV/0!"}},{"$f":"Z$54+'URC POP'!$C$96*Z$55","v":{"$error":"#DIV/0!"}},{"$f":"AA$54+'URC POP'!$C$96*AA$55","v":{"$error":"#DIV/0!"}}]
[null,null,null,null,null,null,null,null,null,null,null,null,null,null,{"$f":"'URC POP'!A97","v":0.1},{"$f":"P$54+'URC POP'!$C$97*P$55","v":{"$error":"#DIV/0!"}},{"$f":"Q$54+'URC POP'!$C$97*Q$55","v":{"$error":"#DIV/0!"}},{"$f":"R$54+'URC POP'!$C$97*R$55","v":{"$error":"#DIV/0!"}},{"$f":"S$54+'URC POP'!$C$97*S$55","v":{"$error":"#DIV/0!"}},{"$f":"T$54+'URC POP'!$C$97*T$55","v":{"$error":"#DIV/0!"}},{"$f":"U$54+'URC POP'!$C$97*U$55","v":{"$error":"#DIV/0!"}},{"$f":"V$54+'URC POP'!$C$97*V$55","v":{"$error":"#DIV/0!"}},{"$f":"W$54+'URC POP'!$C$97*W$55","v":{"$error":"#DIV/0!"}},{"$f":"X$54+'URC POP'!$C$97*X$55","v":{"$error":"#DIV/0!"}},{"$f":"Y$54+'URC POP'!$C$97*Y$55","v":{"$error":"#DIV/0!"}},{"$f":"Z$54+'URC POP'!$C$97*Z$55","v":{"$error":"#DIV/0!"}},{"$f":"AA$54+'URC POP'!$C$97*AA$55","v":{"$error":"#DIV/0!"}}]
[null,null,null,null,null,null,null,null,null,null,null,null,null,null,{"$f":"'URC POP'!A98","v":0.15},{"$f":"P$54+'URC POP'!$C$98*P$55","v":{"$error":"#DIV/0!"}},{"$f":"Q$54+'URC POP'!$C$98*Q$55","v":{"$error":"#DIV/0!"}},{"$f":"R$54+'URC POP'!$C$98*R$55","v":{"$error":"#DIV/0!"}},{"$f":"S$54+'URC POP'!$C$98*S$55","v":{"$error":"#DIV/0!"}},{"$f":"T$54+'URC POP'!$C$98*T$55","v":{"$error":"#DIV/0!"}},{"$f":"U$54+'URC POP'!$C$98*U$55","v":{"$error":"#DIV/0!"}},{"$f":"V$54+'URC POP'!$C$98*V$55","v":{"$error":"#DIV/0!"}},{"$f":"W$54+'URC POP'!$C$98*W$55","v":{"$error":"#DIV/0!"}},{"$f":"X$54+'URC POP'!$C$98*X$55","v":{"$error":"#DIV/0!"}},{"$f":"Y$54+'URC POP'!$C$98*Y$55","v":{"$error":"#DIV/0!"}},{"$f":"Z$54+'URC POP'!$C$98*Z$55","v":{"$error":"#DIV/0!"}},{"$f":"AA$54+'URC POP'!$C$98*AA$55","v":{"$error":"#DIV/0!"}}]
[null,null,null,null,null,null,null,null,null,null,null,null,null,null,{"$f":"'URC POP'!A99","v":0.2},{"$f":"P$54+'URC POP'!$C$99*P$55","v":{"$error":"#DIV/0!"}},{"$f":"Q$54+'URC POP'!$C$99*Q$55","v":{"$error":"#DIV/0!"}},{"$f":"R$54+'URC POP'!$C$99*R$55","v":{"$error":"#DIV/0!"}},{"$f":"S$54+'URC POP'!$C$99*S$55","v":{"$error":"#DIV/0!"}},{"$f":"T$54+'URC POP'!$C$99*T$55","v":{"$error":"#DIV/0!"}},{"$f":"U$54+'URC POP'!$C$99*U$55","v":{"$error":"#DIV/0!"}},{"$f":"V$54+'URC POP'!$C$99*V$55","v":{"$error":"#DIV/0!"}},{"$f":"W$54+'URC POP'!$C$99*W$55","v":{"$error":"#DIV/0!"}},{"$f":"X$54+'URC POP'!$C$99*X$55","v":{"$error":"#DIV/0!"}},{"$f":"Y$54+'URC POP'!$C$99*Y$55","v":{"$error":"#DIV/0!"}},{"$f":"Z$54+'URC POP'!$C$99*Z$55","v":{"$error":"#DIV/0!"}},{"$f":"AA$54+'URC POP'!$C$99*AA$55","v":{"$error":"#DIV/0!"}}]
[]
[null,null,null,null,null,null,null,null,null,null,null,null,null,null,"Step 7. Retransform VBUFt)_Yt into VBUFt_Xt"]
[null,null,null,null,null,null,null,null,null,null,null,null,null,null,"Risk","Jan","Feb","Mar","Apr","May","Jun","Jul","Aug","Sep","Oct","Nov","Dec"]
[null,null,null,null,null,null,null,null,null,null,null,null,null,null,{"$f":"'URC POP'!A96","v":0.05},{"$f":"P65+(1.01*B$57)","v":{"$error":"#DIV/0!"}},{"$error":"#DIV/0!"},{"$error":"#DIV/0!"},{"$error":"#DIV/0!"},{"$error":"#DIV/0!"},{"$error":"#DIV/0!"},{"$error":"#DIV/0!"},{"$error":"#DIV/0!"},{"$error":"#DIV/0!"},{"$error":"#DIV/0!"},{"$error":"#DIV/0!"},{"$error":"#DIV/0!"}]
[null,null,null,null,null,null,null,null,null,null,null,null,null,null,{"$f":"'URC POP'!A97","v":0.1},{"$f":"P66+(1.01*B$57)","v":{"$error":"#DIV/0!"}},{"$error":"#DIV/0!"},{"$f":"R66+(1.01*D$57)","v":{"$error":"#DIV/0!"}},{"$error":"#DIV/0!"},{"$error":"#DIV/0!"},{"$error":"#DIV/0!"},{"$error":"#DIV/0!"},{"$error":"#DIV/0!"},{"$error":"#DIV/0!"},{"$error":"#DIV/0!"},{"$error":"#DIV/0!"},{"$error":"#DIV/0!"}]
[null,null,null,null,null,null,null,null,null,null,null,null,null,null,{"$f":"'URC POP'!A98","v":0.15},{"$error":"#DIV/0!"},{"$error":"#DIV/0!"},{"$error":"#DIV/0!"},{"$error":"#DIV/0!"},{"$error":"#DIV/0!"},{"$error":"#DIV/0!"},{"$error":"#DIV/0!"},{"$error":"#DIV/0!"},{"$error":"#DIV/0!"},{"$error":"#DIV/0!"},{"$error":"#DIV/0!"},{"$error":"#DIV/0!"}]
[null,null,null,null,null,null,null,null,null,null,null,null,null,null,{"$f":"'URC POP'!A99","v":0.2},{"$error":"#DIV/0!"},{"$error":"#DIV/0!"},{"$error":"#DIV/0!"},{"$error":"#DIV/0!"},{"$error":"#DIV/0!"},{"$error":"#DIV/0!"},{"$error":"#DIV/0!"},{"$error":"#DIV/0!"},{"$error":"#DIV/0!"},{"$error":"#DIV/0!"},{"$error":"#DIV/0!"},{"$error":"#DIV/0!"}]
[]
[null,null,null,null,null,null,null,null,null,null,null,null,null,null,"Year","LRC"]
[null,null,null,null,null,null,null,null,null,null,null,null,null,null,null,{"$f":"'URC POP'!A96","v":0.05},{"$f":"'URC POP'!A97","v":0.1},{"$f":"'URC POP'!A98","v":0.15},{"$f":"'URC POP'!A99","v":0.2}]
[null,null,null,null,null,null,null,null,null,null,null,null,null,null,"Jan",{"$f":"IF(P$72>0,P$72+NRI!$P$3,NRI!$P$3)","v":{"$error":"#DIV/0!"}},{"$f":"IF(P$73>0,P$73+NRI!$P$3,NRI!$P$3)","v":{"$error":"#DIV/0!"}},{"$f":"IF(P$74>0,P$74+NRI!$P$3,NRI!$P$3)","v":{"$error":"#DIV/0!"}},{"$f":"IF(P$75>0,P$75+NRI!$P$3,NRI!$P$3)","v":{"$error":"#DIV/0!"}}]
[null,null,null,null,null,null,null,null,null,null,null,null,null,null,"Feb",{"$f":"IF(Q$72>0,Q$72+NRI!$P$3,NRI!$P$3)","v":{"$error":"#DIV/0!"}},{"$f":"IF(Q$73>0,Q$73+NRI!$P$3,NRI!$P$3)","v":{"$error":"#DIV/0!"}},{"$f":"IF(Q$74>0,Q$74+NRI!$P$3,NRI!$P$3)","v":{"$error":"#DIV/0!"}},{"$f":"IF(Q$75>0,Q$75+NRI!$P$3,NRI!$P$3)","v":{"$error":"#DIV/0!"}}]
[null,null,null,null,null,null,null,null,null,null,null,null,null,null,"Mar",{"$f":"IF(R$72>0,R$72+NRI!$P$3,NRI!$P$3)","v":{"$error":"#DIV/0!"}},{"$f":"IF(R$73>0,R$73+NRI!$P$3,NRI!$P$3)","v":{"$error":"#DIV/0!"}},{"$f":"IF(R$74>0,R$74+NRI!$P$3,NRI!$P$3)","v":{"$error":"#DIV/0!"}},{"$f":"IF(R$75>0,R$75+NRI!$P$3,NRI!$P$3)","v":{"$error":"#DIV/0!"}}]
[null,null,null,null,null,null,null,null,null,null,null,null,null,null,"Apr",{"$f":"IF(S$72>0,S$72+NRI!$P$3,NRI!$P$3)","v":{"$error":"#DIV/0!"}},{"$f":"IF(S$73>0,S$73+NRI!$P$3,NRI!$P$3)","v":{"$error":"#DIV/0!"}},{"$f":"IF(S$74>0,S$74+NRI!$P$3,NRI!$P$3)","v":{"$error":"#DIV/0!"}},{"$f":"IF(S$75>0,S$75+NRI!$P$3,NRI!$P$3)","v":{"$error":"#DIV/0!"}}]
[null,null,null,null,null,null,null,null,null,null,null,null,null,null,"May",{"$f":"IF(T$72>0,T$72+NRI!$P$3,NRI!$P$3)","v":{"$error":"#DIV/0!"}},{"$f":"IF(T$73>0,T$73+NRI!$P$3,NRI!$P$3)","v":{"$error":"#DIV/0!"}},{"$f":"IF(T$74>0,T$74+NRI!$P$3,NRI!$P$3)","v":{"$error":"#DIV/0!"}},{"$f":"IF(T$75>0,T$75+NRI!$P$3,NRI!$P$3)","v":{"$error":"#DIV/0!"}}]
[null,null,null,null,null,null,null,null,null,null,null,null,null,null,"Jun",{"$f":"IF(U$72>0,U$72+NRI!$P$3,NRI!$P$3)","v":{"$error":"#DIV/0!"}},{"$f":"IF(U$73>0,U$73+NRI!$P$3,NRI!$P$3)","v":{"$error":"#DIV/0!"}},{"$f":"IF(U$74>0,U$74+NRI!$P$3,NRI!$P$3)","v":{"$error":"#DIV/0!"}},{"$f":"IF(U$75>0,U$75+NRI!$P$3,NRI!$P$3)","v":{"$error":"#DIV/0!"}}]
[null,null,null,null,null,null,null,null,null,null,null,null,null,null,"Jul",{"$f":"IF(V$72>0,V$72+NRI!$P$3,NRI!$P$3)","v":{"$error":"#DIV/0!"}},{"$f":"IF(V$73>0,V$73+NRI!$P$3,NRI!$P$3)","v":{"$error":"#DIV/0!"}},{"$f":"IF(V$74>0,V$74+NRI!$P$3,NRI!$P$3)","v":{"$error":"#DIV/0!"}},{"$f":"IF(V$75>0,V$75+NRI!$P$3,NRI!$P$3)","v":{"$error":"#DIV/0!"}}]
[null,null,null,null,null,null,null,null,null,null,null,null,null,null,"Aug",{"$f":"IF(W$72>0,W$72+NRI!$P$3,NRI!$P$3)","v":{"$error":"#DIV/0!"}},{"$f":"IF(W$73>0,W$73+NRI!$P$3,NRI!$P$3)","v":{"$error":"#DIV/0!"}},{"$f":"IF(W$74>0,W$74+NRI!$P$3,NRI!$P$3)","v":{"$error":"#DIV/0!"}},{"$f":"IF(W$75>0,W$75+NRI!$P$3,NRI!$P$3)","v":{"$error":"#DIV/0!"}}]
[null,null,null,null,null,null,null,null,null,null,null,null,null,null,"Sep",{"$f":"IF(X$72>0,X$72+NRI!$P$3,NRI!$P$3)","v":{"$error":"#DIV/0!"}},{"$f":"IF(X$73>0,X$73+NRI!$P$3,NRI!$P$3)","v":{"$error":"#DIV/0!"}},{"$f":"IF(X$74>0,X$74+NRI!$P$3,NRI!$P$3)","v":{"$error":"#DIV/0!"}},{"$f":"IF(X$75>0,X$75+NRI!$P$3,NRI!$P$3)","v":{"$error":"#DIV/0!"}}]
[null,null,null,null,null,null,null,null,null,null,null,null,null,null,"Oct",{"$f":"IF(Y$72>0,Y$72+NRI!$P$3,NRI!$P$3)","v":{"$error":"#DIV/0!"}},{"$f":"IF(Y$73>0,Y$73+NRI!$P$3,NRI!$P$3)","v":{"$error":"#DIV/0!"}},{"$f":"IF(Y$74>0,Y$74+NRI!$P$3,NRI!$P$3)","v":{"$error":"#DIV/0!"}},{"$f":"IF(Y$75>0,Y$75+NRI!$P$3,NRI!$P$3)","v":{"$error":"#DIV/0!"}}]
[null,null,null,null,null,null,null,null,null,null,null,null,null,null,"Nov",{"$f":"IF(Z$72>0,Z$72+NRI!$P$3,NRI!$P$3)","v":{"$error":"#DIV/0!"}},{"$f":"IF(Z$73>0,Z$73+NRI!$P$3,NRI!$P$3)","v":{"$error":"#DIV/0!"}},{"$f":"IF(Z$74>0,Z$74+NRI!$P$3,NRI!$P$3)","v":{"$error":"#DIV/0!"}},{"$f":"IF(Z$75>0,Z$75+NRI!$P$3,NRI!$P$3)","v":{"$error":"#DIV/0!"}}]
[null,null,null,null,null,null,null,null,null,null,null,null,null,null,"Dec",{"$f":"IF(AA$72>0,AA$72+NRI!$P$3,NRI!$P$3)","v":{"$error":"#DIV/0!"}},{"$f":"IF(AA$73>0,AA$73+NRI!$P$3,NRI!$P$3)","v":{"$error":"#DIV/0!"}},{"$f":"IF(AA$74>0,AA$74+NRI!$P$3,NRI!$P$3)","v":{"$error":"#DIV/0!"}},{"$f":"IF(AA$75>0,AA$75+NRI!$P$3,NRI!$P$3)","v":{"$error":"#DIV/0!"}}]

{"sheet":"NRI (Manual)","index":8,"n_rows":174,"n_cols":19,"rows_kept":174,"cut":false,"hidden":true,"merged":[[57,1,57,9],[79,1,79,3]]}
[null,1]
["Monthly NRI","ม.ค.","ก.พ.","มี.ค.","เม.ย.","พ.ค.","มิ.ย.","ก.ค.","ส.ค.","ก.ย.","ต.ค.","พ.ย.","ธ.ค."]
["Year/Month","Jan","Feb","Mar","Apr","May","Jun","Jul","Aug","Sep","Oct","Nov","Dec"]
[{"$f":"'หา NRI'!D3","v":1986},{"$f":"IF(NRI!B4<>\"\",NRI!B4,\"\")","v":""},{"$f":"IF(NRI!C4<>\"\",NRI!C4,\"\")","v":""},{"$f":"IF(NRI!D4<>\"\",NRI!D4,\"\")","v":""},{"$f":"IF(NRI!E4<>\"\",NRI!E4,\"\")","v":""},{"$f":"IF(NRI!F4<>\"\",NRI!F4,\"\")","v":""},{"$f":"IF(NRI!G4<>\"\",NRI!G4,\"\")","v":""},{"$f":"IF(NRI!H4<>\"\",NRI!H4,\"\")","v":""},{"$f":"IF(NRI!I4<>\"\",NRI!I4,\"\")","v":""},{"$f":"IF(NRI!J4<>\"\",NRI!J4,\"\")","v":""},{"$f":"IF(NRI!K4<>\"\",NRI!K4,\"\")","v":""},{"$f":"IF(NRI!L4<>\"\",NRI!L4,\"\")","v":""},{"$f":"IF(NRI!M4<>\"\",NRI!M4,\"\")","v":""}]
[{"$f":"A4+1","v":1987},{"$f":"IF(NRI!B5<>\"\",NRI!B5,\"\")","v":""},{"$f":"IF(NRI!C5<>\"\",NRI!C5,\"\")","v":""},{"$f":"IF(NRI!D5<>\"\",NRI!D5,\"\")","v":""},{"$f":"IF(NRI!E5<>\"\",NRI!E5,\"\")","v":""},{"$f":"IF(NRI!F5<>\"\",NRI!F5,\"\")","v":""},{"$f":"IF(NRI!G5<>\"\",NRI!G5,\"\")","v":""},{"$f":"IF(NRI!H5<>\"\",NRI!H5,\"\")","v":""},{"$f":"IF(NRI!I5<>\"\",NRI!I5,\"\")","v":""},{"$f":"IF(NRI!J5<>\"\",NRI!J5,\"\")","v":""},{"$f":"IF(NRI!K5<>\"\",NRI!K5,\"\")","v":""},{"$f":"IF(NRI!L5<>\"\",NRI!L5,\"\")","v":""},{"$f":"IF(NRI!M5<>\"\",NRI!M5,\"\")","v":""}]
[1988,{"$f":"IF(NRI!B6<>\"\",NRI!B6,\"\")","v":""},{"$f":"IF(NRI!C6<>\"\",NRI!C6,\"\")","v":""},{"$f":"IF(NRI!D6<>\"\",NRI!D6,\"\")","v":""},{"$f":"IF(NRI!E6<>\"\",NRI!E6,\"\")","v":""},{"$f":"IF(NRI!F6<>\"\",NRI!F6,\"\")","v":""},{"$f":"IF(NRI!G6<>\"\",NRI!G6,\"\")","v":""},{"$f":"IF(NRI!H6<>\"\",NRI!H6,\"\")","v":""},{"$f":"IF(NRI!I6<>\"\",NRI!I6,\"\")","v":""},{"$f":"IF(NRI!J6<>\"\",NRI!J6,\"\")","v":""},{"$f":"IF(NRI!K6<>\"\",NRI!K6,\"\")","v":""},{"$f":"IF(NRI!L6<>\"\",NRI!L6,\"\")","v":""},{"$f":"IF(NRI!M6<>\"\",NRI!M6,\"\")","v":""}]
[1989,{"$f":"IF(NRI!B7<>\"\",NRI!B7,\"\")","v":""},{"$f":"IF(NRI!C7<>\"\",NRI!C7,\"\")","v":""},{"$f":"IF(NRI!D7<>\"\",NRI!D7,\"\")","v":""},{"$f":"IF(NRI!E7<>\"\",NRI!E7,\"\")","v":""},{"$f":"IF(NRI!F7<>\"\",NRI!F7,\"\")","v":""},{"$f":"IF(NRI!G7<>\"\",NRI!G7,\"\")","v":""},{"$f":"IF(NRI!H7<>\"\",NRI!H7,\"\")","v":""},{"$f":"IF(NRI!I7<>\"\",NRI!I7,\"\")","v":""},{"$f":"IF(NRI!J7<>\"\",NRI!J7,\"\")","v":""},{"$f":"IF(NRI!K7<>\"\",NRI!K7,\"\")","v":""},{"$f":"IF(NRI!L7<>\"\",NRI!L7,\"\")","v":""},{"$f":"IF(NRI!M7<>\"\",NRI!M7,\"\")","v":""}]
[1990,{"$f":"IF(NRI!B8<>\"\",NRI!B8,\"\")","v":""},{"$f":"IF(NRI!C8<>\"\",NRI!C8,\"\")","v":""},{"$f":"IF(NRI!D8<>\"\",NRI!D8,\"\")","v":""},{"$f":"IF(NRI!E8<>\"\",NRI!E8,\"\")","v":""},{"$f":"IF(NRI!F8<>\"\",NRI!F8,\"\")","v":""},{"$f":"IF(NRI!G8<>\"\",NRI!G8,\"\")","v":""},{"$f":"IF(NRI!H8<>\"\",NRI!H8,\"\")","v":""},{"$f":"IF(NRI!I8<>\"\",NRI!I8,\"\")","v":""},{"$f":"IF(NRI!J8<>\"\",NRI!J8,\"\")","v":""},{"$f":"IF(NRI!K8<>\"\",NRI!K8,\"\")","v":""},{"$f":"IF(NRI!L8<>\"\",NRI!L8,\"\")","v":""},{"$f":"IF(NRI!M8<>\"\",NRI!M8,\"\")","v":""}]
[1991,{"$f":"IF(NRI!B9<>\"\",NRI!B9,\"\")","v":""},{"$f":"IF(NRI!C9<>\"\",NRI!C9,\"\")","v":""},{"$f":"IF(NRI!D9<>\"\",NRI!D9,\"\")","v":""},{"$f":"IF(NRI!E9<>\"\",NRI!E9,\"\")","v":""},{"$f":"IF(NRI!F9<>\"\",NRI!F9,\"\")","v":""},{"$f":"IF(NRI!G9<>\"\",NRI!G9,\"\")","v":""},{"$f":"IF(NRI!H9<>\"\",NRI!H9,\"\")","v":""},{"$f":"IF(NRI!I9<>\"\",NRI!I9,\"\")","v":""},{"$f":"IF(NRI!J9<>\"\",NRI!J9,\"\")","v":""},{"$f":"IF(NRI!K9<>\"\",NRI!K9,\"\")","v":""},{"$f":"IF(NRI!L9<>\"\",NRI!L9,\"\")","v":""},{"$f":"IF(NRI!M9<>\"\",NRI!M9,\"\")","v":""}]
[1992,{"$f":"IF(NRI!B10<>\"\",NRI!B10,\"\")","v":""},{"$f":"IF(NRI!C10<>\"\",NRI!C10,\"\")","v":""},{"$f":"IF(NRI!D10<>\"\",NRI!D10,\"\")","v":""},{"$f":"IF(NRI!E10<>\"\",NRI!E10,\"\")","v":""},{"$f":"IF(NRI!F10<>\"\",NRI!F10,\"\")","v":""},{"$f":"IF(NRI!G10<>\"\",NRI!G10,\"\")","v":""},{"$f":"IF(NRI!H10<>\"\",NRI!H10,\"\")","v":""},{"$f":"IF(NRI!I10<>\"\",NRI!I10,\"\")","v":""},{"$f":"IF(NRI!J10<>\"\",NRI!J10,\"\")","v":""},{"$f":"IF(NRI!K10<>\"\",NRI!K10,\"\")","v":""},{"$f":"IF(NRI!L10<>\"\",NRI!L10,\"\")","v":""},{"$f":"IF(NRI!M10<>\"\",NRI!M10,\"\")","v":""}]
[1993,{"$f":"IF(NRI!B11<>\"\",NRI!B11,\"\")","v":""},{"$f":"IF(NRI!C11<>\"\",NRI!C11,\"\")","v":""},{"$f":"IF(NRI!D11<>\"\",NRI!D11,\"\")","v":""},{"$f":"IF(NRI!E11<>\"\",NRI!E11,\"\")","v":""},{"$f":"IF(NRI!F11<>\"\",NRI!F11,\"\")","v":""},{"$f":"IF(NRI!G11<>\"\",NRI!G11,\"\")","v":""},{"$f":"IF(NRI!H11<>\"\",NRI!H11,\"\")","v":""},{"$f":"IF(NRI!I11<>\"\",NRI!I11,\"\")","v":""},{"$f":"IF(NRI!J11<>\"\",NRI!J11,\"\")","v":""},{"$f":"IF(NRI!K11<>\"\",NRI!K11,\"\")","v":""},{"$f":"IF(NRI!L11<>\"\",NRI!L11,\"\")","v":""},{"$f":"IF(NRI!M11<>\"\",NRI!M11,\"\")","v":""}]
[1994,{"$f":"IF(NRI!B12<>\"\",NRI!B12,\"\")","v":""},{"$f":"IF(NRI!C12<>\"\",NRI!C12,\"\")","v":""},{"$f":"IF(NRI!D12<>\"\",NRI!D12,\"\")","v":""},{"$f":"IF(NRI!E12<>\"\",NRI!E12,\"\")","v":""},{"$f":"IF(NRI!F12<>\"\",NRI!F12,\"\")","v":""},{"$f":"IF(NRI!G12<>\"\",NRI!G12,\"\")","v":""},{"$f":"IF(NRI!H12<>\"\",NRI!H12,\"\")","v":""},{"$f":"IF(NRI!I12<>\"\",NRI!I12,\"\")","v":""},{"$f":"IF(NRI!J12<>\"\",NRI!J12,\"\")","v":""},{"$f":"IF(NRI!K12<>\"\",NRI!K12,\"\")","v":""},{"$f":"IF(NRI!L12<>\"\",NRI!L12,\"\")","v":""},{"$f":"IF(NRI!M12<>\"\",NRI!M12,\"\")","v":""}]
[1995,{"$f":"IF(NRI!B13<>\"\",NRI!B13,\"\")","v":""},{"$f":"IF(NRI!C13<>\"\",NRI!C13,\"\")","v":""},{"$f":"IF(NRI!D13<>\"\",NRI!D13,\"\")","v":""},{"$f":"IF(NRI!E13<>\"\",NRI!E13,\"\")","v":""},{"$f":"IF(NRI!F13<>\"\",NRI!F13,\"\")","v":""},{"$f":"IF(NRI!G13<>\"\",NRI!G13,\"\")","v":""},{"$f":"IF(NRI!H13<>\"\",NRI!H13,\"\")","v":""},{"$f":"IF(NRI!I13<>\"\",NRI!I13,\"\")","v":""},{"$f":"IF(NRI!J13<>\"\",NRI!J13,\"\")","v":""},{"$f":"IF(NRI!K13<>\"\",NRI!K13,\"\")","v":""},{"$f":"IF(NRI!L13<>\"\",NRI!L13,\"\")","v":""},{"$f":"IF(NRI!M13<>\"\",NRI!M13,\"\")","v":""}]
[1996,{"$f":"IF(NRI!B14<>\"\",NRI!B14,\"\")","v":""},{"$f":"IF(NRI!C14<>\"\",NRI!C14,\"\")","v":""},{"$f":"IF(NRI!D14<>\"\",NRI!D14,\"\")","v":""},{"$f":"IF(NRI!E14<>\"\",NRI!E14,\"\")","v":""},{"$f":"IF(NRI!F14<>\"\",NRI!F14,\"\")","v":""},{"$f":"IF(NRI!G14<>\"\",NRI!G14,\"\")","v":""},{"$f":"IF(NRI!H14<>\"\",NRI!H14,\"\")","v":""},{"$f":"IF(NRI!I14<>\"\",NRI!I14,\"\")","v":""},{"$f":"IF(NRI!J14<>\"\",NRI!J14,\"\")","v":""},{"$f":"IF(NRI!K14<>\"\",NRI!K14,\"\")","v":""},{"$f":"IF(NRI!L14<>\"\",NRI!L14,\"\")","v":""},{"$f":"IF(NRI!M14<>\"\",NRI!M14,\"\")","v":""}]
[1997,{"$f":"IF(NRI!B15<>\"\",NRI!B15,\"\")","v":""},{"$f":"IF(NRI!C15<>\"\",NRI!C15,\"\")","v":""},{"$f":"IF(NRI!D15<>\"\",NRI!D15,\"\")","v":""},{"$f":"IF(NRI!E15<>\"\",NRI!E15,\"\")","v":""},{"$f":"IF(NRI!F15<>\"\",NRI!F15,\"\")","v":""},{"$f":"IF(NRI!G15<>\"\",NRI!G15,\"\")","v":""},{"$f":"IF(NRI!H15<>\"\",NRI!H15,\"\")","v":""},{"$f":"IF(NRI!I15<>\"\",NRI!I15,\"\")","v":""},{"$f":"IF(NRI!J15<>\"\",NRI!J15,\"\")","v":""},{"$f":"IF(NRI!K15<>\"\",NRI!K15,\"\")","v":""},{"$f":"IF(NRI!L15<>\"\",NRI!L15,\"\")","v":""},{"$f":"IF(NRI!M15<>\"\",NRI!M15,\"\")","v":""}]
[1998,{"$f":"IF(NRI!B16<>\"\",NRI!B16,\"\")","v":""},{"$f":"IF(NRI!C16<>\"\",NRI!C16,\"\")","v":""},{"$f":"IF(NRI!D16<>\"\",NRI!D16,\"\")","v":""},{"$f":"IF(NRI!E16<>\"\",NRI!E16,\"\")","v":""},{"$f":"IF(NRI!F16<>\"\",NRI!F16,\"\")","v":""},{"$f":"IF(NRI!G16<>\"\",NRI!G16,\"\")","v":""},{"$f":"IF(NRI!H16<>\"\",NRI!H16,\"\")","v":""},{"$f":"IF(NRI!I16<>\"\",NRI!I16,\"\")","v":""},{"$f":"IF(NRI!J16<>\"\",NRI!J16,\"\")","v":""},{"$f":"IF(NRI!K16<>\"\",NRI!K16,\"\")","v":""},{"$f":"IF(NRI!L16<>\"\",NRI!L16,\"\")","v":""},{"$f":"IF(NRI!M16<>\"\",NRI!M16,\"\")","v":""}]
[1999,{"$f":"IF(NRI!B17<>\"\",NRI!B17,\"\")","v":""},{"$f":"IF(NRI!C17<>\"\",NRI!C17,\"\")","v":""},{"$f":"IF(NRI!D17<>\"\",NRI!D17,\"\")","v":""},{"$f":"IF(NRI!E17<>\"\",NRI!E17,\"\")","v":""},{"$f":"IF(NRI!F17<>\"\",NRI!F17,\"\")","v":""},{"$f":"IF(NRI!G17<>\"\",NRI!G17,\"\")","v":""},{"$f":"IF(NRI!H17<>\"\",NRI!H17,\"\")","v":""},{"$f":"IF(NRI!I17<>\"\",NRI!I17,\"\")","v":""},{"$f":"IF(NRI!J17<>\"\",NRI!J17,\"\")","v":""},{"$f":"IF(NRI!K17<>\"\",NRI!K17,\"\")","v":""},{"$f":"IF(NRI!L17<>\"\",NRI!L17,\"\")","v":""},{"$f":"IF(NRI!M17<>\"\",NRI!M17,\"\")","v":""}]
[2000,{"$f":"IF(NRI!B18<>\"\",NRI!B18,\"\")","v":""},{"$f":"IF(NRI!C18<>\"\",NRI!C18,\"\")","v":""},{"$f":"IF(NRI!D18<>\"\",NRI!D18,\"\")","v":""},{"$f":"IF(NRI!E18<>\"\",NRI!E18,\"\")","v":""},{"$f":"IF(NRI!F18<>\"\",NRI!F18,\"\")","v":""},{"$f":"IF(NRI!G18<>\"\",NRI!G18,\"\")","v":""},{"$f":"IF(NRI!H18<>\"\",NRI!H18,\"\")","v":""},{"$f":"IF(NRI!I18<>\"\",NRI!I18,\"\")","v":""},{"$f":"IF(NRI!J18<>\"\",NRI!J18,\"\")","v":""},{"$f":"IF(NRI!K18<>\"\",NRI!K18,\"\")","v":""},{"$f":"IF(NRI!L18<>\"\",NRI!L18,\"\")","v":""},{"$f":"IF(NRI!M18<>\"\",NRI!M18,\"\")","v":""}]
[2001,{"$f":"IF(NRI!B19<>\"\",NRI!B19,\"\")","v":""},{"$f":"IF(NRI!C19<>\"\",NRI!C19,\"\")","v":""},{"$f":"IF(NRI!D19<>\"\",NRI!D19,\"\")","v":""},{"$f":"IF(NRI!E19<>\"\",NRI!E19,\"\")","v":""},{"$f":"IF(NRI!F19<>\"\",NRI!F19,\"\")","v":""},{"$f":"IF(NRI!G19<>\"\",NRI!G19,\"\")","v":""},{"$f":"IF(NRI!H19<>\"\",NRI!H19,\"\")","v":""},{"$f":"IF(NRI!I19<>\"\",NRI!I19,\"\")","v":""},{"$f":"IF(NRI!J19<>\"\",NRI!J19,\"\")","v":""},{"$f":"IF(NRI!K19<>\"\",NRI!K19,\"\")","v":""},{"$f":"IF(NRI!L19<>\"\",NRI!L19,\"\")","v":""},{"$f":"IF(NRI!M19<>\"\",NRI!M19,\"\")","v":""}]
[2002,{"$f":"IF(NRI!B20<>\"\",NRI!B20,\"\")","v":""},{"$f":"IF(NRI!C20<>\"\",NRI!C20,\"\")","v":""},{"$f":"IF(NRI!D20<>\"\",NRI!D20,\"\")","v":""},{"$f":"IF(NRI!E20<>\"\",NRI!E20,\"\")","v":""},{"$f":"IF(NRI!F20<>\"\",NRI!F20,\"\")","v":""},{"$f":"IF(NRI!G20<>\"\",NRI!G20,\"\")","v":""},{"$f":"IF(NRI!H20<>\"\",NRI!H20,\"\")","v":""},{"$f":"IF(NRI!I20<>\"\",NRI!I20,\"\")","v":""},{"$f":"IF(NRI!J20<>\"\",NRI!J20,\"\")","v":""},{"$f":"IF(NRI!K20<>\"\",NRI!K20,\"\")","v":""},{"$f":"IF(NRI!L20<>\"\",NRI!L20,\"\")","v":""},{"$f":"IF(NRI!M20<>\"\",NRI!M20,\"\")","v":""}]
[2003,{"$f":"IF(NRI!B21<>\"\",NRI!B21,\"\")","v":""},{"$f":"IF(NRI!C21<>\"\",NRI!C21,\"\")","v":""},{"$f":"IF(NRI!D21<>\"\",NRI!D21,\"\")","v":""},{"$f":"IF(NRI!E21<>\"\",NRI!E21,\"\")","v":""},{"$f":"IF(NRI!F21<>\"\",NRI!F21,\"\")","v":""},{"$f":"IF(NRI!G21<>\"\",NRI!G21,\"\")","v":""},{"$f":"IF(NRI!H21<>\"\",NRI!H21,\"\")","v":""},{"$f":"IF(NRI!I21<>\"\",NRI!I21,\"\")","v":""},{"$f":"IF(NRI!J21<>\"\",NRI!J21,\"\")","v":""},{"$f":"IF(NRI!K21<>\"\",NRI!K21,\"\")","v":""},{"$f":"IF(NRI!L21<>\"\",NRI!L21,\"\")","v":""},{"$f":"IF(NRI!M21<>\"\",NRI!M21,\"\")","v":""}]
[2004,{"$f":"IF(NRI!B22<>\"\",NRI!B22,\"\")","v":""},{"$f":"IF(NRI!C22<>\"\",NRI!C22,\"\")","v":""},{"$f":"IF(NRI!D22<>\"\",NRI!D22,\"\")","v":""},{"$f":"IF(NRI!E22<>\"\",NRI!E22,\"\")","v":""},{"$f":"IF(NRI!F22<>\"\",NRI!F22,\"\")","v":""},{"$f":"IF(NRI!G22<>\"\",NRI!G22,\"\")","v":""},{"$f":"IF(NRI!H22<>\"\",NRI!H22,\"\")","v":""},{"$f":"IF(NRI!I22<>\"\",NRI!I22,\"\")","v":""},{"$f":"IF(NRI!J22<>\"\",NRI!J22,\"\")","v":""},{"$f":"IF(NRI!K22<>\"\",NRI!K22,\"\")","v":""},{"$f":"IF(NRI!L22<>\"\",NRI!L22,\"\")","v":""},{"$f":"IF(NRI!M22<>\"\",NRI!M22,\"\")","v":""}]
[2005,{"$f":"IF(NRI!B23<>\"\",NRI!B23,\"\")","v":""},{"$f":"IF(NRI!C23<>\"\",NRI!C23,\"\")","v":""},{"$f":"IF(NRI!D23<>\"\",NRI!D23,\"\")","v":""},{"$f":"IF(NRI!E23<>\"\",NRI!E23,\"\")","v":""},{"$f":"IF(NRI!F23<>\"\",NRI!F23,\"\")","v":""},{"$f":"IF(NRI!G23<>\"\",NRI!G23,\"\")","v":""},{"$f":"IF(NRI!H23<>\"\",NRI!H23,\"\")","v":""},{"$f":"IF(NRI!I23<>\"\",NRI!I23,\"\")","v":""},{"$f":"IF(NRI!J23<>\"\",NRI!J23,\"\")","v":""},{"$f":"IF(NRI!K23<>\"\",NRI!K23,\"\")","v":""},{"$f":"IF(NRI!L23<>\"\",NRI!L23,\"\")","v":""},{"$f":"IF(NRI!M23<>\"\",NRI!M23,\"\")","v":""}]
[2006,{"$f":"IF(NRI!B24<>\"\",NRI!B24,\"\")","v":""},{"$f":"IF(NRI!C24<>\"\",NRI!C24,\"\")","v":""},{"$f":"IF(NRI!D24<>\"\",NRI!D24,\"\")","v":""},{"$f":"IF(NRI!E24<>\"\",NRI!E24,\"\")","v":""},{"$f":"IF(NRI!F24<>\"\",NRI!F24,\"\")","v":""},{"$f":"IF(NRI!G24<>\"\",NRI!G24,\"\")","v":""},{"$f":"IF(NRI!H24<>\"\",NRI!H24,\"\")","v":""},{"$f":"IF(NRI!I24<>\"\",NRI!I24,\"\")","v":""},{"$f":"IF(NRI!J24<>\"\",NRI!J24,\"\")","v":""},{"$f":"IF(NRI!K24<>\"\",NRI!K24,\"\")","v":""},{"$f":"IF(NRI!L24<>\"\",NRI!L24,\"\")","v":""},{"$f":"IF(NRI!M24<>\"\",NRI!M24,\"\")","v":""}]
[2007,{"$f":"IF(NRI!B25<>\"\",NRI!B25,\"\")","v":""},{"$f":"IF(NRI!C25<>\"\",NRI!C25,\"\")","v":""},{"$f":"IF(NRI!D25<>\"\",NRI!D25,\"\")","v":""},{"$f":"IF(NRI!E25<>\"\",NRI!E25,\"\")","v":""},{"$f":"IF(NRI!F25<>\"\",NRI!F25,\"\")","v":""},{"$f":"IF(NRI!G25<>\"\",NRI!G25,\"\")","v":""},{"$f":"IF(NRI!H25<>\"\",NRI!H25,\"\")","v":""},{"$f":"IF(NRI!I25<>\"\",NRI!I25,\"\")","v":""},{"$f":"IF(NRI!J25<>\"\",NRI!J25,\"\")","v":""},{"$f":"IF(NRI!K25<>\"\",NRI!K25,\"\")","v":""},{"$f":"IF(NRI!L25<>\"\",NRI!L25,\"\")","v":""},{"$f":"IF(NRI!M25<>\"\",NRI!M25,\"\")","v":""}]
[2008,{"$f":"IF(NRI!B26<>\"\",NRI!B26,\"\")","v":""},{"$f":"IF(NRI!C26<>\"\",NRI!C26,\"\")","v":""},{"$f":"IF(NRI!D26<>\"\",NRI!D26,\"\")","v":""},{"$f":"IF(NRI!E26<>\"\",NRI!E26,\"\")","v":""},{"$f":"IF(NRI!F26<>\"\",NRI!F26,\"\")","v":""},{"$f":"IF(NRI!G26<>\"\",NRI!G26,\"\")","v":""},{"$f":"IF(NRI!H26<>\"\",NRI!H26,\"\")","v":""},{"$f":"IF(NRI!I26<>\"\",NRI!I26,\"\")","v":""},{"$f":"IF(NRI!J26<>\"\",NRI!J26,\"\")","v":""},{"$f":"IF(NRI!K26<>\"\",NRI!K26,\"\")","v":""},{"$f":"IF(NRI!L26<>\"\",NRI!L26,\"\")","v":""},{"$f":"IF(NRI!M26<>\"\",NRI!M26,\"\")","v":""}]
[2009,{"$f":"IF(NRI!B27<>\"\",NRI!B27,\"\")","v":""},{"$f":"IF(NRI!C27<>\"\",NRI!C27,\"\")","v":""},{"$f":"IF(NRI!D27<>\"\",NRI!D27,\"\")","v":""},{"$f":"IF(NRI!E27<>\"\",NRI!E27,\"\")","v":""},{"$f":"IF(NRI!F27<>\"\",NRI!F27,\"\")","v":""},{"$f":"IF(NRI!G27<>\"\",NRI!G27,\"\")","v":""},{"$f":"IF(NRI!H27<>\"\",NRI!H27,\"\")","v":""},{"$f":"IF(NRI!I27<>\"\",NRI!I27,\"\")","v":""},{"$f":"IF(NRI!J27<>\"\",NRI!J27,\"\")","v":""},{"$f":"IF(NRI!K27<>\"\",NRI!K27,\"\")","v":""},{"$f":"IF(NRI!L27<>\"\",NRI!L27,\"\")","v":""},{"$f":"IF(NRI!M27<>\"\",NRI!M27,\"\")","v":""}]
[2010,{"$f":"IF(NRI!B28<>\"\",NRI!B28,\"\")","v":""},{"$f":"IF(NRI!C28<>\"\",NRI!C28,\"\")","v":""},{"$f":"IF(NRI!D28<>\"\",NRI!D28,\"\")","v":""},{"$f":"IF(NRI!E28<>\"\",NRI!E28,\"\")","v":""},{"$f":"IF(NRI!F28<>\"\",NRI!F28,\"\")","v":""},{"$f":"IF(NRI!G28<>\"\",NRI!G28,\"\")","v":""},{"$f":"IF(NRI!H28<>\"\",NRI!H28,\"\")","v":""},{"$f":"IF(NRI!I28<>\"\",NRI!I28,\"\")","v":""},{"$f":"IF(NRI!J28<>\"\",NRI!J28,\"\")","v":""},{"$f":"IF(NRI!K28<>\"\",NRI!K28,\"\")","v":""},{"$f":"IF(NRI!L28<>\"\",NRI!L28,\"\")","v":""},{"$f":"IF(NRI!M28<>\"\",NRI!M28,\"\")","v":""}]
[2011,{"$f":"IF(NRI!B29<>\"\",NRI!B29,\"\")","v":""},{"$f":"IF(NRI!C29<>\"\",NRI!C29,\"\")","v":""},{"$f":"IF(NRI!D29<>\"\",NRI!D29,\"\")","v":""},{"$f":"IF(NRI!E29<>\"\",NRI!E29,\"\")","v":""},{"$f":"IF(NRI!F29<>\"\",NRI!F29,\"\")","v":""},{"$f":"IF(NRI!G29<>\"\",NRI!G29,\"\")","v":""},{"$f":"IF(NRI!H29<>\"\",NRI!H29,\"\")","v":""},{"$f":"IF(NRI!I29<>\"\",NRI!I29,\"\")","v":""},{"$f":"IF(NRI!J29<>\"\",NRI!J29,\"\")","v":""},{"$f":"IF(NRI!K29<>\"\",NRI!K29,\"\")","v":""},{"$f":"IF(NRI!L29<>\"\",NRI!L29,\"\")","v":""},{"$f":"IF(NRI!M29<>\"\",NRI!M29,\"\")","v":""}]
[2012,{"$f":"IF(NRI!B30<>\"\",NRI!B30,\"\")","v":""},{"$f":"IF(NRI!C30<>\"\",NRI!C30,\"\")","v":""},{"$f":"IF(NRI!D30<>\"\",NRI!D30,\"\")","v":""},{"$f":"IF(NRI!E30<>\"\",NRI!E30,\"\")","v":""},{"$f":"IF(NRI!F30<>\"\",NRI!F30,\"\")","v":""},{"$f":"IF(NRI!G30<>\"\",NRI!G30,\"\")","v":""},{"$f":"IF(NRI!H30<>\"\",NRI!H30,\"\")","v":""},{"$f":"IF(NRI!I30<>\"\",NRI!I30,\"\")","v":""},{"$f":"IF(NRI!J30<>\"\",NRI!J30,\"\")","v":""},{"$f":"IF(NRI!K30<>\"\",NRI!K30,\"\")","v":""},{"$f":"IF(NRI!L30<>\"\",NRI!L30,\"\")","v":""},{"$f":"IF(NRI!M30<>\"\",NRI!M30,\"\")","v":""}]
[2013,{"$f":"IF(NRI!B31<>\"\",NRI!B31,\"\")","v":""},{"$f":"IF(NRI!C31<>\"\",NRI!C31,\"\")","v":""},{"$f":"IF(NRI!D31<>\"\",NRI!D31,\"\")","v":""},{"$f":"IF(NRI!E31<>\"\",NRI!E31,\"\")","v":""},{"$f":"IF(NRI!F31<>\"\",NRI!F31,\"\")","v":""},{"$f":"IF(NRI!G31<>\"\",NRI!G31,\"\")","v":""},{"$f":"IF(NRI!H31<>\"\",NRI!H31,\"\")","v":""},{"$f":"IF(NRI!I31<>\"\",NRI!I31,\"\")","v":""},{"$f":"IF(NRI!J31<>\"\",NRI!J31,\"\")","v":""},{"$f":"IF(NRI!K31<>\"\",NRI!K31,\"\")","v":""},{"$f":"IF(NRI!L31<>\"\",NRI!L31,\"\")","v":""},{"$f":"IF(NRI!M31<>\"\",NRI!M31,\"\")","v":""}]
[2014,{"$f":"IF(NRI!B32<>\"\",NRI!B32,\"\")","v":""},{"$f":"IF(NRI!C32<>\"\",NRI!C32,\"\")","v":""},{"$f":"IF(NRI!D32<>\"\",NRI!D32,\"\")","v":""},{"$f":"IF(NRI!E32<>\"\",NRI!E32,\"\")","v":""},{"$f":"IF(NRI!F32<>\"\",NRI!F32,\"\")","v":""},{"$f":"IF(NRI!G32<>\"\",NRI!G32,\"\")","v":""},{"$f":"IF(NRI!H32<>\"\",NRI!H32,\"\")","v":""},{"$f":"IF(NRI!I32<>\"\",NRI!I32,\"\")","v":""},{"$f":"IF(NRI!J32<>\"\",NRI!J32,\"\")","v":""},{"$f":"IF(NRI!K32<>\"\",NRI!K32,\"\")","v":""},{"$f":"IF(NRI!L32<>\"\",NRI!L32,\"\")","v":""},{"$f":"IF(NRI!M32<>\"\",NRI!M32,\"\")","v":""}]
[2015,{"$f":"IF(NRI!B33<>\"\",NRI!B33,\"\")","v":""},{"$f":"IF(NRI!C33<>\"\",NRI!C33,\"\")","v":""},{"$f":"IF(NRI!D33<>\"\",NRI!D33,\"\")","v":""},{"$f":"IF(NRI!E33<>\"\",NRI!E33,\"\")","v":""},{"$f":"IF(NRI!F33<>\"\",NRI!F33,\"\")","v":""},{"$f":"IF(NRI!G33<>\"\",NRI!G33,\"\")","v":""},{"$f":"IF(NRI!H33<>\"\",NRI!H33,\"\")","v":""},{"$f":"IF(NRI!I33<>\"\",NRI!I33,\"\")","v":""},{"$f":"IF(NRI!J33<>\"\",NRI!J33,\"\")","v":""},{"$f":"IF(NRI!K33<>\"\",NRI!K33,\"\")","v":""},{"$f":"IF(NRI!L33<>\"\",NRI!L33,\"\")","v":""},{"$f":"IF(NRI!M33<>\"\",NRI!M33,\"\")","v":""}]
[2016,{"$f":"IF(NRI!B34<>\"\",NRI!B34,\"\")","v":""},{"$f":"IF(NRI!C34<>\"\",NRI!C34,\"\")","v":""},{"$f":"IF(NRI!D34<>\"\",NRI!D34,\"\")","v":""},{"$f":"IF(NRI!E34<>\"\",NRI!E34,\"\")","v":""},{"$f":"IF(NRI!F34<>\"\",NRI!F34,\"\")","v":""},{"$f":"IF(NRI!G34<>\"\",NRI!G34,\"\")","v":""},{"$f":"IF(NRI!H34<>\"\",NRI!H34,\"\")","v":""},{"$f":"IF(NRI!I34<>\"\",NRI!I34,\"\")","v":""},{"$f":"IF(NRI!J34<>\"\",NRI!J34,\"\")","v":""},{"$f":"IF(NRI!K34<>\"\",NRI!K34,\"\")","v":""},{"$f":"IF(NRI!L34<>\"\",NRI!L34,\"\")","v":""},{"$f":"IF(NRI!M34<>\"\",NRI!M34,\"\")","v":""}]
[2017,{"$f":"IF(NRI!B35<>\"\",NRI!B35,\"\")","v":""},{"$f":"IF(NRI!C35<>\"\",NRI!C35,\"\")","v":""},{"$f":"IF(NRI!D35<>\"\",NRI!D35,\"\")","v":""},{"$f":"IF(NRI!E35<>\"\",NRI!E35,\"\")","v":""},{"$f":"IF(NRI!F35<>\"\",NRI!F35,\"\")","v":""},{"$f":"IF(NRI!G35<>\"\",NRI!G35,\"\")","v":""},{"$f":"IF(NRI!H35<>\"\",NRI!H35,\"\")","v":""},{"$f":"IF(NRI!I35<>\"\",NRI!I35,\"\")","v":""},{"$f":"IF(NRI!J35<>\"\",NRI!J35,\"\")","v":""},{"$f":"IF(NRI!K35<>\"\",NRI!K35,\"\")","v":""},{"$f":"IF(NRI!L35<>\"\",NRI!L35,\"\")","v":""},{"$f":"IF(NRI!M35<>\"\",NRI!M35,\"\")","v":""}]
[2018,{"$f":"IF(NRI!B36<>\"\",NRI!B36,\"\")","v":""},{"$f":"IF(NRI!C36<>\"\",NRI!C36,\"\")","v":""},{"$f":"IF(NRI!D36<>\"\",NRI!D36,\"\")","v":""},{"$f":"IF(NRI!E36<>\"\",NRI!E36,\"\")","v":""},{"$f":"IF(NRI!F36<>\"\",NRI!F36,\"\")","v":""},{"$f":"IF(NRI!G36<>\"\",NRI!G36,\"\")","v":""},{"$f":"IF(NRI!H36<>\"\",NRI!H36,\"\")","v":""},{"$f":"IF(NRI!I36<>\"\",NRI!I36,\"\")","v":""},{"$f":"IF(NRI!J36<>\"\",NRI!J36,\"\")","v":""},{"$f":"IF(NRI!K36<>\"\",NRI!K36,\"\")","v":""},{"$f":"IF(NRI!L36<>\"\",NRI!L36,\"\")","v":""},{"$f":"IF(NRI!M36<>\"\",NRI!M36,\"\")","v":""}]
[{"$f":"A36+1","v":2019},{"$f":"IF(NRI!B37<>\"\",NRI!B37,\"\")","v":""},{"$f":"IF(NRI!C37<>\"\",NRI!C37,\"\")","v":""},{"$f":"IF(NRI!D37<>\"\",NRI!D37,\"\")","v":""},{"$f":"IF(NRI!E37<>\"\",NRI!E37,\"\")","v":""},{"$f":"IF(NRI!F37<>\"\",NRI!F37,\"\")","v":""},{"$f":"IF(NRI!G37<>\"\",NRI!G37,\"\")","v":""},{"$f":"IF(NRI!H37<>\"\",NRI!H37,\"\")","v":""},{"$f":"IF(NRI!I37<>\"\",NRI!I37,\"\")","v":""},{"$f":"IF(NRI!J37<>\"\",NRI!J37,\"\")","v":""},{"$f":"IF(NRI!K37<>\"\",NRI!K37,\"\")","v":""},{"$f":"IF(NRI!L37<>\"\",NRI!L37,\"\")","v":""},{"$f":"IF(NRI!M37<>\"\",NRI!M37,\"\")","v":""}]
[2020,{"$f":"IF(NRI!B38<>\"\",NRI!B38,\"\")","v":""},{"$f":"IF(NRI!C38<>\"\",NRI!C38,\"\")","v":""},{"$f":"IF(NRI!D38<>\"\",NRI!D38,\"\")","v":""},{"$f":"IF(NRI!E38<>\"\",NRI!E38,\"\")","v":""},{"$f":"IF(NRI!F38<>\"\",NRI!F38,\"\")","v":""},{"$f":"IF(NRI!G38<>\"\",NRI!G38,\"\")","v":""},{"$f":"IF(NRI!H38<>\"\",NRI!H38,\"\")","v":""},{"$f":"IF(NRI!I38<>\"\",NRI!I38,\"\")","v":""},{"$f":"IF(NRI!J38<>\"\",NRI!J38,\"\")","v":""},{"$f":"IF(NRI!K38<>\"\",NRI!K38,\"\")","v":""},{"$f":"IF(NRI!L38<>\"\",NRI!L38,\"\")","v":""},{"$f":"IF(NRI!M38<>\"\",NRI!M38,\"\")","v":""}]
[2021,{"$f":"IF(NRI!B39<>\"\",NRI!B39,\"\")","v":""},{"$f":"IF(NRI!C39<>\"\",NRI!C39,\"\")","v":""},{"$f":"IF(NRI!D39<>\"\",NRI!D39,\"\")","v":""},{"$f":"IF(NRI!E39<>\"\",NRI!E39,\"\")","v":""},{"$f":"IF(NRI!F39<>\"\",NRI!F39,\"\")","v":""},{"$f":"IF(NRI!G39<>\"\",NRI!G39,\"\")","v":""},{"$f":"IF(NRI!H39<>\"\",NRI!H39,\"\")","v":""},{"$f":"IF(NRI!I39<>\"\",NRI!I39,\"\")","v":""},{"$f":"IF(NRI!J39<>\"\",NRI!J39,\"\")","v":""},{"$f":"IF(NRI!K39<>\"\",NRI!K39,\"\")","v":""},{"$f":"IF(NRI!L39<>\"\",NRI!L39,\"\")","v":""},{"$f":"IF(NRI!M39<>\"\",NRI!M39,\"\")","v":""}]
[2022,{"$f":"IF(NRI!B40<>\"\",NRI!B40,\"\")","v":""},{"$f":"IF(NRI!C40<>\"\",NRI!C40,\"\")","v":""},{"$f":"IF(NRI!D40<>\"\",NRI!D40,\"\")","v":""},{"$f":"IF(NRI!E40<>\"\",NRI!E40,\"\")","v":""},{"$f":"IF(NRI!F40<>\"\",NRI!F40,\"\")","v":""},{"$f":"IF(NRI!G40<>\"\",NRI!G40,\"\")","v":""},{"$f":"IF(NRI!H40<>\"\",NRI!H40,\"\")","v":""},{"$f":"IF(NRI!I40<>\"\",NRI!I40,\"\")","v":""},{"$f":"IF(NRI!J40<>\"\",NRI!J40,\"\")","v":""},{"$f":"IF(NRI!K40<>\"\",NRI!K40,\"\")","v":""},{"$f":"IF(NRI!L40<>\"\",NRI!L40,\"\")","v":""},{"$f":"IF(NRI!M40<>\"\",NRI!M40,\"\")","v":""}]
[2023,{"$f":"IF(NRI!B41<>\"\",NRI!B41,\"\")","v":""},{"$f":"IF(NRI!C41<>\"\",NRI!C41,\"\")","v":""},{"$f":"IF(NRI!D41<>\"\",NRI!D41,\"\")","v":""},{"$f":"IF(NRI!E41<>\"\",NRI!E41,\"\")","v":""},{"$f":"IF(NRI!F41<>\"\",NRI!F41,\"\")","v":""},{"$f":"IF(NRI!G41<>\"\",NRI!G41,\"\")","v":""},{"$f":"IF(NRI!H41<>\"\",NRI!H41,\"\")","v":""},{"$f":"IF(NRI!I41<>\"\",NRI!I41,\"\")","v":""},{"$f":"IF(NRI!J41<>\"\",NRI!J41,\"\")","v":""},{"$f":"IF(NRI!K41<>\"\",NRI!K41,\"\")","v":""},{"$f":"IF(NRI!L41<>\"\",NRI!L41,\"\")","v":""},{"$f":"IF(NRI!M41<>\"\",NRI!M41,\"\")","v":""}]
[2024,{"$f":"IF(NRI!B42<>\"\",NRI!B42,\"\")","v":""},{"$f":"IF(NRI!C42<>\"\",NRI!C42,\"\")","v":""},{"$f":"IF(NRI!D42<>\"\",NRI!D42,\"\")","v":""},{"$f":"IF(NRI!E42<>\"\",NRI!E42,\"\")","v":""},{"$f":"IF(NRI!F42<>\"\",NRI!F42,\"\")","v":""},{"$f":"IF(NRI!G42<>\"\",NRI!G42,\"\")","v":""},{"$f":"IF(NRI!H42<>\"\",NRI!H42,\"\")","v":""},{"$f":"IF(NRI!I42<>\"\",NRI!I42,\"\")","v":""},{"$f":"IF(NRI!J42<>\"\",NRI!J42,\"\")","v":""},{"$f":"IF(NRI!K42<>\"\",NRI!K42,\"\")","v":""},{"$f":"IF(NRI!L42<>\"\",NRI!L42,\"\")","v":""},{"$f":"IF(NRI!M42<>\"\",NRI!M42,\"\")","v":""}]
[2025,{"$f":"IF(NRI!B43<>\"\",NRI!B43,\"\")","v":""},{"$f":"IF(NRI!C43<>\"\",NRI!C43,\"\")","v":""},{"$f":"IF(NRI!D43<>\"\",NRI!D43,\"\")","v":""},{"$f":"IF(NRI!E43<>\"\",NRI!E43,\"\")","v":""},{"$f":"IF(NRI!F43<>\"\",NRI!F43,\"\")","v":""},{"$f":"IF(NRI!G43<>\"\",NRI!G43,\"\")","v":""},{"$f":"IF(NRI!H43<>\"\",NRI!H43,\"\")","v":""},{"$f":"IF(NRI!I43<>\"\",NRI!I43,\"\")","v":""},{"$f":"IF(NRI!J43<>\"\",NRI!J43,\"\")","v":""},{"$f":"IF(NRI!K43<>\"\",NRI!K43,\"\")","v":""},{"$f":"IF(NRI!L43<>\"\",NRI!L43,\"\")","v":""},{"$f":"IF(NRI!M43<>\"\",NRI!M43,\"\")","v":""}]
[2026,{"$f":"IF(NRI!B44<>\"\",NRI!B44,\"\")","v":""},{"$f":"IF(NRI!C44<>\"\",NRI!C44,\"\")","v":""},{"$f":"IF(NRI!D44<>\"\",NRI!D44,\"\")","v":""},{"$f":"IF(NRI!E44<>\"\",NRI!E44,\"\")","v":""},{"$f":"IF(NRI!F44<>\"\",NRI!F44,\"\")","v":""},{"$f":"IF(NRI!G44<>\"\",NRI!G44,\"\")","v":""},{"$f":"IF(NRI!H44<>\"\",NRI!H44,\"\")","v":""},{"$f":"IF(NRI!I44<>\"\",NRI!I44,\"\")","v":""},{"$f":"IF(NRI!J44<>\"\",NRI!J44,\"\")","v":""},{"$f":"IF(NRI!K44<>\"\",NRI!K44,\"\")","v":""},{"$f":"IF(NRI!L44<>\"\",NRI!L44,\"\")","v":""},{"$f":"IF(NRI!M44<>\"\",NRI!M44,\"\")","v":""}]
[2027,{"$f":"IF(NRI!B45<>\"\",NRI!B45,\"\")","v":""},{"$f":"IF(NRI!C45<>\"\",NRI!C45,\"\")","v":""},{"$f":"IF(NRI!D45<>\"\",NRI!D45,\"\")","v":""},{"$f":"IF(NRI!E45<>\"\",NRI!E45,\"\")","v":""},{"$f":"IF(NRI!F45<>\"\",NRI!F45,\"\")","v":""},{"$f":"IF(NRI!G45<>\"\",NRI!G45,\"\")","v":""},{"$f":"IF(NRI!H45<>\"\",NRI!H45,\"\")","v":""},{"$f":"IF(NRI!I45<>\"\",NRI!I45,\"\")","v":""},{"$f":"IF(NRI!J45<>\"\",NRI!J45,\"\")","v":""},{"$f":"IF(NRI!K45<>\"\",NRI!K45,\"\")","v":""},{"$f":"IF(NRI!L45<>\"\",NRI!L45,\"\")","v":""},{"$f":"IF(NRI!M45<>\"\",NRI!M45,\"\")","v":""}]
[2028,{"$f":"IF(NRI!B46<>\"\",NRI!B46,\"\")","v":""},{"$f":"IF(NRI!C46<>\"\",NRI!C46,\"\")","v":""},{"$f":"IF(NRI!D46<>\"\",NRI!D46,\"\")","v":""},{"$f":"IF(NRI!E46<>\"\",NRI!E46,\"\")","v":""},{"$f":"IF(NRI!F46<>\"\",NRI!F46,\"\")","v":""},{"$f":"IF(NRI!G46<>\"\",NRI!G46,\"\")","v":""},{"$f":"IF(NRI!H46<>\"\",NRI!H46,\"\")","v":""},{"$f":"IF(NRI!I46<>\"\",NRI!I46,\"\")","v":""},{"$f":"IF(NRI!J46<>\"\",NRI!J46,\"\")","v":""},{"$f":"IF(NRI!K46<>\"\",NRI!K46,\"\")","v":""},{"$f":"IF(NRI!L46<>\"\",NRI!L46,\"\")","v":""},{"$f":"IF(NRI!M46<>\"\",NRI!M46,\"\")","v":""}]
[2029,{"$f":"IF(NRI!B47<>\"\",NRI!B47,\"\")","v":""},{"$f":"IF(NRI!C47<>\"\",NRI!C47,\"\")","v":""},{"$f":"IF(NRI!D47<>\"\",NRI!D47,\"\")","v":""},{"$f":"IF(NRI!E47<>\"\",NRI!E47,\"\")","v":""},{"$f":"IF(NRI!F47<>\"\",NRI!F47,\"\")","v":""},{"$f":"IF(NRI!G47<>\"\",NRI!G47,\"\")","v":""},{"$f":"IF(NRI!H47<>\"\",NRI!H47,\"\")","v":""},{"$f":"IF(NRI!I47<>\"\",NRI!I47,\"\")","v":""},{"$f":"IF(NRI!J47<>\"\",NRI!J47,\"\")","v":""},{"$f":"IF(NRI!K47<>\"\",NRI!K47,\"\")","v":""},{"$f":"IF(NRI!L47<>\"\",NRI!L47,\"\")","v":""},{"$f":"IF(NRI!M47<>\"\",NRI!M47,\"\")","v":""}]
[2030,{"$f":"IF(NRI!B48<>\"\",NRI!B48,\"\")","v":""},{"$f":"IF(NRI!C48<>\"\",NRI!C48,\"\")","v":""},{"$f":"IF(NRI!D48<>\"\",NRI!D48,\"\")","v":""},{"$f":"IF(NRI!E48<>\"\",NRI!E48,\"\")","v":""},{"$f":"IF(NRI!F48<>\"\",NRI!F48,\"\")","v":""},{"$f":"IF(NRI!G48<>\"\",NRI!G48,\"\")","v":""},{"$f":"IF(NRI!H48<>\"\",NRI!H48,\"\")","v":""},{"$f":"IF(NRI!I48<>\"\",NRI!I48,\"\")","v":""},{"$f":"IF(NRI!J48<>\"\",NRI!J48,\"\")","v":""},{"$f":"IF(NRI!K48<>\"\",NRI!K48,\"\")","v":""},{"$f":"IF(NRI!L48<>\"\",NRI!L48,\"\")","v":""},{"$f":"IF(NRI!M48<>\"\",NRI!M48,\"\")","v":""}]
[2031,{"$f":"IF(NRI!B49<>\"\",NRI!B49,\"\")","v":""},{"$f":"IF(NRI!C49<>\"\",NRI!C49,\"\")","v":""},{"$f":"IF(NRI!D49<>\"\",NRI!D49,\"\")","v":""},{"$f":"IF(NRI!E49<>\"\",NRI!E49,\"\")","v":""},{"$f":"IF(NRI!F49<>\"\",NRI!F49,\"\")","v":""},{"$f":"IF(NRI!G49<>\"\",NRI!G49,\"\")","v":""},{"$f":"IF(NRI!H49<>\"\",NRI!H49,\"\")","v":""},{"$f":"IF(NRI!I49<>\"\",NRI!I49,\"\")","v":""},{"$f":"IF(NRI!J49<>\"\",NRI!J49,\"\")","v":""},{"$f":"IF(NRI!K49<>\"\",NRI!K49,\"\")","v":""},{"$f":"IF(NRI!L49<>\"\",NRI!L49,\"\")","v":""},{"$f":"IF(NRI!M49<>\"\",NRI!M49,\"\")","v":""}]
[2032,{"$f":"IF(NRI!B50<>\"\",NRI!B50,\"\")","v":""},{"$f":"IF(NRI!C50<>\"\",NRI!C50,\"\")","v":""},{"$f":"IF(NRI!D50<>\"\",NRI!D50,\"\")","v":""},{"$f":"IF(NRI!E50<>\"\",NRI!E50,\"\")","v":""},{"$f":"IF(NRI!F50<>\"\",NRI!F50,\"\")","v":""},{"$f":"IF(NRI!G50<>\"\",NRI!G50,\"\")","v":""},{"$f":"IF(NRI!H50<>\"\",NRI!H50,\"\")","v":""},{"$f":"IF(NRI!I50<>\"\",NRI!I50,\"\")","v":""},{"$f":"IF(NRI!J50<>\"\",NRI!J50,\"\")","v":""},{"$f":"IF(NRI!K50<>\"\",NRI!K50,\"\")","v":""},{"$f":"IF(NRI!L50<>\"\",NRI!L50,\"\")","v":""},{"$f":"IF(NRI!M50<>\"\",NRI!M50,\"\")","v":""}]
[2033,{"$f":"IF(NRI!B51<>\"\",NRI!B51,\"\")","v":""},{"$f":"IF(NRI!C51<>\"\",NRI!C51,\"\")","v":""},{"$f":"IF(NRI!D51<>\"\",NRI!D51,\"\")","v":""},{"$f":"IF(NRI!E51<>\"\",NRI!E51,\"\")","v":""},{"$f":"IF(NRI!F51<>\"\",NRI!F51,\"\")","v":""},{"$f":"IF(NRI!G51<>\"\",NRI!G51,\"\")","v":""},{"$f":"IF(NRI!H51<>\"\",NRI!H51,\"\")","v":""},{"$f":"IF(NRI!I51<>\"\",NRI!I51,\"\")","v":""},{"$f":"IF(NRI!J51<>\"\",NRI!J51,\"\")","v":""},{"$f":"IF(NRI!K51<>\"\",NRI!K51,\"\")","v":""},{"$f":"IF(NRI!L51<>\"\",NRI!L51,\"\")","v":""},{"$f":"IF(NRI!M51<>\"\",NRI!M51,\"\")","v":""}]
[2034,{"$f":"IF(NRI!B52<>\"\",NRI!B52,\"\")","v":""},{"$f":"IF(NRI!C52<>\"\",NRI!C52,\"\")","v":""},{"$f":"IF(NRI!D52<>\"\",NRI!D52,\"\")","v":""},{"$f":"IF(NRI!E52<>\"\",NRI!E52,\"\")","v":""},{"$f":"IF(NRI!F52<>\"\",NRI!F52,\"\")","v":""},{"$f":"IF(NRI!G52<>\"\",NRI!G52,\"\")","v":""},{"$f":"IF(NRI!H52<>\"\",NRI!H52,\"\")","v":""},{"$f":"IF(NRI!I52<>\"\",NRI!I52,\"\")","v":""},{"$f":"IF(NRI!J52<>\"\",NRI!J52,\"\")","v":""},{"$f":"IF(NRI!K52<>\"\",NRI!K52,\"\")","v":""},{"$f":"IF(NRI!L52<>\"\",NRI!L52,\"\")","v":""},{"$f":"IF(NRI!M52<>\"\",NRI!M52,\"\")","v":""}]
[2035,{"$f":"IF(NRI!B53<>\"\",NRI!B53,\"\")","v":""},{"$f":"IF(NRI!C53<>\"\",NRI!C53,\"\")","v":""},{"$f":"IF(NRI!D53<>\"\",NRI!D53,\"\")","v":""},{"$f":"IF(NRI!E53<>\"\",NRI!E53,\"\")","v":""},{"$f":"IF(NRI!F53<>\"\",NRI!F53,\"\")","v":""},{"$f":"IF(NRI!G53<>\"\",NRI!G53,\"\")","v":""},{"$f":"IF(NRI!H53<>\"\",NRI!H53,\"\")","v":""},{"$f":"IF(NRI!I53<>\"\",NRI!I53,\"\")","v":""},{"$f":"IF(NRI!J53<>\"\",NRI!J53,\"\")","v":""},{"$f":"IF(NRI!K53<>\"\",NRI!K53,\"\")","v":""},{"$f":"IF(NRI!L53<>\"\",NRI!L53,\"\")","v":""},{"$f":"IF(NRI!M53<>\"\",NRI!M53,\"\")","v":""}]
["Mean",{"$f":"AVERAGE(B4:B53)","v":{"$error":"#DIV/0!"}},{"$error":"#DIV/0!"},{"$error":"#DIV/0!"},{"$error":"#DIV/0!"},{"$error":"#DIV/0!"},{"$error":"#DIV/0!"},{"$error":"#DIV/0!"},{"$error":"#DIV/0!"},{"$error":"#DIV/0!"},{"$error":"#DIV/0!"},{"$error":"#DIV/0!"},{"$error":"#DIV/0!"}]
[]
[]
[]
[2,"กราฟแบ่งฤดู"]
[]
[]
[]
[]
[]
[]
[]
[]
[]
[]
[]
[]
[]
[]
[]
[]
[]
[]
[]
[]
[null,3,"(ค่าเท่ากับเดือนนั้นๆโดยตรง)",null,null,null,null,4,"(บวกสะสมจากเดือนนั้นๆจนถึงสิ้นเดือนฤดูแล้ง)",null,null,null,null,null,null,null,null,5,"(ค่าของขั้นที่4 คูณ -1)"]
[null,"NRI of Upper Rule Curve",null,null,null,null,null,"SumNRI of Lower Rule Curve",null,null,null,null,null,null,null,null,null,"-SumNRI of Lower Rule Curve"]
["Year/Month"]
[{"$f":"A4","v":1986}]
[1987]
[1988]
[1989]
[1990]
[1991]
[1992]
[1993]
[1994]
[1995]
[1996]
[1997]
[1998]
[1999]
[2000]
[2001]
[2002]
[2003]
[2004]
[2005]
[2006]
[2007]
[2008]
[2009]
[2010]
[2011]
[2012]
[2013]
[2014]
[2015]
[2016]
[2017]
[{"$f":"A36","v":2018}]
[2019]
[2020]
[2021]
[2022]
[2023]
[2024]
[2025]
[2026]
[2027]
[2028]
[2029]
[2030]
[2031]
[2032]
[2033]
[2034]
[2035]
[]
[6,"ใส่ NRI รายเดือน"]
[null,null,"ม.ค.","ก.พ.","มี.ค.","เม.ย.","พ.ค.","มิ.ย.","ก.ค.","ส.ค.","ก.ย.","ต.ค.","พ.ย.","ธ.ค."]
["ปี ค.ศ.","ปี พ.ศ.","Jan","Feb","Mar","Apr","May","Jun","Jul","Aug","Sep","Oct","Nov","Dec"]
[{"$f":"A4","v":1986},{"$f":"A136+543","v":2529}]
[{"$f":"A136+1","v":1987},2530]
[1988,2531]
[1989,2532]
[1990,2533]
[1991,2534]
[1992,2535]
[1993,2536]
[1994,2537]
[1995,2538]
[1996,2539]
[1997,2540]
[1998,2541]
[1999,2542]
[2000,2543]
[2001,2544]
[2002,2545]
[2003,2546]
[2004,2547]
[2005,2548]
[2006,2549]
[2007,2550]
[2008,2551]
[2009,2552]
[2010,2553]
[2011,2554]
[2012,2555]
[2013,2556]
[2014,2557]
[2015,2558]
[2016,2559]
[2017,2560]
[2018,2561]
[2019,2562]
[2020,2563]
[2021,2564]
[2022,2565]
[2023,2566]
[2024,2567]

{"sheet":"ม.ค.","index":9,"n_rows":131,"n_cols":16,"rows_kept":131,"cut":false,"hidden":true,"merged":[[125,9,125,12],[60,7,61,12],[63,4,63,14],[67,4,67,5],[88,1,88,3],[93,11,94,11],[93,12,94,12],[93,13,94,13],[66,10,66,11],[93,9,94,9],[93,10,94,10],[92,9,92,13]]}
[]
[null,"6. การหาค่าสถิติและการทดสอบความเหมาะสมของ Distribution Function กับข้อมูล Net Reservoir Inflow(NIR)",null,null,null,null,null,null,null,null,null,{"$f":"NRI!O1","v":0}]
[]
[null,1,"Jan","มกราคม"]
[null,null,null,null,"Empirical","GUMBEL",null,"NORMAL",null,null,"LOG-NORMAL"]
[null,"No.","NRI","(X)","F'(X)","F(x)","F'(X)-F(X)","Z","F(x)","F'(X)-F(X)","Y","F(x)","F'(X)-f(X)"]
[null,{"$f":"IF(1<='หา NRI'!$D$58,1,\"\")","v":1},{"$f":"IF(NRI!C82=\"\",\"\",NRI!C82)","v":""},{"$f":"IF(C7=\"\",\"\",SMALL(OFFSET($C$7,0,0,'หา NRI'!$D$58,1),B7))","v":""},{"$f":"IF(C7=\"\",\"\",B7/(COUNT($B$7:$B$57)+1))","v":""},{"$f":"IF(C7=\"\",\"\",EXP(-EXP(-(D7-$C$60)/$C$61)))","v":""},{"$f":"IF(C7=\"\",\"\",ABS(E7-F7))","v":""},{"$f":"IF(C7=\"\",\"\",(D7-$C$58)/$C$59)","v":""},{"$f":"IF(C7=\"\",\"\",NORMSDIST(H7))","v":""},{"$f":"IF(C7=\"\",\"\",ABS(E7-I7))","v":""},{"$f":"IF(C7=\"\",\"\",(LN(D7)))","v":""},{"$f":"IF(C7=\"\",\"\",(LOGNORMDIST(D7,$C$61,$C$62)))","v":""},{"$f":"IF(C7=\"\",\"\",(ABS(E7-L7)))","v":""}]
[null,{"$f":"IF(B7=\"\",\"\",IF(B7+1<='หา NRI'!$D$58,B7+1,\"\"))","v":2},{"$f":"IF(NRI!C83=\"\",\"\",NRI!C83)","v":""},{"$f":"IF(C8=\"\",\"\",SMALL(OFFSET($C$7,0,0,'หา NRI'!$D$58,1),B8))","v":""},{"$f":"IF(C8=\"\",\"\",B8/(COUNT($B$7:$B$57)+1))","v":""},{"$f":"IF(C8=\"\",\"\",EXP(-EXP(-(D8-$C$60)/$C$61)))","v":""},{"$f":"IF(C8=\"\",\"\",ABS(E8-F8))","v":""},{"$f":"IF(C8=\"\",\"\",(D8-$C$58)/$C$59)","v":""},{"$f":"IF(C8=\"\",\"\",NORMSDIST(H8))","v":""},{"$f":"IF(C8=\"\",\"\",ABS(E8-I8))","v":""},{"$f":"IF(C8=\"\",\"\",(LN(D8)))","v":""},{"$f":"IF(C8=\"\",\"\",(LOGNORMDIST(D8,$C$61,$C$62)))","v":""},{"$f":"IF(C8=\"\",\"\",(ABS(E8-L8)))","v":""}]
[null,{"$f":"IF(B8=\"\",\"\",IF(B8+1<='หา NRI'!$D$58,B8+1,\"\"))","v":3},{"$f":"IF(NRI!C84=\"\",\"\",NRI!C84)","v":""},{"$f":"IF(C9=\"\",\"\",SMALL(OFFSET($C$7,0,0,'หา NRI'!$D$58,1),B9))","v":""},"","","","","","","","",""]
[null,{"$f":"IF(B9=\"\",\"\",IF(B9+1<='หา NRI'!$D$58,B9+1,\"\"))","v":4},{"$f":"IF(NRI!C85=\"\",\"\",NRI!C85)","v":""},{"$f":"IF(C10=\"\",\"\",SMALL(OFFSET($C$7,0,0,'หา NRI'!$D$58,1),B10))","v":""},"","","","","","","","",""]
[null,{"$f":"IF(B10=\"\",\"\",IF(B10+1<='หา NRI'!$D$58,B10+1,\"\"))","v":""},{"$f":"IF(NRI!C86=\"\",\"\",NRI!C86)","v":""},{"$f":"IF(C11=\"\",\"\",SMALL(OFFSET($C$7,0,0,'หา NRI'!$D$58,1),B11))","v":""},"","","","","","","","",""]
[null,{"$f":"IF(B11=\"\",\"\",IF(B11+1<='หา NRI'!$D$58,B11+1,\"\"))","v":""},{"$f":"IF(NRI!C87=\"\",\"\",NRI!C87)","v":""},{"$f":"IF(C12=\"\",\"\",SMALL(OFFSET($C$7,0,0,'หา NRI'!$D$58,1),B12))","v":""},"","","","","","","","",""]
[null,{"$f":"IF(B12=\"\",\"\",IF(B12+1<='หา NRI'!$D$58,B12+1,\"\"))","v":""},{"$f":"IF(NRI!C88=\"\",\"\",NRI!C88)","v":""},{"$f":"IF(C13=\"\",\"\",SMALL(OFFSET($C$7,0,0,'หา NRI'!$D$58,1),B13))","v":""},"","","","","","","","",""]
[null,{"$f":"IF(B13=\"\",\"\",IF(B13+1<='หา NRI'!$D$58,B13+1,\"\"))","v":""},{"$f":"IF(NRI!C89=\"\",\"\",NRI!C89)","v":""},{"$f":"IF(C14=\"\",\"\",SMALL(OFFSET($C$7,0,0,'หา NRI'!$D$58,1),B14))","v":""},"","","","","","","","",""]
[null,{"$f":"IF(B14=\"\",\"\",IF(B14+1<='หา NRI'!$D$58,B14+1,\"\"))","v":""},{"$f":"IF(NRI!C90=\"\",\"\",NRI!C90)","v":""},{"$f":"IF(C15=\"\",\"\",SMALL(OFFSET($C$7,0,0,'หา NRI'!$D$58,1),B15))","v":""},"","","","","","","","",""]
[null,{"$f":"IF(B15=\"\",\"\",IF(B15+1<='หา NRI'!$D$58,B15+1,\"\"))","v":""},{"$f":"IF(NRI!C91=\"\",\"\",NRI!C91)","v":""},{"$f":"IF(C16=\"\",\"\",SMALL(OFFSET($C$7,0,0,'หา NRI'!$D$58,1),B16))","v":""},"","","","","","","","",""]
[null,{"$f":"IF(B16=\"\",\"\",IF(B16+1<='หา NRI'!$D$58,B16+1,\"\"))","v":""},{"$f":"IF(NRI!C92=\"\",\"\",NRI!C92)","v":""},{"$f":"IF(C17=\"\",\"\",SMALL(OFFSET($C$7,0,0,'หา NRI'!$D$58,1),B17))","v":""},"","","","","","","","",""]
[null,{"$f":"IF(B17=\"\",\"\",IF(B17+1<='หา NRI'!$D$58,B17+1,\"\"))","v":""},{"$f":"IF(NRI!C93=\"\",\"\",NRI!C93)","v":""},{"$f":"IF(C18=\"\",\"\",SMALL(OFFSET($C$7,0,0,'หา NRI'!$D$58,1),B18))","v":""},"","","","","","","","",""]
[null,{"$f":"IF(B18=\"\",\"\",IF(B18+1<='หา NRI'!$D$58,B18+1,\"\"))","v":""},{"$f":"IF(NRI!C94=\"\",\"\",NRI!C94)","v":""},{"$f":"IF(C19=\"\",\"\",SMALL(OFFSET($C$7,0,0,'หา NRI'!$D$58,1),B19))","v":""},"","","","","","","","",""]
[null,{"$f":"IF(B19=\"\",\"\",IF(B19+1<='หา NRI'!$D$58,B19+1,\"\"))","v":""},{"$f":"IF(NRI!C95=\"\",\"\",NRI!C95)","v":""},{"$f":"IF(C20=\"\",\"\",SMALL(OFFSET($C$7,0,0,'หา NRI'!$D$58,1),B20))","v":""},"","","","","","","","",""]
[null,{"$f":"IF(B20=\"\",\"\",IF(B20+1<='หา NRI'!$D$58,B20+1,\"\"))","v":""},{"$f":"IF(NRI!C96=\"\",\"\",NRI!C96)","v":""},{"$f":"IF(C21=\"\",\"\",SMALL(OFFSET($C$7,0,0,'หา NRI'!$D$58,1),B21))","v":""},"","","","","","","","",""]
[null,{"$f":"IF(B21=\"\",\"\",IF(B21+1<='หา NRI'!$D$58,B21+1,\"\"))","v":""},{"$f":"IF(NRI!C97=\"\",\"\",NRI!C97)","v":""},{"$f":"IF(C22=\"\",\"\",SMALL(OFFSET($C$7,0,0,'หา NRI'!$D$58,1),B22))","v":""},"","","","","","","","",""]
[null,{"$f":"IF(B22=\"\",\"\",IF(B22+1<='หา NRI'!$D$58,B22+1,\"\"))","v":""},{"$f":"IF(NRI!C98=\"\",\"\",NRI!C98)","v":""},{"$f":"IF(C23=\"\",\"\",SMALL(OFFSET($C$7,0,0,'หา NRI'!$D$58,1),B23))","v":""},"","","","","","","","",""]
[null,{"$f":"IF(B23=\"\",\"\",IF(B23+1<='หา NRI'!$D$58,B23+1,\"\"))","v":""},{"$f":"IF(NRI!C99=\"\",\"\",NRI!C99)","v":""},{"$f":"IF(C24=\"\",\"\",SMALL(OFFSET($C$7,0,0,'หา NRI'!$D$58,1),B24))","v":""},"","","","","","","","",""]
[null,{"$f":"IF(B24=\"\",\"\",IF(B24+1<='หา NRI'!$D$58,B24+1,\"\"))","v":""},{"$f":"IF(NRI!C100=\"\",\"\",NRI!C100)","v":""},{"$f":"IF(C25=\"\",\"\",SMALL(OFFSET($C$7,0,0,'หา NRI'!$D$58,1),B25))","v":""},"","","","","","","","",""]
[null,{"$f":"IF(B25=\"\",\"\",IF(B25+1<='หา NRI'!$D$58,B25+1,\"\"))","v":""},{"$f":"IF(NRI!C101=\"\",\"\",NRI!C101)","v":""},{"$f":"IF(C26=\"\",\"\",SMALL(OFFSET($C$7,0,0,'หา NRI'!$D$58,1),B26))","v":""},"","","","","","","","",""]
[null,{"$f":"IF(B26=\"\",\"\",IF(B26+1<='หา NRI'!$D$58,B26+1,\"\"))","v":""},{"$f":"IF(NRI!C102=\"\",\"\",NRI!C102)","v":""},{"$f":"IF(C27=\"\",\"\",SMALL(OFFSET($C$7,0,0,'หา NRI'!$D$58,1),B27))","v":""},"","","","","","","","",""]
[null,{"$f":"IF(B27=\"\",\"\",IF(B27+1<='หา NRI'!$D$58,B27+1,\"\"))","v":""},{"$f":"IF(NRI!C103=\"\",\"\",NRI!C103)","v":""},{"$f":"IF(C28=\"\",\"\",SMALL(OFFSET($C$7,0,0,'หา NRI'!$D$58,1),B28))","v":""},"","","","","","","","",""]
[null,{"$f":"IF(B28=\"\",\"\",IF(B28+1<='หา NRI'!$D$58,B28+1,\"\"))","v":""},{"$f":"IF(NRI!C104=\"\",\"\",NRI!C104)","v":""},{"$f":"IF(C29=\"\",\"\",SMALL(OFFSET($C$7,0,0,'หา NRI'!$D$58,1),B29))","v":""},"","","","","","","","",""]
[null,{"$f":"IF(B29=\"\",\"\",IF(B29+1<='หา NRI'!$D$58,B29+1,\"\"))","v":""},{"$f":"IF(NRI!C105=\"\",\"\",NRI!C105)","v":""},{"$f":"IF(C30=\"\",\"\",SMALL(OFFSET($C$7,0,0,'หา NRI'!$D$58,1),B30))","v":""},"","","","","","","","",""]
[null,{"$f":"IF(B30=\"\",\"\",IF(B30+1<='หา NRI'!$D$58,B30+1,\"\"))","v":""},{"$f":"IF(NRI!C106=\"\",\"\",NRI!C106)","v":""},{"$f":"IF(C31=\"\",\"\",SMALL(OFFSET($C$7,0,0,'หา NRI'!$D$58,1),B31))","v":""},"","","","","","","","",""]
[null,{"$f":"IF(B31=\"\",\"\",IF(B31+1<='หา NRI'!$D$58,B31+1,\"\"))","v":""},{"$f":"IF(NRI!C107=\"\",\"\",NRI!C107)","v":""},{"$f":"IF(C32=\"\",\"\",SMALL(OFFSET($C$7,0,0,'หา NRI'!$D$58,1),B32))","v":""},"","","","","","","","",""]
[null,{"$f":"IF(B32=\"\",\"\",IF(B32+1<='หา NRI'!$D$58,B32+1,\"\"))","v":""},{"$f":"IF(NRI!C108=\"\",\"\",NRI!C108)","v":""},{"$f":"IF(C33=\"\",\"\",SMALL(OFFSET($C$7,0,0,'หา NRI'!$D$58,1),B33))","v":""},"","","","","","","","",""]
[null,{"$f":"IF(B33=\"\",\"\",IF(B33+1<='หา NRI'!$D$58,B33+1,\"\"))","v":""},{"$f":"IF(NRI!C109=\"\",\"\",NRI!C109)","v":""},{"$f":"IF(C34=\"\",\"\",SMALL(OFFSET($C$7,0,0,'หา NRI'!$D$58,1),B34))","v":""},"","","","","","","","",""]
[null,{"$f":"IF(B34=\"\",\"\",IF(B34+1<='หา NRI'!$D$58,B34+1,\"\"))","v":""},{"$f":"IF(NRI!C110=\"\",\"\",NRI!C110)","v":""},{"$f":"IF(C35=\"\",\"\",SMALL(OFFSET($C$7,0,0,'หา NRI'!$D$58,1),B35))","v":""},"","","","","","","","",""]
[null,{"$f":"IF(B35=\"\",\"\",IF(B35+1<='หา NRI'!$D$58,B35+1,\"\"))","v":""},{"$f":"IF(NRI!C111=\"\",\"\",NRI!C111)","v":""},{"$f":"IF(C36=\"\",\"\",SMALL(OFFSET($C$7,0,0,'หา NRI'!$D$58,1),B36))","v":""},"","","","","","","","",""]
[null,{"$f":"IF(B36=\"\",\"\",IF(B36+1<='หา NRI'!$D$58,B36+1,\"\"))","v":""},{"$f":"IF(NRI!C112=\"\",\"\",NRI!C112)","v":""},{"$f":"IF(C37=\"\",\"\",SMALL(OFFSET($C$7,0,0,'หา NRI'!$D$58,1),B37))","v":""},"","","","","","","","",""]
[null,{"$f":"IF(B37=\"\",\"\",IF(B37+1<='หา NRI'!$D$58,B37+1,\"\"))","v":""},{"$f":"IF(NRI!C113=\"\",\"\",NRI!C113)","v":""},{"$f":"IF(C38=\"\",\"\",SMALL(OFFSET($C$7,0,0,'หา NRI'!$D$58,1),B38))","v":""},"","","","","","","","",""]
[null,{"$f":"IF(B38=\"\",\"\",IF(B38+1<='หา NRI'!$D$58,B38+1,\"\"))","v":""},{"$f":"IF(NRI!C114=\"\",\"\",NRI!C114)","v":""},{"$f":"IF(C39=\"\",\"\",SMALL(OFFSET($C$7,0,0,'หา NRI'!$D$58,1),B39))","v":""},"","","","","","","","",""]
[null,{"$f":"IF(B39=\"\",\"\",IF(B39+1<='หา NRI'!$D$58,B39+1,\"\"))","v":""},{"$f":"IF(NRI!C115=\"\",\"\",NRI!C115)","v":""},{"$f":"IF(C40=\"\",\"\",SMALL(OFFSET($C$7,0,0,'หา NRI'!$D$58,1),B40))","v":""},"","","","","","","","",""]
[null,{"$f":"IF(B40=\"\",\"\",IF(B40+1<='หา NRI'!$D$58,B40+1,\"\"))","v":""},{"$f":"IF(NRI!C116=\"\",\"\",NRI!C116)","v":""},{"$f":"IF(C41=\"\",\"\",SMALL(OFFSET($C$7,0,0,'หา NRI'!$D$58,1),B41))","v":""},"","","","","","","","",""]
[null,{"$f":"IF(B41=\"\",\"\",IF(B41+1<='หา NRI'!$D$58,B41+1,\"\"))","v":""},{"$f":"IF(NRI!C117=\"\",\"\",NRI!C117)","v":""},{"$f":"IF(C42=\"\",\"\",SMALL(OFFSET($C$7,0,0,'หา NRI'!$D$58,1),B42))","v":""},"","","","","","","","",""]
[null,{"$f":"IF(B42=\"\",\"\",IF(B42+1<='หา NRI'!$D$58,B42+1,\"\"))","v":""},{"$f":"IF(NRI!C118=\"\",\"\",NRI!C118)","v":""},{"$f":"IF(C43=\"\",\"\",SMALL(OFFSET($C$7,0,0,'หา NRI'!$D$58,1),B43))","v":""},"","","","","","","","",""]
[null,{"$f":"IF(B43=\"\",\"\",IF(B43+1<='หา NRI'!$D$58,B43+1,\"\"))","v":""},{"$f":"IF(NRI!C119=\"\",\"\",NRI!C119)","v":""},{"$f":"IF(C44=\"\",\"\",SMALL(OFFSET($C$7,0,0,'หา NRI'!$D$58,1),B44))","v":""},"","","","","","","","",""]
[null,{"$f":"IF(B44=\"\",\"\",IF(B44+1<='หา NRI'!$D$58,B44+1,\"\"))","v":""},{"$f":"IF(NRI!C120=\"\",\"\",NRI!C120)","v":""},{"$f":"IF(C45=\"\",\"\",SMALL(OFFSET($C$7,0,0,'หา NRI'!$D$58,1),B45))","v":""},"","","","","","","","",""]
[null,{"$f":"IF(B45=\"\",\"\",IF(B45+1<='หา NRI'!$D$58,B45+1,\"\"))","v":""},{"$f":"IF(NRI!C121=\"\",\"\",NRI!C121)","v":""},{"$f":"IF(C46=\"\",\"\",SMALL(OFFSET($C$7,0,0,'หา NRI'!$D$58,1),B46))","v":""},"","","","","","","","",""]
[null,{"$f":"IF(B46=\"\",\"\",IF(B46+1<='หา NRI'!$D$58,B46+1,\"\"))","v":""},{"$f":"IF(NRI!C122=\"\",\"\",NRI!C122)","v":""},{"$f":"IF(C47=\"\",\"\",SMALL(OFFSET($C$7,0,0,'หา NRI'!$D$58,1),B47))","v":""},"","","","","","","","",""]
[null,{"$f":"IF(B47=\"\",\"\",IF(B47+1<='หา NRI'!$D$58,B47+1,\"\"))","v":""},{"$f":"IF(NRI!C123=\"\",\"\",NRI!C123)","v":""},{"$f":"IF(C48=\"\",\"\",SMALL(OFFSET($C$7,0,0,'หา NRI'!$D$58,1),B48))","v":""},"","","","","","","","",""]
[null,{"$f":"IF(B48=\"\",\"\",IF(B48+1<='หา NRI'!$D$58,B48+1,\"\"))","v":""},{"$f":"IF(NRI!C124=\"\",\"\",NRI!C124)","v":""},{"$f":"IF(C49=\"\",\"\",SMALL(OFFSET($C$7,0,0,'หา NRI'!$D$58,1),B49))","v":""},"","","","","","","","",""]
[null,{"$f":"IF(B49=\"\",\"\",IF(B49+1<='หา NRI'!$D$58,B49+1,\"\"))","v":""},{"$f":"IF(NRI!C125=\"\",\"\",NRI!C125)","v":""},{"$f":"IF(C50=\"\",\"\",SMALL(OFFSET($C$7,0,0,'หา NRI'!$D$58,1),B50))","v":""},"","","","","","","","",""]
[null,{"$f":"IF(B50=\"\",\"\",IF(B50+1<='หา NRI'!$D$58,B50+1,\"\"))","v":""},{"$f":"IF(NRI!C126=\"\",\"\",NRI!C126)","v":""},{"$f":"IF(C51=\"\",\"\",SMALL(OFFSET($C$7,0,0,'หา NRI'!$D$58,1),B51))","v":""},"","","","","","","","",""]
[null,{"$f":"IF(B51=\"\",\"\",IF(B51+1<='หา NRI'!$D$58,B51+1,\"\"))","v":""},{"$f":"IF(NRI!C127=\"\",\"\",NRI!C127)","v":""},{"$f":"IF(C52=\"\",\"\",SMALL(OFFSET($C$7,0,0,'หา NRI'!$D$58,1),B52))","v":""},"","","","","","","","",""]
[null,{"$f":"IF(B52=\"\",\"\",IF(B52+1<='หา NRI'!$D$58,B52+1,\"\"))","v":""},{"$f":"IF(NRI!C128=\"\",\"\",NRI!C128)","v":""},{"$f":"IF(C53=\"\",\"\",SMALL(OFFSET($C$7,0,0,'หา NRI'!$D$58,1),B53))","v":""},"","","","","","","","",""]
[null,{"$f":"IF(B53=\"\",\"\",IF(B53+1<='หา NRI'!$D$58,B53+1,\"\"))","v":""},{"$f":"IF(NRI!C129=\"\",\"\",NRI!C129)","v":""},{"$f":"IF(C54=\"\",\"\",SMALL(OFFSET($C$7,0,0,'หา NRI'!$D$58,1),B54))","v":""},"","","","","","","","",""]
[null,{"$f":"IF(B54=\"\",\"\",IF(B54+1<='หา NRI'!$D$58,B54+1,\"\"))","v":""},{"$f":"IF(NRI!C130=\"\",\"\",NRI!C130)","v":""},{"$f":"IF(C55=\"\",\"\",SMALL(OFFSET($C$7,0,0,'หา NRI'!$D$58,1),B55))","v":""},"","","","","","","","",""]
[null,{"$f":"IF(B55=\"\",\"\",IF(B55+1<='หา NRI'!$D$58,B55+1,\"\"))","v":""},{"$f":"IF(NRI!C131=\"\",\"\",NRI!C131)","v":""},{"$f":"IF(C56=\"\",\"\",SMALL(OFFSET($C$7,0,0,'หา NRI'!$D$58,1),B56))","v":""},"","","","","","","","",""]
[null,{"$f":"IF(B56=\"\",\"\",IF(B56+1<='หา NRI'!$D$58,B56+1,\"\"))","v":""},{"$f":"IF(NRI!C132=\"\",\"\",NRI!C132)","v":""},{"$f":"IF(C57=\"\",\"\",SMALL(OFFSET($C$7,0,0,'หา NRI'!$D$58,1),B57))","v":""},"","","","","","","","",""]
[null,"MEAN",{"$f":"AVERAGE(C7:C57)","v":{"$error":"#DIV/0!"}},null,null,"MAX",{"$f":"MAX(G7:G57)","v":0},null,"MAX",{"$f":"MAX(J7:J57)","v":0},null,"MAX",{"$f":"MAX(M7:M17)","v":0}]
[null,"STD.",{"$f":"STDEV(C7:C57)","v":{"$error":"#DIV/0!"}},null,null,{"$f":"\"Delta \"&COUNT(B7:B57)&\", \"&OFFSET('หา NRI'!A48,MATCH(G59,'หา NRI'!G49:G52,0),0,1,1)*100&\"%\"","v":{"$error":"#N/A"}},{"$f":"IF('หา NRI'!G50>G58,'หา NRI'!G50,'หา NRI'!G49)","v":{"$error":"#N/A"}},{"$f":"IF(G58<G59,\"ok\",\"\")","v":{"$error":"#N/A"}},{"$f":"F59","v":{"$error":"#N/A"}},{"$f":"G59","v":{"$error":"#N/A"}},{"$f":"IF(G58<G59,\"ok\",\"\")","v":{"$error":"#N/A"}},{"$f":"F59","v":{"$error":"#N/A"}},{"$f":"G59","v":{"$error":"#N/A"}}]
[null,"Location",{"$f":"C58-(0.45*C59)","v":{"$error":"#DIV/0!"}},null,null,null,{"$f":"IF(G58<G59,IF(G58<J58,\"GUMBEL\",\"\"),\"\")","v":{"$error":"#N/A"}},null,null,{"$f":"IF(J58<J59,IF(J58<G58,\"NORMAL\",\"\"),\"\")","v":{"$error":"#N/A"}}]
[null,"Scale",{"$f":"0.7797*C59","v":{"$error":"#DIV/0!"}},null,null,null,null,{"$f":"\"เดือน\"&D4&\"เป็นการแจกแจงแบบ  \"&G60&J60","v":{"$error":"#N/A"}}]
[null,"MEAN Y",{"$f":"AVERAGE(K7:K17)","v":{"$error":"#DIV/0!"}}]
[null,"STD. Y",{"$f":"STDEV(K7:K17)","v":{"$error":"#DIV/0!"}}]
[null,"MAX X",{"$f":"MAX(D7:D57)","v":0},null,{"$f":"\"ดังนั้น ปริมาณน้ำไหลเข้าอ่างเก็บน้ำสุทธิในเดือน \"&D4&\" จะเหมาะสมกับการแจกแจงแบบ \" &G60&J60&\" ที่ระดับนัยสำคัญ \"&OFFSET('หา NRI'!A48,MATCH(G59,'หา NRI'!G49:G52,0),0,1,1)*100&\"%\"","v":{"$error":"#N/A"}}]
[null,"MIN X",{"$f":"MIN(D7:D57)","v":0}]
[null,null,null,null,null,null,null,null,"แนะนำกว้าง",{"$f":"ROUND(($L$68-$L$69)/$J$68,0)","v":0}]
[null," 7.  สร้างเส้นโค้งของการแจกแจง NRI",null,null,null,null,null,null,"กว้างชั้นละ",{"$f":"ROUND(($L$68-$L$69)/$J$68,0)","v":0},"Max - Min"]
[null,null,"Range; R =",{"$f":"C64-C65","v":0},"Class Interval ; CI =",null,{"$f":"D68/D69","v":0},null,"จำนวนชั้น",3,"MAX X",{"$f":"C64","v":0}]
[null,null,"Class ; C =",{"$f":"J68","v":3},null,null,null,null,"เริ่มที่",0,"MIN X",{"$f":"C65","v":0}]
[null,"Class","Class Interval","Mid-Range",null,"(Xi)*ni","(X(i))^2","ni*(X(i))^2"]
[null,"(i)","(mcm.)","(Xi)"]
[null,1,{"$f":"IF(B72<=$J$68,\"(\"&J69&\")-(\"&K72&\")\",\"\")","v":"(0)-(0)"},{"$f":"IF(B72<=$J$68,(J69+K72)/2,\"\")","v":0},{"$f":"IF(B72<=$J$68,M72,\"\")","v":0},{"$f":"IF(B72<=$J$68,D72*E72,\"\")","v":0},{"$f":"IF(B72<=$J$68,D72^2,\"\")","v":0},{"$f":"IF(B72<=$J$68,E72*G72,\"\")","v":0},{"$f":"IF(B72<=$D$69,1,0)","v":1},{"$f":"J69","v":0},{"$f":"$J$69+(B72*$J$67)","v":0},{"$f":"COUNTIF($C$7:$C$45,\"<\"&J73-0.5)","v":0},{"$f":"L72","v":0}]
[null,{"$f":"IF(B72+1<=J68,B72+1,\"\")","v":2},{"$f":"IF(B73<=$J$68,IF(I74=1,\"(\"&J73&\")-(\"&K73&\")\",\">\"&J73),\"\")","v":"(1)-(0)"},{"$f":"IF(B73<=$J$68,(J73+K73)/2,\"\")","v":0.5},0,0,0.25,0,1,{"$f":"IF(I73=1,K72+1,9999)","v":1},0,{"$f":"COUNTIF($C$7:$C$45,\"<\"&J74-0.5)","v":0},{"$f":"L73-L72","v":0}]
[null,{"$f":"B73+1","v":3},">1",0.5,0,0,0.25,0,1,1,0,0,0]
[null,4,"","","","","","",0,9999,0,0,0]
[null,5,"","","","","","",0,9999,0,0,0]
[null,6,"","","","","","",0,9999,0,0,0]
[null,7,"","","","","","",0,9999,0,0,0]
[null,8,"","","","","","",0,9999,0,0,0]
[null,9,"","","","","","",0,9999,0,0,0]
[null,10,"","","","","","",0,9999,0,0,0]
[null,11,"","","","","","",0,9999,0,0,0]
[null,12,"","","","","","",0,9999,0,0,0]
[null,13,"","","","","","",0,9999,0,0,0]
[null,14,"","","","","","",0,9999,0,0,0]
[null,15,"","","","","","",0,9999,0,0,0]
[null,16,"","","","","","",0,9999,0,0,0]
[null,17,"","","","","","",0,9999,0,{"$f":"COUNTIF($C$7:$C$45,\"<\"&J89-0.5)","v":0},0]
[null,"SUM",null,null,{"$f":"SUM(E72:E88)","v":0},{"$f":"SUM(F72:F88)","v":0},{"$f":"SUM(G72:G88)","v":0.5},{"$f":"SUM(H72:H88)","v":0},null,9999]
[null,null,"Mean",{"$f":"F89/E89","v":{"$error":"#DIV/0!"}},"(Mean)^2",{"$f":"D90*D90","v":{"$error":"#DIV/0!"}},"Location",{"$f":"D90-(0.45*D91)","v":{"$error":"#DIV/0!"}}]
[null,null,"STD.",{"$f":"((H89/E89)-F90)^0.5","v":{"$error":"#DIV/0!"}},null,null,"Scale",{"$f":"0.7797*D91","v":{"$error":"#DIV/0!"}}]
[]
[null,{"$f":"\"การแจกแจงแบบ \"&G60&J60&\" กับปริมาณน้ำท่าสุทธิเดือน \"&D4&\" ของอ่าง\"&L2","v":{"$error":"#N/A"}},null,null,null,null,null,null,null,"ตารางแจกแจงความถี่"]
[null,"Class","Class Interval",null,null,null,null,null,null,"Class","p(Xi)",0.05,0.1,0.15]
[null,"(i)","(mcm.)",null,null,null,{"$f":"G60&J60","v":{"$error":"#N/A"}}]
[null,{"$f":"B72","v":1},{"$f":"IF(B96<=$J$68,C72,\"\")","v":"(0)-(0)"},{"$f":"IF(B96<=$J$68,E72,\"\")","v":0},{"$f":"IF(B96<=$J$68,D96/$D$113,\"\")","v":{"$error":"#DIV/0!"}},{"$f":"IF(B96<=$J$68,E96,\"\")","v":{"$error":"#DIV/0!"}},{"$f":"IF(B96<=$J$68,IF($G$60=\"GUMBEL\",EXP(-EXP(-(J96-$H$90)/$H$91)),NORMDIST(J96,$D$90,$D$91,TRUE)),\"\")","v":{"$error":"#N/A"}},{"$f":"IF(B96<=$J$68,G96,\"\")","v":{"$error":"#N/A"}},null,{"$f":"K72","v":0},{"$f":"H96","v":{"$error":"#N/A"}},0.05,0.1,0.15]
[null,{"$f":"B96+1","v":2},"(1)-(0)",0,{"$error":"#DIV/0!"},{"$f":"IF(B97<=$J$68,E97+F96,\"\")","v":{"$error":"#DIV/0!"}},{"$error":"#N/A"},{"$f":"IF(B97<=$J$68,G97-G96,\"\")","v":{"$error":"#N/A"}},null,{"$f":"K73","v":0},{"$f":"H97","v":{"$error":"#N/A"}},0.05,0.1,0.15]
[null,3,">1",0,{"$error":"#DIV/0!"},{"$error":"#DIV/0!"},{"$error":"#N/A"},{"$error":"#N/A"},null,{"$f":"K74","v":0},{"$error":"#N/A"},0.05,0.1,0.15]
[null,4,"","","","","","",null,0,"",0.05,0.1,0.15]
[null,5,"","","","","","",null,0,"",0.05,0.1,0.15]
[null,6,"","","","","","",null,0,"",0.05,0.1,0.15]
[null,7,"","","","","","",null,0,"",0.05,0.1,0.15]
[null,8,"","","","","","",null,0,"",0.05,0.1,0.15]
[null,9,"","","","","","",null,0,"",0.05,0.1,0.15]
[null,10,"","","","",{"$f":"IF(B105<=$J$68,IF($G$60=\"GUMBEL\",EXP(-EXP(-(J105-$H$90)/$H$91)),NORMDIST(J105,$D$90,$D$91,TRUE)),\"\")","v":""},"",null,0,"",0.05,0.1,0.15]
[null,11,"","","","","","",null,0,"",0.05,0.1,0.15]
[null,12,"","","","","","",null,0,"",0.05,0.1,0.15]
[null,13,"","","","","","",null,0,"",0.05,0.1,0.15]
[null,14,"","","","","","",null,0,"",0.05,0.1,0.15]
[null,15,"","","","","","",null,0,"",0.05,0.1,0.15]
[null,16,"","","","","","",null,0,"",0.05,0.1,0.15]
[null,17,"","","","","","",null,0,"",0.05,0.1,0.15]
[null,null,"Sum",{"$f":"SUM(D96:D112)","v":0},{"$f":"SUM(E96:E112)","v":{"$error":"#DIV/0!"}},null,null,{"$f":"SUM(H96:H112)","v":{"$error":"#N/A"}}]
[]
[{"$f":"\"8. หาค่าVolume of Flood Control Reserve ของเดือน\"&D4&\"ที่ค่าความเสี่ยงต่างๆ จากกราฟการแจกแจงความน่าจะเป็น\"","v":"8. หาค่าVolume of Flood Control Reserve ของเดือนมกราคมที่ค่าความเสี่ยงต่างๆ จากกราฟการแจกแจงความน่าจะเป็น"}]
[]
[]
[]
[]
[]
[]
[]
[]
[]
[]
[null,null,null,null,null,null,null,null,null,"P(NRIt>VFCt)< Risk"]
[null,null,null,null,null,null,null,null,null,{"$f":"IF(NRI!B54<0,\"Volume Buffer\",\"Volum Flood Control\")","v":{"$error":"#DIV/0!"}}]
[null,null,null,null,null,null,null,null,null,"Risk(%)",{"$f":"IF(NRI!B54<0,\"VBUF(mcm)\",\"VFC(mcm)\")","v":{"$error":"#DIV/0!"}},null,"X-Axis","X-ordinate","Y-Axis","Y-ordinate"]
[null,null,null,null,null,null,null,null,null,15,1080,null,"X1=",374,"Y1=",0.15912074047763369]
[null,null,null,null,null,null,null,null,null,10,1170,null,"X2=",475,"Y2=",0.13117031761875575]
[null,null,null,null,null,null,null,null,null,5,1250,null,"X0=",{"$f":"N129-((N129-N130)*(P129-P131)/(P129-P130))","v":406.95817000308466},"Y0=",0.15]

{"sheet":"ก.พ.","index":10,"n_rows":131,"n_cols":16,"rows_kept":131,"cut":false,"hidden":true,"merged":[[125,9,125,12],[60,7,61,12],[63,4,63,14],[67,4,67,5],[88,1,88,3],[93,11,94,11],[93,12,94,12],[93,13,94,13],[66,10,66,11],[93,9,94,9],[93,10,94,10],[92,9,92,13]]}
[]
[null,"6. การหาค่าสถิติและการทดสอบความเหมาะสมของ Distribution Function กับข้อมูล Net Reservoir Inflow(NIR)",null,null,null,null,null,null,null,null,null,{"$f":"NRI!O1","v":0}]
[]
[null,2,"Feb","กุมภาพันธ์"]
[null,null,null,null,"Empirical","GUMBEL",null,"NORMAL",null,null,"LOG-NORMAL"]
[null,"No.","NRI","(X)","F'(X)","F(x)","F'(X)-F(X)","Z","F(x)","F'(X)-F(X)","Y","F(x)","F'(X)-f(X)"]
[null,{"$f":"IF(1<='หา NRI'!$D$58,1,\"\")","v":1},{"$f":"IF(NRI!D82=\"\",\"\",NRI!D82)","v":""},{"$f":"IF(C7=\"\",\"\",SMALL(OFFSET($C$7,0,0,'หา NRI'!$D$58,1),B7))","v":""},{"$f":"IF(C7=\"\",\"\",B7/(COUNT($B$7:$B$57)+1))","v":""},{"$f":"IF(C7=\"\",\"\",EXP(-EXP(-(D7-$C$60)/$C$61)))","v":""},{"$f":"IF(C7=\"\",\"\",ABS(E7-F7))","v":""},{"$f":"IF(C7=\"\",\"\",(D7-$C$58)/$C$59)","v":""},{"$f":"IF(C7=\"\",\"\",NORMSDIST(H7))","v":""},{"$f":"IF(C7=\"\",\"\",ABS(E7-I7))","v":""},{"$f":"IF(C7=\"\",\"\",(LN(D7)))","v":""},{"$f":"IF(C7=\"\",\"\",(LOGNORMDIST(D7,$C$61,$C$62)))","v":""},{"$f":"IF(C7=\"\",\"\",(ABS(E7-L7)))","v":""}]
[null,{"$f":"IF(B7=\"\",\"\",IF(B7+1<='หา NRI'!$D$58,B7+1,\"\"))","v":2},{"$f":"IF(NRI!D83=\"\",\"\",NRI!D83)","v":""},{"$f":"IF(C8=\"\",\"\",SMALL(OFFSET($C$7,0,0,'หา NRI'!$D$58,1),B8))","v":""},{"$f":"IF(C8=\"\",\"\",B8/(COUNT($B$7:$B$57)+1))","v":""},{"$f":"IF(C8=\"\",\"\",EXP(-EXP(-(D8-$C$60)/$C$61)))","v":""},{"$f":"IF(C8=\"\",\"\",ABS(E8-F8))","v":""},{"$f":"IF(C8=\"\",\"\",(D8-$C$58)/$C$59)","v":""},{"$f":"IF(C8=\"\",\"\",NORMSDIST(H8))","v":""},{"$f":"IF(C8=\"\",\"\",ABS(E8-I8))","v":""},{"$f":"IF(C8=\"\",\"\",(LN(D8)))","v":""},{"$f":"IF(C8=\"\",\"\",(LOGNORMDIST(D8,$C$61,$C$62)))","v":""},{"$f":"IF(C8=\"\",\"\",(ABS(E8-L8)))","v":""}]
[null,{"$f":"IF(B8=\"\",\"\",IF(B8+1<='หา NRI'!$D$58,B8+1,\"\"))","v":3},{"$f":"IF(NRI!D84=\"\",\"\",NRI!D84)","v":""},{"$f":"IF(C9=\"\",\"\",SMALL(OFFSET($C$7,0,0,'หา NRI'!$D$58,1),B9))","v":""},"","","","","","","","",""]
[null,{"$f":"IF(B9=\"\",\"\",IF(B9+1<='หา NRI'!$D$58,B9+1,\"\"))","v":4},{"$f":"IF(NRI!D85=\"\",\"\",NRI!D85)","v":""},{"$f":"IF(C10=\"\",\"\",SMALL(OFFSET($C$7,0,0,'หา NRI'!$D$58,1),B10))","v":""},"","","","","","","","",""]
[null,{"$f":"IF(B10=\"\",\"\",IF(B10+1<='หา NRI'!$D$58,B10+1,\"\"))","v":""},{"$f":"IF(NRI!D86=\"\",\"\",NRI!D86)","v":""},{"$f":"IF(C11=\"\",\"\",SMALL(OFFSET($C$7,0,0,'หา NRI'!$D$58,1),B11))","v":""},"","","","","","","","",""]
[null,{"$f":"IF(B11=\"\",\"\",IF(B11+1<='หา NRI'!$D$58,B11+1,\"\"))","v":""},{"$f":"IF(NRI!D87=\"\",\"\",NRI!D87)","v":""},{"$f":"IF(C12=\"\",\"\",SMALL(OFFSET($C$7,0,0,'หา NRI'!$D$58,1),B12))","v":""},"","","","","","","","",""]
[null,{"$f":"IF(B12=\"\",\"\",IF(B12+1<='หา NRI'!$D$58,B12+1,\"\"))","v":""},{"$f":"IF(NRI!D88=\"\",\"\",NRI!D88)","v":""},{"$f":"IF(C13=\"\",\"\",SMALL(OFFSET($C$7,0,0,'หา NRI'!$D$58,1),B13))","v":""},"","","","","","","","",""]
[null,{"$f":"IF(B13=\"\",\"\",IF(B13+1<='หา NRI'!$D$58,B13+1,\"\"))","v":""},{"$f":"IF(NRI!D89=\"\",\"\",NRI!D89)","v":""},{"$f":"IF(C14=\"\",\"\",SMALL(OFFSET($C$7,0,0,'หา NRI'!$D$58,1),B14))","v":""},"","","","","","","","",""]
[null,{"$f":"IF(B14=\"\",\"\",IF(B14+1<='หา NRI'!$D$58,B14+1,\"\"))","v":""},{"$f":"IF(NRI!D90=\"\",\"\",NRI!D90)","v":""},{"$f":"IF(C15=\"\",\"\",SMALL(OFFSET($C$7,0,0,'หา NRI'!$D$58,1),B15))","v":""},"","","","","","","","",""]
[null,{"$f":"IF(B15=\"\",\"\",IF(B15+1<='หา NRI'!$D$58,B15+1,\"\"))","v":""},{"$f":"IF(NRI!D91=\"\",\"\",NRI!D91)","v":""},{"$f":"IF(C16=\"\",\"\",SMALL(OFFSET($C$7,0,0,'หา NRI'!$D$58,1),B16))","v":""},"","","","","","","","",""]
[null,{"$f":"IF(B16=\"\",\"\",IF(B16+1<='หา NRI'!$D$58,B16+1,\"\"))","v":""},{"$f":"IF(NRI!D92=\"\",\"\",NRI!D92)","v":""},{"$f":"IF(C17=\"\",\"\",SMALL(OFFSET($C$7,0,0,'หา NRI'!$D$58,1),B17))","v":""},"","","","","","","","",""]
[null,{"$f":"IF(B17=\"\",\"\",IF(B17+1<='หา NRI'!$D$58,B17+1,\"\"))","v":""},{"$f":"IF(NRI!D93=\"\",\"\",NRI!D93)","v":""},{"$f":"IF(C18=\"\",\"\",SMALL(OFFSET($C$7,0,0,'หา NRI'!$D$58,1),B18))","v":""},"","","","","","","","",""]
[null,{"$f":"IF(B18=\"\",\"\",IF(B18+1<='หา NRI'!$D$58,B18+1,\"\"))","v":""},{"$f":"IF(NRI!D94=\"\",\"\",NRI!D94)","v":""},{"$f":"IF(C19=\"\",\"\",SMALL(OFFSET($C$7,0,0,'หา NRI'!$D$58,1),B19))","v":""},"","","","","","","","",""]
[null,{"$f":"IF(B19=\"\",\"\",IF(B19+1<='หา NRI'!$D$58,B19+1,\"\"))","v":""},{"$f":"IF(NRI!D95=\"\",\"\",NRI!D95)","v":""},{"$f":"IF(C20=\"\",\"\",SMALL(OFFSET($C$7,0,0,'หา NRI'!$D$58,1),B20))","v":""},"","","","","","","","",""]
[null,{"$f":"IF(B20=\"\",\"\",IF(B20+1<='หา NRI'!$D$58,B20+1,\"\"))","v":""},{"$f":"IF(NRI!D96=\"\",\"\",NRI!D96)","v":""},{"$f":"IF(C21=\"\",\"\",SMALL(OFFSET($C$7,0,0,'หา NRI'!$D$58,1),B21))","v":""},"","","","","","","","",""]
[null,{"$f":"IF(B21=\"\",\"\",IF(B21+1<='หา NRI'!$D$58,B21+1,\"\"))","v":""},{"$f":"IF(NRI!D97=\"\",\"\",NRI!D97)","v":""},{"$f":"IF(C22=\"\",\"\",SMALL(OFFSET($C$7,0,0,'หา NRI'!$D$58,1),B22))","v":""},"","","","","","","","",""]
[null,{"$f":"IF(B22=\"\",\"\",IF(B22+1<='หา NRI'!$D$58,B22+1,\"\"))","v":""},{"$f":"IF(NRI!D98=\"\",\"\",NRI!D98)","v":""},{"$f":"IF(C23=\"\",\"\",SMALL(OFFSET($C$7,0,0,'หา NRI'!$D$58,1),B23))","v":""},"","","","","","","","",""]
[null,{"$f":"IF(B23=\"\",\"\",IF(B23+1<='หา NRI'!$D$58,B23+1,\"\"))","v":""},{"$f":"IF(NRI!D99=\"\",\"\",NRI!D99)","v":""},{"$f":"IF(C24=\"\",\"\",SMALL(OFFSET($C$7,0,0,'หา NRI'!$D$58,1),B24))","v":""},"","","","","","","","",""]
[null,{"$f":"IF(B24=\"\",\"\",IF(B24+1<='หา NRI'!$D$58,B24+1,\"\"))","v":""},{"$f":"IF(NRI!D100=\"\",\"\",NRI!D100)","v":""},{"$f":"IF(C25=\"\",\"\",SMALL(OFFSET($C$7,0,0,'หา NRI'!$D$58,1),B25))","v":""},"","","","","","","","",""]
[null,{"$f":"IF(B25=\"\",\"\",IF(B25+1<='หา NRI'!$D$58,B25+1,\"\"))","v":""},{"$f":"IF(NRI!D101=\"\",\"\",NRI!D101)","v":""},{"$f":"IF(C26=\"\",\"\",SMALL(OFFSET($C$7,0,0,'หา NRI'!$D$58,1),B26))","v":""},"","","","","","","","",""]
[null,{"$f":"IF(B26=\"\",\"\",IF(B26+1<='หา NRI'!$D$58,B26+1,\"\"))","v":""},{"$f":"IF(NRI!D102=\"\",\"\",NRI!D102)","v":""},{"$f":"IF(C27=\"\",\"\",SMALL(OFFSET($C$7,0,0,'หา NRI'!$D$58,1),B27))","v":""},"","","","","","","","",""]
[null,{"$f":"IF(B27=\"\",\"\",IF(B27+1<='หา NRI'!$D$58,B27+1,\"\"))","v":""},{"$f":"IF(NRI!D103=\"\",\"\",NRI!D103)","v":""},{"$f":"IF(C28=\"\",\"\",SMALL(OFFSET($C$7,0,0,'หา NRI'!$D$58,1),B28))","v":""},"","","","","","","","",""]
[null,{"$f":"IF(B28=\"\",\"\",IF(B28+1<='หา NRI'!$D$58,B28+1,\"\"))","v":""},{"$f":"IF(NRI!D104=\"\",\"\",NRI!D104)","v":""},{"$f":"IF(C29=\"\",\"\",SMALL(OFFSET($C$7,0,0,'หา NRI'!$D$58,1),B29))","v":""},"","","","","","","","",""]
[null,{"$f":"IF(B29=\"\",\"\",IF(B29+1<='หา NRI'!$D$58,B29+1,\"\"))","v":""},{"$f":"IF(NRI!D105=\"\",\"\",NRI!D105)","v":""},{"$f":"IF(C30=\"\",\"\",SMALL(OFFSET($C$7,0,0,'หา NRI'!$D$58,1),B30))","v":""},"","","","","","","","",""]
[null,{"$f":"IF(B30=\"\",\"\",IF(B30+1<='หา NRI'!$D$58,B30+1,\"\"))","v":""},{"$f":"IF(NRI!D106=\"\",\"\",NRI!D106)","v":""},{"$f":"IF(C31=\"\",\"\",SMALL(OFFSET($C$7,0,0,'หา NRI'!$D$58,1),B31))","v":""},"","","","","","","","",""]
[null,{"$f":"IF(B31=\"\",\"\",IF(B31+1<='หา NRI'!$D$58,B31+1,\"\"))","v":""},{"$f":"IF(NRI!D107=\"\",\"\",NRI!D107)","v":""},{"$f":"IF(C32=\"\",\"\",SMALL(OFFSET($C$7,0,0,'หา NRI'!$D$58,1),B32))","v":""},"","","","","","","","",""]
[null,{"$f":"IF(B32=\"\",\"\",IF(B32+1<='หา NRI'!$D$58,B32+1,\"\"))","v":""},{"$f":"IF(NRI!D108=\"\",\"\",NRI!D108)","v":""},{"$f":"IF(C33=\"\",\"\",SMALL(OFFSET($C$7,0,0,'หา NRI'!$D$58,1),B33))","v":""},"","","","","","","","",""]
[null,{"$f":"IF(B33=\"\",\"\",IF(B33+1<='หา NRI'!$D$58,B33+1,\"\"))","v":""},{"$f":"IF(NRI!D109=\"\",\"\",NRI!D109)","v":""},{"$f":"IF(C34=\"\",\"\",SMALL(OFFSET($C$7,0,0,'หา NRI'!$D$58,1),B34))","v":""},"","","","","","","","",""]
[null,{"$f":"IF(B34=\"\",\"\",IF(B34+1<='หา NRI'!$D$58,B34+1,\"\"))","v":""},{"$f":"IF(NRI!D110=\"\",\"\",NRI!D110)","v":""},{"$f":"IF(C35=\"\",\"\",SMALL(OFFSET($C$7,0,0,'หา NRI'!$D$58,1),B35))","v":""},"","","","","","","","",""]
[null,{"$f":"IF(B35=\"\",\"\",IF(B35+1<='หา NRI'!$D$58,B35+1,\"\"))","v":""},{"$f":"IF(NRI!D111=\"\",\"\",NRI!D111)","v":""},{"$f":"IF(C36=\"\",\"\",SMALL(OFFSET($C$7,0,0,'หา NRI'!$D$58,1),B36))","v":""},"","","","","","","","",""]
[null,{"$f":"IF(B36=\"\",\"\",IF(B36+1<='หา NRI'!$D$58,B36+1,\"\"))","v":""},{"$f":"IF(NRI!D112=\"\",\"\",NRI!D112)","v":""},{"$f":"IF(C37=\"\",\"\",SMALL(OFFSET($C$7,0,0,'หา NRI'!$D$58,1),B37))","v":""},"","","","","","","","",""]
[null,{"$f":"IF(B37=\"\",\"\",IF(B37+1<='หา NRI'!$D$58,B37+1,\"\"))","v":""},{"$f":"IF(NRI!D113=\"\",\"\",NRI!D113)","v":""},{"$f":"IF(C38=\"\",\"\",SMALL(OFFSET($C$7,0,0,'หา NRI'!$D$58,1),B38))","v":""},"","","","","","","","",""]
[null,{"$f":"IF(B38=\"\",\"\",IF(B38+1<='หา NRI'!$D$58,B38+1,\"\"))","v":""},{"$f":"IF(NRI!D114=\"\",\"\",NRI!D114)","v":""},{"$f":"IF(C39=\"\",\"\",SMALL(OFFSET($C$7,0,0,'หา NRI'!$D$58,1),B39))","v":""},"","","","","","","","",""]
[null,{"$f":"IF(B39=\"\",\"\",IF(B39+1<='หา NRI'!$D$58,B39+1,\"\"))","v":""},{"$f":"IF(NRI!D115=\"\",\"\",NRI!D115)","v":""},{"$f":"IF(C40=\"\",\"\",SMALL(OFFSET($C$7,0,0,'หา NRI'!$D$58,1),B40))","v":""},"","","","","","","","",""]
[null,{"$f":"IF(B40=\"\",\"\",IF(B40+1<='หา NRI'!$D$58,B40+1,\"\"))","v":""},{"$f":"IF(NRI!D116=\"\",\"\",NRI!D116)","v":""},{"$f":"IF(C41=\"\",\"\",SMALL(OFFSET($C$7,0,0,'หา NRI'!$D$58,1),B41))","v":""},"","","","","","","","",""]
[null,{"$f":"IF(B41=\"\",\"\",IF(B41+1<='หา NRI'!$D$58,B41+1,\"\"))","v":""},{"$f":"IF(NRI!D117=\"\",\"\",NRI!D117)","v":""},{"$f":"IF(C42=\"\",\"\",SMALL(OFFSET($C$7,0,0,'หา NRI'!$D$58,1),B42))","v":""},"","","","","","","","",""]
[null,{"$f":"IF(B42=\"\",\"\",IF(B42+1<='หา NRI'!$D$58,B42+1,\"\"))","v":""},{"$f":"IF(NRI!D118=\"\",\"\",NRI!D118)","v":""},{"$f":"IF(C43=\"\",\"\",SMALL(OFFSET($C$7,0,0,'หา NRI'!$D$58,1),B43))","v":""},"","","","","","","","",""]
[null,{"$f":"IF(B43=\"\",\"\",IF(B43+1<='หา NRI'!$D$58,B43+1,\"\"))","v":""},{"$f":"IF(NRI!D119=\"\",\"\",NRI!D119)","v":""},{"$f":"IF(C44=\"\",\"\",SMALL(OFFSET($C$7,0,0,'หา NRI'!$D$58,1),B44))","v":""},"","","","","","","","",""]
[null,{"$f":"IF(B44=\"\",\"\",IF(B44+1<='หา NRI'!$D$58,B44+1,\"\"))","v":""},{"$f":"IF(NRI!D120=\"\",\"\",NRI!D120)","v":""},{"$f":"IF(C45=\"\",\"\",SMALL(OFFSET($C$7,0,0,'หา NRI'!$D$58,1),B45))","v":""},"","","","","","","","",""]
[null,{"$f":"IF(B45=\"\",\"\",IF(B45+1<='หา NRI'!$D$58,B45+1,\"\"))","v":""},{"$f":"IF(NRI!D121=\"\",\"\",NRI!D121)","v":""},{"$f":"IF(C46=\"\",\"\",SMALL(OFFSET($C$7,0,0,'หา NRI'!$D$58,1),B46))","v":""},"","","","","","","","",""]
[null,{"$f":"IF(B46=\"\",\"\",IF(B46+1<='หา NRI'!$D$58,B46+1,\"\"))","v":""},{"$f":"IF(NRI!D122=\"\",\"\",NRI!D122)","v":""},{"$f":"IF(C47=\"\",\"\",SMALL(OFFSET($C$7,0,0,'หา NRI'!$D$58,1),B47))","v":""},"","","","","","","","",""]
[null,{"$f":"IF(B47=\"\",\"\",IF(B47+1<='หา NRI'!$D$58,B47+1,\"\"))","v":""},{"$f":"IF(NRI!D123=\"\",\"\",NRI!D123)","v":""},{"$f":"IF(C48=\"\",\"\",SMALL(OFFSET($C$7,0,0,'หา NRI'!$D$58,1),B48))","v":""},"","","","","","","","",""]
[null,{"$f":"IF(B48=\"\",\"\",IF(B48+1<='หา NRI'!$D$58,B48+1,\"\"))","v":""},{"$f":"IF(NRI!D124=\"\",\"\",NRI!D124)","v":""},{"$f":"IF(C49=\"\",\"\",SMALL(OFFSET($C$7,0,0,'หา NRI'!$D$58,1),B49))","v":""},"","","","","","","","",""]
[null,{"$f":"IF(B49=\"\",\"\",IF(B49+1<='หา NRI'!$D$58,B49+1,\"\"))","v":""},{"$f":"IF(NRI!D125=\"\",\"\",NRI!D125)","v":""},{"$f":"IF(C50=\"\",\"\",SMALL(OFFSET($C$7,0,0,'หา NRI'!$D$58,1),B50))","v":""},"","","","","","","","",""]
[null,{"$f":"IF(B50=\"\",\"\",IF(B50+1<='หา NRI'!$D$58,B50+1,\"\"))","v":""},{"$f":"IF(NRI!D126=\"\",\"\",NRI!D126)","v":""},{"$f":"IF(C51=\"\",\"\",SMALL(OFFSET($C$7,0,0,'หา NRI'!$D$58,1),B51))","v":""},"","","","","","","","",""]
[null,{"$f":"IF(B51=\"\",\"\",IF(B51+1<='หา NRI'!$D$58,B51+1,\"\"))","v":""},{"$f":"IF(NRI!D127=\"\",\"\",NRI!D127)","v":""},{"$f":"IF(C52=\"\",\"\",SMALL(OFFSET($C$7,0,0,'หา NRI'!$D$58,1),B52))","v":""},"","","","","","","","",""]
[null,{"$f":"IF(B52=\"\",\"\",IF(B52+1<='หา NRI'!$D$58,B52+1,\"\"))","v":""},{"$f":"IF(NRI!D128=\"\",\"\",NRI!D128)","v":""},{"$f":"IF(C53=\"\",\"\",SMALL(OFFSET($C$7,0,0,'หา NRI'!$D$58,1),B53))","v":""},"","","","","","","","",""]
[null,{"$f":"IF(B53=\"\",\"\",IF(B53+1<='หา NRI'!$D$58,B53+1,\"\"))","v":""},{"$f":"IF(NRI!D129=\"\",\"\",NRI!D129)","v":""},{"$f":"IF(C54=\"\",\"\",SMALL(OFFSET($C$7,0,0,'หา NRI'!$D$58,1),B54))","v":""},"","","","","","","","",""]
[null,{"$f":"IF(B54=\"\",\"\",IF(B54+1<='หา NRI'!$D$58,B54+1,\"\"))","v":""},{"$f":"IF(NRI!D130=\"\",\"\",NRI!D130)","v":""},{"$f":"IF(C55=\"\",\"\",SMALL(OFFSET($C$7,0,0,'หา NRI'!$D$58,1),B55))","v":""},"","","","","","","","",""]
[null,{"$f":"IF(B55=\"\",\"\",IF(B55+1<='หา NRI'!$D$58,B55+1,\"\"))","v":""},{"$f":"IF(NRI!D131=\"\",\"\",NRI!D131)","v":""},{"$f":"IF(C56=\"\",\"\",SMALL(OFFSET($C$7,0,0,'หา NRI'!$D$58,1),B56))","v":""},"","","","","","","","",""]
[null,{"$f":"IF(B56=\"\",\"\",IF(B56+1<='หา NRI'!$D$58,B56+1,\"\"))","v":""},{"$f":"IF(NRI!D132=\"\",\"\",NRI!D132)","v":""},{"$f":"IF(C57=\"\",\"\",SMALL(OFFSET($C$7,0,0,'หา NRI'!$D$58,1),B57))","v":""},"","","","","","","","",""]
[null,"MEAN",{"$f":"AVERAGE(C7:C57)","v":{"$error":"#DIV/0!"}},null,null,"MAX",{"$f":"MAX(G7:G57)","v":0},null,"MAX",{"$f":"MAX(J7:J57)","v":0},null,"MAX",{"$f":"MAX(M7:M17)","v":0}]
[null,"STD.",{"$f":"STDEV(C7:C57)","v":{"$error":"#DIV/0!"}},null,null,{"$f":"\"Delta \"&COUNT(B7:B57)&\", \"&OFFSET('หา NRI'!A48,MATCH(G59,'หา NRI'!G49:G52,0),0,1,1)*100&\"%\"","v":{"$error":"#N/A"}},{"$f":"IF('หา NRI'!G50>G58,'หา NRI'!G50,'หา NRI'!G49)","v":{"$error":"#N/A"}},{"$f":"IF(G58<G59,\"ok\",\"\")","v":{"$error":"#N/A"}},{"$f":"F59","v":{"$error":"#N/A"}},{"$f":"G59","v":{"$error":"#N/A"}},{"$f":"IF(G58<G59,\"ok\",\"\")","v":{"$error":"#N/A"}},{"$f":"F59","v":{"$error":"#N/A"}},{"$f":"G59","v":{"$error":"#N/A"}}]
[null,"Location",{"$f":"C58-(0.45*C59)","v":{"$error":"#DIV/0!"}},null,null,null,{"$f":"IF(G58<G59,IF(G58<J58,\"GUMBEL\",\"\"),\"\")","v":{"$error":"#N/A"}},null,null,{"$f":"IF(J58<J59,IF(J58<G58,\"NORMAL\",\"\"),\"\")","v":{"$error":"#N/A"}}]
[null,"Scale",{"$f":"0.7797*C59","v":{"$error":"#DIV/0!"}},null,null,null,null,{"$f":"\"เดือน\"&D4&\"เป็นการแจกแจงแบบ  \"&G60&J60","v":{"$error":"#N/A"}}]
[null,"MEAN Y",{"$f":"AVERAGE(K7:K17)","v":{"$error":"#DIV/0!"}}]
[null,"STD. Y",{"$f":"STDEV(K7:K17)","v":{"$error":"#DIV/0!"}}]
[null,"MAX X",{"$f":"MAX(D7:D57)","v":0},null,{"$f":"\"ดังนั้น ปริมาณน้ำไหลเข้าอ่างเก็บน้ำสุทธิในเดือน \"&D4&\" จะเหมาะสมกับการแจกแจงแบบ \" &G60&J60&\" ที่ระดับนัยสำคัญ \"&OFFSET('หา NRI'!A48,MATCH(G59,'หา NRI'!G49:G52,0),0,1,1)*100&\"%\"","v":{"$error":"#N/A"}}]
[null,"MIN X",{"$f":"MIN(D7:D57)","v":0}]
[null,null,null,null,null,null,null,null,"แนะนำกว้าง",{"$f":"ROUND(($L$68-$L$69)/$J$68,0)","v":0}]
[null," 7.  สร้างเส้นโค้งของการแจกแจง NRI",null,null,null,null,null,null,"กว้างชั้นละ",{"$f":"ROUND(($L$68-$L$69)/$J$68,0)","v":0},"Max - Min"]
[null,null,"Range; R =",{"$f":"C64-C65","v":0},"Class Interval ; CI =",null,{"$f":"D68/D69","v":0},null,"จำนวนชั้น",4,"MAX X",{"$f":"C64","v":0}]
[null,null,"Class ; C =",{"$f":"J68","v":4},null,null,null,null,"เริ่มที่",-100,"MIN X",{"$f":"C65","v":0}]
[null,"Class","Class Interval","Mid-Range",null,"(Xi)*ni","(X(i))^2","ni*(X(i))^2"]
[null,"(i)","(mcm.)","(Xi)"]
[null,1,{"$f":"IF(B72<=$J$68,\"(\"&J69&\")-(\"&K72&\")\",\"\")","v":"(-100)-(-100)"},{"$f":"IF(B72<=$J$68,(J69+K72)/2,\"\")","v":-100},{"$f":"IF(B72<=$J$68,M72,\"\")","v":0},{"$f":"IF(B72<=$J$68,D72*E72,\"\")","v":0},{"$f":"IF(B72<=$J$68,D72^2,\"\")","v":10000},{"$f":"IF(B72<=$J$68,E72*G72,\"\")","v":0},{"$f":"IF(B72<=$D$69,1,0)","v":1},{"$f":"J69","v":-100},{"$f":"$J$69+(B72*$J$67)","v":-100},{"$f":"COUNTIF($C$7:$C$45,\"<\"&J73-0.5)","v":0},{"$f":"L72","v":0}]
[null,{"$f":"IF(B72+1<=J68,B72+1,\"\")","v":2},{"$f":"IF(B73<=$J$68,IF(I74=1,\"(\"&J73&\")-(\"&K73&\")\",\">\"&J73),\"\")","v":"(-99)-(-100)"},{"$f":"IF(B73<=$J$68,(J73+K73)/2,\"\")","v":-99.5},0,0,9900.25,0,1,{"$f":"IF(I73=1,K72+1,9999)","v":-99},-100,{"$f":"COUNTIF($C$7:$C$45,\"<\"&J74-0.5)","v":0},{"$f":"L73-L72","v":0}]
[null,{"$f":"B73+1","v":3},"(-99)-(-100)",-99.5,0,0,9900.25,0,1,-99,-100,0,0]
[null,4,">-99",-99.5,0,0,9900.25,0,1,-99,-100,0,0]
[null,5,"","","","","","",0,9999,-100,0,0]
[null,6,"","","","","","",0,9999,-100,0,0]
[null,7,"","","","","","",0,9999,-100,0,0]
[null,8,"","","","","","",0,9999,-100,0,0]
[null,9,"","","","","","",0,9999,-100,0,0]
[null,10,"","","","","","",0,9999,-100,0,0]
[null,11,"","","","","","",0,9999,-100,0,0]
[null,12,"","","","","","",0,9999,-100,0,0]
[null,13,"","","","","","",0,9999,-100,0,0]
[null,14,"","","","","","",0,9999,-100,0,0]
[null,15,"","","","","","",0,9999,-100,0,0]
[null,16,"","","","","","",0,9999,-100,0,0]
[null,17,"","","","","","",0,9999,-100,{"$f":"COUNTIF($C$7:$C$45,\"<\"&J89-0.5)","v":0},0]
[null,"SUM",null,null,{"$f":"SUM(E72:E88)","v":0},{"$f":"SUM(F72:F88)","v":0},{"$f":"SUM(G72:G88)","v":39700.75},{"$f":"SUM(H72:H88)","v":0},null,9999]
[null,null,"Mean",{"$f":"F89/E89","v":{"$error":"#DIV/0!"}},"(Mean)^2",{"$f":"D90*D90","v":{"$error":"#DIV/0!"}},"Location",{"$f":"D90-(0.45*D91)","v":{"$error":"#DIV/0!"}}]
[null,null,"STD.",{"$f":"((H89/E89)-F90)^0.5","v":{"$error":"#DIV/0!"}},null,null,"Scale",{"$f":"0.7797*D91","v":{"$error":"#DIV/0!"}}]
[]
[null,{"$f":"\"การแจกแจงแบบ \"&G60&J60&\" กับปริมาณน้ำท่าสุทธิเดือน \"&D4&\" ของอ่าง\"&L2","v":{"$error":"#N/A"}},null,null,null,null,null,null,null,"ตารางแจกแจงความถี่"]
[null,"Class","Class Interval",null,null,null,null,null,null,"Class","p(Xi)",0.05,0.1,0.15]
[null,"(i)","(mcm.)",null,null,null,{"$f":"G60&J60","v":{"$error":"#N/A"}}]
[null,{"$f":"B72","v":1},{"$f":"IF(B96<=$J$68,C72,\"\")","v":"(-100)-(-100)"},{"$f":"IF(B96<=$J$68,E72,\"\")","v":0},{"$f":"IF(B96<=$J$68,D96/$D$113,\"\")","v":{"$error":"#DIV/0!"}},{"$f":"IF(B96<=$J$68,E96,\"\")","v":{"$error":"#DIV/0!"}},{"$f":"IF(B96<=$J$68,IF($G$60=\"GUMBEL\",EXP(-EXP(-(J96-$H$90)/$H$91)),NORMDIST(J96,$D$90,$D$91,TRUE)),\"\")","v":{"$error":"#N/A"}},{"$f":"IF(B96<=$J$68,G96,\"\")","v":{"$error":"#N/A"}},null,{"$f":"K72","v":-100},{"$f":"H96","v":{"$error":"#N/A"}},0.05,0.1,0.15]
[null,{"$f":"B96+1","v":2},"(-99)-(-100)",0,{"$error":"#DIV/0!"},{"$f":"IF(B97<=$J$68,E97+F96,\"\")","v":{"$error":"#DIV/0!"}},{"$error":"#N/A"},{"$f":"IF(B97<=$J$68,G97-G96,\"\")","v":{"$error":"#N/A"}},null,{"$f":"K73","v":-100},{"$f":"H97","v":{"$error":"#N/A"}},0.05,0.1,0.15]
[null,3,"(-99)-(-100)",0,{"$error":"#DIV/0!"},{"$error":"#DIV/0!"},{"$error":"#N/A"},{"$error":"#N/A"},null,{"$f":"K74","v":-100},{"$error":"#N/A"},0.05,0.1,0.15]
[null,4,">-99",0,{"$error":"#DIV/0!"},{"$error":"#DIV/0!"},{"$error":"#N/A"},{"$error":"#N/A"},null,-100,{"$error":"#N/A"},0.05,0.1,0.15]
[null,5,"","","","","","",null,-100,"",0.05,0.1,0.15]
[null,6,"","","","","","",null,-100,"",0.05,0.1,0.15]
[null,7,"","","","","","",null,-100,"",0.05,0.1,0.15]
[null,8,"","","","","","",null,-100,"",0.05,0.1,0.15]
[null,9,"","","","","","",null,-100,"",0.05,0.1,0.15]
[null,10,"","","","","","",null,-100,"",0.05,0.1,0.15]
[null,11,"","","","","","",null,-100,"",0.05,0.1,0.15]
[null,12,"","","","","","",null,-100,"",0.05,0.1,0.15]
[null,13,"","","","","","",null,-100,"",0.05,0.1,0.15]
[null,14,"","","","","","",null,-100,"",0.05,0.1,0.15]
[null,15,"","","","","","",null,-100,"",0.05,0.1,0.15]
[null,16,"","","","","","",null,-100,"",0.05,0.1,0.15]
[null,17,"","","","","","",null,-100,"",0.05,0.1,0.15]
[null,null,"Sum",{"$f":"SUM(D96:D112)","v":0},{"$f":"SUM(E96:E112)","v":{"$error":"#DIV/0!"}},null,null,{"$f":"SUM(H96:H112)","v":{"$error":"#N/A"}}]
[]
[{"$f":"\"8. หาค่าVolume of Flood Control Reserve ของเดือน\"&D4&\"ที่ค่าความเสี่ยงต่างๆ จากกราฟการแจกแจงความน่าจะเป็น\"","v":"8. หาค่าVolume of Flood Control Reserve ของเดือนกุมภาพันธ์ที่ค่าความเสี่ยงต่างๆ จากกราฟการแจกแจงความน่าจะเป็น"}]
[]
[]
[]
[]
[]
[]
[]
[]
[]
[]
[null,null,null,null,null,null,null,null,null,"P(NRIt>VFCt)< Risk"]
[null,null,null,null,null,null,null,null,null,{"$f":"IF(NRI!C54<0,\"Volume Buffer\",\"Volum Flood Control\")","v":{"$error":"#DIV/0!"}}]
[null,null,null,null,null,null,null,null,null,"Risk(%)",{"$f":"IF(NRI!C54<0,\"VBUF(mcm)\",\"VFC(mcm)\")","v":{"$error":"#DIV/0!"}},null,"X-Axis","X-ordinate","Y-Axis","Y-ordinate"]
[null,null,null,null,null,null,null,null,null,15,680,null,"X1=",374,"Y1=",0.15912074047763369]
[null,null,null,null,null,null,null,null,null,10,740,null,"X2=",475,"Y2=",0.13117031761875575]
[null,null,null,null,null,null,null,null,null,5,800,null,"X0=",{"$f":"N129-((N129-N130)*(P129-P131)/(P129-P130))","v":406.95817000308466},"Y0=",0.15]

{"sheet":"มี.ค.","index":11,"n_rows":131,"n_cols":16,"rows_kept":131,"cut":false,"hidden":true,"merged":[[125,9,125,12],[60,7,61,12],[63,4,63,14],[67,4,67,5],[88,1,88,3],[93,11,94,11],[93,12,94,12],[93,13,94,13],[66,10,66,11],[93,9,94,9],[93,10,94,10],[92,9,92,13]]}
[]
[null,"6. การหาค่าสถิติและการทดสอบความเหมาะสมของ Distribution Function กับข้อมูล Net Reservoir Inflow(NIR)",null,null,null,null,null,null,null,null,null,{"$f":"NRI!O1","v":0}]
[]
[null,3,"Mar","มีนาคม"]
[null,null,null,null,"Empirical","GUMBEL",null,"NORMAL",null,null,"LOG-NORMAL"]
[null,"No.","NRI","(X)","F'(X)","F(x)","F'(X)-F(X)","Z","F(x)","F'(X)-F(X)","Y","F(x)","F'(X)-f(X)"]
[null,{"$f":"IF(1<='หา NRI'!$D$58,1,\"\")","v":1},{"$f":"IF(NRI!E82=\"\",\"\",NRI!E82)","v":""},{"$f":"IF(C7=\"\",\"\",SMALL(OFFSET($C$7,0,0,'หา NRI'!$D$58,1),B7))","v":""},{"$f":"IF(C7=\"\",\"\",B7/(COUNT($B$7:$B$57)+1))","v":""},{"$f":"IF(C7=\"\",\"\",EXP(-EXP(-(D7-$C$60)/$C$61)))","v":""},{"$f":"IF(C7=\"\",\"\",ABS(E7-F7))","v":""},{"$f":"IF(C7=\"\",\"\",(D7-$C$58)/$C$59)","v":""},{"$f":"IF(C7=\"\",\"\",NORMSDIST(H7))","v":""},{"$f":"IF(C7=\"\",\"\",ABS(E7-I7))","v":""},{"$f":"IF(C7=\"\",\"\",(LN(D7)))","v":""},{"$f":"IF(C7=\"\",\"\",(LOGNORMDIST(D7,$C$61,$C$62)))","v":""},{"$f":"IF(C7=\"\",\"\",(ABS(E7-L7)))","v":""}]
[null,{"$f":"IF(B7=\"\",\"\",IF(B7+1<='หา NRI'!$D$58,B7+1,\"\"))","v":2},{"$f":"IF(NRI!E83=\"\",\"\",NRI!E83)","v":""},{"$f":"IF(C8=\"\",\"\",SMALL(OFFSET($C$7,0,0,'หา NRI'!$D$58,1),B8))","v":""},{"$f":"IF(C8=\"\",\"\",B8/(COUNT($B$7:$B$57)+1))","v":""},{"$f":"IF(C8=\"\",\"\",EXP(-EXP(-(D8-$C$60)/$C$61)))","v":""},{"$f":"IF(C8=\"\",\"\",ABS(E8-F8))","v":""},{"$f":"IF(C8=\"\",\"\",(D8-$C$58)/$C$59)","v":""},{"$f":"IF(C8=\"\",\"\",NORMSDIST(H8))","v":""},{"$f":"IF(C8=\"\",\"\",ABS(E8-I8))","v":""},{"$f":"IF(C8=\"\",\"\",(LN(D8)))","v":""},{"$f":"IF(C8=\"\",\"\",(LOGNORMDIST(D8,$C$61,$C$62)))","v":""},{"$f":"IF(C8=\"\",\"\",(ABS(E8-L8)))","v":""}]
[null,{"$f":"IF(B8=\"\",\"\",IF(B8+1<='หา NRI'!$D$58,B8+1,\"\"))","v":3},{"$f":"IF(NRI!E84=\"\",\"\",NRI!E84)","v":""},{"$f":"IF(C9=\"\",\"\",SMALL(OFFSET($C$7,0,0,'หา NRI'!$D$58,1),B9))","v":""},"","","","","","","","",""]
[null,{"$f":"IF(B9=\"\",\"\",IF(B9+1<='หา NRI'!$D$58,B9+1,\"\"))","v":4},{"$f":"IF(NRI!E85=\"\",\"\",NRI!E85)","v":""},{"$f":"IF(C10=\"\",\"\",SMALL(OFFSET($C$7,0,0,'หา NRI'!$D$58,1),B10))","v":""},"","","","","","","","",""]
[null,{"$f":"IF(B10=\"\",\"\",IF(B10+1<='หา NRI'!$D$58,B10+1,\"\"))","v":""},{"$f":"IF(NRI!E86=\"\",\"\",NRI!E86)","v":""},{"$f":"IF(C11=\"\",\"\",SMALL(OFFSET($C$7,0,0,'หา NRI'!$D$58,1),B11))","v":""},"","","","","","","","",""]
[null,{"$f":"IF(B11=\"\",\"\",IF(B11+1<='หา NRI'!$D$58,B11+1,\"\"))","v":""},{"$f":"IF(NRI!E87=\"\",\"\",NRI!E87)","v":""},{"$f":"IF(C12=\"\",\"\",SMALL(OFFSET($C$7,0,0,'หา NRI'!$D$58,1),B12))","v":""},"","","","","","","","",""]
[null,{"$f":"IF(B12=\"\",\"\",IF(B12+1<='หา NRI'!$D$58,B12+1,\"\"))","v":""},{"$f":"IF(NRI!E88=\"\",\"\",NRI!E88)","v":""},{"$f":"IF(C13=\"\",\"\",SMALL(OFFSET($C$7,0,0,'หา NRI'!$D$58,1),B13))","v":""},"","","","","","","","",""]
[null,{"$f":"IF(B13=\"\",\"\",IF(B13+1<='หา NRI'!$D$58,B13+1,\"\"))","v":""},{"$f":"IF(NRI!E89=\"\",\"\",NRI!E89)","v":""},{"$f":"IF(C14=\"\",\"\",SMALL(OFFSET($C$7,0,0,'หา NRI'!$D$58,1),B14))","v":""},"","","","","","","","",""]
[null,{"$f":"IF(B14=\"\",\"\",IF(B14+1<='หา NRI'!$D$58,B14+1,\"\"))","v":""},{"$f":"IF(NRI!E90=\"\",\"\",NRI!E90)","v":""},{"$f":"IF(C15=\"\",\"\",SMALL(OFFSET($C$7,0,0,'หา NRI'!$D$58,1),B15))","v":""},"","","","","","","","",""]
[null,{"$f":"IF(B15=\"\",\"\",IF(B15+1<='หา NRI'!$D$58,B15+1,\"\"))","v":""},{"$f":"IF(NRI!E91=\"\",\"\",NRI!E91)","v":""},{"$f":"IF(C16=\"\",\"\",SMALL(OFFSET($C$7,0,0,'หา NRI'!$D$58,1),B16))","v":""},"","","","","","","","",""]
[null,{"$f":"IF(B16=\"\",\"\",IF(B16+1<='หา NRI'!$D$58,B16+1,\"\"))","v":""},{"$f":"IF(NRI!E92=\"\",\"\",NRI!E92)","v":""},{"$f":"IF(C17=\"\",\"\",SMALL(OFFSET($C$7,0,0,'หา NRI'!$D$58,1),B17))","v":""},"","","","","","","","",""]
[null,{"$f":"IF(B17=\"\",\"\",IF(B17+1<='หา NRI'!$D$58,B17+1,\"\"))","v":""},{"$f":"IF(NRI!E93=\"\",\"\",NRI!E93)","v":""},{"$f":"IF(C18=\"\",\"\",SMALL(OFFSET($C$7,0,0,'หา NRI'!$D$58,1),B18))","v":""},"","","","","","","","",""]
[null,{"$f":"IF(B18=\"\",\"\",IF(B18+1<='หา NRI'!$D$58,B18+1,\"\"))","v":""},{"$f":"IF(NRI!E94=\"\",\"\",NRI!E94)","v":""},{"$f":"IF(C19=\"\",\"\",SMALL(OFFSET($C$7,0,0,'หา NRI'!$D$58,1),B19))","v":""},"","","","","","","","",""]
[null,{"$f":"IF(B19=\"\",\"\",IF(B19+1<='หา NRI'!$D$58,B19+1,\"\"))","v":""},{"$f":"IF(NRI!E95=\"\",\"\",NRI!E95)","v":""},{"$f":"IF(C20=\"\",\"\",SMALL(OFFSET($C$7,0,0,'หา NRI'!$D$58,1),B20))","v":""},"","","","","","","","",""]
[null,{"$f":"IF(B20=\"\",\"\",IF(B20+1<='หา NRI'!$D$58,B20+1,\"\"))","v":""},{"$f":"IF(NRI!E96=\"\",\"\",NRI!E96)","v":""},{"$f":"IF(C21=\"\",\"\",SMALL(OFFSET($C$7,0,0,'หา NRI'!$D$58,1),B21))","v":""},"","","","","","","","",""]
[null,{"$f":"IF(B21=\"\",\"\",IF(B21+1<='หา NRI'!$D$58,B21+1,\"\"))","v":""},{"$f":"IF(NRI!E97=\"\",\"\",NRI!E97)","v":""},{"$f":"IF(C22=\"\",\"\",SMALL(OFFSET($C$7,0,0,'หา NRI'!$D$58,1),B22))","v":""},"","","","","","","","",""]
[null,{"$f":"IF(B22=\"\",\"\",IF(B22+1<='หา NRI'!$D$58,B22+1,\"\"))","v":""},{"$f":"IF(NRI!E98=\"\",\"\",NRI!E98)","v":""},{"$f":"IF(C23=\"\",\"\",SMALL(OFFSET($C$7,0,0,'หา NRI'!$D$58,1),B23))","v":""},"","","","","","","","",""]
[null,{"$f":"IF(B23=\"\",\"\",IF(B23+1<='หา NRI'!$D$58,B23+1,\"\"))","v":""},{"$f":"IF(NRI!E99=\"\",\"\",NRI!E99)","v":""},{"$f":"IF(C24=\"\",\"\",SMALL(OFFSET($C$7,0,0,'หา NRI'!$D$58,1),B24))","v":""},"","","","","","","","",""]
[null,{"$f":"IF(B24=\"\",\"\",IF(B24+1<='หา NRI'!$D$58,B24+1,\"\"))","v":""},{"$f":"IF(NRI!E100=\"\",\"\",NRI!E100)","v":""},{"$f":"IF(C25=\"\",\"\",SMALL(OFFSET($C$7,0,0,'หา NRI'!$D$58,1),B25))","v":""},"","","","","","","","",""]
[null,{"$f":"IF(B25=\"\",\"\",IF(B25+1<='หา NRI'!$D$58,B25+1,\"\"))","v":""},{"$f":"IF(NRI!E101=\"\",\"\",NRI!E101)","v":""},{"$f":"IF(C26=\"\",\"\",SMALL(OFFSET($C$7,0,0,'หา NRI'!$D$58,1),B26))","v":""},"","","","","","","","",""]
[null,{"$f":"IF(B26=\"\",\"\",IF(B26+1<='หา NRI'!$D$58,B26+1,\"\"))","v":""},{"$f":"IF(NRI!E102=\"\",\"\",NRI!E102)","v":""},{"$f":"IF(C27=\"\",\"\",SMALL(OFFSET($C$7,0,0,'หา NRI'!$D$58,1),B27))","v":""},"","","","","","","","",""]
[null,{"$f":"IF(B27=\"\",\"\",IF(B27+1<='หา NRI'!$D$58,B27+1,\"\"))","v":""},{"$f":"IF(NRI!E103=\"\",\"\",NRI!E103)","v":""},{"$f":"IF(C28=\"\",\"\",SMALL(OFFSET($C$7,0,0,'หา NRI'!$D$58,1),B28))","v":""},"","","","","","","","",""]
[null,{"$f":"IF(B28=\"\",\"\",IF(B28+1<='หา NRI'!$D$58,B28+1,\"\"))","v":""},{"$f":"IF(NRI!E104=\"\",\"\",NRI!E104)","v":""},{"$f":"IF(C29=\"\",\"\",SMALL(OFFSET($C$7,0,0,'หา NRI'!$D$58,1),B29))","v":""},"","","","","","","","",""]
[null,{"$f":"IF(B29=\"\",\"\",IF(B29+1<='หา NRI'!$D$58,B29+1,\"\"))","v":""},{"$f":"IF(NRI!E105=\"\",\"\",NRI!E105)","v":""},{"$f":"IF(C30=\"\",\"\",SMALL(OFFSET($C$7,0,0,'หา NRI'!$D$58,1),B30))","v":""},"","","","","","","","",""]
[null,{"$f":"IF(B30=\"\",\"\",IF(B30+1<='หา NRI'!$D$58,B30+1,\"\"))","v":""},{"$f":"IF(NRI!E106=\"\",\"\",NRI!E106)","v":""},{"$f":"IF(C31=\"\",\"\",SMALL(OFFSET($C$7,0,0,'หา NRI'!$D$58,1),B31))","v":""},"","","","","","","","",""]
[null,{"$f":"IF(B31=\"\",\"\",IF(B31+1<='หา NRI'!$D$58,B31+1,\"\"))","v":""},{"$f":"IF(NRI!E107=\"\",\"\",NRI!E107)","v":""},{"$f":"IF(C32=\"\",\"\",SMALL(OFFSET($C$7,0,0,'หา NRI'!$D$58,1),B32))","v":""},"","","","","","","","",""]
[null,{"$f":"IF(B32=\"\",\"\",IF(B32+1<='หา NRI'!$D$58,B32+1,\"\"))","v":""},{"$f":"IF(NRI!E108=\"\",\"\",NRI!E108)","v":""},{"$f":"IF(C33=\"\",\"\",SMALL(OFFSET($C$7,0,0,'หา NRI'!$D$58,1),B33))","v":""},"","","","","","","","",""]
[null,{"$f":"IF(B33=\"\",\"\",IF(B33+1<='หา NRI'!$D$58,B33+1,\"\"))","v":""},{"$f":"IF(NRI!E109=\"\",\"\",NRI!E109)","v":""},{"$f":"IF(C34=\"\",\"\",SMALL(OFFSET($C$7,0,0,'หา NRI'!$D$58,1),B34))","v":""},"","","","","","","","",""]
[null,{"$f":"IF(B34=\"\",\"\",IF(B34+1<='หา NRI'!$D$58,B34+1,\"\"))","v":""},{"$f":"IF(NRI!E110=\"\",\"\",NRI!E110)","v":""},{"$f":"IF(C35=\"\",\"\",SMALL(OFFSET($C$7,0,0,'หา NRI'!$D$58,1),B35))","v":""},"","","","","","","","",""]
[null,{"$f":"IF(B35=\"\",\"\",IF(B35+1<='หา NRI'!$D$58,B35+1,\"\"))","v":""},{"$f":"IF(NRI!E111=\"\",\"\",NRI!E111)","v":""},{"$f":"IF(C36=\"\",\"\",SMALL(OFFSET($C$7,0,0,'หา NRI'!$D$58,1),B36))","v":""},"","","","","","","","",""]
[null,{"$f":"IF(B36=\"\",\"\",IF(B36+1<='หา NRI'!$D$58,B36+1,\"\"))","v":""},{"$f":"IF(NRI!E112=\"\",\"\",NRI!E112)","v":""},{"$f":"IF(C37=\"\",\"\",SMALL(OFFSET($C$7,0,0,'หา NRI'!$D$58,1),B37))","v":""},"","","","","","","","",""]
[null,{"$f":"IF(B37=\"\",\"\",IF(B37+1<='หา NRI'!$D$58,B37+1,\"\"))","v":""},{"$f":"IF(NRI!E113=\"\",\"\",NRI!E113)","v":""},{"$f":"IF(C38=\"\",\"\",SMALL(OFFSET($C$7,0,0,'หา NRI'!$D$58,1),B38))","v":""},"","","","","","","","",""]
[null,{"$f":"IF(B38=\"\",\"\",IF(B38+1<='หา NRI'!$D$58,B38+1,\"\"))","v":""},{"$f":"IF(NRI!E114=\"\",\"\",NRI!E114)","v":""},{"$f":"IF(C39=\"\",\"\",SMALL(OFFSET($C$7,0,0,'หา NRI'!$D$58,1),B39))","v":""},"","","","","","","","",""]
[null,{"$f":"IF(B39=\"\",\"\",IF(B39+1<='หา NRI'!$D$58,B39+1,\"\"))","v":""},{"$f":"IF(NRI!E115=\"\",\"\",NRI!E115)","v":""},{"$f":"IF(C40=\"\",\"\",SMALL(OFFSET($C$7,0,0,'หา NRI'!$D$58,1),B40))","v":""},"","","","","","","","",""]
[null,{"$f":"IF(B40=\"\",\"\",IF(B40+1<='หา NRI'!$D$58,B40+1,\"\"))","v":""},{"$f":"IF(NRI!E116=\"\",\"\",NRI!E116)","v":""},{"$f":"IF(C41=\"\",\"\",SMALL(OFFSET($C$7,0,0,'หา NRI'!$D$58,1),B41))","v":""},"","","","","","","","",""]
[null,{"$f":"IF(B41=\"\",\"\",IF(B41+1<='หา NRI'!$D$58,B41+1,\"\"))","v":""},{"$f":"IF(NRI!E117=\"\",\"\",NRI!E117)","v":""},{"$f":"IF(C42=\"\",\"\",SMALL(OFFSET($C$7,0,0,'หา NRI'!$D$58,1),B42))","v":""},"","","","","","","","",""]
[null,{"$f":"IF(B42=\"\",\"\",IF(B42+1<='หา NRI'!$D$58,B42+1,\"\"))","v":""},{"$f":"IF(NRI!E118=\"\",\"\",NRI!E118)","v":""},{"$f":"IF(C43=\"\",\"\",SMALL(OFFSET($C$7,0,0,'หา NRI'!$D$58,1),B43))","v":""},"","","","","","","","",""]
[null,{"$f":"IF(B43=\"\",\"\",IF(B43+1<='หา NRI'!$D$58,B43+1,\"\"))","v":""},{"$f":"IF(NRI!E119=\"\",\"\",NRI!E119)","v":""},{"$f":"IF(C44=\"\",\"\",SMALL(OFFSET($C$7,0,0,'หา NRI'!$D$58,1),B44))","v":""},"","","","","","","","",""]
[null,{"$f":"IF(B44=\"\",\"\",IF(B44+1<='หา NRI'!$D$58,B44+1,\"\"))","v":""},{"$f":"IF(NRI!E120=\"\",\"\",NRI!E120)","v":""},{"$f":"IF(C45=\"\",\"\",SMALL(OFFSET($C$7,0,0,'หา NRI'!$D$58,1),B45))","v":""},"","","","","","","","",""]
[null,{"$f":"IF(B45=\"\",\"\",IF(B45+1<='หา NRI'!$D$58,B45+1,\"\"))","v":""},{"$f":"IF(NRI!E121=\"\",\"\",NRI!E121)","v":""},{"$f":"IF(C46=\"\",\"\",SMALL(OFFSET($C$7,0,0,'หา NRI'!$D$58,1),B46))","v":""},"","","","","","","","",""]
[null,{"$f":"IF(B46=\"\",\"\",IF(B46+1<='หา NRI'!$D$58,B46+1,\"\"))","v":""},{"$f":"IF(NRI!E122=\"\",\"\",NRI!E122)","v":""},{"$f":"IF(C47=\"\",\"\",SMALL(OFFSET($C$7,0,0,'หา NRI'!$D$58,1),B47))","v":""},"","","","","","","","",""]
[null,{"$f":"IF(B47=\"\",\"\",IF(B47+1<='หา NRI'!$D$58,B47+1,\"\"))","v":""},{"$f":"IF(NRI!E123=\"\",\"\",NRI!E123)","v":""},{"$f":"IF(C48=\"\",\"\",SMALL(OFFSET($C$7,0,0,'หา NRI'!$D$58,1),B48))","v":""},"","","","","","","","",""]
[null,{"$f":"IF(B48=\"\",\"\",IF(B48+1<='หา NRI'!$D$58,B48+1,\"\"))","v":""},{"$f":"IF(NRI!E124=\"\",\"\",NRI!E124)","v":""},{"$f":"IF(C49=\"\",\"\",SMALL(OFFSET($C$7,0,0,'หา NRI'!$D$58,1),B49))","v":""},"","","","","","","","",""]
[null,{"$f":"IF(B49=\"\",\"\",IF(B49+1<='หา NRI'!$D$58,B49+1,\"\"))","v":""},{"$f":"IF(NRI!E125=\"\",\"\",NRI!E125)","v":""},{"$f":"IF(C50=\"\",\"\",SMALL(OFFSET($C$7,0,0,'หา NRI'!$D$58,1),B50))","v":""},"","","","","","","","",""]
[null,{"$f":"IF(B50=\"\",\"\",IF(B50+1<='หา NRI'!$D$58,B50+1,\"\"))","v":""},{"$f":"IF(NRI!E126=\"\",\"\",NRI!E126)","v":""},{"$f":"IF(C51=\"\",\"\",SMALL(OFFSET($C$7,0,0,'หา NRI'!$D$58,1),B51))","v":""},"","","","","","","","",""]
[null,{"$f":"IF(B51=\"\",\"\",IF(B51+1<='หา NRI'!$D$58,B51+1,\"\"))","v":""},{"$f":"IF(NRI!E127=\"\",\"\",NRI!E127)","v":""},{"$f":"IF(C52=\"\",\"\",SMALL(OFFSET($C$7,0,0,'หา NRI'!$D$58,1),B52))","v":""},"","","","","","","","",""]
[null,{"$f":"IF(B52=\"\",\"\",IF(B52+1<='หา NRI'!$D$58,B52+1,\"\"))","v":""},{"$f":"IF(NRI!E128=\"\",\"\",NRI!E128)","v":""},{"$f":"IF(C53=\"\",\"\",SMALL(OFFSET($C$7,0,0,'หา NRI'!$D$58,1),B53))","v":""},"","","","","","","","",""]
[null,{"$f":"IF(B53=\"\",\"\",IF(B53+1<='หา NRI'!$D$58,B53+1,\"\"))","v":""},{"$f":"IF(NRI!E129=\"\",\"\",NRI!E129)","v":""},{"$f":"IF(C54=\"\",\"\",SMALL(OFFSET($C$7,0,0,'หา NRI'!$D$58,1),B54))","v":""},"","","","","","","","",""]
[null,{"$f":"IF(B54=\"\",\"\",IF(B54+1<='หา NRI'!$D$58,B54+1,\"\"))","v":""},{"$f":"IF(NRI!E130=\"\",\"\",NRI!E130)","v":""},{"$f":"IF(C55=\"\",\"\",SMALL(OFFSET($C$7,0,0,'หา NRI'!$D$58,1),B55))","v":""},"","","","","","","","",""]
[null,{"$f":"IF(B55=\"\",\"\",IF(B55+1<='หา NRI'!$D$58,B55+1,\"\"))","v":""},{"$f":"IF(NRI!E131=\"\",\"\",NRI!E131)","v":""},{"$f":"IF(C56=\"\",\"\",SMALL(OFFSET($C$7,0,0,'หา NRI'!$D$58,1),B56))","v":""},"","","","","","","","",""]
[null,{"$f":"IF(B56=\"\",\"\",IF(B56+1<='หา NRI'!$D$58,B56+1,\"\"))","v":""},{"$f":"IF(NRI!E132=\"\",\"\",NRI!E132)","v":""},{"$f":"IF(C57=\"\",\"\",SMALL(OFFSET($C$7,0,0,'หา NRI'!$D$58,1),B57))","v":""},"","","","","","","","",""]
[null,"MEAN",{"$f":"AVERAGE(C7:C57)","v":{"$error":"#DIV/0!"}},null,null,"MAX",{"$f":"MAX(G7:G57)","v":0},null,"MAX",{"$f":"MAX(J7:J57)","v":0},null,"MAX",{"$f":"MAX(M7:M17)","v":0}]
[null,"STD.",{"$f":"STDEV(C7:C57)","v":{"$error":"#DIV/0!"}},null,null,{"$f":"\"Delta \"&COUNT(B7:B57)&\", \"&OFFSET('หา NRI'!A48,MATCH(G59,'หา NRI'!G49:G52,0),0,1,1)*100&\"%\"","v":{"$error":"#N/A"}},{"$f":"IF('หา NRI'!G50>G58,'หา NRI'!G50,'หา NRI'!G49)","v":{"$error":"#N/A"}},{"$f":"IF(G58<G59,\"ok\",\"\")","v":{"$error":"#N/A"}},{"$f":"F59","v":{"$error":"#N/A"}},{"$f":"G59","v":{"$error":"#N/A"}},{"$f":"IF(G58<G59,\"ok\",\"\")","v":{"$error":"#N/A"}},{"$f":"F59","v":{"$error":"#N/A"}},{"$f":"G59","v":{"$error":"#N/A"}}]
[null,"Location",{"$f":"C58-(0.45*C59)","v":{"$error":"#DIV/0!"}},null,null,null,{"$f":"IF(G58<G59,IF(G58<J58,\"GUMBEL\",\"\"),\"\")","v":{"$error":"#N/A"}},null,null,{"$f":"IF(J58<J59,IF(J58<G58,\"NORMAL\",\"\"),\"\")","v":{"$error":"#N/A"}}]
[null,"Scale",{"$f":"0.7797*C59","v":{"$error":"#DIV/0!"}},null,null,null,null,{"$f":"\"เดือน\"&D4&\"เป็นการแจกแจงแบบ  \"&G60&J60","v":{"$error":"#N/A"}}]
[null,"MEAN Y",{"$f":"AVERAGE(K7:K17)","v":{"$error":"#DIV/0!"}}]
[null,"STD. Y",{"$f":"STDEV(K7:K17)","v":{"$error":"#DIV/0!"}}]
[null,"MAX X",{"$f":"MAX(D7:D57)","v":0},null,{"$f":"\"ดังนั้น ปริมาณน้ำไหลเข้าอ่างเก็บน้ำสุทธิในเดือน \"&D4&\" จะเหมาะสมกับการแจกแจงแบบ \" &G60&J60&\" ที่ระดับนัยสำคัญ \"&OFFSET('หา NRI'!A48,MATCH(G59,'หา NRI'!G49:G52,0),0,1,1)*100&\"%\"","v":{"$error":"#N/A"}}]
[null,"MIN X",{"$f":"MIN(D7:D57)","v":0}]
[null,null,null,null,null,null,null,null,"แนะนำกว้าง",{"$f":"ROUND(($L$68-$L$69)/$J$68,0)","v":0}]
[null," 7.  สร้างเส้นโค้งของการแจกแจง NRI",null,null,null,null,null,null,"กว้างชั้นละ",120,"Max - Min"]
[null,null,"Range; R =",{"$f":"C64-C65","v":0},"Class Interval ; CI =",null,{"$f":"D68/D69","v":0},null,"จำนวนชั้น",3,"MAX X",{"$f":"C64","v":0}]
[null,null,"Class ; C =",{"$f":"J68","v":3},null,null,null,null,"เริ่มที่",0,"MIN X",{"$f":"C65","v":0}]
[null,"Class","Class Interval","Mid-Range",null,"(Xi)*ni","(X(i))^2","ni*(X(i))^2"]
[null,"(i)","(mcm.)","(Xi)"]
[null,1,{"$f":"IF(B72<=$J$68,\"(\"&J69&\")-(\"&K72&\")\",\"\")","v":"(0)-(120)"},{"$f":"IF(B72<=$J$68,(J69+K72)/2,\"\")","v":60},{"$f":"IF(B72<=$J$68,M72,\"\")","v":0},{"$f":"IF(B72<=$J$68,D72*E72,\"\")","v":0},{"$f":"IF(B72<=$J$68,D72^2,\"\")","v":3600},{"$f":"IF(B72<=$J$68,E72*G72,\"\")","v":0},{"$f":"IF(B72<=$D$69,1,0)","v":1},{"$f":"J69","v":0},{"$f":"$J$69+(B72*$J$67)","v":120},{"$f":"COUNTIF($C$7:$C$45,\"<\"&J73-0.5)","v":0},{"$f":"L72","v":0}]
[null,{"$f":"IF(B72+1<=J68,B72+1,\"\")","v":2},{"$f":"IF(B73<=$J$68,IF(I74=1,\"(\"&J73&\")-(\"&K73&\")\",\">\"&J73),\"\")","v":"(121)-(240)"},{"$f":"IF(B73<=$J$68,(J73+K73)/2,\"\")","v":180.5},0,0,32580.25,0,1,{"$f":"IF(I73=1,K72+1,9999)","v":121},240,{"$f":"COUNTIF($C$7:$C$45,\"<\"&J74-0.5)","v":0},{"$f":"L73-L72","v":0}]
[null,{"$f":"B73+1","v":3},">241",300.5,0,0,90300.25,0,1,241,360,0,0]
[null,4,"","","","","","",0,9999,480,0,0]
[null,5,"","","","","","",0,9999,600,0,0]
[null,6,"","","","","","",0,9999,720,0,0]
[null,7,"","","","","","",0,9999,840,0,0]
[null,8,"","","","","","",0,9999,960,0,0]
[null,9,"","","","","","",0,9999,1080,0,0]
[null,10,"","","","","","",0,9999,1200,0,0]
[null,11,"","","","","","",0,9999,1320,0,0]
[null,12,"","","","","","",0,9999,1440,0,0]
[null,13,"","","","","","",0,9999,1560,0,0]
[null,14,"","","","","","",0,9999,1680,0,0]
[null,15,"","","","","","",0,9999,1800,0,0]
[null,16,"","","","","","",0,9999,1920,0,0]
[null,17,"","","","","","",0,9999,2040,{"$f":"COUNTIF($C$7:$C$45,\"<\"&J89-0.5)","v":0},0]
[null,"SUM",null,null,{"$f":"SUM(E72:E88)","v":0},{"$f":"SUM(F72:F88)","v":0},{"$f":"SUM(G72:G88)","v":126480.5},{"$f":"SUM(H72:H88)","v":0},null,9999]
[null,null,"Mean",{"$f":"F89/E89","v":{"$error":"#DIV/0!"}},"(Mean)^2",{"$f":"D90*D90","v":{"$error":"#DIV/0!"}},"Location",{"$f":"D90-(0.45*D91)","v":{"$error":"#DIV/0!"}}]
[null,null,"STD.",{"$f":"((H89/E89)-F90)^0.5","v":{"$error":"#DIV/0!"}},null,null,"Scale",{"$f":"0.7797*D91","v":{"$error":"#DIV/0!"}}]
[]
[null,{"$f":"\"การแจกแจงแบบ \"&G60&J60&\" กับปริมาณน้ำท่าสุทธิเดือน \"&D4&\" ของอ่าง\"&L2","v":{"$error":"#N/A"}},null,null,null,null,null,null,null,"ตารางแจกแจงความถี่"]
[null,"Class","Class Interval",null,null,null,null,null,null,"Class","p(Xi)",0.05,0.1,0.15]
[null,"(i)","(mcm.)",null,null,null,{"$f":"G60&J60","v":{"$error":"#N/A"}}]
[null,{"$f":"B72","v":1},{"$f":"IF(B96<=$J$68,C72,\"\")","v":"(0)-(120)"},{"$f":"IF(B96<=$J$68,E72,\"\")","v":0},{"$f":"IF(B96<=$J$68,D96/$D$113,\"\")","v":{"$error":"#DIV/0!"}},{"$f":"IF(B96<=$J$68,E96,\"\")","v":{"$error":"#DIV/0!"}},{"$f":"IF(B96<=$J$68,IF($G$60=\"GUMBEL\",EXP(-EXP(-(J96-$H$90)/$H$91)),NORMDIST(J96,$D$90,$D$91,TRUE)),\"\")","v":{"$error":"#N/A"}},{"$f":"IF(B96<=$J$68,G96,\"\")","v":{"$error":"#N/A"}},null,{"$f":"K72","v":120},{"$f":"H96","v":{"$error":"#N/A"}},0.05,0.1,0.15]
[null,{"$f":"B96+1","v":2},"(121)-(240)",0,{"$error":"#DIV/0!"},{"$f":"IF(B97<=$J$68,E97+F96,\"\")","v":{"$error":"#DIV/0!"}},{"$error":"#N/A"},{"$f":"IF(B97<=$J$68,G97-G96,\"\")","v":{"$error":"#N/A"}},null,{"$f":"K73","v":240},{"$f":"H97","v":{"$error":"#N/A"}},0.05,0.1,0.15]
[null,3,">241",0,{"$error":"#DIV/0!"},{"$error":"#DIV/0!"},{"$error":"#N/A"},{"$error":"#N/A"},null,{"$f":"K74","v":360},{"$error":"#N/A"},0.05,0.1,0.15]
[null,4,"","","","","","",null,480,"",0.05,0.1,0.15]
[null,5,"","","","","","",null,600,"",0.05,0.1,0.15]
[null,6,"","","","","","",null,720,"",0.05,0.1,0.15]
[null,7,"","","","","","",null,840,"",0.05,0.1,0.15]
[null,8,"","","","","","",null,960,"",0.05,0.1,0.15]
[null,9,"","","","","","",null,1080,"",0.05,0.1,0.15]
[null,10,"","","","","","",null,1200,"",0.05,0.1,0.15]
[null,11,"","","","","","",null,1320,"",0.05,0.1,0.15]
[null,12,"","","","","","",null,1440,"",0.05,0.1,0.15]
[null,13,"","","","","","",null,1560,"",0.05,0.1,0.15]
[null,14,"","","","","","",null,1680,"",0.05,0.1,0.15]
[null,15,"","","","","","",null,1800,"",0.05,0.1,0.15]
[null,16,"","","","","","",null,1920,"",0.05,0.1,0.15]
[null,17,"","","","","","",null,2040,"",0.05,0.1,0.15]
[null,null,"Sum",{"$f":"SUM(D96:D112)","v":0},{"$f":"SUM(E96:E112)","v":{"$error":"#DIV/0!"}},null,null,{"$f":"SUM(H96:H112)","v":{"$error":"#N/A"}}]
[]
[{"$f":"\"8. หาค่าVolume of Flood Control Reserve ของเดือน\"&D4&\"ที่ค่าความเสี่ยงต่างๆ จากกราฟการแจกแจงความน่าจะเป็น\"","v":"8. หาค่าVolume of Flood Control Reserve ของเดือนมีนาคมที่ค่าความเสี่ยงต่างๆ จากกราฟการแจกแจงความน่าจะเป็น"}]
[]
[]
[]
[]
[]
[]
[]
[]
[]
[]
[null,null,null,null,null,null,null,null,null,"P(NRIt>VFCt)< Risk"]
[null,null,null,null,null,null,null,null,null,{"$f":"IF(NRI!D54<0,\"Volume Buffer\",\"Volum Flood Control\")","v":{"$error":"#DIV/0!"}}]
[null,null,null,null,null,null,null,null,null,"Risk(%)",{"$f":"IF(NRI!D54<0,\"VBUF(mcm)\",\"VFC(mcm)\")","v":{"$error":"#DIV/0!"}},null,"X-Axis","X-ordinate","Y-Axis","Y-ordinate"]
[null,null,null,null,null,null,null,null,null,15,373,null,"X1=",374,"Y1=",0.15912074047763369]
[null,null,null,null,null,null,null,null,null,10,405,null,"X2=",475,"Y2=",0.13117031761875575]
[null,null,null,null,null,null,null,null,null,5,443,null,"X0=",{"$f":"N129-((N129-N130)*(P129-P131)/(P129-P130))","v":406.95817000308466},"Y0=",0.15]

{"sheet":"เม.ย.","index":12,"n_rows":131,"n_cols":16,"rows_kept":131,"cut":false,"hidden":true,"merged":[[125,9,125,12],[60,7,61,12],[63,4,63,14],[67,4,67,5],[88,1,88,3],[93,11,94,11],[93,12,94,12],[93,13,94,13],[66,10,66,11],[93,9,94,9],[93,10,94,10],[92,9,92,13]]}
[]
[null,"6. การหาค่าสถิติและการทดสอบความเหมาะสมของ Distribution Function กับข้อมูล Net Reservoir Inflow(NIR)",null,null,null,null,null,null,null,null,null,{"$f":"NRI!O1","v":0}]
[]
[null,4,"Apr","เมษายน"]
[null,null,null,null,"Empirical","GUMBEL",null,"NORMAL",null,null,"LOG-NORMAL"]
[null,"No.","NRI","(X)","F'(X)","F(x)","F'(X)-F(X)","Z","F(x)","F'(X)-F(X)","Y","F(x)","F'(X)-f(X)"]
[null,{"$f":"IF(1<='หา NRI'!$D$58,1,\"\")","v":1},{"$f":"IF(NRI!F82=\"\",\"\",NRI!F82)","v":""},{"$f":"IF(C7=\"\",\"\",SMALL(OFFSET($C$7,0,0,'หา NRI'!$D$58,1),B7))","v":""},{"$f":"IF(C7=\"\",\"\",B7/(COUNT($B$7:$B$57)+1))","v":""},{"$f":"IF(C7=\"\",\"\",EXP(-EXP(-(D7-$C$60)/$C$61)))","v":""},{"$f":"IF(C7=\"\",\"\",ABS(E7-F7))","v":""},{"$f":"IF(C7=\"\",\"\",(D7-$C$58)/$C$59)","v":""},{"$f":"IF(C7=\"\",\"\",NORMSDIST(H7))","v":""},{"$f":"IF(C7=\"\",\"\",ABS(E7-I7))","v":""},{"$f":"IF(C7=\"\",\"\",(LN(D7)))","v":""},{"$f":"IF(C7=\"\",\"\",(LOGNORMDIST(D7,$C$61,$C$62)))","v":""},{"$f":"IF(C7=\"\",\"\",(ABS(E7-L7)))","v":""}]
[null,{"$f":"IF(B7=\"\",\"\",IF(B7+1<='หา NRI'!$D$58,B7+1,\"\"))","v":2},{"$f":"IF(NRI!F83=\"\",\"\",NRI!F83)","v":""},{"$f":"IF(C8=\"\",\"\",SMALL(OFFSET($C$7,0,0,'หา NRI'!$D$58,1),B8))","v":""},{"$f":"IF(C8=\"\",\"\",B8/(COUNT($B$7:$B$57)+1))","v":""},{"$f":"IF(C8=\"\",\"\",EXP(-EXP(-(D8-$C$60)/$C$61)))","v":""},{"$f":"IF(C8=\"\",\"\",ABS(E8-F8))","v":""},{"$f":"IF(C8=\"\",\"\",(D8-$C$58)/$C$59)","v":""},{"$f":"IF(C8=\"\",\"\",NORMSDIST(H8))","v":""},{"$f":"IF(C8=\"\",\"\",ABS(E8-I8))","v":""},{"$f":"IF(C8=\"\",\"\",(LN(D8)))","v":""},{"$f":"IF(C8=\"\",\"\",(LOGNORMDIST(D8,$C$61,$C$62)))","v":""},{"$f":"IF(C8=\"\",\"\",(ABS(E8-L8)))","v":""}]
[null,{"$f":"IF(B8=\"\",\"\",IF(B8+1<='หา NRI'!$D$58,B8+1,\"\"))","v":3},{"$f":"IF(NRI!F84=\"\",\"\",NRI!F84)","v":""},{"$f":"IF(C9=\"\",\"\",SMALL(OFFSET($C$7,0,0,'หา NRI'!$D$58,1),B9))","v":""},"","","","","","","","",""]
[null,{"$f":"IF(B9=\"\",\"\",IF(B9+1<='หา NRI'!$D$58,B9+1,\"\"))","v":4},{"$f":"IF(NRI!F85=\"\",\"\",NRI!F85)","v":""},{"$f":"IF(C10=\"\",\"\",SMALL(OFFSET($C$7,0,0,'หา NRI'!$D$58,1),B10))","v":""},"","","","","","","","",""]
[null,{"$f":"IF(B10=\"\",\"\",IF(B10+1<='หา NRI'!$D$58,B10+1,\"\"))","v":""},{"$f":"IF(NRI!F86=\"\",\"\",NRI!F86)","v":""},{"$f":"IF(C11=\"\",\"\",SMALL(OFFSET($C$7,0,0,'หา NRI'!$D$58,1),B11))","v":""},"","","","","","","","",""]
[null,{"$f":"IF(B11=\"\",\"\",IF(B11+1<='หา NRI'!$D$58,B11+1,\"\"))","v":""},{"$f":"IF(NRI!F87=\"\",\"\",NRI!F87)","v":""},{"$f":"IF(C12=\"\",\"\",SMALL(OFFSET($C$7,0,0,'หา NRI'!$D$58,1),B12))","v":""},"","","","","","","","",""]
[null,{"$f":"IF(B12=\"\",\"\",IF(B12+1<='หา NRI'!$D$58,B12+1,\"\"))","v":""},{"$f":"IF(NRI!F88=\"\",\"\",NRI!F88)","v":""},{"$f":"IF(C13=\"\",\"\",SMALL(OFFSET($C$7,0,0,'หา NRI'!$D$58,1),B13))","v":""},"","","","","","","","",""]
[null,{"$f":"IF(B13=\"\",\"\",IF(B13+1<='หา NRI'!$D$58,B13+1,\"\"))","v":""},{"$f":"IF(NRI!F89=\"\",\"\",NRI!F89)","v":""},{"$f":"IF(C14=\"\",\"\",SMALL(OFFSET($C$7,0,0,'หา NRI'!$D$58,1),B14))","v":""},"","","","","","","","",""]
[null,{"$f":"IF(B14=\"\",\"\",IF(B14+1<='หา NRI'!$D$58,B14+1,\"\"))","v":""},{"$f":"IF(NRI!F90=\"\",\"\",NRI!F90)","v":""},{"$f":"IF(C15=\"\",\"\",SMALL(OFFSET($C$7,0,0,'หา NRI'!$D$58,1),B15))","v":""},"","","","","","","","",""]
[null,{"$f":"IF(B15=\"\",\"\",IF(B15+1<='หา NRI'!$D$58,B15+1,\"\"))","v":""},{"$f":"IF(NRI!F91=\"\",\"\",NRI!F91)","v":""},{"$f":"IF(C16=\"\",\"\",SMALL(OFFSET($C$7,0,0,'หา NRI'!$D$58,1),B16))","v":""},"","","","","","","","",""]
[null,{"$f":"IF(B16=\"\",\"\",IF(B16+1<='หา NRI'!$D$58,B16+1,\"\"))","v":""},{"$f":"IF(NRI!F92=\"\",\"\",NRI!F92)","v":""},{"$f":"IF(C17=\"\",\"\",SMALL(OFFSET($C$7,0,0,'หา NRI'!$D$58,1),B17))","v":""},"","","","","","","","",""]
[null,{"$f":"IF(B17=\"\",\"\",IF(B17+1<='หา NRI'!$D$58,B17+1,\"\"))","v":""},{"$f":"IF(NRI!F93=\"\",\"\",NRI!F93)","v":""},{"$f":"IF(C18=\"\",\"\",SMALL(OFFSET($C$7,0,0,'หา NRI'!$D$58,1),B18))","v":""},"","","","","","","","",""]
[null,{"$f":"IF(B18=\"\",\"\",IF(B18+1<='หา NRI'!$D$58,B18+1,\"\"))","v":""},{"$f":"IF(NRI!F94=\"\",\"\",NRI!F94)","v":""},{"$f":"IF(C19=\"\",\"\",SMALL(OFFSET($C$7,0,0,'หา NRI'!$D$58,1),B19))","v":""},"","","","","","","","",""]
[null,{"$f":"IF(B19=\"\",\"\",IF(B19+1<='หา NRI'!$D$58,B19+1,\"\"))","v":""},{"$f":"IF(NRI!F95=\"\",\"\",NRI!F95)","v":""},{"$f":"IF(C20=\"\",\"\",SMALL(OFFSET($C$7,0,0,'หา NRI'!$D$58,1),B20))","v":""},"","","","","","","","",""]
[null,{"$f":"IF(B20=\"\",\"\",IF(B20+1<='หา NRI'!$D$58,B20+1,\"\"))","v":""},{"$f":"IF(NRI!F96=\"\",\"\",NRI!F96)","v":""},{"$f":"IF(C21=\"\",\"\",SMALL(OFFSET($C$7,0,0,'หา NRI'!$D$58,1),B21))","v":""},"","","","","","","","",""]
[null,{"$f":"IF(B21=\"\",\"\",IF(B21+1<='หา NRI'!$D$58,B21+1,\"\"))","v":""},{"$f":"IF(NRI!F97=\"\",\"\",NRI!F97)","v":""},{"$f":"IF(C22=\"\",\"\",SMALL(OFFSET($C$7,0,0,'หา NRI'!$D$58,1),B22))","v":""},"","","","","","","","",""]
[null,{"$f":"IF(B22=\"\",\"\",IF(B22+1<='หา NRI'!$D$58,B22+1,\"\"))","v":""},{"$f":"IF(NRI!F98=\"\",\"\",NRI!F98)","v":""},{"$f":"IF(C23=\"\",\"\",SMALL(OFFSET($C$7,0,0,'หา NRI'!$D$58,1),B23))","v":""},"","","","","","","","",""]
[null,{"$f":"IF(B23=\"\",\"\",IF(B23+1<='หา NRI'!$D$58,B23+1,\"\"))","v":""},{"$f":"IF(NRI!F99=\"\",\"\",NRI!F99)","v":""},{"$f":"IF(C24=\"\",\"\",SMALL(OFFSET($C$7,0,0,'หา NRI'!$D$58,1),B24))","v":""},"","","","","","","","",""]
[null,{"$f":"IF(B24=\"\",\"\",IF(B24+1<='หา NRI'!$D$58,B24+1,\"\"))","v":""},{"$f":"IF(NRI!F100=\"\",\"\",NRI!F100)","v":""},{"$f":"IF(C25=\"\",\"\",SMALL(OFFSET($C$7,0,0,'หา NRI'!$D$58,1),B25))","v":""},"","","","","","","","",""]
[null,{"$f":"IF(B25=\"\",\"\",IF(B25+1<='หา NRI'!$D$58,B25+1,\"\"))","v":""},{"$f":"IF(NRI!F101=\"\",\"\",NRI!F101)","v":""},{"$f":"IF(C26=\"\",\"\",SMALL(OFFSET($C$7,0,0,'หา NRI'!$D$58,1),B26))","v":""},"","","","","","","","",""]
[null,{"$f":"IF(B26=\"\",\"\",IF(B26+1<='หา NRI'!$D$58,B26+1,\"\"))","v":""},{"$f":"IF(NRI!F102=\"\",\"\",NRI!F102)","v":""},{"$f":"IF(C27=\"\",\"\",SMALL(OFFSET($C$7,0,0,'หา NRI'!$D$58,1),B27))","v":""},"","","","","","","","",""]
[null,{"$f":"IF(B27=\"\",\"\",IF(B27+1<='หา NRI'!$D$58,B27+1,\"\"))","v":""},{"$f":"IF(NRI!F103=\"\",\"\",NRI!F103)","v":""},{"$f":"IF(C28=\"\",\"\",SMALL(OFFSET($C$7,0,0,'หา NRI'!$D$58,1),B28))","v":""},"","","","","","","","",""]
[null,{"$f":"IF(B28=\"\",\"\",IF(B28+1<='หา NRI'!$D$58,B28+1,\"\"))","v":""},{"$f":"IF(NRI!F104=\"\",\"\",NRI!F104)","v":""},{"$f":"IF(C29=\"\",\"\",SMALL(OFFSET($C$7,0,0,'หา NRI'!$D$58,1),B29))","v":""},"","","","","","","","",""]
[null,{"$f":"IF(B29=\"\",\"\",IF(B29+1<='หา NRI'!$D$58,B29+1,\"\"))","v":""},{"$f":"IF(NRI!F105=\"\",\"\",NRI!F105)","v":""},{"$f":"IF(C30=\"\",\"\",SMALL(OFFSET($C$7,0,0,'หา NRI'!$D$58,1),B30))","v":""},"","","","","","","","",""]
[null,{"$f":"IF(B30=\"\",\"\",IF(B30+1<='หา NRI'!$D$58,B30+1,\"\"))","v":""},{"$f":"IF(NRI!F106=\"\",\"\",NRI!F106)","v":""},{"$f":"IF(C31=\"\",\"\",SMALL(OFFSET($C$7,0,0,'หา NRI'!$D$58,1),B31))","v":""},"","","","","","","","",""]
[null,{"$f":"IF(B31=\"\",\"\",IF(B31+1<='หา NRI'!$D$58,B31+1,\"\"))","v":""},{"$f":"IF(NRI!F107=\"\",\"\",NRI!F107)","v":""},{"$f":"IF(C32=\"\",\"\",SMALL(OFFSET($C$7,0,0,'หา NRI'!$D$58,1),B32))","v":""},"","","","","","","","",""]
[null,{"$f":"IF(B32=\"\",\"\",IF(B32+1<='หา NRI'!$D$58,B32+1,\"\"))","v":""},{"$f":"IF(NRI!F108=\"\",\"\",NRI!F108)","v":""},{"$f":"IF(C33=\"\",\"\",SMALL(OFFSET($C$7,0,0,'หา NRI'!$D$58,1),B33))","v":""},"","","","","","","","",""]
[null,{"$f":"IF(B33=\"\",\"\",IF(B33+1<='หา NRI'!$D$58,B33+1,\"\"))","v":""},{"$f":"IF(NRI!F109=\"\",\"\",NRI!F109)","v":""},{"$f":"IF(C34=\"\",\"\",SMALL(OFFSET($C$7,0,0,'หา NRI'!$D$58,1),B34))","v":""},"","","","","","","","",""]
[null,{"$f":"IF(B34=\"\",\"\",IF(B34+1<='หา NRI'!$D$58,B34+1,\"\"))","v":""},{"$f":"IF(NRI!F110=\"\",\"\",NRI!F110)","v":""},{"$f":"IF(C35=\"\",\"\",SMALL(OFFSET($C$7,0,0,'หา NRI'!$D$58,1),B35))","v":""},"","","","","","","","",""]
[null,{"$f":"IF(B35=\"\",\"\",IF(B35+1<='หา NRI'!$D$58,B35+1,\"\"))","v":""},{"$f":"IF(NRI!F111=\"\",\"\",NRI!F111)","v":""},{"$f":"IF(C36=\"\",\"\",SMALL(OFFSET($C$7,0,0,'หา NRI'!$D$58,1),B36))","v":""},"","","","","","","","",""]
[null,{"$f":"IF(B36=\"\",\"\",IF(B36+1<='หา NRI'!$D$58,B36+1,\"\"))","v":""},{"$f":"IF(NRI!F112=\"\",\"\",NRI!F112)","v":""},{"$f":"IF(C37=\"\",\"\",SMALL(OFFSET($C$7,0,0,'หา NRI'!$D$58,1),B37))","v":""},"","","","","","","","",""]
[null,{"$f":"IF(B37=\"\",\"\",IF(B37+1<='หา NRI'!$D$58,B37+1,\"\"))","v":""},{"$f":"IF(NRI!F113=\"\",\"\",NRI!F113)","v":""},{"$f":"IF(C38=\"\",\"\",SMALL(OFFSET($C$7,0,0,'หา NRI'!$D$58,1),B38))","v":""},"","","","","","","","",""]
[null,{"$f":"IF(B38=\"\",\"\",IF(B38+1<='หา NRI'!$D$58,B38+1,\"\"))","v":""},{"$f":"IF(NRI!F114=\"\",\"\",NRI!F114)","v":""},{"$f":"IF(C39=\"\",\"\",SMALL(OFFSET($C$7,0,0,'หา NRI'!$D$58,1),B39))","v":""},"","","","","","","","",""]
[null,{"$f":"IF(B39=\"\",\"\",IF(B39+1<='หา NRI'!$D$58,B39+1,\"\"))","v":""},{"$f":"IF(NRI!F115=\"\",\"\",NRI!F115)","v":""},{"$f":"IF(C40=\"\",\"\",SMALL(OFFSET($C$7,0,0,'หา NRI'!$D$58,1),B40))","v":""},"","","","","","","","",""]
[null,{"$f":"IF(B40=\"\",\"\",IF(B40+1<='หา NRI'!$D$58,B40+1,\"\"))","v":""},{"$f":"IF(NRI!F116=\"\",\"\",NRI!F116)","v":""},{"$f":"IF(C41=\"\",\"\",SMALL(OFFSET($C$7,0,0,'หา NRI'!$D$58,1),B41))","v":""},"","","","","","","","",""]
[null,{"$f":"IF(B41=\"\",\"\",IF(B41+1<='หา NRI'!$D$58,B41+1,\"\"))","v":""},{"$f":"IF(NRI!F117=\"\",\"\",NRI!F117)","v":""},{"$f":"IF(C42=\"\",\"\",SMALL(OFFSET($C$7,0,0,'หา NRI'!$D$58,1),B42))","v":""},"","","","","","","","",""]
[null,{"$f":"IF(B42=\"\",\"\",IF(B42+1<='หา NRI'!$D$58,B42+1,\"\"))","v":""},{"$f":"IF(NRI!F118=\"\",\"\",NRI!F118)","v":""},{"$f":"IF(C43=\"\",\"\",SMALL(OFFSET($C$7,0,0,'หา NRI'!$D$58,1),B43))","v":""},"","","","","","","","",""]
[null,{"$f":"IF(B43=\"\",\"\",IF(B43+1<='หา NRI'!$D$58,B43+1,\"\"))","v":""},{"$f":"IF(NRI!F119=\"\",\"\",NRI!F119)","v":""},{"$f":"IF(C44=\"\",\"\",SMALL(OFFSET($C$7,0,0,'หา NRI'!$D$58,1),B44))","v":""},"","","","","","","","",""]
[null,{"$f":"IF(B44=\"\",\"\",IF(B44+1<='หา NRI'!$D$58,B44+1,\"\"))","v":""},{"$f":"IF(NRI!F120=\"\",\"\",NRI!F120)","v":""},{"$f":"IF(C45=\"\",\"\",SMALL(OFFSET($C$7,0,0,'หา NRI'!$D$58,1),B45))","v":""},"","","","","","","","",""]
[null,{"$f":"IF(B45=\"\",\"\",IF(B45+1<='หา NRI'!$D$58,B45+1,\"\"))","v":""},{"$f":"IF(NRI!F121=\"\",\"\",NRI!F121)","v":""},{"$f":"IF(C46=\"\",\"\",SMALL(OFFSET($C$7,0,0,'หา NRI'!$D$58,1),B46))","v":""},"","","","","","","","",""]
[null,{"$f":"IF(B46=\"\",\"\",IF(B46+1<='หา NRI'!$D$58,B46+1,\"\"))","v":""},{"$f":"IF(NRI!F122=\"\",\"\",NRI!F122)","v":""},{"$f":"IF(C47=\"\",\"\",SMALL(OFFSET($C$7,0,0,'หา NRI'!$D$58,1),B47))","v":""},"","","","","","","","",""]
[null,{"$f":"IF(B47=\"\",\"\",IF(B47+1<='หา NRI'!$D$58,B47+1,\"\"))","v":""},{"$f":"IF(NRI!F123=\"\",\"\",NRI!F123)","v":""},{"$f":"IF(C48=\"\",\"\",SMALL(OFFSET($C$7,0,0,'หา NRI'!$D$58,1),B48))","v":""},"","","","","","","","",""]
[null,{"$f":"IF(B48=\"\",\"\",IF(B48+1<='หา NRI'!$D$58,B48+1,\"\"))","v":""},{"$f":"IF(NRI!F124=\"\",\"\",NRI!F124)","v":""},{"$f":"IF(C49=\"\",\"\",SMALL(OFFSET($C$7,0,0,'หา NRI'!$D$58,1),B49))","v":""},"","","","","","","","",""]
[null,{"$f":"IF(B49=\"\",\"\",IF(B49+1<='หา NRI'!$D$58,B49+1,\"\"))","v":""},{"$f":"IF(NRI!F125=\"\",\"\",NRI!F125)","v":""},{"$f":"IF(C50=\"\",\"\",SMALL(OFFSET($C$7,0,0,'หา NRI'!$D$58,1),B50))","v":""},"","","","","","","","",""]
[null,{"$f":"IF(B50=\"\",\"\",IF(B50+1<='หา NRI'!$D$58,B50+1,\"\"))","v":""},{"$f":"IF(NRI!F126=\"\",\"\",NRI!F126)","v":""},{"$f":"IF(C51=\"\",\"\",SMALL(OFFSET($C$7,0,0,'หา NRI'!$D$58,1),B51))","v":""},"","","","","","","","",""]
[null,{"$f":"IF(B51=\"\",\"\",IF(B51+1<='หา NRI'!$D$58,B51+1,\"\"))","v":""},{"$f":"IF(NRI!F127=\"\",\"\",NRI!F127)","v":""},{"$f":"IF(C52=\"\",\"\",SMALL(OFFSET($C$7,0,0,'หา NRI'!$D$58,1),B52))","v":""},"","","","","","","","",""]
[null,{"$f":"IF(B52=\"\",\"\",IF(B52+1<='หา NRI'!$D$58,B52+1,\"\"))","v":""},{"$f":"IF(NRI!F128=\"\",\"\",NRI!F128)","v":""},{"$f":"IF(C53=\"\",\"\",SMALL(OFFSET($C$7,0,0,'หา NRI'!$D$58,1),B53))","v":""},"","","","","","","","",""]
[null,{"$f":"IF(B53=\"\",\"\",IF(B53+1<='หา NRI'!$D$58,B53+1,\"\"))","v":""},{"$f":"IF(NRI!F129=\"\",\"\",NRI!F129)","v":""},{"$f":"IF(C54=\"\",\"\",SMALL(OFFSET($C$7,0,0,'หา NRI'!$D$58,1),B54))","v":""},"","","","","","","","",""]
[null,{"$f":"IF(B54=\"\",\"\",IF(B54+1<='หา NRI'!$D$58,B54+1,\"\"))","v":""},{"$f":"IF(NRI!F130=\"\",\"\",NRI!F130)","v":""},{"$f":"IF(C55=\"\",\"\",SMALL(OFFSET($C$7,0,0,'หา NRI'!$D$58,1),B55))","v":""},"","","","","","","","",""]
[null,{"$f":"IF(B55=\"\",\"\",IF(B55+1<='หา NRI'!$D$58,B55+1,\"\"))","v":""},{"$f":"IF(NRI!F131=\"\",\"\",NRI!F131)","v":""},{"$f":"IF(C56=\"\",\"\",SMALL(OFFSET($C$7,0,0,'หา NRI'!$D$58,1),B56))","v":""},"","","","","","","","",""]
[null,{"$f":"IF(B56=\"\",\"\",IF(B56+1<='หา NRI'!$D$58,B56+1,\"\"))","v":""},{"$f":"IF(NRI!F132=\"\",\"\",NRI!F132)","v":""},{"$f":"IF(C57=\"\",\"\",SMALL(OFFSET($C$7,0,0,'หา NRI'!$D$58,1),B57))","v":""},"","","","","","","","",""]
[null,"MEAN",{"$f":"AVERAGE(C7:C57)","v":{"$error":"#DIV/0!"}},null,null,"MAX",{"$f":"MAX(G7:G57)","v":0},null,"MAX",{"$f":"MAX(J7:J57)","v":0},null,"MAX",{"$f":"MAX(M7:M17)","v":0}]
[null,"STD.",{"$f":"STDEV(C7:C57)","v":{"$error":"#DIV/0!"}},null,null,{"$f":"\"Delta \"&COUNT(B7:B57)&\", \"&OFFSET('หา NRI'!A48,MATCH(G59,'หา NRI'!G49:G52,0),0,1,1)*100&\"%\"","v":{"$error":"#N/A"}},{"$f":"IF('หา NRI'!G50>G58,'หา NRI'!G50,'หา NRI'!G49)","v":{"$error":"#N/A"}},{"$f":"IF(G58<G59,\"ok\",\"\")","v":{"$error":"#N/A"}},{"$f":"F59","v":{"$error":"#N/A"}},{"$f":"G59","v":{"$error":"#N/A"}},{"$f":"IF(G58<G59,\"ok\",\"\")","v":{"$error":"#N/A"}},{"$f":"F59","v":{"$error":"#N/A"}},{"$f":"G59","v":{"$error":"#N/A"}}]
[null,"Location",{"$f":"C58-(0.45*C59)","v":{"$error":"#DIV/0!"}},null,null,null,{"$f":"IF(G58<G59,IF(G58<J58,\"GUMBEL\",\"\"),\"\")","v":{"$error":"#N/A"}},null,null,{"$f":"IF(J58<J59,IF(J58<G58,\"NORMAL\",\"\"),\"\")","v":{"$error":"#N/A"}}]
[null,"Scale",{"$f":"0.7797*C59","v":{"$error":"#DIV/0!"}},null,null,null,null,{"$f":"\"เดือน\"&D4&\"เป็นการแจกแจงแบบ  \"&G60&J60","v":{"$error":"#N/A"}}]
[null,"MEAN Y",{"$f":"AVERAGE(K7:K17)","v":{"$error":"#DIV/0!"}}]
[null,"STD. Y",{"$f":"STDEV(K7:K17)","v":{"$error":"#DIV/0!"}}]
[null,"MAX X",{"$f":"MAX(D7:D57)","v":0},null,{"$f":"\"ดังนั้น ปริมาณน้ำไหลเข้าอ่างเก็บน้ำสุทธิในเดือน \"&D4&\" จะเหมาะสมกับการแจกแจงแบบ \" &G60&J60&\" ที่ระดับนัยสำคัญ \"&OFFSET('หา NRI'!A48,MATCH(G59,'หา NRI'!G49:G52,0),0,1,1)*100&\"%\"","v":{"$error":"#N/A"}}]
[null,"MIN X",{"$f":"MIN(D7:D57)","v":0}]
[null,null,null,null,null,null,null,null,"แนะนำกว้าง",{"$f":"ROUND(($L$68-$L$69)/$J$68,0)","v":0}]
[null," 7.  สร้างเส้นโค้งของการแจกแจง NRI",null,null,null,null,null,null,"กว้างชั้นละ",{"$f":"ROUND(($L$68-$L$69)/$J$68,0)","v":0},"Max - Min"]
[null,null,"Range; R =",{"$f":"C64-C65","v":0},"Class Interval ; CI =",null,{"$f":"D68/D69","v":0},null,"จำนวนชั้น",3,"MAX X",{"$f":"C64","v":0}]
[null,null,"Class ; C =",{"$f":"J68","v":3},null,null,null,null,"เริ่มที่",0,"MIN X",{"$f":"C65","v":0}]
[null,"Class","Class Interval","Mid-Range",null,"(Xi)*ni","(X(i))^2","ni*(X(i))^2"]
[null,"(i)","(mcm.)","(Xi)"]
[null,1,{"$f":"IF(B72<=$J$68,\"(\"&J69&\")-(\"&K72&\")\",\"\")","v":"(0)-(0)"},{"$f":"IF(B72<=$J$68,(J69+K72)/2,\"\")","v":0},{"$f":"IF(B72<=$J$68,M72,\"\")","v":0},{"$f":"IF(B72<=$J$68,D72*E72,\"\")","v":0},{"$f":"IF(B72<=$J$68,D72^2,\"\")","v":0},{"$f":"IF(B72<=$J$68,E72*G72,\"\")","v":0},{"$f":"IF(B72<=$D$69,1,0)","v":1},{"$f":"J69","v":0},{"$f":"$J$69+(B72*$J$67)","v":0},{"$f":"COUNTIF($C$7:$C$45,\"<\"&J73-0.5)","v":0},{"$f":"L72","v":0}]
[null,{"$f":"IF(B72+1<=J68,B72+1,\"\")","v":2},{"$f":"IF(B73<=$J$68,IF(I74=1,\"(\"&J73&\")-(\"&K73&\")\",\">\"&J73),\"\")","v":"(1)-(0)"},{"$f":"IF(B73<=$J$68,(J73+K73)/2,\"\")","v":0.5},0,0,0.25,0,1,{"$f":"IF(I73=1,K72+1,9999)","v":1},0,{"$f":"COUNTIF($C$7:$C$45,\"<\"&J74-0.5)","v":0},{"$f":"L73-L72","v":0}]
[null,{"$f":"B73+1","v":3},">1",0.5,0,0,0.25,0,1,1,0,0,0]
[null,4,"","","","","","",0,9999,0,0,0]
[null,5,"","","","","","",0,9999,0,0,0]
[null,6,"","","","","","",0,9999,0,0,0]
[null,7,"","","","","","",0,9999,0,0,0]
[null,8,"","","","","","",0,9999,0,0,0]
[null,9,"","","","","","",0,9999,0,0,0]
[null,10,"","","","","","",0,9999,0,0,0]
[null,11,"","","","","","",0,9999,0,0,0]
[null,12,"","","","","","",0,9999,0,0,0]
[null,13,"","","","","","",0,9999,0,0,0]
[null,14,"","","","","","",0,9999,0,0,0]
[null,15,"","","","","","",0,9999,0,0,0]
[null,16,"","","","","","",0,9999,0,0,0]
[null,17,"","","","","","",0,9999,0,{"$f":"COUNTIF($C$7:$C$45,\"<\"&J89-0.5)","v":0},0]
[null,"SUM",null,null,{"$f":"SUM(E72:E88)","v":0},{"$f":"SUM(F72:F88)","v":0},{"$f":"SUM(G72:G88)","v":0.5},{"$f":"SUM(H72:H88)","v":0},null,9999]
[null,null,"Mean",{"$f":"F89/E89","v":{"$error":"#DIV/0!"}},"(Mean)^2",{"$f":"D90*D90","v":{"$error":"#DIV/0!"}},"Location",{"$f":"D90-(0.45*D91)","v":{"$error":"#DIV/0!"}}]
[null,null,"STD.",{"$f":"((H89/E89)-F90)^0.5","v":{"$error":"#DIV/0!"}},null,null,"Scale",{"$f":"0.7797*D91","v":{"$error":"#DIV/0!"}}]
[]
[null,{"$f":"\"การแจกแจงแบบ \"&G60&J60&\" กับปริมาณน้ำท่าสุทธิเดือน \"&D4&\" ของอ่าง\"&L2","v":{"$error":"#N/A"}},null,null,null,null,null,null,null,"ตารางแจกแจงความถี่"]
[null,"Class","Class Interval",null,null,null,null,null,null,"Class","p(Xi)",0.05,0.1,0.15]
[null,"(i)","(mcm.)",null,null,null,{"$f":"G60&J60","v":{"$error":"#N/A"}}]
[null,{"$f":"B72","v":1},{"$f":"IF(B96<=$J$68,C72,\"\")","v":"(0)-(0)"},{"$f":"IF(B96<=$J$68,E72,\"\")","v":0},{"$f":"IF(B96<=$J$68,D96/$D$113,\"\")","v":{"$error":"#DIV/0!"}},{"$f":"IF(B96<=$J$68,E96,\"\")","v":{"$error":"#DIV/0!"}},{"$f":"IF(B96<=$J$68,IF($G$60=\"GUMBEL\",EXP(-EXP(-(J96-$H$90)/$H$91)),NORMDIST(J96,$D$90,$D$91,TRUE)),\"\")","v":{"$error":"#N/A"}},{"$f":"IF(B96<=$J$68,G96,\"\")","v":{"$error":"#N/A"}},null,{"$f":"K72","v":0},{"$f":"H96","v":{"$error":"#N/A"}},0.05,0.1,0.15]
[null,{"$f":"B96+1","v":2},"(1)-(0)",0,{"$error":"#DIV/0!"},{"$f":"IF(B97<=$J$68,E97+F96,\"\")","v":{"$error":"#DIV/0!"}},{"$error":"#N/A"},{"$f":"IF(B97<=$J$68,G97-G96,\"\")","v":{"$error":"#N/A"}},null,{"$f":"K73","v":0},{"$f":"H97","v":{"$error":"#N/A"}},0.05,0.1,0.15]
[null,3,">1",0,{"$error":"#DIV/0!"},{"$error":"#DIV/0!"},{"$error":"#N/A"},{"$error":"#N/A"},null,{"$f":"K74","v":0},{"$error":"#N/A"},0.05,0.1,0.15]
[null,4,"","","","","","",null,0,"",0.05,0.1,0.15]
[null,5,"","","","","","",null,0,"",0.05,0.1,0.15]
[null,6,"","","","","","",null,0,"",0.05,0.1,0.15]
[null,7,"","","","","","",null,0,"",0.05,0.1,0.15]
[null,8,"","","","","","",null,0,"",0.05,0.1,0.15]
[null,9,"","","","","","",null,0,"",0.05,0.1,0.15]
[null,10,"","","","","","",null,0,"",0.05,0.1,0.15]
[null,11,"","","","","","",null,0,"",0.05,0.1,0.15]
[null,12,"","","","","","",null,0,"",0.05,0.1,0.15]
[null,13,"","","","","","",null,0,"",0.05,0.1,0.15]
[null,14,"","","","","","",null,0,"",0.05,0.1,0.15]
[null,15,"","","","","","",null,0,"",0.05,0.1,0.15]
[null,16,"","","","","","",null,0,"",0.05,0.1,0.15]
[null,17,"","","","","","",null,0,"",0.05,0.1,0.15]
[null,null,"Sum",{"$f":"SUM(D96:D112)","v":0},{"$f":"SUM(E96:E112)","v":{"$error":"#DIV/0!"}},null,null,{"$f":"SUM(H96:H112)","v":{"$error":"#N/A"}}]
[]
[{"$f":"\"8. หาค่าVolume of Flood Control Reserve ของเดือน\"&D4&\"ที่ค่าความเสี่ยงต่างๆ จากกราฟการแจกแจงความน่าจะเป็น\"","v":"8. หาค่าVolume of Flood Control Reserve ของเดือนเมษายนที่ค่าความเสี่ยงต่างๆ จากกราฟการแจกแจงความน่าจะเป็น"}]
[]
[]
[]
[]
[]
[]
[]
[]
[]
[]
[null,null,null,null,null,null,null,null,null,"P(NRIt>VFCt)< Risk"]
[null,null,null,null,null,null,null,null,null,{"$f":"IF(NRI!E54<0,\"Volume Buffer\",\"Volum Flood Control\")","v":{"$error":"#DIV/0!"}}]
[null,null,null,null,null,null,null,null,null,"Risk(%)",{"$f":"IF(NRI!E54<0,\"VBUF(mcm)\",\"VFC(mcm)\")","v":{"$error":"#DIV/0!"}},null,"X-Axis","X-ordinate","Y-Axis","Y-ordinate"]
[null,null,null,null,null,null,null,null,null,15,300,null,"X1=",374,"Y1=",0.15912074047763369]
[null,null,null,null,null,null,null,null,null,10,328,null,"X2=",475,"Y2=",0.13117031761875575]
[null,null,null,null,null,null,null,null,null,5,365,null,"X0=",{"$f":"N129-((N129-N130)*(P129-P131)/(P129-P130))","v":406.95817000308466},"Y0=",0.15]

{"sheet":"พ.ค.","index":13,"n_rows":131,"n_cols":16,"rows_kept":131,"cut":false,"hidden":true,"merged":[[125,9,125,12],[60,7,61,12],[63,4,63,14],[67,4,67,5],[88,1,88,3],[93,11,94,11],[93,12,94,12],[93,13,94,13],[66,10,66,11],[93,9,94,9],[93,10,94,10],[92,9,92,13]]}
[]
[null,"6. การหาค่าสถิติและการทดสอบความเหมาะสมของ Distribution Function กับข้อมูล Net Reservoir Inflow(NIR)",null,null,null,null,null,null,null,null,null,{"$f":"NRI!O1","v":0}]
[]
[null,5,"May","พฤษภาคม"]
[null,null,null,null,"Empirical","GUMBEL",null,"NORMAL",null,null,"LOG-NORMAL"]
[null,"No.","NRI","(X)","F'(X)","F(x)","F'(X)-F(X)","Z","F(x)","F'(X)-F(X)","Y","F(x)","F'(X)-f(X)"]
[null,{"$f":"IF(1<='หา NRI'!$D$58,1,\"\")","v":1},{"$f":"IF(NRI!G82=\"\",\"\",NRI!G82)","v":""},{"$f":"IF(C7=\"\",\"\",SMALL(OFFSET($C$7,0,0,'หา NRI'!$D$58,1),B7))","v":""},{"$f":"IF(C7=\"\",\"\",B7/(COUNT($B$7:$B$57)+1))","v":""},{"$f":"IF(C7=\"\",\"\",EXP(-EXP(-(D7-$C$60)/$C$61)))","v":""},{"$f":"IF(C7=\"\",\"\",ABS(E7-F7))","v":""},{"$f":"IF(C7=\"\",\"\",(D7-$C$58)/$C$59)","v":""},{"$f":"IF(C7=\"\",\"\",NORMSDIST(H7))","v":""},{"$f":"IF(C7=\"\",\"\",ABS(E7-I7))","v":""},{"$f":"IF(C7=\"\",\"\",(LN(D7)))","v":""},{"$f":"IF(C7=\"\",\"\",(LOGNORMDIST(D7,$C$61,$C$62)))","v":""},{"$f":"IF(C7=\"\",\"\",(ABS(E7-L7)))","v":""}]
[null,{"$f":"IF(B7=\"\",\"\",IF(B7+1<='หา NRI'!$D$58,B7+1,\"\"))","v":2},{"$f":"IF(NRI!G83=\"\",\"\",NRI!G83)","v":""},{"$f":"IF(C8=\"\",\"\",SMALL(OFFSET($C$7,0,0,'หา NRI'!$D$58,1),B8))","v":""},{"$f":"IF(C8=\"\",\"\",B8/(COUNT($B$7:$B$57)+1))","v":""},{"$f":"IF(C8=\"\",\"\",EXP(-EXP(-(D8-$C$60)/$C$61)))","v":""},{"$f":"IF(C8=\"\",\"\",ABS(E8-F8))","v":""},{"$f":"IF(C8=\"\",\"\",(D8-$C$58)/$C$59)","v":""},{"$f":"IF(C8=\"\",\"\",NORMSDIST(H8))","v":""},{"$f":"IF(C8=\"\",\"\",ABS(E8-I8))","v":""},{"$f":"IF(C8=\"\",\"\",(LN(D8)))","v":""},{"$f":"IF(C8=\"\",\"\",(LOGNORMDIST(D8,$C$61,$C$62)))","v":""},{"$f":"IF(C8=\"\",\"\",(ABS(E8-L8)))","v":""}]
[null,{"$f":"IF(B8=\"\",\"\",IF(B8+1<='หา NRI'!$D$58,B8+1,\"\"))","v":3},{"$f":"IF(NRI!G84=\"\",\"\",NRI!G84)","v":""},{"$f":"IF(C9=\"\",\"\",SMALL(OFFSET($C$7,0,0,'หา NRI'!$D$58,1),B9))","v":""},"","","","","","","","",""]
[null,{"$f":"IF(B9=\"\",\"\",IF(B9+1<='หา NRI'!$D$58,B9+1,\"\"))","v":4},{"$f":"IF(NRI!G85=\"\",\"\",NRI!G85)","v":""},{"$f":"IF(C10=\"\",\"\",SMALL(OFFSET($C$7,0,0,'หา NRI'!$D$58,1),B10))","v":""},"","","","","","","","",""]
[null,{"$f":"IF(B10=\"\",\"\",IF(B10+1<='หา NRI'!$D$58,B10+1,\"\"))","v":""},{"$f":"IF(NRI!G86=\"\",\"\",NRI!G86)","v":""},{"$f":"IF(C11=\"\",\"\",SMALL(OFFSET($C$7,0,0,'หา NRI'!$D$58,1),B11))","v":""},"","","","","","","","",""]
[null,{"$f":"IF(B11=\"\",\"\",IF(B11+1<='หา NRI'!$D$58,B11+1,\"\"))","v":""},{"$f":"IF(NRI!G87=\"\",\"\",NRI!G87)","v":""},{"$f":"IF(C12=\"\",\"\",SMALL(OFFSET($C$7,0,0,'หา NRI'!$D$58,1),B12))","v":""},"","","","","","","","",""]
[null,{"$f":"IF(B12=\"\",\"\",IF(B12+1<='หา NRI'!$D$58,B12+1,\"\"))","v":""},{"$f":"IF(NRI!G88=\"\",\"\",NRI!G88)","v":""},{"$f":"IF(C13=\"\",\"\",SMALL(OFFSET($C$7,0,0,'หา NRI'!$D$58,1),B13))","v":""},"","","","","","","","",""]
[null,{"$f":"IF(B13=\"\",\"\",IF(B13+1<='หา NRI'!$D$58,B13+1,\"\"))","v":""},{"$f":"IF(NRI!G89=\"\",\"\",NRI!G89)","v":""},{"$f":"IF(C14=\"\",\"\",SMALL(OFFSET($C$7,0,0,'หา NRI'!$D$58,1),B14))","v":""},"","","","","","","","",""]
[null,{"$f":"IF(B14=\"\",\"\",IF(B14+1<='หา NRI'!$D$58,B14+1,\"\"))","v":""},{"$f":"IF(NRI!G90=\"\",\"\",NRI!G90)","v":""},{"$f":"IF(C15=\"\",\"\",SMALL(OFFSET($C$7,0,0,'หา NRI'!$D$58,1),B15))","v":""},"","","","","","","","",""]
[null,{"$f":"IF(B15=\"\",\"\",IF(B15+1<='หา NRI'!$D$58,B15+1,\"\"))","v":""},{"$f":"IF(NRI!G91=\"\",\"\",NRI!G91)","v":""},{"$f":"IF(C16=\"\",\"\",SMALL(OFFSET($C$7,0,0,'หา NRI'!$D$58,1),B16))","v":""},"","","","","","","","",""]
[null,{"$f":"IF(B16=\"\",\"\",IF(B16+1<='หา NRI'!$D$58,B16+1,\"\"))","v":""},{"$f":"IF(NRI!G92=\"\",\"\",NRI!G92)","v":""},{"$f":"IF(C17=\"\",\"\",SMALL(OFFSET($C$7,0,0,'หา NRI'!$D$58,1),B17))","v":""},"","","","","","","","",""]
[null,{"$f":"IF(B17=\"\",\"\",IF(B17+1<='หา NRI'!$D$58,B17+1,\"\"))","v":""},{"$f":"IF(NRI!G93=\"\",\"\",NRI!G93)","v":""},{"$f":"IF(C18=\"\",\"\",SMALL(OFFSET($C$7,0,0,'หา NRI'!$D$58,1),B18))","v":""},"","","","","","","","",""]
[null,{"$f":"IF(B18=\"\",\"\",IF(B18+1<='หา NRI'!$D$58,B18+1,\"\"))","v":""},{"$f":"IF(NRI!G94=\"\",\"\",NRI!G94)","v":""},{"$f":"IF(C19=\"\",\"\",SMALL(OFFSET($C$7,0,0,'หา NRI'!$D$58,1),B19))","v":""},"","","","","","","","",""]
[null,{"$f":"IF(B19=\"\",\"\",IF(B19+1<='หา NRI'!$D$58,B19+1,\"\"))","v":""},{"$f":"IF(NRI!G95=\"\",\"\",NRI!G95)","v":""},{"$f":"IF(C20=\"\",\"\",SMALL(OFFSET($C$7,0,0,'หา NRI'!$D$58,1),B20))","v":""},"","","","","","","","",""]
[null,{"$f":"IF(B20=\"\",\"\",IF(B20+1<='หา NRI'!$D$58,B20+1,\"\"))","v":""},{"$f":"IF(NRI!G96=\"\",\"\",NRI!G96)","v":""},{"$f":"IF(C21=\"\",\"\",SMALL(OFFSET($C$7,0,0,'หา NRI'!$D$58,1),B21))","v":""},"","","","","","","","",""]
[null,{"$f":"IF(B21=\"\",\"\",IF(B21+1<='หา NRI'!$D$58,B21+1,\"\"))","v":""},{"$f":"IF(NRI!G97=\"\",\"\",NRI!G97)","v":""},{"$f":"IF(C22=\"\",\"\",SMALL(OFFSET($C$7,0,0,'หา NRI'!$D$58,1),B22))","v":""},"","","","","","","","",""]
[null,{"$f":"IF(B22=\"\",\"\",IF(B22+1<='หา NRI'!$D$58,B22+1,\"\"))","v":""},{"$f":"IF(NRI!G98=\"\",\"\",NRI!G98)","v":""},{"$f":"IF(C23=\"\",\"\",SMALL(OFFSET($C$7,0,0,'หา NRI'!$D$58,1),B23))","v":""},"","","","","","","","",""]
[null,{"$f":"IF(B23=\"\",\"\",IF(B23+1<='หา NRI'!$D$58,B23+1,\"\"))","v":""},{"$f":"IF(NRI!G99=\"\",\"\",NRI!G99)","v":""},{"$f":"IF(C24=\"\",\"\",SMALL(OFFSET($C$7,0,0,'หา NRI'!$D$58,1),B24))","v":""},"","","","","","","","",""]
[null,{"$f":"IF(B24=\"\",\"\",IF(B24+1<='หา NRI'!$D$58,B24+1,\"\"))","v":""},{"$f":"IF(NRI!G100=\"\",\"\",NRI!G100)","v":""},{"$f":"IF(C25=\"\",\"\",SMALL(OFFSET($C$7,0,0,'หา NRI'!$D$58,1),B25))","v":""},"","","","","","","","",""]
[null,{"$f":"IF(B25=\"\",\"\",IF(B25+1<='หา NRI'!$D$58,B25+1,\"\"))","v":""},{"$f":"IF(NRI!G101=\"\",\"\",NRI!G101)","v":""},{"$f":"IF(C26=\"\",\"\",SMALL(OFFSET($C$7,0,0,'หา NRI'!$D$58,1),B26))","v":""},"","","","","","","","",""]
[null,{"$f":"IF(B26=\"\",\"\",IF(B26+1<='หา NRI'!$D$58,B26+1,\"\"))","v":""},{"$f":"IF(NRI!G102=\"\",\"\",NRI!G102)","v":""},{"$f":"IF(C27=\"\",\"\",SMALL(OFFSET($C$7,0,0,'หา NRI'!$D$58,1),B27))","v":""},"","","","","","","","",""]
[null,{"$f":"IF(B27=\"\",\"\",IF(B27+1<='หา NRI'!$D$58,B27+1,\"\"))","v":""},{"$f":"IF(NRI!G103=\"\",\"\",NRI!G103)","v":""},{"$f":"IF(C28=\"\",\"\",SMALL(OFFSET($C$7,0,0,'หา NRI'!$D$58,1),B28))","v":""},"","","","","","","","",""]
[null,{"$f":"IF(B28=\"\",\"\",IF(B28+1<='หา NRI'!$D$58,B28+1,\"\"))","v":""},{"$f":"IF(NRI!G104=\"\",\"\",NRI!G104)","v":""},{"$f":"IF(C29=\"\",\"\",SMALL(OFFSET($C$7,0,0,'หา NRI'!$D$58,1),B29))","v":""},"","","","","","","","",""]
[null,{"$f":"IF(B29=\"\",\"\",IF(B29+1<='หา NRI'!$D$58,B29+1,\"\"))","v":""},{"$f":"IF(NRI!G105=\"\",\"\",NRI!G105)","v":""},{"$f":"IF(C30=\"\",\"\",SMALL(OFFSET($C$7,0,0,'หา NRI'!$D$58,1),B30))","v":""},"","","","","","","","",""]
[null,{"$f":"IF(B30=\"\",\"\",IF(B30+1<='หา NRI'!$D$58,B30+1,\"\"))","v":""},{"$f":"IF(NRI!G106=\"\",\"\",NRI!G106)","v":""},{"$f":"IF(C31=\"\",\"\",SMALL(OFFSET($C$7,0,0,'หา NRI'!$D$58,1),B31))","v":""},"","","","","","","","",""]
[null,{"$f":"IF(B31=\"\",\"\",IF(B31+1<='หา NRI'!$D$58,B31+1,\"\"))","v":""},{"$f":"IF(NRI!G107=\"\",\"\",NRI!G107)","v":""},{"$f":"IF(C32=\"\",\"\",SMALL(OFFSET($C$7,0,0,'หา NRI'!$D$58,1),B32))","v":""},"","","","","","","","",""]
[null,{"$f":"IF(B32=\"\",\"\",IF(B32+1<='หา NRI'!$D$58,B32+1,\"\"))","v":""},{"$f":"IF(NRI!G108=\"\",\"\",NRI!G108)","v":""},{"$f":"IF(C33=\"\",\"\",SMALL(OFFSET($C$7,0,0,'หา NRI'!$D$58,1),B33))","v":""},"","","","","","","","",""]
[null,{"$f":"IF(B33=\"\",\"\",IF(B33+1<='หา NRI'!$D$58,B33+1,\"\"))","v":""},{"$f":"IF(NRI!G109=\"\",\"\",NRI!G109)","v":""},{"$f":"IF(C34=\"\",\"\",SMALL(OFFSET($C$7,0,0,'หา NRI'!$D$58,1),B34))","v":""},"","","","","","","","",""]
[null,{"$f":"IF(B34=\"\",\"\",IF(B34+1<='หา NRI'!$D$58,B34+1,\"\"))","v":""},{"$f":"IF(NRI!G110=\"\",\"\",NRI!G110)","v":""},{"$f":"IF(C35=\"\",\"\",SMALL(OFFSET($C$7,0,0,'หา NRI'!$D$58,1),B35))","v":""},"","","","","","","","",""]
[null,{"$f":"IF(B35=\"\",\"\",IF(B35+1<='หา NRI'!$D$58,B35+1,\"\"))","v":""},{"$f":"IF(NRI!G111=\"\",\"\",NRI!G111)","v":""},{"$f":"IF(C36=\"\",\"\",SMALL(OFFSET($C$7,0,0,'หา NRI'!$D$58,1),B36))","v":""},"","","","","","","","",""]
[null,{"$f":"IF(B36=\"\",\"\",IF(B36+1<='หา NRI'!$D$58,B36+1,\"\"))","v":""},{"$f":"IF(NRI!G112=\"\",\"\",NRI!G112)","v":""},{"$f":"IF(C37=\"\",\"\",SMALL(OFFSET($C$7,0,0,'หา NRI'!$D$58,1),B37))","v":""},"","","","","","","","",""]
[null,{"$f":"IF(B37=\"\",\"\",IF(B37+1<='หา NRI'!$D$58,B37+1,\"\"))","v":""},{"$f":"IF(NRI!G113=\"\",\"\",NRI!G113)","v":""},{"$f":"IF(C38=\"\",\"\",SMALL(OFFSET($C$7,0,0,'หา NRI'!$D$58,1),B38))","v":""},"","","","","","","","",""]
[null,{"$f":"IF(B38=\"\",\"\",IF(B38+1<='หา NRI'!$D$58,B38+1,\"\"))","v":""},{"$f":"IF(NRI!G114=\"\",\"\",NRI!G114)","v":""},{"$f":"IF(C39=\"\",\"\",SMALL(OFFSET($C$7,0,0,'หา NRI'!$D$58,1),B39))","v":""},"","","","","","","","",""]
[null,{"$f":"IF(B39=\"\",\"\",IF(B39+1<='หา NRI'!$D$58,B39+1,\"\"))","v":""},{"$f":"IF(NRI!G115=\"\",\"\",NRI!G115)","v":""},{"$f":"IF(C40=\"\",\"\",SMALL(OFFSET($C$7,0,0,'หา NRI'!$D$58,1),B40))","v":""},"","","","","","","","",""]
[null,{"$f":"IF(B40=\"\",\"\",IF(B40+1<='หา NRI'!$D$58,B40+1,\"\"))","v":""},{"$f":"IF(NRI!G116=\"\",\"\",NRI!G116)","v":""},{"$f":"IF(C41=\"\",\"\",SMALL(OFFSET($C$7,0,0,'หา NRI'!$D$58,1),B41))","v":""},"","","","","","","","",""]
[null,{"$f":"IF(B41=\"\",\"\",IF(B41+1<='หา NRI'!$D$58,B41+1,\"\"))","v":""},{"$f":"IF(NRI!G117=\"\",\"\",NRI!G117)","v":""},{"$f":"IF(C42=\"\",\"\",SMALL(OFFSET($C$7,0,0,'หา NRI'!$D$58,1),B42))","v":""},"","","","","","","","",""]
[null,{"$f":"IF(B42=\"\",\"\",IF(B42+1<='หา NRI'!$D$58,B42+1,\"\"))","v":""},{"$f":"IF(NRI!G118=\"\",\"\",NRI!G118)","v":""},{"$f":"IF(C43=\"\",\"\",SMALL(OFFSET($C$7,0,0,'หา NRI'!$D$58,1),B43))","v":""},"","","","","","","","",""]
[null,{"$f":"IF(B43=\"\",\"\",IF(B43+1<='หา NRI'!$D$58,B43+1,\"\"))","v":""},{"$f":"IF(NRI!G119=\"\",\"\",NRI!G119)","v":""},{"$f":"IF(C44=\"\",\"\",SMALL(OFFSET($C$7,0,0,'หา NRI'!$D$58,1),B44))","v":""},"","","","","","","","",""]
[null,{"$f":"IF(B44=\"\",\"\",IF(B44+1<='หา NRI'!$D$58,B44+1,\"\"))","v":""},{"$f":"IF(NRI!G120=\"\",\"\",NRI!G120)","v":""},{"$f":"IF(C45=\"\",\"\",SMALL(OFFSET($C$7,0,0,'หา NRI'!$D$58,1),B45))","v":""},"","","","","","","","",""]
[null,{"$f":"IF(B45=\"\",\"\",IF(B45+1<='หา NRI'!$D$58,B45+1,\"\"))","v":""},{"$f":"IF(NRI!G121=\"\",\"\",NRI!G121)","v":""},{"$f":"IF(C46=\"\",\"\",SMALL(OFFSET($C$7,0,0,'หา NRI'!$D$58,1),B46))","v":""},"","","","","","","","",""]
[null,{"$f":"IF(B46=\"\",\"\",IF(B46+1<='หา NRI'!$D$58,B46+1,\"\"))","v":""},{"$f":"IF(NRI!G122=\"\",\"\",NRI!G122)","v":""},{"$f":"IF(C47=\"\",\"\",SMALL(OFFSET($C$7,0,0,'หา NRI'!$D$58,1),B47))","v":""},"","","","","","","","",""]
[null,{"$f":"IF(B47=\"\",\"\",IF(B47+1<='หา NRI'!$D$58,B47+1,\"\"))","v":""},{"$f":"IF(NRI!G123=\"\",\"\",NRI!G123)","v":""},{"$f":"IF(C48=\"\",\"\",SMALL(OFFSET($C$7,0,0,'หา NRI'!$D$58,1),B48))","v":""},"","","","","","","","",""]
[null,{"$f":"IF(B48=\"\",\"\",IF(B48+1<='หา NRI'!$D$58,B48+1,\"\"))","v":""},{"$f":"IF(NRI!G124=\"\",\"\",NRI!G124)","v":""},{"$f":"IF(C49=\"\",\"\",SMALL(OFFSET($C$7,0,0,'หา NRI'!$D$58,1),B49))","v":""},"","","","","","","","",""]
[null,{"$f":"IF(B49=\"\",\"\",IF(B49+1<='หา NRI'!$D$58,B49+1,\"\"))","v":""},{"$f":"IF(NRI!G125=\"\",\"\",NRI!G125)","v":""},{"$f":"IF(C50=\"\",\"\",SMALL(OFFSET($C$7,0,0,'หา NRI'!$D$58,1),B50))","v":""},"","","","","","","","",""]
[null,{"$f":"IF(B50=\"\",\"\",IF(B50+1<='หา NRI'!$D$58,B50+1,\"\"))","v":""},{"$f":"IF(NRI!G126=\"\",\"\",NRI!G126)","v":""},{"$f":"IF(C51=\"\",\"\",SMALL(OFFSET($C$7,0,0,'หา NRI'!$D$58,1),B51))","v":""},"","","","","","","","",""]
[null,{"$f":"IF(B51=\"\",\"\",IF(B51+1<='หา NRI'!$D$58,B51+1,\"\"))","v":""},{"$f":"IF(NRI!G127=\"\",\"\",NRI!G127)","v":""},{"$f":"IF(C52=\"\",\"\",SMALL(OFFSET($C$7,0,0,'หา NRI'!$D$58,1),B52))","v":""},"","","","","","","","",""]
[null,{"$f":"IF(B52=\"\",\"\",IF(B52+1<='หา NRI'!$D$58,B52+1,\"\"))","v":""},{"$f":"IF(NRI!G128=\"\",\"\",NRI!G128)","v":""},{"$f":"IF(C53=\"\",\"\",SMALL(OFFSET($C$7,0,0,'หา NRI'!$D$58,1),B53))","v":""},"","","","","","","","",""]
[null,{"$f":"IF(B53=\"\",\"\",IF(B53+1<='หา NRI'!$D$58,B53+1,\"\"))","v":""},{"$f":"IF(NRI!G129=\"\",\"\",NRI!G129)","v":""},{"$f":"IF(C54=\"\",\"\",SMALL(OFFSET($C$7,0,0,'หา NRI'!$D$58,1),B54))","v":""},"","","","","","","","",""]
[null,{"$f":"IF(B54=\"\",\"\",IF(B54+1<='หา NRI'!$D$58,B54+1,\"\"))","v":""},{"$f":"IF(NRI!G130=\"\",\"\",NRI!G130)","v":""},{"$f":"IF(C55=\"\",\"\",SMALL(OFFSET($C$7,0,0,'หา NRI'!$D$58,1),B55))","v":""},"","","","","","","","",""]
[null,{"$f":"IF(B55=\"\",\"\",IF(B55+1<='หา NRI'!$D$58,B55+1,\"\"))","v":""},{"$f":"IF(NRI!G131=\"\",\"\",NRI!G131)","v":""},{"$f":"IF(C56=\"\",\"\",SMALL(OFFSET($C$7,0,0,'หา NRI'!$D$58,1),B56))","v":""},"","","","","","","","",""]
[null,{"$f":"IF(B56=\"\",\"\",IF(B56+1<='หา NRI'!$D$58,B56+1,\"\"))","v":""},{"$f":"IF(NRI!G132=\"\",\"\",NRI!G132)","v":""},{"$f":"IF(C57=\"\",\"\",SMALL(OFFSET($C$7,0,0,'หา NRI'!$D$58,1),B57))","v":""},"","","","","","","","",""]
[null,"MEAN",{"$f":"AVERAGE(C7:C57)","v":{"$error":"#DIV/0!"}},null,null,"MAX",{"$f":"MAX(G7:G57)","v":0},null,"MAX",{"$f":"MAX(J7:J57)","v":0},null,"MAX",{"$f":"MAX(M7:M17)","v":0}]
[null,"STD.",{"$f":"STDEV(C7:C57)","v":{"$error":"#DIV/0!"}},null,null,{"$f":"\"Delta \"&COUNT(B7:B57)&\", \"&OFFSET('หา NRI'!A48,MATCH(G59,'หา NRI'!G49:G52,0),0,1,1)*100&\"%\"","v":{"$error":"#N/A"}},{"$f":"IF('หา NRI'!G50>G58,'หา NRI'!G50,'หา NRI'!G49)","v":{"$error":"#N/A"}},{"$f":"IF(G58<G59,\"ok\",\"\")","v":{"$error":"#N/A"}},{"$f":"F59","v":{"$error":"#N/A"}},{"$f":"G59","v":{"$error":"#N/A"}},{"$f":"IF(G58<G59,\"ok\",\"\")","v":{"$error":"#N/A"}},{"$f":"F59","v":{"$error":"#N/A"}},{"$f":"G59","v":{"$error":"#N/A"}}]
[null,"Location",{"$f":"C58-(0.45*C59)","v":{"$error":"#DIV/0!"}},null,null,null,{"$f":"IF(G58<G59,IF(G58<J58,\"GUMBEL\",\"\"),\"\")","v":{"$error":"#N/A"}},null,null,{"$f":"IF(J58<J59,IF(J58<G58,\"NORMAL\",\"\"),\"\")","v":{"$error":"#N/A"}}]
[null,"Scale",{"$f":"0.7797*C59","v":{"$error":"#DIV/0!"}},null,null,null,null,{"$f":"\"เดือน\"&D4&\"เป็นการแจกแจงแบบ  \"&G60&J60","v":{"$error":"#N/A"}}]
[null,"MEAN Y",{"$f":"AVERAGE(K7:K17)","v":{"$error":"#DIV/0!"}}]
[null,"STD. Y",{"$f":"STDEV(K7:K17)","v":{"$error":"#DIV/0!"}}]
[null,"MAX X",{"$f":"MAX(D7:D57)","v":0},null,{"$f":"\"ดังนั้น ปริมาณน้ำไหลเข้าอ่างเก็บน้ำสุทธิในเดือน \"&D4&\" จะเหมาะสมกับการแจกแจงแบบ \" &G60&J60&\" ที่ระดับนัยสำคัญ \"&OFFSET('หา NRI'!A48,MATCH(G59,'หา NRI'!G49:G52,0),0,1,1)*100&\"%\"","v":{"$error":"#N/A"}}]
[null,"MIN X",{"$f":"MIN(D7:D57)","v":0}]
[null,null,null,null,null,null,null,null,"แนะนำกว้าง",{"$f":"ROUND(($L$68-$L$69)/$J$68,0)","v":0}]
[null," 7.  สร้างเส้นโค้งของการแจกแจง NRI",null,null,null,null,null,null,"กว้างชั้นละ",10,"Max - Min"]
[null,null,"Range; R =",{"$f":"C64-C65","v":0},"Class Interval ; CI =",null,{"$f":"D68/D69","v":0},null,"จำนวนชั้น",3,"MAX X",{"$f":"C64","v":0}]
[null,null,"Class ; C =",{"$f":"J68","v":3},null,null,null,null,"เริ่มที่",0,"MIN X",{"$f":"C65","v":0}]
[null,"Class","Class Interval","Mid-Range",null,"(Xi)*ni","(X(i))^2","ni*(X(i))^2"]
[null,"(i)","(mcm.)","(Xi)"]
[null,1,{"$f":"IF(B72<=$J$68,\"(\"&J69&\")-(\"&K72&\")\",\"\")","v":"(0)-(10)"},{"$f":"IF(B72<=$J$68,(J69+K72)/2,\"\")","v":5},{"$f":"IF(B72<=$J$68,M72,\"\")","v":0},{"$f":"IF(B72<=$J$68,D72*E72,\"\")","v":0},{"$f":"IF(B72<=$J$68,D72^2,\"\")","v":25},{"$f":"IF(B72<=$J$68,E72*G72,\"\")","v":0},{"$f":"IF(B72<=$D$69,1,0)","v":1},{"$f":"J69","v":0},{"$f":"$J$69+(B72*$J$67)","v":10},{"$f":"COUNTIF($C$7:$C$45,\"<\"&J73-0.5)","v":0},{"$f":"L72","v":0}]
[null,{"$f":"IF(B72+1<=J68,B72+1,\"\")","v":2},{"$f":"IF(B73<=$J$68,IF(I74=1,\"(\"&J73&\")-(\"&K73&\")\",\">\"&J73),\"\")","v":"(11)-(20)"},{"$f":"IF(B73<=$J$68,(J73+K73)/2,\"\")","v":15.5},0,0,240.25,0,1,{"$f":"IF(I73=1,K72+1,9999)","v":11},20,{"$f":"COUNTIF($C$7:$C$45,\"<\"&J74-0.5)","v":0},{"$f":"L73-L72","v":0}]
[null,{"$f":"B73+1","v":3},">21",25.5,0,0,650.25,0,1,21,30,0,0]
[null,4,"","","","","","",0,9999,40,0,0]
[null,5,"","","","","","",0,9999,50,0,0]
[null,6,"","","","","","",0,9999,60,0,0]
[null,7,"","","","","","",0,9999,70,0,0]
[null,8,"","","","","","",0,9999,80,0,0]
[null,9,"","","","","","",0,9999,90,0,0]
[null,10,"","","","","","",0,9999,100,0,0]
[null,11,"","","","","","",0,9999,110,0,0]
[null,12,"","","","","","",0,9999,120,0,0]
[null,13,"","","","","","",0,9999,130,0,0]
[null,14,"","","","","","",0,9999,140,0,0]
[null,15,"","","","","","",0,9999,150,0,0]
[null,16,"","","","","","",0,9999,160,0,0]
[null,17,"","","","","","",0,9999,170,{"$f":"COUNTIF($C$7:$C$45,\"<\"&J89-0.5)","v":0},0]
[null,"SUM",null,null,{"$f":"SUM(E72:E88)","v":0},{"$f":"SUM(F72:F88)","v":0},{"$f":"SUM(G72:G88)","v":915.5},{"$f":"SUM(H72:H88)","v":0},null,9999]
[null,null,"Mean",{"$f":"F89/E89","v":{"$error":"#DIV/0!"}},"(Mean)^2",{"$f":"D90*D90","v":{"$error":"#DIV/0!"}},"Location",{"$f":"D90-(0.45*D91)","v":{"$error":"#DIV/0!"}}]
[null,null,"STD.",{"$f":"((H89/E89)-F90)^0.5","v":{"$error":"#DIV/0!"}},null,null,"Scale",{"$f":"0.7797*D91","v":{"$error":"#DIV/0!"}}]
[]
[null,{"$f":"\"การแจกแจงแบบ \"&G60&J60&\" กับปริมาณน้ำท่าสุทธิเดือน \"&D4&\" ของอ่าง\"&L2","v":{"$error":"#N/A"}},null,null,null,null,null,null,null,"ตารางแจกแจงความถี่"]
[null,"Class","Class Interval",null,null,null,null,null,null,"Class","p(Xi)",0.05,0.1,0.15]
[null,"(i)","(mcm.)",null,null,null,{"$f":"G60&J60","v":{"$error":"#N/A"}}]
[null,{"$f":"B72","v":1},{"$f":"IF(B96<=$J$68,C72,\"\")","v":"(0)-(10)"},{"$f":"IF(B96<=$J$68,E72,\"\")","v":0},{"$f":"IF(B96<=$J$68,D96/$D$113,\"\")","v":{"$error":"#DIV/0!"}},{"$f":"IF(B96<=$J$68,E96,\"\")","v":{"$error":"#DIV/0!"}},{"$f":"IF(B96<=$J$68,IF($G$60=\"GUMBEL\",EXP(-EXP(-(J96-$H$90)/$H$91)),NORMDIST(J96,$D$90,$D$91,TRUE)),\"\")","v":{"$error":"#N/A"}},{"$f":"IF(B96<=$J$68,G96,\"\")","v":{"$error":"#N/A"}},null,{"$f":"K72","v":10},{"$f":"H96","v":{"$error":"#N/A"}},0.05,0.1,0.15]
[null,{"$f":"B96+1","v":2},"(11)-(20)",0,{"$error":"#DIV/0!"},{"$f":"IF(B97<=$J$68,E97+F96,\"\")","v":{"$error":"#DIV/0!"}},{"$error":"#N/A"},{"$f":"IF(B97<=$J$68,G97-G96,\"\")","v":{"$error":"#N/A"}},null,{"$f":"K73","v":20},{"$f":"H97","v":{"$error":"#N/A"}},0.05,0.1,0.15]
[null,3,">21",0,{"$error":"#DIV/0!"},{"$error":"#DIV/0!"},{"$error":"#N/A"},{"$error":"#N/A"},null,{"$f":"K74","v":30},{"$error":"#N/A"},0.05,0.1,0.15]
[null,4,"","","","","","",null,40,"",0.05,0.1,0.15]
[null,5,"","","","","","",null,50,"",0.05,0.1,0.15]
[null,6,"","","","","","",null,60,"",0.05,0.1,0.15]
[null,7,"","","","","","",null,70,"",0.05,0.1,0.15]
[null,8,"","","","","","",null,80,"",0.05,0.1,0.15]
[null,9,"","","","","","",null,90,"",0.05,0.1,0.15]
[null,10,"","","","","","",null,100,"",0.05,0.1,0.15]
[null,11,"","","","","","",null,110,"",0.05,0.1,0.15]
[null,12,"","","","","","",null,120,"",0.05,0.1,0.15]
[null,13,"","","","","","",null,130,"",0.05,0.1,0.15]
[null,14,"","","","","","",null,140,"",0.05,0.1,0.15]
[null,15,"","","","","","",null,150,"",0.05,0.1,0.15]
[null,16,"","","","","","",null,160,"",0.05,0.1,0.15]
[null,17,"","","","","","",null,170,"",0.05,0.1,0.15]
[null,null,"Sum",{"$f":"SUM(D96:D112)","v":0},{"$f":"SUM(E96:E112)","v":{"$error":"#DIV/0!"}},null,null,{"$f":"SUM(H96:H112)","v":{"$error":"#N/A"}}]
[]
[{"$f":"\"8. หาค่าVolume of Flood Control Reserve ของเดือน\"&D4&\"ที่ค่าความเสี่ยงต่างๆ จากกราฟการแจกแจงความน่าจะเป็น\"","v":"8. หาค่าVolume of Flood Control Reserve ของเดือนพฤษภาคมที่ค่าความเสี่ยงต่างๆ จากกราฟการแจกแจงความน่าจะเป็น"}]
[]
[]
[]
[]
[]
[]
[]
[]
[]
[]
[null,null,null,null,null,null,null,null,null,"P(NRIt>VFCt)< Risk"]
[null,null,null,null,null,null,null,null,null,{"$f":"IF(NRI!F54<0,\"Volume Buffer\",\"Volum Flood Control\")","v":{"$error":"#DIV/0!"}}]
[null,null,null,null,null,null,null,null,null,"Risk(%)",{"$f":"IF(NRI!F54<0,\"VBUF(mcm)\",\"VFC(mcm)\")","v":{"$error":"#DIV/0!"}},null,"X-Axis","X-ordinate","Y-Axis","Y-ordinate"]
[null,null,null,null,null,null,null,null,null,15,33,null,"X1=",374,"Y1=",0.15912074047763369]
[null,null,null,null,null,null,null,null,null,10,35,null,"X2=",475,"Y2=",0.13117031761875575]
[null,null,null,null,null,null,null,null,null,5,37,null,"X0=",{"$f":"N129-((N129-N130)*(P129-P131)/(P129-P130))","v":406.95817000308466},"Y0=",0.15]

{"sheet":"มิ.ย.","index":14,"n_rows":131,"n_cols":16,"rows_kept":131,"cut":false,"hidden":true,"merged":[[125,9,125,12],[60,7,61,12],[63,4,63,14],[67,4,67,5],[88,1,88,3],[93,11,94,11],[93,12,94,12],[93,13,94,13],[66,10,66,11],[93,9,94,9],[93,10,94,10],[92,9,92,13]]}
[]
[null,"6. การหาค่าสถิติและการทดสอบความเหมาะสมของ Distribution Function กับข้อมูล Net Reservoir Inflow(NIR)",null,null,null,null,null,null,null,null,null,{"$f":"NRI!O1","v":0}]
[]
[null,6,"Jun","มิถุนายน"]
[null,null,null,null,"Empirical","GUMBEL",null,"NORMAL",null,null,"LOG-NORMAL"]
[null,"No.","NRI","(X)","F'(X)","F(x)","F'(X)-F(X)","Z","F(x)","F'(X)-F(X)","Y","F(x)","F'(X)-f(X)"]
[null,{"$f":"IF(1<='หา NRI'!$D$58,1,\"\")","v":1},{"$f":"IF(NRI!H82=\"\",\"\",NRI!H82)","v":""},{"$f":"IF(C7=\"\",\"\",SMALL(OFFSET($C$7,0,0,'หา NRI'!$D$58,1),B7))","v":""},{"$f":"IF(C7=\"\",\"\",B7/(COUNT($B$7:$B$57)+1))","v":""},{"$f":"IF(C7=\"\",\"\",EXP(-EXP(-(D7-$C$60)/$C$61)))","v":""},{"$f":"IF(C7=\"\",\"\",ABS(E7-F7))","v":""},{"$f":"IF(C7=\"\",\"\",(D7-$C$58)/$C$59)","v":""},{"$f":"IF(C7=\"\",\"\",NORMSDIST(H7))","v":""},{"$f":"IF(C7=\"\",\"\",ABS(E7-I7))","v":""},{"$f":"IF(C7=\"\",\"\",(LN(D7)))","v":""},{"$f":"IF(C7=\"\",\"\",(LOGNORMDIST(D7,$C$61,$C$62)))","v":""},{"$f":"IF(C7=\"\",\"\",(ABS(E7-L7)))","v":""}]
[null,{"$f":"IF(B7=\"\",\"\",IF(B7+1<='หา NRI'!$D$58,B7+1,\"\"))","v":2},{"$f":"IF(NRI!H83=\"\",\"\",NRI!H83)","v":""},{"$f":"IF(C8=\"\",\"\",SMALL(OFFSET($C$7,0,0,'หา NRI'!$D$58,1),B8))","v":""},{"$f":"IF(C8=\"\",\"\",B8/(COUNT($B$7:$B$57)+1))","v":""},{"$f":"IF(C8=\"\",\"\",EXP(-EXP(-(D8-$C$60)/$C$61)))","v":""},{"$f":"IF(C8=\"\",\"\",ABS(E8-F8))","v":""},{"$f":"IF(C8=\"\",\"\",(D8-$C$58)/$C$59)","v":""},{"$f":"IF(C8=\"\",\"\",NORMSDIST(H8))","v":""},{"$f":"IF(C8=\"\",\"\",ABS(E8-I8))","v":""},{"$f":"IF(C8=\"\",\"\",(LN(D8)))","v":""},{"$f":"IF(C8=\"\",\"\",(LOGNORMDIST(D8,$C$61,$C$62)))","v":""},{"$f":"IF(C8=\"\",\"\",(ABS(E8-L8)))","v":""}]
[null,{"$f":"IF(B8=\"\",\"\",IF(B8+1<='หา NRI'!$D$58,B8+1,\"\"))","v":3},{"$f":"IF(NRI!H84=\"\",\"\",NRI!H84)","v":""},{"$f":"IF(C9=\"\",\"\",SMALL(OFFSET($C$7,0,0,'หา NRI'!$D$58,1),B9))","v":""},"","","","","","","","",""]
[null,{"$f":"IF(B9=\"\",\"\",IF(B9+1<='หา NRI'!$D$58,B9+1,\"\"))","v":4},{"$f":"IF(NRI!H85=\"\",\"\",NRI!H85)","v":""},{"$f":"IF(C10=\"\",\"\",SMALL(OFFSET($C$7,0,0,'หา NRI'!$D$58,1),B10))","v":""},"","","","","","","","",""]
[null,{"$f":"IF(B10=\"\",\"\",IF(B10+1<='หา NRI'!$D$58,B10+1,\"\"))","v":""},{"$f":"IF(NRI!H86=\"\",\"\",NRI!H86)","v":""},{"$f":"IF(C11=\"\",\"\",SMALL(OFFSET($C$7,0,0,'หา NRI'!$D$58,1),B11))","v":""},"","","","","","","","",""]
[null,{"$f":"IF(B11=\"\",\"\",IF(B11+1<='หา NRI'!$D$58,B11+1,\"\"))","v":""},{"$f":"IF(NRI!H87=\"\",\"\",NRI!H87)","v":""},{"$f":"IF(C12=\"\",\"\",SMALL(OFFSET($C$7,0,0,'หา NRI'!$D$58,1),B12))","v":""},"","","","","","","","",""]
[null,{"$f":"IF(B12=\"\",\"\",IF(B12+1<='หา NRI'!$D$58,B12+1,\"\"))","v":""},{"$f":"IF(NRI!H88=\"\",\"\",NRI!H88)","v":""},{"$f":"IF(C13=\"\",\"\",SMALL(OFFSET($C$7,0,0,'หา NRI'!$D$58,1),B13))","v":""},"","","","","","","","",""]
[null,{"$f":"IF(B13=\"\",\"\",IF(B13+1<='หา NRI'!$D$58,B13+1,\"\"))","v":""},{"$f":"IF(NRI!H89=\"\",\"\",NRI!H89)","v":""},{"$f":"IF(C14=\"\",\"\",SMALL(OFFSET($C$7,0,0,'หา NRI'!$D$58,1),B14))","v":""},"","","","","","","","",""]
[null,{"$f":"IF(B14=\"\",\"\",IF(B14+1<='หา NRI'!$D$58,B14+1,\"\"))","v":""},{"$f":"IF(NRI!H90=\"\",\"\",NRI!H90)","v":""},{"$f":"IF(C15=\"\",\"\",SMALL(OFFSET($C$7,0,0,'หา NRI'!$D$58,1),B15))","v":""},"","","","","","","","",""]
[null,{"$f":"IF(B15=\"\",\"\",IF(B15+1<='หา NRI'!$D$58,B15+1,\"\"))","v":""},{"$f":"IF(NRI!H91=\"\",\"\",NRI!H91)","v":""},{"$f":"IF(C16=\"\",\"\",SMALL(OFFSET($C$7,0,0,'หา NRI'!$D$58,1),B16))","v":""},"","","","","","","","",""]
[null,{"$f":"IF(B16=\"\",\"\",IF(B16+1<='หา NRI'!$D$58,B16+1,\"\"))","v":""},{"$f":"IF(NRI!H92=\"\",\"\",NRI!H92)","v":""},{"$f":"IF(C17=\"\",\"\",SMALL(OFFSET($C$7,0,0,'หา NRI'!$D$58,1),B17))","v":""},"","","","","","","","",""]
[null,{"$f":"IF(B17=\"\",\"\",IF(B17+1<='หา NRI'!$D$58,B17+1,\"\"))","v":""},{"$f":"IF(NRI!H93=\"\",\"\",NRI!H93)","v":""},{"$f":"IF(C18=\"\",\"\",SMALL(OFFSET($C$7,0,0,'หา NRI'!$D$58,1),B18))","v":""},"","","","","","","","",""]
[null,{"$f":"IF(B18=\"\",\"\",IF(B18+1<='หา NRI'!$D$58,B18+1,\"\"))","v":""},{"$f":"IF(NRI!H94=\"\",\"\",NRI!H94)","v":""},{"$f":"IF(C19=\"\",\"\",SMALL(OFFSET($C$7,0,0,'หา NRI'!$D$58,1),B19))","v":""},"","","","","","","","",""]
[null,{"$f":"IF(B19=\"\",\"\",IF(B19+1<='หา NRI'!$D$58,B19+1,\"\"))","v":""},{"$f":"IF(NRI!H95=\"\",\"\",NRI!H95)","v":""},{"$f":"IF(C20=\"\",\"\",SMALL(OFFSET($C$7,0,0,'หา NRI'!$D$58,1),B20))","v":""},"","","","","","","","",""]
[null,{"$f":"IF(B20=\"\",\"\",IF(B20+1<='หา NRI'!$D$58,B20+1,\"\"))","v":""},{"$f":"IF(NRI!H96=\"\",\"\",NRI!H96)","v":""},{"$f":"IF(C21=\"\",\"\",SMALL(OFFSET($C$7,0,0,'หา NRI'!$D$58,1),B21))","v":""},"","","","","","","","",""]
[null,{"$f":"IF(B21=\"\",\"\",IF(B21+1<='หา NRI'!$D$58,B21+1,\"\"))","v":""},{"$f":"IF(NRI!H97=\"\",\"\",NRI!H97)","v":""},{"$f":"IF(C22=\"\",\"\",SMALL(OFFSET($C$7,0,0,'หา NRI'!$D$58,1),B22))","v":""},"","","","","","","","",""]
[null,{"$f":"IF(B22=\"\",\"\",IF(B22+1<='หา NRI'!$D$58,B22+1,\"\"))","v":""},{"$f":"IF(NRI!H98=\"\",\"\",NRI!H98)","v":""},{"$f":"IF(C23=\"\",\"\",SMALL(OFFSET($C$7,0,0,'หา NRI'!$D$58,1),B23))","v":""},"","","","","","","","",""]
[null,{"$f":"IF(B23=\"\",\"\",IF(B23+1<='หา NRI'!$D$58,B23+1,\"\"))","v":""},{"$f":"IF(NRI!H99=\"\",\"\",NRI!H99)","v":""},{"$f":"IF(C24=\"\",\"\",SMALL(OFFSET($C$7,0,0,'หา NRI'!$D$58,1),B24))","v":""},"","","","","","","","",""]
[null,{"$f":"IF(B24=\"\",\"\",IF(B24+1<='หา NRI'!$D$58,B24+1,\"\"))","v":""},{"$f":"IF(NRI!H100=\"\",\"\",NRI!H100)","v":""},{"$f":"IF(C25=\"\",\"\",SMALL(OFFSET($C$7,0,0,'หา NRI'!$D$58,1),B25))","v":""},"","","","","","","","",""]
[null,{"$f":"IF(B25=\"\",\"\",IF(B25+1<='หา NRI'!$D$58,B25+1,\"\"))","v":""},{"$f":"IF(NRI!H101=\"\",\"\",NRI!H101)","v":""},{"$f":"IF(C26=\"\",\"\",SMALL(OFFSET($C$7,0,0,'หา NRI'!$D$58,1),B26))","v":""},"","","","","","","","",""]
[null,{"$f":"IF(B26=\"\",\"\",IF(B26+1<='หา NRI'!$D$58,B26+1,\"\"))","v":""},{"$f":"IF(NRI!H102=\"\",\"\",NRI!H102)","v":""},{"$f":"IF(C27=\"\",\"\",SMALL(OFFSET($C$7,0,0,'หา NRI'!$D$58,1),B27))","v":""},"","","","","","","","",""]
[null,{"$f":"IF(B27=\"\",\"\",IF(B27+1<='หา NRI'!$D$58,B27+1,\"\"))","v":""},{"$f":"IF(NRI!H103=\"\",\"\",NRI!H103)","v":""},{"$f":"IF(C28=\"\",\"\",SMALL(OFFSET($C$7,0,0,'หา NRI'!$D$58,1),B28))","v":""},"","","","","","","","",""]
[null,{"$f":"IF(B28=\"\",\"\",IF(B28+1<='หา NRI'!$D$58,B28+1,\"\"))","v":""},{"$f":"IF(NRI!H104=\"\",\"\",NRI!H104)","v":""},{"$f":"IF(C29=\"\",\"\",SMALL(OFFSET($C$7,0,0,'หา NRI'!$D$58,1),B29))","v":""},"","","","","","","","",""]
[null,{"$f":"IF(B29=\"\",\"\",IF(B29+1<='หา NRI'!$D$58,B29+1,\"\"))","v":""},{"$f":"IF(NRI!H105=\"\",\"\",NRI!H105)","v":""},{"$f":"IF(C30=\"\",\"\",SMALL(OFFSET($C$7,0,0,'หา NRI'!$D$58,1),B30))","v":""},"","","","","","","","",""]
[null,{"$f":"IF(B30=\"\",\"\",IF(B30+1<='หา NRI'!$D$58,B30+1,\"\"))","v":""},{"$f":"IF(NRI!H106=\"\",\"\",NRI!H106)","v":""},{"$f":"IF(C31=\"\",\"\",SMALL(OFFSET($C$7,0,0,'หา NRI'!$D$58,1),B31))","v":""},"","","","","","","","",""]
[null,{"$f":"IF(B31=\"\",\"\",IF(B31+1<='หา NRI'!$D$58,B31+1,\"\"))","v":""},{"$f":"IF(NRI!H107=\"\",\"\",NRI!H107)","v":""},{"$f":"IF(C32=\"\",\"\",SMALL(OFFSET($C$7,0,0,'หา NRI'!$D$58,1),B32))","v":""},"","","","","","","","",""]
[null,{"$f":"IF(B32=\"\",\"\",IF(B32+1<='หา NRI'!$D$58,B32+1,\"\"))","v":""},{"$f":"IF(NRI!H108=\"\",\"\",NRI!H108)","v":""},{"$f":"IF(C33=\"\",\"\",SMALL(OFFSET($C$7,0,0,'หา NRI'!$D$58,1),B33))","v":""},"","","","","","","","",""]
[null,{"$f":"IF(B33=\"\",\"\",IF(B33+1<='หา NRI'!$D$58,B33+1,\"\"))","v":""},{"$f":"IF(NRI!H109=\"\",\"\",NRI!H109)","v":""},{"$f":"IF(C34=\"\",\"\",SMALL(OFFSET($C$7,0,0,'หา NRI'!$D$58,1),B34))","v":""},"","","","","","","","",""]
[null,{"$f":"IF(B34=\"\",\"\",IF(B34+1<='หา NRI'!$D$58,B34+1,\"\"))","v":""},{"$f":"IF(NRI!H110=\"\",\"\",NRI!H110)","v":""},{"$f":"IF(C35=\"\",\"\",SMALL(OFFSET($C$7,0,0,'หา NRI'!$D$58,1),B35))","v":""},"","","","","","","","",""]
[null,{"$f":"IF(B35=\"\",\"\",IF(B35+1<='หา NRI'!$D$58,B35+1,\"\"))","v":""},{"$f":"IF(NRI!H111=\"\",\"\",NRI!H111)","v":""},{"$f":"IF(C36=\"\",\"\",SMALL(OFFSET($C$7,0,0,'หา NRI'!$D$58,1),B36))","v":""},"","","","","","","","",""]
[null,{"$f":"IF(B36=\"\",\"\",IF(B36+1<='หา NRI'!$D$58,B36+1,\"\"))","v":""},{"$f":"IF(NRI!H112=\"\",\"\",NRI!H112)","v":""},{"$f":"IF(C37=\"\",\"\",SMALL(OFFSET($C$7,0,0,'หา NRI'!$D$58,1),B37))","v":""},"","","","","","","","",""]
[null,{"$f":"IF(B37=\"\",\"\",IF(B37+1<='หา NRI'!$D$58,B37+1,\"\"))","v":""},{"$f":"IF(NRI!H113=\"\",\"\",NRI!H113)","v":""},{"$f":"IF(C38=\"\",\"\",SMALL(OFFSET($C$7,0,0,'หา NRI'!$D$58,1),B38))","v":""},"","","","","","","","",""]
[null,{"$f":"IF(B38=\"\",\"\",IF(B38+1<='หา NRI'!$D$58,B38+1,\"\"))","v":""},{"$f":"IF(NRI!H114=\"\",\"\",NRI!H114)","v":""},{"$f":"IF(C39=\"\",\"\",SMALL(OFFSET($C$7,0,0,'หา NRI'!$D$58,1),B39))","v":""},"","","","","","","","",""]
[null,{"$f":"IF(B39=\"\",\"\",IF(B39+1<='หา NRI'!$D$58,B39+1,\"\"))","v":""},{"$f":"IF(NRI!H115=\"\",\"\",NRI!H115)","v":""},{"$f":"IF(C40=\"\",\"\",SMALL(OFFSET($C$7,0,0,'หา NRI'!$D$58,1),B40))","v":""},"","","","","","","","",""]
[null,{"$f":"IF(B40=\"\",\"\",IF(B40+1<='หา NRI'!$D$58,B40+1,\"\"))","v":""},{"$f":"IF(NRI!H116=\"\",\"\",NRI!H116)","v":""},{"$f":"IF(C41=\"\",\"\",SMALL(OFFSET($C$7,0,0,'หา NRI'!$D$58,1),B41))","v":""},"","","","","","","","",""]
[null,{"$f":"IF(B41=\"\",\"\",IF(B41+1<='หา NRI'!$D$58,B41+1,\"\"))","v":""},{"$f":"IF(NRI!H117=\"\",\"\",NRI!H117)","v":""},{"$f":"IF(C42=\"\",\"\",SMALL(OFFSET($C$7,0,0,'หา NRI'!$D$58,1),B42))","v":""},"","","","","","","","",""]
[null,{"$f":"IF(B42=\"\",\"\",IF(B42+1<='หา NRI'!$D$58,B42+1,\"\"))","v":""},{"$f":"IF(NRI!H118=\"\",\"\",NRI!H118)","v":""},{"$f":"IF(C43=\"\",\"\",SMALL(OFFSET($C$7,0,0,'หา NRI'!$D$58,1),B43))","v":""},"","","","","","","","",""]
[null,{"$f":"IF(B43=\"\",\"\",IF(B43+1<='หา NRI'!$D$58,B43+1,\"\"))","v":""},{"$f":"IF(NRI!H119=\"\",\"\",NRI!H119)","v":""},{"$f":"IF(C44=\"\",\"\",SMALL(OFFSET($C$7,0,0,'หา NRI'!$D$58,1),B44))","v":""},"","","","","","","","",""]
[null,{"$f":"IF(B44=\"\",\"\",IF(B44+1<='หา NRI'!$D$58,B44+1,\"\"))","v":""},{"$f":"IF(NRI!H120=\"\",\"\",NRI!H120)","v":""},{"$f":"IF(C45=\"\",\"\",SMALL(OFFSET($C$7,0,0,'หา NRI'!$D$58,1),B45))","v":""},"","","","","","","","",""]
[null,{"$f":"IF(B45=\"\",\"\",IF(B45+1<='หา NRI'!$D$58,B45+1,\"\"))","v":""},{"$f":"IF(NRI!H121=\"\",\"\",NRI!H121)","v":""},{"$f":"IF(C46=\"\",\"\",SMALL(OFFSET($C$7,0,0,'หา NRI'!$D$58,1),B46))","v":""},"","","","","","","","",""]
[null,{"$f":"IF(B46=\"\",\"\",IF(B46+1<='หา NRI'!$D$58,B46+1,\"\"))","v":""},{"$f":"IF(NRI!H122=\"\",\"\",NRI!H122)","v":""},{"$f":"IF(C47=\"\",\"\",SMALL(OFFSET($C$7,0,0,'หา NRI'!$D$58,1),B47))","v":""},"","","","","","","","",""]
[null,{"$f":"IF(B47=\"\",\"\",IF(B47+1<='หา NRI'!$D$58,B47+1,\"\"))","v":""},{"$f":"IF(NRI!H123=\"\",\"\",NRI!H123)","v":""},{"$f":"IF(C48=\"\",\"\",SMALL(OFFSET($C$7,0,0,'หา NRI'!$D$58,1),B48))","v":""},"","","","","","","","",""]
[null,{"$f":"IF(B48=\"\",\"\",IF(B48+1<='หา NRI'!$D$58,B48+1,\"\"))","v":""},{"$f":"IF(NRI!H124=\"\",\"\",NRI!H124)","v":""},{"$f":"IF(C49=\"\",\"\",SMALL(OFFSET($C$7,0,0,'หา NRI'!$D$58,1),B49))","v":""},"","","","","","","","",""]
[null,{"$f":"IF(B49=\"\",\"\",IF(B49+1<='หา NRI'!$D$58,B49+1,\"\"))","v":""},{"$f":"IF(NRI!H125=\"\",\"\",NRI!H125)","v":""},{"$f":"IF(C50=\"\",\"\",SMALL(OFFSET($C$7,0,0,'หา NRI'!$D$58,1),B50))","v":""},"","","","","","","","",""]
[null,{"$f":"IF(B50=\"\",\"\",IF(B50+1<='หา NRI'!$D$58,B50+1,\"\"))","v":""},{"$f":"IF(NRI!H126=\"\",\"\",NRI!H126)","v":""},{"$f":"IF(C51=\"\",\"\",SMALL(OFFSET($C$7,0,0,'หา NRI'!$D$58,1),B51))","v":""},"","","","","","","","",""]
[null,{"$f":"IF(B51=\"\",\"\",IF(B51+1<='หา NRI'!$D$58,B51+1,\"\"))","v":""},{"$f":"IF(NRI!H127=\"\",\"\",NRI!H127)","v":""},{"$f":"IF(C52=\"\",\"\",SMALL(OFFSET($C$7,0,0,'หา NRI'!$D$58,1),B52))","v":""},"","","","","","","","",""]
[null,{"$f":"IF(B52=\"\",\"\",IF(B52+1<='หา NRI'!$D$58,B52+1,\"\"))","v":""},{"$f":"IF(NRI!H128=\"\",\"\",NRI!H128)","v":""},{"$f":"IF(C53=\"\",\"\",SMALL(OFFSET($C$7,0,0,'หา NRI'!$D$58,1),B53))","v":""},"","","","","","","","",""]
[null,{"$f":"IF(B53=\"\",\"\",IF(B53+1<='หา NRI'!$D$58,B53+1,\"\"))","v":""},{"$f":"IF(NRI!H129=\"\",\"\",NRI!H129)","v":""},{"$f":"IF(C54=\"\",\"\",SMALL(OFFSET($C$7,0,0,'หา NRI'!$D$58,1),B54))","v":""},"","","","","","","","",""]
[null,{"$f":"IF(B54=\"\",\"\",IF(B54+1<='หา NRI'!$D$58,B54+1,\"\"))","v":""},{"$f":"IF(NRI!H130=\"\",\"\",NRI!H130)","v":""},{"$f":"IF(C55=\"\",\"\",SMALL(OFFSET($C$7,0,0,'หา NRI'!$D$58,1),B55))","v":""},"","","","","","","","",""]
[null,{"$f":"IF(B55=\"\",\"\",IF(B55+1<='หา NRI'!$D$58,B55+1,\"\"))","v":""},{"$f":"IF(NRI!H131=\"\",\"\",NRI!H131)","v":""},{"$f":"IF(C56=\"\",\"\",SMALL(OFFSET($C$7,0,0,'หา NRI'!$D$58,1),B56))","v":""},"","","","","","","","",""]
[null,{"$f":"IF(B56=\"\",\"\",IF(B56+1<='หา NRI'!$D$58,B56+1,\"\"))","v":""},{"$f":"IF(NRI!H132=\"\",\"\",NRI!H132)","v":""},{"$f":"IF(C57=\"\",\"\",SMALL(OFFSET($C$7,0,0,'หา NRI'!$D$58,1),B57))","v":""},"","","","","","","","",""]
[null,"MEAN",{"$f":"AVERAGE(C7:C57)","v":{"$error":"#DIV/0!"}},null,null,"MAX",{"$f":"MAX(G7:G57)","v":0},null,"MAX",{"$f":"MAX(J7:J57)","v":0},null,"MAX",{"$f":"MAX(M7:M17)","v":0}]
[null,"STD.",{"$f":"STDEV(C7:C57)","v":{"$error":"#DIV/0!"}},null,null,{"$f":"\"Delta \"&COUNT(B7:B57)&\", \"&OFFSET('หา NRI'!A48,MATCH(G59,'หา NRI'!G49:G52,0),0,1,1)*100&\"%\"","v":{"$error":"#N/A"}},{"$f":"IF('หา NRI'!G50>G58,'หา NRI'!G50,'หา NRI'!G49)","v":{"$error":"#N/A"}},{"$f":"IF(G58<G59,\"ok\",\"\")","v":{"$error":"#N/A"}},{"$f":"F59","v":{"$error":"#N/A"}},{"$f":"G59","v":{"$error":"#N/A"}},{"$f":"IF(G58<G59,\"ok\",\"\")","v":{"$error":"#N/A"}},{"$f":"F59","v":{"$error":"#N/A"}},{"$f":"G59","v":{"$error":"#N/A"}}]
[null,"Location",{"$f":"C58-(0.45*C59)","v":{"$error":"#DIV/0!"}},null,null,null,{"$f":"IF(G58<G59,IF(G58<J58,\"GUMBEL\",\"\"),\"\")","v":{"$error":"#N/A"}},null,null,{"$f":"IF(J58<J59,IF(J58<G58,\"NORMAL\",\"\"),\"\")","v":{"$error":"#N/A"}}]
[null,"Scale",{"$f":"0.7797*C59","v":{"$error":"#DIV/0!"}},null,null,null,null,{"$f":"\"เดือน\"&D4&\"เป็นการแจกแจงแบบ  \"&G60&J60","v":{"$error":"#N/A"}}]
[null,"MEAN Y",{"$f":"AVERAGE(K7:K17)","v":{"$error":"#DIV/0!"}}]
[null,"STD. Y",{"$f":"STDEV(K7:K17)","v":{"$error":"#DIV/0!"}}]
[null,"MAX X",{"$f":"MAX(D7:D57)","v":0},null,{"$f":"\"ดังนั้น ปริมาณน้ำไหลเข้าอ่างเก็บน้ำสุทธิในเดือน \"&D4&\" จะเหมาะสมกับการแจกแจงแบบ \" &G60&J60&\" ที่ระดับนัยสำคัญ \"&OFFSET('หา NRI'!A48,MATCH(G59,'หา NRI'!G49:G52,0),0,1,1)*100&\"%\"","v":{"$error":"#N/A"}}]
[null,"MIN X",{"$f":"MIN(D7:D57)","v":0}]
[null,null,null,null,null,null,null,null,"แนะนำกว้าง",{"$f":"ROUND(($L$68-$L$69)/$J$68,0)","v":0}]
[null," 7.  สร้างเส้นโค้งของการแจกแจง NRI",null,null,null,null,null,null,"กว้างชั้นละ",{"$f":"ROUND(($L$68-$L$69)/$J$68,0)","v":0},"Max - Min"]
[null,null,"Range; R =",{"$f":"C64-C65","v":0},"Class Interval ; CI =",null,{"$f":"D68/D69","v":0},null,"จำนวนชั้น",4,"MAX X",{"$f":"C64","v":0}]
[null,null,"Class ; C =",{"$f":"J68","v":4},null,null,null,null,"เริ่มที่",0,"MIN X",{"$f":"C65","v":0}]
[null,"Class","Class Interval","Mid-Range",null,"(Xi)*ni","(X(i))^2","ni*(X(i))^2"]
[null,"(i)","(mcm.)","(Xi)"]
[null,1,{"$f":"IF(B72<=$J$68,\"(\"&J69&\")-(\"&K72&\")\",\"\")","v":"(0)-(0)"},{"$f":"IF(B72<=$J$68,(J69+K72)/2,\"\")","v":0},{"$f":"IF(B72<=$J$68,M72,\"\")","v":0},{"$f":"IF(B72<=$J$68,D72*E72,\"\")","v":0},{"$f":"IF(B72<=$J$68,D72^2,\"\")","v":0},{"$f":"IF(B72<=$J$68,E72*G72,\"\")","v":0},{"$f":"IF(B72<=$D$69,1,0)","v":1},{"$f":"J69","v":0},{"$f":"$J$69+(B72*$J$67)","v":0},{"$f":"COUNTIF($C$7:$C$45,\"<\"&J73-0.5)","v":0},{"$f":"L72","v":0}]
[null,{"$f":"IF(B72+1<=J68,B72+1,\"\")","v":2},{"$f":"IF(B73<=$J$68,IF(I74=1,\"(\"&J73&\")-(\"&K73&\")\",\">\"&J73),\"\")","v":"(1)-(0)"},{"$f":"IF(B73<=$J$68,(J73+K73)/2,\"\")","v":0.5},0,0,0.25,0,1,{"$f":"IF(I73=1,K72+1,9999)","v":1},0,{"$f":"COUNTIF($C$7:$C$45,\"<\"&J74-0.5)","v":0},{"$f":"L73-L72","v":0}]
[null,{"$f":"B73+1","v":3},"(1)-(0)",0.5,0,0,0.25,0,1,1,0,0,0]
[null,4,">1",0.5,0,0,0.25,0,1,1,0,0,0]
[null,5,"","","","","","",0,9999,0,0,0]
[null,6,"","","","","","",0,9999,0,0,0]
[null,7,"","","","","","",0,9999,0,0,0]
[null,8,"","","","","","",0,9999,0,0,0]
[null,9,"","","","","","",0,9999,0,0,0]
[null,10,"","","","","","",0,9999,0,0,0]
[null,11,"","","","","","",0,9999,0,0,0]
[null,12,"","","","","","",0,9999,0,0,0]
[null,13,"","","","","","",0,9999,0,0,0]
[null,14,"","","","","","",0,9999,0,0,0]
[null,15,"","","","","","",0,9999,0,0,0]
[null,16,"","","","","","",0,9999,0,0,0]
[null,17,"","","","","","",0,9999,0,{"$f":"COUNTIF($C$7:$C$45,\"<\"&J89-0.5)","v":0},0]
[null,"SUM",null,null,{"$f":"SUM(E72:E88)","v":0},{"$f":"SUM(F72:F88)","v":0},{"$f":"SUM(G72:G88)","v":0.75},{"$f":"SUM(H72:H88)","v":0},null,9999]
[null,null,"Mean",{"$f":"F89/E89","v":{"$error":"#DIV/0!"}},"(Mean)^2",{"$f":"D90*D90","v":{"$error":"#DIV/0!"}},"Location",{"$f":"D90-(0.45*D91)","v":{"$error":"#DIV/0!"}}]
[null,null,"STD.",{"$f":"((H89/E89)-F90)^0.5","v":{"$error":"#DIV/0!"}},null,null,"Scale",{"$f":"0.7797*D91","v":{"$error":"#DIV/0!"}}]
[]
[null,{"$f":"\"การแจกแจงแบบ \"&G60&J60&\" กับปริมาณน้ำท่าสุทธิเดือน \"&D4&\" ของอ่าง\"&L2","v":{"$error":"#N/A"}},null,null,null,null,null,null,null,"ตารางแจกแจงความถี่"]
[null,"Class","Class Interval",null,null,null,null,null,null,"Class","p(Xi)",0.05,0.1,0.15]
[null,"(i)","(mcm.)",null,null,null,{"$f":"G60&J60","v":{"$error":"#N/A"}}]
[null,{"$f":"B72","v":1},{"$f":"IF(B96<=$J$68,C72,\"\")","v":"(0)-(0)"},{"$f":"IF(B96<=$J$68,E72,\"\")","v":0},{"$f":"IF(B96<=$J$68,D96/$D$113,\"\")","v":{"$error":"#DIV/0!"}},{"$f":"IF(B96<=$J$68,E96,\"\")","v":{"$error":"#DIV/0!"}},{"$f":"IF(B96<=$J$68,IF($G$60=\"GUMBEL\",EXP(-EXP(-(J96-$H$90)/$H$91)),NORMDIST(J96,$D$90,$D$91,TRUE)),\"\")","v":{"$error":"#N/A"}},{"$f":"IF(B96<=$J$68,G96,\"\")","v":{"$error":"#N/A"}},null,{"$f":"K72","v":0},{"$f":"H96","v":{"$error":"#N/A"}},0.05,0.1,0.15]
[null,{"$f":"B96+1","v":2},"(1)-(0)",0,{"$error":"#DIV/0!"},{"$f":"IF(B97<=$J$68,E97+F96,\"\")","v":{"$error":"#DIV/0!"}},{"$error":"#N/A"},{"$f":"IF(B97<=$J$68,G97-G96,\"\")","v":{"$error":"#N/A"}},null,{"$f":"K73","v":0},{"$f":"H97","v":{"$error":"#N/A"}},0.05,0.1,0.15]
[null,3,"(1)-(0)",0,{"$error":"#DIV/0!"},{"$error":"#DIV/0!"},{"$error":"#N/A"},{"$error":"#N/A"},null,{"$f":"K74","v":0},{"$error":"#N/A"},0.05,0.1,0.15]
[null,4,">1",0,{"$error":"#DIV/0!"},{"$error":"#DIV/0!"},{"$error":"#N/A"},{"$error":"#N/A"},null,0,{"$error":"#N/A"},0.05,0.1,0.15]
[null,5,"","","","","","",null,0,"",0.05,0.1,0.15]
[null,6,"","","","","","",null,0,"",0.05,0.1,0.15]
[null,7,"","","","","","",null,0,"",0.05,0.1,0.15]
[null,8,"","","","","","",null,0,"",0.05,0.1,0.15]
[null,9,"","","","","","",null,0,"",0.05,0.1,0.15]
[null,10,"","","","","","",null,0,"",0.05,0.1,0.15]
[null,11,"","","","","","",null,0,"",0.05,0.1,0.15]
[null,12,"","","","","","",null,0,"",0.05,0.1,0.15]
[null,13,"","","","","","",null,0,"",0.05,0.1,0.15]
[null,14,"","","","","","",null,0,"",0.05,0.1,0.15]
[null,15,"","","","","","",null,0,"",0.05,0.1,0.15]
[null,16,"","","","","","",null,0,"",0.05,0.1,0.15]
[null,17,"","","","","","",null,0,"",0.05,0.1,0.15]
[null,null,"Sum",{"$f":"SUM(D96:D112)","v":0},{"$f":"SUM(E96:E112)","v":{"$error":"#DIV/0!"}},null,null,{"$f":"SUM(H96:H112)","v":{"$error":"#N/A"}}]
[]
[{"$f":"\"8. หาค่าVolume of Flood Control Reserve ของเดือน\"&D4&\"ที่ค่าความเสี่ยงต่างๆ จากกราฟการแจกแจงความน่าจะเป็น\"","v":"8. หาค่าVolume of Flood Control Reserve ของเดือนมิถุนายนที่ค่าความเสี่ยงต่างๆ จากกราฟการแจกแจงความน่าจะเป็น"}]
[]
[]
[]
[]
[]
[]
[]
[]
[]
[]
[null,null,null,null,null,null,null,null,null,"P(NRIt>VFCt)< Risk"]
[null,null,null,null,null,null,null,null,null,{"$f":"IF(NRI!G54<0,\"Volume Buffer\",\"Volum Flood Control\")","v":{"$error":"#DIV/0!"}}]
[null,null,null,null,null,null,null,null,null,"Risk(%)",{"$f":"IF(NRI!G54<0,\"VBUF(mcm)\",\"VFC(mcm)\")","v":{"$error":"#DIV/0!"}},null,"X-Axis","X-ordinate","Y-Axis","Y-ordinate"]
[null,null,null,null,null,null,null,null,null,15,275,null,"X1=",374,"Y1=",0.15912074047763369]
[null,null,null,null,null,null,null,null,null,10,313,null,"X2=",475,"Y2=",0.13117031761875575]
[null,null,null,null,null,null,null,null,null,5,360,null,"X0=",{"$f":"N129-((N129-N130)*(P129-P131)/(P129-P130))","v":406.95817000308466},"Y0=",0.15]

{"sheet":"ก.ค.","index":15,"n_rows":131,"n_cols":16,"rows_kept":131,"cut":false,"hidden":true,"merged":[[125,9,125,12],[60,7,61,12],[63,4,63,14],[67,4,67,5],[88,1,88,3],[93,11,94,11],[93,12,94,12],[93,13,94,13],[66,10,66,11],[93,9,94,9],[93,10,94,10],[92,9,92,13]]}
[]
[null,"6. การหาค่าสถิติและการทดสอบความเหมาะสมของ Distribution Function กับข้อมูล Net Reservoir Inflow(NIR)",null,null,null,null,null,null,null,null,null,{"$f":"NRI!O1","v":0}]
[]
[null,7,"Jul","กรกฎาคม"]
[null,null,null,null,"Empirical","GUMBEL",null,"NORMAL",null,null,"LOG-NORMAL"]
[null,"No.","NRI","(X)","F'(X)","F(x)","F'(X)-F(X)","Z","F(x)","F'(X)-F(X)","Y","F(x)","F'(X)-f(X)"]
[null,{"$f":"IF(1<='หา NRI'!$D$58,1,\"\")","v":1},{"$f":"IF(NRI!I82=\"\",\"\",NRI!I82)","v":""},{"$f":"IF(C7=\"\",\"\",SMALL(OFFSET($C$7,0,0,'หา NRI'!$D$58,1),B7))","v":""},{"$f":"IF(C7=\"\",\"\",B7/(COUNT($B$7:$B$57)+1))","v":""},{"$f":"IF(C7=\"\",\"\",EXP(-EXP(-(D7-$C$60)/$C$61)))","v":""},{"$f":"IF(C7=\"\",\"\",ABS(E7-F7))","v":""},{"$f":"IF(C7=\"\",\"\",(D7-$C$58)/$C$59)","v":""},{"$f":"IF(C7=\"\",\"\",NORMSDIST(H7))","v":""},{"$f":"IF(C7=\"\",\"\",ABS(E7-I7))","v":""},{"$f":"IF(C7=\"\",\"\",(LN(D7)))","v":""},{"$f":"IF(C7=\"\",\"\",(LOGNORMDIST(D7,$C$61,$C$62)))","v":""},{"$f":"IF(C7=\"\",\"\",(ABS(E7-L7)))","v":""}]
[null,{"$f":"IF(B7=\"\",\"\",IF(B7+1<='หา NRI'!$D$58,B7+1,\"\"))","v":2},{"$f":"IF(NRI!I83=\"\",\"\",NRI!I83)","v":""},{"$f":"IF(C8=\"\",\"\",SMALL(OFFSET($C$7,0,0,'หา NRI'!$D$58,1),B8))","v":""},{"$f":"IF(C8=\"\",\"\",B8/(COUNT($B$7:$B$57)+1))","v":""},{"$f":"IF(C8=\"\",\"\",EXP(-EXP(-(D8-$C$60)/$C$61)))","v":""},{"$f":"IF(C8=\"\",\"\",ABS(E8-F8))","v":""},{"$f":"IF(C8=\"\",\"\",(D8-$C$58)/$C$59)","v":""},{"$f":"IF(C8=\"\",\"\",NORMSDIST(H8))","v":""},{"$f":"IF(C8=\"\",\"\",ABS(E8-I8))","v":""},{"$f":"IF(C8=\"\",\"\",(LN(D8)))","v":""},{"$f":"IF(C8=\"\",\"\",(LOGNORMDIST(D8,$C$61,$C$62)))","v":""},{"$f":"IF(C8=\"\",\"\",(ABS(E8-L8)))","v":""}]
[null,{"$f":"IF(B8=\"\",\"\",IF(B8+1<='หา NRI'!$D$58,B8+1,\"\"))","v":3},{"$f":"IF(NRI!I84=\"\",\"\",NRI!I84)","v":""},{"$f":"IF(C9=\"\",\"\",SMALL(OFFSET($C$7,0,0,'หา NRI'!$D$58,1),B9))","v":""},"","","","","","","","",""]
[null,{"$f":"IF(B9=\"\",\"\",IF(B9+1<='หา NRI'!$D$58,B9+1,\"\"))","v":4},{"$f":"IF(NRI!I85=\"\",\"\",NRI!I85)","v":""},{"$f":"IF(C10=\"\",\"\",SMALL(OFFSET($C$7,0,0,'หา NRI'!$D$58,1),B10))","v":""},"","","","","","","","",""]
[null,{"$f":"IF(B10=\"\",\"\",IF(B10+1<='หา NRI'!$D$58,B10+1,\"\"))","v":""},{"$f":"IF(NRI!I86=\"\",\"\",NRI!I86)","v":""},{"$f":"IF(C11=\"\",\"\",SMALL(OFFSET($C$7,0,0,'หา NRI'!$D$58,1),B11))","v":""},"","","","","","","","",""]
[null,{"$f":"IF(B11=\"\",\"\",IF(B11+1<='หา NRI'!$D$58,B11+1,\"\"))","v":""},{"$f":"IF(NRI!I87=\"\",\"\",NRI!I87)","v":""},{"$f":"IF(C12=\"\",\"\",SMALL(OFFSET($C$7,0,0,'หา NRI'!$D$58,1),B12))","v":""},"","","","","","","","",""]
[null,{"$f":"IF(B12=\"\",\"\",IF(B12+1<='หา NRI'!$D$58,B12+1,\"\"))","v":""},{"$f":"IF(NRI!I88=\"\",\"\",NRI!I88)","v":""},{"$f":"IF(C13=\"\",\"\",SMALL(OFFSET($C$7,0,0,'หา NRI'!$D$58,1),B13))","v":""},"","","","","","","","",""]
[null,{"$f":"IF(B13=\"\",\"\",IF(B13+1<='หา NRI'!$D$58,B13+1,\"\"))","v":""},{"$f":"IF(NRI!I89=\"\",\"\",NRI!I89)","v":""},{"$f":"IF(C14=\"\",\"\",SMALL(OFFSET($C$7,0,0,'หา NRI'!$D$58,1),B14))","v":""},"","","","","","","","",""]
[null,{"$f":"IF(B14=\"\",\"\",IF(B14+1<='หา NRI'!$D$58,B14+1,\"\"))","v":""},{"$f":"IF(NRI!I90=\"\",\"\",NRI!I90)","v":""},{"$f":"IF(C15=\"\",\"\",SMALL(OFFSET($C$7,0,0,'หา NRI'!$D$58,1),B15))","v":""},"","","","","","","","",""]
[null,{"$f":"IF(B15=\"\",\"\",IF(B15+1<='หา NRI'!$D$58,B15+1,\"\"))","v":""},{"$f":"IF(NRI!I91=\"\",\"\",NRI!I91)","v":""},{"$f":"IF(C16=\"\",\"\",SMALL(OFFSET($C$7,0,0,'หา NRI'!$D$58,1),B16))","v":""},"","","","","","","","",""]
[null,{"$f":"IF(B16=\"\",\"\",IF(B16+1<='หา NRI'!$D$58,B16+1,\"\"))","v":""},{"$f":"IF(NRI!I92=\"\",\"\",NRI!I92)","v":""},{"$f":"IF(C17=\"\",\"\",SMALL(OFFSET($C$7,0,0,'หา NRI'!$D$58,1),B17))","v":""},"","","","","","","","",""]
[null,{"$f":"IF(B17=\"\",\"\",IF(B17+1<='หา NRI'!$D$58,B17+1,\"\"))","v":""},{"$f":"IF(NRI!I93=\"\",\"\",NRI!I93)","v":""},{"$f":"IF(C18=\"\",\"\",SMALL(OFFSET($C$7,0,0,'หา NRI'!$D$58,1),B18))","v":""},"","","","","","","","",""]
[null,{"$f":"IF(B18=\"\",\"\",IF(B18+1<='หา NRI'!$D$58,B18+1,\"\"))","v":""},{"$f":"IF(NRI!I94=\"\",\"\",NRI!I94)","v":""},{"$f":"IF(C19=\"\",\"\",SMALL(OFFSET($C$7,0,0,'หา NRI'!$D$58,1),B19))","v":""},"","","","","","","","",""]
[null,{"$f":"IF(B19=\"\",\"\",IF(B19+1<='หา NRI'!$D$58,B19+1,\"\"))","v":""},{"$f":"IF(NRI!I95=\"\",\"\",NRI!I95)","v":""},{"$f":"IF(C20=\"\",\"\",SMALL(OFFSET($C$7,0,0,'หา NRI'!$D$58,1),B20))","v":""},"","","","","","","","",""]
[null,{"$f":"IF(B20=\"\",\"\",IF(B20+1<='หา NRI'!$D$58,B20+1,\"\"))","v":""},{"$f":"IF(NRI!I96=\"\",\"\",NRI!I96)","v":""},{"$f":"IF(C21=\"\",\"\",SMALL(OFFSET($C$7,0,0,'หา NRI'!$D$58,1),B21))","v":""},"","","","","","","","",""]
[null,{"$f":"IF(B21=\"\",\"\",IF(B21+1<='หา NRI'!$D$58,B21+1,\"\"))","v":""},{"$f":"IF(NRI!I97=\"\",\"\",NRI!I97)","v":""},{"$f":"IF(C22=\"\",\"\",SMALL(OFFSET($C$7,0,0,'หา NRI'!$D$58,1),B22))","v":""},"","","","","","","","",""]
[null,{"$f":"IF(B22=\"\",\"\",IF(B22+1<='หา NRI'!$D$58,B22+1,\"\"))","v":""},{"$f":"IF(NRI!I98=\"\",\"\",NRI!I98)","v":""},{"$f":"IF(C23=\"\",\"\",SMALL(OFFSET($C$7,0,0,'หา NRI'!$D$58,1),B23))","v":""},"","","","","","","","",""]
[null,{"$f":"IF(B23=\"\",\"\",IF(B23+1<='หา NRI'!$D$58,B23+1,\"\"))","v":""},{"$f":"IF(NRI!I99=\"\",\"\",NRI!I99)","v":""},{"$f":"IF(C24=\"\",\"\",SMALL(OFFSET($C$7,0,0,'หา NRI'!$D$58,1),B24))","v":""},"","","","","","","","",""]
[null,{"$f":"IF(B24=\"\",\"\",IF(B24+1<='หา NRI'!$D$58,B24+1,\"\"))","v":""},{"$f":"IF(NRI!I100=\"\",\"\",NRI!I100)","v":""},{"$f":"IF(C25=\"\",\"\",SMALL(OFFSET($C$7,0,0,'หา NRI'!$D$58,1),B25))","v":""},"","","","","","","","",""]
[null,{"$f":"IF(B25=\"\",\"\",IF(B25+1<='หา NRI'!$D$58,B25+1,\"\"))","v":""},{"$f":"IF(NRI!I101=\"\",\"\",NRI!I101)","v":""},{"$f":"IF(C26=\"\",\"\",SMALL(OFFSET($C$7,0,0,'หา NRI'!$D$58,1),B26))","v":""},"","","","","","","","",""]
[null,{"$f":"IF(B26=\"\",\"\",IF(B26+1<='หา NRI'!$D$58,B26+1,\"\"))","v":""},{"$f":"IF(NRI!I102=\"\",\"\",NRI!I102)","v":""},{"$f":"IF(C27=\"\",\"\",SMALL(OFFSET($C$7,0,0,'หา NRI'!$D$58,1),B27))","v":""},"","","","","","","","",""]
[null,{"$f":"IF(B27=\"\",\"\",IF(B27+1<='หา NRI'!$D$58,B27+1,\"\"))","v":""},{"$f":"IF(NRI!I103=\"\",\"\",NRI!I103)","v":""},{"$f":"IF(C28=\"\",\"\",SMALL(OFFSET($C$7,0,0,'หา NRI'!$D$58,1),B28))","v":""},"","","","","","","","",""]
[null,{"$f":"IF(B28=\"\",\"\",IF(B28+1<='หา NRI'!$D$58,B28+1,\"\"))","v":""},{"$f":"IF(NRI!I104=\"\",\"\",NRI!I104)","v":""},{"$f":"IF(C29=\"\",\"\",SMALL(OFFSET($C$7,0,0,'หา NRI'!$D$58,1),B29))","v":""},"","","","","","","","",""]
[null,{"$f":"IF(B29=\"\",\"\",IF(B29+1<='หา NRI'!$D$58,B29+1,\"\"))","v":""},{"$f":"IF(NRI!I105=\"\",\"\",NRI!I105)","v":""},{"$f":"IF(C30=\"\",\"\",SMALL(OFFSET($C$7,0,0,'หา NRI'!$D$58,1),B30))","v":""},"","","","","","","","",""]
[null,{"$f":"IF(B30=\"\",\"\",IF(B30+1<='หา NRI'!$D$58,B30+1,\"\"))","v":""},{"$f":"IF(NRI!I106=\"\",\"\",NRI!I106)","v":""},{"$f":"IF(C31=\"\",\"\",SMALL(OFFSET($C$7,0,0,'หา NRI'!$D$58,1),B31))","v":""},"","","","","","","","",""]
[null,{"$f":"IF(B31=\"\",\"\",IF(B31+1<='หา NRI'!$D$58,B31+1,\"\"))","v":""},{"$f":"IF(NRI!I107=\"\",\"\",NRI!I107)","v":""},{"$f":"IF(C32=\"\",\"\",SMALL(OFFSET($C$7,0,0,'หา NRI'!$D$58,1),B32))","v":""},"","","","","","","","",""]
[null,{"$f":"IF(B32=\"\",\"\",IF(B32+1<='หา NRI'!$D$58,B32+1,\"\"))","v":""},{"$f":"IF(NRI!I108=\"\",\"\",NRI!I108)","v":""},{"$f":"IF(C33=\"\",\"\",SMALL(OFFSET($C$7,0,0,'หา NRI'!$D$58,1),B33))","v":""},"","","","","","","","",""]
[null,{"$f":"IF(B33=\"\",\"\",IF(B33+1<='หา NRI'!$D$58,B33+1,\"\"))","v":""},{"$f":"IF(NRI!I109=\"\",\"\",NRI!I109)","v":""},{"$f":"IF(C34=\"\",\"\",SMALL(OFFSET($C$7,0,0,'หา NRI'!$D$58,1),B34))","v":""},"","","","","","","","",""]
[null,{"$f":"IF(B34=\"\",\"\",IF(B34+1<='หา NRI'!$D$58,B34+1,\"\"))","v":""},{"$f":"IF(NRI!I110=\"\",\"\",NRI!I110)","v":""},{"$f":"IF(C35=\"\",\"\",SMALL(OFFSET($C$7,0,0,'หา NRI'!$D$58,1),B35))","v":""},"","","","","","","","",""]
[null,{"$f":"IF(B35=\"\",\"\",IF(B35+1<='หา NRI'!$D$58,B35+1,\"\"))","v":""},{"$f":"IF(NRI!I111=\"\",\"\",NRI!I111)","v":""},{"$f":"IF(C36=\"\",\"\",SMALL(OFFSET($C$7,0,0,'หา NRI'!$D$58,1),B36))","v":""},"","","","","","","","",""]
[null,{"$f":"IF(B36=\"\",\"\",IF(B36+1<='หา NRI'!$D$58,B36+1,\"\"))","v":""},{"$f":"IF(NRI!I112=\"\",\"\",NRI!I112)","v":""},{"$f":"IF(C37=\"\",\"\",SMALL(OFFSET($C$7,0,0,'หา NRI'!$D$58,1),B37))","v":""},"","","","","","","","",""]
[null,{"$f":"IF(B37=\"\",\"\",IF(B37+1<='หา NRI'!$D$58,B37+1,\"\"))","v":""},{"$f":"IF(NRI!I113=\"\",\"\",NRI!I113)","v":""},{"$f":"IF(C38=\"\",\"\",SMALL(OFFSET($C$7,0,0,'หา NRI'!$D$58,1),B38))","v":""},"","","","","","","","",""]
[null,{"$f":"IF(B38=\"\",\"\",IF(B38+1<='หา NRI'!$D$58,B38+1,\"\"))","v":""},{"$f":"IF(NRI!I114=\"\",\"\",NRI!I114)","v":""},{"$f":"IF(C39=\"\",\"\",SMALL(OFFSET($C$7,0,0,'หา NRI'!$D$58,1),B39))","v":""},"","","","","","","","",""]
[null,{"$f":"IF(B39=\"\",\"\",IF(B39+1<='หา NRI'!$D$58,B39+1,\"\"))","v":""},{"$f":"IF(NRI!I115=\"\",\"\",NRI!I115)","v":""},{"$f":"IF(C40=\"\",\"\",SMALL(OFFSET($C$7,0,0,'หา NRI'!$D$58,1),B40))","v":""},"","","","","","","","",""]
[null,{"$f":"IF(B40=\"\",\"\",IF(B40+1<='หา NRI'!$D$58,B40+1,\"\"))","v":""},{"$f":"IF(NRI!I116=\"\",\"\",NRI!I116)","v":""},{"$f":"IF(C41=\"\",\"\",SMALL(OFFSET($C$7,0,0,'หา NRI'!$D$58,1),B41))","v":""},"","","","","","","","",""]
[null,{"$f":"IF(B41=\"\",\"\",IF(B41+1<='หา NRI'!$D$58,B41+1,\"\"))","v":""},{"$f":"IF(NRI!I117=\"\",\"\",NRI!I117)","v":""},{"$f":"IF(C42=\"\",\"\",SMALL(OFFSET($C$7,0,0,'หา NRI'!$D$58,1),B42))","v":""},"","","","","","","","",""]
[null,{"$f":"IF(B42=\"\",\"\",IF(B42+1<='หา NRI'!$D$58,B42+1,\"\"))","v":""},{"$f":"IF(NRI!I118=\"\",\"\",NRI!I118)","v":""},{"$f":"IF(C43=\"\",\"\",SMALL(OFFSET($C$7,0,0,'หา NRI'!$D$58,1),B43))","v":""},"","","","","","","","",""]
[null,{"$f":"IF(B43=\"\",\"\",IF(B43+1<='หา NRI'!$D$58,B43+1,\"\"))","v":""},{"$f":"IF(NRI!I119=\"\",\"\",NRI!I119)","v":""},{"$f":"IF(C44=\"\",\"\",SMALL(OFFSET($C$7,0,0,'หา NRI'!$D$58,1),B44))","v":""},"","","","","","","","",""]
[null,{"$f":"IF(B44=\"\",\"\",IF(B44+1<='หา NRI'!$D$58,B44+1,\"\"))","v":""},{"$f":"IF(NRI!I120=\"\",\"\",NRI!I120)","v":""},{"$f":"IF(C45=\"\",\"\",SMALL(OFFSET($C$7,0,0,'หา NRI'!$D$58,1),B45))","v":""},"","","","","","","","",""]
[null,{"$f":"IF(B45=\"\",\"\",IF(B45+1<='หา NRI'!$D$58,B45+1,\"\"))","v":""},{"$f":"IF(NRI!I121=\"\",\"\",NRI!I121)","v":""},{"$f":"IF(C46=\"\",\"\",SMALL(OFFSET($C$7,0,0,'หา NRI'!$D$58,1),B46))","v":""},"","","","","","","","",""]
[null,{"$f":"IF(B46=\"\",\"\",IF(B46+1<='หา NRI'!$D$58,B46+1,\"\"))","v":""},{"$f":"IF(NRI!I122=\"\",\"\",NRI!I122)","v":""},{"$f":"IF(C47=\"\",\"\",SMALL(OFFSET($C$7,0,0,'หา NRI'!$D$58,1),B47))","v":""},"","","","","","","","",""]
[null,{"$f":"IF(B47=\"\",\"\",IF(B47+1<='หา NRI'!$D$58,B47+1,\"\"))","v":""},{"$f":"IF(NRI!I123=\"\",\"\",NRI!I123)","v":""},{"$f":"IF(C48=\"\",\"\",SMALL(OFFSET($C$7,0,0,'หา NRI'!$D$58,1),B48))","v":""},"","","","","","","","",""]
[null,{"$f":"IF(B48=\"\",\"\",IF(B48+1<='หา NRI'!$D$58,B48+1,\"\"))","v":""},{"$f":"IF(NRI!I124=\"\",\"\",NRI!I124)","v":""},{"$f":"IF(C49=\"\",\"\",SMALL(OFFSET($C$7,0,0,'หา NRI'!$D$58,1),B49))","v":""},"","","","","","","","",""]
[null,{"$f":"IF(B49=\"\",\"\",IF(B49+1<='หา NRI'!$D$58,B49+1,\"\"))","v":""},{"$f":"IF(NRI!I125=\"\",\"\",NRI!I125)","v":""},{"$f":"IF(C50=\"\",\"\",SMALL(OFFSET($C$7,0,0,'หา NRI'!$D$58,1),B50))","v":""},"","","","","","","","",""]
[null,{"$f":"IF(B50=\"\",\"\",IF(B50+1<='หา NRI'!$D$58,B50+1,\"\"))","v":""},{"$f":"IF(NRI!I126=\"\",\"\",NRI!I126)","v":""},{"$f":"IF(C51=\"\",\"\",SMALL(OFFSET($C$7,0,0,'หา NRI'!$D$58,1),B51))","v":""},"","","","","","","","",""]
[null,{"$f":"IF(B51=\"\",\"\",IF(B51+1<='หา NRI'!$D$58,B51+1,\"\"))","v":""},{"$f":"IF(NRI!I127=\"\",\"\",NRI!I127)","v":""},{"$f":"IF(C52=\"\",\"\",SMALL(OFFSET($C$7,0,0,'หา NRI'!$D$58,1),B52))","v":""},"","","","","","","","",""]
[null,{"$f":"IF(B52=\"\",\"\",IF(B52+1<='หา NRI'!$D$58,B52+1,\"\"))","v":""},{"$f":"IF(NRI!I128=\"\",\"\",NRI!I128)","v":""},{"$f":"IF(C53=\"\",\"\",SMALL(OFFSET($C$7,0,0,'หา NRI'!$D$58,1),B53))","v":""},"","","","","","","","",""]
[null,{"$f":"IF(B53=\"\",\"\",IF(B53+1<='หา NRI'!$D$58,B53+1,\"\"))","v":""},{"$f":"IF(NRI!I129=\"\",\"\",NRI!I129)","v":""},{"$f":"IF(C54=\"\",\"\",SMALL(OFFSET($C$7,0,0,'หา NRI'!$D$58,1),B54))","v":""},"","","","","","","","",""]
[null,{"$f":"IF(B54=\"\",\"\",IF(B54+1<='หา NRI'!$D$58,B54+1,\"\"))","v":""},{"$f":"IF(NRI!I130=\"\",\"\",NRI!I130)","v":""},{"$f":"IF(C55=\"\",\"\",SMALL(OFFSET($C$7,0,0,'หา NRI'!$D$58,1),B55))","v":""},"","","","","","","","",""]
[null,{"$f":"IF(B55=\"\",\"\",IF(B55+1<='หา NRI'!$D$58,B55+1,\"\"))","v":""},{"$f":"IF(NRI!I131=\"\",\"\",NRI!I131)","v":""},{"$f":"IF(C56=\"\",\"\",SMALL(OFFSET($C$7,0,0,'หา NRI'!$D$58,1),B56))","v":""},"","","","","","","","",""]
[null,{"$f":"IF(B56=\"\",\"\",IF(B56+1<='หา NRI'!$D$58,B56+1,\"\"))","v":""},{"$f":"IF(NRI!I132=\"\",\"\",NRI!I132)","v":""},{"$f":"IF(C57=\"\",\"\",SMALL(OFFSET($C$7,0,0,'หา NRI'!$D$58,1),B57))","v":""},"","","","","","","","",""]
[null,"MEAN",{"$f":"AVERAGE(C7:C57)","v":{"$error":"#DIV/0!"}},null,null,"MAX",{"$f":"MAX(G7:G57)","v":0},null,"MAX",{"$f":"MAX(J7:J57)","v":0},null,"MAX",{"$f":"MAX(M7:M17)","v":0}]
[null,"STD.",{"$f":"STDEV(C7:C57)","v":{"$error":"#DIV/0!"}},null,null,{"$f":"\"Delta \"&COUNT(B7:B57)&\", \"&OFFSET('หา NRI'!A48,MATCH(G59,'หา NRI'!G49:G52,0),0,1,1)*100&\"%\"","v":{"$error":"#N/A"}},{"$f":"IF('หา NRI'!G50>G58,'หา NRI'!G50,'หา NRI'!G49)","v":{"$error":"#N/A"}},{"$f":"IF(G58<G59,\"ok\",\"\")","v":{"$error":"#N/A"}},{"$f":"F59","v":{"$error":"#N/A"}},{"$f":"G59","v":{"$error":"#N/A"}},{"$f":"IF(G58<G59,\"ok\",\"\")","v":{"$error":"#N/A"}},{"$f":"F59","v":{"$error":"#N/A"}},{"$f":"G59","v":{"$error":"#N/A"}}]
[null,"Location",{"$f":"C58-(0.45*C59)","v":{"$error":"#DIV/0!"}},null,null,null,{"$f":"IF(G58<G59,IF(G58<J58,\"GUMBEL\",\"\"),\"\")","v":{"$error":"#N/A"}},null,null,{"$f":"IF(J58<J59,IF(J58<G58,\"NORMAL\",\"\"),\"\")","v":{"$error":"#N/A"}}]
[null,"Scale",{"$f":"0.7797*C59","v":{"$error":"#DIV/0!"}},null,null,null,null,{"$f":"\"เดือน\"&D4&\"เป็นการแจกแจงแบบ  \"&G60&J60","v":{"$error":"#N/A"}}]
[null,"MEAN Y",{"$f":"AVERAGE(K7:K17)","v":{"$error":"#DIV/0!"}}]
[null,"STD. Y",{"$f":"STDEV(K7:K17)","v":{"$error":"#DIV/0!"}}]
[null,"MAX X",{"$f":"MAX(D7:D57)","v":0},null,{"$f":"\"ดังนั้น ปริมาณน้ำไหลเข้าอ่างเก็บน้ำสุทธิในเดือน \"&D4&\" จะเหมาะสมกับการแจกแจงแบบ \" &G60&J60&\" ที่ระดับนัยสำคัญ \"&OFFSET('หา NRI'!A48,MATCH(G59,'หา NRI'!G49:G52,0),0,1,1)*100&\"%\"","v":{"$error":"#N/A"}}]
[null,"MIN X",{"$f":"MIN(D7:D57)","v":0}]
[null,null,null,null,null,null,null,null,"แนะนำกว้าง",{"$f":"ROUND(($L$68-$L$69)/$J$68,0)","v":0}]
[null," 7.  สร้างเส้นโค้งของการแจกแจง NRI",null,null,null,null,null,null,"กว้างชั้นละ",30,"Max - Min"]
[null,null,"Range; R =",{"$f":"C64-C65","v":0},"Class Interval ; CI =",null,{"$f":"D68/D69","v":0},null,"จำนวนชั้น",4,"MAX X",{"$f":"C64","v":0}]
[null,null,"Class ; C =",{"$f":"J68","v":4},null,null,null,null,"เริ่มที่",0,"MIN X",{"$f":"C65","v":0}]
[null,"Class","Class Interval","Mid-Range",null,"(Xi)*ni","(X(i))^2","ni*(X(i))^2"]
[null,"(i)","(mcm.)","(Xi)"]
[null,1,{"$f":"IF(B72<=$J$68,\"(\"&J69&\")-(\"&K72&\")\",\"\")","v":"(0)-(30)"},{"$f":"IF(B72<=$J$68,(J69+K72)/2,\"\")","v":15},{"$f":"IF(B72<=$J$68,M72,\"\")","v":0},{"$f":"IF(B72<=$J$68,D72*E72,\"\")","v":0},{"$f":"IF(B72<=$J$68,D72^2,\"\")","v":225},{"$f":"IF(B72<=$J$68,E72*G72,\"\")","v":0},{"$f":"IF(B72<=$D$69,1,0)","v":1},{"$f":"J69","v":0},{"$f":"$J$69+(B72*$J$67)","v":30},{"$f":"COUNTIF($C$7:$C$45,\"<\"&J73-0.5)","v":0},{"$f":"L72","v":0}]
[null,{"$f":"IF(B72+1<=J68,B72+1,\"\")","v":2},{"$f":"IF(B73<=$J$68,IF(I74=1,\"(\"&J73&\")-(\"&K73&\")\",\">\"&J73),\"\")","v":"(31)-(60)"},{"$f":"IF(B73<=$J$68,(J73+K73)/2,\"\")","v":45.5},0,0,2070.25,0,1,{"$f":"IF(I73=1,K72+1,9999)","v":31},60,{"$f":"COUNTIF($C$7:$C$45,\"<\"&J74-0.5)","v":0},{"$f":"L73-L72","v":0}]
[null,{"$f":"B73+1","v":3},"(61)-(90)",75.5,0,0,5700.25,0,1,61,90,0,0]
[null,4,">91",105.5,0,0,11130.25,0,1,91,120,0,0]
[null,5,"","","","","","",0,9999,150,0,0]
[null,6,"","","","","","",0,9999,180,0,0]
[null,7,"","","","","","",0,9999,210,0,0]
[null,8,"","","","","","",0,9999,240,0,0]
[null,9,"","","","","","",0,9999,270,0,0]
[null,10,"","","","","","",0,9999,300,0,0]
[null,11,"","","","","","",0,9999,330,0,0]
[null,12,"","","","","","",0,9999,360,0,0]
[null,13,"","","","","","",0,9999,390,0,0]
[null,14,"","","","","","",0,9999,420,0,0]
[null,15,"","","","","","",0,9999,450,0,0]
[null,16,"","","","","","",0,9999,480,0,0]
[null,17,"","","","","","",0,9999,510,{"$f":"COUNTIF($C$7:$C$45,\"<\"&J89-0.5)","v":0},0]
[null,"SUM",null,null,{"$f":"SUM(E72:E88)","v":0},{"$f":"SUM(F72:F88)","v":0},{"$f":"SUM(G72:G88)","v":19125.75},{"$f":"SUM(H72:H88)","v":0},null,9999]
[null,null,"Mean",{"$f":"F89/E89","v":{"$error":"#DIV/0!"}},"(Mean)^2",{"$f":"D90*D90","v":{"$error":"#DIV/0!"}},"Location",{"$f":"D90-(0.45*D91)","v":{"$error":"#DIV/0!"}}]
[null,null,"STD.",{"$f":"((H89/E89)-F90)^0.5","v":{"$error":"#DIV/0!"}},null,null,"Scale",{"$f":"0.7797*D91","v":{"$error":"#DIV/0!"}}]
[]
[null,{"$f":"\"การแจกแจงแบบ \"&G60&J60&\" กับปริมาณน้ำท่าสุทธิเดือน \"&D4&\" ของอ่าง\"&L2","v":{"$error":"#N/A"}},null,null,null,null,null,null,null,"ตารางแจกแจงความถี่"]
[null,"Class","Class Interval",null,null,null,null,null,null,"Class","p(Xi)",0.05,0.1,0.15]
[null,"(i)","(mcm.)",null,null,null,{"$f":"G60&J60","v":{"$error":"#N/A"}}]
[null,{"$f":"B72","v":1},{"$f":"IF(B96<=$J$68,C72,\"\")","v":"(0)-(30)"},{"$f":"IF(B96<=$J$68,E72,\"\")","v":0},{"$f":"IF(B96<=$J$68,D96/$D$113,\"\")","v":{"$error":"#DIV/0!"}},{"$f":"IF(B96<=$J$68,E96,\"\")","v":{"$error":"#DIV/0!"}},{"$f":"IF(B96<=$J$68,IF($G$60=\"GUMBEL\",EXP(-EXP(-(J96-$H$90)/$H$91)),NORMDIST(J96,$D$90,$D$91,TRUE)),\"\")","v":{"$error":"#N/A"}},{"$f":"IF(B96<=$J$68,G96,\"\")","v":{"$error":"#N/A"}},null,{"$f":"K72","v":30},{"$f":"H96","v":{"$error":"#N/A"}},0.05,0.1,0.15]
[null,{"$f":"B96+1","v":2},"(31)-(60)",0,{"$error":"#DIV/0!"},{"$f":"IF(B97<=$J$68,E97+F96,\"\")","v":{"$error":"#DIV/0!"}},{"$error":"#N/A"},{"$f":"IF(B97<=$J$68,G97-G96,\"\")","v":{"$error":"#N/A"}},null,{"$f":"K73","v":60},{"$f":"H97","v":{"$error":"#N/A"}},0.05,0.1,0.15]
[null,3,"(61)-(90)",0,{"$error":"#DIV/0!"},{"$error":"#DIV/0!"},{"$error":"#N/A"},{"$error":"#N/A"},null,{"$f":"K74","v":90},{"$error":"#N/A"},0.05,0.1,0.15]
[null,4,">91",0,{"$error":"#DIV/0!"},{"$error":"#DIV/0!"},{"$error":"#N/A"},{"$error":"#N/A"},null,120,{"$error":"#N/A"},0.05,0.1,0.15]
[null,5,"","","","","","",null,150,"",0.05,0.1,0.15]
[null,6,"","","","","","",null,180,"",0.05,0.1,0.15]
[null,7,"","","","","","",null,210,"",0.05,0.1,0.15]
[null,8,"","","","","","",null,240,"",0.05,0.1,0.15]
[null,9,"","","","","","",null,270,"",0.05,0.1,0.15]
[null,10,"","","","","","",null,300,"",0.05,0.1,0.15]
[null,11,"","","","","","",null,330,"",0.05,0.1,0.15]
[null,12,"","","","","","",null,360,"",0.05,0.1,0.15]
[null,13,"","","","","","",null,390,"",0.05,0.1,0.15]
[null,14,"","","","","","",null,420,"",0.05,0.1,0.15]
[null,15,"","","","","","",null,450,"",0.05,0.1,0.15]
[null,16,"","","","","","",null,480,"",0.05,0.1,0.15]
[null,17,"","","","","","",null,510,"",0.05,0.1,0.15]
[null,null,"Sum",{"$f":"SUM(D96:D112)","v":0},{"$f":"SUM(E96:E112)","v":{"$error":"#DIV/0!"}},null,null,{"$f":"SUM(H96:H112)","v":{"$error":"#N/A"}}]
[]
[{"$f":"\"8. หาค่าVolume of Flood Control Reserve ของเดือน\"&D4&\"ที่ค่าความเสี่ยงต่างๆ จากกราฟการแจกแจงความน่าจะเป็น\"","v":"8. หาค่าVolume of Flood Control Reserve ของเดือนกรกฎาคมที่ค่าความเสี่ยงต่างๆ จากกราฟการแจกแจงความน่าจะเป็น"}]
[]
[]
[]
[]
[]
[]
[]
[]
[]
[]
[null,null,null,null,null,null,null,null,null,"P(NRIt>VFCt)< Risk"]
[null,null,null,null,null,null,null,null,null,{"$f":"IF(NRI!H54<0,\"Volume Buffer\",\"Volum Flood Control\")","v":{"$error":"#DIV/0!"}}]
[null,null,null,null,null,null,null,null,null,"Risk(%)",{"$f":"IF(NRI!H54<0,\"VBUF(mcm)\",\"VFC(mcm)\")","v":{"$error":"#DIV/0!"}},null,"X-Axis","X-ordinate","Y-Axis","Y-ordinate"]
[null,null,null,null,null,null,null,null,null,15,106,6825,"X1=",374,"Y1=",0.15912074047763369]
[null,null,null,null,null,null,null,null,null,10,116,5805,"X2=",475,"Y2=",0.13117031761875575]
[null,null,null,null,null,null,null,null,null,5,129,4655,"X0=",{"$f":"N129-((N129-N130)*(P129-P131)/(P129-P130))","v":406.95817000308466},"Y0=",0.15]

{"sheet":"ส.ค.","index":16,"n_rows":131,"n_cols":16,"rows_kept":131,"cut":false,"hidden":true,"merged":[[125,9,125,12],[60,7,61,12],[63,4,63,14],[67,4,67,5],[88,1,88,3],[93,11,94,11],[93,12,94,12],[93,13,94,13],[66,10,66,11],[93,9,94,9],[93,10,94,10],[92,9,92,13]]}
[]
[null,"6. การหาค่าสถิติและการทดสอบความเหมาะสมของ Distribution Function กับข้อมูล Net Reservoir Inflow(NIR)",null,null,null,null,null,null,null,null,null,{"$f":"NRI!O1","v":0}]
[]
[null,8,"Aug","สิงหาคม"]
[null,null,null,null,"Empirical","GUMBEL",null,"NORMAL",null,null,"LOG-NORMAL"]
[null,"No.","NRI","(X)","F'(X)","F(x)","F'(X)-F(X)","Z","F(x)","F'(X)-F(X)","Y","F(x)","F'(X)-f(X)"]
[null,{"$f":"IF(1<='หา NRI'!$D$58,1,\"\")","v":1},{"$f":"IF(NRI!J82=\"\",\"\",NRI!J82)","v":""},{"$f":"IF(C7=\"\",\"\",SMALL(OFFSET($C$7,0,0,'หา NRI'!$D$58,1),B7))","v":""},{"$f":"IF(C7=\"\",\"\",B7/(COUNT($B$7:$B$57)+1))","v":""},{"$f":"IF(C7=\"\",\"\",EXP(-EXP(-(D7-$C$60)/$C$61)))","v":""},{"$f":"IF(C7=\"\",\"\",ABS(E7-F7))","v":""},{"$f":"IF(C7=\"\",\"\",(D7-$C$58)/$C$59)","v":""},{"$f":"IF(C7=\"\",\"\",NORMSDIST(H7))","v":""},{"$f":"IF(C7=\"\",\"\",ABS(E7-I7))","v":""},{"$f":"IF(C7=\"\",\"\",(LN(D7)))","v":""},{"$f":"IF(C7=\"\",\"\",(LOGNORMDIST(D7,$C$61,$C$62)))","v":""},{"$f":"IF(C7=\"\",\"\",(ABS(E7-L7)))","v":""}]
[null,{"$f":"IF(B7=\"\",\"\",IF(B7+1<='หา NRI'!$D$58,B7+1,\"\"))","v":2},{"$f":"IF(NRI!J83=\"\",\"\",NRI!J83)","v":""},{"$f":"IF(C8=\"\",\"\",SMALL(OFFSET($C$7,0,0,'หา NRI'!$D$58,1),B8))","v":""},{"$f":"IF(C8=\"\",\"\",B8/(COUNT($B$7:$B$57)+1))","v":""},{"$f":"IF(C8=\"\",\"\",EXP(-EXP(-(D8-$C$60)/$C$61)))","v":""},{"$f":"IF(C8=\"\",\"\",ABS(E8-F8))","v":""},{"$f":"IF(C8=\"\",\"\",(D8-$C$58)/$C$59)","v":""},{"$f":"IF(C8=\"\",\"\",NORMSDIST(H8))","v":""},{"$f":"IF(C8=\"\",\"\",ABS(E8-I8))","v":""},{"$f":"IF(C8=\"\",\"\",(LN(D8)))","v":""},{"$f":"IF(C8=\"\",\"\",(LOGNORMDIST(D8,$C$61,$C$62)))","v":""},{"$f":"IF(C8=\"\",\"\",(ABS(E8-L8)))","v":""}]
[null,{"$f":"IF(B8=\"\",\"\",IF(B8+1<='หา NRI'!$D$58,B8+1,\"\"))","v":3},{"$f":"IF(NRI!J84=\"\",\"\",NRI!J84)","v":""},{"$f":"IF(C9=\"\",\"\",SMALL(OFFSET($C$7,0,0,'หา NRI'!$D$58,1),B9))","v":""},"","","","","","","","",""]
[null,{"$f":"IF(B9=\"\",\"\",IF(B9+1<='หา NRI'!$D$58,B9+1,\"\"))","v":4},{"$f":"IF(NRI!J85=\"\",\"\",NRI!J85)","v":""},{"$f":"IF(C10=\"\",\"\",SMALL(OFFSET($C$7,0,0,'หา NRI'!$D$58,1),B10))","v":""},"","","","","","","","",""]
[null,{"$f":"IF(B10=\"\",\"\",IF(B10+1<='หา NRI'!$D$58,B10+1,\"\"))","v":""},{"$f":"IF(NRI!J86=\"\",\"\",NRI!J86)","v":""},{"$f":"IF(C11=\"\",\"\",SMALL(OFFSET($C$7,0,0,'หา NRI'!$D$58,1),B11))","v":""},"","","","","","","","",""]
[null,{"$f":"IF(B11=\"\",\"\",IF(B11+1<='หา NRI'!$D$58,B11+1,\"\"))","v":""},{"$f":"IF(NRI!J87=\"\",\"\",NRI!J87)","v":""},{"$f":"IF(C12=\"\",\"\",SMALL(OFFSET($C$7,0,0,'หา NRI'!$D$58,1),B12))","v":""},"","","","","","","","",""]
[null,{"$f":"IF(B12=\"\",\"\",IF(B12+1<='หา NRI'!$D$58,B12+1,\"\"))","v":""},{"$f":"IF(NRI!J88=\"\",\"\",NRI!J88)","v":""},{"$f":"IF(C13=\"\",\"\",SMALL(OFFSET($C$7,0,0,'หา NRI'!$D$58,1),B13))","v":""},"","","","","","","","",""]
[null,{"$f":"IF(B13=\"\",\"\",IF(B13+1<='หา NRI'!$D$58,B13+1,\"\"))","v":""},{"$f":"IF(NRI!J89=\"\",\"\",NRI!J89)","v":""},{"$f":"IF(C14=\"\",\"\",SMALL(OFFSET($C$7,0,0,'หา NRI'!$D$58,1),B14))","v":""},"","","","","","","","",""]
[null,{"$f":"IF(B14=\"\",\"\",IF(B14+1<='หา NRI'!$D$58,B14+1,\"\"))","v":""},{"$f":"IF(NRI!J90=\"\",\"\",NRI!J90)","v":""},{"$f":"IF(C15=\"\",\"\",SMALL(OFFSET($C$7,0,0,'หา NRI'!$D$58,1),B15))","v":""},"","","","","","","","",""]
[null,{"$f":"IF(B15=\"\",\"\",IF(B15+1<='หา NRI'!$D$58,B15+1,\"\"))","v":""},{"$f":"IF(NRI!J91=\"\",\"\",NRI!J91)","v":""},{"$f":"IF(C16=\"\",\"\",SMALL(OFFSET($C$7,0,0,'หา NRI'!$D$58,1),B16))","v":""},"","","","","","","","",""]
[null,{"$f":"IF(B16=\"\",\"\",IF(B16+1<='หา NRI'!$D$58,B16+1,\"\"))","v":""},{"$f":"IF(NRI!J92=\"\",\"\",NRI!J92)","v":""},{"$f":"IF(C17=\"\",\"\",SMALL(OFFSET($C$7,0,0,'หา NRI'!$D$58,1),B17))","v":""},"","","","","","","","",""]
[null,{"$f":"IF(B17=\"\",\"\",IF(B17+1<='หา NRI'!$D$58,B17+1,\"\"))","v":""},{"$f":"IF(NRI!J93=\"\",\"\",NRI!J93)","v":""},{"$f":"IF(C18=\"\",\"\",SMALL(OFFSET($C$7,0,0,'หา NRI'!$D$58,1),B18))","v":""},"","","","","","","","",""]
[null,{"$f":"IF(B18=\"\",\"\",IF(B18+1<='หา NRI'!$D$58,B18+1,\"\"))","v":""},{"$f":"IF(NRI!J94=\"\",\"\",NRI!J94)","v":""},{"$f":"IF(C19=\"\",\"\",SMALL(OFFSET($C$7,0,0,'หา NRI'!$D$58,1),B19))","v":""},"","","","","","","","",""]
[null,{"$f":"IF(B19=\"\",\"\",IF(B19+1<='หา NRI'!$D$58,B19+1,\"\"))","v":""},{"$f":"IF(NRI!J95=\"\",\"\",NRI!J95)","v":""},{"$f":"IF(C20=\"\",\"\",SMALL(OFFSET($C$7,0,0,'หา NRI'!$D$58,1),B20))","v":""},"","","","","","","","",""]
[null,{"$f":"IF(B20=\"\",\"\",IF(B20+1<='หา NRI'!$D$58,B20+1,\"\"))","v":""},{"$f":"IF(NRI!J96=\"\",\"\",NRI!J96)","v":""},{"$f":"IF(C21=\"\",\"\",SMALL(OFFSET($C$7,0,0,'หา NRI'!$D$58,1),B21))","v":""},"","","","","","","","",""]
[null,{"$f":"IF(B21=\"\",\"\",IF(B21+1<='หา NRI'!$D$58,B21+1,\"\"))","v":""},{"$f":"IF(NRI!J97=\"\",\"\",NRI!J97)","v":""},{"$f":"IF(C22=\"\",\"\",SMALL(OFFSET($C$7,0,0,'หา NRI'!$D$58,1),B22))","v":""},"","","","","","","","",""]
[null,{"$f":"IF(B22=\"\",\"\",IF(B22+1<='หา NRI'!$D$58,B22+1,\"\"))","v":""},{"$f":"IF(NRI!J98=\"\",\"\",NRI!J98)","v":""},{"$f":"IF(C23=\"\",\"\",SMALL(OFFSET($C$7,0,0,'หา NRI'!$D$58,1),B23))","v":""},"","","","","","","","",""]
[null,{"$f":"IF(B23=\"\",\"\",IF(B23+1<='หา NRI'!$D$58,B23+1,\"\"))","v":""},{"$f":"IF(NRI!J99=\"\",\"\",NRI!J99)","v":""},{"$f":"IF(C24=\"\",\"\",SMALL(OFFSET($C$7,0,0,'หา NRI'!$D$58,1),B24))","v":""},"","","","","","","","",""]
[null,{"$f":"IF(B24=\"\",\"\",IF(B24+1<='หา NRI'!$D$58,B24+1,\"\"))","v":""},{"$f":"IF(NRI!J100=\"\",\"\",NRI!J100)","v":""},{"$f":"IF(C25=\"\",\"\",SMALL(OFFSET($C$7,0,0,'หา NRI'!$D$58,1),B25))","v":""},"","","","","","","","",""]
[null,{"$f":"IF(B25=\"\",\"\",IF(B25+1<='หา NRI'!$D$58,B25+1,\"\"))","v":""},{"$f":"IF(NRI!J101=\"\",\"\",NRI!J101)","v":""},{"$f":"IF(C26=\"\",\"\",SMALL(OFFSET($C$7,0,0,'หา NRI'!$D$58,1),B26))","v":""},"","","","","","","","",""]
[null,{"$f":"IF(B26=\"\",\"\",IF(B26+1<='หา NRI'!$D$58,B26+1,\"\"))","v":""},{"$f":"IF(NRI!J102=\"\",\"\",NRI!J102)","v":""},{"$f":"IF(C27=\"\",\"\",SMALL(OFFSET($C$7,0,0,'หา NRI'!$D$58,1),B27))","v":""},"","","","","","","","",""]
[null,{"$f":"IF(B27=\"\",\"\",IF(B27+1<='หา NRI'!$D$58,B27+1,\"\"))","v":""},{"$f":"IF(NRI!J103=\"\",\"\",NRI!J103)","v":""},{"$f":"IF(C28=\"\",\"\",SMALL(OFFSET($C$7,0,0,'หา NRI'!$D$58,1),B28))","v":""},"","","","","","","","",""]
[null,{"$f":"IF(B28=\"\",\"\",IF(B28+1<='หา NRI'!$D$58,B28+1,\"\"))","v":""},{"$f":"IF(NRI!J104=\"\",\"\",NRI!J104)","v":""},{"$f":"IF(C29=\"\",\"\",SMALL(OFFSET($C$7,0,0,'หา NRI'!$D$58,1),B29))","v":""},"","","","","","","","",""]
[null,{"$f":"IF(B29=\"\",\"\",IF(B29+1<='หา NRI'!$D$58,B29+1,\"\"))","v":""},{"$f":"IF(NRI!J105=\"\",\"\",NRI!J105)","v":""},{"$f":"IF(C30=\"\",\"\",SMALL(OFFSET($C$7,0,0,'หา NRI'!$D$58,1),B30))","v":""},"","","","","","","","",""]
[null,{"$f":"IF(B30=\"\",\"\",IF(B30+1<='หา NRI'!$D$58,B30+1,\"\"))","v":""},{"$f":"IF(NRI!J106=\"\",\"\",NRI!J106)","v":""},{"$f":"IF(C31=\"\",\"\",SMALL(OFFSET($C$7,0,0,'หา NRI'!$D$58,1),B31))","v":""},"","","","","","","","",""]
[null,{"$f":"IF(B31=\"\",\"\",IF(B31+1<='หา NRI'!$D$58,B31+1,\"\"))","v":""},{"$f":"IF(NRI!J107=\"\",\"\",NRI!J107)","v":""},{"$f":"IF(C32=\"\",\"\",SMALL(OFFSET($C$7,0,0,'หา NRI'!$D$58,1),B32))","v":""},"","","","","","","","",""]
[null,{"$f":"IF(B32=\"\",\"\",IF(B32+1<='หา NRI'!$D$58,B32+1,\"\"))","v":""},{"$f":"IF(NRI!J108=\"\",\"\",NRI!J108)","v":""},{"$f":"IF(C33=\"\",\"\",SMALL(OFFSET($C$7,0,0,'หา NRI'!$D$58,1),B33))","v":""},"","","","","","","","",""]
[null,{"$f":"IF(B33=\"\",\"\",IF(B33+1<='หา NRI'!$D$58,B33+1,\"\"))","v":""},{"$f":"IF(NRI!J109=\"\",\"\",NRI!J109)","v":""},{"$f":"IF(C34=\"\",\"\",SMALL(OFFSET($C$7,0,0,'หา NRI'!$D$58,1),B34))","v":""},"","","","","","","","",""]
[null,{"$f":"IF(B34=\"\",\"\",IF(B34+1<='หา NRI'!$D$58,B34+1,\"\"))","v":""},{"$f":"IF(NRI!J110=\"\",\"\",NRI!J110)","v":""},{"$f":"IF(C35=\"\",\"\",SMALL(OFFSET($C$7,0,0,'หา NRI'!$D$58,1),B35))","v":""},"","","","","","","","",""]
[null,{"$f":"IF(B35=\"\",\"\",IF(B35+1<='หา NRI'!$D$58,B35+1,\"\"))","v":""},{"$f":"IF(NRI!J111=\"\",\"\",NRI!J111)","v":""},{"$f":"IF(C36=\"\",\"\",SMALL(OFFSET($C$7,0,0,'หา NRI'!$D$58,1),B36))","v":""},"","","","","","","","",""]
[null,{"$f":"IF(B36=\"\",\"\",IF(B36+1<='หา NRI'!$D$58,B36+1,\"\"))","v":""},{"$f":"IF(NRI!J112=\"\",\"\",NRI!J112)","v":""},{"$f":"IF(C37=\"\",\"\",SMALL(OFFSET($C$7,0,0,'หา NRI'!$D$58,1),B37))","v":""},"","","","","","","","",""]
[null,{"$f":"IF(B37=\"\",\"\",IF(B37+1<='หา NRI'!$D$58,B37+1,\"\"))","v":""},{"$f":"IF(NRI!J113=\"\",\"\",NRI!J113)","v":""},{"$f":"IF(C38=\"\",\"\",SMALL(OFFSET($C$7,0,0,'หา NRI'!$D$58,1),B38))","v":""},"","","","","","","","",""]
[null,{"$f":"IF(B38=\"\",\"\",IF(B38+1<='หา NRI'!$D$58,B38+1,\"\"))","v":""},{"$f":"IF(NRI!J114=\"\",\"\",NRI!J114)","v":""},{"$f":"IF(C39=\"\",\"\",SMALL(OFFSET($C$7,0,0,'หา NRI'!$D$58,1),B39))","v":""},"","","","","","","","",""]
[null,{"$f":"IF(B39=\"\",\"\",IF(B39+1<='หา NRI'!$D$58,B39+1,\"\"))","v":""},{"$f":"IF(NRI!J115=\"\",\"\",NRI!J115)","v":""},{"$f":"IF(C40=\"\",\"\",SMALL(OFFSET($C$7,0,0,'หา NRI'!$D$58,1),B40))","v":""},"","","","","","","","",""]
[null,{"$f":"IF(B40=\"\",\"\",IF(B40+1<='หา NRI'!$D$58,B40+1,\"\"))","v":""},{"$f":"IF(NRI!J116=\"\",\"\",NRI!J116)","v":""},{"$f":"IF(C41=\"\",\"\",SMALL(OFFSET($C$7,0,0,'หา NRI'!$D$58,1),B41))","v":""},"","","","","","","","",""]
[null,{"$f":"IF(B41=\"\",\"\",IF(B41+1<='หา NRI'!$D$58,B41+1,\"\"))","v":""},{"$f":"IF(NRI!J117=\"\",\"\",NRI!J117)","v":""},{"$f":"IF(C42=\"\",\"\",SMALL(OFFSET($C$7,0,0,'หา NRI'!$D$58,1),B42))","v":""},"","","","","","","","",""]
[null,{"$f":"IF(B42=\"\",\"\",IF(B42+1<='หา NRI'!$D$58,B42+1,\"\"))","v":""},{"$f":"IF(NRI!J118=\"\",\"\",NRI!J118)","v":""},{"$f":"IF(C43=\"\",\"\",SMALL(OFFSET($C$7,0,0,'หา NRI'!$D$58,1),B43))","v":""},"","","","","","","","",""]
[null,{"$f":"IF(B43=\"\",\"\",IF(B43+1<='หา NRI'!$D$58,B43+1,\"\"))","v":""},{"$f":"IF(NRI!J119=\"\",\"\",NRI!J119)","v":""},{"$f":"IF(C44=\"\",\"\",SMALL(OFFSET($C$7,0,0,'หา NRI'!$D$58,1),B44))","v":""},"","","","","","","","",""]
[null,{"$f":"IF(B44=\"\",\"\",IF(B44+1<='หา NRI'!$D$58,B44+1,\"\"))","v":""},{"$f":"IF(NRI!J120=\"\",\"\",NRI!J120)","v":""},{"$f":"IF(C45=\"\",\"\",SMALL(OFFSET($C$7,0,0,'หา NRI'!$D$58,1),B45))","v":""},"","","","","","","","",""]
[null,{"$f":"IF(B45=\"\",\"\",IF(B45+1<='หา NRI'!$D$58,B45+1,\"\"))","v":""},{"$f":"IF(NRI!J121=\"\",\"\",NRI!J121)","v":""},{"$f":"IF(C46=\"\",\"\",SMALL(OFFSET($C$7,0,0,'หา NRI'!$D$58,1),B46))","v":""},"","","","","","","","",""]
[null,{"$f":"IF(B46=\"\",\"\",IF(B46+1<='หา NRI'!$D$58,B46+1,\"\"))","v":""},{"$f":"IF(NRI!J122=\"\",\"\",NRI!J122)","v":""},{"$f":"IF(C47=\"\",\"\",SMALL(OFFSET($C$7,0,0,'หา NRI'!$D$58,1),B47))","v":""},"","","","","","","","",""]
[null,{"$f":"IF(B47=\"\",\"\",IF(B47+1<='หา NRI'!$D$58,B47+1,\"\"))","v":""},{"$f":"IF(NRI!J123=\"\",\"\",NRI!J123)","v":""},{"$f":"IF(C48=\"\",\"\",SMALL(OFFSET($C$7,0,0,'หา NRI'!$D$58,1),B48))","v":""},"","","","","","","","",""]
[null,{"$f":"IF(B48=\"\",\"\",IF(B48+1<='หา NRI'!$D$58,B48+1,\"\"))","v":""},{"$f":"IF(NRI!J124=\"\",\"\",NRI!J124)","v":""},{"$f":"IF(C49=\"\",\"\",SMALL(OFFSET($C$7,0,0,'หา NRI'!$D$58,1),B49))","v":""},"","","","","","","","",""]
[null,{"$f":"IF(B49=\"\",\"\",IF(B49+1<='หา NRI'!$D$58,B49+1,\"\"))","v":""},{"$f":"IF(NRI!J125=\"\",\"\",NRI!J125)","v":""},{"$f":"IF(C50=\"\",\"\",SMALL(OFFSET($C$7,0,0,'หา NRI'!$D$58,1),B50))","v":""},"","","","","","","","",""]
[null,{"$f":"IF(B50=\"\",\"\",IF(B50+1<='หา NRI'!$D$58,B50+1,\"\"))","v":""},{"$f":"IF(NRI!J126=\"\",\"\",NRI!J126)","v":""},{"$f":"IF(C51=\"\",\"\",SMALL(OFFSET($C$7,0,0,'หา NRI'!$D$58,1),B51))","v":""},"","","","","","","","",""]
[null,{"$f":"IF(B51=\"\",\"\",IF(B51+1<='หา NRI'!$D$58,B51+1,\"\"))","v":""},{"$f":"IF(NRI!J127=\"\",\"\",NRI!J127)","v":""},{"$f":"IF(C52=\"\",\"\",SMALL(OFFSET($C$7,0,0,'หา NRI'!$D$58,1),B52))","v":""},"","","","","","","","",""]
[null,{"$f":"IF(B52=\"\",\"\",IF(B52+1<='หา NRI'!$D$58,B52+1,\"\"))","v":""},{"$f":"IF(NRI!J128=\"\",\"\",NRI!J128)","v":""},{"$f":"IF(C53=\"\",\"\",SMALL(OFFSET($C$7,0,0,'หา NRI'!$D$58,1),B53))","v":""},"","","","","","","","",""]
[null,{"$f":"IF(B53=\"\",\"\",IF(B53+1<='หา NRI'!$D$58,B53+1,\"\"))","v":""},{"$f":"IF(NRI!J129=\"\",\"\",NRI!J129)","v":""},{"$f":"IF(C54=\"\",\"\",SMALL(OFFSET($C$7,0,0,'หา NRI'!$D$58,1),B54))","v":""},"","","","","","","","",""]
[null,{"$f":"IF(B54=\"\",\"\",IF(B54+1<='หา NRI'!$D$58,B54+1,\"\"))","v":""},{"$f":"IF(NRI!J130=\"\",\"\",NRI!J130)","v":""},{"$f":"IF(C55=\"\",\"\",SMALL(OFFSET($C$7,0,0,'หา NRI'!$D$58,1),B55))","v":""},"","","","","","","","",""]
[null,{"$f":"IF(B55=\"\",\"\",IF(B55+1<='หา NRI'!$D$58,B55+1,\"\"))","v":""},{"$f":"IF(NRI!J131=\"\",\"\",NRI!J131)","v":""},{"$f":"IF(C56=\"\",\"\",SMALL(OFFSET($C$7,0,0,'หา NRI'!$D$58,1),B56))","v":""},"","","","","","","","",""]
[null,{"$f":"IF(B56=\"\",\"\",IF(B56+1<='หา NRI'!$D$58,B56+1,\"\"))","v":""},{"$f":"IF(NRI!J132=\"\",\"\",NRI!J132)","v":""},{"$f":"IF(C57=\"\",\"\",SMALL(OFFSET($C$7,0,0,'หา NRI'!$D$58,1),B57))","v":""},"","","","","","","","",""]
[null,"MEAN",{"$f":"AVERAGE(C7:C57)","v":{"$error":"#DIV/0!"}},null,null,"MAX",{"$f":"MAX(G7:G57)","v":0},null,"MAX",{"$f":"MAX(J7:J57)","v":0},null,"MAX",{"$f":"MAX(M7:M17)","v":0}]
[null,"STD.",{"$f":"STDEV(C7:C57)","v":{"$error":"#DIV/0!"}},null,null,{"$f":"\"Delta \"&COUNT(B7:B57)&\", \"&OFFSET('หา NRI'!A48,MATCH(G59,'หา NRI'!G49:G52,0),0,1,1)*100&\"%\"","v":{"$error":"#N/A"}},{"$f":"IF('หา NRI'!G50>G58,'หา NRI'!G50,'หา NRI'!G49)","v":{"$error":"#N/A"}},{"$f":"IF(G58<G59,\"ok\",\"\")","v":{"$error":"#N/A"}},{"$f":"F59","v":{"$error":"#N/A"}},{"$f":"G59","v":{"$error":"#N/A"}},{"$f":"IF(J58<J59,\"ok\",\"\")","v":{"$error":"#N/A"}},{"$f":"F59","v":{"$error":"#N/A"}},{"$f":"G59","v":{"$error":"#N/A"}}]
[null,"Location",{"$f":"C58-(0.45*C59)","v":{"$error":"#DIV/0!"}},null,null,null,{"$f":"IF(G58<G59,IF(G58<J58,\"GUMBEL\",\"\"),\"\")","v":{"$error":"#N/A"}},null,null,{"$f":"IF(J58<J59,IF(J58<G58,\"NORMAL\",\"\"),\"\")","v":{"$error":"#N/A"}}]
[null,"Scale",{"$f":"0.7797*C59","v":{"$error":"#DIV/0!"}},null,null,null,null,{"$f":"\"เดือน \"&D4&\" เป็นการแจกแจงแบบ \"&G60&J60","v":{"$error":"#N/A"}}]
[null,"MEAN Y",{"$f":"AVERAGE(K7:K17)","v":{"$error":"#DIV/0!"}}]
[null,"STD. Y",{"$f":"STDEV(K7:K17)","v":{"$error":"#DIV/0!"}}]
[null,"MAX X",{"$f":"MAX(D7:D57)","v":0},null,{"$f":"\"ดังนั้น ปริมาณน้ำไหลเข้าอ่างเก็บน้ำสุทธิในเดือน \"&D4&\" จะเหมาะสมกับการแจกแจงแบบ \" &G60&J60&\" ที่ระดับนัยสำคัญ \"&OFFSET('หา NRI'!A48,MATCH(G59,'หา NRI'!G49:G52,0),0,1,1)*100&\"%\"","v":{"$error":"#N/A"}}]
[null,"MIN X",{"$f":"MIN(D7:D57)","v":0}]
[null,null,null,null,null,null,null,null,"แนะนำกว้าง",{"$f":"ROUND(($L$68-$L$69)/$J$68,0)","v":0}]
[null," 7.  สร้างเส้นโค้งของการแจกแจง NRI",null,null,null,null,null,null,"กว้างชั้นละ",20,"Max - Min"]
[null,null,"Range; R =",{"$f":"C64-C65","v":0},"Class Interval ; CI =",null,{"$f":"D68/D69","v":0},null,"จำนวนชั้น",4,"MAX X",{"$f":"C64","v":0}]
[null,null,"Class ; C =",{"$f":"J68","v":4},null,null,null,null,"เริ่มที่",0,"MIN X",{"$f":"C65","v":0}]
[null,"Class","Class Interval","Mid-Range",null,"(Xi)*ni","(X(i))^2","ni*(X(i))^2"]
[null,"(i)","(mcm.)","(Xi)"]
[null,1,{"$f":"IF(B72<=$J$68,\"(\"&J69&\")-(\"&K72&\")\",\"\")","v":"(0)-(20)"},{"$f":"IF(B72<=$J$68,(J69+K72)/2,\"\")","v":10},{"$f":"IF(B72<=$J$68,M72,\"\")","v":0},{"$f":"IF(B72<=$J$68,D72*E72,\"\")","v":0},{"$f":"IF(B72<=$J$68,D72^2,\"\")","v":100},{"$f":"IF(B72<=$J$68,E72*G72,\"\")","v":0},{"$f":"IF(B72<=$D$69,1,0)","v":1},{"$f":"J69","v":0},{"$f":"$J$69+(B72*$J$67)","v":20},{"$f":"COUNTIF($C$7:$C$45,\"<\"&J73-0.5)","v":0},{"$f":"L72","v":0}]
[null,{"$f":"IF(B72+1<=J68,B72+1,\"\")","v":2},{"$f":"IF(B73<=$J$68,IF(I74=1,\"(\"&J73&\")-(\"&K73&\")\",\">\"&J73),\"\")","v":"(21)-(40)"},{"$f":"IF(B73<=$J$68,(J73+K73)/2,\"\")","v":30.5},0,0,930.25,0,{"$f":"IF(B73<=$D$69,1,0)","v":1},{"$f":"IF(I73=1,K72+1,9999)","v":21},40,{"$f":"COUNTIF($C$7:$C$45,\"<\"&J74-0.5)","v":0},{"$f":"L73-L72","v":0}]
[null,{"$f":"B73+1","v":3},"(41)-(60)",50.5,0,0,2550.25,0,1,{"$f":"IF(I74=1,K73+1,9999)","v":41},60,0,{"$f":"L74-L73","v":0}]
[null,4,">61",70.5,0,0,4970.25,0,1,{"$f":"IF(I75=1,K74+1,9999)","v":61},80,0,0]
[null,5,"","","","","","",0,9999,100,0,0]
[null,6,"","","","","","",0,9999,120,0,0]
[null,7,"","","","","","",0,9999,140,0,0]
[null,8,"","","","","","",0,9999,160,0,0]
[null,9,"","","","","","",0,9999,180,0,0]
[null,10,"","","","","","",0,9999,200,0,0]
[null,11,"","","","","","",0,9999,220,0,0]
[null,12,"","","","","","",0,9999,240,0,0]
[null,13,"","","","","","",0,9999,260,0,0]
[null,14,"","","","","","",0,9999,280,0,0]
[null,15,"","","","","","",0,9999,300,0,0]
[null,16,"","","","","","",0,9999,320,0,0]
[null,17,"","","","","","",0,9999,340,{"$f":"COUNTIF($C$7:$C$45,\"<\"&J89-0.5)","v":0},0]
[null,"SUM",null,null,{"$f":"SUM(E72:E88)","v":0},{"$f":"SUM(F72:F88)","v":0},{"$f":"SUM(G72:G88)","v":8550.75},{"$f":"SUM(H72:H88)","v":0},null,9999]
[null,null,"Mean",{"$f":"F89/E89","v":{"$error":"#DIV/0!"}},"(Mean)^2",{"$f":"D90*D90","v":{"$error":"#DIV/0!"}},"Location",{"$f":"D90-(0.45*D91)","v":{"$error":"#DIV/0!"}}]
[null,null,"STD.",{"$f":"((H89/E89)-F90)^0.5","v":{"$error":"#DIV/0!"}},null,null,"Scale",{"$f":"0.7797*D91","v":{"$error":"#DIV/0!"}}]
[]
[null,{"$f":"\"การแจกแจงแบบ \"&G60&J60&\" กับปริมาณน้ำท่าสุทธิเดือน \"&D4&\" ของอ่าง\"&L2","v":{"$error":"#N/A"}},null,null,null,null,null,null,null,"ตารางแจกแจงความถี่"]
[null,"Class","Class Interval",null,null,null,null,null,null,"Class","p(Xi)",0.05,0.1,0.15]
[null,"(i)","(mcm.)",null,null,null,{"$f":"G60&J60","v":{"$error":"#N/A"}}]
[null,{"$f":"B72","v":1},{"$f":"IF(B96<=$J$68,C72,\"\")","v":"(0)-(20)"},{"$f":"IF(B96<=$J$68,E72,\"\")","v":0},{"$f":"IF(B96<=$J$68,D96/$D$113,\"\")","v":{"$error":"#DIV/0!"}},{"$f":"IF(B96<=$J$68,E96,\"\")","v":{"$error":"#DIV/0!"}},{"$f":"IF(B96<=$J$68,IF($G$60=\"GUMBEL\",EXP(-EXP(-(J96-$H$90)/$H$91)),NORMDIST(J96,$D$90,$D$91,TRUE)),\"\")","v":{"$error":"#N/A"}},{"$f":"IF(B96<=$J$68,G96,\"\")","v":{"$error":"#N/A"}},null,{"$f":"K72","v":20},{"$f":"H96","v":{"$error":"#N/A"}},0.05,0.1,0.15]
[null,{"$f":"B96+1","v":2},"(21)-(40)",0,{"$error":"#DIV/0!"},{"$f":"IF(B97<=$J$68,E97+F96,\"\")","v":{"$error":"#DIV/0!"}},{"$error":"#N/A"},{"$f":"IF(B97<=$J$68,G97-G96,\"\")","v":{"$error":"#N/A"}},null,{"$f":"K73","v":40},{"$f":"H97","v":{"$error":"#N/A"}},0.05,0.1,0.15]
[null,{"$f":"B97+1","v":3},"(41)-(60)",0,{"$error":"#DIV/0!"},{"$error":"#DIV/0!"},{"$error":"#N/A"},{"$error":"#N/A"},null,{"$f":"K74","v":60},{"$error":"#N/A"},0.05,0.1,0.15]
[null,4,">61",0,{"$error":"#DIV/0!"},{"$error":"#DIV/0!"},{"$error":"#N/A"},{"$error":"#N/A"},null,80,{"$error":"#N/A"},0.05,0.1,0.15]
[null,5,"","","","","","",null,100,"",0.05,0.1,0.15]
[null,6,"","","","","","",null,120,"",0.05,0.1,0.15]
[null,7,"","","","","","",null,140,"",0.05,0.1,0.15]
[null,8,"","","","","","",null,160,"",0.05,0.1,0.15]
[null,9,"","","","","","",null,180,"",0.05,0.1,0.15]
[null,10,"","","","","","",null,200,"",0.05,0.1,0.15]
[null,11,"","","","","","",null,220,"",0.05,0.1,0.15]
[null,12,"","","","","","",null,240,"",0.05,0.1,0.15]
[null,13,"","","","","","",null,260,"",0.05,0.1,0.15]
[null,14,"","","","","","",null,280,"",0.05,0.1,0.15]
[null,15,"","","","","","",null,300,"",0.05,0.1,0.15]
[null,16,"","","","","","",null,320,"",0.05,0.1,0.15]
[null,17,"","","","","","",null,340,"",0.05,0.1,0.15]
[null,null,"Sum",{"$f":"SUM(D96:D112)","v":0},{"$f":"SUM(E96:E112)","v":{"$error":"#DIV/0!"}},null,null,{"$f":"SUM(H96:H112)","v":{"$error":"#N/A"}}]
[]
[{"$f":"\"8. หาค่าVolume of Flood Control Reserve ของเดือน\"&D4&\"ที่ค่าความเสี่ยงต่างๆ จากกราฟการแจกแจงความน่าจะเป็น\"","v":"8. หาค่าVolume of Flood Control Reserve ของเดือนสิงหาคมที่ค่าความเสี่ยงต่างๆ จากกราฟการแจกแจงความน่าจะเป็น"}]
[]
[]
[]
[]
[]
[]
[]
[]
[]
[]
[null,null,null,null,null,null,null,null,null,"P(NRIt>VFCt)< Risk"]
[null,null,null,null,null,null,null,null,null,{"$f":"IF(NRI!I54<0,\"Volume Buffer\",\"Volum Flood Control\")","v":{"$error":"#DIV/0!"}}]
[null,null,null,null,null,null,null,null,null,"Risk(%)",{"$f":"IF(NRI!I54<0,\"VBUF(mcm)\",\"VFC(mcm)\")","v":{"$error":"#DIV/0!"}},null,"X-Axis","X-ordinate","Y-Axis","Y-ordinate"]
[null,null,null,null,null,null,null,null,null,15,64,null,"X1=",374,"Y1=",0.15912074047763369]
[null,null,null,null,null,null,null,null,null,10,73,null,"X2=",475,"Y2=",0.13117031761875575]
[null,null,null,null,null,null,null,null,null,5,84,null,"X0=",{"$f":"N129-((N129-N130)*(P129-P131)/(P129-P130))","v":406.95817000308466},"Y0=",0.15]

{"sheet":"ก.ย.","index":17,"n_rows":131,"n_cols":16,"rows_kept":131,"cut":false,"hidden":true,"merged":[[125,9,125,12],[60,7,61,12],[63,4,63,14],[67,4,67,5],[88,1,88,3],[93,11,94,11],[93,12,94,12],[93,13,94,13],[66,10,66,11],[93,9,94,9],[93,10,94,10],[92,9,92,13]]}
[]
[null,"6. การหาค่าสถิติและการทดสอบความเหมาะสมของ Distribution Function กับข้อมูล Net Reservoir Inflow(NIR)",null,null,null,null,null,null,null,null,null,{"$f":"NRI!O1","v":0}]
[]
[null,9,"Sep","กันยายน"]
[null,null,null,null,"Empirical","GUMBEL",null,"NORMAL",null,null,"LOG-NORMAL"]
[null,"No.","NRI","(X)","F'(X)","F(x)","F'(X)-F(X)","Z","F(x)","F'(X)-F(X)","Y","F(x)","F'(X)-f(X)"]
[null,{"$f":"IF(1<='หา NRI'!$D$58,1,\"\")","v":1},{"$f":"IF(NRI!K82=\"\",\"\",NRI!K82)","v":""},{"$f":"IF(C7=\"\",\"\",SMALL(OFFSET($C$7,0,0,'หา NRI'!$D$58,1),B7))","v":""},{"$f":"IF(C7=\"\",\"\",B7/(COUNT($B$7:$B$57)+1))","v":""},{"$f":"IF(C7=\"\",\"\",EXP(-EXP(-(D7-$C$60)/$C$61)))","v":""},{"$f":"IF(C7=\"\",\"\",ABS(E7-F7))","v":""},{"$f":"IF(C7=\"\",\"\",(D7-$C$58)/$C$59)","v":""},{"$f":"IF(C7=\"\",\"\",NORMSDIST(H7))","v":""},{"$f":"IF(C7=\"\",\"\",ABS(E7-I7))","v":""},{"$f":"IF(C7=\"\",\"\",(LN(D7)))","v":""},{"$f":"IF(C7=\"\",\"\",(LOGNORMDIST(D7,$C$61,$C$62)))","v":""},{"$f":"IF(C7=\"\",\"\",(ABS(E7-L7)))","v":""}]
[null,{"$f":"IF(B7=\"\",\"\",IF(B7+1<='หา NRI'!$D$58,B7+1,\"\"))","v":2},{"$f":"IF(NRI!K83=\"\",\"\",NRI!K83)","v":""},{"$f":"IF(C8=\"\",\"\",SMALL(OFFSET($C$7,0,0,'หา NRI'!$D$58,1),B8))","v":""},{"$f":"IF(C8=\"\",\"\",B8/(COUNT($B$7:$B$57)+1))","v":""},{"$f":"IF(C8=\"\",\"\",EXP(-EXP(-(D8-$C$60)/$C$61)))","v":""},{"$f":"IF(C8=\"\",\"\",ABS(E8-F8))","v":""},{"$f":"IF(C8=\"\",\"\",(D8-$C$58)/$C$59)","v":""},{"$f":"IF(C8=\"\",\"\",NORMSDIST(H8))","v":""},{"$f":"IF(C8=\"\",\"\",ABS(E8-I8))","v":""},{"$f":"IF(C8=\"\",\"\",(LN(D8)))","v":""},{"$f":"IF(C8=\"\",\"\",(LOGNORMDIST(D8,$C$61,$C$62)))","v":""},{"$f":"IF(C8=\"\",\"\",(ABS(E8-L8)))","v":""}]
[null,{"$f":"IF(B8=\"\",\"\",IF(B8+1<='หา NRI'!$D$58,B8+1,\"\"))","v":3},{"$f":"IF(NRI!K84=\"\",\"\",NRI!K84)","v":""},{"$f":"IF(C9=\"\",\"\",SMALL(OFFSET($C$7,0,0,'หา NRI'!$D$58,1),B9))","v":""},"","","","","","","","",""]
[null,{"$f":"IF(B9=\"\",\"\",IF(B9+1<='หา NRI'!$D$58,B9+1,\"\"))","v":4},{"$f":"IF(NRI!K85=\"\",\"\",NRI!K85)","v":""},{"$f":"IF(C10=\"\",\"\",SMALL(OFFSET($C$7,0,0,'หา NRI'!$D$58,1),B10))","v":""},"","","","","","","","",""]
[null,{"$f":"IF(B10=\"\",\"\",IF(B10+1<='หา NRI'!$D$58,B10+1,\"\"))","v":""},{"$f":"IF(NRI!K86=\"\",\"\",NRI!K86)","v":""},{"$f":"IF(C11=\"\",\"\",SMALL(OFFSET($C$7,0,0,'หา NRI'!$D$58,1),B11))","v":""},"","","","","","","","",""]
[null,{"$f":"IF(B11=\"\",\"\",IF(B11+1<='หา NRI'!$D$58,B11+1,\"\"))","v":""},{"$f":"IF(NRI!K87=\"\",\"\",NRI!K87)","v":""},{"$f":"IF(C12=\"\",\"\",SMALL(OFFSET($C$7,0,0,'หา NRI'!$D$58,1),B12))","v":""},"","","","","","","","",""]
[null,{"$f":"IF(B12=\"\",\"\",IF(B12+1<='หา NRI'!$D$58,B12+1,\"\"))","v":""},{"$f":"IF(NRI!K88=\"\",\"\",NRI!K88)","v":""},{"$f":"IF(C13=\"\",\"\",SMALL(OFFSET($C$7,0,0,'หา NRI'!$D$58,1),B13))","v":""},"","","","","","","","",""]
[null,{"$f":"IF(B13=\"\",\"\",IF(B13+1<='หา NRI'!$D$58,B13+1,\"\"))","v":""},{"$f":"IF(NRI!K89=\"\",\"\",NRI!K89)","v":""},{"$f":"IF(C14=\"\",\"\",SMALL(OFFSET($C$7,0,0,'หา NRI'!$D$58,1),B14))","v":""},"","","","","","","","",""]
[null,{"$f":"IF(B14=\"\",\"\",IF(B14+1<='หา NRI'!$D$58,B14+1,\"\"))","v":""},{"$f":"IF(NRI!K90=\"\",\"\",NRI!K90)","v":""},{"$f":"IF(C15=\"\",\"\",SMALL(OFFSET($C$7,0,0,'หา NRI'!$D$58,1),B15))","v":""},"","","","","","","","",""]
[null,{"$f":"IF(B15=\"\",\"\",IF(B15+1<='หา NRI'!$D$58,B15+1,\"\"))","v":""},{"$f":"IF(NRI!K91=\"\",\"\",NRI!K91)","v":""},{"$f":"IF(C16=\"\",\"\",SMALL(OFFSET($C$7,0,0,'หา NRI'!$D$58,1),B16))","v":""},"","","","","","","","",""]
[null,{"$f":"IF(B16=\"\",\"\",IF(B16+1<='หา NRI'!$D$58,B16+1,\"\"))","v":""},{"$f":"IF(NRI!K92=\"\",\"\",NRI!K92)","v":""},{"$f":"IF(C17=\"\",\"\",SMALL(OFFSET($C$7,0,0,'หา NRI'!$D$58,1),B17))","v":""},"","","","","","","","",""]
[null,{"$f":"IF(B17=\"\",\"\",IF(B17+1<='หา NRI'!$D$58,B17+1,\"\"))","v":""},{"$f":"IF(NRI!K93=\"\",\"\",NRI!K93)","v":""},{"$f":"IF(C18=\"\",\"\",SMALL(OFFSET($C$7,0,0,'หา NRI'!$D$58,1),B18))","v":""},"","","","","","","","",""]
[null,{"$f":"IF(B18=\"\",\"\",IF(B18+1<='หา NRI'!$D$58,B18+1,\"\"))","v":""},{"$f":"IF(NRI!K94=\"\",\"\",NRI!K94)","v":""},{"$f":"IF(C19=\"\",\"\",SMALL(OFFSET($C$7,0,0,'หา NRI'!$D$58,1),B19))","v":""},"","","","","","","","",""]
[null,{"$f":"IF(B19=\"\",\"\",IF(B19+1<='หา NRI'!$D$58,B19+1,\"\"))","v":""},{"$f":"IF(NRI!K95=\"\",\"\",NRI!K95)","v":""},{"$f":"IF(C20=\"\",\"\",SMALL(OFFSET($C$7,0,0,'หา NRI'!$D$58,1),B20))","v":""},"","","","","","","","",""]
[null,{"$f":"IF(B20=\"\",\"\",IF(B20+1<='หา NRI'!$D$58,B20+1,\"\"))","v":""},{"$f":"IF(NRI!K96=\"\",\"\",NRI!K96)","v":""},{"$f":"IF(C21=\"\",\"\",SMALL(OFFSET($C$7,0,0,'หา NRI'!$D$58,1),B21))","v":""},"","","","","","","","",""]
[null,{"$f":"IF(B21=\"\",\"\",IF(B21+1<='หา NRI'!$D$58,B21+1,\"\"))","v":""},{"$f":"IF(NRI!K97=\"\",\"\",NRI!K97)","v":""},{"$f":"IF(C22=\"\",\"\",SMALL(OFFSET($C$7,0,0,'หา NRI'!$D$58,1),B22))","v":""},"","","","","","","","",""]
[null,{"$f":"IF(B22=\"\",\"\",IF(B22+1<='หา NRI'!$D$58,B22+1,\"\"))","v":""},{"$f":"IF(NRI!K98=\"\",\"\",NRI!K98)","v":""},{"$f":"IF(C23=\"\",\"\",SMALL(OFFSET($C$7,0,0,'หา NRI'!$D$58,1),B23))","v":""},"","","","","","","","",""]
[null,{"$f":"IF(B23=\"\",\"\",IF(B23+1<='หา NRI'!$D$58,B23+1,\"\"))","v":""},{"$f":"IF(NRI!K99=\"\",\"\",NRI!K99)","v":""},{"$f":"IF(C24=\"\",\"\",SMALL(OFFSET($C$7,0,0,'หา NRI'!$D$58,1),B24))","v":""},"","","","","","","","",""]
[null,{"$f":"IF(B24=\"\",\"\",IF(B24+1<='หา NRI'!$D$58,B24+1,\"\"))","v":""},{"$f":"IF(NRI!K100=\"\",\"\",NRI!K100)","v":""},{"$f":"IF(C25=\"\",\"\",SMALL(OFFSET($C$7,0,0,'หา NRI'!$D$58,1),B25))","v":""},"","","","","","","","",""]
[null,{"$f":"IF(B25=\"\",\"\",IF(B25+1<='หา NRI'!$D$58,B25+1,\"\"))","v":""},{"$f":"IF(NRI!K101=\"\",\"\",NRI!K101)","v":""},{"$f":"IF(C26=\"\",\"\",SMALL(OFFSET($C$7,0,0,'หา NRI'!$D$58,1),B26))","v":""},"","","","","","","","",""]
[null,{"$f":"IF(B26=\"\",\"\",IF(B26+1<='หา NRI'!$D$58,B26+1,\"\"))","v":""},{"$f":"IF(NRI!K102=\"\",\"\",NRI!K102)","v":""},{"$f":"IF(C27=\"\",\"\",SMALL(OFFSET($C$7,0,0,'หา NRI'!$D$58,1),B27))","v":""},"","","","","","","","",""]
[null,{"$f":"IF(B27=\"\",\"\",IF(B27+1<='หา NRI'!$D$58,B27+1,\"\"))","v":""},{"$f":"IF(NRI!K103=\"\",\"\",NRI!K103)","v":""},{"$f":"IF(C28=\"\",\"\",SMALL(OFFSET($C$7,0,0,'หา NRI'!$D$58,1),B28))","v":""},"","","","","","","","",""]
[null,{"$f":"IF(B28=\"\",\"\",IF(B28+1<='หา NRI'!$D$58,B28+1,\"\"))","v":""},{"$f":"IF(NRI!K104=\"\",\"\",NRI!K104)","v":""},{"$f":"IF(C29=\"\",\"\",SMALL(OFFSET($C$7,0,0,'หา NRI'!$D$58,1),B29))","v":""},"","","","","","","","",""]
[null,{"$f":"IF(B29=\"\",\"\",IF(B29+1<='หา NRI'!$D$58,B29+1,\"\"))","v":""},{"$f":"IF(NRI!K105=\"\",\"\",NRI!K105)","v":""},{"$f":"IF(C30=\"\",\"\",SMALL(OFFSET($C$7,0,0,'หา NRI'!$D$58,1),B30))","v":""},"","","","","","","","",""]
[null,{"$f":"IF(B30=\"\",\"\",IF(B30+1<='หา NRI'!$D$58,B30+1,\"\"))","v":""},{"$f":"IF(NRI!K106=\"\",\"\",NRI!K106)","v":""},{"$f":"IF(C31=\"\",\"\",SMALL(OFFSET($C$7,0,0,'หา NRI'!$D$58,1),B31))","v":""},"","","","","","","","",""]
[null,{"$f":"IF(B31=\"\",\"\",IF(B31+1<='หา NRI'!$D$58,B31+1,\"\"))","v":""},{"$f":"IF(NRI!K107=\"\",\"\",NRI!K107)","v":""},{"$f":"IF(C32=\"\",\"\",SMALL(OFFSET($C$7,0,0,'หา NRI'!$D$58,1),B32))","v":""},"","","","","","","","",""]
[null,{"$f":"IF(B32=\"\",\"\",IF(B32+1<='หา NRI'!$D$58,B32+1,\"\"))","v":""},{"$f":"IF(NRI!K108=\"\",\"\",NRI!K108)","v":""},{"$f":"IF(C33=\"\",\"\",SMALL(OFFSET($C$7,0,0,'หา NRI'!$D$58,1),B33))","v":""},"","","","","","","","",""]
[null,{"$f":"IF(B33=\"\",\"\",IF(B33+1<='หา NRI'!$D$58,B33+1,\"\"))","v":""},{"$f":"IF(NRI!K109=\"\",\"\",NRI!K109)","v":""},{"$f":"IF(C34=\"\",\"\",SMALL(OFFSET($C$7,0,0,'หา NRI'!$D$58,1),B34))","v":""},"","","","","","","","",""]
[null,{"$f":"IF(B34=\"\",\"\",IF(B34+1<='หา NRI'!$D$58,B34+1,\"\"))","v":""},{"$f":"IF(NRI!K110=\"\",\"\",NRI!K110)","v":""},{"$f":"IF(C35=\"\",\"\",SMALL(OFFSET($C$7,0,0,'หา NRI'!$D$58,1),B35))","v":""},"","","","","","","","",""]
[null,{"$f":"IF(B35=\"\",\"\",IF(B35+1<='หา NRI'!$D$58,B35+1,\"\"))","v":""},{"$f":"IF(NRI!K111=\"\",\"\",NRI!K111)","v":""},{"$f":"IF(C36=\"\",\"\",SMALL(OFFSET($C$7,0,0,'หา NRI'!$D$58,1),B36))","v":""},"","","","","","","","",""]
[null,{"$f":"IF(B36=\"\",\"\",IF(B36+1<='หา NRI'!$D$58,B36+1,\"\"))","v":""},{"$f":"IF(NRI!K112=\"\",\"\",NRI!K112)","v":""},{"$f":"IF(C37=\"\",\"\",SMALL(OFFSET($C$7,0,0,'หา NRI'!$D$58,1),B37))","v":""},"","","","","","","","",""]
[null,{"$f":"IF(B37=\"\",\"\",IF(B37+1<='หา NRI'!$D$58,B37+1,\"\"))","v":""},{"$f":"IF(NRI!K113=\"\",\"\",NRI!K113)","v":""},{"$f":"IF(C38=\"\",\"\",SMALL(OFFSET($C$7,0,0,'หา NRI'!$D$58,1),B38))","v":""},"","","","","","","","",""]
[null,{"$f":"IF(B38=\"\",\"\",IF(B38+1<='หา NRI'!$D$58,B38+1,\"\"))","v":""},{"$f":"IF(NRI!K114=\"\",\"\",NRI!K114)","v":""},{"$f":"IF(C39=\"\",\"\",SMALL(OFFSET($C$7,0,0,'หา NRI'!$D$58,1),B39))","v":""},"","","","","","","","",""]
[null,{"$f":"IF(B39=\"\",\"\",IF(B39+1<='หา NRI'!$D$58,B39+1,\"\"))","v":""},{"$f":"IF(NRI!K115=\"\",\"\",NRI!K115)","v":""},{"$f":"IF(C40=\"\",\"\",SMALL(OFFSET($C$7,0,0,'หา NRI'!$D$58,1),B40))","v":""},"","","","","","","","",""]
[null,{"$f":"IF(B40=\"\",\"\",IF(B40+1<='หา NRI'!$D$58,B40+1,\"\"))","v":""},{"$f":"IF(NRI!K116=\"\",\"\",NRI!K116)","v":""},{"$f":"IF(C41=\"\",\"\",SMALL(OFFSET($C$7,0,0,'หา NRI'!$D$58,1),B41))","v":""},"","","","","","","","",""]
[null,{"$f":"IF(B41=\"\",\"\",IF(B41+1<='หา NRI'!$D$58,B41+1,\"\"))","v":""},{"$f":"IF(NRI!K117=\"\",\"\",NRI!K117)","v":""},{"$f":"IF(C42=\"\",\"\",SMALL(OFFSET($C$7,0,0,'หา NRI'!$D$58,1),B42))","v":""},"","","","","","","","",""]
[null,{"$f":"IF(B42=\"\",\"\",IF(B42+1<='หา NRI'!$D$58,B42+1,\"\"))","v":""},{"$f":"IF(NRI!K118=\"\",\"\",NRI!K118)","v":""},{"$f":"IF(C43=\"\",\"\",SMALL(OFFSET($C$7,0,0,'หา NRI'!$D$58,1),B43))","v":""},"","","","","","","","",""]
[null,{"$f":"IF(B43=\"\",\"\",IF(B43+1<='หา NRI'!$D$58,B43+1,\"\"))","v":""},{"$f":"IF(NRI!K119=\"\",\"\",NRI!K119)","v":""},{"$f":"IF(C44=\"\",\"\",SMALL(OFFSET($C$7,0,0,'หา NRI'!$D$58,1),B44))","v":""},"","","","","","","","",""]
[null,{"$f":"IF(B44=\"\",\"\",IF(B44+1<='หา NRI'!$D$58,B44+1,\"\"))","v":""},{"$f":"IF(NRI!K120=\"\",\"\",NRI!K120)","v":""},{"$f":"IF(C45=\"\",\"\",SMALL(OFFSET($C$7,0,0,'หา NRI'!$D$58,1),B45))","v":""},"","","","","","","","",""]
[null,{"$f":"IF(B45=\"\",\"\",IF(B45+1<='หา NRI'!$D$58,B45+1,\"\"))","v":""},{"$f":"IF(NRI!K121=\"\",\"\",NRI!K121)","v":""},{"$f":"IF(C46=\"\",\"\",SMALL(OFFSET($C$7,0,0,'หา NRI'!$D$58,1),B46))","v":""},"","","","","","","","",""]
[null,{"$f":"IF(B46=\"\",\"\",IF(B46+1<='หา NRI'!$D$58,B46+1,\"\"))","v":""},{"$f":"IF(NRI!K122=\"\",\"\",NRI!K122)","v":""},{"$f":"IF(C47=\"\",\"\",SMALL(OFFSET($C$7,0,0,'หา NRI'!$D$58,1),B47))","v":""},"","","","","","","","",""]
[null,{"$f":"IF(B47=\"\",\"\",IF(B47+1<='หา NRI'!$D$58,B47+1,\"\"))","v":""},{"$f":"IF(NRI!K123=\"\",\"\",NRI!K123)","v":""},{"$f":"IF(C48=\"\",\"\",SMALL(OFFSET($C$7,0,0,'หา NRI'!$D$58,1),B48))","v":""},"","","","","","","","",""]
[null,{"$f":"IF(B48=\"\",\"\",IF(B48+1<='หา NRI'!$D$58,B48+1,\"\"))","v":""},{"$f":"IF(NRI!K124=\"\",\"\",NRI!K124)","v":""},{"$f":"IF(C49=\"\",\"\",SMALL(OFFSET($C$7,0,0,'หา NRI'!$D$58,1),B49))","v":""},"","","","","","","","",""]
[null,{"$f":"IF(B49=\"\",\"\",IF(B49+1<='หา NRI'!$D$58,B49+1,\"\"))","v":""},{"$f":"IF(NRI!K125=\"\",\"\",NRI!K125)","v":""},{"$f":"IF(C50=\"\",\"\",SMALL(OFFSET($C$7,0,0,'หา NRI'!$D$58,1),B50))","v":""},"","","","","","","","",""]
[null,{"$f":"IF(B50=\"\",\"\",IF(B50+1<='หา NRI'!$D$58,B50+1,\"\"))","v":""},{"$f":"IF(NRI!K126=\"\",\"\",NRI!K126)","v":""},{"$f":"IF(C51=\"\",\"\",SMALL(OFFSET($C$7,0,0,'หา NRI'!$D$58,1),B51))","v":""},"","","","","","","","",""]
[null,{"$f":"IF(B51=\"\",\"\",IF(B51+1<='หา NRI'!$D$58,B51+1,\"\"))","v":""},{"$f":"IF(NRI!K127=\"\",\"\",NRI!K127)","v":""},{"$f":"IF(C52=\"\",\"\",SMALL(OFFSET($C$7,0,0,'หา NRI'!$D$58,1),B52))","v":""},"","","","","","","","",""]
[null,{"$f":"IF(B52=\"\",\"\",IF(B52+1<='หา NRI'!$D$58,B52+1,\"\"))","v":""},{"$f":"IF(NRI!K128=\"\",\"\",NRI!K128)","v":""},{"$f":"IF(C53=\"\",\"\",SMALL(OFFSET($C$7,0,0,'หา NRI'!$D$58,1),B53))","v":""},"","","","","","","","",""]
[null,{"$f":"IF(B53=\"\",\"\",IF(B53+1<='หา NRI'!$D$58,B53+1,\"\"))","v":""},{"$f":"IF(NRI!K129=\"\",\"\",NRI!K129)","v":""},{"$f":"IF(C54=\"\",\"\",SMALL(OFFSET($C$7,0,0,'หา NRI'!$D$58,1),B54))","v":""},"","","","","","","","",""]
[null,{"$f":"IF(B54=\"\",\"\",IF(B54+1<='หา NRI'!$D$58,B54+1,\"\"))","v":""},{"$f":"IF(NRI!K130=\"\",\"\",NRI!K130)","v":""},{"$f":"IF(C55=\"\",\"\",SMALL(OFFSET($C$7,0,0,'หา NRI'!$D$58,1),B55))","v":""},"","","","","","","","",""]
[null,{"$f":"IF(B55=\"\",\"\",IF(B55+1<='หา NRI'!$D$58,B55+1,\"\"))","v":""},{"$f":"IF(NRI!K131=\"\",\"\",NRI!K131)","v":""},{"$f":"IF(C56=\"\",\"\",SMALL(OFFSET($C$7,0,0,'หา NRI'!$D$58,1),B56))","v":""},"","","","","","","","",""]
[null,{"$f":"IF(B56=\"\",\"\",IF(B56+1<='หา NRI'!$D$58,B56+1,\"\"))","v":""},{"$f":"IF(NRI!K132=\"\",\"\",NRI!K132)","v":""},{"$f":"IF(C57=\"\",\"\",SMALL(OFFSET($C$7,0,0,'หา NRI'!$D$58,1),B57))","v":""},"","","","","","","","",""]
[null,"MEAN",{"$f":"AVERAGE(C7:C57)","v":{"$error":"#DIV/0!"}},null,null,"MAX",{"$f":"MAX(G7:G57)","v":0},null,"MAX",{"$f":"MAX(J7:J57)","v":0},null,"MAX",{"$f":"MAX(M7:M17)","v":0}]
[null,"STD.",{"$f":"STDEV(C7:C57)","v":{"$error":"#DIV/0!"}},null,null,{"$f":"\"Delta \"&COUNT(B7:B57)&\", \"&OFFSET('หา NRI'!A48,MATCH(G59,'หา NRI'!G49:G52,0),0,1,1)*100&\"%\"","v":{"$error":"#N/A"}},{"$f":"IF('หา NRI'!G50>G58,'หา NRI'!G50,'หา NRI'!G49)","v":{"$error":"#N/A"}},{"$f":"IF(G58<G59,\"ok\",\"\")","v":{"$error":"#N/A"}},{"$f":"F59","v":{"$error":"#N/A"}},{"$f":"G59","v":{"$error":"#N/A"}},{"$f":"IF(J58<J59,\"ok\",\"\")","v":{"$error":"#N/A"}},{"$f":"F59","v":{"$error":"#N/A"}},{"$f":"G59","v":{"$error":"#N/A"}}]
[null,"Location",{"$f":"C58-(0.45*C59)","v":{"$error":"#DIV/0!"}},null,null,null,{"$f":"IF(G58<G59,IF(G58<J58,\"GUMBEL\",\"\"),\"\")","v":{"$error":"#N/A"}},null,null,{"$f":"IF(J58<J59,IF(J58<G58,\"NORMAL\",\"\"),\"\")","v":{"$error":"#N/A"}}]
[null,"Scale",{"$f":"0.7797*C59","v":{"$error":"#DIV/0!"}},null,null,null,null,{"$f":"\"เดือน \"&D4&\" เป็นการแจกแจงแบบ \"&G60&J60","v":{"$error":"#N/A"}}]
[null,"MEAN Y",{"$f":"AVERAGE(K7:K17)","v":{"$error":"#DIV/0!"}}]
[null,"STD. Y",{"$f":"STDEV(K7:K17)","v":{"$error":"#DIV/0!"}}]
[null,"MAX X",{"$f":"MAX(D7:D57)","v":0},null,{"$f":"\"ดังนั้น ปริมาณน้ำไหลเข้าอ่างเก็บน้ำสุทธิในเดือน \"&D4&\" จะเหมาะสมกับการแจกแจงแบบ \" &G60&J60&\" ที่ระดับนัยสำคัญ \"&OFFSET('หา NRI'!A48,MATCH(G59,'หา NRI'!G49:G52,0),0,1,1)*100&\"%\"","v":{"$error":"#N/A"}}]
[null,"MIN X",{"$f":"MIN(D7:D57)","v":0}]
[null,null,null,null,null,null,null,null,"แนะนำกว้าง",{"$f":"ROUND(($L$68-$L$69)/$J$68,0)","v":0}]
[null," 7.  สร้างเส้นโค้งของการแจกแจง NRI",null,null,null,null,null,null,"กว้างชั้นละ",{"$f":"ROUND(($L$68-$L$69)/$J$68,0)","v":0},"Max - Min"]
[null,null,"Range; R =",{"$f":"C64-C65","v":0},"Class Interval ; CI =",null,{"$f":"D68/D69","v":0},null,"จำนวนชั้น",4,"MAX X",{"$f":"C64","v":0}]
[null,null,"Class ; C =",{"$f":"J68","v":4},null,null,null,null,"เริ่มที่",0,"MIN X",{"$f":"C65","v":0}]
[null,"Class","Class Interval","Mid-Range",null,"(Xi)*ni","(X(i))^2","ni*(X(i))^2"]
[null,"(i)","(mcm.)","(Xi)"]
[null,1,{"$f":"IF(B72<=$J$68,\"(\"&J69&\")-(\"&K72&\")\",\"\")","v":"(0)-(0)"},{"$f":"IF(B72<=$J$68,(J69+K72)/2,\"\")","v":0},{"$f":"IF(B72<=$J$68,M72,\"\")","v":0},{"$f":"IF(B72<=$J$68,D72*E72,\"\")","v":0},{"$f":"IF(B72<=$J$68,D72^2,\"\")","v":0},{"$f":"IF(B72<=$J$68,E72*G72,\"\")","v":0},{"$f":"IF(B72<=$D$69,1,0)","v":1},{"$f":"J69","v":0},{"$f":"$J$69+(B72*$J$67)","v":0},{"$f":"COUNTIF($C$7:$C$45,\"<\"&J73-0.5)","v":0},{"$f":"L72","v":0}]
[null,{"$f":"IF(B72+1<=J68,B72+1,\"\")","v":2},{"$f":"IF(B73<=$J$68,IF(I74=1,\"(\"&J73&\")-(\"&K73&\")\",\">\"&J73),\"\")","v":"(1)-(0)"},{"$f":"IF(B73<=$J$68,(J73+K73)/2,\"\")","v":0.5},0,0,0.25,0,1,{"$f":"IF(I73=1,K72+1,9999)","v":1},0,{"$f":"COUNTIF($C$7:$C$45,\"<\"&J74-0.5)","v":0},{"$f":"L73-L72","v":0}]
[null,{"$f":"B73+1","v":3},"(1)-(0)",0.5,0,0,0.25,0,1,1,0,0,0]
[null,4,">1",0.5,0,0,0.25,0,1,1,0,0,0]
[null,5,"","","","","","",0,9999,0,0,0]
[null,6,"","","","","","",0,9999,0,0,0]
[null,7,"","","","","","",0,9999,0,0,0]
[null,8,"","","","","","",0,9999,0,0,0]
[null,9,"","","","","","",0,9999,0,0,0]
[null,10,"","","","","","",0,9999,0,0,0]
[null,11,"","","","","","",0,9999,0,0,0]
[null,12,"","","","","","",0,9999,0,0,0]
[null,13,"","","","","","",0,9999,0,0,0]
[null,14,"","","","","","",0,9999,0,0,0]
[null,15,"","","","","","",0,9999,0,0,0]
[null,16,"","","","","","",0,9999,0,0,0]
[null,17,"","","","","","",0,9999,0,{"$f":"COUNTIF($C$7:$C$45,\"<\"&J89-0.5)","v":0},0]
[null,"SUM",null,null,{"$f":"SUM(E72:E88)","v":0},{"$f":"SUM(F72:F88)","v":0},{"$f":"SUM(G72:G88)","v":0.75},{"$f":"SUM(H72:H88)","v":0},null,9999]
[null,null,"Mean",{"$f":"F89/E89","v":{"$error":"#DIV/0!"}},"(Mean)^2",{"$f":"D90*D90","v":{"$error":"#DIV/0!"}},"Location",{"$f":"D90-(0.45*D91)","v":{"$error":"#DIV/0!"}}]
[null,null,"STD.",{"$f":"((H89/E89)-F90)^0.5","v":{"$error":"#DIV/0!"}},null,null,"Scale",{"$f":"0.7797*D91","v":{"$error":"#DIV/0!"}}]
[]
[null,{"$f":"\"การแจกแจงแบบ \"&G60&J60&\" กับปริมาณน้ำท่าสุทธิเดือน \"&D4&\" ของอ่าง\"&L2","v":{"$error":"#N/A"}},null,null,null,null,null,null,null,"ตารางแจกแจงความถี่"]
[null,"Class","Class Interval",null,null,null,null,null,null,"Class","p(Xi)",0.05,0.1,0.15]
[null,"(i)","(mcm.)",null,null,null,{"$f":"G60&J60","v":{"$error":"#N/A"}}]
[null,{"$f":"B72","v":1},{"$f":"IF(B96<=$J$68,C72,\"\")","v":"(0)-(0)"},{"$f":"IF(B96<=$J$68,E72,\"\")","v":0},{"$f":"IF(B96<=$J$68,D96/$D$113,\"\")","v":{"$error":"#DIV/0!"}},{"$f":"IF(B96<=$J$68,E96,\"\")","v":{"$error":"#DIV/0!"}},{"$f":"IF(B96<=$J$68,IF($G$60=\"GUMBEL\",EXP(-EXP(-(J96-$H$90)/$H$91)),NORMDIST(J96,$D$90,$D$91,TRUE)),\"\")","v":{"$error":"#N/A"}},{"$f":"IF(B96<=$J$68,G96,\"\")","v":{"$error":"#N/A"}},null,{"$f":"K72","v":0},{"$f":"H96","v":{"$error":"#N/A"}},0.05,0.1,0.15]
[null,{"$f":"B96+1","v":2},"(1)-(0)",0,{"$error":"#DIV/0!"},{"$f":"IF(B97<=$J$68,E97+F96,\"\")","v":{"$error":"#DIV/0!"}},{"$error":"#N/A"},{"$f":"IF(B97<=$J$68,G97-G96,\"\")","v":{"$error":"#N/A"}},null,{"$f":"K73","v":0},{"$f":"H97","v":{"$error":"#N/A"}},0.05,0.1,0.15]
[null,3,"(1)-(0)",0,{"$error":"#DIV/0!"},{"$error":"#DIV/0!"},{"$error":"#N/A"},{"$error":"#N/A"},null,{"$f":"K74","v":0},{"$error":"#N/A"},0.05,0.1,0.15]
[null,4,">1",0,{"$error":"#DIV/0!"},{"$error":"#DIV/0!"},{"$error":"#N/A"},{"$error":"#N/A"},null,0,{"$error":"#N/A"},0.05,0.1,0.15]
[null,5,"","","","","","",null,0,"",0.05,0.1,0.15]
[null,6,"","","","","","",null,0,"",0.05,0.1,0.15]
[null,7,"","","","","","",null,0,"",0.05,0.1,0.15]
[null,8,"","","","","","",null,0,"",0.05,0.1,0.15]
[null,9,"","","","","","",null,0,"",0.05,0.1,0.15]
[null,10,"","","","","","",null,0,"",0.05,0.1,0.15]
[null,11,"","","","","","",null,0,"",0.05,0.1,0.15]
[null,12,"","","","","","",null,0,"",0.05,0.1,0.15]
[null,13,"","","","","","",null,0,"",0.05,0.1,0.15]
[null,14,"","","","","","",null,0,"",0.05,0.1,0.15]
[null,15,"","","","","","",null,0,"",0.05,0.1,0.15]
[null,16,"","","","","","",null,0,"",0.05,0.1,0.15]
[null,17,"","","","","","",null,0,"",0.05,0.1,0.15]
[null,null,"Sum",{"$f":"SUM(D96:D112)","v":0},{"$f":"SUM(E96:E112)","v":{"$error":"#DIV/0!"}},null,null,{"$f":"SUM(H96:H112)","v":{"$error":"#N/A"}}]
[]
[{"$f":"\"8. หาค่าVolume of Flood Control Reserve ของเดือน\"&D4&\"ที่ค่าความเสี่ยงต่างๆ จากกราฟการแจกแจงความน่าจะเป็น\"","v":"8. หาค่าVolume of Flood Control Reserve ของเดือนกันยายนที่ค่าความเสี่ยงต่างๆ จากกราฟการแจกแจงความน่าจะเป็น"}]
[]
[]
[]
[]
[]
[]
[]
[]
[]
[]
[null,null,null,null,null,null,null,null,null,"P(NRIt>VFCt)< Risk"]
[null,null,null,null,null,null,null,null,null,{"$f":"IF(NRI!J54<0,\"Volume Buffer\",\"Volum Flood Control\")","v":{"$error":"#DIV/0!"}}]
[null,null,null,null,null,null,null,null,null,"Risk(%)",{"$f":"IF(NRI!J54<0,\"VBUF(mcm)\",\"VFC(mcm)\")","v":{"$error":"#DIV/0!"}},null,"X-Axis","X-ordinate","Y-Axis","Y-ordinate"]
[null,null,null,null,null,null,null,null,null,15,410,null,"X1=",374,"Y1=",0.15912074047763369]
[null,null,null,null,null,null,null,null,null,10,465,null,"X2=",475,"Y2=",0.13117031761875575]
[null,null,null,null,null,null,null,null,null,5,540,null,"X0=",{"$f":"N129-((N129-N130)*(P129-P131)/(P129-P130))","v":406.95817000308466},"Y0=",0.15]

{"sheet":"ต.ค.","index":18,"n_rows":131,"n_cols":16,"rows_kept":131,"cut":false,"hidden":true,"merged":[[125,9,125,12],[60,7,61,12],[63,4,63,14],[67,4,67,5],[88,1,88,3],[93,11,94,11],[93,12,94,12],[93,13,94,13],[66,10,66,11],[93,9,94,9],[93,10,94,10],[92,9,92,13]]}
[]
[null,"6. การหาค่าสถิติและการทดสอบความเหมาะสมของ Distribution Function กับข้อมูล Net Reservoir Inflow(NIR)",null,null,null,null,null,null,null,null,null,{"$f":"NRI!O1","v":0}]
[]
[null,10,"OCT","ตุลาคม"]
[null,null,null,null,"Empirical","GUMBEL",null,"NORMAL",null,null,"LOG-NORMAL"]
[null,"No.","NRI","(X)","F'(X)","F(x)","F'(X)-F(X)","Z","F(x)","F'(X)-F(X)","Y","F(x)","F'(X)-f(X)"]
[null,{"$f":"IF(1<='หา NRI'!$D$58,1,\"\")","v":1},{"$f":"IF(NRI!L82=\"\",\"\",NRI!L82)","v":""},{"$f":"IF(C7=\"\",\"\",SMALL(OFFSET($C$7,0,0,'หา NRI'!$D$58,1),B7))","v":""},{"$f":"IF(C7=\"\",\"\",B7/(COUNT($B$7:$B$57)+1))","v":""},{"$f":"IF(C7=\"\",\"\",EXP(-EXP(-(D7-$C$60)/$C$61)))","v":""},{"$f":"IF(C7=\"\",\"\",ABS(E7-F7))","v":""},{"$f":"IF(C7=\"\",\"\",(D7-$C$58)/$C$59)","v":""},{"$f":"IF(C7=\"\",\"\",NORMSDIST(H7))","v":""},{"$f":"IF(C7=\"\",\"\",ABS(E7-I7))","v":""},{"$f":"IF(C7=\"\",\"\",(LN(D7)))","v":""},{"$f":"IF(C7=\"\",\"\",(LOGNORMDIST(D7,$C$61,$C$62)))","v":""},{"$f":"IF(C7=\"\",\"\",(ABS(E7-L7)))","v":""}]
[null,{"$f":"IF(B7=\"\",\"\",IF(B7+1<='หา NRI'!$D$58,B7+1,\"\"))","v":2},{"$f":"IF(NRI!L83=\"\",\"\",NRI!L83)","v":""},{"$f":"IF(C8=\"\",\"\",SMALL(OFFSET($C$7,0,0,'หา NRI'!$D$58,1),B8))","v":""},{"$f":"IF(C8=\"\",\"\",B8/(COUNT($B$7:$B$57)+1))","v":""},{"$f":"IF(C8=\"\",\"\",EXP(-EXP(-(D8-$C$60)/$C$61)))","v":""},{"$f":"IF(C8=\"\",\"\",ABS(E8-F8))","v":""},{"$f":"IF(C8=\"\",\"\",(D8-$C$58)/$C$59)","v":""},{"$f":"IF(C8=\"\",\"\",NORMSDIST(H8))","v":""},{"$f":"IF(C8=\"\",\"\",ABS(E8-I8))","v":""},{"$f":"IF(C8=\"\",\"\",(LN(D8)))","v":""},{"$f":"IF(C8=\"\",\"\",(LOGNORMDIST(D8,$C$61,$C$62)))","v":""},{"$f":"IF(C8=\"\",\"\",(ABS(E8-L8)))","v":""}]
[null,{"$f":"IF(B8=\"\",\"\",IF(B8+1<='หา NRI'!$D$58,B8+1,\"\"))","v":3},{"$f":"IF(NRI!L84=\"\",\"\",NRI!L84)","v":""},{"$f":"IF(C9=\"\",\"\",SMALL(OFFSET($C$7,0,0,'หา NRI'!$D$58,1),B9))","v":""},"","","","","","","","",""]
[null,{"$f":"IF(B9=\"\",\"\",IF(B9+1<='หา NRI'!$D$58,B9+1,\"\"))","v":4},{"$f":"IF(NRI!L85=\"\",\"\",NRI!L85)","v":""},{"$f":"IF(C10=\"\",\"\",SMALL(OFFSET($C$7,0,0,'หา NRI'!$D$58,1),B10))","v":""},"","","","","","","","",""]
[null,{"$f":"IF(B10=\"\",\"\",IF(B10+1<='หา NRI'!$D$58,B10+1,\"\"))","v":""},{"$f":"IF(NRI!L86=\"\",\"\",NRI!L86)","v":""},{"$f":"IF(C11=\"\",\"\",SMALL(OFFSET($C$7,0,0,'หา NRI'!$D$58,1),B11))","v":""},"","","","","","","","",""]
[null,{"$f":"IF(B11=\"\",\"\",IF(B11+1<='หา NRI'!$D$58,B11+1,\"\"))","v":""},{"$f":"IF(NRI!L87=\"\",\"\",NRI!L87)","v":""},{"$f":"IF(C12=\"\",\"\",SMALL(OFFSET($C$7,0,0,'หา NRI'!$D$58,1),B12))","v":""},"","","","","","","","",""]
[null,{"$f":"IF(B12=\"\",\"\",IF(B12+1<='หา NRI'!$D$58,B12+1,\"\"))","v":""},{"$f":"IF(NRI!L88=\"\",\"\",NRI!L88)","v":""},{"$f":"IF(C13=\"\",\"\",SMALL(OFFSET($C$7,0,0,'หา NRI'!$D$58,1),B13))","v":""},"","","","","","","","",""]
[null,{"$f":"IF(B13=\"\",\"\",IF(B13+1<='หา NRI'!$D$58,B13+1,\"\"))","v":""},{"$f":"IF(NRI!L89=\"\",\"\",NRI!L89)","v":""},{"$f":"IF(C14=\"\",\"\",SMALL(OFFSET($C$7,0,0,'หา NRI'!$D$58,1),B14))","v":""},"","","","","","","","",""]
[null,{"$f":"IF(B14=\"\",\"\",IF(B14+1<='หา NRI'!$D$58,B14+1,\"\"))","v":""},{"$f":"IF(NRI!L90=\"\",\"\",NRI!L90)","v":""},{"$f":"IF(C15=\"\",\"\",SMALL(OFFSET($C$7,0,0,'หา NRI'!$D$58,1),B15))","v":""},"","","","","","","","",""]
[null,{"$f":"IF(B15=\"\",\"\",IF(B15+1<='หา NRI'!$D$58,B15+1,\"\"))","v":""},{"$f":"IF(NRI!L91=\"\",\"\",NRI!L91)","v":""},{"$f":"IF(C16=\"\",\"\",SMALL(OFFSET($C$7,0,0,'หา NRI'!$D$58,1),B16))","v":""},"","","","","","","","",""]
[null,{"$f":"IF(B16=\"\",\"\",IF(B16+1<='หา NRI'!$D$58,B16+1,\"\"))","v":""},{"$f":"IF(NRI!L92=\"\",\"\",NRI!L92)","v":""},{"$f":"IF(C17=\"\",\"\",SMALL(OFFSET($C$7,0,0,'หา NRI'!$D$58,1),B17))","v":""},"","","","","","","","",""]
[null,{"$f":"IF(B17=\"\",\"\",IF(B17+1<='หา NRI'!$D$58,B17+1,\"\"))","v":""},{"$f":"IF(NRI!L93=\"\",\"\",NRI!L93)","v":""},{"$f":"IF(C18=\"\",\"\",SMALL(OFFSET($C$7,0,0,'หา NRI'!$D$58,1),B18))","v":""},"","","","","","","","",""]
[null,{"$f":"IF(B18=\"\",\"\",IF(B18+1<='หา NRI'!$D$58,B18+1,\"\"))","v":""},{"$f":"IF(NRI!L94=\"\",\"\",NRI!L94)","v":""},{"$f":"IF(C19=\"\",\"\",SMALL(OFFSET($C$7,0,0,'หา NRI'!$D$58,1),B19))","v":""},"","","","","","","","",""]
[null,{"$f":"IF(B19=\"\",\"\",IF(B19+1<='หา NRI'!$D$58,B19+1,\"\"))","v":""},{"$f":"IF(NRI!L95=\"\",\"\",NRI!L95)","v":""},{"$f":"IF(C20=\"\",\"\",SMALL(OFFSET($C$7,0,0,'หา NRI'!$D$58,1),B20))","v":""},"","","","","","","","",""]
[null,{"$f":"IF(B20=\"\",\"\",IF(B20+1<='หา NRI'!$D$58,B20+1,\"\"))","v":""},{"$f":"IF(NRI!L96=\"\",\"\",NRI!L96)","v":""},{"$f":"IF(C21=\"\",\"\",SMALL(OFFSET($C$7,0,0,'หา NRI'!$D$58,1),B21))","v":""},"","","","","","","","",""]
[null,{"$f":"IF(B21=\"\",\"\",IF(B21+1<='หา NRI'!$D$58,B21+1,\"\"))","v":""},{"$f":"IF(NRI!L97=\"\",\"\",NRI!L97)","v":""},{"$f":"IF(C22=\"\",\"\",SMALL(OFFSET($C$7,0,0,'หา NRI'!$D$58,1),B22))","v":""},"","","","","","","","",""]
[null,{"$f":"IF(B22=\"\",\"\",IF(B22+1<='หา NRI'!$D$58,B22+1,\"\"))","v":""},{"$f":"IF(NRI!L98=\"\",\"\",NRI!L98)","v":""},{"$f":"IF(C23=\"\",\"\",SMALL(OFFSET($C$7,0,0,'หา NRI'!$D$58,1),B23))","v":""},"","","","","","","","",""]
[null,{"$f":"IF(B23=\"\",\"\",IF(B23+1<='หา NRI'!$D$58,B23+1,\"\"))","v":""},{"$f":"IF(NRI!L99=\"\",\"\",NRI!L99)","v":""},{"$f":"IF(C24=\"\",\"\",SMALL(OFFSET($C$7,0,0,'หา NRI'!$D$58,1),B24))","v":""},"","","","","","","","",""]
[null,{"$f":"IF(B24=\"\",\"\",IF(B24+1<='หา NRI'!$D$58,B24+1,\"\"))","v":""},{"$f":"IF(NRI!L100=\"\",\"\",NRI!L100)","v":""},{"$f":"IF(C25=\"\",\"\",SMALL(OFFSET($C$7,0,0,'หา NRI'!$D$58,1),B25))","v":""},"","","","","","","","",""]
[null,{"$f":"IF(B25=\"\",\"\",IF(B25+1<='หา NRI'!$D$58,B25+1,\"\"))","v":""},{"$f":"IF(NRI!L101=\"\",\"\",NRI!L101)","v":""},{"$f":"IF(C26=\"\",\"\",SMALL(OFFSET($C$7,0,0,'หา NRI'!$D$58,1),B26))","v":""},"","","","","","","","",""]
[null,{"$f":"IF(B26=\"\",\"\",IF(B26+1<='หา NRI'!$D$58,B26+1,\"\"))","v":""},{"$f":"IF(NRI!L102=\"\",\"\",NRI!L102)","v":""},{"$f":"IF(C27=\"\",\"\",SMALL(OFFSET($C$7,0,0,'หา NRI'!$D$58,1),B27))","v":""},"","","","","","","","",""]
[null,{"$f":"IF(B27=\"\",\"\",IF(B27+1<='หา NRI'!$D$58,B27+1,\"\"))","v":""},{"$f":"IF(NRI!L103=\"\",\"\",NRI!L103)","v":""},{"$f":"IF(C28=\"\",\"\",SMALL(OFFSET($C$7,0,0,'หา NRI'!$D$58,1),B28))","v":""},"","","","","","","","",""]
[null,{"$f":"IF(B28=\"\",\"\",IF(B28+1<='หา NRI'!$D$58,B28+1,\"\"))","v":""},{"$f":"IF(NRI!L104=\"\",\"\",NRI!L104)","v":""},{"$f":"IF(C29=\"\",\"\",SMALL(OFFSET($C$7,0,0,'หา NRI'!$D$58,1),B29))","v":""},"","","","","","","","",""]
[null,{"$f":"IF(B29=\"\",\"\",IF(B29+1<='หา NRI'!$D$58,B29+1,\"\"))","v":""},{"$f":"IF(NRI!L105=\"\",\"\",NRI!L105)","v":""},{"$f":"IF(C30=\"\",\"\",SMALL(OFFSET($C$7,0,0,'หา NRI'!$D$58,1),B30))","v":""},"","","","","","","","",""]
[null,{"$f":"IF(B30=\"\",\"\",IF(B30+1<='หา NRI'!$D$58,B30+1,\"\"))","v":""},{"$f":"IF(NRI!L106=\"\",\"\",NRI!L106)","v":""},{"$f":"IF(C31=\"\",\"\",SMALL(OFFSET($C$7,0,0,'หา NRI'!$D$58,1),B31))","v":""},"","","","","","","","",""]
[null,{"$f":"IF(B31=\"\",\"\",IF(B31+1<='หา NRI'!$D$58,B31+1,\"\"))","v":""},{"$f":"IF(NRI!L107=\"\",\"\",NRI!L107)","v":""},{"$f":"IF(C32=\"\",\"\",SMALL(OFFSET($C$7,0,0,'หา NRI'!$D$58,1),B32))","v":""},"","","","","","","","",""]
[null,{"$f":"IF(B32=\"\",\"\",IF(B32+1<='หา NRI'!$D$58,B32+1,\"\"))","v":""},{"$f":"IF(NRI!L108=\"\",\"\",NRI!L108)","v":""},{"$f":"IF(C33=\"\",\"\",SMALL(OFFSET($C$7,0,0,'หา NRI'!$D$58,1),B33))","v":""},"","","","","","","","",""]
[null,{"$f":"IF(B33=\"\",\"\",IF(B33+1<='หา NRI'!$D$58,B33+1,\"\"))","v":""},{"$f":"IF(NRI!L109=\"\",\"\",NRI!L109)","v":""},{"$f":"IF(C34=\"\",\"\",SMALL(OFFSET($C$7,0,0,'หา NRI'!$D$58,1),B34))","v":""},"","","","","","","","",""]
[null,{"$f":"IF(B34=\"\",\"\",IF(B34+1<='หา NRI'!$D$58,B34+1,\"\"))","v":""},{"$f":"IF(NRI!L110=\"\",\"\",NRI!L110)","v":""},{"$f":"IF(C35=\"\",\"\",SMALL(OFFSET($C$7,0,0,'หา NRI'!$D$58,1),B35))","v":""},"","","","","","","","",""]
[null,{"$f":"IF(B35=\"\",\"\",IF(B35+1<='หา NRI'!$D$58,B35+1,\"\"))","v":""},{"$f":"IF(NRI!L111=\"\",\"\",NRI!L111)","v":""},{"$f":"IF(C36=\"\",\"\",SMALL(OFFSET($C$7,0,0,'หา NRI'!$D$58,1),B36))","v":""},"","","","","","","","",""]
[null,{"$f":"IF(B36=\"\",\"\",IF(B36+1<='หา NRI'!$D$58,B36+1,\"\"))","v":""},{"$f":"IF(NRI!L112=\"\",\"\",NRI!L112)","v":""},{"$f":"IF(C37=\"\",\"\",SMALL(OFFSET($C$7,0,0,'หา NRI'!$D$58,1),B37))","v":""},"","","","","","","","",""]
[null,{"$f":"IF(B37=\"\",\"\",IF(B37+1<='หา NRI'!$D$58,B37+1,\"\"))","v":""},{"$f":"IF(NRI!L113=\"\",\"\",NRI!L113)","v":""},{"$f":"IF(C38=\"\",\"\",SMALL(OFFSET($C$7,0,0,'หา NRI'!$D$58,1),B38))","v":""},"","","","","","","","",""]
[null,{"$f":"IF(B38=\"\",\"\",IF(B38+1<='หา NRI'!$D$58,B38+1,\"\"))","v":""},{"$f":"IF(NRI!L114=\"\",\"\",NRI!L114)","v":""},{"$f":"IF(C39=\"\",\"\",SMALL(OFFSET($C$7,0,0,'หา NRI'!$D$58,1),B39))","v":""},"","","","","","","","",""]
[null,{"$f":"IF(B39=\"\",\"\",IF(B39+1<='หา NRI'!$D$58,B39+1,\"\"))","v":""},{"$f":"IF(NRI!L115=\"\",\"\",NRI!L115)","v":""},{"$f":"IF(C40=\"\",\"\",SMALL(OFFSET($C$7,0,0,'หา NRI'!$D$58,1),B40))","v":""},"","","","","","","","",""]
[null,{"$f":"IF(B40=\"\",\"\",IF(B40+1<='หา NRI'!$D$58,B40+1,\"\"))","v":""},{"$f":"IF(NRI!L116=\"\",\"\",NRI!L116)","v":""},{"$f":"IF(C41=\"\",\"\",SMALL(OFFSET($C$7,0,0,'หา NRI'!$D$58,1),B41))","v":""},"","","","","","","","",""]
[null,{"$f":"IF(B41=\"\",\"\",IF(B41+1<='หา NRI'!$D$58,B41+1,\"\"))","v":""},{"$f":"IF(NRI!L117=\"\",\"\",NRI!L117)","v":""},{"$f":"IF(C42=\"\",\"\",SMALL(OFFSET($C$7,0,0,'หา NRI'!$D$58,1),B42))","v":""},"","","","","","","","",""]
[null,{"$f":"IF(B42=\"\",\"\",IF(B42+1<='หา NRI'!$D$58,B42+1,\"\"))","v":""},{"$f":"IF(NRI!L118=\"\",\"\",NRI!L118)","v":""},{"$f":"IF(C43=\"\",\"\",SMALL(OFFSET($C$7,0,0,'หา NRI'!$D$58,1),B43))","v":""},"","","","","","","","",""]
[null,{"$f":"IF(B43=\"\",\"\",IF(B43+1<='หา NRI'!$D$58,B43+1,\"\"))","v":""},{"$f":"IF(NRI!L119=\"\",\"\",NRI!L119)","v":""},{"$f":"IF(C44=\"\",\"\",SMALL(OFFSET($C$7,0,0,'หา NRI'!$D$58,1),B44))","v":""},"","","","","","","","",""]
[null,{"$f":"IF(B44=\"\",\"\",IF(B44+1<='หา NRI'!$D$58,B44+1,\"\"))","v":""},{"$f":"IF(NRI!L120=\"\",\"\",NRI!L120)","v":""},{"$f":"IF(C45=\"\",\"\",SMALL(OFFSET($C$7,0,0,'หา NRI'!$D$58,1),B45))","v":""},"","","","","","","","",""]
[null,{"$f":"IF(B45=\"\",\"\",IF(B45+1<='หา NRI'!$D$58,B45+1,\"\"))","v":""},{"$f":"IF(NRI!L121=\"\",\"\",NRI!L121)","v":""},{"$f":"IF(C46=\"\",\"\",SMALL(OFFSET($C$7,0,0,'หา NRI'!$D$58,1),B46))","v":""},"","","","","","","","",""]
[null,{"$f":"IF(B46=\"\",\"\",IF(B46+1<='หา NRI'!$D$58,B46+1,\"\"))","v":""},{"$f":"IF(NRI!L122=\"\",\"\",NRI!L122)","v":""},{"$f":"IF(C47=\"\",\"\",SMALL(OFFSET($C$7,0,0,'หา NRI'!$D$58,1),B47))","v":""},"","","","","","","","",""]
[null,{"$f":"IF(B47=\"\",\"\",IF(B47+1<='หา NRI'!$D$58,B47+1,\"\"))","v":""},{"$f":"IF(NRI!L123=\"\",\"\",NRI!L123)","v":""},{"$f":"IF(C48=\"\",\"\",SMALL(OFFSET($C$7,0,0,'หา NRI'!$D$58,1),B48))","v":""},"","","","","","","","",""]
[null,{"$f":"IF(B48=\"\",\"\",IF(B48+1<='หา NRI'!$D$58,B48+1,\"\"))","v":""},{"$f":"IF(NRI!L124=\"\",\"\",NRI!L124)","v":""},{"$f":"IF(C49=\"\",\"\",SMALL(OFFSET($C$7,0,0,'หา NRI'!$D$58,1),B49))","v":""},"","","","","","","","",""]
[null,{"$f":"IF(B49=\"\",\"\",IF(B49+1<='หา NRI'!$D$58,B49+1,\"\"))","v":""},{"$f":"IF(NRI!L125=\"\",\"\",NRI!L125)","v":""},{"$f":"IF(C50=\"\",\"\",SMALL(OFFSET($C$7,0,0,'หา NRI'!$D$58,1),B50))","v":""},"","","","","","","","",""]
[null,{"$f":"IF(B50=\"\",\"\",IF(B50+1<='หา NRI'!$D$58,B50+1,\"\"))","v":""},{"$f":"IF(NRI!L126=\"\",\"\",NRI!L126)","v":""},{"$f":"IF(C51=\"\",\"\",SMALL(OFFSET($C$7,0,0,'หา NRI'!$D$58,1),B51))","v":""},"","","","","","","","",""]
[null,{"$f":"IF(B51=\"\",\"\",IF(B51+1<='หา NRI'!$D$58,B51+1,\"\"))","v":""},{"$f":"IF(NRI!L127=\"\",\"\",NRI!L127)","v":""},{"$f":"IF(C52=\"\",\"\",SMALL(OFFSET($C$7,0,0,'หา NRI'!$D$58,1),B52))","v":""},"","","","","","","","",""]
[null,{"$f":"IF(B52=\"\",\"\",IF(B52+1<='หา NRI'!$D$58,B52+1,\"\"))","v":""},{"$f":"IF(NRI!L128=\"\",\"\",NRI!L128)","v":""},{"$f":"IF(C53=\"\",\"\",SMALL(OFFSET($C$7,0,0,'หา NRI'!$D$58,1),B53))","v":""},"","","","","","","","",""]
[null,{"$f":"IF(B53=\"\",\"\",IF(B53+1<='หา NRI'!$D$58,B53+1,\"\"))","v":""},{"$f":"IF(NRI!L129=\"\",\"\",NRI!L129)","v":""},{"$f":"IF(C54=\"\",\"\",SMALL(OFFSET($C$7,0,0,'หา NRI'!$D$58,1),B54))","v":""},"","","","","","","","",""]
[null,{"$f":"IF(B54=\"\",\"\",IF(B54+1<='หา NRI'!$D$58,B54+1,\"\"))","v":""},{"$f":"IF(NRI!L130=\"\",\"\",NRI!L130)","v":""},{"$f":"IF(C55=\"\",\"\",SMALL(OFFSET($C$7,0,0,'หา NRI'!$D$58,1),B55))","v":""},"","","","","","","","",""]
[null,{"$f":"IF(B55=\"\",\"\",IF(B55+1<='หา NRI'!$D$58,B55+1,\"\"))","v":""},{"$f":"IF(NRI!L131=\"\",\"\",NRI!L131)","v":""},{"$f":"IF(C56=\"\",\"\",SMALL(OFFSET($C$7,0,0,'หา NRI'!$D$58,1),B56))","v":""},"","","","","","","","",""]
[null,{"$f":"IF(B56=\"\",\"\",IF(B56+1<='หา NRI'!$D$58,B56+1,\"\"))","v":""},{"$f":"IF(NRI!L132=\"\",\"\",NRI!L132)","v":""},{"$f":"IF(C57=\"\",\"\",SMALL(OFFSET($C$7,0,0,'หา NRI'!$D$58,1),B57))","v":""},"","","","","","","","",""]
[null,"MEAN",{"$f":"AVERAGE(C7:C57)","v":{"$error":"#DIV/0!"}},null,null,"MAX",{"$f":"MAX(G7:G57)","v":0},null,"MAX",{"$f":"MAX(J7:J57)","v":0},null,"MAX",{"$f":"MAX(M7:M17)","v":0}]
[null,"STD.",{"$f":"STDEV(C7:C57)","v":{"$error":"#DIV/0!"}},null,null,{"$f":"\"Delta \"&COUNT(B7:B57)&\", \"&OFFSET('หา NRI'!A48,MATCH(G59,'หา NRI'!G49:G52,0),0,1,1)*100&\"%\"","v":{"$error":"#N/A"}},{"$f":"IF('หา NRI'!G50>G58,'หา NRI'!G50,'หา NRI'!G49)","v":{"$error":"#N/A"}},{"$f":"IF(G58<G59,\"ok\",\"\")","v":{"$error":"#N/A"}},{"$f":"F59","v":{"$error":"#N/A"}},{"$f":"G59","v":{"$error":"#N/A"}},{"$f":"IF(J58<J59,\"ok\",\"\")","v":{"$error":"#N/A"}},{"$f":"F59","v":{"$error":"#N/A"}},{"$f":"G59","v":{"$error":"#N/A"}}]
[null,"Location",{"$f":"C58-(0.45*C59)","v":{"$error":"#DIV/0!"}},null,null,null,{"$f":"IF(G58<G59,IF(G58<J58,\"GUMBEL\",\"\"),\"\")","v":{"$error":"#N/A"}},null,null,{"$f":"IF(J58<J59,IF(J58<G58,\"NORMAL\",\"\"),\"\")","v":{"$error":"#N/A"}}]
[null,"Scale",{"$f":"0.7797*C59","v":{"$error":"#DIV/0!"}},null,null,null,null,{"$f":"\"เดือน \"&D4&\" เป็นการแจกแจงแบบ \"&G60&J60","v":{"$error":"#N/A"}}]
[null,"MEAN Y",{"$f":"AVERAGE(K7:K17)","v":{"$error":"#DIV/0!"}}]
[null,"STD. Y",{"$f":"STDEV(K7:K17)","v":{"$error":"#DIV/0!"}}]
[null,"MAX X",{"$f":"MAX(D7:D57)","v":0},null,{"$f":"\"ดังนั้น ปริมาณน้ำไหลเข้าอ่างเก็บน้ำสุทธิในเดือน \"&D4&\" จะเหมาะสมกับการแจกแจงแบบ \" &G60&J60&\" ที่ระดับนัยสำคัญ \"&OFFSET('หา NRI'!A48,MATCH(G59,'หา NRI'!G49:G52,0),0,1,1)*100&\"%\"","v":{"$error":"#N/A"}}]
[null,"MIN X",{"$f":"MIN(D7:D57)","v":0}]
[null,null,null,null,null,null,null,null,"แนะนำกว้าง",{"$f":"ROUND(($L$68-$L$69)/$J$68,0)","v":0}]
[null," 7.  สร้างเส้นโค้งของการแจกแจง NRI",null,null,null,null,null,null,"กว้างชั้นละ",180,"Max - Min"]
[null,null,"Range; R =",{"$f":"C64-C65","v":0},"Class Interval ; CI =",null,{"$f":"D68/D69","v":0},null,"จำนวนชั้น",3,"MAX X",{"$f":"C64","v":0}]
[null,null,"Class ; C =",{"$f":"J68","v":3},null,null,null,null,"เริ่มที่",0,"MIN X",{"$f":"C65","v":0}]
[null,"Class","Class Interval","Mid-Range",null,"(Xi)*ni","(X(i))^2","ni*(X(i))^2"]
[null,"(i)","(mcm.)","(Xi)"]
[null,1,{"$f":"IF(B72<=$J$68,\"(\"&J69&\")-(\"&K72&\")\",\"\")","v":"(0)-(180)"},{"$f":"IF(B72<=$J$68,(J69+K72)/2,\"\")","v":90},{"$f":"IF(B72<=$J$68,M72,\"\")","v":0},{"$f":"IF(B72<=$J$68,D72*E72,\"\")","v":0},{"$f":"IF(B72<=$J$68,D72^2,\"\")","v":8100},{"$f":"IF(B72<=$J$68,E72*G72,\"\")","v":0},{"$f":"IF(B72<=$D$69,1,0)","v":1},{"$f":"J69","v":0},{"$f":"$J$69+(B72*$J$67)","v":180},{"$f":"COUNTIF($C$7:$C$45,\"<\"&J73-0.5)","v":0},{"$f":"L72","v":0}]
[null,{"$f":"IF(B72+1<=J68,B72+1,\"\")","v":2},{"$f":"IF(B73<=$J$68,IF(I74=1,\"(\"&J73&\")-(\"&K73&\")\",\">\"&J73),\"\")","v":"(181)-(360)"},{"$f":"IF(B73<=$J$68,(J73+K73)/2,\"\")","v":270.5},0,0,73170.25,0,1,{"$f":"IF(I73=1,K72+1,9999)","v":181},360,{"$f":"COUNTIF($C$7:$C$45,\"<\"&J74-0.5)","v":0},{"$f":"L73-L72","v":0}]
[null,{"$f":"B73+1","v":3},">361",450.5,0,0,202950.25,0,1,361,540,0,0]
[null,4,"","","","","","",0,9999,720,0,0]
[null,5,"","","","","","",0,9999,900,0,0]
[null,6,"","","","","","",0,9999,1080,0,0]
[null,7,"","","","","","",0,9999,1260,0,0]
[null,8,"","","","","","",0,9999,1440,0,0]
[null,9,"","","","","","",0,9999,1620,0,0]
[null,10,"","","","","","",0,9999,1800,0,0]
[null,11,"","","","","","",0,9999,1980,0,0]
[null,12,"","","","","","",0,9999,2160,0,0]
[null,13,"","","","","","",0,9999,2340,0,0]
[null,14,"","","","","","",0,9999,2520,0,0]
[null,15,"","","","","","",0,9999,2700,0,0]
[null,16,"","","","","","",0,9999,2880,0,0]
[null,17,"","","","","","",0,9999,3060,{"$f":"COUNTIF($C$7:$C$45,\"<\"&J89-0.5)","v":0},0]
[null,"SUM",null,null,{"$f":"SUM(E72:E88)","v":0},{"$f":"SUM(F72:F88)","v":0},{"$f":"SUM(G72:G88)","v":284220.5},{"$f":"SUM(H72:H88)","v":0},null,9999]
[null,null,"Mean",{"$f":"F89/E89","v":{"$error":"#DIV/0!"}},"(Mean)^2",{"$f":"D90*D90","v":{"$error":"#DIV/0!"}},"Location",{"$f":"D90-(0.45*D91)","v":{"$error":"#DIV/0!"}}]
[null,null,"STD.",{"$f":"((H89/E89)-F90)^0.5","v":{"$error":"#DIV/0!"}},null,null,"Scale",{"$f":"0.7797*D91","v":{"$error":"#DIV/0!"}}]
[]
[null,{"$f":"\"การแจกแจงแบบ \"&G60&J60&\" กับปริมาณน้ำท่าสุทธิเดือน \"&D4&\" ของอ่าง\"&L2","v":{"$error":"#N/A"}},null,null,null,null,null,null,null,"ตารางแจกแจงความถี่"]
[null,"Class","Class Interval",null,null,null,null,null,null,"Class","p(Xi)",0.05,0.1,0.15]
[null,"(i)","(mcm.)",null,null,null,{"$f":"G60&J60","v":{"$error":"#N/A"}}]
[null,{"$f":"B72","v":1},{"$f":"IF(B96<=$J$68,C72,\"\")","v":"(0)-(180)"},{"$f":"IF(B96<=$J$68,E72,\"\")","v":0},{"$f":"IF(B96<=$J$68,D96/$D$113,\"\")","v":{"$error":"#DIV/0!"}},{"$f":"IF(B96<=$J$68,E96,\"\")","v":{"$error":"#DIV/0!"}},{"$f":"IF(B96<=$J$68,IF($G$60=\"GUMBEL\",EXP(-EXP(-(J96-$H$90)/$H$91)),NORMDIST(J96,$D$90,$D$91,TRUE)),\"\")","v":{"$error":"#N/A"}},{"$f":"IF(B96<=$J$68,G96,\"\")","v":{"$error":"#N/A"}},null,{"$f":"K72","v":180},{"$f":"H96","v":{"$error":"#N/A"}},0.05,0.1,0.15]
[null,{"$f":"B96+1","v":2},"(181)-(360)",0,{"$error":"#DIV/0!"},{"$f":"IF(B97<=$J$68,E97+F96,\"\")","v":{"$error":"#DIV/0!"}},{"$error":"#N/A"},{"$f":"IF(B97<=$J$68,G97-G96,\"\")","v":{"$error":"#N/A"}},null,{"$f":"K73","v":360},{"$f":"H97","v":{"$error":"#N/A"}},0.05,0.1,0.15]
[null,3,">361",0,{"$error":"#DIV/0!"},{"$error":"#DIV/0!"},{"$error":"#N/A"},{"$error":"#N/A"},null,{"$f":"K74","v":540},{"$error":"#N/A"},0.05,0.1,0.15]
[null,4,"","","","","","",null,720,"",0.05,0.1,0.15]
[null,5,"","","","","","",null,900,"",0.05,0.1,0.15]
[null,6,"","","","","","",null,1080,"",0.05,0.1,0.15]
[null,7,"","","","","","",null,1260,"",0.05,0.1,0.15]
[null,8,"","","","","","",null,1440,"",0.05,0.1,0.15]
[null,9,"","","","","","",null,1620,"",0.05,0.1,0.15]
[null,10,"","","","","","",null,1800,"",0.05,0.1,0.15]
[null,11,"","","","","","",null,1980,"",0.05,0.1,0.15]
[null,12,"","","","","","",null,2160,"",0.05,0.1,0.15]
[null,13,"","","","","","",null,2340,"",0.05,0.1,0.15]
[null,14,"","","","","","",null,2520,"",0.05,0.1,0.15]
[null,15,"","","","","","",null,2700,"",0.05,0.1,0.15]
[null,16,"","","","","","",null,2880,"",0.05,0.1,0.15]
[null,17,"","","","","","",null,3060,"",0.05,0.1,0.15]
[null,null,"Sum",{"$f":"SUM(D96:D112)","v":0},{"$f":"SUM(E96:E112)","v":{"$error":"#DIV/0!"}},null,null,{"$f":"SUM(H96:H112)","v":{"$error":"#N/A"}}]
[]
[{"$f":"\"8. หาค่าVolume of Flood Control Reserve ของเดือน\"&D4&\"ที่ค่าความเสี่ยงต่างๆ จากกราฟการแจกแจงความน่าจะเป็น\"","v":"8. หาค่าVolume of Flood Control Reserve ของเดือนตุลาคมที่ค่าความเสี่ยงต่างๆ จากกราฟการแจกแจงความน่าจะเป็น"}]
[]
[]
[]
[]
[]
[]
[]
[]
[]
[]
[null,null,null,null,null,null,null,null,null,"P(NRIt>VFCt)< Risk"]
[null,null,null,null,null,null,null,null,null,{"$f":"IF(NRI!K54<0,\"Volume Buffer\",\"Volum Flood Control\")","v":{"$error":"#DIV/0!"}}]
[null,null,null,null,null,null,null,null,null,"Risk(%)",{"$f":"IF(NRI!K54<0,\"VBUF(mcm)\",\"VFC(mcm)\")","v":{"$error":"#DIV/0!"}},null,"X-Axis","X-ordinate","Y-Axis","Y-ordinate"]
[null,null,null,null,null,null,null,null,null,15,560,null,"X1=",374,"Y1=",0.15912074047763369]
[null,null,null,null,null,null,null,null,null,10,600,null,"X2=",475,"Y2=",0.13117031761875575]
[null,null,null,null,null,null,null,null,null,5,650,null,"X0=",{"$f":"N129-((N129-N130)*(P129-P131)/(P129-P130))","v":406.95817000308466},"Y0=",0.15]

{"sheet":"พ.ย.","index":19,"n_rows":131,"n_cols":16,"rows_kept":131,"cut":false,"hidden":true,"merged":[[125,9,125,12],[60,7,61,12],[63,4,63,14],[67,4,67,5],[88,1,88,3],[93,11,94,11],[93,12,94,12],[93,13,94,13],[66,10,66,11],[93,9,94,9],[93,10,94,10],[92,9,92,13]]}
[]
[null,"6. การหาค่าสถิติและการทดสอบความเหมาะสมของ Distribution Function กับข้อมูล Net Reservoir Inflow(NIR)",null,null,null,null,null,null,null,null,null,{"$f":"NRI!O1","v":0}]
[]
[null,11,"Nov","พฤษจิกายน"]
[null,null,null,null,"Empirical","GUMBEL",null,"NORMAL",null,null,"LOG-NORMAL"]
[null,"No.","NRI","(X)","F'(X)","F(x)","F'(X)-F(X)","Z","F(x)","F'(X)-F(X)","Y","F(x)","F'(X)-f(X)"]
[null,{"$f":"IF(1<='หา NRI'!$D$58,1,\"\")","v":1},{"$f":"IF(NRI!M82=\"\",\"\",NRI!M82)","v":""},{"$f":"IF(C7=\"\",\"\",SMALL(OFFSET($C$7,0,0,'หา NRI'!$D$58,1),B7))","v":""},{"$f":"IF(C7=\"\",\"\",B7/(COUNT($B$7:$B$57)+1))","v":""},{"$f":"IF(C7=\"\",\"\",EXP(-EXP(-(D7-$C$60)/$C$61)))","v":""},{"$f":"IF(C7=\"\",\"\",ABS(E7-F7))","v":""},{"$f":"IF(C7=\"\",\"\",(D7-$C$58)/$C$59)","v":""},{"$f":"IF(C7=\"\",\"\",NORMSDIST(H7))","v":""},{"$f":"IF(C7=\"\",\"\",ABS(E7-I7))","v":""},{"$f":"IF(C7=\"\",\"\",(LN(D7)))","v":""},{"$f":"IF(C7=\"\",\"\",(LOGNORMDIST(D7,$C$61,$C$62)))","v":""},{"$f":"IF(C7=\"\",\"\",(ABS(E7-L7)))","v":""}]
[null,{"$f":"IF(B7=\"\",\"\",IF(B7+1<='หา NRI'!$D$58,B7+1,\"\"))","v":2},{"$f":"IF(NRI!M83=\"\",\"\",NRI!M83)","v":""},{"$f":"IF(C8=\"\",\"\",SMALL(OFFSET($C$7,0,0,'หา NRI'!$D$58,1),B8))","v":""},{"$f":"IF(C8=\"\",\"\",B8/(COUNT($B$7:$B$57)+1))","v":""},{"$f":"IF(C8=\"\",\"\",EXP(-EXP(-(D8-$C$60)/$C$61)))","v":""},{"$f":"IF(C8=\"\",\"\",ABS(E8-F8))","v":""},{"$f":"IF(C8=\"\",\"\",(D8-$C$58)/$C$59)","v":""},{"$f":"IF(C8=\"\",\"\",NORMSDIST(H8))","v":""},{"$f":"IF(C8=\"\",\"\",ABS(E8-I8))","v":""},{"$f":"IF(C8=\"\",\"\",(LN(D8)))","v":""},{"$f":"IF(C8=\"\",\"\",(LOGNORMDIST(D8,$C$61,$C$62)))","v":""},{"$f":"IF(C8=\"\",\"\",(ABS(E8-L8)))","v":""}]
[null,{"$f":"IF(B8=\"\",\"\",IF(B8+1<='หา NRI'!$D$58,B8+1,\"\"))","v":3},{"$f":"IF(NRI!M84=\"\",\"\",NRI!M84)","v":""},{"$f":"IF(C9=\"\",\"\",SMALL(OFFSET($C$7,0,0,'หา NRI'!$D$58,1),B9))","v":""},"","","","","","","","",""]
[null,{"$f":"IF(B9=\"\",\"\",IF(B9+1<='หา NRI'!$D$58,B9+1,\"\"))","v":4},{"$f":"IF(NRI!M85=\"\",\"\",NRI!M85)","v":""},{"$f":"IF(C10=\"\",\"\",SMALL(OFFSET($C$7,0,0,'หา NRI'!$D$58,1),B10))","v":""},"","","","","","","","",""]
[null,{"$f":"IF(B10=\"\",\"\",IF(B10+1<='หา NRI'!$D$58,B10+1,\"\"))","v":""},{"$f":"IF(NRI!M86=\"\",\"\",NRI!M86)","v":""},{"$f":"IF(C11=\"\",\"\",SMALL(OFFSET($C$7,0,0,'หา NRI'!$D$58,1),B11))","v":""},"","","","","","","","",""]
[null,{"$f":"IF(B11=\"\",\"\",IF(B11+1<='หา NRI'!$D$58,B11+1,\"\"))","v":""},{"$f":"IF(NRI!M87=\"\",\"\",NRI!M87)","v":""},{"$f":"IF(C12=\"\",\"\",SMALL(OFFSET($C$7,0,0,'หา NRI'!$D$58,1),B12))","v":""},"","","","","","","","",""]
[null,{"$f":"IF(B12=\"\",\"\",IF(B12+1<='หา NRI'!$D$58,B12+1,\"\"))","v":""},{"$f":"IF(NRI!M88=\"\",\"\",NRI!M88)","v":""},{"$f":"IF(C13=\"\",\"\",SMALL(OFFSET($C$7,0,0,'หา NRI'!$D$58,1),B13))","v":""},"","","","","","","","",""]
[null,{"$f":"IF(B13=\"\",\"\",IF(B13+1<='หา NRI'!$D$58,B13+1,\"\"))","v":""},{"$f":"IF(NRI!M89=\"\",\"\",NRI!M89)","v":""},{"$f":"IF(C14=\"\",\"\",SMALL(OFFSET($C$7,0,0,'หา NRI'!$D$58,1),B14))","v":""},"","","","","","","","",""]
[null,{"$f":"IF(B14=\"\",\"\",IF(B14+1<='หา NRI'!$D$58,B14+1,\"\"))","v":""},{"$f":"IF(NRI!M90=\"\",\"\",NRI!M90)","v":""},{"$f":"IF(C15=\"\",\"\",SMALL(OFFSET($C$7,0,0,'หา NRI'!$D$58,1),B15))","v":""},"","","","","","","","",""]
[null,{"$f":"IF(B15=\"\",\"\",IF(B15+1<='หา NRI'!$D$58,B15+1,\"\"))","v":""},{"$f":"IF(NRI!M91=\"\",\"\",NRI!M91)","v":""},{"$f":"IF(C16=\"\",\"\",SMALL(OFFSET($C$7,0,0,'หา NRI'!$D$58,1),B16))","v":""},"","","","","","","","",""]
[null,{"$f":"IF(B16=\"\",\"\",IF(B16+1<='หา NRI'!$D$58,B16+1,\"\"))","v":""},{"$f":"IF(NRI!M92=\"\",\"\",NRI!M92)","v":""},{"$f":"IF(C17=\"\",\"\",SMALL(OFFSET($C$7,0,0,'หา NRI'!$D$58,1),B17))","v":""},"","","","","","","","",""]
[null,{"$f":"IF(B17=\"\",\"\",IF(B17+1<='หา NRI'!$D$58,B17+1,\"\"))","v":""},{"$f":"IF(NRI!M93=\"\",\"\",NRI!M93)","v":""},{"$f":"IF(C18=\"\",\"\",SMALL(OFFSET($C$7,0,0,'หา NRI'!$D$58,1),B18))","v":""},"","","","","","","","",""]
[null,{"$f":"IF(B18=\"\",\"\",IF(B18+1<='หา NRI'!$D$58,B18+1,\"\"))","v":""},{"$f":"IF(NRI!M94=\"\",\"\",NRI!M94)","v":""},{"$f":"IF(C19=\"\",\"\",SMALL(OFFSET($C$7,0,0,'หา NRI'!$D$58,1),B19))","v":""},"","","","","","","","",""]
[null,{"$f":"IF(B19=\"\",\"\",IF(B19+1<='หา NRI'!$D$58,B19+1,\"\"))","v":""},{"$f":"IF(NRI!M95=\"\",\"\",NRI!M95)","v":""},{"$f":"IF(C20=\"\",\"\",SMALL(OFFSET($C$7,0,0,'หา NRI'!$D$58,1),B20))","v":""},"","","","","","","","",""]
[null,{"$f":"IF(B20=\"\",\"\",IF(B20+1<='หา NRI'!$D$58,B20+1,\"\"))","v":""},{"$f":"IF(NRI!M96=\"\",\"\",NRI!M96)","v":""},{"$f":"IF(C21=\"\",\"\",SMALL(OFFSET($C$7,0,0,'หา NRI'!$D$58,1),B21))","v":""},"","","","","","","","",""]
[null,{"$f":"IF(B21=\"\",\"\",IF(B21+1<='หา NRI'!$D$58,B21+1,\"\"))","v":""},{"$f":"IF(NRI!M97=\"\",\"\",NRI!M97)","v":""},{"$f":"IF(C22=\"\",\"\",SMALL(OFFSET($C$7,0,0,'หา NRI'!$D$58,1),B22))","v":""},"","","","","","","","",""]
[null,{"$f":"IF(B22=\"\",\"\",IF(B22+1<='หา NRI'!$D$58,B22+1,\"\"))","v":""},{"$f":"IF(NRI!M98=\"\",\"\",NRI!M98)","v":""},{"$f":"IF(C23=\"\",\"\",SMALL(OFFSET($C$7,0,0,'หา NRI'!$D$58,1),B23))","v":""},"","","","","","","","",""]
[null,{"$f":"IF(B23=\"\",\"\",IF(B23+1<='หา NRI'!$D$58,B23+1,\"\"))","v":""},{"$f":"IF(NRI!M99=\"\",\"\",NRI!M99)","v":""},{"$f":"IF(C24=\"\",\"\",SMALL(OFFSET($C$7,0,0,'หา NRI'!$D$58,1),B24))","v":""},"","","","","","","","",""]
[null,{"$f":"IF(B24=\"\",\"\",IF(B24+1<='หา NRI'!$D$58,B24+1,\"\"))","v":""},{"$f":"IF(NRI!M100=\"\",\"\",NRI!M100)","v":""},{"$f":"IF(C25=\"\",\"\",SMALL(OFFSET($C$7,0,0,'หา NRI'!$D$58,1),B25))","v":""},"","","","","","","","",""]
[null,{"$f":"IF(B25=\"\",\"\",IF(B25+1<='หา NRI'!$D$58,B25+1,\"\"))","v":""},{"$f":"IF(NRI!M101=\"\",\"\",NRI!M101)","v":""},{"$f":"IF(C26=\"\",\"\",SMALL(OFFSET($C$7,0,0,'หา NRI'!$D$58,1),B26))","v":""},"","","","","","","","",""]
[null,{"$f":"IF(B26=\"\",\"\",IF(B26+1<='หา NRI'!$D$58,B26+1,\"\"))","v":""},{"$f":"IF(NRI!M102=\"\",\"\",NRI!M102)","v":""},{"$f":"IF(C27=\"\",\"\",SMALL(OFFSET($C$7,0,0,'หา NRI'!$D$58,1),B27))","v":""},"","","","","","","","",""]
[null,{"$f":"IF(B27=\"\",\"\",IF(B27+1<='หา NRI'!$D$58,B27+1,\"\"))","v":""},{"$f":"IF(NRI!M103=\"\",\"\",NRI!M103)","v":""},{"$f":"IF(C28=\"\",\"\",SMALL(OFFSET($C$7,0,0,'หา NRI'!$D$58,1),B28))","v":""},"","","","","","","","",""]
[null,{"$f":"IF(B28=\"\",\"\",IF(B28+1<='หา NRI'!$D$58,B28+1,\"\"))","v":""},{"$f":"IF(NRI!M104=\"\",\"\",NRI!M104)","v":""},{"$f":"IF(C29=\"\",\"\",SMALL(OFFSET($C$7,0,0,'หา NRI'!$D$58,1),B29))","v":""},"","","","","","","","",""]
[null,{"$f":"IF(B29=\"\",\"\",IF(B29+1<='หา NRI'!$D$58,B29+1,\"\"))","v":""},{"$f":"IF(NRI!M105=\"\",\"\",NRI!M105)","v":""},{"$f":"IF(C30=\"\",\"\",SMALL(OFFSET($C$7,0,0,'หา NRI'!$D$58,1),B30))","v":""},"","","","","","","","",""]
[null,{"$f":"IF(B30=\"\",\"\",IF(B30+1<='หา NRI'!$D$58,B30+1,\"\"))","v":""},{"$f":"IF(NRI!M106=\"\",\"\",NRI!M106)","v":""},{"$f":"IF(C31=\"\",\"\",SMALL(OFFSET($C$7,0,0,'หา NRI'!$D$58,1),B31))","v":""},"","","","","","","","",""]
[null,{"$f":"IF(B31=\"\",\"\",IF(B31+1<='หา NRI'!$D$58,B31+1,\"\"))","v":""},{"$f":"IF(NRI!M107=\"\",\"\",NRI!M107)","v":""},{"$f":"IF(C32=\"\",\"\",SMALL(OFFSET($C$7,0,0,'หา NRI'!$D$58,1),B32))","v":""},"","","","","","","","",""]
[null,{"$f":"IF(B32=\"\",\"\",IF(B32+1<='หา NRI'!$D$58,B32+1,\"\"))","v":""},{"$f":"IF(NRI!M108=\"\",\"\",NRI!M108)","v":""},{"$f":"IF(C33=\"\",\"\",SMALL(OFFSET($C$7,0,0,'หา NRI'!$D$58,1),B33))","v":""},"","","","","","","","",""]
[null,{"$f":"IF(B33=\"\",\"\",IF(B33+1<='หา NRI'!$D$58,B33+1,\"\"))","v":""},{"$f":"IF(NRI!M109=\"\",\"\",NRI!M109)","v":""},{"$f":"IF(C34=\"\",\"\",SMALL(OFFSET($C$7,0,0,'หา NRI'!$D$58,1),B34))","v":""},"","","","","","","","",""]
[null,{"$f":"IF(B34=\"\",\"\",IF(B34+1<='หา NRI'!$D$58,B34+1,\"\"))","v":""},{"$f":"IF(NRI!M110=\"\",\"\",NRI!M110)","v":""},{"$f":"IF(C35=\"\",\"\",SMALL(OFFSET($C$7,0,0,'หา NRI'!$D$58,1),B35))","v":""},"","","","","","","","",""]
[null,{"$f":"IF(B35=\"\",\"\",IF(B35+1<='หา NRI'!$D$58,B35+1,\"\"))","v":""},{"$f":"IF(NRI!M111=\"\",\"\",NRI!M111)","v":""},{"$f":"IF(C36=\"\",\"\",SMALL(OFFSET($C$7,0,0,'หา NRI'!$D$58,1),B36))","v":""},"","","","","","","","",""]
[null,{"$f":"IF(B36=\"\",\"\",IF(B36+1<='หา NRI'!$D$58,B36+1,\"\"))","v":""},{"$f":"IF(NRI!M112=\"\",\"\",NRI!M112)","v":""},{"$f":"IF(C37=\"\",\"\",SMALL(OFFSET($C$7,0,0,'หา NRI'!$D$58,1),B37))","v":""},"","","","","","","","",""]
[null,{"$f":"IF(B37=\"\",\"\",IF(B37+1<='หา NRI'!$D$58,B37+1,\"\"))","v":""},{"$f":"IF(NRI!M113=\"\",\"\",NRI!M113)","v":""},{"$f":"IF(C38=\"\",\"\",SMALL(OFFSET($C$7,0,0,'หา NRI'!$D$58,1),B38))","v":""},"","","","","","","","",""]
[null,{"$f":"IF(B38=\"\",\"\",IF(B38+1<='หา NRI'!$D$58,B38+1,\"\"))","v":""},{"$f":"IF(NRI!M114=\"\",\"\",NRI!M114)","v":""},{"$f":"IF(C39=\"\",\"\",SMALL(OFFSET($C$7,0,0,'หา NRI'!$D$58,1),B39))","v":""},"","","","","","","","",""]
[null,{"$f":"IF(B39=\"\",\"\",IF(B39+1<='หา NRI'!$D$58,B39+1,\"\"))","v":""},{"$f":"IF(NRI!M115=\"\",\"\",NRI!M115)","v":""},{"$f":"IF(C40=\"\",\"\",SMALL(OFFSET($C$7,0,0,'หา NRI'!$D$58,1),B40))","v":""},"","","","","","","","",""]
[null,{"$f":"IF(B40=\"\",\"\",IF(B40+1<='หา NRI'!$D$58,B40+1,\"\"))","v":""},{"$f":"IF(NRI!M116=\"\",\"\",NRI!M116)","v":""},{"$f":"IF(C41=\"\",\"\",SMALL(OFFSET($C$7,0,0,'หา NRI'!$D$58,1),B41))","v":""},"","","","","","","","",""]
[null,{"$f":"IF(B41=\"\",\"\",IF(B41+1<='หา NRI'!$D$58,B41+1,\"\"))","v":""},{"$f":"IF(NRI!M117=\"\",\"\",NRI!M117)","v":""},{"$f":"IF(C42=\"\",\"\",SMALL(OFFSET($C$7,0,0,'หา NRI'!$D$58,1),B42))","v":""},"","","","","","","","",""]
[null,{"$f":"IF(B42=\"\",\"\",IF(B42+1<='หา NRI'!$D$58,B42+1,\"\"))","v":""},{"$f":"IF(NRI!M118=\"\",\"\",NRI!M118)","v":""},{"$f":"IF(C43=\"\",\"\",SMALL(OFFSET($C$7,0,0,'หา NRI'!$D$58,1),B43))","v":""},"","","","","","","","",""]
[null,{"$f":"IF(B43=\"\",\"\",IF(B43+1<='หา NRI'!$D$58,B43+1,\"\"))","v":""},{"$f":"IF(NRI!M119=\"\",\"\",NRI!M119)","v":""},{"$f":"IF(C44=\"\",\"\",SMALL(OFFSET($C$7,0,0,'หา NRI'!$D$58,1),B44))","v":""},"","","","","","","","",""]
[null,{"$f":"IF(B44=\"\",\"\",IF(B44+1<='หา NRI'!$D$58,B44+1,\"\"))","v":""},{"$f":"IF(NRI!M120=\"\",\"\",NRI!M120)","v":""},{"$f":"IF(C45=\"\",\"\",SMALL(OFFSET($C$7,0,0,'หา NRI'!$D$58,1),B45))","v":""},"","","","","","","","",""]
[null,{"$f":"IF(B45=\"\",\"\",IF(B45+1<='หา NRI'!$D$58,B45+1,\"\"))","v":""},{"$f":"IF(NRI!M121=\"\",\"\",NRI!M121)","v":""},{"$f":"IF(C46=\"\",\"\",SMALL(OFFSET($C$7,0,0,'หา NRI'!$D$58,1),B46))","v":""},"","","","","","","","",""]
[null,{"$f":"IF(B46=\"\",\"\",IF(B46+1<='หา NRI'!$D$58,B46+1,\"\"))","v":""},{"$f":"IF(NRI!M122=\"\",\"\",NRI!M122)","v":""},{"$f":"IF(C47=\"\",\"\",SMALL(OFFSET($C$7,0,0,'หา NRI'!$D$58,1),B47))","v":""},"","","","","","","","",""]
[null,{"$f":"IF(B47=\"\",\"\",IF(B47+1<='หา NRI'!$D$58,B47+1,\"\"))","v":""},{"$f":"IF(NRI!M123=\"\",\"\",NRI!M123)","v":""},{"$f":"IF(C48=\"\",\"\",SMALL(OFFSET($C$7,0,0,'หา NRI'!$D$58,1),B48))","v":""},"","","","","","","","",""]
[null,{"$f":"IF(B48=\"\",\"\",IF(B48+1<='หา NRI'!$D$58,B48+1,\"\"))","v":""},{"$f":"IF(NRI!M124=\"\",\"\",NRI!M124)","v":""},{"$f":"IF(C49=\"\",\"\",SMALL(OFFSET($C$7,0,0,'หา NRI'!$D$58,1),B49))","v":""},"","","","","","","","",""]
[null,{"$f":"IF(B49=\"\",\"\",IF(B49+1<='หา NRI'!$D$58,B49+1,\"\"))","v":""},{"$f":"IF(NRI!M125=\"\",\"\",NRI!M125)","v":""},{"$f":"IF(C50=\"\",\"\",SMALL(OFFSET($C$7,0,0,'หา NRI'!$D$58,1),B50))","v":""},"","","","","","","","",""]
[null,{"$f":"IF(B50=\"\",\"\",IF(B50+1<='หา NRI'!$D$58,B50+1,\"\"))","v":""},{"$f":"IF(NRI!M126=\"\",\"\",NRI!M126)","v":""},{"$f":"IF(C51=\"\",\"\",SMALL(OFFSET($C$7,0,0,'หา NRI'!$D$58,1),B51))","v":""},"","","","","","","","",""]
[null,{"$f":"IF(B51=\"\",\"\",IF(B51+1<='หา NRI'!$D$58,B51+1,\"\"))","v":""},{"$f":"IF(NRI!M127=\"\",\"\",NRI!M127)","v":""},{"$f":"IF(C52=\"\",\"\",SMALL(OFFSET($C$7,0,0,'หา NRI'!$D$58,1),B52))","v":""},"","","","","","","","",""]
[null,{"$f":"IF(B52=\"\",\"\",IF(B52+1<='หา NRI'!$D$58,B52+1,\"\"))","v":""},{"$f":"IF(NRI!M128=\"\",\"\",NRI!M128)","v":""},{"$f":"IF(C53=\"\",\"\",SMALL(OFFSET($C$7,0,0,'หา NRI'!$D$58,1),B53))","v":""},"","","","","","","","",""]
[null,{"$f":"IF(B53=\"\",\"\",IF(B53+1<='หา NRI'!$D$58,B53+1,\"\"))","v":""},{"$f":"IF(NRI!M129=\"\",\"\",NRI!M129)","v":""},{"$f":"IF(C54=\"\",\"\",SMALL(OFFSET($C$7,0,0,'หา NRI'!$D$58,1),B54))","v":""},"","","","","","","","",""]
[null,{"$f":"IF(B54=\"\",\"\",IF(B54+1<='หา NRI'!$D$58,B54+1,\"\"))","v":""},{"$f":"IF(NRI!M130=\"\",\"\",NRI!M130)","v":""},{"$f":"IF(C55=\"\",\"\",SMALL(OFFSET($C$7,0,0,'หา NRI'!$D$58,1),B55))","v":""},"","","","","","","","",""]
[null,{"$f":"IF(B55=\"\",\"\",IF(B55+1<='หา NRI'!$D$58,B55+1,\"\"))","v":""},{"$f":"IF(NRI!M131=\"\",\"\",NRI!M131)","v":""},{"$f":"IF(C56=\"\",\"\",SMALL(OFFSET($C$7,0,0,'หา NRI'!$D$58,1),B56))","v":""},"","","","","","","","",""]
[null,{"$f":"IF(B56=\"\",\"\",IF(B56+1<='หา NRI'!$D$58,B56+1,\"\"))","v":""},{"$f":"IF(NRI!M132=\"\",\"\",NRI!M132)","v":""},{"$f":"IF(C57=\"\",\"\",SMALL(OFFSET($C$7,0,0,'หา NRI'!$D$58,1),B57))","v":""},"","","","","","","","",""]
[null,"MEAN",{"$f":"AVERAGE(C7:C57)","v":{"$error":"#DIV/0!"}},null,null,"MAX",{"$f":"MAX(G7:G57)","v":0},null,"MAX",{"$f":"MAX(J7:J57)","v":0},null,"MAX",{"$f":"MAX(M7:M17)","v":0}]
[null,"STD.",{"$f":"STDEV(C7:C57)","v":{"$error":"#DIV/0!"}},null,null,{"$f":"\"Delta \"&COUNT(B7:B57)&\", \"&OFFSET('หา NRI'!A48,MATCH(G59,'หา NRI'!G49:G52,0),0,1,1)*100&\"%\"","v":{"$error":"#N/A"}},{"$f":"IF('หา NRI'!G50>G58,'หา NRI'!G50,'หา NRI'!G49)","v":{"$error":"#N/A"}},{"$f":"IF(G58<G59,\"ok\",\"\")","v":{"$error":"#N/A"}},{"$f":"F59","v":{"$error":"#N/A"}},{"$f":"G59","v":{"$error":"#N/A"}},{"$f":"IF(J58<J59,\"ok\",\"\")","v":{"$error":"#N/A"}},{"$f":"F59","v":{"$error":"#N/A"}},{"$f":"G59","v":{"$error":"#N/A"}}]
[null,"Location",{"$f":"C58-(0.45*C59)","v":{"$error":"#DIV/0!"}},null,null,null,{"$f":"IF(G58<G59,IF(G58<J58,\"GUMBEL\",\"\"),\"\")","v":{"$error":"#N/A"}},null,null,{"$f":"IF(J58<J59,IF(J58<G58,\"NORMAL\",\"\"),\"\")","v":{"$error":"#N/A"}}]
[null,"Scale",{"$f":"0.7797*C59","v":{"$error":"#DIV/0!"}},null,null,null,null,{"$f":"\"เดือน \"&D4&\" เป็นการแจกแจงแบบ \"&G60&J60","v":{"$error":"#N/A"}}]
[null,"MEAN Y",{"$f":"AVERAGE(K7:K17)","v":{"$error":"#DIV/0!"}}]
[null,"STD. Y",{"$f":"STDEV(K7:K17)","v":{"$error":"#DIV/0!"}}]
[null,"MAX X",{"$f":"MAX(D7:D57)","v":0},null,{"$f":"\"ดังนั้น ปริมาณน้ำไหลเข้าอ่างเก็บน้ำสุทธิในเดือน \"&D4&\" จะเหมาะสมกับการแจกแจงแบบ \" &G60&J60&\" ที่ระดับนัยสำคัญ \"&OFFSET('หา NRI'!A48,MATCH(G59,'หา NRI'!G49:G52,0),0,1,1)*100&\"%\"","v":{"$error":"#N/A"}}]
[null,"MIN X",{"$f":"MIN(D7:D57)","v":0}]
[null,null,null,null,null,null,null,null,"แนะนำกว้าง",{"$f":"ROUND(($L$68-$L$69)/$J$68,0)","v":0}]
[null," 7.  สร้างเส้นโค้งของการแจกแจง NRI",null,null,null,null,null,null,"กว้างชั้นละ",150,"Max - Min"]
[null,null,"Range; R =",{"$f":"C64-C65","v":0},"Class Interval ; CI =",null,{"$f":"D68/D69","v":0},null,"จำนวนชั้น",4,"MAX X",{"$f":"C64","v":0}]
[null,null,"Class ; C =",{"$f":"J68","v":4},null,null,null,null,"เริ่มที่",0,"MIN X",{"$f":"C65","v":0}]
[null,"Class","Class Interval","Mid-Range",null,"(Xi)*ni","(X(i))^2","ni*(X(i))^2"]
[null,"(i)","(mcm.)","(Xi)"]
[null,1,{"$f":"IF(B72<=$J$68,\"(\"&J69&\")-(\"&K72&\")\",\"\")","v":"(0)-(150)"},{"$f":"IF(B72<=$J$68,(J69+K72)/2,\"\")","v":75},{"$f":"IF(B72<=$J$68,M72,\"\")","v":0},{"$f":"IF(B72<=$J$68,D72*E72,\"\")","v":0},{"$f":"IF(B72<=$J$68,D72^2,\"\")","v":5625},{"$f":"IF(B72<=$J$68,E72*G72,\"\")","v":0},{"$f":"IF(B72<=$D$69,1,0)","v":1},{"$f":"J69","v":0},{"$f":"$J$69+(B72*$J$67)","v":150},{"$f":"COUNTIF($C$7:$C$45,\"<\"&J73-0.5)","v":0},{"$f":"L72","v":0}]
[null,{"$f":"IF(B72+1<=J68,B72+1,\"\")","v":2},{"$f":"IF(B73<=$J$68,IF(I74=1,\"(\"&J73&\")-(\"&K73&\")\",\">\"&J73),\"\")","v":"(151)-(300)"},{"$f":"IF(B73<=$J$68,(J73+K73)/2,\"\")","v":225.5},0,0,50850.25,0,1,{"$f":"IF(I73=1,K72+1,9999)","v":151},300,{"$f":"COUNTIF($C$7:$C$45,\"<\"&J74-0.5)","v":0},{"$f":"L73-L72","v":0}]
[null,{"$f":"B73+1","v":3},"(301)-(450)",375.5,0,0,141000.25,0,1,301,450,0,0]
[null,4,">451",525.5,0,0,276150.25,0,1,451,600,0,0]
[null,5,"","","","","","",0,9999,750,0,0]
[null,6,"","","","","","",0,9999,900,0,0]
[null,7,"","","","","","",0,9999,1050,0,0]
[null,8,"","","","","","",0,9999,1200,0,0]
[null,9,"","","","","","",0,9999,1350,0,0]
[null,10,"","","","","","",0,9999,1500,0,0]
[null,11,"","","","","","",0,9999,1650,0,0]
[null,12,"","","","","","",0,9999,1800,0,0]
[null,13,"","","","","","",0,9999,1950,0,0]
[null,14,"","","","","","",0,9999,2100,0,0]
[null,15,"","","","","","",0,9999,2250,0,0]
[null,16,"","","","","","",0,9999,2400,0,0]
[null,17,"","","","","","",0,9999,2550,{"$f":"COUNTIF($C$7:$C$45,\"<\"&J89-0.5)","v":0},0]
[null,"SUM",null,null,{"$f":"SUM(E72:E88)","v":0},{"$f":"SUM(F72:F88)","v":0},{"$f":"SUM(G72:G88)","v":473625.75},{"$f":"SUM(H72:H88)","v":0},null,9999]
[null,null,"Mean",{"$f":"F89/E89","v":{"$error":"#DIV/0!"}},"(Mean)^2",{"$f":"D90*D90","v":{"$error":"#DIV/0!"}},"Location",{"$f":"D90-(0.45*D91)","v":{"$error":"#DIV/0!"}}]
[null,null,"STD.",{"$f":"((H89/E89)-F90)^0.5","v":{"$error":"#DIV/0!"}},null,null,"Scale",{"$f":"0.7797*D91","v":{"$error":"#DIV/0!"}}]
[]
[null,{"$f":"\"การแจกแจงแบบ \"&G60&J60&\" กับปริมาณน้ำท่าสุทธิเดือน \"&D4&\" ของอ่าง\"&L2","v":{"$error":"#N/A"}},null,null,null,null,null,null,null,"ตารางแจกแจงความถี่"]
[null,"Class","Class Interval",null,null,null,null,null,null,"Class","p(Xi)",0.05,0.1,0.15]
[null,"(i)","(mcm.)",null,null,null,{"$f":"G60&J60","v":{"$error":"#N/A"}}]
[null,{"$f":"B72","v":1},{"$f":"IF(B96<=$J$68,C72,\"\")","v":"(0)-(150)"},{"$f":"IF(B96<=$J$68,E72,\"\")","v":0},{"$f":"IF(B96<=$J$68,D96/$D$113,\"\")","v":{"$error":"#DIV/0!"}},{"$f":"IF(B96<=$J$68,E96,\"\")","v":{"$error":"#DIV/0!"}},{"$f":"IF(B96<=$J$68,IF($G$60=\"GUMBEL\",EXP(-EXP(-(J96-$H$90)/$H$91)),NORMDIST(J96,$D$90,$D$91,TRUE)),\"\")","v":{"$error":"#N/A"}},{"$f":"IF(B96<=$J$68,G96,\"\")","v":{"$error":"#N/A"}},null,{"$f":"K72","v":150},{"$f":"H96","v":{"$error":"#N/A"}},0.05,0.1,0.15]
[null,{"$f":"B96+1","v":2},"(151)-(300)",0,{"$error":"#DIV/0!"},{"$f":"IF(B97<=$J$68,E97+F96,\"\")","v":{"$error":"#DIV/0!"}},{"$error":"#N/A"},{"$f":"IF(B97<=$J$68,G97-G96,\"\")","v":{"$error":"#N/A"}},null,{"$f":"K73","v":300},{"$f":"H97","v":{"$error":"#N/A"}},0.05,0.1,0.15]
[null,3,"(301)-(450)",0,{"$error":"#DIV/0!"},{"$error":"#DIV/0!"},{"$error":"#N/A"},{"$error":"#N/A"},null,{"$f":"K74","v":450},{"$error":"#N/A"},0.05,0.1,0.15]
[null,4,">451",0,{"$error":"#DIV/0!"},{"$error":"#DIV/0!"},{"$error":"#N/A"},{"$error":"#N/A"},null,600,{"$error":"#N/A"},0.05,0.1,0.15]
[null,5,"","","","","","",null,750,"",0.05,0.1,0.15]
[null,6,"","","","","","",null,900,"",0.05,0.1,0.15]
[null,7,"","","","","","",null,1050,"",0.05,0.1,0.15]
[null,8,"","","","","","",null,1200,"",0.05,0.1,0.15]
[null,9,"","","","","","",null,1350,"",0.05,0.1,0.15]
[null,10,"","","","","","",null,1500,"",0.05,0.1,0.15]
[null,11,"","","","","","",null,1650,"",0.05,0.1,0.15]
[null,12,"","","","","","",null,1800,"",0.05,0.1,0.15]
[null,13,"","","","","","",null,1950,"",0.05,0.1,0.15]
[null,14,"","","","","","",null,2100,"",0.05,0.1,0.15]
[null,15,"","","","","","",null,2250,"",0.05,0.1,0.15]
[null,16,"","","","","","",null,2400,"",0.05,0.1,0.15]
[null,17,"","","","","","",null,2550,"",0.05,0.1,0.15]
[null,null,"Sum",{"$f":"SUM(D96:D112)","v":0},{"$f":"SUM(E96:E112)","v":{"$error":"#DIV/0!"}},null,null,{"$f":"SUM(H96:H112)","v":{"$error":"#N/A"}}]
[]
[{"$f":"\"8. หาค่าVolume of Flood Control Reserve ของเดือน\"&D4&\"ที่ค่าความเสี่ยงต่างๆ จากกราฟการแจกแจงความน่าจะเป็น\"","v":"8. หาค่าVolume of Flood Control Reserve ของเดือนพฤษจิกายนที่ค่าความเสี่ยงต่างๆ จากกราฟการแจกแจงความน่าจะเป็น"}]
[]
[]
[]
[]
[]
[]
[]
[]
[]
[]
[null,null,null,null,null,null,null,null,null,"P(NRIt>VFCt)< Risk"]
[null,null,null,null,null,null,null,null,null,{"$f":"IF(NRI!L54<0,\"Volume Buffer\",\"Volum Flood Control\")","v":{"$error":"#DIV/0!"}}]
[null,null,null,null,null,null,null,null,null,"Risk(%)",{"$f":"IF(NRI!L54<0,\"VBUF(mcm)\",\"VFC(mcm)\")","v":{"$error":"#DIV/0!"}},null,"X-Axis","X-ordinate","Y-Axis","Y-ordinate"]
[null,null,null,null,null,null,null,null,null,15,480,null,"X1=",374,"Y1=",0.15912074047763369]
[null,null,null,null,null,null,null,null,null,10,545,null,"X2=",475,"Y2=",0.13117031761875575]
[null,null,null,null,null,null,null,null,null,5,630,null,"X0=",{"$f":"N129-((N129-N130)*(P129-P131)/(P129-P130))","v":406.95817000308466},"Y0=",0.15]

{"sheet":"ธ.ค.","index":20,"n_rows":131,"n_cols":16,"rows_kept":131,"cut":false,"hidden":true,"merged":[[125,9,125,12],[60,7,61,12],[63,4,63,14],[67,4,67,5],[88,1,88,3],[93,11,94,11],[93,12,94,12],[93,13,94,13],[66,10,66,11],[93,9,94,9],[93,10,94,10],[92,9,92,13]]}
[]
[null,"6. การหาค่าสถิติและการทดสอบความเหมาะสมของ Distribution Function กับข้อมูล Net Reservoir Inflow(NIR)",null,null,null,null,null,null,null,null,null,{"$f":"NRI!O1","v":0}]
[]
[null,12,"Dec","ธันวาคม"]
[null,null,null,null,"Empirical","GUMBEL",null,"NORMAL",null,null,"LOG-NORMAL"]
[null,"No.","NRI","(X)","F'(X)","F(x)","F'(X)-F(X)","Z","F(x)","F'(X)-F(X)","Y","F(x)","F'(X)-f(X)"]
[null,{"$f":"IF(1<='หา NRI'!$D$58,1,\"\")","v":1},{"$f":"IF(NRI!N82=\"\",\"\",NRI!N82)","v":""},{"$f":"IF(C7=\"\",\"\",SMALL(OFFSET($C$7,0,0,'หา NRI'!$D$58,1),B7))","v":""},{"$f":"IF(C7=\"\",\"\",B7/(COUNT($B$7:$B$57)+1))","v":""},{"$f":"IF(C7=\"\",\"\",EXP(-EXP(-(D7-$C$60)/$C$61)))","v":""},{"$f":"IF(C7=\"\",\"\",ABS(E7-F7))","v":""},{"$f":"IF(C7=\"\",\"\",(D7-$C$58)/$C$59)","v":""},{"$f":"IF(C7=\"\",\"\",NORMSDIST(H7))","v":""},{"$f":"IF(C7=\"\",\"\",ABS(E7-I7))","v":""},{"$f":"IF(C7=\"\",\"\",(LN(D7)))","v":""},{"$f":"IF(C7=\"\",\"\",(LOGNORMDIST(D7,$C$61,$C$62)))","v":""},{"$f":"IF(C7=\"\",\"\",(ABS(E7-L7)))","v":""}]
[null,{"$f":"IF(B7=\"\",\"\",IF(B7+1<='หา NRI'!$D$58,B7+1,\"\"))","v":2},{"$f":"IF(NRI!N83=\"\",\"\",NRI!N83)","v":""},{"$f":"IF(C8=\"\",\"\",SMALL(OFFSET($C$7,0,0,'หา NRI'!$D$58,1),B8))","v":""},{"$f":"IF(C8=\"\",\"\",B8/(COUNT($B$7:$B$57)+1))","v":""},{"$f":"IF(C8=\"\",\"\",EXP(-EXP(-(D8-$C$60)/$C$61)))","v":""},{"$f":"IF(C8=\"\",\"\",ABS(E8-F8))","v":""},{"$f":"IF(C8=\"\",\"\",(D8-$C$58)/$C$59)","v":""},{"$f":"IF(C8=\"\",\"\",NORMSDIST(H8))","v":""},{"$f":"IF(C8=\"\",\"\",ABS(E8-I8))","v":""},{"$f":"IF(C8=\"\",\"\",(LN(D8)))","v":""},{"$f":"IF(C8=\"\",\"\",(LOGNORMDIST(D8,$C$61,$C$62)))","v":""},{"$f":"IF(C8=\"\",\"\",(ABS(E8-L8)))","v":""}]
[null,{"$f":"IF(B8=\"\",\"\",IF(B8+1<='หา NRI'!$D$58,B8+1,\"\"))","v":3},{"$f":"IF(NRI!N84=\"\",\"\",NRI!N84)","v":""},{"$f":"IF(C9=\"\",\"\",SMALL(OFFSET($C$7,0,0,'หา NRI'!$D$58,1),B9))","v":""},"","","","","","","","",""]
[null,{"$f":"IF(B9=\"\",\"\",IF(B9+1<='หา NRI'!$D$58,B9+1,\"\"))","v":4},{"$f":"IF(NRI!N85=\"\",\"\",NRI!N85)","v":""},{"$f":"IF(C10=\"\",\"\",SMALL(OFFSET($C$7,0,0,'หา NRI'!$D$58,1),B10))","v":""},"","","","","","","","",""]
[null,{"$f":"IF(B10=\"\",\"\",IF(B10+1<='หา NRI'!$D$58,B10+1,\"\"))","v":""},{"$f":"IF(NRI!N86=\"\",\"\",NRI!N86)","v":""},{"$f":"IF(C11=\"\",\"\",SMALL(OFFSET($C$7,0,0,'หา NRI'!$D$58,1),B11))","v":""},"","","","","","","","",""]
[null,{"$f":"IF(B11=\"\",\"\",IF(B11+1<='หา NRI'!$D$58,B11+1,\"\"))","v":""},{"$f":"IF(NRI!N87=\"\",\"\",NRI!N87)","v":""},{"$f":"IF(C12=\"\",\"\",SMALL(OFFSET($C$7,0,0,'หา NRI'!$D$58,1),B12))","v":""},"","","","","","","","",""]
[null,{"$f":"IF(B12=\"\",\"\",IF(B12+1<='หา NRI'!$D$58,B12+1,\"\"))","v":""},{"$f":"IF(NRI!N88=\"\",\"\",NRI!N88)","v":""},{"$f":"IF(C13=\"\",\"\",SMALL(OFFSET($C$7,0,0,'หา NRI'!$D$58,1),B13))","v":""},"","","","","","","","",""]
[null,{"$f":"IF(B13=\"\",\"\",IF(B13+1<='หา NRI'!$D$58,B13+1,\"\"))","v":""},{"$f":"IF(NRI!N89=\"\",\"\",NRI!N89)","v":""},{"$f":"IF(C14=\"\",\"\",SMALL(OFFSET($C$7,0,0,'หา NRI'!$D$58,1),B14))","v":""},"","","","","","","","",""]
[null,{"$f":"IF(B14=\"\",\"\",IF(B14+1<='หา NRI'!$D$58,B14+1,\"\"))","v":""},{"$f":"IF(NRI!N90=\"\",\"\",NRI!N90)","v":""},{"$f":"IF(C15=\"\",\"\",SMALL(OFFSET($C$7,0,0,'หา NRI'!$D$58,1),B15))","v":""},"","","","","","","","",""]
[null,{"$f":"IF(B15=\"\",\"\",IF(B15+1<='หา NRI'!$D$58,B15+1,\"\"))","v":""},{"$f":"IF(NRI!N91=\"\",\"\",NRI!N91)","v":""},{"$f":"IF(C16=\"\",\"\",SMALL(OFFSET($C$7,0,0,'หา NRI'!$D$58,1),B16))","v":""},"","","","","","","","",""]
[null,{"$f":"IF(B16=\"\",\"\",IF(B16+1<='หา NRI'!$D$58,B16+1,\"\"))","v":""},{"$f":"IF(NRI!N92=\"\",\"\",NRI!N92)","v":""},{"$f":"IF(C17=\"\",\"\",SMALL(OFFSET($C$7,0,0,'หา NRI'!$D$58,1),B17))","v":""},"","","","","","","","",""]
[null,{"$f":"IF(B17=\"\",\"\",IF(B17+1<='หา NRI'!$D$58,B17+1,\"\"))","v":""},{"$f":"IF(NRI!N93=\"\",\"\",NRI!N93)","v":""},{"$f":"IF(C18=\"\",\"\",SMALL(OFFSET($C$7,0,0,'หา NRI'!$D$58,1),B18))","v":""},"","","","","","","","",""]
[null,{"$f":"IF(B18=\"\",\"\",IF(B18+1<='หา NRI'!$D$58,B18+1,\"\"))","v":""},{"$f":"IF(NRI!N94=\"\",\"\",NRI!N94)","v":""},{"$f":"IF(C19=\"\",\"\",SMALL(OFFSET($C$7,0,0,'หา NRI'!$D$58,1),B19))","v":""},"","","","","","","","",""]
[null,{"$f":"IF(B19=\"\",\"\",IF(B19+1<='หา NRI'!$D$58,B19+1,\"\"))","v":""},{"$f":"IF(NRI!N95=\"\",\"\",NRI!N95)","v":""},{"$f":"IF(C20=\"\",\"\",SMALL(OFFSET($C$7,0,0,'หา NRI'!$D$58,1),B20))","v":""},"","","","","","","","",""]
[null,{"$f":"IF(B20=\"\",\"\",IF(B20+1<='หา NRI'!$D$58,B20+1,\"\"))","v":""},{"$f":"IF(NRI!N96=\"\",\"\",NRI!N96)","v":""},{"$f":"IF(C21=\"\",\"\",SMALL(OFFSET($C$7,0,0,'หา NRI'!$D$58,1),B21))","v":""},"","","","","","","","",""]
[null,{"$f":"IF(B21=\"\",\"\",IF(B21+1<='หา NRI'!$D$58,B21+1,\"\"))","v":""},{"$f":"IF(NRI!N97=\"\",\"\",NRI!N97)","v":""},{"$f":"IF(C22=\"\",\"\",SMALL(OFFSET($C$7,0,0,'หา NRI'!$D$58,1),B22))","v":""},"","","","","","","","",""]
[null,{"$f":"IF(B22=\"\",\"\",IF(B22+1<='หา NRI'!$D$58,B22+1,\"\"))","v":""},{"$f":"IF(NRI!N98=\"\",\"\",NRI!N98)","v":""},{"$f":"IF(C23=\"\",\"\",SMALL(OFFSET($C$7,0,0,'หา NRI'!$D$58,1),B23))","v":""},"","","","","","","","",""]
[null,{"$f":"IF(B23=\"\",\"\",IF(B23+1<='หา NRI'!$D$58,B23+1,\"\"))","v":""},{"$f":"IF(NRI!N99=\"\",\"\",NRI!N99)","v":""},{"$f":"IF(C24=\"\",\"\",SMALL(OFFSET($C$7,0,0,'หา NRI'!$D$58,1),B24))","v":""},"","","","","","","","",""]
[null,{"$f":"IF(B24=\"\",\"\",IF(B24+1<='หา NRI'!$D$58,B24+1,\"\"))","v":""},{"$f":"IF(NRI!N100=\"\",\"\",NRI!N100)","v":""},{"$f":"IF(C25=\"\",\"\",SMALL(OFFSET($C$7,0,0,'หา NRI'!$D$58,1),B25))","v":""},"","","","","","","","",""]
[null,{"$f":"IF(B25=\"\",\"\",IF(B25+1<='หา NRI'!$D$58,B25+1,\"\"))","v":""},{"$f":"IF(NRI!N101=\"\",\"\",NRI!N101)","v":""},{"$f":"IF(C26=\"\",\"\",SMALL(OFFSET($C$7,0,0,'หา NRI'!$D$58,1),B26))","v":""},"","","","","","","","",""]
[null,{"$f":"IF(B26=\"\",\"\",IF(B26+1<='หา NRI'!$D$58,B26+1,\"\"))","v":""},{"$f":"IF(NRI!N102=\"\",\"\",NRI!N102)","v":""},{"$f":"IF(C27=\"\",\"\",SMALL(OFFSET($C$7,0,0,'หา NRI'!$D$58,1),B27))","v":""},"","","","","","","","",""]
[null,{"$f":"IF(B27=\"\",\"\",IF(B27+1<='หา NRI'!$D$58,B27+1,\"\"))","v":""},{"$f":"IF(NRI!N103=\"\",\"\",NRI!N103)","v":""},{"$f":"IF(C28=\"\",\"\",SMALL(OFFSET($C$7,0,0,'หา NRI'!$D$58,1),B28))","v":""},"","","","","","","","",""]
[null,{"$f":"IF(B28=\"\",\"\",IF(B28+1<='หา NRI'!$D$58,B28+1,\"\"))","v":""},{"$f":"IF(NRI!N104=\"\",\"\",NRI!N104)","v":""},{"$f":"IF(C29=\"\",\"\",SMALL(OFFSET($C$7,0,0,'หา NRI'!$D$58,1),B29))","v":""},"","","","","","","","",""]
[null,{"$f":"IF(B29=\"\",\"\",IF(B29+1<='หา NRI'!$D$58,B29+1,\"\"))","v":""},{"$f":"IF(NRI!N105=\"\",\"\",NRI!N105)","v":""},{"$f":"IF(C30=\"\",\"\",SMALL(OFFSET($C$7,0,0,'หา NRI'!$D$58,1),B30))","v":""},"","","","","","","","",""]
[null,{"$f":"IF(B30=\"\",\"\",IF(B30+1<='หา NRI'!$D$58,B30+1,\"\"))","v":""},{"$f":"IF(NRI!N106=\"\",\"\",NRI!N106)","v":""},{"$f":"IF(C31=\"\",\"\",SMALL(OFFSET($C$7,0,0,'หา NRI'!$D$58,1),B31))","v":""},"","","","","","","","",""]
[null,{"$f":"IF(B31=\"\",\"\",IF(B31+1<='หา NRI'!$D$58,B31+1,\"\"))","v":""},{"$f":"IF(NRI!N107=\"\",\"\",NRI!N107)","v":""},{"$f":"IF(C32=\"\",\"\",SMALL(OFFSET($C$7,0,0,'หา NRI'!$D$58,1),B32))","v":""},"","","","","","","","",""]
[null,{"$f":"IF(B32=\"\",\"\",IF(B32+1<='หา NRI'!$D$58,B32+1,\"\"))","v":""},{"$f":"IF(NRI!N108=\"\",\"\",NRI!N108)","v":""},{"$f":"IF(C33=\"\",\"\",SMALL(OFFSET($C$7,0,0,'หา NRI'!$D$58,1),B33))","v":""},"","","","","","","","",""]
[null,{"$f":"IF(B33=\"\",\"\",IF(B33+1<='หา NRI'!$D$58,B33+1,\"\"))","v":""},{"$f":"IF(NRI!N109=\"\",\"\",NRI!N109)","v":""},{"$f":"IF(C34=\"\",\"\",SMALL(OFFSET($C$7,0,0,'หา NRI'!$D$58,1),B34))","v":""},"","","","","","","","",""]
[null,{"$f":"IF(B34=\"\",\"\",IF(B34+1<='หา NRI'!$D$58,B34+1,\"\"))","v":""},{"$f":"IF(NRI!N110=\"\",\"\",NRI!N110)","v":""},{"$f":"IF(C35=\"\",\"\",SMALL(OFFSET($C$7,0,0,'หา NRI'!$D$58,1),B35))","v":""},"","","","","","","","",""]
[null,{"$f":"IF(B35=\"\",\"\",IF(B35+1<='หา NRI'!$D$58,B35+1,\"\"))","v":""},{"$f":"IF(NRI!N111=\"\",\"\",NRI!N111)","v":""},{"$f":"IF(C36=\"\",\"\",SMALL(OFFSET($C$7,0,0,'หา NRI'!$D$58,1),B36))","v":""},"","","","","","","","",""]
[null,{"$f":"IF(B36=\"\",\"\",IF(B36+1<='หา NRI'!$D$58,B36+1,\"\"))","v":""},{"$f":"IF(NRI!N112=\"\",\"\",NRI!N112)","v":""},{"$f":"IF(C37=\"\",\"\",SMALL(OFFSET($C$7,0,0,'หา NRI'!$D$58,1),B37))","v":""},"","","","","","","","",""]
[null,{"$f":"IF(B37=\"\",\"\",IF(B37+1<='หา NRI'!$D$58,B37+1,\"\"))","v":""},{"$f":"IF(NRI!N113=\"\",\"\",NRI!N113)","v":""},{"$f":"IF(C38=\"\",\"\",SMALL(OFFSET($C$7,0,0,'หา NRI'!$D$58,1),B38))","v":""},"","","","","","","","",""]
[null,{"$f":"IF(B38=\"\",\"\",IF(B38+1<='หา NRI'!$D$58,B38+1,\"\"))","v":""},{"$f":"IF(NRI!N114=\"\",\"\",NRI!N114)","v":""},{"$f":"IF(C39=\"\",\"\",SMALL(OFFSET($C$7,0,0,'หา NRI'!$D$58,1),B39))","v":""},"","","","","","","","",""]
[null,{"$f":"IF(B39=\"\",\"\",IF(B39+1<='หา NRI'!$D$58,B39+1,\"\"))","v":""},{"$f":"IF(NRI!N115=\"\",\"\",NRI!N115)","v":""},{"$f":"IF(C40=\"\",\"\",SMALL(OFFSET($C$7,0,0,'หา NRI'!$D$58,1),B40))","v":""},"","","","","","","","",""]
[null,{"$f":"IF(B40=\"\",\"\",IF(B40+1<='หา NRI'!$D$58,B40+1,\"\"))","v":""},{"$f":"IF(NRI!N116=\"\",\"\",NRI!N116)","v":""},{"$f":"IF(C41=\"\",\"\",SMALL(OFFSET($C$7,0,0,'หา NRI'!$D$58,1),B41))","v":""},"","","","","","","","",""]
[null,{"$f":"IF(B41=\"\",\"\",IF(B41+1<='หา NRI'!$D$58,B41+1,\"\"))","v":""},{"$f":"IF(NRI!N117=\"\",\"\",NRI!N117)","v":""},{"$f":"IF(C42=\"\",\"\",SMALL(OFFSET($C$7,0,0,'หา NRI'!$D$58,1),B42))","v":""},"","","","","","","","",""]
[null,{"$f":"IF(B42=\"\",\"\",IF(B42+1<='หา NRI'!$D$58,B42+1,\"\"))","v":""},{"$f":"IF(NRI!N118=\"\",\"\",NRI!N118)","v":""},{"$f":"IF(C43=\"\",\"\",SMALL(OFFSET($C$7,0,0,'หา NRI'!$D$58,1),B43))","v":""},"","","","","","","","",""]
[null,{"$f":"IF(B43=\"\",\"\",IF(B43+1<='หา NRI'!$D$58,B43+1,\"\"))","v":""},{"$f":"IF(NRI!N119=\"\",\"\",NRI!N119)","v":""},{"$f":"IF(C44=\"\",\"\",SMALL(OFFSET($C$7,0,0,'หา NRI'!$D$58,1),B44))","v":""},"","","","","","","","",""]
[null,{"$f":"IF(B44=\"\",\"\",IF(B44+1<='หา NRI'!$D$58,B44+1,\"\"))","v":""},{"$f":"IF(NRI!N120=\"\",\"\",NRI!N120)","v":""},{"$f":"IF(C45=\"\",\"\",SMALL(OFFSET($C$7,0,0,'หา NRI'!$D$58,1),B45))","v":""},"","","","","","","","",""]
[null,{"$f":"IF(B45=\"\",\"\",IF(B45+1<='หา NRI'!$D$58,B45+1,\"\"))","v":""},{"$f":"IF(NRI!N121=\"\",\"\",NRI!N121)","v":""},{"$f":"IF(C46=\"\",\"\",SMALL(OFFSET($C$7,0,0,'หา NRI'!$D$58,1),B46))","v":""},"","","","","","","","",""]
[null,{"$f":"IF(B46=\"\",\"\",IF(B46+1<='หา NRI'!$D$58,B46+1,\"\"))","v":""},{"$f":"IF(NRI!N122=\"\",\"\",NRI!N122)","v":""},{"$f":"IF(C47=\"\",\"\",SMALL(OFFSET($C$7,0,0,'หา NRI'!$D$58,1),B47))","v":""},"","","","","","","","",""]
[null,{"$f":"IF(B47=\"\",\"\",IF(B47+1<='หา NRI'!$D$58,B47+1,\"\"))","v":""},{"$f":"IF(NRI!N123=\"\",\"\",NRI!N123)","v":""},{"$f":"IF(C48=\"\",\"\",SMALL(OFFSET($C$7,0,0,'หา NRI'!$D$58,1),B48))","v":""},"","","","","","","","",""]
[null,{"$f":"IF(B48=\"\",\"\",IF(B48+1<='หา NRI'!$D$58,B48+1,\"\"))","v":""},{"$f":"IF(NRI!N124=\"\",\"\",NRI!N124)","v":""},{"$f":"IF(C49=\"\",\"\",SMALL(OFFSET($C$7,0,0,'หา NRI'!$D$58,1),B49))","v":""},"","","","","","","","",""]
[null,{"$f":"IF(B49=\"\",\"\",IF(B49+1<='หา NRI'!$D$58,B49+1,\"\"))","v":""},{"$f":"IF(NRI!N125=\"\",\"\",NRI!N125)","v":""},{"$f":"IF(C50=\"\",\"\",SMALL(OFFSET($C$7,0,0,'หา NRI'!$D$58,1),B50))","v":""},"","","","","","","","",""]
[null,{"$f":"IF(B50=\"\",\"\",IF(B50+1<='หา NRI'!$D$58,B50+1,\"\"))","v":""},{"$f":"IF(NRI!N126=\"\",\"\",NRI!N126)","v":""},{"$f":"IF(C51=\"\",\"\",SMALL(OFFSET($C$7,0,0,'หา NRI'!$D$58,1),B51))","v":""},"","","","","","","","",""]
[null,{"$f":"IF(B51=\"\",\"\",IF(B51+1<='หา NRI'!$D$58,B51+1,\"\"))","v":""},{"$f":"IF(NRI!N127=\"\",\"\",NRI!N127)","v":""},{"$f":"IF(C52=\"\",\"\",SMALL(OFFSET($C$7,0,0,'หา NRI'!$D$58,1),B52))","v":""},"","","","","","","","",""]
[null,{"$f":"IF(B52=\"\",\"\",IF(B52+1<='หา NRI'!$D$58,B52+1,\"\"))","v":""},{"$f":"IF(NRI!N128=\"\",\"\",NRI!N128)","v":""},{"$f":"IF(C53=\"\",\"\",SMALL(OFFSET($C$7,0,0,'หา NRI'!$D$58,1),B53))","v":""},"","","","","","","","",""]
[null,{"$f":"IF(B53=\"\",\"\",IF(B53+1<='หา NRI'!$D$58,B53+1,\"\"))","v":""},{"$f":"IF(NRI!N129=\"\",\"\",NRI!N129)","v":""},{"$f":"IF(C54=\"\",\"\",SMALL(OFFSET($C$7,0,0,'หา NRI'!$D$58,1),B54))","v":""},"","","","","","","","",""]
[null,{"$f":"IF(B54=\"\",\"\",IF(B54+1<='หา NRI'!$D$58,B54+1,\"\"))","v":""},{"$f":"IF(NRI!N130=\"\",\"\",NRI!N130)","v":""},{"$f":"IF(C55=\"\",\"\",SMALL(OFFSET($C$7,0,0,'หา NRI'!$D$58,1),B55))","v":""},"","","","","","","","",""]
[null,{"$f":"IF(B55=\"\",\"\",IF(B55+1<='หา NRI'!$D$58,B55+1,\"\"))","v":""},{"$f":"IF(NRI!N131=\"\",\"\",NRI!N131)","v":""},{"$f":"IF(C56=\"\",\"\",SMALL(OFFSET($C$7,0,0,'หา NRI'!$D$58,1),B56))","v":""},"","","","","","","","",""]
[null,{"$f":"IF(B56=\"\",\"\",IF(B56+1<='หา NRI'!$D$58,B56+1,\"\"))","v":""},{"$f":"IF(NRI!N132=\"\",\"\",NRI!N132)","v":""},{"$f":"IF(C57=\"\",\"\",SMALL(OFFSET($C$7,0,0,'หา NRI'!$D$58,1),B57))","v":""},"","","","","","","","",""]
[null,"MEAN",{"$f":"AVERAGE(C7:C57)","v":{"$error":"#DIV/0!"}},null,null,"MAX",{"$f":"MAX(G7:G57)","v":0},null,"MAX",{"$f":"MAX(J7:J57)","v":0},null,"MAX",{"$f":"MAX(M7:M17)","v":0}]
[null,"STD.",{"$f":"STDEV(C7:C57)","v":{"$error":"#DIV/0!"}},null,null,{"$f":"\"Delta \"&COUNT(B7:B57)&\", \"&OFFSET('หา NRI'!A48,MATCH(G59,'หา NRI'!G49:G52,0),0,1,1)*100&\"%\"","v":{"$error":"#N/A"}},{"$f":"IF('หา NRI'!G50>G58,'หา NRI'!G50,'หา NRI'!G49)","v":{"$error":"#N/A"}},{"$f":"IF(G58<G59,\"ok\",\"\")","v":{"$error":"#N/A"}},{"$f":"F59","v":{"$error":"#N/A"}},{"$f":"G59","v":{"$error":"#N/A"}},{"$f":"IF(G58<G59,\"ok\",\"\")","v":{"$error":"#N/A"}},{"$f":"F59","v":{"$error":"#N/A"}},{"$f":"G59","v":{"$error":"#N/A"}}]
[null,"Location",{"$f":"C58-(0.45*C59)","v":{"$error":"#DIV/0!"}},null,null,null,{"$f":"IF(G58<G59,IF(G58<J58,\"GUMBEL\",\"\"),\"\")","v":{"$error":"#N/A"}},null,null,{"$f":"IF(J58<J59,IF(J58<G58,\"NORMAL\",\"\"),\"\")","v":{"$error":"#N/A"}}]
[null,"Scale",{"$f":"0.7797*C59","v":{"$error":"#DIV/0!"}},null,null,null,null,{"$f":"\"เดือน\"&D4&\"เป็นการแจกแจงแบบ  \"&G60&J60","v":{"$error":"#N/A"}}]
[null,"MEAN Y",{"$f":"AVERAGE(K7:K17)","v":{"$error":"#DIV/0!"}}]
[null,"STD. Y",{"$f":"STDEV(K7:K17)","v":{"$error":"#DIV/0!"}}]
[null,"MAX X",{"$f":"MAX(D7:D57)","v":0},null,{"$f":"\"ดังนั้น ปริมาณน้ำไหลเข้าอ่างเก็บน้ำสุทธิในเดือน \"&D4&\" จะเหมาะสมกับการแจกแจงแบบ \" &G60&J60&\" ที่ระดับนัยสำคัญ \"&OFFSET('หา NRI'!A48,MATCH(G59,'หา NRI'!G49:G52,0),0,1,1)*100&\"%\"","v":{"$error":"#N/A"}}]
[null,"MIN X",{"$f":"MIN(D7:D57)","v":0}]
[null,null,null,null,null,null,null,null,"แนะนำกว้าง",{"$f":"ROUND(($L$68-$L$69)/J67,0)","v":0}]
[null," 7.  สร้างเส้นโค้งของการแจกแจง NRI",null,null,null,null,null,null,"กว้างชั้นละ",200,"Max - Min"]
[null,null,"Range; R =",{"$f":"C64-C65","v":0},"Class Interval ; CI =",null,{"$f":"D68/D69","v":0},null,"จำนวนชั้น",4,"MAX X",{"$f":"C64","v":0}]
[null,null,"Class ; C =",{"$f":"J68","v":4},null,null,null,null,"เริ่มที่",-100,"MIN X",{"$f":"C65","v":0}]
[null,"Class","Class Interval","Mid-Range",null,"(Xi)*ni","(X(i))^2","ni*(X(i))^2"]
[null,"(i)","(mcm.)","(Xi)"]
[null,1,{"$f":"IF(B72<=$J$68,\"(\"&J69&\")-(\"&K72&\")\",\"\")","v":"(-100)-(100)"},{"$f":"IF(B72<=$J$68,(J69+K72)/2,\"\")","v":0},{"$f":"IF(B72<=$J$68,M72,\"\")","v":0},{"$f":"IF(B72<=$J$68,D72*E72,\"\")","v":0},{"$f":"IF(B72<=$J$68,D72^2,\"\")","v":0},{"$f":"IF(B72<=$J$68,E72*G72,\"\")","v":0},{"$f":"IF(B72<=$D$69,1,0)","v":1},{"$f":"J69","v":-100},{"$f":"$J$69+(B72*$J$67)","v":100},{"$f":"COUNTIF($C$7:$C$45,\"<\"&J73-0.5)","v":0},{"$f":"L72","v":0}]
[null,{"$f":"IF(B72+1<=J68,B72+1,\"\")","v":2},{"$f":"IF(B73<=$J$68,IF(I74=1,\"(\"&J73&\")-(\"&K73&\")\",\">\"&J73),\"\")","v":"(101)-(300)"},{"$f":"IF(B73<=$J$68,(J73+K73)/2,\"\")","v":200.5},0,0,40200.25,0,1,{"$f":"IF(I73=1,K72+1,9999)","v":101},300,{"$f":"COUNTIF($C$7:$C$45,\"<\"&J74-0.5)","v":0},{"$f":"L73-L72","v":0}]
[null,{"$f":"B73+1","v":3},"(301)-(500)",400.5,0,0,160400.25,0,1,301,500,0,0]
[null,4,">501",600.5,0,0,360600.25,0,1,501,700,0,0]
[null,5,"","","","","","",0,9999,900,0,0]
[null,6,"","","","","","",0,9999,1100,0,0]
[null,7,"","","","","","",0,9999,1300,0,0]
[null,8,"","","","","","",0,9999,1500,0,0]
[null,9,"","","","","","",0,9999,1700,0,0]
[null,10,"","","","","","",0,9999,1900,0,0]
[null,11,"","","","","","",0,9999,2100,0,0]
[null,12,"","","","","","",0,9999,2300,0,0]
[null,13,"","","","","","",0,9999,2500,0,0]
[null,14,"","","","","","",0,9999,2700,0,0]
[null,15,"","","","","","",0,9999,2900,0,0]
[null,16,"","","","","","",0,9999,3100,0,0]
[null,17,"","","","","","",0,9999,3300,{"$f":"COUNTIF($C$7:$C$45,\"<\"&J89-0.5)","v":0},0]
[null,"SUM",null,null,{"$f":"SUM(E72:E88)","v":0},{"$f":"SUM(F72:F88)","v":0},{"$f":"SUM(G72:G88)","v":561200.75},{"$f":"SUM(H72:H88)","v":0},null,9999]
[null,null,"Mean",{"$f":"F89/E89","v":{"$error":"#DIV/0!"}},"(Mean)^2",{"$f":"D90*D90","v":{"$error":"#DIV/0!"}},"Location",{"$f":"D90-(0.45*D91)","v":{"$error":"#DIV/0!"}}]
[null,null,"STD.",{"$f":"((H89/E89)-F90)^0.5","v":{"$error":"#DIV/0!"}},null,null,"Scale",{"$f":"0.7797*D91","v":{"$error":"#DIV/0!"}}]
[]
[null,{"$f":"\"การแจกแจงแบบ \"&G60&J60&\" กับปริมาณน้ำท่าสุทธิเดือน \"&D4&\" ของอ่าง\"&L2","v":{"$error":"#N/A"}},null,null,null,null,null,null,null,"ตารางแจกแจงความถี่"]
[null,"Class","Class Interval",null,null,null,null,null,null,"Class","p(Xi)",0.05,0.1,0.15]
[null,"(i)","(mcm.)",null,null,null,{"$f":"G60&J60","v":{"$error":"#N/A"}}]
[null,{"$f":"B72","v":1},{"$f":"IF(B96<=$J$68,C72,\"\")","v":"(-100)-(100)"},{"$f":"IF(B96<=$J$68,E72,\"\")","v":0},{"$f":"IF(B96<=$J$68,D96/$D$113,\"\")","v":{"$error":"#DIV/0!"}},{"$f":"IF(B96<=$J$68,E96,\"\")","v":{"$error":"#DIV/0!"}},{"$f":"IF(B96<=$J$68,IF($G$60=\"GUMBEL\",EXP(-EXP(-(J96-$H$90)/$H$91)),NORMDIST(J96,$D$90,$D$91,TRUE)),\"\")","v":{"$error":"#N/A"}},{"$f":"IF(B96<=$J$68,G96,\"\")","v":{"$error":"#N/A"}},null,{"$f":"K72","v":100},{"$f":"H96","v":{"$error":"#N/A"}},0.05,0.1,0.15]
[null,{"$f":"B96+1","v":2},"(101)-(300)",0,{"$error":"#DIV/0!"},{"$f":"IF(B97<=$J$68,E97+F96,\"\")","v":{"$error":"#DIV/0!"}},{"$error":"#N/A"},{"$f":"IF(B97<=$J$68,G97-G96,\"\")","v":{"$error":"#N/A"}},null,{"$f":"K73","v":300},{"$f":"H97","v":{"$error":"#N/A"}},0.05,0.1,0.15]
[null,{"$f":"B97+1","v":3},"(301)-(500)",0,{"$error":"#DIV/0!"},{"$error":"#DIV/0!"},{"$error":"#N/A"},{"$error":"#N/A"},null,{"$f":"K74","v":500},{"$error":"#N/A"},0.05,0.1,0.15]
[null,4,">501",0,{"$error":"#DIV/0!"},{"$error":"#DIV/0!"},{"$error":"#N/A"},{"$error":"#N/A"},null,700,{"$error":"#N/A"},0.05,0.1,0.15]
[null,5,"","","","","","",null,900,"",0.05,0.1,0.15]
[null,6,"","","","","","",null,1100,"",0.05,0.1,0.15]
[null,7,"","","","","","",null,1300,"",0.05,0.1,0.15]
[null,8,"","","","","","",null,1500,"",0.05,0.1,0.15]
[null,9,"","","","","","",null,1700,"",0.05,0.1,0.15]
[null,10,"","","","","","",null,1900,"",0.05,0.1,0.15]
[null,11,"","","","","","",null,2100,"",0.05,0.1,0.15]
[null,12,"","","","","","",null,2300,"",0.05,0.1,0.15]
[null,13,"","","","","","",null,2500,"",0.05,0.1,0.15]
[null,14,"","","","","","",null,2700,"",0.05,0.1,0.15]
[null,15,"","","","","","",null,2900,"",0.05,0.1,0.15]
[null,16,"","","","","","",null,3100,"",0.05,0.1,0.15]
[null,17,"","","","","","",null,3300,"",0.05,0.1,0.15]
[null,null,"Sum",{"$f":"SUM(D96:D112)","v":0},{"$f":"SUM(E96:E112)","v":{"$error":"#DIV/0!"}},null,null,{"$f":"SUM(H96:H112)","v":{"$error":"#N/A"}}]
[]
[{"$f":"\"8. หาค่าVolume of Flood Control Reserve ของเดือน\"&D4&\"ที่ค่าความเสี่ยงต่างๆ จากกราฟการแจกแจงความน่าจะเป็น\"","v":"8. หาค่าVolume of Flood Control Reserve ของเดือนธันวาคมที่ค่าความเสี่ยงต่างๆ จากกราฟการแจกแจงความน่าจะเป็น"}]
[]
[]
[]
[]
[]
[]
[]
[]
[]
[]
[null,null,null,null,null,null,null,null,null,"P(NRIt>VFCt)< Risk"]
[null,null,null,null,null,null,null,null,null,{"$f":"IF(NRI!M54<0,\"Volume Buffer\",\"Volum Flood Control\")","v":{"$error":"#DIV/0!"}}]
[null,null,null,null,null,null,null,null,null,"Risk(%)",{"$f":"IF(NRI!M54<0,\"VBUF(mcm)\",\"VFC(mcm)\")","v":{"$error":"#DIV/0!"}},null,"X-Axis","X-ordinate","Y-Axis","Y-ordinate"]
[null,null,null,null,null,null,null,null,null,15,610,null,"X1=",374,"Y1=",0.15912074047763369]
[null,null,null,null,null,null,null,null,null,10,670,null,"X2=",475,"Y2=",0.13117031761875575]
[null,null,null,null,null,null,null,null,null,5,760,null,"X0=",{"$f":"N129-((N129-N130)*(P129-P131)/(P129-P130))","v":406.95817000308466},"Y0=",0.15]

{"sheet":"URC VAR","index":21,"n_rows":607,"n_cols":9,"rows_kept":607,"cut":false,"hidden":false,"merged":[[1,7,1,8]]}
["Upper Rule Curve",null,"8/","9/","10/","11/"]
["No.","Date","Surplus Inflow","Vacancy Requirement to Store Successive Surplus Inflow","Vacancy Requirement","Upper Storage Limit",null,"Average of Upper Storage Limit"]
[null,null,"(MCM)","(MCM)","(MCM)","(MCM)",null,"Month","Water Level"]
[0,null,null,0,0,{"$f":"IFERROR(IF(NRI!$P$2-E4<=0,NRI!$P$3,NRI!$P$2-E4),\"\")","v":0},null,"Jan",{"$f":"AVERAGEIF($A$5:$A$604,\"=\"&ROW()-3,$F$5:$F$604)","v":{"$error":"#DIV/0!"}}]
[1,{"$f":"DATE(NRI!$A$4+INT((ROW()-4)/12),MOD(ROW()-4,12),1)","v":"1986-01-01"},{"$f":"OFFSET(NRI!$A$3,1+INT((ROW()-5)/12),A5,1,1)","v":0},{"$f":"IFERROR(IF(D4+C5>0,D4+C5,0),\"\")","v":0},{"$f":"IF(AND(C6=\"\",C5<>\"\"),0,IFERROR(IF(E6+C5>0,E6+C5,0)*VLOOKUP(MONTH(B5),'NRI (Auto)'!$O$6:$Q$17,3,0),\"\"))","v":""},{"$f":"IFERROR(IF(NRI!$P$2-E5<=0,NRI!$P$3,NRI!$P$2-E5),\"\")","v":""},{"$f":"'NRI (Auto)'!Q6","v":{"$error":"#DIV/0!"}},"Feb",{"$f":"AVERAGEIF($A$5:$A$604,\"=\"&ROW()-3,$F$5:$F$604)","v":{"$error":"#DIV/0!"}}]
[2,{"$f":"DATE(NRI!$A$4+INT((ROW()-4)/12),MOD(ROW()-4,12),1)","v":"1986-02-01"},{"$f":"OFFSET(NRI!$A$3,1+INT((ROW()-5)/12),A6,1,1)","v":0},{"$f":"IFERROR(IF(D5+C6>0,D5+C6,0),\"\")","v":0},{"$f":"IF(AND(C7=\"\",C6<>\"\"),0,IFERROR(IF(E7+C6>0,E7+C6,0)*VLOOKUP(MONTH(B6),'NRI (Auto)'!$O$6:$Q$17,3,0),\"\"))","v":""},{"$f":"IFERROR(IF(NRI!$P$2-E6<=0,NRI!$P$3,NRI!$P$2-E6),\"\")","v":""},{"$f":"'NRI (Auto)'!Q7","v":{"$error":"#DIV/0!"}},"Mar",{"$error":"#DIV/0!"}]
[3,{"$f":"DATE(NRI!$A$4+INT((ROW()-4)/12),MOD(ROW()-4,12),1)","v":"1986-03-01"},{"$f":"OFFSET(NRI!$A$3,1+INT((ROW()-5)/12),A7,1,1)","v":0},0,{"$f":"IF(AND(C8=\"\",C7<>\"\"),0,IFERROR(IF(E8+C7>0,E8+C7,0)*VLOOKUP(MONTH(B7),'NRI (Auto)'!$O$6:$Q$17,3,0),\"\"))","v":""},{"$f":"IFERROR(IF(NRI!$P$2-E7<=0,NRI!$P$3,NRI!$P$2-E7),\"\")","v":""},{"$f":"'NRI (Auto)'!Q8","v":{"$error":"#DIV/0!"}},"Apr",{"$error":"#DIV/0!"}]
[4,{"$f":"DATE(NRI!$A$4+INT((ROW()-4)/12),MOD(ROW()-4,12),1)","v":"1986-04-01"},{"$f":"OFFSET(NRI!$A$3,1+INT((ROW()-5)/12),A8,1,1)","v":0},0,{"$f":"IF(AND(C9=\"\",C8<>\"\"),0,IFERROR(IF(E9+C8>0,E9+C8,0)*VLOOKUP(MONTH(B8),'NRI (Auto)'!$O$6:$Q$17,3,0),\"\"))","v":""},{"$f":"IFERROR(IF(NRI!$P$2-E8<=0,NRI!$P$3,NRI!$P$2-E8),\"\")","v":""},{"$f":"'NRI (Auto)'!Q9","v":{"$error":"#DIV/0!"}},"May",{"$error":"#DIV/0!"}]
[5,{"$f":"DATE(NRI!$A$4+INT((ROW()-4)/12),MOD(ROW()-4,12),1)","v":"1986-05-01"},{"$f":"OFFSET(NRI!$A$3,1+INT((ROW()-5)/12),A9,1,1)","v":0},0,{"$f":"IF(AND(C10=\"\",C9<>\"\"),0,IFERROR(IF(E10+C9>0,E10+C9,0)*VLOOKUP(MONTH(B9),'NRI (Auto)'!$O$6:$Q$17,3,0),\"\"))","v":""},{"$f":"IFERROR(IF(NRI!$P$2-E9<=0,NRI!$P$3,NRI!$P$2-E9),\"\")","v":""},{"$f":"'NRI (Auto)'!Q10","v":{"$error":"#DIV/0!"}},"Jun",{"$error":"#DIV/0!"}]
[6,{"$f":"DATE(NRI!$A$4+INT((ROW()-4)/12),MOD(ROW()-4,12),1)","v":"1986-06-01"},{"$f":"OFFSET(NRI!$A$3,1+INT((ROW()-5)/12),A10,1,1)","v":0},0,{"$f":"IF(AND(C11=\"\",C10<>\"\"),0,IFERROR(IF(E11+C10>0,E11+C10,0)*VLOOKUP(MONTH(B10),'NRI (Auto)'!$O$6:$Q$17,3,0),\"\"))","v":""},{"$f":"IFERROR(IF(NRI!$P$2-E10<=0,NRI!$P$3,NRI!$P$2-E10),\"\")","v":""},{"$f":"'NRI (Auto)'!Q11","v":{"$error":"#DIV/0!"}},"Jul",{"$error":"#DIV/0!"}]
[7,{"$f":"DATE(NRI!$A$4+INT((ROW()-4)/12),MOD(ROW()-4,12),1)","v":"1986-07-01"},{"$f":"OFFSET(NRI!$A$3,1+INT((ROW()-5)/12),A11,1,1)","v":0},0,{"$f":"IF(AND(C12=\"\",C11<>\"\"),0,IFERROR(IF(E12+C11>0,E12+C11,0)*VLOOKUP(MONTH(B11),'NRI (Auto)'!$O$6:$Q$17,3,0),\"\"))","v":""},{"$f":"IFERROR(IF(NRI!$P$2-E11<=0,NRI!$P$3,NRI!$P$2-E11),\"\")","v":""},{"$f":"'NRI (Auto)'!Q12","v":{"$error":"#DIV/0!"}},"Aug",{"$error":"#DIV/0!"}]
[8,{"$f":"DATE(NRI!$A$4+INT((ROW()-4)/12),MOD(ROW()-4,12),1)","v":"1986-08-01"},{"$f":"OFFSET(NRI!$A$3,1+INT((ROW()-5)/12),A12,1,1)","v":0},0,{"$f":"IF(AND(C13=\"\",C12<>\"\"),0,IFERROR(IF(E13+C12>0,E13+C12,0)*VLOOKUP(MONTH(B12),'NRI (Auto)'!$O$6:$Q$17,3,0),\"\"))","v":""},{"$f":"IFERROR(IF(NRI!$P$2-E12<=0,NRI!$P$3,NRI!$P$2-E12),\"\")","v":""},{"$f":"'NRI (Auto)'!Q13","v":{"$error":"#DIV/0!"}},"Sep",{"$error":"#DIV/0!"}]
[9,{"$f":"DATE(NRI!$A$4+INT((ROW()-4)/12),MOD(ROW()-4,12),1)","v":"1986-09-01"},{"$f":"OFFSET(NRI!$A$3,1+INT((ROW()-5)/12),A13,1,1)","v":0},0,{"$f":"IF(AND(C14=\"\",C13<>\"\"),0,IFERROR(IF(E14+C13>0,E14+C13,0)*VLOOKUP(MONTH(B13),'NRI (Auto)'!$O$6:$Q$17,3,0),\"\"))","v":""},{"$f":"IFERROR(IF(NRI!$P$2-E13<=0,NRI!$P$3,NRI!$P$2-E13),\"\")","v":""},{"$f":"'NRI (Auto)'!Q14","v":{"$error":"#DIV/0!"}},"Oct",{"$error":"#DIV/0!"}]
[10,{"$f":"DATE(NRI!$A$4+INT((ROW()-4)/12),MOD(ROW()-4,12),1)","v":"1986-10-01"},{"$f":"OFFSET(NRI!$A$3,1+INT((ROW()-5)/12),A14,1,1)","v":0},0,{"$f":"IF(AND(C15=\"\",C14<>\"\"),0,IFERROR(IF(E15+C14>0,E15+C14,0)*VLOOKUP(MONTH(B14),'NRI (Auto)'!$O$6:$Q$17,3,0),\"\"))","v":""},{"$f":"IFERROR(IF(NRI!$P$2-E14<=0,NRI!$P$3,NRI!$P$2-E14),\"\")","v":""},{"$f":"'NRI (Auto)'!Q15","v":{"$error":"#DIV/0!"}},"Nov",{"$error":"#DIV/0!"}]
[11,{"$f":"DATE(NRI!$A$4+INT((ROW()-4)/12),MOD(ROW()-4,12),1)","v":"1986-11-01"},{"$f":"OFFSET(NRI!$A$3,1+INT((ROW()-5)/12),A15,1,1)","v":0},0,{"$f":"IF(AND(C16=\"\",C15<>\"\"),0,IFERROR(IF(E16+C15>0,E16+C15,0)*VLOOKUP(MONTH(B15),'NRI (Auto)'!$O$6:$Q$17,3,0),\"\"))","v":""},{"$f":"IFERROR(IF(NRI!$P$2-E15<=0,NRI!$P$3,NRI!$P$2-E15),\"\")","v":""},{"$f":"'NRI (Auto)'!Q16","v":{"$error":"#DIV/0!"}},"Dec",0]
[12,{"$f":"DATE(NRI!$A$4+INT((ROW()-4)/12),MOD(ROW()-4,12),1)","v":"1986-12-01"},{"$f":"OFFSET(NRI!$A$3,1+INT((ROW()-5)/12),A16,1,1)","v":0},0,{"$f":"IF(AND(C17=\"\",C16<>\"\"),0,IFERROR(IF(E17+C16>0,E17+C16,0)*VLOOKUP(MONTH(B16),'NRI (Auto)'!$O$6:$Q$17,3,0),\"\"))","v":""},{"$f":"IFERROR(IF(NRI!$P$2-E16<=0,NRI!$P$3,NRI!$P$2-E16),\"\")","v":""},{"$f":"'NRI (Auto)'!Q17","v":{"$error":"#DIV/0!"}},{"$f":"H4","v":"Jan"},{"$f":"I4","v":{"$error":"#DIV/0!"}}]
[{"$f":"+A5","v":1},{"$f":"DATE(NRI!$A$4+INT((ROW()-4)/12),MOD(ROW()-4,12),1)","v":"1987-01-01"},{"$f":"OFFSET(NRI!$A$3,1+INT((ROW()-5)/12),A17,1,1)","v":0},0,{"$f":"IF(AND(C18=\"\",C17<>\"\"),0,IFERROR(IF(E18+C17>0,E18+C17,0)*VLOOKUP(MONTH(B17),'NRI (Auto)'!$O$6:$Q$17,3,0),\"\"))","v":""},{"$f":"IFERROR(IF(NRI!$P$2-E17<=0,NRI!$P$3,NRI!$P$2-E17),\"\")","v":""},{"$f":"+G5","v":{"$error":"#DIV/0!"}}]
[{"$f":"+A6","v":2},{"$f":"DATE(NRI!$A$4+INT((ROW()-4)/12),MOD(ROW()-4,12),1)","v":"1987-02-01"},{"$f":"OFFSET(NRI!$A$3,1+INT((ROW()-5)/12),A18,1,1)","v":0},0,{"$f":"IF(AND(C19=\"\",C18<>\"\"),0,IFERROR(IF(E19+C18>0,E19+C18,0)*VLOOKUP(MONTH(B18),'NRI (Auto)'!$O$6:$Q$17,3,0),\"\"))","v":""},{"$f":"IFERROR(IF(NRI!$P$2-E18<=0,NRI!$P$3,NRI!$P$2-E18),\"\")","v":""},{"$f":"+G6","v":{"$error":"#DIV/0!"}}]
[3,{"$f":"DATE(NRI!$A$4+INT((ROW()-4)/12),MOD(ROW()-4,12),1)","v":"1987-03-01"},{"$f":"OFFSET(NRI!$A$3,1+INT((ROW()-5)/12),A19,1,1)","v":0},0,{"$f":"IF(AND(C20=\"\",C19<>\"\"),0,IFERROR(IF(E20+C19>0,E20+C19,0)*VLOOKUP(MONTH(B19),'NRI (Auto)'!$O$6:$Q$17,3,0),\"\"))","v":""},{"$f":"IFERROR(IF(NRI!$P$2-E19<=0,NRI!$P$3,NRI!$P$2-E19),\"\")","v":""},{"$error":"#DIV/0!"}]
[4,{"$f":"DATE(NRI!$A$4+INT((ROW()-4)/12),MOD(ROW()-4,12),1)","v":"1987-04-01"},{"$f":"OFFSET(NRI!$A$3,1+INT((ROW()-5)/12),A20,1,1)","v":0},0,{"$f":"IF(AND(C21=\"\",C20<>\"\"),0,IFERROR(IF(E21+C20>0,E21+C20,0)*VLOOKUP(MONTH(B20),'NRI (Auto)'!$O$6:$Q$17,3,0),\"\"))","v":""},{"$f":"IFERROR(IF(NRI!$P$2-E20<=0,NRI!$P$3,NRI!$P$2-E20),\"\")","v":""},{"$error":"#DIV/0!"}]
[5,{"$f":"DATE(NRI!$A$4+INT((ROW()-4)/12),MOD(ROW()-4,12),1)","v":"1987-05-01"},{"$f":"OFFSET(NRI!$A$3,1+INT((ROW()-5)/12),A21,1,1)","v":0},0,{"$f":"IF(AND(C22=\"\",C21<>\"\"),0,IFERROR(IF(E22+C21>0,E22+C21,0)*VLOOKUP(MONTH(B21),'NRI (Auto)'!$O$6:$Q$17,3,0),\"\"))","v":""},{"$f":"IFERROR(IF(NRI!$P$2-E21<=0,NRI!$P$3,NRI!$P$2-E21),\"\")","v":""},{"$error":"#DIV/0!"}]
[6,{"$f":"DATE(NRI!$A$4+INT((ROW()-4)/12),MOD(ROW()-4,12),1)","v":"1987-06-01"},{"$f":"OFFSET(NRI!$A$3,1+INT((ROW()-5)/12),A22,1,1)","v":0},0,{"$f":"IF(AND(C23=\"\",C22<>\"\"),0,IFERROR(IF(E23+C22>0,E23+C22,0)*VLOOKUP(MONTH(B22),'NRI (Auto)'!$O$6:$Q$17,3,0),\"\"))","v":""},{"$f":"IFERROR(IF(NRI!$P$2-E22<=0,NRI!$P$3,NRI!$P$2-E22),\"\")","v":""},{"$error":"#DIV/0!"}]
[7,{"$f":"DATE(NRI!$A$4+INT((ROW()-4)/12),MOD(ROW()-4,12),1)","v":"1987-07-01"},{"$f":"OFFSET(NRI!$A$3,1+INT((ROW()-5)/12),A23,1,1)","v":0},0,{"$f":"IF(AND(C24=\"\",C23<>\"\"),0,IFERROR(IF(E24+C23>0,E24+C23,0)*VLOOKUP(MONTH(B23),'NRI (Auto)'!$O$6:$Q$17,3,0),\"\"))","v":""},{"$f":"IFERROR(IF(NRI!$P$2-E23<=0,NRI!$P$3,NRI!$P$2-E23),\"\")","v":""},{"$error":"#DIV/0!"}]
[8,{"$f":"DATE(NRI!$A$4+INT((ROW()-4)/12),MOD(ROW()-4,12),1)","v":"1987-08-01"},{"$f":"OFFSET(NRI!$A$3,1+INT((ROW()-5)/12),A24,1,1)","v":0},0,{"$f":"IF(AND(C25=\"\",C24<>\"\"),0,IFERROR(IF(E25+C24>0,E25+C24,0)*VLOOKUP(MONTH(B24),'NRI (Auto)'!$O$6:$Q$17,3,0),\"\"))","v":""},{"$f":"IFERROR(IF(NRI!$P$2-E24<=0,NRI!$P$3,NRI!$P$2-E24),\"\")","v":""},{"$error":"#DIV/0!"}]
[9,{"$f":"DATE(NRI!$A$4+INT((ROW()-4)/12),MOD(ROW()-4,12),1)","v":"1987-09-01"},{"$f":"OFFSET(NRI!$A$3,1+INT((ROW()-5)/12),A25,1,1)","v":0},0,{"$f":"IF(AND(C26=\"\",C25<>\"\"),0,IFERROR(IF(E26+C25>0,E26+C25,0)*VLOOKUP(MONTH(B25),'NRI (Auto)'!$O$6:$Q$17,3,0),\"\"))","v":""},{"$f":"IFERROR(IF(NRI!$P$2-E25<=0,NRI!$P$3,NRI!$P$2-E25),\"\")","v":""},{"$error":"#DIV/0!"}]
[10,{"$f":"DATE(NRI!$A$4+INT((ROW()-4)/12),MOD(ROW()-4,12),1)","v":"1987-10-01"},{"$f":"OFFSET(NRI!$A$3,1+INT((ROW()-5)/12),A26,1,1)","v":0},0,{"$f":"IF(AND(C27=\"\",C26<>\"\"),0,IFERROR(IF(E27+C26>0,E27+C26,0)*VLOOKUP(MONTH(B26),'NRI (Auto)'!$O$6:$Q$17,3,0),\"\"))","v":""},{"$f":"IFERROR(IF(NRI!$P$2-E26<=0,NRI!$P$3,NRI!$P$2-E26),\"\")","v":""},{"$error":"#DIV/0!"}]
[11,{"$f":"DATE(NRI!$A$4+INT((ROW()-4)/12),MOD(ROW()-4,12),1)","v":"1987-11-01"},{"$f":"OFFSET(NRI!$A$3,1+INT((ROW()-5)/12),A27,1,1)","v":0},0,{"$f":"IF(AND(C28=\"\",C27<>\"\"),0,IFERROR(IF(E28+C27>0,E28+C27,0)*VLOOKUP(MONTH(B27),'NRI (Auto)'!$O$6:$Q$17,3,0),\"\"))","v":""},{"$f":"IFERROR(IF(NRI!$P$2-E27<=0,NRI!$P$3,NRI!$P$2-E27),\"\")","v":""},{"$error":"#DIV/0!"}]
[12,{"$f":"DATE(NRI!$A$4+INT((ROW()-4)/12),MOD(ROW()-4,12),1)","v":"1987-12-01"},{"$f":"OFFSET(NRI!$A$3,1+INT((ROW()-5)/12),A28,1,1)","v":0},0,{"$f":"IF(AND(C29=\"\",C28<>\"\"),0,IFERROR(IF(E29+C28>0,E29+C28,0)*VLOOKUP(MONTH(B28),'NRI (Auto)'!$O$6:$Q$17,3,0),\"\"))","v":""},{"$f":"IFERROR(IF(NRI!$P$2-E28<=0,NRI!$P$3,NRI!$P$2-E28),\"\")","v":""},{"$error":"#DIV/0!"}]
[1,{"$f":"DATE(NRI!$A$4+INT((ROW()-4)/12),MOD(ROW()-4,12),1)","v":"1988-01-01"},{"$f":"OFFSET(NRI!$A$3,1+INT((ROW()-5)/12),A29,1,1)","v":0},0,{"$f":"IF(AND(C30=\"\",C29<>\"\"),0,IFERROR(IF(E30+C29>0,E30+C29,0)*VLOOKUP(MONTH(B29),'NRI (Auto)'!$O$6:$Q$17,3,0),\"\"))","v":""},{"$f":"IFERROR(IF(NRI!$P$2-E29<=0,NRI!$P$3,NRI!$P$2-E29),\"\")","v":""},{"$error":"#DIV/0!"}]
[2,{"$f":"DATE(NRI!$A$4+INT((ROW()-4)/12),MOD(ROW()-4,12),1)","v":"1988-02-01"},{"$f":"OFFSET(NRI!$A$3,1+INT((ROW()-5)/12),A30,1,1)","v":0},0,{"$f":"IF(AND(C31=\"\",C30<>\"\"),0,IFERROR(IF(E31+C30>0,E31+C30,0)*VLOOKUP(MONTH(B30),'NRI (Auto)'!$O$6:$Q$17,3,0),\"\"))","v":""},{"$f":"IFERROR(IF(NRI!$P$2-E30<=0,NRI!$P$3,NRI!$P$2-E30),\"\")","v":""},{"$error":"#DIV/0!"}]
[3,{"$f":"DATE(NRI!$A$4+INT((ROW()-4)/12),MOD(ROW()-4,12),1)","v":"1988-03-01"},{"$f":"OFFSET(NRI!$A$3,1+INT((ROW()-5)/12),A31,1,1)","v":0},0,{"$f":"IF(AND(C32=\"\",C31<>\"\"),0,IFERROR(IF(E32+C31>0,E32+C31,0)*VLOOKUP(MONTH(B31),'NRI (Auto)'!$O$6:$Q$17,3,0),\"\"))","v":""},{"$f":"IFERROR(IF(NRI!$P$2-E31<=0,NRI!$P$3,NRI!$P$2-E31),\"\")","v":""},{"$error":"#DIV/0!"}]
[4,{"$f":"DATE(NRI!$A$4+INT((ROW()-4)/12),MOD(ROW()-4,12),1)","v":"1988-04-01"},{"$f":"OFFSET(NRI!$A$3,1+INT((ROW()-5)/12),A32,1,1)","v":0},0,{"$f":"IF(AND(C33=\"\",C32<>\"\"),0,IFERROR(IF(E33+C32>0,E33+C32,0)*VLOOKUP(MONTH(B32),'NRI (Auto)'!$O$6:$Q$17,3,0),\"\"))","v":""},{"$f":"IFERROR(IF(NRI!$P$2-E32<=0,NRI!$P$3,NRI!$P$2-E32),\"\")","v":""},{"$error":"#DIV/0!"}]
[5,{"$f":"DATE(NRI!$A$4+INT((ROW()-4)/12),MOD(ROW()-4,12),1)","v":"1988-05-01"},{"$f":"OFFSET(NRI!$A$3,1+INT((ROW()-5)/12),A33,1,1)","v":0},0,{"$f":"IF(AND(C34=\"\",C33<>\"\"),0,IFERROR(IF(E34+C33>0,E34+C33,0)*VLOOKUP(MONTH(B33),'NRI (Auto)'!$O$6:$Q$17,3,0),\"\"))","v":""},{"$f":"IFERROR(IF(NRI!$P$2-E33<=0,NRI!$P$3,NRI!$P$2-E33),\"\")","v":""},{"$error":"#DIV/0!"}]
[6,{"$f":"DATE(NRI!$A$4+INT((ROW()-4)/12),MOD(ROW()-4,12),1)","v":"1988-06-01"},{"$f":"OFFSET(NRI!$A$3,1+INT((ROW()-5)/12),A34,1,1)","v":0},0,{"$f":"IF(AND(C35=\"\",C34<>\"\"),0,IFERROR(IF(E35+C34>0,E35+C34,0)*VLOOKUP(MONTH(B34),'NRI (Auto)'!$O$6:$Q$17,3,0),\"\"))","v":""},{"$f":"IFERROR(IF(NRI!$P$2-E34<=0,NRI!$P$3,NRI!$P$2-E34),\"\")","v":""},{"$error":"#DIV/0!"}]
[7,{"$f":"DATE(NRI!$A$4+INT((ROW()-4)/12),MOD(ROW()-4,12),1)","v":"1988-07-01"},{"$f":"OFFSET(NRI!$A$3,1+INT((ROW()-5)/12),A35,1,1)","v":0},0,{"$f":"IF(AND(C36=\"\",C35<>\"\"),0,IFERROR(IF(E36+C35>0,E36+C35,0)*VLOOKUP(MONTH(B35),'NRI (Auto)'!$O$6:$Q$17,3,0),\"\"))","v":""},{"$f":"IFERROR(IF(NRI!$P$2-E35<=0,NRI!$P$3,NRI!$P$2-E35),\"\")","v":""},{"$error":"#DIV/0!"}]
[8,{"$f":"DATE(NRI!$A$4+INT((ROW()-4)/12),MOD(ROW()-4,12),1)","v":"1988-08-01"},{"$f":"OFFSET(NRI!$A$3,1+INT((ROW()-5)/12),A36,1,1)","v":0},0,{"$f":"IF(AND(C37=\"\",C36<>\"\"),0,IFERROR(IF(E37+C36>0,E37+C36,0)*VLOOKUP(MONTH(B36),'NRI (Auto)'!$O$6:$Q$17,3,0),\"\"))","v":""},{"$f":"IFERROR(IF(NRI!$P$2-E36<=0,NRI!$P$3,NRI!$P$2-E36),\"\")","v":""},{"$error":"#DIV/0!"}]
[9,{"$f":"DATE(NRI!$A$4+INT((ROW()-4)/12),MOD(ROW()-4,12),1)","v":"1988-09-01"},{"$f":"OFFSET(NRI!$A$3,1+INT((ROW()-5)/12),A37,1,1)","v":0},0,{"$f":"IF(AND(C38=\"\",C37<>\"\"),0,IFERROR(IF(E38+C37>0,E38+C37,0)*VLOOKUP(MONTH(B37),'NRI (Auto)'!$O$6:$Q$17,3,0),\"\"))","v":""},{"$f":"IFERROR(IF(NRI!$P$2-E37<=0,NRI!$P$3,NRI!$P$2-E37),\"\")","v":""},{"$error":"#DIV/0!"}]
[10,{"$f":"DATE(NRI!$A$4+INT((ROW()-4)/12),MOD(ROW()-4,12),1)","v":"1988-10-01"},{"$f":"OFFSET(NRI!$A$3,1+INT((ROW()-5)/12),A38,1,1)","v":0},0,{"$f":"IF(AND(C39=\"\",C38<>\"\"),0,IFERROR(IF(E39+C38>0,E39+C38,0)*VLOOKUP(MONTH(B38),'NRI (Auto)'!$O$6:$Q$17,3,0),\"\"))","v":""},{"$f":"IFERROR(IF(NRI!$P$2-E38<=0,NRI!$P$3,NRI!$P$2-E38),\"\")","v":""},{"$error":"#DIV/0!"}]
[11,{"$f":"DATE(NRI!$A$4+INT((ROW()-4)/12),MOD(ROW()-4,12),1)","v":"1988-11-01"},{"$f":"OFFSET(NRI!$A$3,1+INT((ROW()-5)/12),A39,1,1)","v":0},0,{"$f":"IF(AND(C40=\"\",C39<>\"\"),0,IFERROR(IF(E40+C39>0,E40+C39,0)*VLOOKUP(MONTH(B39),'NRI (Auto)'!$O$6:$Q$17,3,0),\"\"))","v":""},{"$f":"IFERROR(IF(NRI!$P$2-E39<=0,NRI!$P$3,NRI!$P$2-E39),\"\")","v":""},{"$error":"#DIV/0!"}]
[12,{"$f":"DATE(NRI!$A$4+INT((ROW()-4)/12),MOD(ROW()-4,12),1)","v":"1988-12-01"},{"$f":"OFFSET(NRI!$A$3,1+INT((ROW()-5)/12),A40,1,1)","v":0},0,{"$f":"IF(AND(C41=\"\",C40<>\"\"),0,IFERROR(IF(E41+C40>0,E41+C40,0)*VLOOKUP(MONTH(B40),'NRI (Auto)'!$O$6:$Q$17,3,0),\"\"))","v":""},{"$f":"IFERROR(IF(NRI!$P$2-E40<=0,NRI!$P$3,NRI!$P$2-E40),\"\")","v":""},{"$error":"#DIV/0!"}]
[1,{"$f":"DATE(NRI!$A$4+INT((ROW()-4)/12),MOD(ROW()-4,12),1)","v":"1989-01-01"},{"$f":"OFFSET(NRI!$A$3,1+INT((ROW()-5)/12),A41,1,1)","v":0},0,{"$f":"IF(AND(C42=\"\",C41<>\"\"),0,IFERROR(IF(E42+C41>0,E42+C41,0)*VLOOKUP(MONTH(B41),'NRI (Auto)'!$O$6:$Q$17,3,0),\"\"))","v":""},{"$f":"IFERROR(IF(NRI!$P$2-E41<=0,NRI!$P$3,NRI!$P$2-E41),\"\")","v":""},{"$error":"#DIV/0!"}]
[2,{"$f":"DATE(NRI!$A$4+INT((ROW()-4)/12),MOD(ROW()-4,12),1)","v":"1989-02-01"},{"$f":"OFFSET(NRI!$A$3,1+INT((ROW()-5)/12),A42,1,1)","v":0},0,{"$f":"IF(AND(C43=\"\",C42<>\"\"),0,IFERROR(IF(E43+C42>0,E43+C42,0)*VLOOKUP(MONTH(B42),'NRI (Auto)'!$O$6:$Q$17,3,0),\"\"))","v":""},{"$f":"IFERROR(IF(NRI!$P$2-E42<=0,NRI!$P$3,NRI!$P$2-E42),\"\")","v":""},{"$error":"#DIV/0!"}]
[3,{"$f":"DATE(NRI!$A$4+INT((ROW()-4)/12),MOD(ROW()-4,12),1)","v":"1989-03-01"},{"$f":"OFFSET(NRI!$A$3,1+INT((ROW()-5)/12),A43,1,1)","v":0},0,{"$f":"IF(AND(C44=\"\",C43<>\"\"),0,IFERROR(IF(E44+C43>0,E44+C43,0)*VLOOKUP(MONTH(B43),'NRI (Auto)'!$O$6:$Q$17,3,0),\"\"))","v":""},{"$f":"IFERROR(IF(NRI!$P$2-E43<=0,NRI!$P$3,NRI!$P$2-E43),\"\")","v":""},{"$error":"#DIV/0!"}]
[4,{"$f":"DATE(NRI!$A$4+INT((ROW()-4)/12),MOD(ROW()-4,12),1)","v":"1989-04-01"},{"$f":"OFFSET(NRI!$A$3,1+INT((ROW()-5)/12),A44,1,1)","v":0},0,{"$f":"IF(AND(C45=\"\",C44<>\"\"),0,IFERROR(IF(E45+C44>0,E45+C44,0)*VLOOKUP(MONTH(B44),'NRI (Auto)'!$O$6:$Q$17,3,0),\"\"))","v":""},{"$f":"IFERROR(IF(NRI!$P$2-E44<=0,NRI!$P$3,NRI!$P$2-E44),\"\")","v":""},{"$error":"#DIV/0!"}]
[5,{"$f":"DATE(NRI!$A$4+INT((ROW()-4)/12),MOD(ROW()-4,12),1)","v":"1989-05-01"},{"$f":"OFFSET(NRI!$A$3,1+INT((ROW()-5)/12),A45,1,1)","v":0},0,{"$f":"IF(AND(C46=\"\",C45<>\"\"),0,IFERROR(IF(E46+C45>0,E46+C45,0)*VLOOKUP(MONTH(B45),'NRI (Auto)'!$O$6:$Q$17,3,0),\"\"))","v":""},{"$f":"IFERROR(IF(NRI!$P$2-E45<=0,NRI!$P$3,NRI!$P$2-E45),\"\")","v":""},{"$error":"#DIV/0!"}]
[6,{"$f":"DATE(NRI!$A$4+INT((ROW()-4)/12),MOD(ROW()-4,12),1)","v":"1989-06-01"},{"$f":"OFFSET(NRI!$A$3,1+INT((ROW()-5)/12),A46,1,1)","v":0},0,{"$f":"IF(AND(C47=\"\",C46<>\"\"),0,IFERROR(IF(E47+C46>0,E47+C46,0)*VLOOKUP(MONTH(B46),'NRI (Auto)'!$O$6:$Q$17,3,0),\"\"))","v":""},{"$f":"IFERROR(IF(NRI!$P$2-E46<=0,NRI!$P$3,NRI!$P$2-E46),\"\")","v":""},{"$error":"#DIV/0!"}]
[7,{"$f":"DATE(NRI!$A$4+INT((ROW()-4)/12),MOD(ROW()-4,12),1)","v":"1989-07-01"},{"$f":"OFFSET(NRI!$A$3,1+INT((ROW()-5)/12),A47,1,1)","v":0},0,{"$f":"IF(AND(C48=\"\",C47<>\"\"),0,IFERROR(IF(E48+C47>0,E48+C47,0)*VLOOKUP(MONTH(B47),'NRI (Auto)'!$O$6:$Q$17,3,0),\"\"))","v":""},{"$f":"IFERROR(IF(NRI!$P$2-E47<=0,NRI!$P$3,NRI!$P$2-E47),\"\")","v":""},{"$error":"#DIV/0!"}]
[8,{"$f":"DATE(NRI!$A$4+INT((ROW()-4)/12),MOD(ROW()-4,12),1)","v":"1989-08-01"},{"$f":"OFFSET(NRI!$A$3,1+INT((ROW()-5)/12),A48,1,1)","v":0},0,{"$f":"IF(AND(C49=\"\",C48<>\"\"),0,IFERROR(IF(E49+C48>0,E49+C48,0)*VLOOKUP(MONTH(B48),'NRI (Auto)'!$O$6:$Q$17,3,0),\"\"))","v":""},{"$f":"IFERROR(IF(NRI!$P$2-E48<=0,NRI!$P$3,NRI!$P$2-E48),\"\")","v":""},{"$error":"#DIV/0!"}]
[9,{"$f":"DATE(NRI!$A$4+INT((ROW()-4)/12),MOD(ROW()-4,12),1)","v":"1989-09-01"},{"$f":"OFFSET(NRI!$A$3,1+INT((ROW()-5)/12),A49,1,1)","v":0},0,{"$f":"IF(AND(C50=\"\",C49<>\"\"),0,IFERROR(IF(E50+C49>0,E50+C49,0)*VLOOKUP(MONTH(B49),'NRI (Auto)'!$O$6:$Q$17,3,0),\"\"))","v":""},{"$f":"IFERROR(IF(NRI!$P$2-E49<=0,NRI!$P$3,NRI!$P$2-E49),\"\")","v":""},{"$error":"#DIV/0!"}]
[10,{"$f":"DATE(NRI!$A$4+INT((ROW()-4)/12),MOD(ROW()-4,12),1)","v":"1989-10-01"},{"$f":"OFFSET(NRI!$A$3,1+INT((ROW()-5)/12),A50,1,1)","v":0},0,{"$f":"IF(AND(C51=\"\",C50<>\"\"),0,IFERROR(IF(E51+C50>0,E51+C50,0)*VLOOKUP(MONTH(B50),'NRI (Auto)'!$O$6:$Q$17,3,0),\"\"))","v":""},{"$f":"IFERROR(IF(NRI!$P$2-E50<=0,NRI!$P$3,NRI!$P$2-E50),\"\")","v":""},{"$error":"#DIV/0!"}]
[11,{"$f":"DATE(NRI!$A$4+INT((ROW()-4)/12),MOD(ROW()-4,12),1)","v":"1989-11-01"},{"$f":"OFFSET(NRI!$A$3,1+INT((ROW()-5)/12),A51,1,1)","v":0},0,{"$f":"IF(AND(C52=\"\",C51<>\"\"),0,IFERROR(IF(E52+C51>0,E52+C51,0)*VLOOKUP(MONTH(B51),'NRI (Auto)'!$O$6:$Q$17,3,0),\"\"))","v":""},{"$f":"IFERROR(IF(NRI!$P$2-E51<=0,NRI!$P$3,NRI!$P$2-E51),\"\")","v":""},{"$error":"#DIV/0!"}]
[12,{"$f":"DATE(NRI!$A$4+INT((ROW()-4)/12),MOD(ROW()-4,12),1)","v":"1989-12-01"},{"$f":"OFFSET(NRI!$A$3,1+INT((ROW()-5)/12),A52,1,1)","v":0},0,{"$f":"IF(AND(C53=\"\",C52<>\"\"),0,IFERROR(IF(E53+C52>0,E53+C52,0)*VLOOKUP(MONTH(B52),'NRI (Auto)'!$O$6:$Q$17,3,0),\"\"))","v":""},{"$f":"IFERROR(IF(NRI!$P$2-E52<=0,NRI!$P$3,NRI!$P$2-E52),\"\")","v":""},{"$error":"#DIV/0!"}]
[1,{"$f":"DATE(NRI!$A$4+INT((ROW()-4)/12),MOD(ROW()-4,12),1)","v":"1990-01-01"},{"$f":"OFFSET(NRI!$A$3,1+INT((ROW()-5)/12),A53,1,1)","v":0},0,{"$f":"IF(AND(C54=\"\",C53<>\"\"),0,IFERROR(IF(E54+C53>0,E54+C53,0)*VLOOKUP(MONTH(B53),'NRI (Auto)'!$O$6:$Q$17,3,0),\"\"))","v":""},{"$f":"IFERROR(IF(NRI!$P$2-E53<=0,NRI!$P$3,NRI!$P$2-E53),\"\")","v":""},{"$error":"#DIV/0!"}]
[2,{"$f":"DATE(NRI!$A$4+INT((ROW()-4)/12),MOD(ROW()-4,12),1)","v":"1990-02-01"},{"$f":"OFFSET(NRI!$A$3,1+INT((ROW()-5)/12),A54,1,1)","v":0},0,{"$f":"IF(AND(C55=\"\",C54<>\"\"),0,IFERROR(IF(E55+C54>0,E55+C54,0)*VLOOKUP(MONTH(B54),'NRI (Auto)'!$O$6:$Q$17,3,0),\"\"))","v":""},{"$f":"IFERROR(IF(NRI!$P$2-E54<=0,NRI!$P$3,NRI!$P$2-E54),\"\")","v":""},{"$error":"#DIV/0!"}]
[3,{"$f":"DATE(NRI!$A$4+INT((ROW()-4)/12),MOD(ROW()-4,12),1)","v":"1990-03-01"},{"$f":"OFFSET(NRI!$A$3,1+INT((ROW()-5)/12),A55,1,1)","v":0},0,{"$f":"IF(AND(C56=\"\",C55<>\"\"),0,IFERROR(IF(E56+C55>0,E56+C55,0)*VLOOKUP(MONTH(B55),'NRI (Auto)'!$O$6:$Q$17,3,0),\"\"))","v":""},{"$f":"IFERROR(IF(NRI!$P$2-E55<=0,NRI!$P$3,NRI!$P$2-E55),\"\")","v":""},{"$error":"#DIV/0!"}]
[4,{"$f":"DATE(NRI!$A$4+INT((ROW()-4)/12),MOD(ROW()-4,12),1)","v":"1990-04-01"},{"$f":"OFFSET(NRI!$A$3,1+INT((ROW()-5)/12),A56,1,1)","v":0},0,{"$f":"IF(AND(C57=\"\",C56<>\"\"),0,IFERROR(IF(E57+C56>0,E57+C56,0)*VLOOKUP(MONTH(B56),'NRI (Auto)'!$O$6:$Q$17,3,0),\"\"))","v":""},{"$f":"IFERROR(IF(NRI!$P$2-E56<=0,NRI!$P$3,NRI!$P$2-E56),\"\")","v":""},{"$error":"#DIV/0!"}]
[5,{"$f":"DATE(NRI!$A$4+INT((ROW()-4)/12),MOD(ROW()-4,12),1)","v":"1990-05-01"},{"$f":"OFFSET(NRI!$A$3,1+INT((ROW()-5)/12),A57,1,1)","v":0},0,{"$f":"IF(AND(C58=\"\",C57<>\"\"),0,IFERROR(IF(E58+C57>0,E58+C57,0)*VLOOKUP(MONTH(B57),'NRI (Auto)'!$O$6:$Q$17,3,0),\"\"))","v":""},{"$f":"IFERROR(IF(NRI!$P$2-E57<=0,NRI!$P$3,NRI!$P$2-E57),\"\")","v":""},{"$error":"#DIV/0!"}]
[6,{"$f":"DATE(NRI!$A$4+INT((ROW()-4)/12),MOD(ROW()-4,12),1)","v":"1990-06-01"},{"$f":"OFFSET(NRI!$A$3,1+INT((ROW()-5)/12),A58,1,1)","v":0},0,{"$f":"IF(AND(C59=\"\",C58<>\"\"),0,IFERROR(IF(E59+C58>0,E59+C58,0)*VLOOKUP(MONTH(B58),'NRI (Auto)'!$O$6:$Q$17,3,0),\"\"))","v":""},{"$f":"IFERROR(IF(NRI!$P$2-E58<=0,NRI!$P$3,NRI!$P$2-E58),\"\")","v":""},{"$error":"#DIV/0!"}]
[7,{"$f":"DATE(NRI!$A$4+INT((ROW()-4)/12),MOD(ROW()-4,12),1)","v":"1990-07-01"},{"$f":"OFFSET(NRI!$A$3,1+INT((ROW()-5)/12),A59,1,1)","v":0},0,{"$f":"IF(AND(C60=\"\",C59<>\"\"),0,IFERROR(IF(E60+C59>0,E60+C59,0)*VLOOKUP(MONTH(B59),'NRI (Auto)'!$O$6:$Q$17,3,0),\"\"))","v":""},{"$f":"IFERROR(IF(NRI!$P$2-E59<=0,NRI!$P$3,NRI!$P$2-E59),\"\")","v":""},{"$error":"#DIV/0!"}]
[8,{"$f":"DATE(NRI!$A$4+INT((ROW()-4)/12),MOD(ROW()-4,12),1)","v":"1990-08-01"},{"$f":"OFFSET(NRI!$A$3,1+INT((ROW()-5)/12),A60,1,1)","v":0},0,{"$f":"IF(AND(C61=\"\",C60<>\"\"),0,IFERROR(IF(E61+C60>0,E61+C60,0)*VLOOKUP(MONTH(B60),'NRI (Auto)'!$O$6:$Q$17,3,0),\"\"))","v":""},{"$f":"IFERROR(IF(NRI!$P$2-E60<=0,NRI!$P$3,NRI!$P$2-E60),\"\")","v":""},{"$error":"#DIV/0!"}]
[9,{"$f":"DATE(NRI!$A$4+INT((ROW()-4)/12),MOD(ROW()-4,12),1)","v":"1990-09-01"},{"$f":"OFFSET(NRI!$A$3,1+INT((ROW()-5)/12),A61,1,1)","v":0},0,{"$f":"IF(AND(C62=\"\",C61<>\"\"),0,IFERROR(IF(E62+C61>0,E62+C61,0)*VLOOKUP(MONTH(B61),'NRI (Auto)'!$O$6:$Q$17,3,0),\"\"))","v":""},{"$f":"IFERROR(IF(NRI!$P$2-E61<=0,NRI!$P$3,NRI!$P$2-E61),\"\")","v":""},{"$error":"#DIV/0!"}]
[10,{"$f":"DATE(NRI!$A$4+INT((ROW()-4)/12),MOD(ROW()-4,12),1)","v":"1990-10-01"},{"$f":"OFFSET(NRI!$A$3,1+INT((ROW()-5)/12),A62,1,1)","v":0},0,{"$f":"IF(AND(C63=\"\",C62<>\"\"),0,IFERROR(IF(E63+C62>0,E63+C62,0)*VLOOKUP(MONTH(B62),'NRI (Auto)'!$O$6:$Q$17,3,0),\"\"))","v":""},{"$f":"IFERROR(IF(NRI!$P$2-E62<=0,NRI!$P$3,NRI!$P$2-E62),\"\")","v":""},{"$error":"#DIV/0!"}]
[11,{"$f":"DATE(NRI!$A$4+INT((ROW()-4)/12),MOD(ROW()-4,12),1)","v":"1990-11-01"},{"$f":"OFFSET(NRI!$A$3,1+INT((ROW()-5)/12),A63,1,1)","v":0},0,{"$f":"IF(AND(C64=\"\",C63<>\"\"),0,IFERROR(IF(E64+C63>0,E64+C63,0)*VLOOKUP(MONTH(B63),'NRI (Auto)'!$O$6:$Q$17,3,0),\"\"))","v":""},{"$f":"IFERROR(IF(NRI!$P$2-E63<=0,NRI!$P$3,NRI!$P$2-E63),\"\")","v":""},{"$error":"#DIV/0!"}]
[12,{"$f":"DATE(NRI!$A$4+INT((ROW()-4)/12),MOD(ROW()-4,12),1)","v":"1990-12-01"},{"$f":"OFFSET(NRI!$A$3,1+INT((ROW()-5)/12),A64,1,1)","v":0},0,{"$f":"IF(AND(C65=\"\",C64<>\"\"),0,IFERROR(IF(E65+C64>0,E65+C64,0)*VLOOKUP(MONTH(B64),'NRI (Auto)'!$O$6:$Q$17,3,0),\"\"))","v":""},{"$f":"IFERROR(IF(NRI!$P$2-E64<=0,NRI!$P$3,NRI!$P$2-E64),\"\")","v":""},{"$error":"#DIV/0!"}]
[1,{"$f":"DATE(NRI!$A$4+INT((ROW()-4)/12),MOD(ROW()-4,12),1)","v":"1991-01-01"},{"$f":"OFFSET(NRI!$A$3,1+INT((ROW()-5)/12),A65,1,1)","v":0},0,{"$f":"IF(AND(C66=\"\",C65<>\"\"),0,IFERROR(IF(E66+C65>0,E66+C65,0)*VLOOKUP(MONTH(B65),'NRI (Auto)'!$O$6:$Q$17,3,0),\"\"))","v":""},{"$f":"IFERROR(IF(NRI!$P$2-E65<=0,NRI!$P$3,NRI!$P$2-E65),\"\")","v":""},{"$error":"#DIV/0!"}]
[2,{"$f":"DATE(NRI!$A$4+INT((ROW()-4)/12),MOD(ROW()-4,12),1)","v":"1991-02-01"},{"$f":"OFFSET(NRI!$A$3,1+INT((ROW()-5)/12),A66,1,1)","v":0},0,{"$f":"IF(AND(C67=\"\",C66<>\"\"),0,IFERROR(IF(E67+C66>0,E67+C66,0)*VLOOKUP(MONTH(B66),'NRI (Auto)'!$O$6:$Q$17,3,0),\"\"))","v":""},{"$f":"IFERROR(IF(NRI!$P$2-E66<=0,NRI!$P$3,NRI!$P$2-E66),\"\")","v":""},{"$error":"#DIV/0!"}]
[3,{"$f":"DATE(NRI!$A$4+INT((ROW()-4)/12),MOD(ROW()-4,12),1)","v":"1991-03-01"},{"$f":"OFFSET(NRI!$A$3,1+INT((ROW()-5)/12),A67,1,1)","v":0},0,{"$f":"IF(AND(C68=\"\",C67<>\"\"),0,IFERROR(IF(E68+C67>0,E68+C67,0)*VLOOKUP(MONTH(B67),'NRI (Auto)'!$O$6:$Q$17,3,0),\"\"))","v":""},{"$f":"IFERROR(IF(NRI!$P$2-E67<=0,NRI!$P$3,NRI!$P$2-E67),\"\")","v":""},{"$error":"#DIV/0!"}]
[4,{"$f":"DATE(NRI!$A$4+INT((ROW()-4)/12),MOD(ROW()-4,12),1)","v":"1991-04-01"},{"$f":"OFFSET(NRI!$A$3,1+INT((ROW()-5)/12),A68,1,1)","v":0},0,{"$f":"IF(AND(C69=\"\",C68<>\"\"),0,IFERROR(IF(E69+C68>0,E69+C68,0)*VLOOKUP(MONTH(B68),'NRI (Auto)'!$O$6:$Q$17,3,0),\"\"))","v":""},{"$f":"IFERROR(IF(NRI!$P$2-E68<=0,NRI!$P$3,NRI!$P$2-E68),\"\")","v":""},{"$error":"#DIV/0!"}]
[5,{"$f":"DATE(NRI!$A$4+INT((ROW()-4)/12),MOD(ROW()-4,12),1)","v":"1991-05-01"},{"$f":"OFFSET(NRI!$A$3,1+INT((ROW()-5)/12),A69,1,1)","v":0},0,{"$f":"IF(AND(C70=\"\",C69<>\"\"),0,IFERROR(IF(E70+C69>0,E70+C69,0)*VLOOKUP(MONTH(B69),'NRI (Auto)'!$O$6:$Q$17,3,0),\"\"))","v":""},{"$f":"IFERROR(IF(NRI!$P$2-E69<=0,NRI!$P$3,NRI!$P$2-E69),\"\")","v":""},{"$error":"#DIV/0!"}]
[6,{"$f":"DATE(NRI!$A$4+INT((ROW()-4)/12),MOD(ROW()-4,12),1)","v":"1991-06-01"},{"$f":"OFFSET(NRI!$A$3,1+INT((ROW()-5)/12),A70,1,1)","v":0},{"$f":"IFERROR(IF(D69+C70>0,D69+C70,0),\"\")","v":0},{"$f":"IF(AND(C71=\"\",C70<>\"\"),0,IFERROR(IF(E71+C70>0,E71+C70,0)*VLOOKUP(MONTH(B70),'NRI (Auto)'!$O$6:$Q$17,3,0),\"\"))","v":""},{"$f":"IFERROR(IF(NRI!$P$2-E70<=0,NRI!$P$3,NRI!$P$2-E70),\"\")","v":""},{"$error":"#DIV/0!"}]
[7,{"$f":"DATE(NRI!$A$4+INT((ROW()-4)/12),MOD(ROW()-4,12),1)","v":"1991-07-01"},{"$f":"OFFSET(NRI!$A$3,1+INT((ROW()-5)/12),A71,1,1)","v":0},0,{"$f":"IF(AND(C72=\"\",C71<>\"\"),0,IFERROR(IF(E72+C71>0,E72+C71,0)*VLOOKUP(MONTH(B71),'NRI (Auto)'!$O$6:$Q$17,3,0),\"\"))","v":""},{"$f":"IFERROR(IF(NRI!$P$2-E71<=0,NRI!$P$3,NRI!$P$2-E71),\"\")","v":""},{"$error":"#DIV/0!"}]
[8,{"$f":"DATE(NRI!$A$4+INT((ROW()-4)/12),MOD(ROW()-4,12),1)","v":"1991-08-01"},{"$f":"OFFSET(NRI!$A$3,1+INT((ROW()-5)/12),A72,1,1)","v":0},0,{"$f":"IF(AND(C73=\"\",C72<>\"\"),0,IFERROR(IF(E73+C72>0,E73+C72,0)*VLOOKUP(MONTH(B72),'NRI (Auto)'!$O$6:$Q$17,3,0),\"\"))","v":""},{"$f":"IFERROR(IF(NRI!$P$2-E72<=0,NRI!$P$3,NRI!$P$2-E72),\"\")","v":""},{"$error":"#DIV/0!"}]
[9,{"$f":"DATE(NRI!$A$4+INT((ROW()-4)/12),MOD(ROW()-4,12),1)","v":"1991-09-01"},{"$f":"OFFSET(NRI!$A$3,1+INT((ROW()-5)/12),A73,1,1)","v":0},0,{"$f":"IF(AND(C74=\"\",C73<>\"\"),0,IFERROR(IF(E74+C73>0,E74+C73,0)*VLOOKUP(MONTH(B73),'NRI (Auto)'!$O$6:$Q$17,3,0),\"\"))","v":""},{"$f":"IFERROR(IF(NRI!$P$2-E73<=0,NRI!$P$3,NRI!$P$2-E73),\"\")","v":""},{"$error":"#DIV/0!"}]
[10,{"$f":"DATE(NRI!$A$4+INT((ROW()-4)/12),MOD(ROW()-4,12),1)","v":"1991-10-01"},{"$f":"OFFSET(NRI!$A$3,1+INT((ROW()-5)/12),A74,1,1)","v":0},0,{"$f":"IF(AND(C75=\"\",C74<>\"\"),0,IFERROR(IF(E75+C74>0,E75+C74,0)*VLOOKUP(MONTH(B74),'NRI (Auto)'!$O$6:$Q$17,3,0),\"\"))","v":""},{"$f":"IFERROR(IF(NRI!$P$2-E74<=0,NRI!$P$3,NRI!$P$2-E74),\"\")","v":""},{"$error":"#DIV/0!"}]
[11,{"$f":"DATE(NRI!$A$4+INT((ROW()-4)/12),MOD(ROW()-4,12),1)","v":"1991-11-01"},{"$f":"OFFSET(NRI!$A$3,1+INT((ROW()-5)/12),A75,1,1)","v":0},0,{"$f":"IF(AND(C76=\"\",C75<>\"\"),0,IFERROR(IF(E76+C75>0,E76+C75,0)*VLOOKUP(MONTH(B75),'NRI (Auto)'!$O$6:$Q$17,3,0),\"\"))","v":""},{"$f":"IFERROR(IF(NRI!$P$2-E75<=0,NRI!$P$3,NRI!$P$2-E75),\"\")","v":""},{"$error":"#DIV/0!"}]
[12,{"$f":"DATE(NRI!$A$4+INT((ROW()-4)/12),MOD(ROW()-4,12),1)","v":"1991-12-01"},{"$f":"OFFSET(NRI!$A$3,1+INT((ROW()-5)/12),A76,1,1)","v":0},0,{"$f":"IF(AND(C77=\"\",C76<>\"\"),0,IFERROR(IF(E77+C76>0,E77+C76,0)*VLOOKUP(MONTH(B76),'NRI (Auto)'!$O$6:$Q$17,3,0),\"\"))","v":""},{"$f":"IFERROR(IF(NRI!$P$2-E76<=0,NRI!$P$3,NRI!$P$2-E76),\"\")","v":""},{"$error":"#DIV/0!"}]
[1,{"$f":"DATE(NRI!$A$4+INT((ROW()-4)/12),MOD(ROW()-4,12),1)","v":"1992-01-01"},{"$f":"OFFSET(NRI!$A$3,1+INT((ROW()-5)/12),A77,1,1)","v":0},0,{"$f":"IF(AND(C78=\"\",C77<>\"\"),0,IFERROR(IF(E78+C77>0,E78+C77,0)*VLOOKUP(MONTH(B77),'NRI (Auto)'!$O$6:$Q$17,3,0),\"\"))","v":""},{"$f":"IFERROR(IF(NRI!$P$2-E77<=0,NRI!$P$3,NRI!$P$2-E77),\"\")","v":""},{"$error":"#DIV/0!"}]
[2,{"$f":"DATE(NRI!$A$4+INT((ROW()-4)/12),MOD(ROW()-4,12),1)","v":"1992-02-01"},{"$f":"OFFSET(NRI!$A$3,1+INT((ROW()-5)/12),A78,1,1)","v":0},0,{"$f":"IF(AND(C79=\"\",C78<>\"\"),0,IFERROR(IF(E79+C78>0,E79+C78,0)*VLOOKUP(MONTH(B78),'NRI (Auto)'!$O$6:$Q$17,3,0),\"\"))","v":""},{"$f":"IFERROR(IF(NRI!$P$2-E78<=0,NRI!$P$3,NRI!$P$2-E78),\"\")","v":""},{"$error":"#DIV/0!"}]
[3,{"$f":"DATE(NRI!$A$4+INT((ROW()-4)/12),MOD(ROW()-4,12),1)","v":"1992-03-01"},{"$f":"OFFSET(NRI!$A$3,1+INT((ROW()-5)/12),A79,1,1)","v":0},0,{"$f":"IF(AND(C80=\"\",C79<>\"\"),0,IFERROR(IF(E80+C79>0,E80+C79,0)*VLOOKUP(MONTH(B79),'NRI (Auto)'!$O$6:$Q$17,3,0),\"\"))","v":""},{"$f":"IFERROR(IF(NRI!$P$2-E79<=0,NRI!$P$3,NRI!$P$2-E79),\"\")","v":""},{"$error":"#DIV/0!"}]
[4,{"$f":"DATE(NRI!$A$4+INT((ROW()-4)/12),MOD(ROW()-4,12),1)","v":"1992-04-01"},{"$f":"OFFSET(NRI!$A$3,1+INT((ROW()-5)/12),A80,1,1)","v":0},0,{"$f":"IF(AND(C81=\"\",C80<>\"\"),0,IFERROR(IF(E81+C80>0,E81+C80,0)*VLOOKUP(MONTH(B80),'NRI (Auto)'!$O$6:$Q$17,3,0),\"\"))","v":""},{"$f":"IFERROR(IF(NRI!$P$2-E80<=0,NRI!$P$3,NRI!$P$2-E80),\"\")","v":""},{"$error":"#DIV/0!"}]
[5,{"$f":"DATE(NRI!$A$4+INT((ROW()-4)/12),MOD(ROW()-4,12),1)","v":"1992-05-01"},{"$f":"OFFSET(NRI!$A$3,1+INT((ROW()-5)/12),A81,1,1)","v":0},0,{"$f":"IF(AND(C82=\"\",C81<>\"\"),0,IFERROR(IF(E82+C81>0,E82+C81,0)*VLOOKUP(MONTH(B81),'NRI (Auto)'!$O$6:$Q$17,3,0),\"\"))","v":""},{"$f":"IFERROR(IF(NRI!$P$2-E81<=0,NRI!$P$3,NRI!$P$2-E81),\"\")","v":""},{"$error":"#DIV/0!"}]
[{"$f":"+A70","v":6},{"$f":"DATE(NRI!$A$4+INT((ROW()-4)/12),MOD(ROW()-4,12),1)","v":"1992-06-01"},{"$f":"OFFSET(NRI!$A$3,1+INT((ROW()-5)/12),A82,1,1)","v":0},0,{"$f":"IF(AND(C83=\"\",C82<>\"\"),0,IFERROR(IF(E83+C82>0,E83+C82,0)*VLOOKUP(MONTH(B82),'NRI (Auto)'!$O$6:$Q$17,3,0),\"\"))","v":""},{"$f":"IFERROR(IF(NRI!$P$2-E82<=0,NRI!$P$3,NRI!$P$2-E82),\"\")","v":""},{"$f":"+G70","v":{"$error":"#DIV/0!"}}]
[7,{"$f":"DATE(NRI!$A$4+INT((ROW()-4)/12),MOD(ROW()-4,12),1)","v":"1992-07-01"},{"$f":"OFFSET(NRI!$A$3,1+INT((ROW()-5)/12),A83,1,1)","v":0},0,{"$f":"IF(AND(C84=\"\",C83<>\"\"),0,IFERROR(IF(E84+C83>0,E84+C83,0)*VLOOKUP(MONTH(B83),'NRI (Auto)'!$O$6:$Q$17,3,0),\"\"))","v":""},{"$f":"IFERROR(IF(NRI!$P$2-E83<=0,NRI!$P$3,NRI!$P$2-E83),\"\")","v":""},{"$error":"#DIV/0!"}]
[8,{"$f":"DATE(NRI!$A$4+INT((ROW()-4)/12),MOD(ROW()-4,12),1)","v":"1992-08-01"},{"$f":"OFFSET(NRI!$A$3,1+INT((ROW()-5)/12),A84,1,1)","v":0},0,{"$f":"IF(AND(C85=\"\",C84<>\"\"),0,IFERROR(IF(E85+C84>0,E85+C84,0)*VLOOKUP(MONTH(B84),'NRI (Auto)'!$O$6:$Q$17,3,0),\"\"))","v":""},{"$f":"IFERROR(IF(NRI!$P$2-E84<=0,NRI!$P$3,NRI!$P$2-E84),\"\")","v":""},{"$error":"#DIV/0!"}]
[9,{"$f":"DATE(NRI!$A$4+INT((ROW()-4)/12),MOD(ROW()-4,12),1)","v":"1992-09-01"},{"$f":"OFFSET(NRI!$A$3,1+INT((ROW()-5)/12),A85,1,1)","v":0},0,{"$f":"IF(AND(C86=\"\",C85<>\"\"),0,IFERROR(IF(E86+C85>0,E86+C85,0)*VLOOKUP(MONTH(B85),'NRI (Auto)'!$O$6:$Q$17,3,0),\"\"))","v":""},{"$f":"IFERROR(IF(NRI!$P$2-E85<=0,NRI!$P$3,NRI!$P$2-E85),\"\")","v":""},{"$error":"#DIV/0!"}]
[10,{"$f":"DATE(NRI!$A$4+INT((ROW()-4)/12),MOD(ROW()-4,12),1)","v":"1992-10-01"},{"$f":"OFFSET(NRI!$A$3,1+INT((ROW()-5)/12),A86,1,1)","v":0},0,{"$f":"IF(AND(C87=\"\",C86<>\"\"),0,IFERROR(IF(E87+C86>0,E87+C86,0)*VLOOKUP(MONTH(B86),'NRI (Auto)'!$O$6:$Q$17,3,0),\"\"))","v":""},{"$f":"IFERROR(IF(NRI!$P$2-E86<=0,NRI!$P$3,NRI!$P$2-E86),\"\")","v":""},{"$error":"#DIV/0!"}]
[11,{"$f":"DATE(NRI!$A$4+INT((ROW()-4)/12),MOD(ROW()-4,12),1)","v":"1992-11-01"},{"$f":"OFFSET(NRI!$A$3,1+INT((ROW()-5)/12),A87,1,1)","v":0},0,{"$f":"IF(AND(C88=\"\",C87<>\"\"),0,IFERROR(IF(E88+C87>0,E88+C87,0)*VLOOKUP(MONTH(B87),'NRI (Auto)'!$O$6:$Q$17,3,0),\"\"))","v":""},{"$f":"IFERROR(IF(NRI!$P$2-E87<=0,NRI!$P$3,NRI!$P$2-E87),\"\")","v":""},{"$error":"#DIV/0!"}]
[12,{"$f":"DATE(NRI!$A$4+INT((ROW()-4)/12),MOD(ROW()-4,12),1)","v":"1992-12-01"},{"$f":"OFFSET(NRI!$A$3,1+INT((ROW()-5)/12),A88,1,1)","v":0},0,{"$f":"IF(AND(C89=\"\",C88<>\"\"),0,IFERROR(IF(E89+C88>0,E89+C88,0)*VLOOKUP(MONTH(B88),'NRI (Auto)'!$O$6:$Q$17,3,0),\"\"))","v":""},{"$f":"IFERROR(IF(NRI!$P$2-E88<=0,NRI!$P$3,NRI!$P$2-E88),\"\")","v":""},{"$error":"#DIV/0!"}]
[1,{"$f":"DATE(NRI!$A$4+INT((ROW()-4)/12),MOD(ROW()-4,12),1)","v":"1993-01-01"},{"$f":"OFFSET(NRI!$A$3,1+INT((ROW()-5)/12),A89,1,1)","v":0},0,{"$f":"IF(AND(C90=\"\",C89<>\"\"),0,IFERROR(IF(E90+C89>0,E90+C89,0)*VLOOKUP(MONTH(B89),'NRI (Auto)'!$O$6:$Q$17,3,0),\"\"))","v":""},{"$f":"IFERROR(IF(NRI!$P$2-E89<=0,NRI!$P$3,NRI!$P$2-E89),\"\")","v":""},{"$error":"#DIV/0!"}]
[2,{"$f":"DATE(NRI!$A$4+INT((ROW()-4)/12),MOD(ROW()-4,12),1)","v":"1993-02-01"},{"$f":"OFFSET(NRI!$A$3,1+INT((ROW()-5)/12),A90,1,1)","v":0},0,{"$f":"IF(AND(C91=\"\",C90<>\"\"),0,IFERROR(IF(E91+C90>0,E91+C90,0)*VLOOKUP(MONTH(B90),'NRI (Auto)'!$O$6:$Q$17,3,0),\"\"))","v":""},{"$f":"IFERROR(IF(NRI!$P$2-E90<=0,NRI!$P$3,NRI!$P$2-E90),\"\")","v":""},{"$error":"#DIV/0!"}]
[3,{"$f":"DATE(NRI!$A$4+INT((ROW()-4)/12),MOD(ROW()-4,12),1)","v":"1993-03-01"},{"$f":"OFFSET(NRI!$A$3,1+INT((ROW()-5)/12),A91,1,1)","v":0},0,{"$f":"IF(AND(C92=\"\",C91<>\"\"),0,IFERROR(IF(E92+C91>0,E92+C91,0)*VLOOKUP(MONTH(B91),'NRI (Auto)'!$O$6:$Q$17,3,0),\"\"))","v":""},{"$f":"IFERROR(IF(NRI!$P$2-E91<=0,NRI!$P$3,NRI!$P$2-E91),\"\")","v":""},{"$error":"#DIV/0!"}]
[4,{"$f":"DATE(NRI!$A$4+INT((ROW()-4)/12),MOD(ROW()-4,12),1)","v":"1993-04-01"},{"$f":"OFFSET(NRI!$A$3,1+INT((ROW()-5)/12),A92,1,1)","v":0},0,{"$f":"IF(AND(C93=\"\",C92<>\"\"),0,IFERROR(IF(E93+C92>0,E93+C92,0)*VLOOKUP(MONTH(B92),'NRI (Auto)'!$O$6:$Q$17,3,0),\"\"))","v":""},{"$f":"IFERROR(IF(NRI!$P$2-E92<=0,NRI!$P$3,NRI!$P$2-E92),\"\")","v":""},{"$error":"#DIV/0!"}]
[5,{"$f":"DATE(NRI!$A$4+INT((ROW()-4)/12),MOD(ROW()-4,12),1)","v":"1993-05-01"},{"$f":"OFFSET(NRI!$A$3,1+INT((ROW()-5)/12),A93,1,1)","v":0},0,{"$f":"IF(AND(C94=\"\",C93<>\"\"),0,IFERROR(IF(E94+C93>0,E94+C93,0)*VLOOKUP(MONTH(B93),'NRI (Auto)'!$O$6:$Q$17,3,0),\"\"))","v":""},{"$f":"IFERROR(IF(NRI!$P$2-E93<=0,NRI!$P$3,NRI!$P$2-E93),\"\")","v":""},{"$error":"#DIV/0!"}]
[6,{"$f":"DATE(NRI!$A$4+INT((ROW()-4)/12),MOD(ROW()-4,12),1)","v":"1993-06-01"},{"$f":"OFFSET(NRI!$A$3,1+INT((ROW()-5)/12),A94,1,1)","v":0},0,{"$f":"IF(AND(C95=\"\",C94<>\"\"),0,IFERROR(IF(E95+C94>0,E95+C94,0)*VLOOKUP(MONTH(B94),'NRI (Auto)'!$O$6:$Q$17,3,0),\"\"))","v":""},{"$f":"IFERROR(IF(NRI!$P$2-E94<=0,NRI!$P$3,NRI!$P$2-E94),\"\")","v":""},{"$error":"#DIV/0!"}]
[7,{"$f":"DATE(NRI!$A$4+INT((ROW()-4)/12),MOD(ROW()-4,12),1)","v":"1993-07-01"},{"$f":"OFFSET(NRI!$A$3,1+INT((ROW()-5)/12),A95,1,1)","v":0},0,{"$f":"IF(AND(C96=\"\",C95<>\"\"),0,IFERROR(IF(E96+C95>0,E96+C95,0)*VLOOKUP(MONTH(B95),'NRI (Auto)'!$O$6:$Q$17,3,0),\"\"))","v":""},{"$f":"IFERROR(IF(NRI!$P$2-E95<=0,NRI!$P$3,NRI!$P$2-E95),\"\")","v":""},{"$error":"#DIV/0!"}]
[8,{"$f":"DATE(NRI!$A$4+INT((ROW()-4)/12),MOD(ROW()-4,12),1)","v":"1993-08-01"},{"$f":"OFFSET(NRI!$A$3,1+INT((ROW()-5)/12),A96,1,1)","v":0},0,{"$f":"IF(AND(C97=\"\",C96<>\"\"),0,IFERROR(IF(E97+C96>0,E97+C96,0)*VLOOKUP(MONTH(B96),'NRI (Auto)'!$O$6:$Q$17,3,0),\"\"))","v":""},{"$f":"IFERROR(IF(NRI!$P$2-E96<=0,NRI!$P$3,NRI!$P$2-E96),\"\")","v":""},{"$error":"#DIV/0!"}]
[9,{"$f":"DATE(NRI!$A$4+INT((ROW()-4)/12),MOD(ROW()-4,12),1)","v":"1993-09-01"},{"$f":"OFFSET(NRI!$A$3,1+INT((ROW()-5)/12),A97,1,1)","v":0},0,{"$f":"IF(AND(C98=\"\",C97<>\"\"),0,IFERROR(IF(E98+C97>0,E98+C97,0)*VLOOKUP(MONTH(B97),'NRI (Auto)'!$O$6:$Q$17,3,0),\"\"))","v":""},{"$f":"IFERROR(IF(NRI!$P$2-E97<=0,NRI!$P$3,NRI!$P$2-E97),\"\")","v":""},{"$error":"#DIV/0!"}]
[10,{"$f":"DATE(NRI!$A$4+INT((ROW()-4)/12),MOD(ROW()-4,12),1)","v":"1993-10-01"},{"$f":"OFFSET(NRI!$A$3,1+INT((ROW()-5)/12),A98,1,1)","v":0},0,{"$f":"IF(AND(C99=\"\",C98<>\"\"),0,IFERROR(IF(E99+C98>0,E99+C98,0)*VLOOKUP(MONTH(B98),'NRI (Auto)'!$O$6:$Q$17,3,0),\"\"))","v":""},{"$f":"IFERROR(IF(NRI!$P$2-E98<=0,NRI!$P$3,NRI!$P$2-E98),\"\")","v":""},{"$error":"#DIV/0!"}]
[11,{"$f":"DATE(NRI!$A$4+INT((ROW()-4)/12),MOD(ROW()-4,12),1)","v":"1993-11-01"},{"$f":"OFFSET(NRI!$A$3,1+INT((ROW()-5)/12),A99,1,1)","v":0},0,{"$f":"IF(AND(C100=\"\",C99<>\"\"),0,IFERROR(IF(E100+C99>0,E100+C99,0)*VLOOKUP(MONTH(B99),'NRI (Auto)'!$O$6:$Q$17,3,0),\"\"))","v":""},{"$f":"IFERROR(IF(NRI!$P$2-E99<=0,NRI!$P$3,NRI!$P$2-E99),\"\")","v":""},{"$error":"#DIV/0!"}]
[12,{"$f":"DATE(NRI!$A$4+INT((ROW()-4)/12),MOD(ROW()-4,12),1)","v":"1993-12-01"},{"$f":"OFFSET(NRI!$A$3,1+INT((ROW()-5)/12),A100,1,1)","v":0},0,{"$f":"IF(AND(C101=\"\",C100<>\"\"),0,IFERROR(IF(E101+C100>0,E101+C100,0)*VLOOKUP(MONTH(B100),'NRI (Auto)'!$O$6:$Q$17,3,0),\"\"))","v":""},{"$f":"IFERROR(IF(NRI!$P$2-E100<=0,NRI!$P$3,NRI!$P$2-E100),\"\")","v":""},{"$error":"#DIV/0!"}]
[1,{"$f":"DATE(NRI!$A$4+INT((ROW()-4)/12),MOD(ROW()-4,12),1)","v":"1994-01-01"},{"$f":"OFFSET(NRI!$A$3,1+INT((ROW()-5)/12),A101,1,1)","v":0},0,{"$f":"IF(AND(C102=\"\",C101<>\"\"),0,IFERROR(IF(E102+C101>0,E102+C101,0)*VLOOKUP(MONTH(B101),'NRI (Auto)'!$O$6:$Q$17,3,0),\"\"))","v":""},{"$f":"IFERROR(IF(NRI!$P$2-E101<=0,NRI!$P$3,NRI!$P$2-E101),\"\")","v":""},{"$error":"#DIV/0!"}]
[2,{"$f":"DATE(NRI!$A$4+INT((ROW()-4)/12),MOD(ROW()-4,12),1)","v":"1994-02-01"},{"$f":"OFFSET(NRI!$A$3,1+INT((ROW()-5)/12),A102,1,1)","v":0},0,{"$f":"IF(AND(C103=\"\",C102<>\"\"),0,IFERROR(IF(E103+C102>0,E103+C102,0)*VLOOKUP(MONTH(B102),'NRI (Auto)'!$O$6:$Q$17,3,0),\"\"))","v":""},{"$f":"IFERROR(IF(NRI!$P$2-E102<=0,NRI!$P$3,NRI!$P$2-E102),\"\")","v":""},{"$error":"#DIV/0!"}]
[3,{"$f":"DATE(NRI!$A$4+INT((ROW()-4)/12),MOD(ROW()-4,12),1)","v":"1994-03-01"},{"$f":"OFFSET(NRI!$A$3,1+INT((ROW()-5)/12),A103,1,1)","v":0},0,{"$f":"IF(AND(C104=\"\",C103<>\"\"),0,IFERROR(IF(E104+C103>0,E104+C103,0)*VLOOKUP(MONTH(B103),'NRI (Auto)'!$O$6:$Q$17,3,0),\"\"))","v":""},{"$f":"IFERROR(IF(NRI!$P$2-E103<=0,NRI!$P$3,NRI!$P$2-E103),\"\")","v":""},{"$error":"#DIV/0!"}]
[4,{"$f":"DATE(NRI!$A$4+INT((ROW()-4)/12),MOD(ROW()-4,12),1)","v":"1994-04-01"},{"$f":"OFFSET(NRI!$A$3,1+INT((ROW()-5)/12),A104,1,1)","v":0},0,{"$f":"IF(AND(C105=\"\",C104<>\"\"),0,IFERROR(IF(E105+C104>0,E105+C104,0)*VLOOKUP(MONTH(B104),'NRI (Auto)'!$O$6:$Q$17,3,0),\"\"))","v":""},{"$f":"IFERROR(IF(NRI!$P$2-E104<=0,NRI!$P$3,NRI!$P$2-E104),\"\")","v":""},{"$error":"#DIV/0!"}]
[5,{"$f":"DATE(NRI!$A$4+INT((ROW()-4)/12),MOD(ROW()-4,12),1)","v":"1994-05-01"},{"$f":"OFFSET(NRI!$A$3,1+INT((ROW()-5)/12),A105,1,1)","v":0},0,{"$f":"IF(AND(C106=\"\",C105<>\"\"),0,IFERROR(IF(E106+C105>0,E106+C105,0)*VLOOKUP(MONTH(B105),'NRI (Auto)'!$O$6:$Q$17,3,0),\"\"))","v":""},{"$f":"IFERROR(IF(NRI!$P$2-E105<=0,NRI!$P$3,NRI!$P$2-E105),\"\")","v":""},{"$error":"#DIV/0!"}]
[6,{"$f":"DATE(NRI!$A$4+INT((ROW()-4)/12),MOD(ROW()-4,12),1)","v":"1994-06-01"},{"$f":"OFFSET(NRI!$A$3,1+INT((ROW()-5)/12),A106,1,1)","v":0},0,{"$f":"IF(AND(C107=\"\",C106<>\"\"),0,IFERROR(IF(E107+C106>0,E107+C106,0)*VLOOKUP(MONTH(B106),'NRI (Auto)'!$O$6:$Q$17,3,0),\"\"))","v":""},{"$f":"IFERROR(IF(NRI!$P$2-E106<=0,NRI!$P$3,NRI!$P$2-E106),\"\")","v":""},{"$error":"#DIV/0!"}]
[7,{"$f":"DATE(NRI!$A$4+INT((ROW()-4)/12),MOD(ROW()-4,12),1)","v":"1994-07-01"},{"$f":"OFFSET(NRI!$A$3,1+INT((ROW()-5)/12),A107,1,1)","v":0},0,{"$f":"IF(AND(C108=\"\",C107<>\"\"),0,IFERROR(IF(E108+C107>0,E108+C107,0)*VLOOKUP(MONTH(B107),'NRI (Auto)'!$O$6:$Q$17,3,0),\"\"))","v":""},{"$f":"IFERROR(IF(NRI!$P$2-E107<=0,NRI!$P$3,NRI!$P$2-E107),\"\")","v":""},{"$error":"#DIV/0!"}]
[8,{"$f":"DATE(NRI!$A$4+INT((ROW()-4)/12),MOD(ROW()-4,12),1)","v":"1994-08-01"},{"$f":"OFFSET(NRI!$A$3,1+INT((ROW()-5)/12),A108,1,1)","v":0},0,{"$f":"IF(AND(C109=\"\",C108<>\"\"),0,IFERROR(IF(E109+C108>0,E109+C108,0)*VLOOKUP(MONTH(B108),'NRI (Auto)'!$O$6:$Q$17,3,0),\"\"))","v":""},{"$f":"IFERROR(IF(NRI!$P$2-E108<=0,NRI!$P$3,NRI!$P$2-E108),\"\")","v":""},{"$error":"#DIV/0!"}]
[9,{"$f":"DATE(NRI!$A$4+INT((ROW()-4)/12),MOD(ROW()-4,12),1)","v":"1994-09-01"},{"$f":"OFFSET(NRI!$A$3,1+INT((ROW()-5)/12),A109,1,1)","v":0},0,{"$f":"IF(AND(C110=\"\",C109<>\"\"),0,IFERROR(IF(E110+C109>0,E110+C109,0)*VLOOKUP(MONTH(B109),'NRI (Auto)'!$O$6:$Q$17,3,0),\"\"))","v":""},{"$f":"IFERROR(IF(NRI!$P$2-E109<=0,NRI!$P$3,NRI!$P$2-E109),\"\")","v":""},{"$error":"#DIV/0!"}]
[10,{"$f":"DATE(NRI!$A$4+INT((ROW()-4)/12),MOD(ROW()-4,12),1)","v":"1994-10-01"},{"$f":"OFFSET(NRI!$A$3,1+INT((ROW()-5)/12),A110,1,1)","v":0},0,{"$f":"IF(AND(C111=\"\",C110<>\"\"),0,IFERROR(IF(E111+C110>0,E111+C110,0)*VLOOKUP(MONTH(B110),'NRI (Auto)'!$O$6:$Q$17,3,0),\"\"))","v":""},{"$f":"IFERROR(IF(NRI!$P$2-E110<=0,NRI!$P$3,NRI!$P$2-E110),\"\")","v":""},{"$error":"#DIV/0!"}]
[11,{"$f":"DATE(NRI!$A$4+INT((ROW()-4)/12),MOD(ROW()-4,12),1)","v":"1994-11-01"},{"$f":"OFFSET(NRI!$A$3,1+INT((ROW()-5)/12),A111,1,1)","v":0},0,{"$f":"IF(AND(C112=\"\",C111<>\"\"),0,IFERROR(IF(E112+C111>0,E112+C111,0)*VLOOKUP(MONTH(B111),'NRI (Auto)'!$O$6:$Q$17,3,0),\"\"))","v":""},{"$f":"IFERROR(IF(NRI!$P$2-E111<=0,NRI!$P$3,NRI!$P$2-E111),\"\")","v":""},{"$error":"#DIV/0!"}]
[12,{"$f":"DATE(NRI!$A$4+INT((ROW()-4)/12),MOD(ROW()-4,12),1)","v":"1994-12-01"},{"$f":"OFFSET(NRI!$A$3,1+INT((ROW()-5)/12),A112,1,1)","v":0},0,{"$f":"IF(AND(C113=\"\",C112<>\"\"),0,IFERROR(IF(E113+C112>0,E113+C112,0)*VLOOKUP(MONTH(B112),'NRI (Auto)'!$O$6:$Q$17,3,0),\"\"))","v":""},{"$f":"IFERROR(IF(NRI!$P$2-E112<=0,NRI!$P$3,NRI!$P$2-E112),\"\")","v":""},{"$error":"#DIV/0!"}]
[1,{"$f":"DATE(NRI!$A$4+INT((ROW()-4)/12),MOD(ROW()-4,12),1)","v":"1995-01-01"},{"$f":"OFFSET(NRI!$A$3,1+INT((ROW()-5)/12),A113,1,1)","v":0},0,{"$f":"IF(AND(C114=\"\",C113<>\"\"),0,IFERROR(IF(E114+C113>0,E114+C113,0)*VLOOKUP(MONTH(B113),'NRI (Auto)'!$O$6:$Q$17,3,0),\"\"))","v":""},{"$f":"IFERROR(IF(NRI!$P$2-E113<=0,NRI!$P$3,NRI!$P$2-E113),\"\")","v":""},{"$error":"#DIV/0!"}]
[2,{"$f":"DATE(NRI!$A$4+INT((ROW()-4)/12),MOD(ROW()-4,12),1)","v":"1995-02-01"},{"$f":"OFFSET(NRI!$A$3,1+INT((ROW()-5)/12),A114,1,1)","v":0},0,{"$f":"IF(AND(C115=\"\",C114<>\"\"),0,IFERROR(IF(E115+C114>0,E115+C114,0)*VLOOKUP(MONTH(B114),'NRI (Auto)'!$O$6:$Q$17,3,0),\"\"))","v":""},{"$f":"IFERROR(IF(NRI!$P$2-E114<=0,NRI!$P$3,NRI!$P$2-E114),\"\")","v":""},{"$error":"#DIV/0!"}]
[3,{"$f":"DATE(NRI!$A$4+INT((ROW()-4)/12),MOD(ROW()-4,12),1)","v":"1995-03-01"},{"$f":"OFFSET(NRI!$A$3,1+INT((ROW()-5)/12),A115,1,1)","v":0},0,{"$f":"IF(AND(C116=\"\",C115<>\"\"),0,IFERROR(IF(E116+C115>0,E116+C115,0)*VLOOKUP(MONTH(B115),'NRI (Auto)'!$O$6:$Q$17,3,0),\"\"))","v":""},{"$f":"IFERROR(IF(NRI!$P$2-E115<=0,NRI!$P$3,NRI!$P$2-E115),\"\")","v":""},{"$error":"#DIV/0!"}]
[4,{"$f":"DATE(NRI!$A$4+INT((ROW()-4)/12),MOD(ROW()-4,12),1)","v":"1995-04-01"},{"$f":"OFFSET(NRI!$A$3,1+INT((ROW()-5)/12),A116,1,1)","v":0},0,{"$f":"IF(AND(C117=\"\",C116<>\"\"),0,IFERROR(IF(E117+C116>0,E117+C116,0)*VLOOKUP(MONTH(B116),'NRI (Auto)'!$O$6:$Q$17,3,0),\"\"))","v":""},{"$f":"IFERROR(IF(NRI!$P$2-E116<=0,NRI!$P$3,NRI!$P$2-E116),\"\")","v":""},{"$error":"#DIV/0!"}]
[5,{"$f":"DATE(NRI!$A$4+INT((ROW()-4)/12),MOD(ROW()-4,12),1)","v":"1995-05-01"},{"$f":"OFFSET(NRI!$A$3,1+INT((ROW()-5)/12),A117,1,1)","v":0},0,{"$f":"IF(AND(C118=\"\",C117<>\"\"),0,IFERROR(IF(E118+C117>0,E118+C117,0)*VLOOKUP(MONTH(B117),'NRI (Auto)'!$O$6:$Q$17,3,0),\"\"))","v":""},{"$f":"IFERROR(IF(NRI!$P$2-E117<=0,NRI!$P$3,NRI!$P$2-E117),\"\")","v":""},{"$error":"#DIV/0!"}]
[6,{"$f":"DATE(NRI!$A$4+INT((ROW()-4)/12),MOD(ROW()-4,12),1)","v":"1995-06-01"},{"$f":"OFFSET(NRI!$A$3,1+INT((ROW()-5)/12),A118,1,1)","v":0},0,{"$f":"IF(AND(C119=\"\",C118<>\"\"),0,IFERROR(IF(E119+C118>0,E119+C118,0)*VLOOKUP(MONTH(B118),'NRI (Auto)'!$O$6:$Q$17,3,0),\"\"))","v":""},{"$f":"IFERROR(IF(NRI!$P$2-E118<=0,NRI!$P$3,NRI!$P$2-E118),\"\")","v":""},{"$error":"#DIV/0!"}]
[7,{"$f":"DATE(NRI!$A$4+INT((ROW()-4)/12),MOD(ROW()-4,12),1)","v":"1995-07-01"},{"$f":"OFFSET(NRI!$A$3,1+INT((ROW()-5)/12),A119,1,1)","v":0},0,{"$f":"IF(AND(C120=\"\",C119<>\"\"),0,IFERROR(IF(E120+C119>0,E120+C119,0)*VLOOKUP(MONTH(B119),'NRI (Auto)'!$O$6:$Q$17,3,0),\"\"))","v":""},{"$f":"IFERROR(IF(NRI!$P$2-E119<=0,NRI!$P$3,NRI!$P$2-E119),\"\")","v":""},{"$error":"#DIV/0!"}]
[8,{"$f":"DATE(NRI!$A$4+INT((ROW()-4)/12),MOD(ROW()-4,12),1)","v":"1995-08-01"},{"$f":"OFFSET(NRI!$A$3,1+INT((ROW()-5)/12),A120,1,1)","v":0},0,{"$f":"IF(AND(C121=\"\",C120<>\"\"),0,IFERROR(IF(E121+C120>0,E121+C120,0)*VLOOKUP(MONTH(B120),'NRI (Auto)'!$O$6:$Q$17,3,0),\"\"))","v":""},{"$f":"IFERROR(IF(NRI!$P$2-E120<=0,NRI!$P$3,NRI!$P$2-E120),\"\")","v":""},{"$error":"#DIV/0!"}]
[9,{"$f":"DATE(NRI!$A$4+INT((ROW()-4)/12),MOD(ROW()-4,12),1)","v":"1995-09-01"},{"$f":"OFFSET(NRI!$A$3,1+INT((ROW()-5)/12),A121,1,1)","v":0},0,{"$f":"IF(AND(C122=\"\",C121<>\"\"),0,IFERROR(IF(E122+C121>0,E122+C121,0)*VLOOKUP(MONTH(B121),'NRI (Auto)'!$O$6:$Q$17,3,0),\"\"))","v":""},{"$f":"IFERROR(IF(NRI!$P$2-E121<=0,NRI!$P$3,NRI!$P$2-E121),\"\")","v":""},{"$error":"#DIV/0!"}]
[10,{"$f":"DATE(NRI!$A$4+INT((ROW()-4)/12),MOD(ROW()-4,12),1)","v":"1995-10-01"},{"$f":"OFFSET(NRI!$A$3,1+INT((ROW()-5)/12),A122,1,1)","v":0},0,{"$f":"IF(AND(C123=\"\",C122<>\"\"),0,IFERROR(IF(E123+C122>0,E123+C122,0)*VLOOKUP(MONTH(B122),'NRI (Auto)'!$O$6:$Q$17,3,0),\"\"))","v":""},{"$f":"IFERROR(IF(NRI!$P$2-E122<=0,NRI!$P$3,NRI!$P$2-E122),\"\")","v":""},{"$error":"#DIV/0!"}]
[11,{"$f":"DATE(NRI!$A$4+INT((ROW()-4)/12),MOD(ROW()-4,12),1)","v":"1995-11-01"},{"$f":"OFFSET(NRI!$A$3,1+INT((ROW()-5)/12),A123,1,1)","v":0},0,{"$f":"IF(AND(C124=\"\",C123<>\"\"),0,IFERROR(IF(E124+C123>0,E124+C123,0)*VLOOKUP(MONTH(B123),'NRI (Auto)'!$O$6:$Q$17,3,0),\"\"))","v":""},{"$f":"IFERROR(IF(NRI!$P$2-E123<=0,NRI!$P$3,NRI!$P$2-E123),\"\")","v":""},{"$error":"#DIV/0!"}]
[12,{"$f":"DATE(NRI!$A$4+INT((ROW()-4)/12),MOD(ROW()-4,12),1)","v":"1995-12-01"},{"$f":"OFFSET(NRI!$A$3,1+INT((ROW()-5)/12),A124,1,1)","v":0},0,{"$f":"IF(AND(C125=\"\",C124<>\"\"),0,IFERROR(IF(E125+C124>0,E125+C124,0)*VLOOKUP(MONTH(B124),'NRI (Auto)'!$O$6:$Q$17,3,0),\"\"))","v":""},{"$f":"IFERROR(IF(NRI!$P$2-E124<=0,NRI!$P$3,NRI!$P$2-E124),\"\")","v":""},{"$error":"#DIV/0!"}]
[1,{"$f":"DATE(NRI!$A$4+INT((ROW()-4)/12),MOD(ROW()-4,12),1)","v":"1996-01-01"},{"$f":"OFFSET(NRI!$A$3,1+INT((ROW()-5)/12),A125,1,1)","v":0},0,{"$f":"IF(AND(C126=\"\",C125<>\"\"),0,IFERROR(IF(E126+C125>0,E126+C125,0)*VLOOKUP(MONTH(B125),'NRI (Auto)'!$O$6:$Q$17,3,0),\"\"))","v":""},{"$f":"IFERROR(IF(NRI!$P$2-E125<=0,NRI!$P$3,NRI!$P$2-E125),\"\")","v":""},{"$error":"#DIV/0!"}]
[2,{"$f":"DATE(NRI!$A$4+INT((ROW()-4)/12),MOD(ROW()-4,12),1)","v":"1996-02-01"},{"$f":"OFFSET(NRI!$A$3,1+INT((ROW()-5)/12),A126,1,1)","v":0},0,{"$f":"IF(AND(C127=\"\",C126<>\"\"),0,IFERROR(IF(E127+C126>0,E127+C126,0)*VLOOKUP(MONTH(B126),'NRI (Auto)'!$O$6:$Q$17,3,0),\"\"))","v":""},{"$f":"IFERROR(IF(NRI!$P$2-E126<=0,NRI!$P$3,NRI!$P$2-E126),\"\")","v":""},{"$error":"#DIV/0!"}]
[3,{"$f":"DATE(NRI!$A$4+INT((ROW()-4)/12),MOD(ROW()-4,12),1)","v":"1996-03-01"},{"$f":"OFFSET(NRI!$A$3,1+INT((ROW()-5)/12),A127,1,1)","v":0},0,{"$f":"IF(AND(C128=\"\",C127<>\"\"),0,IFERROR(IF(E128+C127>0,E128+C127,0)*VLOOKUP(MONTH(B127),'NRI (Auto)'!$O$6:$Q$17,3,0),\"\"))","v":""},{"$f":"IFERROR(IF(NRI!$P$2-E127<=0,NRI!$P$3,NRI!$P$2-E127),\"\")","v":""},{"$error":"#DIV/0!"}]
[4,{"$f":"DATE(NRI!$A$4+INT((ROW()-4)/12),MOD(ROW()-4,12),1)","v":"1996-04-01"},{"$f":"OFFSET(NRI!$A$3,1+INT((ROW()-5)/12),A128,1,1)","v":0},0,{"$f":"IF(AND(C129=\"\",C128<>\"\"),0,IFERROR(IF(E129+C128>0,E129+C128,0)*VLOOKUP(MONTH(B128),'NRI (Auto)'!$O$6:$Q$17,3,0),\"\"))","v":""},{"$f":"IFERROR(IF(NRI!$P$2-E128<=0,NRI!$P$3,NRI!$P$2-E128),\"\")","v":""},{"$error":"#DIV/0!"}]
[5,{"$f":"DATE(NRI!$A$4+INT((ROW()-4)/12),MOD(ROW()-4,12),1)","v":"1996-05-01"},{"$f":"OFFSET(NRI!$A$3,1+INT((ROW()-5)/12),A129,1,1)","v":0},0,{"$f":"IF(AND(C130=\"\",C129<>\"\"),0,IFERROR(IF(E130+C129>0,E130+C129,0)*VLOOKUP(MONTH(B129),'NRI (Auto)'!$O$6:$Q$17,3,0),\"\"))","v":""},{"$f":"IFERROR(IF(NRI!$P$2-E129<=0,NRI!$P$3,NRI!$P$2-E129),\"\")","v":""},{"$error":"#DIV/0!"}]
[6,{"$f":"DATE(NRI!$A$4+INT((ROW()-4)/12),MOD(ROW()-4,12),1)","v":"1996-06-01"},{"$f":"OFFSET(NRI!$A$3,1+INT((ROW()-5)/12),A130,1,1)","v":0},0,{"$f":"IF(AND(C131=\"\",C130<>\"\"),0,IFERROR(IF(E131+C130>0,E131+C130,0)*VLOOKUP(MONTH(B130),'NRI (Auto)'!$O$6:$Q$17,3,0),\"\"))","v":""},{"$f":"IFERROR(IF(NRI!$P$2-E130<=0,NRI!$P$3,NRI!$P$2-E130),\"\")","v":""},{"$error":"#DIV/0!"}]
[7,{"$f":"DATE(NRI!$A$4+INT((ROW()-4)/12),MOD(ROW()-4,12),1)","v":"1996-07-01"},{"$f":"OFFSET(NRI!$A$3,1+INT((ROW()-5)/12),A131,1,1)","v":0},0,{"$f":"IF(AND(C132=\"\",C131<>\"\"),0,IFERROR(IF(E132+C131>0,E132+C131,0)*VLOOKUP(MONTH(B131),'NRI (Auto)'!$O$6:$Q$17,3,0),\"\"))","v":""},{"$f":"IFERROR(IF(NRI!$P$2-E131<=0,NRI!$P$3,NRI!$P$2-E131),\"\")","v":""},{"$error":"#DIV/0!"}]
[8,{"$f":"DATE(NRI!$A$4+INT((ROW()-4)/12),MOD(ROW()-4,12),1)","v":"1996-08-01"},{"$f":"OFFSET(NRI!$A$3,1+INT((ROW()-5)/12),A132,1,1)","v":0},0,{"$f":"IF(AND(C133=\"\",C132<>\"\"),0,IFERROR(IF(E133+C132>0,E133+C132,0)*VLOOKUP(MONTH(B132),'NRI (Auto)'!$O$6:$Q$17,3,0),\"\"))","v":""},{"$f":"IFERROR(IF(NRI!$P$2-E132<=0,NRI!$P$3,NRI!$P$2-E132),\"\")","v":""},{"$error":"#DIV/0!"}]
[9,{"$f":"DATE(NRI!$A$4+INT((ROW()-4)/12),MOD(ROW()-4,12),1)","v":"1996-09-01"},{"$f":"OFFSET(NRI!$A$3,1+INT((ROW()-5)/12),A133,1,1)","v":0},0,{"$f":"IF(AND(C134=\"\",C133<>\"\"),0,IFERROR(IF(E134+C133>0,E134+C133,0)*VLOOKUP(MONTH(B133),'NRI (Auto)'!$O$6:$Q$17,3,0),\"\"))","v":""},{"$f":"IFERROR(IF(NRI!$P$2-E133<=0,NRI!$P$3,NRI!$P$2-E133),\"\")","v":""},{"$error":"#DIV/0!"}]
[10,{"$f":"DATE(NRI!$A$4+INT((ROW()-4)/12),MOD(ROW()-4,12),1)","v":"1996-10-01"},{"$f":"OFFSET(NRI!$A$3,1+INT((ROW()-5)/12),A134,1,1)","v":0},{"$f":"IFERROR(IF(D133+C134>0,D133+C134,0),\"\")","v":0},{"$f":"IF(AND(C135=\"\",C134<>\"\"),0,IFERROR(IF(E135+C134>0,E135+C134,0)*VLOOKUP(MONTH(B134),'NRI (Auto)'!$O$6:$Q$17,3,0),\"\"))","v":""},{"$f":"IFERROR(IF(NRI!$P$2-E134<=0,NRI!$P$3,NRI!$P$2-E134),\"\")","v":""},{"$error":"#DIV/0!"}]
[11,{"$f":"DATE(NRI!$A$4+INT((ROW()-4)/12),MOD(ROW()-4,12),1)","v":"1996-11-01"},{"$f":"OFFSET(NRI!$A$3,1+INT((ROW()-5)/12),A135,1,1)","v":0},0,{"$f":"IF(AND(C136=\"\",C135<>\"\"),0,IFERROR(IF(E136+C135>0,E136+C135,0)*VLOOKUP(MONTH(B135),'NRI (Auto)'!$O$6:$Q$17,3,0),\"\"))","v":""},{"$f":"IFERROR(IF(NRI!$P$2-E135<=0,NRI!$P$3,NRI!$P$2-E135),\"\")","v":""},{"$error":"#DIV/0!"}]
[12,{"$f":"DATE(NRI!$A$4+INT((ROW()-4)/12),MOD(ROW()-4,12),1)","v":"1996-12-01"},{"$f":"OFFSET(NRI!$A$3,1+INT((ROW()-5)/12),A136,1,1)","v":0},0,{"$f":"IF(AND(C137=\"\",C136<>\"\"),0,IFERROR(IF(E137+C136>0,E137+C136,0)*VLOOKUP(MONTH(B136),'NRI (Auto)'!$O$6:$Q$17,3,0),\"\"))","v":""},{"$f":"IFERROR(IF(NRI!$P$2-E136<=0,NRI!$P$3,NRI!$P$2-E136),\"\")","v":""},{"$error":"#DIV/0!"}]
[1,{"$f":"DATE(NRI!$A$4+INT((ROW()-4)/12),MOD(ROW()-4,12),1)","v":"1997-01-01"},{"$f":"OFFSET(NRI!$A$3,1+INT((ROW()-5)/12),A137,1,1)","v":0},0,{"$f":"IF(AND(C138=\"\",C137<>\"\"),0,IFERROR(IF(E138+C137>0,E138+C137,0)*VLOOKUP(MONTH(B137),'NRI (Auto)'!$O$6:$Q$17,3,0),\"\"))","v":""},{"$f":"IFERROR(IF(NRI!$P$2-E137<=0,NRI!$P$3,NRI!$P$2-E137),\"\")","v":""},{"$error":"#DIV/0!"}]
[2,{"$f":"DATE(NRI!$A$4+INT((ROW()-4)/12),MOD(ROW()-4,12),1)","v":"1997-02-01"},{"$f":"OFFSET(NRI!$A$3,1+INT((ROW()-5)/12),A138,1,1)","v":0},0,{"$f":"IF(AND(C139=\"\",C138<>\"\"),0,IFERROR(IF(E139+C138>0,E139+C138,0)*VLOOKUP(MONTH(B138),'NRI (Auto)'!$O$6:$Q$17,3,0),\"\"))","v":""},{"$f":"IFERROR(IF(NRI!$P$2-E138<=0,NRI!$P$3,NRI!$P$2-E138),\"\")","v":""},{"$error":"#DIV/0!"}]
[3,{"$f":"DATE(NRI!$A$4+INT((ROW()-4)/12),MOD(ROW()-4,12),1)","v":"1997-03-01"},{"$f":"OFFSET(NRI!$A$3,1+INT((ROW()-5)/12),A139,1,1)","v":0},0,{"$f":"IF(AND(C140=\"\",C139<>\"\"),0,IFERROR(IF(E140+C139>0,E140+C139,0)*VLOOKUP(MONTH(B139),'NRI (Auto)'!$O$6:$Q$17,3,0),\"\"))","v":""},{"$f":"IFERROR(IF(NRI!$P$2-E139<=0,NRI!$P$3,NRI!$P$2-E139),\"\")","v":""},{"$error":"#DIV/0!"}]
[4,{"$f":"DATE(NRI!$A$4+INT((ROW()-4)/12),MOD(ROW()-4,12),1)","v":"1997-04-01"},{"$f":"OFFSET(NRI!$A$3,1+INT((ROW()-5)/12),A140,1,1)","v":0},0,{"$f":"IF(AND(C141=\"\",C140<>\"\"),0,IFERROR(IF(E141+C140>0,E141+C140,0)*VLOOKUP(MONTH(B140),'NRI (Auto)'!$O$6:$Q$17,3,0),\"\"))","v":""},{"$f":"IFERROR(IF(NRI!$P$2-E140<=0,NRI!$P$3,NRI!$P$2-E140),\"\")","v":""},{"$error":"#DIV/0!"}]
[5,{"$f":"DATE(NRI!$A$4+INT((ROW()-4)/12),MOD(ROW()-4,12),1)","v":"1997-05-01"},{"$f":"OFFSET(NRI!$A$3,1+INT((ROW()-5)/12),A141,1,1)","v":0},0,{"$f":"IF(AND(C142=\"\",C141<>\"\"),0,IFERROR(IF(E142+C141>0,E142+C141,0)*VLOOKUP(MONTH(B141),'NRI (Auto)'!$O$6:$Q$17,3,0),\"\"))","v":""},{"$f":"IFERROR(IF(NRI!$P$2-E141<=0,NRI!$P$3,NRI!$P$2-E141),\"\")","v":""},{"$error":"#DIV/0!"}]
[6,{"$f":"DATE(NRI!$A$4+INT((ROW()-4)/12),MOD(ROW()-4,12),1)","v":"1997-06-01"},{"$f":"OFFSET(NRI!$A$3,1+INT((ROW()-5)/12),A142,1,1)","v":0},0,{"$f":"IF(AND(C143=\"\",C142<>\"\"),0,IFERROR(IF(E143+C142>0,E143+C142,0)*VLOOKUP(MONTH(B142),'NRI (Auto)'!$O$6:$Q$17,3,0),\"\"))","v":""},{"$f":"IFERROR(IF(NRI!$P$2-E142<=0,NRI!$P$3,NRI!$P$2-E142),\"\")","v":""},{"$error":"#DIV/0!"}]
[7,{"$f":"DATE(NRI!$A$4+INT((ROW()-4)/12),MOD(ROW()-4,12),1)","v":"1997-07-01"},{"$f":"OFFSET(NRI!$A$3,1+INT((ROW()-5)/12),A143,1,1)","v":0},0,{"$f":"IF(AND(C144=\"\",C143<>\"\"),0,IFERROR(IF(E144+C143>0,E144+C143,0)*VLOOKUP(MONTH(B143),'NRI (Auto)'!$O$6:$Q$17,3,0),\"\"))","v":""},{"$f":"IFERROR(IF(NRI!$P$2-E143<=0,NRI!$P$3,NRI!$P$2-E143),\"\")","v":""},{"$error":"#DIV/0!"}]
[8,{"$f":"DATE(NRI!$A$4+INT((ROW()-4)/12),MOD(ROW()-4,12),1)","v":"1997-08-01"},{"$f":"OFFSET(NRI!$A$3,1+INT((ROW()-5)/12),A144,1,1)","v":0},0,{"$f":"IF(AND(C145=\"\",C144<>\"\"),0,IFERROR(IF(E145+C144>0,E145+C144,0)*VLOOKUP(MONTH(B144),'NRI (Auto)'!$O$6:$Q$17,3,0),\"\"))","v":""},{"$f":"IFERROR(IF(NRI!$P$2-E144<=0,NRI!$P$3,NRI!$P$2-E144),\"\")","v":""},{"$error":"#DIV/0!"}]
[9,{"$f":"DATE(NRI!$A$4+INT((ROW()-4)/12),MOD(ROW()-4,12),1)","v":"1997-09-01"},{"$f":"OFFSET(NRI!$A$3,1+INT((ROW()-5)/12),A145,1,1)","v":0},0,{"$f":"IF(AND(C146=\"\",C145<>\"\"),0,IFERROR(IF(E146+C145>0,E146+C145,0)*VLOOKUP(MONTH(B145),'NRI (Auto)'!$O$6:$Q$17,3,0),\"\"))","v":""},{"$f":"IFERROR(IF(NRI!$P$2-E145<=0,NRI!$P$3,NRI!$P$2-E145),\"\")","v":""},{"$error":"#DIV/0!"}]
[{"$f":"+A134","v":10},{"$f":"DATE(NRI!$A$4+INT((ROW()-4)/12),MOD(ROW()-4,12),1)","v":"1997-10-01"},{"$f":"OFFSET(NRI!$A$3,1+INT((ROW()-5)/12),A146,1,1)","v":0},0,{"$f":"IF(AND(C147=\"\",C146<>\"\"),0,IFERROR(IF(E147+C146>0,E147+C146,0)*VLOOKUP(MONTH(B146),'NRI (Auto)'!$O$6:$Q$17,3,0),\"\"))","v":""},{"$f":"IFERROR(IF(NRI!$P$2-E146<=0,NRI!$P$3,NRI!$P$2-E146),\"\")","v":""},{"$f":"+G134","v":{"$error":"#DIV/0!"}}]
[11,{"$f":"DATE(NRI!$A$4+INT((ROW()-4)/12),MOD(ROW()-4,12),1)","v":"1997-11-01"},{"$f":"OFFSET(NRI!$A$3,1+INT((ROW()-5)/12),A147,1,1)","v":0},0,{"$f":"IF(AND(C148=\"\",C147<>\"\"),0,IFERROR(IF(E148+C147>0,E148+C147,0)*VLOOKUP(MONTH(B147),'NRI (Auto)'!$O$6:$Q$17,3,0),\"\"))","v":""},{"$f":"IFERROR(IF(NRI!$P$2-E147<=0,NRI!$P$3,NRI!$P$2-E147),\"\")","v":""},{"$error":"#DIV/0!"}]
[12,{"$f":"DATE(NRI!$A$4+INT((ROW()-4)/12),MOD(ROW()-4,12),1)","v":"1997-12-01"},{"$f":"OFFSET(NRI!$A$3,1+INT((ROW()-5)/12),A148,1,1)","v":0},0,{"$f":"IF(AND(C149=\"\",C148<>\"\"),0,IFERROR(IF(E149+C148>0,E149+C148,0)*VLOOKUP(MONTH(B148),'NRI (Auto)'!$O$6:$Q$17,3,0),\"\"))","v":""},{"$f":"IFERROR(IF(NRI!$P$2-E148<=0,NRI!$P$3,NRI!$P$2-E148),\"\")","v":""},{"$error":"#DIV/0!"}]
[1,{"$f":"DATE(NRI!$A$4+INT((ROW()-4)/12),MOD(ROW()-4,12),1)","v":"1998-01-01"},{"$f":"OFFSET(NRI!$A$3,1+INT((ROW()-5)/12),A149,1,1)","v":0},0,{"$f":"IF(AND(C150=\"\",C149<>\"\"),0,IFERROR(IF(E150+C149>0,E150+C149,0)*VLOOKUP(MONTH(B149),'NRI (Auto)'!$O$6:$Q$17,3,0),\"\"))","v":""},{"$f":"IFERROR(IF(NRI!$P$2-E149<=0,NRI!$P$3,NRI!$P$2-E149),\"\")","v":""},{"$error":"#DIV/0!"}]
[2,{"$f":"DATE(NRI!$A$4+INT((ROW()-4)/12),MOD(ROW()-4,12),1)","v":"1998-02-01"},{"$f":"OFFSET(NRI!$A$3,1+INT((ROW()-5)/12),A150,1,1)","v":0},0,{"$f":"IF(AND(C151=\"\",C150<>\"\"),0,IFERROR(IF(E151+C150>0,E151+C150,0)*VLOOKUP(MONTH(B150),'NRI (Auto)'!$O$6:$Q$17,3,0),\"\"))","v":""},{"$f":"IFERROR(IF(NRI!$P$2-E150<=0,NRI!$P$3,NRI!$P$2-E150),\"\")","v":""},{"$error":"#DIV/0!"}]
[3,{"$f":"DATE(NRI!$A$4+INT((ROW()-4)/12),MOD(ROW()-4,12),1)","v":"1998-03-01"},{"$f":"OFFSET(NRI!$A$3,1+INT((ROW()-5)/12),A151,1,1)","v":0},0,{"$f":"IF(AND(C152=\"\",C151<>\"\"),0,IFERROR(IF(E152+C151>0,E152+C151,0)*VLOOKUP(MONTH(B151),'NRI (Auto)'!$O$6:$Q$17,3,0),\"\"))","v":""},{"$f":"IFERROR(IF(NRI!$P$2-E151<=0,NRI!$P$3,NRI!$P$2-E151),\"\")","v":""},{"$error":"#DIV/0!"}]
[4,{"$f":"DATE(NRI!$A$4+INT((ROW()-4)/12),MOD(ROW()-4,12),1)","v":"1998-04-01"},{"$f":"OFFSET(NRI!$A$3,1+INT((ROW()-5)/12),A152,1,1)","v":0},0,{"$f":"IF(AND(C153=\"\",C152<>\"\"),0,IFERROR(IF(E153+C152>0,E153+C152,0)*VLOOKUP(MONTH(B152),'NRI (Auto)'!$O$6:$Q$17,3,0),\"\"))","v":""},{"$f":"IFERROR(IF(NRI!$P$2-E152<=0,NRI!$P$3,NRI!$P$2-E152),\"\")","v":""},{"$error":"#DIV/0!"}]
[5,{"$f":"DATE(NRI!$A$4+INT((ROW()-4)/12),MOD(ROW()-4,12),1)","v":"1998-05-01"},{"$f":"OFFSET(NRI!$A$3,1+INT((ROW()-5)/12),A153,1,1)","v":0},0,{"$f":"IF(AND(C154=\"\",C153<>\"\"),0,IFERROR(IF(E154+C153>0,E154+C153,0)*VLOOKUP(MONTH(B153),'NRI (Auto)'!$O$6:$Q$17,3,0),\"\"))","v":""},{"$f":"IFERROR(IF(NRI!$P$2-E153<=0,NRI!$P$3,NRI!$P$2-E153),\"\")","v":""},{"$error":"#DIV/0!"}]
[6,{"$f":"DATE(NRI!$A$4+INT((ROW()-4)/12),MOD(ROW()-4,12),1)","v":"1998-06-01"},{"$f":"OFFSET(NRI!$A$3,1+INT((ROW()-5)/12),A154,1,1)","v":0},0,{"$f":"IF(AND(C155=\"\",C154<>\"\"),0,IFERROR(IF(E155+C154>0,E155+C154,0)*VLOOKUP(MONTH(B154),'NRI (Auto)'!$O$6:$Q$17,3,0),\"\"))","v":""},{"$f":"IFERROR(IF(NRI!$P$2-E154<=0,NRI!$P$3,NRI!$P$2-E154),\"\")","v":""},{"$error":"#DIV/0!"}]
[7,{"$f":"DATE(NRI!$A$4+INT((ROW()-4)/12),MOD(ROW()-4,12),1)","v":"1998-07-01"},{"$f":"OFFSET(NRI!$A$3,1+INT((ROW()-5)/12),A155,1,1)","v":0},0,{"$f":"IF(AND(C156=\"\",C155<>\"\"),0,IFERROR(IF(E156+C155>0,E156+C155,0)*VLOOKUP(MONTH(B155),'NRI (Auto)'!$O$6:$Q$17,3,0),\"\"))","v":""},{"$f":"IFERROR(IF(NRI!$P$2-E155<=0,NRI!$P$3,NRI!$P$2-E155),\"\")","v":""},{"$error":"#DIV/0!"}]
[8,{"$f":"DATE(NRI!$A$4+INT((ROW()-4)/12),MOD(ROW()-4,12),1)","v":"1998-08-01"},{"$f":"OFFSET(NRI!$A$3,1+INT((ROW()-5)/12),A156,1,1)","v":0},0,{"$f":"IF(AND(C157=\"\",C156<>\"\"),0,IFERROR(IF(E157+C156>0,E157+C156,0)*VLOOKUP(MONTH(B156),'NRI (Auto)'!$O$6:$Q$17,3,0),\"\"))","v":""},{"$f":"IFERROR(IF(NRI!$P$2-E156<=0,NRI!$P$3,NRI!$P$2-E156),\"\")","v":""},{"$error":"#DIV/0!"}]
[9,{"$f":"DATE(NRI!$A$4+INT((ROW()-4)/12),MOD(ROW()-4,12),1)","v":"1998-09-01"},{"$f":"OFFSET(NRI!$A$3,1+INT((ROW()-5)/12),A157,1,1)","v":0},0,{"$f":"IF(AND(C158=\"\",C157<>\"\"),0,IFERROR(IF(E158+C157>0,E158+C157,0)*VLOOKUP(MONTH(B157),'NRI (Auto)'!$O$6:$Q$17,3,0),\"\"))","v":""},{"$f":"IFERROR(IF(NRI!$P$2-E157<=0,NRI!$P$3,NRI!$P$2-E157),\"\")","v":""},{"$error":"#DIV/0!"}]
[10,{"$f":"DATE(NRI!$A$4+INT((ROW()-4)/12),MOD(ROW()-4,12),1)","v":"1998-10-01"},{"$f":"OFFSET(NRI!$A$3,1+INT((ROW()-5)/12),A158,1,1)","v":0},0,{"$f":"IF(AND(C159=\"\",C158<>\"\"),0,IFERROR(IF(E159+C158>0,E159+C158,0)*VLOOKUP(MONTH(B158),'NRI (Auto)'!$O$6:$Q$17,3,0),\"\"))","v":""},{"$f":"IFERROR(IF(NRI!$P$2-E158<=0,NRI!$P$3,NRI!$P$2-E158),\"\")","v":""},{"$error":"#DIV/0!"}]
[11,{"$f":"DATE(NRI!$A$4+INT((ROW()-4)/12),MOD(ROW()-4,12),1)","v":"1998-11-01"},{"$f":"OFFSET(NRI!$A$3,1+INT((ROW()-5)/12),A159,1,1)","v":0},0,{"$f":"IF(AND(C160=\"\",C159<>\"\"),0,IFERROR(IF(E160+C159>0,E160+C159,0)*VLOOKUP(MONTH(B159),'NRI (Auto)'!$O$6:$Q$17,3,0),\"\"))","v":""},{"$f":"IFERROR(IF(NRI!$P$2-E159<=0,NRI!$P$3,NRI!$P$2-E159),\"\")","v":""},{"$error":"#DIV/0!"}]
[12,{"$f":"DATE(NRI!$A$4+INT((ROW()-4)/12),MOD(ROW()-4,12),1)","v":"1998-12-01"},{"$f":"OFFSET(NRI!$A$3,1+INT((ROW()-5)/12),A160,1,1)","v":0},0,{"$f":"IF(AND(C161=\"\",C160<>\"\"),0,IFERROR(IF(E161+C160>0,E161+C160,0)*VLOOKUP(MONTH(B160),'NRI (Auto)'!$O$6:$Q$17,3,0),\"\"))","v":""},{"$f":"IFERROR(IF(NRI!$P$2-E160<=0,NRI!$P$3,NRI!$P$2-E160),\"\")","v":""},{"$error":"#DIV/0!"}]
[1,{"$f":"DATE(NRI!$A$4+INT((ROW()-4)/12),MOD(ROW()-4,12),1)","v":"1999-01-01"},{"$f":"OFFSET(NRI!$A$3,1+INT((ROW()-5)/12),A161,1,1)","v":0},0,{"$f":"IF(AND(C162=\"\",C161<>\"\"),0,IFERROR(IF(E162+C161>0,E162+C161,0)*VLOOKUP(MONTH(B161),'NRI (Auto)'!$O$6:$Q$17,3,0),\"\"))","v":""},{"$f":"IFERROR(IF(NRI!$P$2-E161<=0,NRI!$P$3,NRI!$P$2-E161),\"\")","v":""},{"$error":"#DIV/0!"}]
[2,{"$f":"DATE(NRI!$A$4+INT((ROW()-4)/12),MOD(ROW()-4,12),1)","v":"1999-02-01"},{"$f":"OFFSET(NRI!$A$3,1+INT((ROW()-5)/12),A162,1,1)","v":0},0,{"$f":"IF(AND(C163=\"\",C162<>\"\"),0,IFERROR(IF(E163+C162>0,E163+C162,0)*VLOOKUP(MONTH(B162),'NRI (Auto)'!$O$6:$Q$17,3,0),\"\"))","v":""},{"$f":"IFERROR(IF(NRI!$P$2-E162<=0,NRI!$P$3,NRI!$P$2-E162),\"\")","v":""},{"$error":"#DIV/0!"}]
[3,{"$f":"DATE(NRI!$A$4+INT((ROW()-4)/12),MOD(ROW()-4,12),1)","v":"1999-03-01"},{"$f":"OFFSET(NRI!$A$3,1+INT((ROW()-5)/12),A163,1,1)","v":0},0,{"$f":"IF(AND(C164=\"\",C163<>\"\"),0,IFERROR(IF(E164+C163>0,E164+C163,0)*VLOOKUP(MONTH(B163),'NRI (Auto)'!$O$6:$Q$17,3,0),\"\"))","v":""},{"$f":"IFERROR(IF(NRI!$P$2-E163<=0,NRI!$P$3,NRI!$P$2-E163),\"\")","v":""},{"$error":"#DIV/0!"}]
[4,{"$f":"DATE(NRI!$A$4+INT((ROW()-4)/12),MOD(ROW()-4,12),1)","v":"1999-04-01"},{"$f":"OFFSET(NRI!$A$3,1+INT((ROW()-5)/12),A164,1,1)","v":0},0,{"$f":"IF(AND(C165=\"\",C164<>\"\"),0,IFERROR(IF(E165+C164>0,E165+C164,0)*VLOOKUP(MONTH(B164),'NRI (Auto)'!$O$6:$Q$17,3,0),\"\"))","v":""},{"$f":"IFERROR(IF(NRI!$P$2-E164<=0,NRI!$P$3,NRI!$P$2-E164),\"\")","v":""},{"$error":"#DIV/0!"}]
[5,{"$f":"DATE(NRI!$A$4+INT((ROW()-4)/12),MOD(ROW()-4,12),1)","v":"1999-05-01"},{"$f":"OFFSET(NRI!$A$3,1+INT((ROW()-5)/12),A165,1,1)","v":0},0,{"$f":"IF(AND(C166=\"\",C165<>\"\"),0,IFERROR(IF(E166+C165>0,E166+C165,0)*VLOOKUP(MONTH(B165),'NRI (Auto)'!$O$6:$Q$17,3,0),\"\"))","v":""},{"$f":"IFERROR(IF(NRI!$P$2-E165<=0,NRI!$P$3,NRI!$P$2-E165),\"\")","v":""},{"$error":"#DIV/0!"}]
[6,{"$f":"DATE(NRI!$A$4+INT((ROW()-4)/12),MOD(ROW()-4,12),1)","v":"1999-06-01"},{"$f":"OFFSET(NRI!$A$3,1+INT((ROW()-5)/12),A166,1,1)","v":0},0,{"$f":"IF(AND(C167=\"\",C166<>\"\"),0,IFERROR(IF(E167+C166>0,E167+C166,0)*VLOOKUP(MONTH(B166),'NRI (Auto)'!$O$6:$Q$17,3,0),\"\"))","v":""},{"$f":"IFERROR(IF(NRI!$P$2-E166<=0,NRI!$P$3,NRI!$P$2-E166),\"\")","v":""},{"$error":"#DIV/0!"}]
[7,{"$f":"DATE(NRI!$A$4+INT((ROW()-4)/12),MOD(ROW()-4,12),1)","v":"1999-07-01"},{"$f":"OFFSET(NRI!$A$3,1+INT((ROW()-5)/12),A167,1,1)","v":0},0,{"$f":"IF(AND(C168=\"\",C167<>\"\"),0,IFERROR(IF(E168+C167>0,E168+C167,0)*VLOOKUP(MONTH(B167),'NRI (Auto)'!$O$6:$Q$17,3,0),\"\"))","v":""},{"$f":"IFERROR(IF(NRI!$P$2-E167<=0,NRI!$P$3,NRI!$P$2-E167),\"\")","v":""},{"$error":"#DIV/0!"}]
[8,{"$f":"DATE(NRI!$A$4+INT((ROW()-4)/12),MOD(ROW()-4,12),1)","v":"1999-08-01"},{"$f":"OFFSET(NRI!$A$3,1+INT((ROW()-5)/12),A168,1,1)","v":0},0,{"$f":"IF(AND(C169=\"\",C168<>\"\"),0,IFERROR(IF(E169+C168>0,E169+C168,0)*VLOOKUP(MONTH(B168),'NRI (Auto)'!$O$6:$Q$17,3,0),\"\"))","v":""},{"$f":"IFERROR(IF(NRI!$P$2-E168<=0,NRI!$P$3,NRI!$P$2-E168),\"\")","v":""},{"$error":"#DIV/0!"}]
[9,{"$f":"DATE(NRI!$A$4+INT((ROW()-4)/12),MOD(ROW()-4,12),1)","v":"1999-09-01"},{"$f":"OFFSET(NRI!$A$3,1+INT((ROW()-5)/12),A169,1,1)","v":0},0,{"$f":"IF(AND(C170=\"\",C169<>\"\"),0,IFERROR(IF(E170+C169>0,E170+C169,0)*VLOOKUP(MONTH(B169),'NRI (Auto)'!$O$6:$Q$17,3,0),\"\"))","v":""},{"$f":"IFERROR(IF(NRI!$P$2-E169<=0,NRI!$P$3,NRI!$P$2-E169),\"\")","v":""},{"$error":"#DIV/0!"}]
[10,{"$f":"DATE(NRI!$A$4+INT((ROW()-4)/12),MOD(ROW()-4,12),1)","v":"1999-10-01"},{"$f":"OFFSET(NRI!$A$3,1+INT((ROW()-5)/12),A170,1,1)","v":0},0,{"$f":"IF(AND(C171=\"\",C170<>\"\"),0,IFERROR(IF(E171+C170>0,E171+C170,0)*VLOOKUP(MONTH(B170),'NRI (Auto)'!$O$6:$Q$17,3,0),\"\"))","v":""},{"$f":"IFERROR(IF(NRI!$P$2-E170<=0,NRI!$P$3,NRI!$P$2-E170),\"\")","v":""},{"$error":"#DIV/0!"}]
[11,{"$f":"DATE(NRI!$A$4+INT((ROW()-4)/12),MOD(ROW()-4,12),1)","v":"1999-11-01"},{"$f":"OFFSET(NRI!$A$3,1+INT((ROW()-5)/12),A171,1,1)","v":0},0,{"$f":"IF(AND(C172=\"\",C171<>\"\"),0,IFERROR(IF(E172+C171>0,E172+C171,0)*VLOOKUP(MONTH(B171),'NRI (Auto)'!$O$6:$Q$17,3,0),\"\"))","v":""},{"$f":"IFERROR(IF(NRI!$P$2-E171<=0,NRI!$P$3,NRI!$P$2-E171),\"\")","v":""},{"$error":"#DIV/0!"}]
[12,{"$f":"DATE(NRI!$A$4+INT((ROW()-4)/12),MOD(ROW()-4,12),1)","v":"1999-12-01"},{"$f":"OFFSET(NRI!$A$3,1+INT((ROW()-5)/12),A172,1,1)","v":0},0,{"$f":"IF(AND(C173=\"\",C172<>\"\"),0,IFERROR(IF(E173+C172>0,E173+C172,0)*VLOOKUP(MONTH(B172),'NRI (Auto)'!$O$6:$Q$17,3,0),\"\"))","v":""},{"$f":"IFERROR(IF(NRI!$P$2-E172<=0,NRI!$P$3,NRI!$P$2-E172),\"\")","v":""},{"$error":"#DIV/0!"}]
[1,{"$f":"DATE(NRI!$A$4+INT((ROW()-4)/12),MOD(ROW()-4,12),1)","v":"2000-01-01"},{"$f":"OFFSET(NRI!$A$3,1+INT((ROW()-5)/12),A173,1,1)","v":0},0,{"$f":"IF(AND(C174=\"\",C173<>\"\"),0,IFERROR(IF(E174+C173>0,E174+C173,0)*VLOOKUP(MONTH(B173),'NRI (Auto)'!$O$6:$Q$17,3,0),\"\"))","v":""},{"$f":"IFERROR(IF(NRI!$P$2-E173<=0,NRI!$P$3,NRI!$P$2-E173),\"\")","v":""},{"$error":"#DIV/0!"}]
[2,{"$f":"DATE(NRI!$A$4+INT((ROW()-4)/12),MOD(ROW()-4,12),1)","v":"2000-02-01"},{"$f":"OFFSET(NRI!$A$3,1+INT((ROW()-5)/12),A174,1,1)","v":0},0,{"$f":"IF(AND(C175=\"\",C174<>\"\"),0,IFERROR(IF(E175+C174>0,E175+C174,0)*VLOOKUP(MONTH(B174),'NRI (Auto)'!$O$6:$Q$17,3,0),\"\"))","v":""},{"$f":"IFERROR(IF(NRI!$P$2-E174<=0,NRI!$P$3,NRI!$P$2-E174),\"\")","v":""},{"$error":"#DIV/0!"}]
[3,{"$f":"DATE(NRI!$A$4+INT((ROW()-4)/12),MOD(ROW()-4,12),1)","v":"2000-03-01"},{"$f":"OFFSET(NRI!$A$3,1+INT((ROW()-5)/12),A175,1,1)","v":0},0,{"$f":"IF(AND(C176=\"\",C175<>\"\"),0,IFERROR(IF(E176+C175>0,E176+C175,0)*VLOOKUP(MONTH(B175),'NRI (Auto)'!$O$6:$Q$17,3,0),\"\"))","v":""},{"$f":"IFERROR(IF(NRI!$P$2-E175<=0,NRI!$P$3,NRI!$P$2-E175),\"\")","v":""},{"$error":"#DIV/0!"}]
[4,{"$f":"DATE(NRI!$A$4+INT((ROW()-4)/12),MOD(ROW()-4,12),1)","v":"2000-04-01"},{"$f":"OFFSET(NRI!$A$3,1+INT((ROW()-5)/12),A176,1,1)","v":0},0,{"$f":"IF(AND(C177=\"\",C176<>\"\"),0,IFERROR(IF(E177+C176>0,E177+C176,0)*VLOOKUP(MONTH(B176),'NRI (Auto)'!$O$6:$Q$17,3,0),\"\"))","v":""},{"$f":"IFERROR(IF(NRI!$P$2-E176<=0,NRI!$P$3,NRI!$P$2-E176),\"\")","v":""},{"$error":"#DIV/0!"}]
[5,{"$f":"DATE(NRI!$A$4+INT((ROW()-4)/12),MOD(ROW()-4,12),1)","v":"2000-05-01"},{"$f":"OFFSET(NRI!$A$3,1+INT((ROW()-5)/12),A177,1,1)","v":0},0,{"$f":"IF(AND(C178=\"\",C177<>\"\"),0,IFERROR(IF(E178+C177>0,E178+C177,0)*VLOOKUP(MONTH(B177),'NRI (Auto)'!$O$6:$Q$17,3,0),\"\"))","v":""},{"$f":"IFERROR(IF(NRI!$P$2-E177<=0,NRI!$P$3,NRI!$P$2-E177),\"\")","v":""},{"$error":"#DIV/0!"}]
[6,{"$f":"DATE(NRI!$A$4+INT((ROW()-4)/12),MOD(ROW()-4,12),1)","v":"2000-06-01"},{"$f":"OFFSET(NRI!$A$3,1+INT((ROW()-5)/12),A178,1,1)","v":0},0,{"$f":"IF(AND(C179=\"\",C178<>\"\"),0,IFERROR(IF(E179+C178>0,E179+C178,0)*VLOOKUP(MONTH(B178),'NRI (Auto)'!$O$6:$Q$17,3,0),\"\"))","v":""},{"$f":"IFERROR(IF(NRI!$P$2-E178<=0,NRI!$P$3,NRI!$P$2-E178),\"\")","v":""},{"$error":"#DIV/0!"}]
[7,{"$f":"DATE(NRI!$A$4+INT((ROW()-4)/12),MOD(ROW()-4,12),1)","v":"2000-07-01"},{"$f":"OFFSET(NRI!$A$3,1+INT((ROW()-5)/12),A179,1,1)","v":0},0,{"$f":"IF(AND(C180=\"\",C179<>\"\"),0,IFERROR(IF(E180+C179>0,E180+C179,0)*VLOOKUP(MONTH(B179),'NRI (Auto)'!$O$6:$Q$17,3,0),\"\"))","v":""},{"$f":"IFERROR(IF(NRI!$P$2-E179<=0,NRI!$P$3,NRI!$P$2-E179),\"\")","v":""},{"$error":"#DIV/0!"}]
[8,{"$f":"DATE(NRI!$A$4+INT((ROW()-4)/12),MOD(ROW()-4,12),1)","v":"2000-08-01"},{"$f":"OFFSET(NRI!$A$3,1+INT((ROW()-5)/12),A180,1,1)","v":0},0,{"$f":"IF(AND(C181=\"\",C180<>\"\"),0,IFERROR(IF(E181+C180>0,E181+C180,0)*VLOOKUP(MONTH(B180),'NRI (Auto)'!$O$6:$Q$17,3,0),\"\"))","v":""},{"$f":"IFERROR(IF(NRI!$P$2-E180<=0,NRI!$P$3,NRI!$P$2-E180),\"\")","v":""},{"$error":"#DIV/0!"}]
[9,{"$f":"DATE(NRI!$A$4+INT((ROW()-4)/12),MOD(ROW()-4,12),1)","v":"2000-09-01"},{"$f":"OFFSET(NRI!$A$3,1+INT((ROW()-5)/12),A181,1,1)","v":0},0,{"$f":"IF(AND(C182=\"\",C181<>\"\"),0,IFERROR(IF(E182+C181>0,E182+C181,0)*VLOOKUP(MONTH(B181),'NRI (Auto)'!$O$6:$Q$17,3,0),\"\"))","v":""},{"$f":"IFERROR(IF(NRI!$P$2-E181<=0,NRI!$P$3,NRI!$P$2-E181),\"\")","v":""},{"$error":"#DIV/0!"}]
[10,{"$f":"DATE(NRI!$A$4+INT((ROW()-4)/12),MOD(ROW()-4,12),1)","v":"2000-10-01"},{"$f":"OFFSET(NRI!$A$3,1+INT((ROW()-5)/12),A182,1,1)","v":0},0,{"$f":"IF(AND(C183=\"\",C182<>\"\"),0,IFERROR(IF(E183+C182>0,E183+C182,0)*VLOOKUP(MONTH(B182),'NRI (Auto)'!$O$6:$Q$17,3,0),\"\"))","v":""},{"$f":"IFERROR(IF(NRI!$P$2-E182<=0,NRI!$P$3,NRI!$P$2-E182),\"\")","v":""},{"$error":"#DIV/0!"}]
[11,{"$f":"DATE(NRI!$A$4+INT((ROW()-4)/12),MOD(ROW()-4,12),1)","v":"2000-11-01"},{"$f":"OFFSET(NRI!$A$3,1+INT((ROW()-5)/12),A183,1,1)","v":0},0,{"$f":"IF(AND(C184=\"\",C183<>\"\"),0,IFERROR(IF(E184+C183>0,E184+C183,0)*VLOOKUP(MONTH(B183),'NRI (Auto)'!$O$6:$Q$17,3,0),\"\"))","v":""},{"$f":"IFERROR(IF(NRI!$P$2-E183<=0,NRI!$P$3,NRI!$P$2-E183),\"\")","v":""},{"$error":"#DIV/0!"}]
[12,{"$f":"DATE(NRI!$A$4+INT((ROW()-4)/12),MOD(ROW()-4,12),1)","v":"2000-12-01"},{"$f":"OFFSET(NRI!$A$3,1+INT((ROW()-5)/12),A184,1,1)","v":0},0,{"$f":"IF(AND(C185=\"\",C184<>\"\"),0,IFERROR(IF(E185+C184>0,E185+C184,0)*VLOOKUP(MONTH(B184),'NRI (Auto)'!$O$6:$Q$17,3,0),\"\"))","v":""},{"$f":"IFERROR(IF(NRI!$P$2-E184<=0,NRI!$P$3,NRI!$P$2-E184),\"\")","v":""},{"$error":"#DIV/0!"}]
[1,{"$f":"DATE(NRI!$A$4+INT((ROW()-4)/12),MOD(ROW()-4,12),1)","v":"2001-01-01"},{"$f":"OFFSET(NRI!$A$3,1+INT((ROW()-5)/12),A185,1,1)","v":0},0,{"$f":"IF(AND(C186=\"\",C185<>\"\"),0,IFERROR(IF(E186+C185>0,E186+C185,0)*VLOOKUP(MONTH(B185),'NRI (Auto)'!$O$6:$Q$17,3,0),\"\"))","v":""},{"$f":"IFERROR(IF(NRI!$P$2-E185<=0,NRI!$P$3,NRI!$P$2-E185),\"\")","v":""},{"$error":"#DIV/0!"}]
[2,{"$f":"DATE(NRI!$A$4+INT((ROW()-4)/12),MOD(ROW()-4,12),1)","v":"2001-02-01"},{"$f":"OFFSET(NRI!$A$3,1+INT((ROW()-5)/12),A186,1,1)","v":0},0,{"$f":"IF(AND(C187=\"\",C186<>\"\"),0,IFERROR(IF(E187+C186>0,E187+C186,0)*VLOOKUP(MONTH(B186),'NRI (Auto)'!$O$6:$Q$17,3,0),\"\"))","v":""},{"$f":"IFERROR(IF(NRI!$P$2-E186<=0,NRI!$P$3,NRI!$P$2-E186),\"\")","v":""},{"$error":"#DIV/0!"}]
[3,{"$f":"DATE(NRI!$A$4+INT((ROW()-4)/12),MOD(ROW()-4,12),1)","v":"2001-03-01"},{"$f":"OFFSET(NRI!$A$3,1+INT((ROW()-5)/12),A187,1,1)","v":0},0,{"$f":"IF(AND(C188=\"\",C187<>\"\"),0,IFERROR(IF(E188+C187>0,E188+C187,0)*VLOOKUP(MONTH(B187),'NRI (Auto)'!$O$6:$Q$17,3,0),\"\"))","v":""},{"$f":"IFERROR(IF(NRI!$P$2-E187<=0,NRI!$P$3,NRI!$P$2-E187),\"\")","v":""},{"$error":"#DIV/0!"}]
[4,{"$f":"DATE(NRI!$A$4+INT((ROW()-4)/12),MOD(ROW()-4,12),1)","v":"2001-04-01"},{"$f":"OFFSET(NRI!$A$3,1+INT((ROW()-5)/12),A188,1,1)","v":0},0,{"$f":"IF(AND(C189=\"\",C188<>\"\"),0,IFERROR(IF(E189+C188>0,E189+C188,0)*VLOOKUP(MONTH(B188),'NRI (Auto)'!$O$6:$Q$17,3,0),\"\"))","v":""},{"$f":"IFERROR(IF(NRI!$P$2-E188<=0,NRI!$P$3,NRI!$P$2-E188),\"\")","v":""},{"$error":"#DIV/0!"}]
[5,{"$f":"DATE(NRI!$A$4+INT((ROW()-4)/12),MOD(ROW()-4,12),1)","v":"2001-05-01"},{"$f":"OFFSET(NRI!$A$3,1+INT((ROW()-5)/12),A189,1,1)","v":0},0,{"$f":"IF(AND(C190=\"\",C189<>\"\"),0,IFERROR(IF(E190+C189>0,E190+C189,0)*VLOOKUP(MONTH(B189),'NRI (Auto)'!$O$6:$Q$17,3,0),\"\"))","v":""},{"$f":"IFERROR(IF(NRI!$P$2-E189<=0,NRI!$P$3,NRI!$P$2-E189),\"\")","v":""},{"$error":"#DIV/0!"}]
[6,{"$f":"DATE(NRI!$A$4+INT((ROW()-4)/12),MOD(ROW()-4,12),1)","v":"2001-06-01"},{"$f":"OFFSET(NRI!$A$3,1+INT((ROW()-5)/12),A190,1,1)","v":0},0,{"$f":"IF(AND(C191=\"\",C190<>\"\"),0,IFERROR(IF(E191+C190>0,E191+C190,0)*VLOOKUP(MONTH(B190),'NRI (Auto)'!$O$6:$Q$17,3,0),\"\"))","v":""},{"$f":"IFERROR(IF(NRI!$P$2-E190<=0,NRI!$P$3,NRI!$P$2-E190),\"\")","v":""},{"$error":"#DIV/0!"}]
[7,{"$f":"DATE(NRI!$A$4+INT((ROW()-4)/12),MOD(ROW()-4,12),1)","v":"2001-07-01"},{"$f":"OFFSET(NRI!$A$3,1+INT((ROW()-5)/12),A191,1,1)","v":0},0,{"$f":"IF(AND(C192=\"\",C191<>\"\"),0,IFERROR(IF(E192+C191>0,E192+C191,0)*VLOOKUP(MONTH(B191),'NRI (Auto)'!$O$6:$Q$17,3,0),\"\"))","v":""},{"$f":"IFERROR(IF(NRI!$P$2-E191<=0,NRI!$P$3,NRI!$P$2-E191),\"\")","v":""},{"$error":"#DIV/0!"}]
[8,{"$f":"DATE(NRI!$A$4+INT((ROW()-4)/12),MOD(ROW()-4,12),1)","v":"2001-08-01"},{"$f":"OFFSET(NRI!$A$3,1+INT((ROW()-5)/12),A192,1,1)","v":0},0,{"$f":"IF(AND(C193=\"\",C192<>\"\"),0,IFERROR(IF(E193+C192>0,E193+C192,0)*VLOOKUP(MONTH(B192),'NRI (Auto)'!$O$6:$Q$17,3,0),\"\"))","v":""},{"$f":"IFERROR(IF(NRI!$P$2-E192<=0,NRI!$P$3,NRI!$P$2-E192),\"\")","v":""},{"$error":"#DIV/0!"}]
[9,{"$f":"DATE(NRI!$A$4+INT((ROW()-4)/12),MOD(ROW()-4,12),1)","v":"2001-09-01"},{"$f":"OFFSET(NRI!$A$3,1+INT((ROW()-5)/12),A193,1,1)","v":0},0,{"$f":"IF(AND(C194=\"\",C193<>\"\"),0,IFERROR(IF(E194+C193>0,E194+C193,0)*VLOOKUP(MONTH(B193),'NRI (Auto)'!$O$6:$Q$17,3,0),\"\"))","v":""},{"$f":"IFERROR(IF(NRI!$P$2-E193<=0,NRI!$P$3,NRI!$P$2-E193),\"\")","v":""},{"$error":"#DIV/0!"}]
[10,{"$f":"DATE(NRI!$A$4+INT((ROW()-4)/12),MOD(ROW()-4,12),1)","v":"2001-10-01"},{"$f":"OFFSET(NRI!$A$3,1+INT((ROW()-5)/12),A194,1,1)","v":0},0,{"$f":"IF(AND(C195=\"\",C194<>\"\"),0,IFERROR(IF(E195+C194>0,E195+C194,0)*VLOOKUP(MONTH(B194),'NRI (Auto)'!$O$6:$Q$17,3,0),\"\"))","v":""},{"$f":"IFERROR(IF(NRI!$P$2-E194<=0,NRI!$P$3,NRI!$P$2-E194),\"\")","v":""},{"$error":"#DIV/0!"}]
[11,{"$f":"DATE(NRI!$A$4+INT((ROW()-4)/12),MOD(ROW()-4,12),1)","v":"2001-11-01"},{"$f":"OFFSET(NRI!$A$3,1+INT((ROW()-5)/12),A195,1,1)","v":0},0,{"$f":"IF(AND(C196=\"\",C195<>\"\"),0,IFERROR(IF(E196+C195>0,E196+C195,0)*VLOOKUP(MONTH(B195),'NRI (Auto)'!$O$6:$Q$17,3,0),\"\"))","v":""},{"$f":"IFERROR(IF(NRI!$P$2-E195<=0,NRI!$P$3,NRI!$P$2-E195),\"\")","v":""},{"$error":"#DIV/0!"}]
[12,{"$f":"DATE(NRI!$A$4+INT((ROW()-4)/12),MOD(ROW()-4,12),1)","v":"2001-12-01"},{"$f":"OFFSET(NRI!$A$3,1+INT((ROW()-5)/12),A196,1,1)","v":0},0,{"$f":"IF(AND(C197=\"\",C196<>\"\"),0,IFERROR(IF(E197+C196>0,E197+C196,0)*VLOOKUP(MONTH(B196),'NRI (Auto)'!$O$6:$Q$17,3,0),\"\"))","v":""},{"$f":"IFERROR(IF(NRI!$P$2-E196<=0,NRI!$P$3,NRI!$P$2-E196),\"\")","v":""},{"$error":"#DIV/0!"}]
[1,{"$f":"DATE(NRI!$A$4+INT((ROW()-4)/12),MOD(ROW()-4,12),1)","v":"2002-01-01"},{"$f":"OFFSET(NRI!$A$3,1+INT((ROW()-5)/12),A197,1,1)","v":0},0,{"$f":"IF(AND(C198=\"\",C197<>\"\"),0,IFERROR(IF(E198+C197>0,E198+C197,0)*VLOOKUP(MONTH(B197),'NRI (Auto)'!$O$6:$Q$17,3,0),\"\"))","v":""},{"$f":"IFERROR(IF(NRI!$P$2-E197<=0,NRI!$P$3,NRI!$P$2-E197),\"\")","v":""},{"$error":"#DIV/0!"}]
[2,{"$f":"DATE(NRI!$A$4+INT((ROW()-4)/12),MOD(ROW()-4,12),1)","v":"2002-02-01"},{"$f":"OFFSET(NRI!$A$3,1+INT((ROW()-5)/12),A198,1,1)","v":0},{"$f":"IFERROR(IF(D197+C198>0,D197+C198,0),\"\")","v":0},{"$f":"IF(AND(C199=\"\",C198<>\"\"),0,IFERROR(IF(E199+C198>0,E199+C198,0)*VLOOKUP(MONTH(B198),'NRI (Auto)'!$O$6:$Q$17,3,0),\"\"))","v":""},{"$f":"IFERROR(IF(NRI!$P$2-E198<=0,NRI!$P$3,NRI!$P$2-E198),\"\")","v":""},{"$error":"#DIV/0!"}]
[3,{"$f":"DATE(NRI!$A$4+INT((ROW()-4)/12),MOD(ROW()-4,12),1)","v":"2002-03-01"},{"$f":"OFFSET(NRI!$A$3,1+INT((ROW()-5)/12),A199,1,1)","v":0},0,{"$f":"IF(AND(C200=\"\",C199<>\"\"),0,IFERROR(IF(E200+C199>0,E200+C199,0)*VLOOKUP(MONTH(B199),'NRI (Auto)'!$O$6:$Q$17,3,0),\"\"))","v":""},{"$f":"IFERROR(IF(NRI!$P$2-E199<=0,NRI!$P$3,NRI!$P$2-E199),\"\")","v":""},{"$error":"#DIV/0!"}]
[4,{"$f":"DATE(NRI!$A$4+INT((ROW()-4)/12),MOD(ROW()-4,12),1)","v":"2002-04-01"},{"$f":"OFFSET(NRI!$A$3,1+INT((ROW()-5)/12),A200,1,1)","v":0},0,{"$f":"IF(AND(C201=\"\",C200<>\"\"),0,IFERROR(IF(E201+C200>0,E201+C200,0)*VLOOKUP(MONTH(B200),'NRI (Auto)'!$O$6:$Q$17,3,0),\"\"))","v":""},{"$f":"IFERROR(IF(NRI!$P$2-E200<=0,NRI!$P$3,NRI!$P$2-E200),\"\")","v":""},{"$error":"#DIV/0!"}]
[5,{"$f":"DATE(NRI!$A$4+INT((ROW()-4)/12),MOD(ROW()-4,12),1)","v":"2002-05-01"},{"$f":"OFFSET(NRI!$A$3,1+INT((ROW()-5)/12),A201,1,1)","v":0},0,{"$f":"IF(AND(C202=\"\",C201<>\"\"),0,IFERROR(IF(E202+C201>0,E202+C201,0)*VLOOKUP(MONTH(B201),'NRI (Auto)'!$O$6:$Q$17,3,0),\"\"))","v":""},{"$f":"IFERROR(IF(NRI!$P$2-E201<=0,NRI!$P$3,NRI!$P$2-E201),\"\")","v":""},{"$error":"#DIV/0!"}]
[6,{"$f":"DATE(NRI!$A$4+INT((ROW()-4)/12),MOD(ROW()-4,12),1)","v":"2002-06-01"},{"$f":"OFFSET(NRI!$A$3,1+INT((ROW()-5)/12),A202,1,1)","v":0},0,{"$f":"IF(AND(C203=\"\",C202<>\"\"),0,IFERROR(IF(E203+C202>0,E203+C202,0)*VLOOKUP(MONTH(B202),'NRI (Auto)'!$O$6:$Q$17,3,0),\"\"))","v":""},{"$f":"IFERROR(IF(NRI!$P$2-E202<=0,NRI!$P$3,NRI!$P$2-E202),\"\")","v":""},{"$error":"#DIV/0!"}]
[7,{"$f":"DATE(NRI!$A$4+INT((ROW()-4)/12),MOD(ROW()-4,12),1)","v":"2002-07-01"},{"$f":"OFFSET(NRI!$A$3,1+INT((ROW()-5)/12),A203,1,1)","v":0},0,{"$f":"IF(AND(C204=\"\",C203<>\"\"),0,IFERROR(IF(E204+C203>0,E204+C203,0)*VLOOKUP(MONTH(B203),'NRI (Auto)'!$O$6:$Q$17,3,0),\"\"))","v":""},{"$f":"IFERROR(IF(NRI!$P$2-E203<=0,NRI!$P$3,NRI!$P$2-E203),\"\")","v":""},{"$error":"#DIV/0!"}]
[8,{"$f":"DATE(NRI!$A$4+INT((ROW()-4)/12),MOD(ROW()-4,12),1)","v":"2002-08-01"},{"$f":"OFFSET(NRI!$A$3,1+INT((ROW()-5)/12),A204,1,1)","v":0},0,{"$f":"IF(AND(C205=\"\",C204<>\"\"),0,IFERROR(IF(E205+C204>0,E205+C204,0)*VLOOKUP(MONTH(B204),'NRI (Auto)'!$O$6:$Q$17,3,0),\"\"))","v":""},{"$f":"IFERROR(IF(NRI!$P$2-E204<=0,NRI!$P$3,NRI!$P$2-E204),\"\")","v":""},{"$error":"#DIV/0!"}]
[9,{"$f":"DATE(NRI!$A$4+INT((ROW()-4)/12),MOD(ROW()-4,12),1)","v":"2002-09-01"},{"$f":"OFFSET(NRI!$A$3,1+INT((ROW()-5)/12),A205,1,1)","v":0},0,{"$f":"IF(AND(C206=\"\",C205<>\"\"),0,IFERROR(IF(E206+C205>0,E206+C205,0)*VLOOKUP(MONTH(B205),'NRI (Auto)'!$O$6:$Q$17,3,0),\"\"))","v":""},{"$f":"IFERROR(IF(NRI!$P$2-E205<=0,NRI!$P$3,NRI!$P$2-E205),\"\")","v":""},{"$error":"#DIV/0!"}]
[10,{"$f":"DATE(NRI!$A$4+INT((ROW()-4)/12),MOD(ROW()-4,12),1)","v":"2002-10-01"},{"$f":"OFFSET(NRI!$A$3,1+INT((ROW()-5)/12),A206,1,1)","v":0},0,{"$f":"IF(AND(C207=\"\",C206<>\"\"),0,IFERROR(IF(E207+C206>0,E207+C206,0)*VLOOKUP(MONTH(B206),'NRI (Auto)'!$O$6:$Q$17,3,0),\"\"))","v":""},{"$f":"IFERROR(IF(NRI!$P$2-E206<=0,NRI!$P$3,NRI!$P$2-E206),\"\")","v":""},{"$error":"#DIV/0!"}]
[11,{"$f":"DATE(NRI!$A$4+INT((ROW()-4)/12),MOD(ROW()-4,12),1)","v":"2002-11-01"},{"$f":"OFFSET(NRI!$A$3,1+INT((ROW()-5)/12),A207,1,1)","v":0},0,{"$f":"IF(AND(C208=\"\",C207<>\"\"),0,IFERROR(IF(E208+C207>0,E208+C207,0)*VLOOKUP(MONTH(B207),'NRI (Auto)'!$O$6:$Q$17,3,0),\"\"))","v":""},{"$f":"IFERROR(IF(NRI!$P$2-E207<=0,NRI!$P$3,NRI!$P$2-E207),\"\")","v":""},{"$error":"#DIV/0!"}]
[12,{"$f":"DATE(NRI!$A$4+INT((ROW()-4)/12),MOD(ROW()-4,12),1)","v":"2002-12-01"},{"$f":"OFFSET(NRI!$A$3,1+INT((ROW()-5)/12),A208,1,1)","v":0},0,{"$f":"IF(AND(C209=\"\",C208<>\"\"),0,IFERROR(IF(E209+C208>0,E209+C208,0)*VLOOKUP(MONTH(B208),'NRI (Auto)'!$O$6:$Q$17,3,0),\"\"))","v":""},{"$f":"IFERROR(IF(NRI!$P$2-E208<=0,NRI!$P$3,NRI!$P$2-E208),\"\")","v":""},{"$error":"#DIV/0!"}]
[1,{"$f":"DATE(NRI!$A$4+INT((ROW()-4)/12),MOD(ROW()-4,12),1)","v":"2003-01-01"},{"$f":"OFFSET(NRI!$A$3,1+INT((ROW()-5)/12),A209,1,1)","v":0},0,{"$f":"IF(AND(C210=\"\",C209<>\"\"),0,IFERROR(IF(E210+C209>0,E210+C209,0)*VLOOKUP(MONTH(B209),'NRI (Auto)'!$O$6:$Q$17,3,0),\"\"))","v":""},{"$f":"IFERROR(IF(NRI!$P$2-E209<=0,NRI!$P$3,NRI!$P$2-E209),\"\")","v":""},{"$error":"#DIV/0!"}]
[{"$f":"+A198","v":2},{"$f":"DATE(NRI!$A$4+INT((ROW()-4)/12),MOD(ROW()-4,12),1)","v":"2003-02-01"},{"$f":"OFFSET(NRI!$A$3,1+INT((ROW()-5)/12),A210,1,1)","v":0},0,{"$f":"IF(AND(C211=\"\",C210<>\"\"),0,IFERROR(IF(E211+C210>0,E211+C210,0)*VLOOKUP(MONTH(B210),'NRI (Auto)'!$O$6:$Q$17,3,0),\"\"))","v":""},{"$f":"IFERROR(IF(NRI!$P$2-E210<=0,NRI!$P$3,NRI!$P$2-E210),\"\")","v":""},{"$f":"+G198","v":{"$error":"#DIV/0!"}}]
[3,{"$f":"DATE(NRI!$A$4+INT((ROW()-4)/12),MOD(ROW()-4,12),1)","v":"2003-03-01"},{"$f":"OFFSET(NRI!$A$3,1+INT((ROW()-5)/12),A211,1,1)","v":0},0,{"$f":"IF(AND(C212=\"\",C211<>\"\"),0,IFERROR(IF(E212+C211>0,E212+C211,0)*VLOOKUP(MONTH(B211),'NRI (Auto)'!$O$6:$Q$17,3,0),\"\"))","v":""},{"$f":"IFERROR(IF(NRI!$P$2-E211<=0,NRI!$P$3,NRI!$P$2-E211),\"\")","v":""},{"$error":"#DIV/0!"}]
[4,{"$f":"DATE(NRI!$A$4+INT((ROW()-4)/12),MOD(ROW()-4,12),1)","v":"2003-04-01"},{"$f":"OFFSET(NRI!$A$3,1+INT((ROW()-5)/12),A212,1,1)","v":0},0,{"$f":"IF(AND(C213=\"\",C212<>\"\"),0,IFERROR(IF(E213+C212>0,E213+C212,0)*VLOOKUP(MONTH(B212),'NRI (Auto)'!$O$6:$Q$17,3,0),\"\"))","v":""},{"$f":"IFERROR(IF(NRI!$P$2-E212<=0,NRI!$P$3,NRI!$P$2-E212),\"\")","v":""},{"$error":"#DIV/0!"}]
[5,{"$f":"DATE(NRI!$A$4+INT((ROW()-4)/12),MOD(ROW()-4,12),1)","v":"2003-05-01"},{"$f":"OFFSET(NRI!$A$3,1+INT((ROW()-5)/12),A213,1,1)","v":0},0,{"$f":"IF(AND(C214=\"\",C213<>\"\"),0,IFERROR(IF(E214+C213>0,E214+C213,0)*VLOOKUP(MONTH(B213),'NRI (Auto)'!$O$6:$Q$17,3,0),\"\"))","v":""},{"$f":"IFERROR(IF(NRI!$P$2-E213<=0,NRI!$P$3,NRI!$P$2-E213),\"\")","v":""},{"$error":"#DIV/0!"}]
[6,{"$f":"DATE(NRI!$A$4+INT((ROW()-4)/12),MOD(ROW()-4,12),1)","v":"2003-06-01"},{"$f":"OFFSET(NRI!$A$3,1+INT((ROW()-5)/12),A214,1,1)","v":0},0,{"$f":"IF(AND(C215=\"\",C214<>\"\"),0,IFERROR(IF(E215+C214>0,E215+C214,0)*VLOOKUP(MONTH(B214),'NRI (Auto)'!$O$6:$Q$17,3,0),\"\"))","v":""},{"$f":"IFERROR(IF(NRI!$P$2-E214<=0,NRI!$P$3,NRI!$P$2-E214),\"\")","v":""},{"$error":"#DIV/0!"}]
[7,{"$f":"DATE(NRI!$A$4+INT((ROW()-4)/12),MOD(ROW()-4,12),1)","v":"2003-07-01"},{"$f":"OFFSET(NRI!$A$3,1+INT((ROW()-5)/12),A215,1,1)","v":0},0,{"$f":"IF(AND(C216=\"\",C215<>\"\"),0,IFERROR(IF(E216+C215>0,E216+C215,0)*VLOOKUP(MONTH(B215),'NRI (Auto)'!$O$6:$Q$17,3,0),\"\"))","v":""},{"$f":"IFERROR(IF(NRI!$P$2-E215<=0,NRI!$P$3,NRI!$P$2-E215),\"\")","v":""},{"$error":"#DIV/0!"}]
[8,{"$f":"DATE(NRI!$A$4+INT((ROW()-4)/12),MOD(ROW()-4,12),1)","v":"2003-08-01"},{"$f":"OFFSET(NRI!$A$3,1+INT((ROW()-5)/12),A216,1,1)","v":0},0,{"$f":"IF(AND(C217=\"\",C216<>\"\"),0,IFERROR(IF(E217+C216>0,E217+C216,0)*VLOOKUP(MONTH(B216),'NRI (Auto)'!$O$6:$Q$17,3,0),\"\"))","v":""},{"$f":"IFERROR(IF(NRI!$P$2-E216<=0,NRI!$P$3,NRI!$P$2-E216),\"\")","v":""},{"$error":"#DIV/0!"}]
[9,{"$f":"DATE(NRI!$A$4+INT((ROW()-4)/12),MOD(ROW()-4,12),1)","v":"2003-09-01"},{"$f":"OFFSET(NRI!$A$3,1+INT((ROW()-5)/12),A217,1,1)","v":0},0,{"$f":"IF(AND(C218=\"\",C217<>\"\"),0,IFERROR(IF(E218+C217>0,E218+C217,0)*VLOOKUP(MONTH(B217),'NRI (Auto)'!$O$6:$Q$17,3,0),\"\"))","v":""},{"$f":"IFERROR(IF(NRI!$P$2-E217<=0,NRI!$P$3,NRI!$P$2-E217),\"\")","v":""},{"$error":"#DIV/0!"}]
[10,{"$f":"DATE(NRI!$A$4+INT((ROW()-4)/12),MOD(ROW()-4,12),1)","v":"2003-10-01"},{"$f":"OFFSET(NRI!$A$3,1+INT((ROW()-5)/12),A218,1,1)","v":0},0,{"$f":"IF(AND(C219=\"\",C218<>\"\"),0,IFERROR(IF(E219+C218>0,E219+C218,0)*VLOOKUP(MONTH(B218),'NRI (Auto)'!$O$6:$Q$17,3,0),\"\"))","v":""},{"$f":"IFERROR(IF(NRI!$P$2-E218<=0,NRI!$P$3,NRI!$P$2-E218),\"\")","v":""},{"$error":"#DIV/0!"}]
[11,{"$f":"DATE(NRI!$A$4+INT((ROW()-4)/12),MOD(ROW()-4,12),1)","v":"2003-11-01"},{"$f":"OFFSET(NRI!$A$3,1+INT((ROW()-5)/12),A219,1,1)","v":0},0,{"$f":"IF(AND(C220=\"\",C219<>\"\"),0,IFERROR(IF(E220+C219>0,E220+C219,0)*VLOOKUP(MONTH(B219),'NRI (Auto)'!$O$6:$Q$17,3,0),\"\"))","v":""},{"$f":"IFERROR(IF(NRI!$P$2-E219<=0,NRI!$P$3,NRI!$P$2-E219),\"\")","v":""},{"$error":"#DIV/0!"}]
[12,{"$f":"DATE(NRI!$A$4+INT((ROW()-4)/12),MOD(ROW()-4,12),1)","v":"2003-12-01"},{"$f":"OFFSET(NRI!$A$3,1+INT((ROW()-5)/12),A220,1,1)","v":0},0,{"$f":"IF(AND(C221=\"\",C220<>\"\"),0,IFERROR(IF(E221+C220>0,E221+C220,0)*VLOOKUP(MONTH(B220),'NRI (Auto)'!$O$6:$Q$17,3,0),\"\"))","v":""},{"$f":"IFERROR(IF(NRI!$P$2-E220<=0,NRI!$P$3,NRI!$P$2-E220),\"\")","v":""},{"$error":"#DIV/0!"}]
[1,{"$f":"DATE(NRI!$A$4+INT((ROW()-4)/12),MOD(ROW()-4,12),1)","v":"2004-01-01"},{"$f":"OFFSET(NRI!$A$3,1+INT((ROW()-5)/12),A221,1,1)","v":0},0,{"$f":"IF(AND(C222=\"\",C221<>\"\"),0,IFERROR(IF(E222+C221>0,E222+C221,0)*VLOOKUP(MONTH(B221),'NRI (Auto)'!$O$6:$Q$17,3,0),\"\"))","v":""},{"$f":"IFERROR(IF(NRI!$P$2-E221<=0,NRI!$P$3,NRI!$P$2-E221),\"\")","v":""},{"$error":"#DIV/0!"}]
[2,{"$f":"DATE(NRI!$A$4+INT((ROW()-4)/12),MOD(ROW()-4,12),1)","v":"2004-02-01"},{"$f":"OFFSET(NRI!$A$3,1+INT((ROW()-5)/12),A222,1,1)","v":0},0,{"$f":"IF(AND(C223=\"\",C222<>\"\"),0,IFERROR(IF(E223+C222>0,E223+C222,0)*VLOOKUP(MONTH(B222),'NRI (Auto)'!$O$6:$Q$17,3,0),\"\"))","v":""},{"$f":"IFERROR(IF(NRI!$P$2-E222<=0,NRI!$P$3,NRI!$P$2-E222),\"\")","v":""},{"$error":"#DIV/0!"}]
[3,{"$f":"DATE(NRI!$A$4+INT((ROW()-4)/12),MOD(ROW()-4,12),1)","v":"2004-03-01"},{"$f":"OFFSET(NRI!$A$3,1+INT((ROW()-5)/12),A223,1,1)","v":0},0,{"$f":"IF(AND(C224=\"\",C223<>\"\"),0,IFERROR(IF(E224+C223>0,E224+C223,0)*VLOOKUP(MONTH(B223),'NRI (Auto)'!$O$6:$Q$17,3,0),\"\"))","v":""},{"$f":"IFERROR(IF(NRI!$P$2-E223<=0,NRI!$P$3,NRI!$P$2-E223),\"\")","v":""},{"$error":"#DIV/0!"}]
[4,{"$f":"DATE(NRI!$A$4+INT((ROW()-4)/12),MOD(ROW()-4,12),1)","v":"2004-04-01"},{"$f":"OFFSET(NRI!$A$3,1+INT((ROW()-5)/12),A224,1,1)","v":0},0,{"$f":"IF(AND(C225=\"\",C224<>\"\"),0,IFERROR(IF(E225+C224>0,E225+C224,0)*VLOOKUP(MONTH(B224),'NRI (Auto)'!$O$6:$Q$17,3,0),\"\"))","v":""},{"$f":"IFERROR(IF(NRI!$P$2-E224<=0,NRI!$P$3,NRI!$P$2-E224),\"\")","v":""},{"$error":"#DIV/0!"}]
[5,{"$f":"DATE(NRI!$A$4+INT((ROW()-4)/12),MOD(ROW()-4,12),1)","v":"2004-05-01"},{"$f":"OFFSET(NRI!$A$3,1+INT((ROW()-5)/12),A225,1,1)","v":0},0,{"$f":"IF(AND(C226=\"\",C225<>\"\"),0,IFERROR(IF(E226+C225>0,E226+C225,0)*VLOOKUP(MONTH(B225),'NRI (Auto)'!$O$6:$Q$17,3,0),\"\"))","v":""},{"$f":"IFERROR(IF(NRI!$P$2-E225<=0,NRI!$P$3,NRI!$P$2-E225),\"\")","v":""},{"$error":"#DIV/0!"}]
[6,{"$f":"DATE(NRI!$A$4+INT((ROW()-4)/12),MOD(ROW()-4,12),1)","v":"2004-06-01"},{"$f":"OFFSET(NRI!$A$3,1+INT((ROW()-5)/12),A226,1,1)","v":0},0,{"$f":"IF(AND(C227=\"\",C226<>\"\"),0,IFERROR(IF(E227+C226>0,E227+C226,0)*VLOOKUP(MONTH(B226),'NRI (Auto)'!$O$6:$Q$17,3,0),\"\"))","v":""},{"$f":"IFERROR(IF(NRI!$P$2-E226<=0,NRI!$P$3,NRI!$P$2-E226),\"\")","v":""},{"$error":"#DIV/0!"}]
[7,{"$f":"DATE(NRI!$A$4+INT((ROW()-4)/12),MOD(ROW()-4,12),1)","v":"2004-07-01"},{"$f":"OFFSET(NRI!$A$3,1+INT((ROW()-5)/12),A227,1,1)","v":0},0,{"$f":"IF(AND(C228=\"\",C227<>\"\"),0,IFERROR(IF(E228+C227>0,E228+C227,0)*VLOOKUP(MONTH(B227),'NRI (Auto)'!$O$6:$Q$17,3,0),\"\"))","v":""},{"$f":"IFERROR(IF(NRI!$P$2-E227<=0,NRI!$P$3,NRI!$P$2-E227),\"\")","v":""},{"$error":"#DIV/0!"}]
[8,{"$f":"DATE(NRI!$A$4+INT((ROW()-4)/12),MOD(ROW()-4,12),1)","v":"2004-08-01"},{"$f":"OFFSET(NRI!$A$3,1+INT((ROW()-5)/12),A228,1,1)","v":0},0,{"$f":"IF(AND(C229=\"\",C228<>\"\"),0,IFERROR(IF(E229+C228>0,E229+C228,0)*VLOOKUP(MONTH(B228),'NRI (Auto)'!$O$6:$Q$17,3,0),\"\"))","v":""},{"$f":"IFERROR(IF(NRI!$P$2-E228<=0,NRI!$P$3,NRI!$P$2-E228),\"\")","v":""},{"$error":"#DIV/0!"}]
[9,{"$f":"DATE(NRI!$A$4+INT((ROW()-4)/12),MOD(ROW()-4,12),1)","v":"2004-09-01"},{"$f":"OFFSET(NRI!$A$3,1+INT((ROW()-5)/12),A229,1,1)","v":0},0,{"$f":"IF(AND(C230=\"\",C229<>\"\"),0,IFERROR(IF(E230+C229>0,E230+C229,0)*VLOOKUP(MONTH(B229),'NRI (Auto)'!$O$6:$Q$17,3,0),\"\"))","v":""},{"$f":"IFERROR(IF(NRI!$P$2-E229<=0,NRI!$P$3,NRI!$P$2-E229),\"\")","v":""},{"$error":"#DIV/0!"}]
[10,{"$f":"DATE(NRI!$A$4+INT((ROW()-4)/12),MOD(ROW()-4,12),1)","v":"2004-10-01"},{"$f":"OFFSET(NRI!$A$3,1+INT((ROW()-5)/12),A230,1,1)","v":0},0,{"$f":"IF(AND(C231=\"\",C230<>\"\"),0,IFERROR(IF(E231+C230>0,E231+C230,0)*VLOOKUP(MONTH(B230),'NRI (Auto)'!$O$6:$Q$17,3,0),\"\"))","v":""},{"$f":"IFERROR(IF(NRI!$P$2-E230<=0,NRI!$P$3,NRI!$P$2-E230),\"\")","v":""},{"$error":"#DIV/0!"}]
[11,{"$f":"DATE(NRI!$A$4+INT((ROW()-4)/12),MOD(ROW()-4,12),1)","v":"2004-11-01"},{"$f":"OFFSET(NRI!$A$3,1+INT((ROW()-5)/12),A231,1,1)","v":0},0,{"$f":"IF(AND(C232=\"\",C231<>\"\"),0,IFERROR(IF(E232+C231>0,E232+C231,0)*VLOOKUP(MONTH(B231),'NRI (Auto)'!$O$6:$Q$17,3,0),\"\"))","v":""},{"$f":"IFERROR(IF(NRI!$P$2-E231<=0,NRI!$P$3,NRI!$P$2-E231),\"\")","v":""},{"$error":"#DIV/0!"}]
[12,{"$f":"DATE(NRI!$A$4+INT((ROW()-4)/12),MOD(ROW()-4,12),1)","v":"2004-12-01"},{"$f":"OFFSET(NRI!$A$3,1+INT((ROW()-5)/12),A232,1,1)","v":0},0,{"$f":"IF(AND(C233=\"\",C232<>\"\"),0,IFERROR(IF(E233+C232>0,E233+C232,0)*VLOOKUP(MONTH(B232),'NRI (Auto)'!$O$6:$Q$17,3,0),\"\"))","v":""},{"$f":"IFERROR(IF(NRI!$P$2-E232<=0,NRI!$P$3,NRI!$P$2-E232),\"\")","v":""},{"$error":"#DIV/0!"}]
[1,{"$f":"DATE(NRI!$A$4+INT((ROW()-4)/12),MOD(ROW()-4,12),1)","v":"2005-01-01"},{"$f":"OFFSET(NRI!$A$3,1+INT((ROW()-5)/12),A233,1,1)","v":0},0,{"$f":"IF(AND(C234=\"\",C233<>\"\"),0,IFERROR(IF(E234+C233>0,E234+C233,0)*VLOOKUP(MONTH(B233),'NRI (Auto)'!$O$6:$Q$17,3,0),\"\"))","v":""},{"$f":"IFERROR(IF(NRI!$P$2-E233<=0,NRI!$P$3,NRI!$P$2-E233),\"\")","v":""},{"$error":"#DIV/0!"}]
[2,{"$f":"DATE(NRI!$A$4+INT((ROW()-4)/12),MOD(ROW()-4,12),1)","v":"2005-02-01"},{"$f":"OFFSET(NRI!$A$3,1+INT((ROW()-5)/12),A234,1,1)","v":0},0,{"$f":"IF(AND(C235=\"\",C234<>\"\"),0,IFERROR(IF(E235+C234>0,E235+C234,0)*VLOOKUP(MONTH(B234),'NRI (Auto)'!$O$6:$Q$17,3,0),\"\"))","v":""},{"$f":"IFERROR(IF(NRI!$P$2-E234<=0,NRI!$P$3,NRI!$P$2-E234),\"\")","v":""},{"$error":"#DIV/0!"}]
[3,{"$f":"DATE(NRI!$A$4+INT((ROW()-4)/12),MOD(ROW()-4,12),1)","v":"2005-03-01"},{"$f":"OFFSET(NRI!$A$3,1+INT((ROW()-5)/12),A235,1,1)","v":0},0,{"$f":"IF(AND(C236=\"\",C235<>\"\"),0,IFERROR(IF(E236+C235>0,E236+C235,0)*VLOOKUP(MONTH(B235),'NRI (Auto)'!$O$6:$Q$17,3,0),\"\"))","v":""},{"$f":"IFERROR(IF(NRI!$P$2-E235<=0,NRI!$P$3,NRI!$P$2-E235),\"\")","v":""},{"$error":"#DIV/0!"}]
[4,{"$f":"DATE(NRI!$A$4+INT((ROW()-4)/12),MOD(ROW()-4,12),1)","v":"2005-04-01"},{"$f":"OFFSET(NRI!$A$3,1+INT((ROW()-5)/12),A236,1,1)","v":0},0,{"$f":"IF(AND(C237=\"\",C236<>\"\"),0,IFERROR(IF(E237+C236>0,E237+C236,0)*VLOOKUP(MONTH(B236),'NRI (Auto)'!$O$6:$Q$17,3,0),\"\"))","v":""},{"$f":"IFERROR(IF(NRI!$P$2-E236<=0,NRI!$P$3,NRI!$P$2-E236),\"\")","v":""},{"$error":"#DIV/0!"}]
[5,{"$f":"DATE(NRI!$A$4+INT((ROW()-4)/12),MOD(ROW()-4,12),1)","v":"2005-05-01"},{"$f":"OFFSET(NRI!$A$3,1+INT((ROW()-5)/12),A237,1,1)","v":0},0,{"$f":"IF(AND(C238=\"\",C237<>\"\"),0,IFERROR(IF(E238+C237>0,E238+C237,0)*VLOOKUP(MONTH(B237),'NRI (Auto)'!$O$6:$Q$17,3,0),\"\"))","v":""},{"$f":"IFERROR(IF(NRI!$P$2-E237<=0,NRI!$P$3,NRI!$P$2-E237),\"\")","v":""},{"$error":"#DIV/0!"}]
[6,{"$f":"DATE(NRI!$A$4+INT((ROW()-4)/12),MOD(ROW()-4,12),1)","v":"2005-06-01"},{"$f":"OFFSET(NRI!$A$3,1+INT((ROW()-5)/12),A238,1,1)","v":0},0,{"$f":"IF(AND(C239=\"\",C238<>\"\"),0,IFERROR(IF(E239+C238>0,E239+C238,0)*VLOOKUP(MONTH(B238),'NRI (Auto)'!$O$6:$Q$17,3,0),\"\"))","v":""},{"$f":"IFERROR(IF(NRI!$P$2-E238<=0,NRI!$P$3,NRI!$P$2-E238),\"\")","v":""},{"$error":"#DIV/0!"}]
[7,{"$f":"DATE(NRI!$A$4+INT((ROW()-4)/12),MOD(ROW()-4,12),1)","v":"2005-07-01"},{"$f":"OFFSET(NRI!$A$3,1+INT((ROW()-5)/12),A239,1,1)","v":0},0,{"$f":"IF(AND(C240=\"\",C239<>\"\"),0,IFERROR(IF(E240+C239>0,E240+C239,0)*VLOOKUP(MONTH(B239),'NRI (Auto)'!$O$6:$Q$17,3,0),\"\"))","v":""},{"$f":"IFERROR(IF(NRI!$P$2-E239<=0,NRI!$P$3,NRI!$P$2-E239),\"\")","v":""},{"$error":"#DIV/0!"}]
[8,{"$f":"DATE(NRI!$A$4+INT((ROW()-4)/12),MOD(ROW()-4,12),1)","v":"2005-08-01"},{"$f":"OFFSET(NRI!$A$3,1+INT((ROW()-5)/12),A240,1,1)","v":0},0,{"$f":"IF(AND(C241=\"\",C240<>\"\"),0,IFERROR(IF(E241+C240>0,E241+C240,0)*VLOOKUP(MONTH(B240),'NRI (Auto)'!$O$6:$Q$17,3,0),\"\"))","v":""},{"$f":"IFERROR(IF(NRI!$P$2-E240<=0,NRI!$P$3,NRI!$P$2-E240),\"\")","v":""},{"$error":"#DIV/0!"}]
[9,{"$f":"DATE(NRI!$A$4+INT((ROW()-4)/12),MOD(ROW()-4,12),1)","v":"2005-09-01"},{"$f":"OFFSET(NRI!$A$3,1+INT((ROW()-5)/12),A241,1,1)","v":0},0,{"$f":"IF(AND(C242=\"\",C241<>\"\"),0,IFERROR(IF(E242+C241>0,E242+C241,0)*VLOOKUP(MONTH(B241),'NRI (Auto)'!$O$6:$Q$17,3,0),\"\"))","v":""},{"$f":"IFERROR(IF(NRI!$P$2-E241<=0,NRI!$P$3,NRI!$P$2-E241),\"\")","v":""},{"$error":"#DIV/0!"}]
[10,{"$f":"DATE(NRI!$A$4+INT((ROW()-4)/12),MOD(ROW()-4,12),1)","v":"2005-10-01"},{"$f":"OFFSET(NRI!$A$3,1+INT((ROW()-5)/12),A242,1,1)","v":0},0,{"$f":"IF(AND(C243=\"\",C242<>\"\"),0,IFERROR(IF(E243+C242>0,E243+C242,0)*VLOOKUP(MONTH(B242),'NRI (Auto)'!$O$6:$Q$17,3,0),\"\"))","v":""},{"$f":"IFERROR(IF(NRI!$P$2-E242<=0,NRI!$P$3,NRI!$P$2-E242),\"\")","v":""},{"$error":"#DIV/0!"}]
[11,{"$f":"DATE(NRI!$A$4+INT((ROW()-4)/12),MOD(ROW()-4,12),1)","v":"2005-11-01"},{"$f":"OFFSET(NRI!$A$3,1+INT((ROW()-5)/12),A243,1,1)","v":0},0,{"$f":"IF(AND(C244=\"\",C243<>\"\"),0,IFERROR(IF(E244+C243>0,E244+C243,0)*VLOOKUP(MONTH(B243),'NRI (Auto)'!$O$6:$Q$17,3,0),\"\"))","v":""},{"$f":"IFERROR(IF(NRI!$P$2-E243<=0,NRI!$P$3,NRI!$P$2-E243),\"\")","v":""},{"$error":"#DIV/0!"}]
[12,{"$f":"DATE(NRI!$A$4+INT((ROW()-4)/12),MOD(ROW()-4,12),1)","v":"2005-12-01"},{"$f":"OFFSET(NRI!$A$3,1+INT((ROW()-5)/12),A244,1,1)","v":0},0,{"$f":"IF(AND(C245=\"\",C244<>\"\"),0,IFERROR(IF(E245+C244>0,E245+C244,0)*VLOOKUP(MONTH(B244),'NRI (Auto)'!$O$6:$Q$17,3,0),\"\"))","v":""},{"$f":"IFERROR(IF(NRI!$P$2-E244<=0,NRI!$P$3,NRI!$P$2-E244),\"\")","v":""},{"$error":"#DIV/0!"}]
[1,{"$f":"DATE(NRI!$A$4+INT((ROW()-4)/12),MOD(ROW()-4,12),1)","v":"2006-01-01"},{"$f":"OFFSET(NRI!$A$3,1+INT((ROW()-5)/12),A245,1,1)","v":0},0,{"$f":"IF(AND(C246=\"\",C245<>\"\"),0,IFERROR(IF(E246+C245>0,E246+C245,0)*VLOOKUP(MONTH(B245),'NRI (Auto)'!$O$6:$Q$17,3,0),\"\"))","v":""},{"$f":"IFERROR(IF(NRI!$P$2-E245<=0,NRI!$P$3,NRI!$P$2-E245),\"\")","v":""},{"$error":"#DIV/0!"}]
[2,{"$f":"DATE(NRI!$A$4+INT((ROW()-4)/12),MOD(ROW()-4,12),1)","v":"2006-02-01"},{"$f":"OFFSET(NRI!$A$3,1+INT((ROW()-5)/12),A246,1,1)","v":0},0,{"$f":"IF(AND(C247=\"\",C246<>\"\"),0,IFERROR(IF(E247+C246>0,E247+C246,0)*VLOOKUP(MONTH(B246),'NRI (Auto)'!$O$6:$Q$17,3,0),\"\"))","v":""},{"$f":"IFERROR(IF(NRI!$P$2-E246<=0,NRI!$P$3,NRI!$P$2-E246),\"\")","v":""},{"$error":"#DIV/0!"}]
[3,{"$f":"DATE(NRI!$A$4+INT((ROW()-4)/12),MOD(ROW()-4,12),1)","v":"2006-03-01"},{"$f":"OFFSET(NRI!$A$3,1+INT((ROW()-5)/12),A247,1,1)","v":0},0,{"$f":"IF(AND(C248=\"\",C247<>\"\"),0,IFERROR(IF(E248+C247>0,E248+C247,0)*VLOOKUP(MONTH(B247),'NRI (Auto)'!$O$6:$Q$17,3,0),\"\"))","v":""},{"$f":"IFERROR(IF(NRI!$P$2-E247<=0,NRI!$P$3,NRI!$P$2-E247),\"\")","v":""},{"$error":"#DIV/0!"}]
[4,{"$f":"DATE(NRI!$A$4+INT((ROW()-4)/12),MOD(ROW()-4,12),1)","v":"2006-04-01"},{"$f":"OFFSET(NRI!$A$3,1+INT((ROW()-5)/12),A248,1,1)","v":0},0,{"$f":"IF(AND(C249=\"\",C248<>\"\"),0,IFERROR(IF(E249+C248>0,E249+C248,0)*VLOOKUP(MONTH(B248),'NRI (Auto)'!$O$6:$Q$17,3,0),\"\"))","v":""},{"$f":"IFERROR(IF(NRI!$P$2-E248<=0,NRI!$P$3,NRI!$P$2-E248),\"\")","v":""},{"$error":"#DIV/0!"}]
[5,{"$f":"DATE(NRI!$A$4+INT((ROW()-4)/12),MOD(ROW()-4,12),1)","v":"2006-05-01"},{"$f":"OFFSET(NRI!$A$3,1+INT((ROW()-5)/12),A249,1,1)","v":0},0,{"$f":"IF(AND(C250=\"\",C249<>\"\"),0,IFERROR(IF(E250+C249>0,E250+C249,0)*VLOOKUP(MONTH(B249),'NRI (Auto)'!$O$6:$Q$17,3,0),\"\"))","v":""},{"$f":"IFERROR(IF(NRI!$P$2-E249<=0,NRI!$P$3,NRI!$P$2-E249),\"\")","v":""},{"$error":"#DIV/0!"}]
[6,{"$f":"DATE(NRI!$A$4+INT((ROW()-4)/12),MOD(ROW()-4,12),1)","v":"2006-06-01"},{"$f":"OFFSET(NRI!$A$3,1+INT((ROW()-5)/12),A250,1,1)","v":0},0,{"$f":"IF(AND(C251=\"\",C250<>\"\"),0,IFERROR(IF(E251+C250>0,E251+C250,0)*VLOOKUP(MONTH(B250),'NRI (Auto)'!$O$6:$Q$17,3,0),\"\"))","v":""},{"$f":"IFERROR(IF(NRI!$P$2-E250<=0,NRI!$P$3,NRI!$P$2-E250),\"\")","v":""},{"$error":"#DIV/0!"}]
[7,{"$f":"DATE(NRI!$A$4+INT((ROW()-4)/12),MOD(ROW()-4,12),1)","v":"2006-07-01"},{"$f":"OFFSET(NRI!$A$3,1+INT((ROW()-5)/12),A251,1,1)","v":0},0,{"$f":"IF(AND(C252=\"\",C251<>\"\"),0,IFERROR(IF(E252+C251>0,E252+C251,0)*VLOOKUP(MONTH(B251),'NRI (Auto)'!$O$6:$Q$17,3,0),\"\"))","v":""},{"$f":"IFERROR(IF(NRI!$P$2-E251<=0,NRI!$P$3,NRI!$P$2-E251),\"\")","v":""},{"$error":"#DIV/0!"}]
[8,{"$f":"DATE(NRI!$A$4+INT((ROW()-4)/12),MOD(ROW()-4,12),1)","v":"2006-08-01"},{"$f":"OFFSET(NRI!$A$3,1+INT((ROW()-5)/12),A252,1,1)","v":0},0,{"$f":"IF(AND(C253=\"\",C252<>\"\"),0,IFERROR(IF(E253+C252>0,E253+C252,0)*VLOOKUP(MONTH(B252),'NRI (Auto)'!$O$6:$Q$17,3,0),\"\"))","v":""},{"$f":"IFERROR(IF(NRI!$P$2-E252<=0,NRI!$P$3,NRI!$P$2-E252),\"\")","v":""},{"$error":"#DIV/0!"}]
[9,{"$f":"DATE(NRI!$A$4+INT((ROW()-4)/12),MOD(ROW()-4,12),1)","v":"2006-09-01"},{"$f":"OFFSET(NRI!$A$3,1+INT((ROW()-5)/12),A253,1,1)","v":0},0,{"$f":"IF(AND(C254=\"\",C253<>\"\"),0,IFERROR(IF(E254+C253>0,E254+C253,0)*VLOOKUP(MONTH(B253),'NRI (Auto)'!$O$6:$Q$17,3,0),\"\"))","v":""},{"$f":"IFERROR(IF(NRI!$P$2-E253<=0,NRI!$P$3,NRI!$P$2-E253),\"\")","v":""},{"$error":"#DIV/0!"}]
[10,{"$f":"DATE(NRI!$A$4+INT((ROW()-4)/12),MOD(ROW()-4,12),1)","v":"2006-10-01"},{"$f":"OFFSET(NRI!$A$3,1+INT((ROW()-5)/12),A254,1,1)","v":0},0,{"$f":"IF(AND(C255=\"\",C254<>\"\"),0,IFERROR(IF(E255+C254>0,E255+C254,0)*VLOOKUP(MONTH(B254),'NRI (Auto)'!$O$6:$Q$17,3,0),\"\"))","v":""},{"$f":"IFERROR(IF(NRI!$P$2-E254<=0,NRI!$P$3,NRI!$P$2-E254),\"\")","v":""},{"$error":"#DIV/0!"}]
[11,{"$f":"DATE(NRI!$A$4+INT((ROW()-4)/12),MOD(ROW()-4,12),1)","v":"2006-11-01"},{"$f":"OFFSET(NRI!$A$3,1+INT((ROW()-5)/12),A255,1,1)","v":0},0,{"$f":"IF(AND(C256=\"\",C255<>\"\"),0,IFERROR(IF(E256+C255>0,E256+C255,0)*VLOOKUP(MONTH(B255),'NRI (Auto)'!$O$6:$Q$17,3,0),\"\"))","v":""},{"$f":"IFERROR(IF(NRI!$P$2-E255<=0,NRI!$P$3,NRI!$P$2-E255),\"\")","v":""},{"$error":"#DIV/0!"}]
[12,{"$f":"DATE(NRI!$A$4+INT((ROW()-4)/12),MOD(ROW()-4,12),1)","v":"2006-12-01"},{"$f":"OFFSET(NRI!$A$3,1+INT((ROW()-5)/12),A256,1,1)","v":0},0,{"$f":"IF(AND(C257=\"\",C256<>\"\"),0,IFERROR(IF(E257+C256>0,E257+C256,0)*VLOOKUP(MONTH(B256),'NRI (Auto)'!$O$6:$Q$17,3,0),\"\"))","v":""},{"$f":"IFERROR(IF(NRI!$P$2-E256<=0,NRI!$P$3,NRI!$P$2-E256),\"\")","v":""},{"$error":"#DIV/0!"}]
[1,{"$f":"DATE(NRI!$A$4+INT((ROW()-4)/12),MOD(ROW()-4,12),1)","v":"2007-01-01"},{"$f":"OFFSET(NRI!$A$3,1+INT((ROW()-5)/12),A257,1,1)","v":0},0,{"$f":"IF(AND(C258=\"\",C257<>\"\"),0,IFERROR(IF(E258+C257>0,E258+C257,0)*VLOOKUP(MONTH(B257),'NRI (Auto)'!$O$6:$Q$17,3,0),\"\"))","v":""},{"$f":"IFERROR(IF(NRI!$P$2-E257<=0,NRI!$P$3,NRI!$P$2-E257),\"\")","v":""},{"$error":"#DIV/0!"}]
[2,{"$f":"DATE(NRI!$A$4+INT((ROW()-4)/12),MOD(ROW()-4,12),1)","v":"2007-02-01"},{"$f":"OFFSET(NRI!$A$3,1+INT((ROW()-5)/12),A258,1,1)","v":0},0,{"$f":"IF(AND(C259=\"\",C258<>\"\"),0,IFERROR(IF(E259+C258>0,E259+C258,0)*VLOOKUP(MONTH(B258),'NRI (Auto)'!$O$6:$Q$17,3,0),\"\"))","v":""},{"$f":"IFERROR(IF(NRI!$P$2-E258<=0,NRI!$P$3,NRI!$P$2-E258),\"\")","v":""},{"$error":"#DIV/0!"}]
[3,{"$f":"DATE(NRI!$A$4+INT((ROW()-4)/12),MOD(ROW()-4,12),1)","v":"2007-03-01"},{"$f":"OFFSET(NRI!$A$3,1+INT((ROW()-5)/12),A259,1,1)","v":0},0,{"$f":"IF(AND(C260=\"\",C259<>\"\"),0,IFERROR(IF(E260+C259>0,E260+C259,0)*VLOOKUP(MONTH(B259),'NRI (Auto)'!$O$6:$Q$17,3,0),\"\"))","v":""},{"$f":"IFERROR(IF(NRI!$P$2-E259<=0,NRI!$P$3,NRI!$P$2-E259),\"\")","v":""},{"$error":"#DIV/0!"}]
[4,{"$f":"DATE(NRI!$A$4+INT((ROW()-4)/12),MOD(ROW()-4,12),1)","v":"2007-04-01"},{"$f":"OFFSET(NRI!$A$3,1+INT((ROW()-5)/12),A260,1,1)","v":0},0,{"$f":"IF(AND(C261=\"\",C260<>\"\"),0,IFERROR(IF(E261+C260>0,E261+C260,0)*VLOOKUP(MONTH(B260),'NRI (Auto)'!$O$6:$Q$17,3,0),\"\"))","v":""},{"$f":"IFERROR(IF(NRI!$P$2-E260<=0,NRI!$P$3,NRI!$P$2-E260),\"\")","v":""},{"$error":"#DIV/0!"}]
[5,{"$f":"DATE(NRI!$A$4+INT((ROW()-4)/12),MOD(ROW()-4,12),1)","v":"2007-05-01"},{"$f":"OFFSET(NRI!$A$3,1+INT((ROW()-5)/12),A261,1,1)","v":0},0,{"$f":"IF(AND(C262=\"\",C261<>\"\"),0,IFERROR(IF(E262+C261>0,E262+C261,0)*VLOOKUP(MONTH(B261),'NRI (Auto)'!$O$6:$Q$17,3,0),\"\"))","v":""},{"$f":"IFERROR(IF(NRI!$P$2-E261<=0,NRI!$P$3,NRI!$P$2-E261),\"\")","v":""},{"$error":"#DIV/0!"}]
[6,{"$f":"DATE(NRI!$A$4+INT((ROW()-4)/12),MOD(ROW()-4,12),1)","v":"2007-06-01"},{"$f":"OFFSET(NRI!$A$3,1+INT((ROW()-5)/12),A262,1,1)","v":0},{"$f":"IFERROR(IF(D261+C262>0,D261+C262,0),\"\")","v":0},{"$f":"IF(AND(C263=\"\",C262<>\"\"),0,IFERROR(IF(E263+C262>0,E263+C262,0)*VLOOKUP(MONTH(B262),'NRI (Auto)'!$O$6:$Q$17,3,0),\"\"))","v":""},{"$f":"IFERROR(IF(NRI!$P$2-E262<=0,NRI!$P$3,NRI!$P$2-E262),\"\")","v":""},{"$error":"#DIV/0!"}]
[7,{"$f":"DATE(NRI!$A$4+INT((ROW()-4)/12),MOD(ROW()-4,12),1)","v":"2007-07-01"},{"$f":"OFFSET(NRI!$A$3,1+INT((ROW()-5)/12),A263,1,1)","v":0},0,{"$f":"IF(AND(C264=\"\",C263<>\"\"),0,IFERROR(IF(E264+C263>0,E264+C263,0)*VLOOKUP(MONTH(B263),'NRI (Auto)'!$O$6:$Q$17,3,0),\"\"))","v":""},{"$f":"IFERROR(IF(NRI!$P$2-E263<=0,NRI!$P$3,NRI!$P$2-E263),\"\")","v":""},{"$error":"#DIV/0!"}]
[8,{"$f":"DATE(NRI!$A$4+INT((ROW()-4)/12),MOD(ROW()-4,12),1)","v":"2007-08-01"},{"$f":"OFFSET(NRI!$A$3,1+INT((ROW()-5)/12),A264,1,1)","v":0},0,{"$f":"IF(AND(C265=\"\",C264<>\"\"),0,IFERROR(IF(E265+C264>0,E265+C264,0)*VLOOKUP(MONTH(B264),'NRI (Auto)'!$O$6:$Q$17,3,0),\"\"))","v":""},{"$f":"IFERROR(IF(NRI!$P$2-E264<=0,NRI!$P$3,NRI!$P$2-E264),\"\")","v":""},{"$error":"#DIV/0!"}]
[9,{"$f":"DATE(NRI!$A$4+INT((ROW()-4)/12),MOD(ROW()-4,12),1)","v":"2007-09-01"},{"$f":"OFFSET(NRI!$A$3,1+INT((ROW()-5)/12),A265,1,1)","v":0},0,{"$f":"IF(AND(C266=\"\",C265<>\"\"),0,IFERROR(IF(E266+C265>0,E266+C265,0)*VLOOKUP(MONTH(B265),'NRI (Auto)'!$O$6:$Q$17,3,0),\"\"))","v":""},{"$f":"IFERROR(IF(NRI!$P$2-E265<=0,NRI!$P$3,NRI!$P$2-E265),\"\")","v":""},{"$error":"#DIV/0!"}]
[10,{"$f":"DATE(NRI!$A$4+INT((ROW()-4)/12),MOD(ROW()-4,12),1)","v":"2007-10-01"},{"$f":"OFFSET(NRI!$A$3,1+INT((ROW()-5)/12),A266,1,1)","v":0},0,{"$f":"IF(AND(C267=\"\",C266<>\"\"),0,IFERROR(IF(E267+C266>0,E267+C266,0)*VLOOKUP(MONTH(B266),'NRI (Auto)'!$O$6:$Q$17,3,0),\"\"))","v":""},{"$f":"IFERROR(IF(NRI!$P$2-E266<=0,NRI!$P$3,NRI!$P$2-E266),\"\")","v":""},{"$error":"#DIV/0!"}]
[11,{"$f":"DATE(NRI!$A$4+INT((ROW()-4)/12),MOD(ROW()-4,12),1)","v":"2007-11-01"},{"$f":"OFFSET(NRI!$A$3,1+INT((ROW()-5)/12),A267,1,1)","v":0},0,{"$f":"IF(AND(C268=\"\",C267<>\"\"),0,IFERROR(IF(E268+C267>0,E268+C267,0)*VLOOKUP(MONTH(B267),'NRI (Auto)'!$O$6:$Q$17,3,0),\"\"))","v":""},{"$f":"IFERROR(IF(NRI!$P$2-E267<=0,NRI!$P$3,NRI!$P$2-E267),\"\")","v":""},{"$error":"#DIV/0!"}]
[12,{"$f":"DATE(NRI!$A$4+INT((ROW()-4)/12),MOD(ROW()-4,12),1)","v":"2007-12-01"},{"$f":"OFFSET(NRI!$A$3,1+INT((ROW()-5)/12),A268,1,1)","v":0},0,{"$f":"IF(AND(C269=\"\",C268<>\"\"),0,IFERROR(IF(E269+C268>0,E269+C268,0)*VLOOKUP(MONTH(B268),'NRI (Auto)'!$O$6:$Q$17,3,0),\"\"))","v":""},{"$f":"IFERROR(IF(NRI!$P$2-E268<=0,NRI!$P$3,NRI!$P$2-E268),\"\")","v":""},{"$error":"#DIV/0!"}]
[1,{"$f":"DATE(NRI!$A$4+INT((ROW()-4)/12),MOD(ROW()-4,12),1)","v":"2008-01-01"},{"$f":"OFFSET(NRI!$A$3,1+INT((ROW()-5)/12),A269,1,1)","v":0},0,{"$f":"IF(AND(C270=\"\",C269<>\"\"),0,IFERROR(IF(E270+C269>0,E270+C269,0)*VLOOKUP(MONTH(B269),'NRI (Auto)'!$O$6:$Q$17,3,0),\"\"))","v":""},{"$f":"IFERROR(IF(NRI!$P$2-E269<=0,NRI!$P$3,NRI!$P$2-E269),\"\")","v":""},{"$error":"#DIV/0!"}]
[2,{"$f":"DATE(NRI!$A$4+INT((ROW()-4)/12),MOD(ROW()-4,12),1)","v":"2008-02-01"},{"$f":"OFFSET(NRI!$A$3,1+INT((ROW()-5)/12),A270,1,1)","v":0},0,{"$f":"IF(AND(C271=\"\",C270<>\"\"),0,IFERROR(IF(E271+C270>0,E271+C270,0)*VLOOKUP(MONTH(B270),'NRI (Auto)'!$O$6:$Q$17,3,0),\"\"))","v":""},{"$f":"IFERROR(IF(NRI!$P$2-E270<=0,NRI!$P$3,NRI!$P$2-E270),\"\")","v":""},{"$error":"#DIV/0!"}]
[3,{"$f":"DATE(NRI!$A$4+INT((ROW()-4)/12),MOD(ROW()-4,12),1)","v":"2008-03-01"},{"$f":"OFFSET(NRI!$A$3,1+INT((ROW()-5)/12),A271,1,1)","v":0},0,{"$f":"IF(AND(C272=\"\",C271<>\"\"),0,IFERROR(IF(E272+C271>0,E272+C271,0)*VLOOKUP(MONTH(B271),'NRI (Auto)'!$O$6:$Q$17,3,0),\"\"))","v":""},{"$f":"IFERROR(IF(NRI!$P$2-E271<=0,NRI!$P$3,NRI!$P$2-E271),\"\")","v":""},{"$error":"#DIV/0!"}]
[4,{"$f":"DATE(NRI!$A$4+INT((ROW()-4)/12),MOD(ROW()-4,12),1)","v":"2008-04-01"},{"$f":"OFFSET(NRI!$A$3,1+INT((ROW()-5)/12),A272,1,1)","v":0},0,{"$f":"IF(AND(C273=\"\",C272<>\"\"),0,IFERROR(IF(E273+C272>0,E273+C272,0)*VLOOKUP(MONTH(B272),'NRI (Auto)'!$O$6:$Q$17,3,0),\"\"))","v":""},{"$f":"IFERROR(IF(NRI!$P$2-E272<=0,NRI!$P$3,NRI!$P$2-E272),\"\")","v":""},{"$error":"#DIV/0!"}]
[5,{"$f":"DATE(NRI!$A$4+INT((ROW()-4)/12),MOD(ROW()-4,12),1)","v":"2008-05-01"},{"$f":"OFFSET(NRI!$A$3,1+INT((ROW()-5)/12),A273,1,1)","v":0},0,{"$f":"IF(AND(C274=\"\",C273<>\"\"),0,IFERROR(IF(E274+C273>0,E274+C273,0)*VLOOKUP(MONTH(B273),'NRI (Auto)'!$O$6:$Q$17,3,0),\"\"))","v":""},{"$f":"IFERROR(IF(NRI!$P$2-E273<=0,NRI!$P$3,NRI!$P$2-E273),\"\")","v":""},{"$error":"#DIV/0!"}]
[{"$f":"+A262","v":6},{"$f":"DATE(NRI!$A$4+INT((ROW()-4)/12),MOD(ROW()-4,12),1)","v":"2008-06-01"},{"$f":"OFFSET(NRI!$A$3,1+INT((ROW()-5)/12),A274,1,1)","v":0},0,{"$f":"IF(AND(C275=\"\",C274<>\"\"),0,IFERROR(IF(E275+C274>0,E275+C274,0)*VLOOKUP(MONTH(B274),'NRI (Auto)'!$O$6:$Q$17,3,0),\"\"))","v":""},{"$f":"IFERROR(IF(NRI!$P$2-E274<=0,NRI!$P$3,NRI!$P$2-E274),\"\")","v":""},{"$f":"+G262","v":{"$error":"#DIV/0!"}}]
[7,{"$f":"DATE(NRI!$A$4+INT((ROW()-4)/12),MOD(ROW()-4,12),1)","v":"2008-07-01"},{"$f":"OFFSET(NRI!$A$3,1+INT((ROW()-5)/12),A275,1,1)","v":0},0,{"$f":"IF(AND(C276=\"\",C275<>\"\"),0,IFERROR(IF(E276+C275>0,E276+C275,0)*VLOOKUP(MONTH(B275),'NRI (Auto)'!$O$6:$Q$17,3,0),\"\"))","v":""},{"$f":"IFERROR(IF(NRI!$P$2-E275<=0,NRI!$P$3,NRI!$P$2-E275),\"\")","v":""},{"$error":"#DIV/0!"}]
[8,{"$f":"DATE(NRI!$A$4+INT((ROW()-4)/12),MOD(ROW()-4,12),1)","v":"2008-08-01"},{"$f":"OFFSET(NRI!$A$3,1+INT((ROW()-5)/12),A276,1,1)","v":0},0,{"$f":"IF(AND(C277=\"\",C276<>\"\"),0,IFERROR(IF(E277+C276>0,E277+C276,0)*VLOOKUP(MONTH(B276),'NRI (Auto)'!$O$6:$Q$17,3,0),\"\"))","v":""},{"$f":"IFERROR(IF(NRI!$P$2-E276<=0,NRI!$P$3,NRI!$P$2-E276),\"\")","v":""},{"$error":"#DIV/0!"}]
[9,{"$f":"DATE(NRI!$A$4+INT((ROW()-4)/12),MOD(ROW()-4,12),1)","v":"2008-09-01"},{"$f":"OFFSET(NRI!$A$3,1+INT((ROW()-5)/12),A277,1,1)","v":0},0,{"$f":"IF(AND(C278=\"\",C277<>\"\"),0,IFERROR(IF(E278+C277>0,E278+C277,0)*VLOOKUP(MONTH(B277),'NRI (Auto)'!$O$6:$Q$17,3,0),\"\"))","v":""},{"$f":"IFERROR(IF(NRI!$P$2-E277<=0,NRI!$P$3,NRI!$P$2-E277),\"\")","v":""},{"$error":"#DIV/0!"}]
[10,{"$f":"DATE(NRI!$A$4+INT((ROW()-4)/12),MOD(ROW()-4,12),1)","v":"2008-10-01"},{"$f":"OFFSET(NRI!$A$3,1+INT((ROW()-5)/12),A278,1,1)","v":0},0,{"$f":"IF(AND(C279=\"\",C278<>\"\"),0,IFERROR(IF(E279+C278>0,E279+C278,0)*VLOOKUP(MONTH(B278),'NRI (Auto)'!$O$6:$Q$17,3,0),\"\"))","v":""},{"$f":"IFERROR(IF(NRI!$P$2-E278<=0,NRI!$P$3,NRI!$P$2-E278),\"\")","v":""},{"$error":"#DIV/0!"}]
[11,{"$f":"DATE(NRI!$A$4+INT((ROW()-4)/12),MOD(ROW()-4,12),1)","v":"2008-11-01"},{"$f":"OFFSET(NRI!$A$3,1+INT((ROW()-5)/12),A279,1,1)","v":0},0,{"$f":"IF(AND(C280=\"\",C279<>\"\"),0,IFERROR(IF(E280+C279>0,E280+C279,0)*VLOOKUP(MONTH(B279),'NRI (Auto)'!$O$6:$Q$17,3,0),\"\"))","v":""},{"$f":"IFERROR(IF(NRI!$P$2-E279<=0,NRI!$P$3,NRI!$P$2-E279),\"\")","v":""},{"$error":"#DIV/0!"}]
[12,{"$f":"DATE(NRI!$A$4+INT((ROW()-4)/12),MOD(ROW()-4,12),1)","v":"2008-12-01"},{"$f":"OFFSET(NRI!$A$3,1+INT((ROW()-5)/12),A280,1,1)","v":0},0,{"$f":"IF(AND(C281=\"\",C280<>\"\"),0,IFERROR(IF(E281+C280>0,E281+C280,0)*VLOOKUP(MONTH(B280),'NRI (Auto)'!$O$6:$Q$17,3,0),\"\"))","v":""},{"$f":"IFERROR(IF(NRI!$P$2-E280<=0,NRI!$P$3,NRI!$P$2-E280),\"\")","v":""},{"$error":"#DIV/0!"}]
[1,{"$f":"DATE(NRI!$A$4+INT((ROW()-4)/12),MOD(ROW()-4,12),1)","v":"2009-01-01"},{"$f":"OFFSET(NRI!$A$3,1+INT((ROW()-5)/12),A281,1,1)","v":0},0,{"$f":"IF(AND(C282=\"\",C281<>\"\"),0,IFERROR(IF(E282+C281>0,E282+C281,0)*VLOOKUP(MONTH(B281),'NRI (Auto)'!$O$6:$Q$17,3,0),\"\"))","v":""},{"$f":"IFERROR(IF(NRI!$P$2-E281<=0,NRI!$P$3,NRI!$P$2-E281),\"\")","v":""},{"$error":"#DIV/0!"}]
[2,{"$f":"DATE(NRI!$A$4+INT((ROW()-4)/12),MOD(ROW()-4,12),1)","v":"2009-02-01"},{"$f":"OFFSET(NRI!$A$3,1+INT((ROW()-5)/12),A282,1,1)","v":0},0,{"$f":"IF(AND(C283=\"\",C282<>\"\"),0,IFERROR(IF(E283+C282>0,E283+C282,0)*VLOOKUP(MONTH(B282),'NRI (Auto)'!$O$6:$Q$17,3,0),\"\"))","v":""},{"$f":"IFERROR(IF(NRI!$P$2-E282<=0,NRI!$P$3,NRI!$P$2-E282),\"\")","v":""},{"$error":"#DIV/0!"}]
[3,{"$f":"DATE(NRI!$A$4+INT((ROW()-4)/12),MOD(ROW()-4,12),1)","v":"2009-03-01"},{"$f":"OFFSET(NRI!$A$3,1+INT((ROW()-5)/12),A283,1,1)","v":0},0,{"$f":"IF(AND(C284=\"\",C283<>\"\"),0,IFERROR(IF(E284+C283>0,E284+C283,0)*VLOOKUP(MONTH(B283),'NRI (Auto)'!$O$6:$Q$17,3,0),\"\"))","v":""},{"$f":"IFERROR(IF(NRI!$P$2-E283<=0,NRI!$P$3,NRI!$P$2-E283),\"\")","v":""},{"$error":"#DIV/0!"}]
[4,{"$f":"DATE(NRI!$A$4+INT((ROW()-4)/12),MOD(ROW()-4,12),1)","v":"2009-04-01"},{"$f":"OFFSET(NRI!$A$3,1+INT((ROW()-5)/12),A284,1,1)","v":0},0,{"$f":"IF(AND(C285=\"\",C284<>\"\"),0,IFERROR(IF(E285+C284>0,E285+C284,0)*VLOOKUP(MONTH(B284),'NRI (Auto)'!$O$6:$Q$17,3,0),\"\"))","v":""},{"$f":"IFERROR(IF(NRI!$P$2-E284<=0,NRI!$P$3,NRI!$P$2-E284),\"\")","v":""},{"$error":"#DIV/0!"}]
[5,{"$f":"DATE(NRI!$A$4+INT((ROW()-4)/12),MOD(ROW()-4,12),1)","v":"2009-05-01"},{"$f":"OFFSET(NRI!$A$3,1+INT((ROW()-5)/12),A285,1,1)","v":0},0,{"$f":"IF(AND(C286=\"\",C285<>\"\"),0,IFERROR(IF(E286+C285>0,E286+C285,0)*VLOOKUP(MONTH(B285),'NRI (Auto)'!$O$6:$Q$17,3,0),\"\"))","v":""},{"$f":"IFERROR(IF(NRI!$P$2-E285<=0,NRI!$P$3,NRI!$P$2-E285),\"\")","v":""},{"$error":"#DIV/0!"}]
[6,{"$f":"DATE(NRI!$A$4+INT((ROW()-4)/12),MOD(ROW()-4,12),1)","v":"2009-06-01"},{"$f":"OFFSET(NRI!$A$3,1+INT((ROW()-5)/12),A286,1,1)","v":0},0,{"$f":"IF(AND(C287=\"\",C286<>\"\"),0,IFERROR(IF(E287+C286>0,E287+C286,0)*VLOOKUP(MONTH(B286),'NRI (Auto)'!$O$6:$Q$17,3,0),\"\"))","v":""},{"$f":"IFERROR(IF(NRI!$P$2-E286<=0,NRI!$P$3,NRI!$P$2-E286),\"\")","v":""},{"$error":"#DIV/0!"}]
[7,{"$f":"DATE(NRI!$A$4+INT((ROW()-4)/12),MOD(ROW()-4,12),1)","v":"2009-07-01"},{"$f":"OFFSET(NRI!$A$3,1+INT((ROW()-5)/12),A287,1,1)","v":0},0,{"$f":"IF(AND(C288=\"\",C287<>\"\"),0,IFERROR(IF(E288+C287>0,E288+C287,0)*VLOOKUP(MONTH(B287),'NRI (Auto)'!$O$6:$Q$17,3,0),\"\"))","v":""},{"$f":"IFERROR(IF(NRI!$P$2-E287<=0,NRI!$P$3,NRI!$P$2-E287),\"\")","v":""},{"$error":"#DIV/0!"}]
[8,{"$f":"DATE(NRI!$A$4+INT((ROW()-4)/12),MOD(ROW()-4,12),1)","v":"2009-08-01"},{"$f":"OFFSET(NRI!$A$3,1+INT((ROW()-5)/12),A288,1,1)","v":0},0,{"$f":"IF(AND(C289=\"\",C288<>\"\"),0,IFERROR(IF(E289+C288>0,E289+C288,0)*VLOOKUP(MONTH(B288),'NRI (Auto)'!$O$6:$Q$17,3,0),\"\"))","v":""},{"$f":"IFERROR(IF(NRI!$P$2-E288<=0,NRI!$P$3,NRI!$P$2-E288),\"\")","v":""},{"$error":"#DIV/0!"}]
[9,{"$f":"DATE(NRI!$A$4+INT((ROW()-4)/12),MOD(ROW()-4,12),1)","v":"2009-09-01"},{"$f":"OFFSET(NRI!$A$3,1+INT((ROW()-5)/12),A289,1,1)","v":0},0,{"$f":"IF(AND(C290=\"\",C289<>\"\"),0,IFERROR(IF(E290+C289>0,E290+C289,0)*VLOOKUP(MONTH(B289),'NRI (Auto)'!$O$6:$Q$17,3,0),\"\"))","v":""},{"$f":"IFERROR(IF(NRI!$P$2-E289<=0,NRI!$P$3,NRI!$P$2-E289),\"\")","v":""},{"$error":"#DIV/0!"}]
[10,{"$f":"DATE(NRI!$A$4+INT((ROW()-4)/12),MOD(ROW()-4,12),1)","v":"2009-10-01"},{"$f":"OFFSET(NRI!$A$3,1+INT((ROW()-5)/12),A290,1,1)","v":0},0,{"$f":"IF(AND(C291=\"\",C290<>\"\"),0,IFERROR(IF(E291+C290>0,E291+C290,0)*VLOOKUP(MONTH(B290),'NRI (Auto)'!$O$6:$Q$17,3,0),\"\"))","v":""},{"$f":"IFERROR(IF(NRI!$P$2-E290<=0,NRI!$P$3,NRI!$P$2-E290),\"\")","v":""},{"$error":"#DIV/0!"}]
[11,{"$f":"DATE(NRI!$A$4+INT((ROW()-4)/12),MOD(ROW()-4,12),1)","v":"2009-11-01"},{"$f":"OFFSET(NRI!$A$3,1+INT((ROW()-5)/12),A291,1,1)","v":0},0,{"$f":"IF(AND(C292=\"\",C291<>\"\"),0,IFERROR(IF(E292+C291>0,E292+C291,0)*VLOOKUP(MONTH(B291),'NRI (Auto)'!$O$6:$Q$17,3,0),\"\"))","v":""},{"$f":"IFERROR(IF(NRI!$P$2-E291<=0,NRI!$P$3,NRI!$P$2-E291),\"\")","v":""},{"$error":"#DIV/0!"}]
[12,{"$f":"DATE(NRI!$A$4+INT((ROW()-4)/12),MOD(ROW()-4,12),1)","v":"2009-12-01"},{"$f":"OFFSET(NRI!$A$3,1+INT((ROW()-5)/12),A292,1,1)","v":0},0,{"$f":"IF(AND(C293=\"\",C292<>\"\"),0,IFERROR(IF(E293+C292>0,E293+C292,0)*VLOOKUP(MONTH(B292),'NRI (Auto)'!$O$6:$Q$17,3,0),\"\"))","v":""},{"$f":"IFERROR(IF(NRI!$P$2-E292<=0,NRI!$P$3,NRI!$P$2-E292),\"\")","v":""},{"$error":"#DIV/0!"}]
[1,{"$f":"DATE(NRI!$A$4+INT((ROW()-4)/12),MOD(ROW()-4,12),1)","v":"2010-01-01"},{"$f":"OFFSET(NRI!$A$3,1+INT((ROW()-5)/12),A293,1,1)","v":0},0,{"$f":"IF(AND(C294=\"\",C293<>\"\"),0,IFERROR(IF(E294+C293>0,E294+C293,0)*VLOOKUP(MONTH(B293),'NRI (Auto)'!$O$6:$Q$17,3,0),\"\"))","v":""},{"$f":"IFERROR(IF(NRI!$P$2-E293<=0,NRI!$P$3,NRI!$P$2-E293),\"\")","v":""},{"$error":"#DIV/0!"}]
[2,{"$f":"DATE(NRI!$A$4+INT((ROW()-4)/12),MOD(ROW()-4,12),1)","v":"2010-02-01"},{"$f":"OFFSET(NRI!$A$3,1+INT((ROW()-5)/12),A294,1,1)","v":0},0,{"$f":"IF(AND(C295=\"\",C294<>\"\"),0,IFERROR(IF(E295+C294>0,E295+C294,0)*VLOOKUP(MONTH(B294),'NRI (Auto)'!$O$6:$Q$17,3,0),\"\"))","v":""},{"$f":"IFERROR(IF(NRI!$P$2-E294<=0,NRI!$P$3,NRI!$P$2-E294),\"\")","v":""},{"$error":"#DIV/0!"}]
[3,{"$f":"DATE(NRI!$A$4+INT((ROW()-4)/12),MOD(ROW()-4,12),1)","v":"2010-03-01"},{"$f":"OFFSET(NRI!$A$3,1+INT((ROW()-5)/12),A295,1,1)","v":0},0,{"$f":"IF(AND(C296=\"\",C295<>\"\"),0,IFERROR(IF(E296+C295>0,E296+C295,0)*VLOOKUP(MONTH(B295),'NRI (Auto)'!$O$6:$Q$17,3,0),\"\"))","v":""},{"$f":"IFERROR(IF(NRI!$P$2-E295<=0,NRI!$P$3,NRI!$P$2-E295),\"\")","v":""},{"$error":"#DIV/0!"}]
[4,{"$f":"DATE(NRI!$A$4+INT((ROW()-4)/12),MOD(ROW()-4,12),1)","v":"2010-04-01"},{"$f":"OFFSET(NRI!$A$3,1+INT((ROW()-5)/12),A296,1,1)","v":0},0,{"$f":"IF(AND(C297=\"\",C296<>\"\"),0,IFERROR(IF(E297+C296>0,E297+C296,0)*VLOOKUP(MONTH(B296),'NRI (Auto)'!$O$6:$Q$17,3,0),\"\"))","v":""},{"$f":"IFERROR(IF(NRI!$P$2-E296<=0,NRI!$P$3,NRI!$P$2-E296),\"\")","v":""},{"$error":"#DIV/0!"}]
[5,{"$f":"DATE(NRI!$A$4+INT((ROW()-4)/12),MOD(ROW()-4,12),1)","v":"2010-05-01"},{"$f":"OFFSET(NRI!$A$3,1+INT((ROW()-5)/12),A297,1,1)","v":0},0,{"$f":"IF(AND(C298=\"\",C297<>\"\"),0,IFERROR(IF(E298+C297>0,E298+C297,0)*VLOOKUP(MONTH(B297),'NRI (Auto)'!$O$6:$Q$17,3,0),\"\"))","v":""},{"$f":"IFERROR(IF(NRI!$P$2-E297<=0,NRI!$P$3,NRI!$P$2-E297),\"\")","v":""},{"$error":"#DIV/0!"}]
[6,{"$f":"DATE(NRI!$A$4+INT((ROW()-4)/12),MOD(ROW()-4,12),1)","v":"2010-06-01"},{"$f":"OFFSET(NRI!$A$3,1+INT((ROW()-5)/12),A298,1,1)","v":0},0,{"$f":"IF(AND(C299=\"\",C298<>\"\"),0,IFERROR(IF(E299+C298>0,E299+C298,0)*VLOOKUP(MONTH(B298),'NRI (Auto)'!$O$6:$Q$17,3,0),\"\"))","v":""},{"$f":"IFERROR(IF(NRI!$P$2-E298<=0,NRI!$P$3,NRI!$P$2-E298),\"\")","v":""},{"$error":"#DIV/0!"}]
[7,{"$f":"DATE(NRI!$A$4+INT((ROW()-4)/12),MOD(ROW()-4,12),1)","v":"2010-07-01"},{"$f":"OFFSET(NRI!$A$3,1+INT((ROW()-5)/12),A299,1,1)","v":0},0,{"$f":"IF(AND(C300=\"\",C299<>\"\"),0,IFERROR(IF(E300+C299>0,E300+C299,0)*VLOOKUP(MONTH(B299),'NRI (Auto)'!$O$6:$Q$17,3,0),\"\"))","v":""},{"$f":"IFERROR(IF(NRI!$P$2-E299<=0,NRI!$P$3,NRI!$P$2-E299),\"\")","v":""},{"$error":"#DIV/0!"}]
[8,{"$f":"DATE(NRI!$A$4+INT((ROW()-4)/12),MOD(ROW()-4,12),1)","v":"2010-08-01"},{"$f":"OFFSET(NRI!$A$3,1+INT((ROW()-5)/12),A300,1,1)","v":0},0,{"$f":"IF(AND(C301=\"\",C300<>\"\"),0,IFERROR(IF(E301+C300>0,E301+C300,0)*VLOOKUP(MONTH(B300),'NRI (Auto)'!$O$6:$Q$17,3,0),\"\"))","v":""},{"$f":"IFERROR(IF(NRI!$P$2-E300<=0,NRI!$P$3,NRI!$P$2-E300),\"\")","v":""},{"$error":"#DIV/0!"}]
[9,{"$f":"DATE(NRI!$A$4+INT((ROW()-4)/12),MOD(ROW()-4,12),1)","v":"2010-09-01"},{"$f":"OFFSET(NRI!$A$3,1+INT((ROW()-5)/12),A301,1,1)","v":0},0,{"$f":"IF(AND(C302=\"\",C301<>\"\"),0,IFERROR(IF(E302+C301>0,E302+C301,0)*VLOOKUP(MONTH(B301),'NRI (Auto)'!$O$6:$Q$17,3,0),\"\"))","v":""},{"$f":"IFERROR(IF(NRI!$P$2-E301<=0,NRI!$P$3,NRI!$P$2-E301),\"\")","v":""},{"$error":"#DIV/0!"}]
[10,{"$f":"DATE(NRI!$A$4+INT((ROW()-4)/12),MOD(ROW()-4,12),1)","v":"2010-10-01"},{"$f":"OFFSET(NRI!$A$3,1+INT((ROW()-5)/12),A302,1,1)","v":0},0,{"$f":"IF(AND(C303=\"\",C302<>\"\"),0,IFERROR(IF(E303+C302>0,E303+C302,0)*VLOOKUP(MONTH(B302),'NRI (Auto)'!$O$6:$Q$17,3,0),\"\"))","v":""},{"$f":"IFERROR(IF(NRI!$P$2-E302<=0,NRI!$P$3,NRI!$P$2-E302),\"\")","v":""},{"$error":"#DIV/0!"}]
[11,{"$f":"DATE(NRI!$A$4+INT((ROW()-4)/12),MOD(ROW()-4,12),1)","v":"2010-11-01"},{"$f":"OFFSET(NRI!$A$3,1+INT((ROW()-5)/12),A303,1,1)","v":0},0,{"$f":"IF(AND(C304=\"\",C303<>\"\"),0,IFERROR(IF(E304+C303>0,E304+C303,0)*VLOOKUP(MONTH(B303),'NRI (Auto)'!$O$6:$Q$17,3,0),\"\"))","v":""},{"$f":"IFERROR(IF(NRI!$P$2-E303<=0,NRI!$P$3,NRI!$P$2-E303),\"\")","v":""},{"$error":"#DIV/0!"}]
[12,{"$f":"DATE(NRI!$A$4+INT((ROW()-4)/12),MOD(ROW()-4,12),1)","v":"2010-12-01"},{"$f":"OFFSET(NRI!$A$3,1+INT((ROW()-5)/12),A304,1,1)","v":0},0,{"$f":"IF(AND(C305=\"\",C304<>\"\"),0,IFERROR(IF(E305+C304>0,E305+C304,0)*VLOOKUP(MONTH(B304),'NRI (Auto)'!$O$6:$Q$17,3,0),\"\"))","v":""},{"$f":"IFERROR(IF(NRI!$P$2-E304<=0,NRI!$P$3,NRI!$P$2-E304),\"\")","v":""},{"$error":"#DIV/0!"}]
[1,{"$f":"DATE(NRI!$A$4+INT((ROW()-4)/12),MOD(ROW()-4,12),1)","v":"2011-01-01"},{"$f":"OFFSET(NRI!$A$3,1+INT((ROW()-5)/12),A305,1,1)","v":0},0,{"$f":"IF(AND(C306=\"\",C305<>\"\"),0,IFERROR(IF(E306+C305>0,E306+C305,0)*VLOOKUP(MONTH(B305),'NRI (Auto)'!$O$6:$Q$17,3,0),\"\"))","v":""},{"$f":"IFERROR(IF(NRI!$P$2-E305<=0,NRI!$P$3,NRI!$P$2-E305),\"\")","v":""},{"$error":"#DIV/0!"}]
[2,{"$f":"DATE(NRI!$A$4+INT((ROW()-4)/12),MOD(ROW()-4,12),1)","v":"2011-02-01"},{"$f":"OFFSET(NRI!$A$3,1+INT((ROW()-5)/12),A306,1,1)","v":0},0,{"$f":"IF(AND(C307=\"\",C306<>\"\"),0,IFERROR(IF(E307+C306>0,E307+C306,0)*VLOOKUP(MONTH(B306),'NRI (Auto)'!$O$6:$Q$17,3,0),\"\"))","v":""},{"$f":"IFERROR(IF(NRI!$P$2-E306<=0,NRI!$P$3,NRI!$P$2-E306),\"\")","v":""},{"$error":"#DIV/0!"}]
[3,{"$f":"DATE(NRI!$A$4+INT((ROW()-4)/12),MOD(ROW()-4,12),1)","v":"2011-03-01"},{"$f":"OFFSET(NRI!$A$3,1+INT((ROW()-5)/12),A307,1,1)","v":0},0,{"$f":"IF(AND(C308=\"\",C307<>\"\"),0,IFERROR(IF(E308+C307>0,E308+C307,0)*VLOOKUP(MONTH(B307),'NRI (Auto)'!$O$6:$Q$17,3,0),\"\"))","v":""},{"$f":"IFERROR(IF(NRI!$P$2-E307<=0,NRI!$P$3,NRI!$P$2-E307),\"\")","v":""},{"$error":"#DIV/0!"}]
[4,{"$f":"DATE(NRI!$A$4+INT((ROW()-4)/12),MOD(ROW()-4,12),1)","v":"2011-04-01"},{"$f":"OFFSET(NRI!$A$3,1+INT((ROW()-5)/12),A308,1,1)","v":0},0,{"$f":"IF(AND(C309=\"\",C308<>\"\"),0,IFERROR(IF(E309+C308>0,E309+C308,0)*VLOOKUP(MONTH(B308),'NRI (Auto)'!$O$6:$Q$17,3,0),\"\"))","v":""},{"$f":"IFERROR(IF(NRI!$P$2-E308<=0,NRI!$P$3,NRI!$P$2-E308),\"\")","v":""},{"$error":"#DIV/0!"}]
[5,{"$f":"DATE(NRI!$A$4+INT((ROW()-4)/12),MOD(ROW()-4,12),1)","v":"2011-05-01"},{"$f":"OFFSET(NRI!$A$3,1+INT((ROW()-5)/12),A309,1,1)","v":0},0,{"$f":"IF(AND(C310=\"\",C309<>\"\"),0,IFERROR(IF(E310+C309>0,E310+C309,0)*VLOOKUP(MONTH(B309),'NRI (Auto)'!$O$6:$Q$17,3,0),\"\"))","v":""},{"$f":"IFERROR(IF(NRI!$P$2-E309<=0,NRI!$P$3,NRI!$P$2-E309),\"\")","v":""},{"$error":"#DIV/0!"}]
[6,{"$f":"DATE(NRI!$A$4+INT((ROW()-4)/12),MOD(ROW()-4,12),1)","v":"2011-06-01"},{"$f":"OFFSET(NRI!$A$3,1+INT((ROW()-5)/12),A310,1,1)","v":0},0,{"$f":"IF(AND(C311=\"\",C310<>\"\"),0,IFERROR(IF(E311+C310>0,E311+C310,0)*VLOOKUP(MONTH(B310),'NRI (Auto)'!$O$6:$Q$17,3,0),\"\"))","v":""},{"$f":"IFERROR(IF(NRI!$P$2-E310<=0,NRI!$P$3,NRI!$P$2-E310),\"\")","v":""},{"$error":"#DIV/0!"}]
[7,{"$f":"DATE(NRI!$A$4+INT((ROW()-4)/12),MOD(ROW()-4,12),1)","v":"2011-07-01"},{"$f":"OFFSET(NRI!$A$3,1+INT((ROW()-5)/12),A311,1,1)","v":0},0,{"$f":"IF(AND(C312=\"\",C311<>\"\"),0,IFERROR(IF(E312+C311>0,E312+C311,0)*VLOOKUP(MONTH(B311),'NRI (Auto)'!$O$6:$Q$17,3,0),\"\"))","v":""},{"$f":"IFERROR(IF(NRI!$P$2-E311<=0,NRI!$P$3,NRI!$P$2-E311),\"\")","v":""},{"$error":"#DIV/0!"}]
[8,{"$f":"DATE(NRI!$A$4+INT((ROW()-4)/12),MOD(ROW()-4,12),1)","v":"2011-08-01"},{"$f":"OFFSET(NRI!$A$3,1+INT((ROW()-5)/12),A312,1,1)","v":0},0,{"$f":"IF(AND(C313=\"\",C312<>\"\"),0,IFERROR(IF(E313+C312>0,E313+C312,0)*VLOOKUP(MONTH(B312),'NRI (Auto)'!$O$6:$Q$17,3,0),\"\"))","v":""},{"$f":"IFERROR(IF(NRI!$P$2-E312<=0,NRI!$P$3,NRI!$P$2-E312),\"\")","v":""},{"$error":"#DIV/0!"}]
[9,{"$f":"DATE(NRI!$A$4+INT((ROW()-4)/12),MOD(ROW()-4,12),1)","v":"2011-09-01"},{"$f":"OFFSET(NRI!$A$3,1+INT((ROW()-5)/12),A313,1,1)","v":0},0,{"$f":"IF(AND(C314=\"\",C313<>\"\"),0,IFERROR(IF(E314+C313>0,E314+C313,0)*VLOOKUP(MONTH(B313),'NRI (Auto)'!$O$6:$Q$17,3,0),\"\"))","v":""},{"$f":"IFERROR(IF(NRI!$P$2-E313<=0,NRI!$P$3,NRI!$P$2-E313),\"\")","v":""},{"$error":"#DIV/0!"}]
[10,{"$f":"DATE(NRI!$A$4+INT((ROW()-4)/12),MOD(ROW()-4,12),1)","v":"2011-10-01"},{"$f":"OFFSET(NRI!$A$3,1+INT((ROW()-5)/12),A314,1,1)","v":0},0,{"$f":"IF(AND(C315=\"\",C314<>\"\"),0,IFERROR(IF(E315+C314>0,E315+C314,0)*VLOOKUP(MONTH(B314),'NRI (Auto)'!$O$6:$Q$17,3,0),\"\"))","v":""},{"$f":"IFERROR(IF(NRI!$P$2-E314<=0,NRI!$P$3,NRI!$P$2-E314),\"\")","v":""},{"$error":"#DIV/0!"}]
[11,{"$f":"DATE(NRI!$A$4+INT((ROW()-4)/12),MOD(ROW()-4,12),1)","v":"2011-11-01"},{"$f":"OFFSET(NRI!$A$3,1+INT((ROW()-5)/12),A315,1,1)","v":0},0,{"$f":"IF(AND(C316=\"\",C315<>\"\"),0,IFERROR(IF(E316+C315>0,E316+C315,0)*VLOOKUP(MONTH(B315),'NRI (Auto)'!$O$6:$Q$17,3,0),\"\"))","v":""},{"$f":"IFERROR(IF(NRI!$P$2-E315<=0,NRI!$P$3,NRI!$P$2-E315),\"\")","v":""},{"$error":"#DIV/0!"}]
[12,{"$f":"DATE(NRI!$A$4+INT((ROW()-4)/12),MOD(ROW()-4,12),1)","v":"2011-12-01"},{"$f":"OFFSET(NRI!$A$3,1+INT((ROW()-5)/12),A316,1,1)","v":0},0,{"$f":"IF(AND(C317=\"\",C316<>\"\"),0,IFERROR(IF(E317+C316>0,E317+C316,0)*VLOOKUP(MONTH(B316),'NRI (Auto)'!$O$6:$Q$17,3,0),\"\"))","v":""},{"$f":"IFERROR(IF(NRI!$P$2-E316<=0,NRI!$P$3,NRI!$P$2-E316),\"\")","v":""},{"$error":"#DIV/0!"}]
[1,{"$f":"DATE(NRI!$A$4+INT((ROW()-4)/12),MOD(ROW()-4,12),1)","v":"2012-01-01"},{"$f":"OFFSET(NRI!$A$3,1+INT((ROW()-5)/12),A317,1,1)","v":0},0,{"$f":"IF(AND(C318=\"\",C317<>\"\"),0,IFERROR(IF(E318+C317>0,E318+C317,0)*VLOOKUP(MONTH(B317),'NRI (Auto)'!$O$6:$Q$17,3,0),\"\"))","v":""},{"$f":"IFERROR(IF(NRI!$P$2-E317<=0,NRI!$P$3,NRI!$P$2-E317),\"\")","v":""},{"$error":"#DIV/0!"}]
[2,{"$f":"DATE(NRI!$A$4+INT((ROW()-4)/12),MOD(ROW()-4,12),1)","v":"2012-02-01"},{"$f":"OFFSET(NRI!$A$3,1+INT((ROW()-5)/12),A318,1,1)","v":0},0,{"$f":"IF(AND(C319=\"\",C318<>\"\"),0,IFERROR(IF(E319+C318>0,E319+C318,0)*VLOOKUP(MONTH(B318),'NRI (Auto)'!$O$6:$Q$17,3,0),\"\"))","v":""},{"$f":"IFERROR(IF(NRI!$P$2-E318<=0,NRI!$P$3,NRI!$P$2-E318),\"\")","v":""},{"$error":"#DIV/0!"}]
[3,{"$f":"DATE(NRI!$A$4+INT((ROW()-4)/12),MOD(ROW()-4,12),1)","v":"2012-03-01"},{"$f":"OFFSET(NRI!$A$3,1+INT((ROW()-5)/12),A319,1,1)","v":0},0,{"$f":"IF(AND(C320=\"\",C319<>\"\"),0,IFERROR(IF(E320+C319>0,E320+C319,0)*VLOOKUP(MONTH(B319),'NRI (Auto)'!$O$6:$Q$17,3,0),\"\"))","v":""},{"$f":"IFERROR(IF(NRI!$P$2-E319<=0,NRI!$P$3,NRI!$P$2-E319),\"\")","v":""},{"$error":"#DIV/0!"}]
[4,{"$f":"DATE(NRI!$A$4+INT((ROW()-4)/12),MOD(ROW()-4,12),1)","v":"2012-04-01"},{"$f":"OFFSET(NRI!$A$3,1+INT((ROW()-5)/12),A320,1,1)","v":0},0,{"$f":"IF(AND(C321=\"\",C320<>\"\"),0,IFERROR(IF(E321+C320>0,E321+C320,0)*VLOOKUP(MONTH(B320),'NRI (Auto)'!$O$6:$Q$17,3,0),\"\"))","v":""},{"$f":"IFERROR(IF(NRI!$P$2-E320<=0,NRI!$P$3,NRI!$P$2-E320),\"\")","v":""},{"$error":"#DIV/0!"}]
[5,{"$f":"DATE(NRI!$A$4+INT((ROW()-4)/12),MOD(ROW()-4,12),1)","v":"2012-05-01"},{"$f":"OFFSET(NRI!$A$3,1+INT((ROW()-5)/12),A321,1,1)","v":0},0,{"$f":"IF(AND(C322=\"\",C321<>\"\"),0,IFERROR(IF(E322+C321>0,E322+C321,0)*VLOOKUP(MONTH(B321),'NRI (Auto)'!$O$6:$Q$17,3,0),\"\"))","v":""},{"$f":"IFERROR(IF(NRI!$P$2-E321<=0,NRI!$P$3,NRI!$P$2-E321),\"\")","v":""},{"$error":"#DIV/0!"}]
[6,{"$f":"DATE(NRI!$A$4+INT((ROW()-4)/12),MOD(ROW()-4,12),1)","v":"2012-06-01"},{"$f":"OFFSET(NRI!$A$3,1+INT((ROW()-5)/12),A322,1,1)","v":0},0,{"$f":"IF(AND(C323=\"\",C322<>\"\"),0,IFERROR(IF(E323+C322>0,E323+C322,0)*VLOOKUP(MONTH(B322),'NRI (Auto)'!$O$6:$Q$17,3,0),\"\"))","v":""},{"$f":"IFERROR(IF(NRI!$P$2-E322<=0,NRI!$P$3,NRI!$P$2-E322),\"\")","v":""},{"$error":"#DIV/0!"}]
[7,{"$f":"DATE(NRI!$A$4+INT((ROW()-4)/12),MOD(ROW()-4,12),1)","v":"2012-07-01"},{"$f":"OFFSET(NRI!$A$3,1+INT((ROW()-5)/12),A323,1,1)","v":0},0,{"$f":"IF(AND(C324=\"\",C323<>\"\"),0,IFERROR(IF(E324+C323>0,E324+C323,0)*VLOOKUP(MONTH(B323),'NRI (Auto)'!$O$6:$Q$17,3,0),\"\"))","v":""},{"$f":"IFERROR(IF(NRI!$P$2-E323<=0,NRI!$P$3,NRI!$P$2-E323),\"\")","v":""},{"$error":"#DIV/0!"}]
[8,{"$f":"DATE(NRI!$A$4+INT((ROW()-4)/12),MOD(ROW()-4,12),1)","v":"2012-08-01"},{"$f":"OFFSET(NRI!$A$3,1+INT((ROW()-5)/12),A324,1,1)","v":0},0,{"$f":"IF(AND(C325=\"\",C324<>\"\"),0,IFERROR(IF(E325+C324>0,E325+C324,0)*VLOOKUP(MONTH(B324),'NRI (Auto)'!$O$6:$Q$17,3,0),\"\"))","v":""},{"$f":"IFERROR(IF(NRI!$P$2-E324<=0,NRI!$P$3,NRI!$P$2-E324),\"\")","v":""},{"$error":"#DIV/0!"}]
[9,{"$f":"DATE(NRI!$A$4+INT((ROW()-4)/12),MOD(ROW()-4,12),1)","v":"2012-09-01"},{"$f":"OFFSET(NRI!$A$3,1+INT((ROW()-5)/12),A325,1,1)","v":0},0,{"$f":"IF(AND(C326=\"\",C325<>\"\"),0,IFERROR(IF(E326+C325>0,E326+C325,0)*VLOOKUP(MONTH(B325),'NRI (Auto)'!$O$6:$Q$17,3,0),\"\"))","v":""},{"$f":"IFERROR(IF(NRI!$P$2-E325<=0,NRI!$P$3,NRI!$P$2-E325),\"\")","v":""},{"$error":"#DIV/0!"}]
[10,{"$f":"DATE(NRI!$A$4+INT((ROW()-4)/12),MOD(ROW()-4,12),1)","v":"2012-10-01"},{"$f":"OFFSET(NRI!$A$3,1+INT((ROW()-5)/12),A326,1,1)","v":0},{"$f":"IFERROR(IF(D325+C326>0,D325+C326,0),\"\")","v":0},{"$f":"IF(AND(C327=\"\",C326<>\"\"),0,IFERROR(IF(E327+C326>0,E327+C326,0)*VLOOKUP(MONTH(B326),'NRI (Auto)'!$O$6:$Q$17,3,0),\"\"))","v":""},{"$f":"IFERROR(IF(NRI!$P$2-E326<=0,NRI!$P$3,NRI!$P$2-E326),\"\")","v":""},{"$error":"#DIV/0!"}]
[11,{"$f":"DATE(NRI!$A$4+INT((ROW()-4)/12),MOD(ROW()-4,12),1)","v":"2012-11-01"},{"$f":"OFFSET(NRI!$A$3,1+INT((ROW()-5)/12),A327,1,1)","v":0},0,{"$f":"IF(AND(C328=\"\",C327<>\"\"),0,IFERROR(IF(E328+C327>0,E328+C327,0)*VLOOKUP(MONTH(B327),'NRI (Auto)'!$O$6:$Q$17,3,0),\"\"))","v":""},{"$f":"IFERROR(IF(NRI!$P$2-E327<=0,NRI!$P$3,NRI!$P$2-E327),\"\")","v":""},{"$error":"#DIV/0!"}]
[12,{"$f":"DATE(NRI!$A$4+INT((ROW()-4)/12),MOD(ROW()-4,12),1)","v":"2012-12-01"},{"$f":"OFFSET(NRI!$A$3,1+INT((ROW()-5)/12),A328,1,1)","v":0},0,{"$f":"IF(AND(C329=\"\",C328<>\"\"),0,IFERROR(IF(E329+C328>0,E329+C328,0)*VLOOKUP(MONTH(B328),'NRI (Auto)'!$O$6:$Q$17,3,0),\"\"))","v":""},{"$f":"IFERROR(IF(NRI!$P$2-E328<=0,NRI!$P$3,NRI!$P$2-E328),\"\")","v":""},{"$error":"#DIV/0!"}]
[1,{"$f":"DATE(NRI!$A$4+INT((ROW()-4)/12),MOD(ROW()-4,12),1)","v":"2013-01-01"},{"$f":"OFFSET(NRI!$A$3,1+INT((ROW()-5)/12),A329,1,1)","v":0},0,{"$f":"IF(AND(C330=\"\",C329<>\"\"),0,IFERROR(IF(E330+C329>0,E330+C329,0)*VLOOKUP(MONTH(B329),'NRI (Auto)'!$O$6:$Q$17,3,0),\"\"))","v":""},{"$f":"IFERROR(IF(NRI!$P$2-E329<=0,NRI!$P$3,NRI!$P$2-E329),\"\")","v":""},{"$error":"#DIV/0!"}]
[2,{"$f":"DATE(NRI!$A$4+INT((ROW()-4)/12),MOD(ROW()-4,12),1)","v":"2013-02-01"},{"$f":"OFFSET(NRI!$A$3,1+INT((ROW()-5)/12),A330,1,1)","v":0},0,{"$f":"IF(AND(C331=\"\",C330<>\"\"),0,IFERROR(IF(E331+C330>0,E331+C330,0)*VLOOKUP(MONTH(B330),'NRI (Auto)'!$O$6:$Q$17,3,0),\"\"))","v":""},{"$f":"IFERROR(IF(NRI!$P$2-E330<=0,NRI!$P$3,NRI!$P$2-E330),\"\")","v":""},{"$error":"#DIV/0!"}]
[3,{"$f":"DATE(NRI!$A$4+INT((ROW()-4)/12),MOD(ROW()-4,12),1)","v":"2013-03-01"},{"$f":"OFFSET(NRI!$A$3,1+INT((ROW()-5)/12),A331,1,1)","v":0},0,{"$f":"IF(AND(C332=\"\",C331<>\"\"),0,IFERROR(IF(E332+C331>0,E332+C331,0)*VLOOKUP(MONTH(B331),'NRI (Auto)'!$O$6:$Q$17,3,0),\"\"))","v":""},{"$f":"IFERROR(IF(NRI!$P$2-E331<=0,NRI!$P$3,NRI!$P$2-E331),\"\")","v":""},{"$error":"#DIV/0!"}]
[4,{"$f":"DATE(NRI!$A$4+INT((ROW()-4)/12),MOD(ROW()-4,12),1)","v":"2013-04-01"},{"$f":"OFFSET(NRI!$A$3,1+INT((ROW()-5)/12),A332,1,1)","v":0},0,{"$f":"IF(AND(C333=\"\",C332<>\"\"),0,IFERROR(IF(E333+C332>0,E333+C332,0)*VLOOKUP(MONTH(B332),'NRI (Auto)'!$O$6:$Q$17,3,0),\"\"))","v":""},{"$f":"IFERROR(IF(NRI!$P$2-E332<=0,NRI!$P$3,NRI!$P$2-E332),\"\")","v":""},{"$error":"#DIV/0!"}]
[5,{"$f":"DATE(NRI!$A$4+INT((ROW()-4)/12),MOD(ROW()-4,12),1)","v":"2013-05-01"},{"$f":"OFFSET(NRI!$A$3,1+INT((ROW()-5)/12),A333,1,1)","v":0},0,{"$f":"IF(AND(C334=\"\",C333<>\"\"),0,IFERROR(IF(E334+C333>0,E334+C333,0)*VLOOKUP(MONTH(B333),'NRI (Auto)'!$O$6:$Q$17,3,0),\"\"))","v":""},{"$f":"IFERROR(IF(NRI!$P$2-E333<=0,NRI!$P$3,NRI!$P$2-E333),\"\")","v":""},{"$error":"#DIV/0!"}]
[6,{"$f":"DATE(NRI!$A$4+INT((ROW()-4)/12),MOD(ROW()-4,12),1)","v":"2013-06-01"},{"$f":"OFFSET(NRI!$A$3,1+INT((ROW()-5)/12),A334,1,1)","v":0},0,{"$f":"IF(AND(C335=\"\",C334<>\"\"),0,IFERROR(IF(E335+C334>0,E335+C334,0)*VLOOKUP(MONTH(B334),'NRI (Auto)'!$O$6:$Q$17,3,0),\"\"))","v":""},{"$f":"IFERROR(IF(NRI!$P$2-E334<=0,NRI!$P$3,NRI!$P$2-E334),\"\")","v":""},{"$error":"#DIV/0!"}]
[7,{"$f":"DATE(NRI!$A$4+INT((ROW()-4)/12),MOD(ROW()-4,12),1)","v":"2013-07-01"},{"$f":"OFFSET(NRI!$A$3,1+INT((ROW()-5)/12),A335,1,1)","v":0},0,{"$f":"IF(AND(C336=\"\",C335<>\"\"),0,IFERROR(IF(E336+C335>0,E336+C335,0)*VLOOKUP(MONTH(B335),'NRI (Auto)'!$O$6:$Q$17,3,0),\"\"))","v":""},{"$f":"IFERROR(IF(NRI!$P$2-E335<=0,NRI!$P$3,NRI!$P$2-E335),\"\")","v":""},{"$error":"#DIV/0!"}]
[8,{"$f":"DATE(NRI!$A$4+INT((ROW()-4)/12),MOD(ROW()-4,12),1)","v":"2013-08-01"},{"$f":"OFFSET(NRI!$A$3,1+INT((ROW()-5)/12),A336,1,1)","v":0},0,{"$f":"IF(AND(C337=\"\",C336<>\"\"),0,IFERROR(IF(E337+C336>0,E337+C336,0)*VLOOKUP(MONTH(B336),'NRI (Auto)'!$O$6:$Q$17,3,0),\"\"))","v":""},{"$f":"IFERROR(IF(NRI!$P$2-E336<=0,NRI!$P$3,NRI!$P$2-E336),\"\")","v":""},{"$error":"#DIV/0!"}]
[9,{"$f":"DATE(NRI!$A$4+INT((ROW()-4)/12),MOD(ROW()-4,12),1)","v":"2013-09-01"},{"$f":"OFFSET(NRI!$A$3,1+INT((ROW()-5)/12),A337,1,1)","v":0},0,{"$f":"IF(AND(C338=\"\",C337<>\"\"),0,IFERROR(IF(E338+C337>0,E338+C337,0)*VLOOKUP(MONTH(B337),'NRI (Auto)'!$O$6:$Q$17,3,0),\"\"))","v":""},{"$f":"IFERROR(IF(NRI!$P$2-E337<=0,NRI!$P$3,NRI!$P$2-E337),\"\")","v":""},{"$error":"#DIV/0!"}]
[{"$f":"+A326","v":10},{"$f":"DATE(NRI!$A$4+INT((ROW()-4)/12),MOD(ROW()-4,12),1)","v":"2013-10-01"},{"$f":"OFFSET(NRI!$A$3,1+INT((ROW()-5)/12),A338,1,1)","v":0},0,{"$f":"IF(AND(C339=\"\",C338<>\"\"),0,IFERROR(IF(E339+C338>0,E339+C338,0)*VLOOKUP(MONTH(B338),'NRI (Auto)'!$O$6:$Q$17,3,0),\"\"))","v":""},{"$f":"IFERROR(IF(NRI!$P$2-E338<=0,NRI!$P$3,NRI!$P$2-E338),\"\")","v":""},{"$f":"+G326","v":{"$error":"#DIV/0!"}}]
[11,{"$f":"DATE(NRI!$A$4+INT((ROW()-4)/12),MOD(ROW()-4,12),1)","v":"2013-11-01"},{"$f":"OFFSET(NRI!$A$3,1+INT((ROW()-5)/12),A339,1,1)","v":0},0,{"$f":"IF(AND(C340=\"\",C339<>\"\"),0,IFERROR(IF(E340+C339>0,E340+C339,0)*VLOOKUP(MONTH(B339),'NRI (Auto)'!$O$6:$Q$17,3,0),\"\"))","v":""},{"$f":"IFERROR(IF(NRI!$P$2-E339<=0,NRI!$P$3,NRI!$P$2-E339),\"\")","v":""},{"$error":"#DIV/0!"}]
[12,{"$f":"DATE(NRI!$A$4+INT((ROW()-4)/12),MOD(ROW()-4,12),1)","v":"2013-12-01"},{"$f":"OFFSET(NRI!$A$3,1+INT((ROW()-5)/12),A340,1,1)","v":0},0,{"$f":"IF(AND(C341=\"\",C340<>\"\"),0,IFERROR(IF(E341+C340>0,E341+C340,0)*VLOOKUP(MONTH(B340),'NRI (Auto)'!$O$6:$Q$17,3,0),\"\"))","v":""},{"$f":"IFERROR(IF(NRI!$P$2-E340<=0,NRI!$P$3,NRI!$P$2-E340),\"\")","v":""},{"$error":"#DIV/0!"}]
[1,{"$f":"DATE(NRI!$A$4+INT((ROW()-4)/12),MOD(ROW()-4,12),1)","v":"2014-01-01"},{"$f":"OFFSET(NRI!$A$3,1+INT((ROW()-5)/12),A341,1,1)","v":0},0,{"$f":"IF(AND(C342=\"\",C341<>\"\"),0,IFERROR(IF(E342+C341>0,E342+C341,0)*VLOOKUP(MONTH(B341),'NRI (Auto)'!$O$6:$Q$17,3,0),\"\"))","v":""},{"$f":"IFERROR(IF(NRI!$P$2-E341<=0,NRI!$P$3,NRI!$P$2-E341),\"\")","v":""},{"$error":"#DIV/0!"}]
[2,{"$f":"DATE(NRI!$A$4+INT((ROW()-4)/12),MOD(ROW()-4,12),1)","v":"2014-02-01"},{"$f":"OFFSET(NRI!$A$3,1+INT((ROW()-5)/12),A342,1,1)","v":0},0,{"$f":"IF(AND(C343=\"\",C342<>\"\"),0,IFERROR(IF(E343+C342>0,E343+C342,0)*VLOOKUP(MONTH(B342),'NRI (Auto)'!$O$6:$Q$17,3,0),\"\"))","v":""},{"$f":"IFERROR(IF(NRI!$P$2-E342<=0,NRI!$P$3,NRI!$P$2-E342),\"\")","v":""},{"$error":"#DIV/0!"}]
[3,{"$f":"DATE(NRI!$A$4+INT((ROW()-4)/12),MOD(ROW()-4,12),1)","v":"2014-03-01"},{"$f":"OFFSET(NRI!$A$3,1+INT((ROW()-5)/12),A343,1,1)","v":0},0,{"$f":"IF(AND(C344=\"\",C343<>\"\"),0,IFERROR(IF(E344+C343>0,E344+C343,0)*VLOOKUP(MONTH(B343),'NRI (Auto)'!$O$6:$Q$17,3,0),\"\"))","v":""},{"$f":"IFERROR(IF(NRI!$P$2-E343<=0,NRI!$P$3,NRI!$P$2-E343),\"\")","v":""},{"$error":"#DIV/0!"}]
[4,{"$f":"DATE(NRI!$A$4+INT((ROW()-4)/12),MOD(ROW()-4,12),1)","v":"2014-04-01"},{"$f":"OFFSET(NRI!$A$3,1+INT((ROW()-5)/12),A344,1,1)","v":0},0,{"$f":"IF(AND(C345=\"\",C344<>\"\"),0,IFERROR(IF(E345+C344>0,E345+C344,0)*VLOOKUP(MONTH(B344),'NRI (Auto)'!$O$6:$Q$17,3,0),\"\"))","v":""},{"$f":"IFERROR(IF(NRI!$P$2-E344<=0,NRI!$P$3,NRI!$P$2-E344),\"\")","v":""},{"$error":"#DIV/0!"}]
[5,{"$f":"DATE(NRI!$A$4+INT((ROW()-4)/12),MOD(ROW()-4,12),1)","v":"2014-05-01"},{"$f":"OFFSET(NRI!$A$3,1+INT((ROW()-5)/12),A345,1,1)","v":0},0,{"$f":"IF(AND(C346=\"\",C345<>\"\"),0,IFERROR(IF(E346+C345>0,E346+C345,0)*VLOOKUP(MONTH(B345),'NRI (Auto)'!$O$6:$Q$17,3,0),\"\"))","v":""},{"$f":"IFERROR(IF(NRI!$P$2-E345<=0,NRI!$P$3,NRI!$P$2-E345),\"\")","v":""},{"$error":"#DIV/0!"}]
[6,{"$f":"DATE(NRI!$A$4+INT((ROW()-4)/12),MOD(ROW()-4,12),1)","v":"2014-06-01"},{"$f":"OFFSET(NRI!$A$3,1+INT((ROW()-5)/12),A346,1,1)","v":0},0,{"$f":"IF(AND(C347=\"\",C346<>\"\"),0,IFERROR(IF(E347+C346>0,E347+C346,0)*VLOOKUP(MONTH(B346),'NRI (Auto)'!$O$6:$Q$17,3,0),\"\"))","v":""},{"$f":"IFERROR(IF(NRI!$P$2-E346<=0,NRI!$P$3,NRI!$P$2-E346),\"\")","v":""},{"$error":"#DIV/0!"}]
[7,{"$f":"DATE(NRI!$A$4+INT((ROW()-4)/12),MOD(ROW()-4,12),1)","v":"2014-07-01"},{"$f":"OFFSET(NRI!$A$3,1+INT((ROW()-5)/12),A347,1,1)","v":0},0,{"$f":"IF(AND(C348=\"\",C347<>\"\"),0,IFERROR(IF(E348+C347>0,E348+C347,0)*VLOOKUP(MONTH(B347),'NRI (Auto)'!$O$6:$Q$17,3,0),\"\"))","v":""},{"$f":"IFERROR(IF(NRI!$P$2-E347<=0,NRI!$P$3,NRI!$P$2-E347),\"\")","v":""},{"$error":"#DIV/0!"}]
[8,{"$f":"DATE(NRI!$A$4+INT((ROW()-4)/12),MOD(ROW()-4,12),1)","v":"2014-08-01"},{"$f":"OFFSET(NRI!$A$3,1+INT((ROW()-5)/12),A348,1,1)","v":0},0,{"$f":"IF(AND(C349=\"\",C348<>\"\"),0,IFERROR(IF(E349+C348>0,E349+C348,0)*VLOOKUP(MONTH(B348),'NRI (Auto)'!$O$6:$Q$17,3,0),\"\"))","v":""},{"$f":"IFERROR(IF(NRI!$P$2-E348<=0,NRI!$P$3,NRI!$P$2-E348),\"\")","v":""},{"$error":"#DIV/0!"}]
[9,{"$f":"DATE(NRI!$A$4+INT((ROW()-4)/12),MOD(ROW()-4,12),1)","v":"2014-09-01"},{"$f":"OFFSET(NRI!$A$3,1+INT((ROW()-5)/12),A349,1,1)","v":0},0,{"$f":"IF(AND(C350=\"\",C349<>\"\"),0,IFERROR(IF(E350+C349>0,E350+C349,0)*VLOOKUP(MONTH(B349),'NRI (Auto)'!$O$6:$Q$17,3,0),\"\"))","v":""},{"$f":"IFERROR(IF(NRI!$P$2-E349<=0,NRI!$P$3,NRI!$P$2-E349),\"\")","v":""},{"$error":"#DIV/0!"}]
[10,{"$f":"DATE(NRI!$A$4+INT((ROW()-4)/12),MOD(ROW()-4,12),1)","v":"2014-10-01"},{"$f":"OFFSET(NRI!$A$3,1+INT((ROW()-5)/12),A350,1,1)","v":0},0,{"$f":"IF(AND(C351=\"\",C350<>\"\"),0,IFERROR(IF(E351+C350>0,E351+C350,0)*VLOOKUP(MONTH(B350),'NRI (Auto)'!$O$6:$Q$17,3,0),\"\"))","v":""},{"$f":"IFERROR(IF(NRI!$P$2-E350<=0,NRI!$P$3,NRI!$P$2-E350),\"\")","v":""},{"$error":"#DIV/0!"}]
[11,{"$f":"DATE(NRI!$A$4+INT((ROW()-4)/12),MOD(ROW()-4,12),1)","v":"2014-11-01"},{"$f":"OFFSET(NRI!$A$3,1+INT((ROW()-5)/12),A351,1,1)","v":0},0,{"$f":"IF(AND(C352=\"\",C351<>\"\"),0,IFERROR(IF(E352+C351>0,E352+C351,0)*VLOOKUP(MONTH(B351),'NRI (Auto)'!$O$6:$Q$17,3,0),\"\"))","v":""},{"$f":"IFERROR(IF(NRI!$P$2-E351<=0,NRI!$P$3,NRI!$P$2-E351),\"\")","v":""},{"$error":"#DIV/0!"}]
[12,{"$f":"DATE(NRI!$A$4+INT((ROW()-4)/12),MOD(ROW()-4,12),1)","v":"2014-12-01"},{"$f":"OFFSET(NRI!$A$3,1+INT((ROW()-5)/12),A352,1,1)","v":0},0,{"$f":"IF(AND(C353=\"\",C352<>\"\"),0,IFERROR(IF(E353+C352>0,E353+C352,0)*VLOOKUP(MONTH(B352),'NRI (Auto)'!$O$6:$Q$17,3,0),\"\"))","v":""},{"$f":"IFERROR(IF(NRI!$P$2-E352<=0,NRI!$P$3,NRI!$P$2-E352),\"\")","v":""},{"$error":"#DIV/0!"}]
[1,{"$f":"DATE(NRI!$A$4+INT((ROW()-4)/12),MOD(ROW()-4,12),1)","v":"2015-01-01"},{"$f":"OFFSET(NRI!$A$3,1+INT((ROW()-5)/12),A353,1,1)","v":0},0,{"$f":"IF(AND(C354=\"\",C353<>\"\"),0,IFERROR(IF(E354+C353>0,E354+C353,0)*VLOOKUP(MONTH(B353),'NRI (Auto)'!$O$6:$Q$17,3,0),\"\"))","v":""},{"$f":"IFERROR(IF(NRI!$P$2-E353<=0,NRI!$P$3,NRI!$P$2-E353),\"\")","v":""},{"$error":"#DIV/0!"}]
[2,{"$f":"DATE(NRI!$A$4+INT((ROW()-4)/12),MOD(ROW()-4,12),1)","v":"2015-02-01"},{"$f":"OFFSET(NRI!$A$3,1+INT((ROW()-5)/12),A354,1,1)","v":0},0,{"$f":"IF(AND(C355=\"\",C354<>\"\"),0,IFERROR(IF(E355+C354>0,E355+C354,0)*VLOOKUP(MONTH(B354),'NRI (Auto)'!$O$6:$Q$17,3,0),\"\"))","v":""},{"$f":"IFERROR(IF(NRI!$P$2-E354<=0,NRI!$P$3,NRI!$P$2-E354),\"\")","v":""},{"$error":"#DIV/0!"}]
[3,{"$f":"DATE(NRI!$A$4+INT((ROW()-4)/12),MOD(ROW()-4,12),1)","v":"2015-03-01"},{"$f":"OFFSET(NRI!$A$3,1+INT((ROW()-5)/12),A355,1,1)","v":0},0,{"$f":"IF(AND(C356=\"\",C355<>\"\"),0,IFERROR(IF(E356+C355>0,E356+C355,0)*VLOOKUP(MONTH(B355),'NRI (Auto)'!$O$6:$Q$17,3,0),\"\"))","v":""},{"$f":"IFERROR(IF(NRI!$P$2-E355<=0,NRI!$P$3,NRI!$P$2-E355),\"\")","v":""},{"$error":"#DIV/0!"}]
[4,{"$f":"DATE(NRI!$A$4+INT((ROW()-4)/12),MOD(ROW()-4,12),1)","v":"2015-04-01"},{"$f":"OFFSET(NRI!$A$3,1+INT((ROW()-5)/12),A356,1,1)","v":0},0,{"$f":"IF(AND(C357=\"\",C356<>\"\"),0,IFERROR(IF(E357+C356>0,E357+C356,0)*VLOOKUP(MONTH(B356),'NRI (Auto)'!$O$6:$Q$17,3,0),\"\"))","v":""},{"$f":"IFERROR(IF(NRI!$P$2-E356<=0,NRI!$P$3,NRI!$P$2-E356),\"\")","v":""},{"$error":"#DIV/0!"}]
[5,{"$f":"DATE(NRI!$A$4+INT((ROW()-4)/12),MOD(ROW()-4,12),1)","v":"2015-05-01"},{"$f":"OFFSET(NRI!$A$3,1+INT((ROW()-5)/12),A357,1,1)","v":0},0,{"$f":"IF(AND(C358=\"\",C357<>\"\"),0,IFERROR(IF(E358+C357>0,E358+C357,0)*VLOOKUP(MONTH(B357),'NRI (Auto)'!$O$6:$Q$17,3,0),\"\"))","v":""},{"$f":"IFERROR(IF(NRI!$P$2-E357<=0,NRI!$P$3,NRI!$P$2-E357),\"\")","v":""},{"$error":"#DIV/0!"}]
[6,{"$f":"DATE(NRI!$A$4+INT((ROW()-4)/12),MOD(ROW()-4,12),1)","v":"2015-06-01"},{"$f":"OFFSET(NRI!$A$3,1+INT((ROW()-5)/12),A358,1,1)","v":0},0,{"$f":"IF(AND(C359=\"\",C358<>\"\"),0,IFERROR(IF(E359+C358>0,E359+C358,0)*VLOOKUP(MONTH(B358),'NRI (Auto)'!$O$6:$Q$17,3,0),\"\"))","v":""},{"$f":"IFERROR(IF(NRI!$P$2-E358<=0,NRI!$P$3,NRI!$P$2-E358),\"\")","v":""},{"$error":"#DIV/0!"}]
[7,{"$f":"DATE(NRI!$A$4+INT((ROW()-4)/12),MOD(ROW()-4,12),1)","v":"2015-07-01"},{"$f":"OFFSET(NRI!$A$3,1+INT((ROW()-5)/12),A359,1,1)","v":0},0,{"$f":"IF(AND(C360=\"\",C359<>\"\"),0,IFERROR(IF(E360+C359>0,E360+C359,0)*VLOOKUP(MONTH(B359),'NRI (Auto)'!$O$6:$Q$17,3,0),\"\"))","v":""},{"$f":"IFERROR(IF(NRI!$P$2-E359<=0,NRI!$P$3,NRI!$P$2-E359),\"\")","v":""},{"$error":"#DIV/0!"}]
[8,{"$f":"DATE(NRI!$A$4+INT((ROW()-4)/12),MOD(ROW()-4,12),1)","v":"2015-08-01"},{"$f":"OFFSET(NRI!$A$3,1+INT((ROW()-5)/12),A360,1,1)","v":0},0,{"$f":"IF(AND(C361=\"\",C360<>\"\"),0,IFERROR(IF(E361+C360>0,E361+C360,0)*VLOOKUP(MONTH(B360),'NRI (Auto)'!$O$6:$Q$17,3,0),\"\"))","v":""},{"$f":"IFERROR(IF(NRI!$P$2-E360<=0,NRI!$P$3,NRI!$P$2-E360),\"\")","v":""},{"$error":"#DIV/0!"}]
[9,{"$f":"DATE(NRI!$A$4+INT((ROW()-4)/12),MOD(ROW()-4,12),1)","v":"2015-09-01"},{"$f":"OFFSET(NRI!$A$3,1+INT((ROW()-5)/12),A361,1,1)","v":0},0,{"$f":"IF(AND(C362=\"\",C361<>\"\"),0,IFERROR(IF(E362+C361>0,E362+C361,0)*VLOOKUP(MONTH(B361),'NRI (Auto)'!$O$6:$Q$17,3,0),\"\"))","v":""},{"$f":"IFERROR(IF(NRI!$P$2-E361<=0,NRI!$P$3,NRI!$P$2-E361),\"\")","v":""},{"$error":"#DIV/0!"}]
[10,{"$f":"DATE(NRI!$A$4+INT((ROW()-4)/12),MOD(ROW()-4,12),1)","v":"2015-10-01"},{"$f":"OFFSET(NRI!$A$3,1+INT((ROW()-5)/12),A362,1,1)","v":0},0,{"$f":"IF(AND(C363=\"\",C362<>\"\"),0,IFERROR(IF(E363+C362>0,E363+C362,0)*VLOOKUP(MONTH(B362),'NRI (Auto)'!$O$6:$Q$17,3,0),\"\"))","v":""},{"$f":"IFERROR(IF(NRI!$P$2-E362<=0,NRI!$P$3,NRI!$P$2-E362),\"\")","v":""},{"$error":"#DIV/0!"}]
[11,{"$f":"DATE(NRI!$A$4+INT((ROW()-4)/12),MOD(ROW()-4,12),1)","v":"2015-11-01"},{"$f":"OFFSET(NRI!$A$3,1+INT((ROW()-5)/12),A363,1,1)","v":0},0,{"$f":"IF(AND(C364=\"\",C363<>\"\"),0,IFERROR(IF(E364+C363>0,E364+C363,0)*VLOOKUP(MONTH(B363),'NRI (Auto)'!$O$6:$Q$17,3,0),\"\"))","v":""},{"$f":"IFERROR(IF(NRI!$P$2-E363<=0,NRI!$P$3,NRI!$P$2-E363),\"\")","v":""},{"$error":"#DIV/0!"}]
[12,{"$f":"DATE(NRI!$A$4+INT((ROW()-4)/12),MOD(ROW()-4,12),1)","v":"2015-12-01"},{"$f":"OFFSET(NRI!$A$3,1+INT((ROW()-5)/12),A364,1,1)","v":0},0,{"$f":"IF(AND(C365=\"\",C364<>\"\"),0,IFERROR(IF(E365+C364>0,E365+C364,0)*VLOOKUP(MONTH(B364),'NRI (Auto)'!$O$6:$Q$17,3,0),\"\"))","v":""},{"$f":"IFERROR(IF(NRI!$P$2-E364<=0,NRI!$P$3,NRI!$P$2-E364),\"\")","v":""},{"$error":"#DIV/0!"}]
[1,{"$f":"DATE(NRI!$A$4+INT((ROW()-4)/12),MOD(ROW()-4,12),1)","v":"2016-01-01"},{"$f":"OFFSET(NRI!$A$3,1+INT((ROW()-5)/12),A365,1,1)","v":0},0,{"$f":"IF(AND(C366=\"\",C365<>\"\"),0,IFERROR(IF(E366+C365>0,E366+C365,0)*VLOOKUP(MONTH(B365),'NRI (Auto)'!$O$6:$Q$17,3,0),\"\"))","v":""},{"$f":"IFERROR(IF(NRI!$P$2-E365<=0,NRI!$P$3,NRI!$P$2-E365),\"\")","v":""},{"$error":"#DIV/0!"}]
[2,{"$f":"DATE(NRI!$A$4+INT((ROW()-4)/12),MOD(ROW()-4,12),1)","v":"2016-02-01"},{"$f":"OFFSET(NRI!$A$3,1+INT((ROW()-5)/12),A366,1,1)","v":0},0,{"$f":"IF(AND(C367=\"\",C366<>\"\"),0,IFERROR(IF(E367+C366>0,E367+C366,0)*VLOOKUP(MONTH(B366),'NRI (Auto)'!$O$6:$Q$17,3,0),\"\"))","v":""},{"$f":"IFERROR(IF(NRI!$P$2-E366<=0,NRI!$P$3,NRI!$P$2-E366),\"\")","v":""},{"$error":"#DIV/0!"}]
[3,{"$f":"DATE(NRI!$A$4+INT((ROW()-4)/12),MOD(ROW()-4,12),1)","v":"2016-03-01"},{"$f":"OFFSET(NRI!$A$3,1+INT((ROW()-5)/12),A367,1,1)","v":0},0,{"$f":"IF(AND(C368=\"\",C367<>\"\"),0,IFERROR(IF(E368+C367>0,E368+C367,0)*VLOOKUP(MONTH(B367),'NRI (Auto)'!$O$6:$Q$17,3,0),\"\"))","v":""},{"$f":"IFERROR(IF(NRI!$P$2-E367<=0,NRI!$P$3,NRI!$P$2-E367),\"\")","v":""},{"$error":"#DIV/0!"}]
[4,{"$f":"DATE(NRI!$A$4+INT((ROW()-4)/12),MOD(ROW()-4,12),1)","v":"2016-04-01"},{"$f":"OFFSET(NRI!$A$3,1+INT((ROW()-5)/12),A368,1,1)","v":0},0,{"$f":"IF(AND(C369=\"\",C368<>\"\"),0,IFERROR(IF(E369+C368>0,E369+C368,0)*VLOOKUP(MONTH(B368),'NRI (Auto)'!$O$6:$Q$17,3,0),\"\"))","v":""},{"$f":"IFERROR(IF(NRI!$P$2-E368<=0,NRI!$P$3,NRI!$P$2-E368),\"\")","v":""},{"$error":"#DIV/0!"}]
[5,{"$f":"DATE(NRI!$A$4+INT((ROW()-4)/12),MOD(ROW()-4,12),1)","v":"2016-05-01"},{"$f":"OFFSET(NRI!$A$3,1+INT((ROW()-5)/12),A369,1,1)","v":0},0,{"$f":"IF(AND(C370=\"\",C369<>\"\"),0,IFERROR(IF(E370+C369>0,E370+C369,0)*VLOOKUP(MONTH(B369),'NRI (Auto)'!$O$6:$Q$17,3,0),\"\"))","v":""},{"$f":"IFERROR(IF(NRI!$P$2-E369<=0,NRI!$P$3,NRI!$P$2-E369),\"\")","v":""},{"$error":"#DIV/0!"}]
[6,{"$f":"DATE(NRI!$A$4+INT((ROW()-4)/12),MOD(ROW()-4,12),1)","v":"2016-06-01"},{"$f":"OFFSET(NRI!$A$3,1+INT((ROW()-5)/12),A370,1,1)","v":0},0,{"$f":"IF(AND(C371=\"\",C370<>\"\"),0,IFERROR(IF(E371+C370>0,E371+C370,0)*VLOOKUP(MONTH(B370),'NRI (Auto)'!$O$6:$Q$17,3,0),\"\"))","v":""},{"$f":"IFERROR(IF(NRI!$P$2-E370<=0,NRI!$P$3,NRI!$P$2-E370),\"\")","v":""},{"$error":"#DIV/0!"}]
[7,{"$f":"DATE(NRI!$A$4+INT((ROW()-4)/12),MOD(ROW()-4,12),1)","v":"2016-07-01"},{"$f":"OFFSET(NRI!$A$3,1+INT((ROW()-5)/12),A371,1,1)","v":0},0,{"$f":"IF(AND(C372=\"\",C371<>\"\"),0,IFERROR(IF(E372+C371>0,E372+C371,0)*VLOOKUP(MONTH(B371),'NRI (Auto)'!$O$6:$Q$17,3,0),\"\"))","v":""},{"$f":"IFERROR(IF(NRI!$P$2-E371<=0,NRI!$P$3,NRI!$P$2-E371),\"\")","v":""},{"$error":"#DIV/0!"}]
[8,{"$f":"DATE(NRI!$A$4+INT((ROW()-4)/12),MOD(ROW()-4,12),1)","v":"2016-08-01"},{"$f":"OFFSET(NRI!$A$3,1+INT((ROW()-5)/12),A372,1,1)","v":0},0,{"$f":"IF(AND(C373=\"\",C372<>\"\"),0,IFERROR(IF(E373+C372>0,E373+C372,0)*VLOOKUP(MONTH(B372),'NRI (Auto)'!$O$6:$Q$17,3,0),\"\"))","v":""},{"$f":"IFERROR(IF(NRI!$P$2-E372<=0,NRI!$P$3,NRI!$P$2-E372),\"\")","v":""},{"$error":"#DIV/0!"}]
[9,{"$f":"DATE(NRI!$A$4+INT((ROW()-4)/12),MOD(ROW()-4,12),1)","v":"2016-09-01"},{"$f":"OFFSET(NRI!$A$3,1+INT((ROW()-5)/12),A373,1,1)","v":0},0,{"$f":"IF(AND(C374=\"\",C373<>\"\"),0,IFERROR(IF(E374+C373>0,E374+C373,0)*VLOOKUP(MONTH(B373),'NRI (Auto)'!$O$6:$Q$17,3,0),\"\"))","v":""},{"$f":"IFERROR(IF(NRI!$P$2-E373<=0,NRI!$P$3,NRI!$P$2-E373),\"\")","v":""},{"$error":"#DIV/0!"}]
[10,{"$f":"DATE(NRI!$A$4+INT((ROW()-4)/12),MOD(ROW()-4,12),1)","v":"2016-10-01"},{"$f":"OFFSET(NRI!$A$3,1+INT((ROW()-5)/12),A374,1,1)","v":0},0,{"$f":"IF(AND(C375=\"\",C374<>\"\"),0,IFERROR(IF(E375+C374>0,E375+C374,0)*VLOOKUP(MONTH(B374),'NRI (Auto)'!$O$6:$Q$17,3,0),\"\"))","v":""},{"$f":"IFERROR(IF(NRI!$P$2-E374<=0,NRI!$P$3,NRI!$P$2-E374),\"\")","v":""},{"$error":"#DIV/0!"}]
[11,{"$f":"DATE(NRI!$A$4+INT((ROW()-4)/12),MOD(ROW()-4,12),1)","v":"2016-11-01"},{"$f":"OFFSET(NRI!$A$3,1+INT((ROW()-5)/12),A375,1,1)","v":0},0,{"$f":"IF(AND(C376=\"\",C375<>\"\"),0,IFERROR(IF(E376+C375>0,E376+C375,0)*VLOOKUP(MONTH(B375),'NRI (Auto)'!$O$6:$Q$17,3,0),\"\"))","v":""},{"$f":"IFERROR(IF(NRI!$P$2-E375<=0,NRI!$P$3,NRI!$P$2-E375),\"\")","v":""},{"$error":"#DIV/0!"}]
[12,{"$f":"DATE(NRI!$A$4+INT((ROW()-4)/12),MOD(ROW()-4,12),1)","v":"2016-12-01"},{"$f":"OFFSET(NRI!$A$3,1+INT((ROW()-5)/12),A376,1,1)","v":0},0,{"$f":"IF(AND(C377=\"\",C376<>\"\"),0,IFERROR(IF(E377+C376>0,E377+C376,0)*VLOOKUP(MONTH(B376),'NRI (Auto)'!$O$6:$Q$17,3,0),\"\"))","v":""},{"$f":"IFERROR(IF(NRI!$P$2-E376<=0,NRI!$P$3,NRI!$P$2-E376),\"\")","v":""},{"$error":"#DIV/0!"}]
[1,{"$f":"DATE(NRI!$A$4+INT((ROW()-4)/12),MOD(ROW()-4,12),1)","v":"2017-01-01"},{"$f":"OFFSET(NRI!$A$3,1+INT((ROW()-5)/12),A377,1,1)","v":0},0,{"$f":"IF(AND(C378=\"\",C377<>\"\"),0,IFERROR(IF(E378+C377>0,E378+C377,0)*VLOOKUP(MONTH(B377),'NRI (Auto)'!$O$6:$Q$17,3,0),\"\"))","v":""},{"$f":"IFERROR(IF(NRI!$P$2-E377<=0,NRI!$P$3,NRI!$P$2-E377),\"\")","v":""},{"$error":"#DIV/0!"}]
[2,{"$f":"DATE(NRI!$A$4+INT((ROW()-4)/12),MOD(ROW()-4,12),1)","v":"2017-02-01"},{"$f":"OFFSET(NRI!$A$3,1+INT((ROW()-5)/12),A378,1,1)","v":0},0,{"$f":"IF(AND(C379=\"\",C378<>\"\"),0,IFERROR(IF(E379+C378>0,E379+C378,0)*VLOOKUP(MONTH(B378),'NRI (Auto)'!$O$6:$Q$17,3,0),\"\"))","v":""},{"$f":"IFERROR(IF(NRI!$P$2-E378<=0,NRI!$P$3,NRI!$P$2-E378),\"\")","v":""},{"$error":"#DIV/0!"}]
[3,{"$f":"DATE(NRI!$A$4+INT((ROW()-4)/12),MOD(ROW()-4,12),1)","v":"2017-03-01"},{"$f":"OFFSET(NRI!$A$3,1+INT((ROW()-5)/12),A379,1,1)","v":0},0,{"$f":"IF(AND(C380=\"\",C379<>\"\"),0,IFERROR(IF(E380+C379>0,E380+C379,0)*VLOOKUP(MONTH(B379),'NRI (Auto)'!$O$6:$Q$17,3,0),\"\"))","v":""},{"$f":"IFERROR(IF(NRI!$P$2-E379<=0,NRI!$P$3,NRI!$P$2-E379),\"\")","v":""},{"$error":"#DIV/0!"}]
[4,{"$f":"DATE(NRI!$A$4+INT((ROW()-4)/12),MOD(ROW()-4,12),1)","v":"2017-04-01"},{"$f":"OFFSET(NRI!$A$3,1+INT((ROW()-5)/12),A380,1,1)","v":0},0,{"$f":"IF(AND(C381=\"\",C380<>\"\"),0,IFERROR(IF(E381+C380>0,E381+C380,0)*VLOOKUP(MONTH(B380),'NRI (Auto)'!$O$6:$Q$17,3,0),\"\"))","v":""},{"$f":"IFERROR(IF(NRI!$P$2-E380<=0,NRI!$P$3,NRI!$P$2-E380),\"\")","v":""},{"$error":"#DIV/0!"}]
[5,{"$f":"DATE(NRI!$A$4+INT((ROW()-4)/12),MOD(ROW()-4,12),1)","v":"2017-05-01"},{"$f":"OFFSET(NRI!$A$3,1+INT((ROW()-5)/12),A381,1,1)","v":0},0,{"$f":"IF(AND(C382=\"\",C381<>\"\"),0,IFERROR(IF(E382+C381>0,E382+C381,0)*VLOOKUP(MONTH(B381),'NRI (Auto)'!$O$6:$Q$17,3,0),\"\"))","v":""},{"$f":"IFERROR(IF(NRI!$P$2-E381<=0,NRI!$P$3,NRI!$P$2-E381),\"\")","v":""},{"$error":"#DIV/0!"}]
[6,{"$f":"DATE(NRI!$A$4+INT((ROW()-4)/12),MOD(ROW()-4,12),1)","v":"2017-06-01"},{"$f":"OFFSET(NRI!$A$3,1+INT((ROW()-5)/12),A382,1,1)","v":0},0,{"$f":"IF(AND(C383=\"\",C382<>\"\"),0,IFERROR(IF(E383+C382>0,E383+C382,0)*VLOOKUP(MONTH(B382),'NRI (Auto)'!$O$6:$Q$17,3,0),\"\"))","v":""},{"$f":"IFERROR(IF(NRI!$P$2-E382<=0,NRI!$P$3,NRI!$P$2-E382),\"\")","v":""},{"$error":"#DIV/0!"}]
[7,{"$f":"DATE(NRI!$A$4+INT((ROW()-4)/12),MOD(ROW()-4,12),1)","v":"2017-07-01"},{"$f":"OFFSET(NRI!$A$3,1+INT((ROW()-5)/12),A383,1,1)","v":0},0,{"$f":"IF(AND(C384=\"\",C383<>\"\"),0,IFERROR(IF(E384+C383>0,E384+C383,0)*VLOOKUP(MONTH(B383),'NRI (Auto)'!$O$6:$Q$17,3,0),\"\"))","v":""},{"$f":"IFERROR(IF(NRI!$P$2-E383<=0,NRI!$P$3,NRI!$P$2-E383),\"\")","v":""},{"$error":"#DIV/0!"}]
[8,{"$f":"DATE(NRI!$A$4+INT((ROW()-4)/12),MOD(ROW()-4,12),1)","v":"2017-08-01"},{"$f":"OFFSET(NRI!$A$3,1+INT((ROW()-5)/12),A384,1,1)","v":0},0,{"$f":"IF(AND(C385=\"\",C384<>\"\"),0,IFERROR(IF(E385+C384>0,E385+C384,0)*VLOOKUP(MONTH(B384),'NRI (Auto)'!$O$6:$Q$17,3,0),\"\"))","v":""},{"$f":"IFERROR(IF(NRI!$P$2-E384<=0,NRI!$P$3,NRI!$P$2-E384),\"\")","v":""},{"$error":"#DIV/0!"}]
[9,{"$f":"DATE(NRI!$A$4+INT((ROW()-4)/12),MOD(ROW()-4,12),1)","v":"2017-09-01"},{"$f":"OFFSET(NRI!$A$3,1+INT((ROW()-5)/12),A385,1,1)","v":0},0,{"$f":"IF(AND(C386=\"\",C385<>\"\"),0,IFERROR(IF(E386+C385>0,E386+C385,0)*VLOOKUP(MONTH(B385),'NRI (Auto)'!$O$6:$Q$17,3,0),\"\"))","v":""},{"$f":"IFERROR(IF(NRI!$P$2-E385<=0,NRI!$P$3,NRI!$P$2-E385),\"\")","v":""},{"$error":"#DIV/0!"}]
[10,{"$f":"DATE(NRI!$A$4+INT((ROW()-4)/12),MOD(ROW()-4,12),1)","v":"2017-10-01"},{"$f":"OFFSET(NRI!$A$3,1+INT((ROW()-5)/12),A386,1,1)","v":0},0,{"$f":"IF(AND(C387=\"\",C386<>\"\"),0,IFERROR(IF(E387+C386>0,E387+C386,0)*VLOOKUP(MONTH(B386),'NRI (Auto)'!$O$6:$Q$17,3,0),\"\"))","v":""},{"$f":"IFERROR(IF(NRI!$P$2-E386<=0,NRI!$P$3,NRI!$P$2-E386),\"\")","v":""},{"$error":"#DIV/0!"}]
[11,{"$f":"DATE(NRI!$A$4+INT((ROW()-4)/12),MOD(ROW()-4,12),1)","v":"2017-11-01"},{"$f":"OFFSET(NRI!$A$3,1+INT((ROW()-5)/12),A387,1,1)","v":0},0,{"$f":"IF(AND(C388=\"\",C387<>\"\"),0,IFERROR(IF(E388+C387>0,E388+C387,0)*VLOOKUP(MONTH(B387),'NRI (Auto)'!$O$6:$Q$17,3,0),\"\"))","v":""},{"$f":"IFERROR(IF(NRI!$P$2-E387<=0,NRI!$P$3,NRI!$P$2-E387),\"\")","v":""},{"$error":"#DIV/0!"}]
[12,{"$f":"DATE(NRI!$A$4+INT((ROW()-4)/12),MOD(ROW()-4,12),1)","v":"2017-12-01"},{"$f":"OFFSET(NRI!$A$3,1+INT((ROW()-5)/12),A388,1,1)","v":0},0,{"$f":"IF(AND(C389=\"\",C388<>\"\"),0,IFERROR(IF(E389+C388>0,E389+C388,0)*VLOOKUP(MONTH(B388),'NRI (Auto)'!$O$6:$Q$17,3,0),\"\"))","v":""},{"$f":"IFERROR(IF(NRI!$P$2-E388<=0,NRI!$P$3,NRI!$P$2-E388),\"\")","v":""},{"$error":"#DIV/0!"}]
[1,{"$f":"DATE(NRI!$A$4+INT((ROW()-4)/12),MOD(ROW()-4,12),1)","v":"2018-01-01"},{"$f":"OFFSET(NRI!$A$3,1+INT((ROW()-5)/12),A389,1,1)","v":0},0,{"$f":"IF(AND(C390=\"\",C389<>\"\"),0,IFERROR(IF(E390+C389>0,E390+C389,0)*VLOOKUP(MONTH(B389),'NRI (Auto)'!$O$6:$Q$17,3,0),\"\"))","v":""},{"$f":"IFERROR(IF(NRI!$P$2-E389<=0,NRI!$P$3,NRI!$P$2-E389),\"\")","v":""},{"$error":"#DIV/0!"}]
[2,{"$f":"DATE(NRI!$A$4+INT((ROW()-4)/12),MOD(ROW()-4,12),1)","v":"2018-02-01"},{"$f":"OFFSET(NRI!$A$3,1+INT((ROW()-5)/12),A390,1,1)","v":0},{"$f":"IFERROR(IF(D389+C390>0,D389+C390,0),\"\")","v":0},{"$f":"IF(AND(C391=\"\",C390<>\"\"),0,IFERROR(IF(E391+C390>0,E391+C390,0)*VLOOKUP(MONTH(B390),'NRI (Auto)'!$O$6:$Q$17,3,0),\"\"))","v":""},{"$f":"IFERROR(IF(NRI!$P$2-E390<=0,NRI!$P$3,NRI!$P$2-E390),\"\")","v":""},{"$error":"#DIV/0!"}]
[3,{"$f":"DATE(NRI!$A$4+INT((ROW()-4)/12),MOD(ROW()-4,12),1)","v":"2018-03-01"},{"$f":"OFFSET(NRI!$A$3,1+INT((ROW()-5)/12),A391,1,1)","v":0},0,{"$f":"IF(AND(C392=\"\",C391<>\"\"),0,IFERROR(IF(E392+C391>0,E392+C391,0)*VLOOKUP(MONTH(B391),'NRI (Auto)'!$O$6:$Q$17,3,0),\"\"))","v":""},{"$f":"IFERROR(IF(NRI!$P$2-E391<=0,NRI!$P$3,NRI!$P$2-E391),\"\")","v":""},{"$error":"#DIV/0!"}]
[4,{"$f":"DATE(NRI!$A$4+INT((ROW()-4)/12),MOD(ROW()-4,12),1)","v":"2018-04-01"},{"$f":"OFFSET(NRI!$A$3,1+INT((ROW()-5)/12),A392,1,1)","v":0},0,{"$f":"IF(AND(C393=\"\",C392<>\"\"),0,IFERROR(IF(E393+C392>0,E393+C392,0)*VLOOKUP(MONTH(B392),'NRI (Auto)'!$O$6:$Q$17,3,0),\"\"))","v":""},{"$f":"IFERROR(IF(NRI!$P$2-E392<=0,NRI!$P$3,NRI!$P$2-E392),\"\")","v":""},{"$error":"#DIV/0!"}]
[5,{"$f":"DATE(NRI!$A$4+INT((ROW()-4)/12),MOD(ROW()-4,12),1)","v":"2018-05-01"},{"$f":"OFFSET(NRI!$A$3,1+INT((ROW()-5)/12),A393,1,1)","v":0},0,{"$f":"IF(AND(C394=\"\",C393<>\"\"),0,IFERROR(IF(E394+C393>0,E394+C393,0)*VLOOKUP(MONTH(B393),'NRI (Auto)'!$O$6:$Q$17,3,0),\"\"))","v":""},{"$f":"IFERROR(IF(NRI!$P$2-E393<=0,NRI!$P$3,NRI!$P$2-E393),\"\")","v":""},{"$error":"#DIV/0!"}]
[6,{"$f":"DATE(NRI!$A$4+INT((ROW()-4)/12),MOD(ROW()-4,12),1)","v":"2018-06-01"},{"$f":"OFFSET(NRI!$A$3,1+INT((ROW()-5)/12),A394,1,1)","v":0},0,{"$f":"IF(AND(C395=\"\",C394<>\"\"),0,IFERROR(IF(E395+C394>0,E395+C394,0)*VLOOKUP(MONTH(B394),'NRI (Auto)'!$O$6:$Q$17,3,0),\"\"))","v":""},{"$f":"IFERROR(IF(NRI!$P$2-E394<=0,NRI!$P$3,NRI!$P$2-E394),\"\")","v":""},{"$error":"#DIV/0!"}]
[7,{"$f":"DATE(NRI!$A$4+INT((ROW()-4)/12),MOD(ROW()-4,12),1)","v":"2018-07-01"},{"$f":"OFFSET(NRI!$A$3,1+INT((ROW()-5)/12),A395,1,1)","v":0},0,{"$f":"IF(AND(C396=\"\",C395<>\"\"),0,IFERROR(IF(E396+C395>0,E396+C395,0)*VLOOKUP(MONTH(B395),'NRI (Auto)'!$O$6:$Q$17,3,0),\"\"))","v":""},{"$f":"IFERROR(IF(NRI!$P$2-E395<=0,NRI!$P$3,NRI!$P$2-E395),\"\")","v":""},{"$error":"#DIV/0!"}]
[8,{"$f":"DATE(NRI!$A$4+INT((ROW()-4)/12),MOD(ROW()-4,12),1)","v":"2018-08-01"},{"$f":"OFFSET(NRI!$A$3,1+INT((ROW()-5)/12),A396,1,1)","v":0},0,{"$f":"IF(AND(C397=\"\",C396<>\"\"),0,IFERROR(IF(E397+C396>0,E397+C396,0)*VLOOKUP(MONTH(B396),'NRI (Auto)'!$O$6:$Q$17,3,0),\"\"))","v":""},{"$f":"IFERROR(IF(NRI!$P$2-E396<=0,NRI!$P$3,NRI!$P$2-E396),\"\")","v":""},{"$error":"#DIV/0!"}]
[9,{"$f":"DATE(NRI!$A$4+INT((ROW()-4)/12),MOD(ROW()-4,12),1)","v":"2018-09-01"},{"$f":"OFFSET(NRI!$A$3,1+INT((ROW()-5)/12),A397,1,1)","v":0},0,{"$f":"IF(AND(C398=\"\",C397<>\"\"),0,IFERROR(IF(E398+C397>0,E398+C397,0)*VLOOKUP(MONTH(B397),'NRI (Auto)'!$O$6:$Q$17,3,0),\"\"))","v":""},{"$f":"IFERROR(IF(NRI!$P$2-E397<=0,NRI!$P$3,NRI!$P$2-E397),\"\")","v":""},{"$error":"#DIV/0!"}]
[10,{"$f":"DATE(NRI!$A$4+INT((ROW()-4)/12),MOD(ROW()-4,12),1)","v":"2018-10-01"},{"$f":"OFFSET(NRI!$A$3,1+INT((ROW()-5)/12),A398,1,1)","v":0},0,{"$f":"IF(AND(C399=\"\",C398<>\"\"),0,IFERROR(IF(E399+C398>0,E399+C398,0)*VLOOKUP(MONTH(B398),'NRI (Auto)'!$O$6:$Q$17,3,0),\"\"))","v":""},{"$f":"IFERROR(IF(NRI!$P$2-E398<=0,NRI!$P$3,NRI!$P$2-E398),\"\")","v":""},{"$error":"#DIV/0!"}]
[11,{"$f":"DATE(NRI!$A$4+INT((ROW()-4)/12),MOD(ROW()-4,12),1)","v":"2018-11-01"},{"$f":"OFFSET(NRI!$A$3,1+INT((ROW()-5)/12),A399,1,1)","v":0},0,{"$f":"IF(AND(C400=\"\",C399<>\"\"),0,IFERROR(IF(E400+C399>0,E400+C399,0)*VLOOKUP(MONTH(B399),'NRI (Auto)'!$O$6:$Q$17,3,0),\"\"))","v":""},{"$f":"IFERROR(IF(NRI!$P$2-E399<=0,NRI!$P$3,NRI!$P$2-E399),\"\")","v":""},{"$error":"#DIV/0!"}]
[12,{"$f":"DATE(NRI!$A$4+INT((ROW()-4)/12),MOD(ROW()-4,12),1)","v":"2018-12-01"},{"$f":"OFFSET(NRI!$A$3,1+INT((ROW()-5)/12),A400,1,1)","v":0},0,{"$f":"IF(AND(C401=\"\",C400<>\"\"),0,IFERROR(IF(E401+C400>0,E401+C400,0)*VLOOKUP(MONTH(B400),'NRI (Auto)'!$O$6:$Q$17,3,0),\"\"))","v":0},{"$f":"IFERROR(IF(NRI!$P$2-E400<=0,NRI!$P$3,NRI!$P$2-E400),\"\")","v":0},{"$error":"#DIV/0!"}]
[1,{"$f":"DATE(NRI!$A$4+INT((ROW()-4)/12),MOD(ROW()-4,12),1)","v":"2019-01-01"},{"$f":"OFFSET(NRI!$A$3,1+INT((ROW()-5)/12),A401,1,1)","v":""},"",{"$f":"IF(AND(C402=\"\",C401<>\"\"),0,IFERROR(IF(E402+C401>0,E402+C401,0)*VLOOKUP(MONTH(B401),'NRI (Auto)'!$O$6:$Q$17,3,0),\"\"))","v":""},{"$f":"IFERROR(IF(NRI!$P$2-E401<=0,NRI!$P$3,NRI!$P$2-E401),\"\")","v":""},{"$error":"#DIV/0!"}]
[{"$f":"+A390","v":2},{"$f":"DATE(NRI!$A$4+INT((ROW()-4)/12),MOD(ROW()-4,12),1)","v":"2019-02-01"},{"$f":"OFFSET(NRI!$A$3,1+INT((ROW()-5)/12),A402,1,1)","v":""},"",{"$f":"IF(AND(C403=\"\",C402<>\"\"),0,IFERROR(IF(E403+C402>0,E403+C402,0)*VLOOKUP(MONTH(B402),'NRI (Auto)'!$O$6:$Q$17,3,0),\"\"))","v":""},{"$f":"IFERROR(IF(NRI!$P$2-E402<=0,NRI!$P$3,NRI!$P$2-E402),\"\")","v":""},{"$f":"+G390","v":{"$error":"#DIV/0!"}}]
[3,{"$f":"DATE(NRI!$A$4+INT((ROW()-4)/12),MOD(ROW()-4,12),1)","v":"2019-03-01"},{"$f":"OFFSET(NRI!$A$3,1+INT((ROW()-5)/12),A403,1,1)","v":""},"",{"$f":"IF(AND(C404=\"\",C403<>\"\"),0,IFERROR(IF(E404+C403>0,E404+C403,0)*VLOOKUP(MONTH(B403),'NRI (Auto)'!$O$6:$Q$17,3,0),\"\"))","v":""},{"$f":"IFERROR(IF(NRI!$P$2-E403<=0,NRI!$P$3,NRI!$P$2-E403),\"\")","v":""},{"$error":"#DIV/0!"}]
[4,{"$f":"DATE(NRI!$A$4+INT((ROW()-4)/12),MOD(ROW()-4,12),1)","v":"2019-04-01"},{"$f":"OFFSET(NRI!$A$3,1+INT((ROW()-5)/12),A404,1,1)","v":""},"",{"$f":"IF(AND(C405=\"\",C404<>\"\"),0,IFERROR(IF(E405+C404>0,E405+C404,0)*VLOOKUP(MONTH(B404),'NRI (Auto)'!$O$6:$Q$17,3,0),\"\"))","v":""},{"$f":"IFERROR(IF(NRI!$P$2-E404<=0,NRI!$P$3,NRI!$P$2-E404),\"\")","v":""},{"$error":"#DIV/0!"}]
[5,{"$f":"DATE(NRI!$A$4+INT((ROW()-4)/12),MOD(ROW()-4,12),1)","v":"2019-05-01"},{"$f":"OFFSET(NRI!$A$3,1+INT((ROW()-5)/12),A405,1,1)","v":""},"",{"$f":"IF(AND(C406=\"\",C405<>\"\"),0,IFERROR(IF(E406+C405>0,E406+C405,0)*VLOOKUP(MONTH(B405),'NRI (Auto)'!$O$6:$Q$17,3,0),\"\"))","v":""},{"$f":"IFERROR(IF(NRI!$P$2-E405<=0,NRI!$P$3,NRI!$P$2-E405),\"\")","v":""},{"$error":"#DIV/0!"}]
[6,{"$f":"DATE(NRI!$A$4+INT((ROW()-4)/12),MOD(ROW()-4,12),1)","v":"2019-06-01"},{"$f":"OFFSET(NRI!$A$3,1+INT((ROW()-5)/12),A406,1,1)","v":""},"",{"$f":"IF(AND(C407=\"\",C406<>\"\"),0,IFERROR(IF(E407+C406>0,E407+C406,0)*VLOOKUP(MONTH(B406),'NRI (Auto)'!$O$6:$Q$17,3,0),\"\"))","v":""},{"$f":"IFERROR(IF(NRI!$P$2-E406<=0,NRI!$P$3,NRI!$P$2-E406),\"\")","v":""},{"$error":"#DIV/0!"}]
[7,{"$f":"DATE(NRI!$A$4+INT((ROW()-4)/12),MOD(ROW()-4,12),1)","v":"2019-07-01"},{"$f":"OFFSET(NRI!$A$3,1+INT((ROW()-5)/12),A407,1,1)","v":""},"",{"$f":"IF(AND(C408=\"\",C407<>\"\"),0,IFERROR(IF(E408+C407>0,E408+C407,0)*VLOOKUP(MONTH(B407),'NRI (Auto)'!$O$6:$Q$17,3,0),\"\"))","v":""},{"$f":"IFERROR(IF(NRI!$P$2-E407<=0,NRI!$P$3,NRI!$P$2-E407),\"\")","v":""},{"$error":"#DIV/0!"}]
[8,{"$f":"DATE(NRI!$A$4+INT((ROW()-4)/12),MOD(ROW()-4,12),1)","v":"2019-08-01"},{"$f":"OFFSET(NRI!$A$3,1+INT((ROW()-5)/12),A408,1,1)","v":""},"",{"$f":"IF(AND(C409=\"\",C408<>\"\"),0,IFERROR(IF(E409+C408>0,E409+C408,0)*VLOOKUP(MONTH(B408),'NRI (Auto)'!$O$6:$Q$17,3,0),\"\"))","v":""},{"$f":"IFERROR(IF(NRI!$P$2-E408<=0,NRI!$P$3,NRI!$P$2-E408),\"\")","v":""},{"$error":"#DIV/0!"}]
[9,{"$f":"DATE(NRI!$A$4+INT((ROW()-4)/12),MOD(ROW()-4,12),1)","v":"2019-09-01"},{"$f":"OFFSET(NRI!$A$3,1+INT((ROW()-5)/12),A409,1,1)","v":""},"",{"$f":"IF(AND(C410=\"\",C409<>\"\"),0,IFERROR(IF(E410+C409>0,E410+C409,0)*VLOOKUP(MONTH(B409),'NRI (Auto)'!$O$6:$Q$17,3,0),\"\"))","v":""},{"$f":"IFERROR(IF(NRI!$P$2-E409<=0,NRI!$P$3,NRI!$P$2-E409),\"\")","v":""},{"$error":"#DIV/0!"}]
[10,{"$f":"DATE(NRI!$A$4+INT((ROW()-4)/12),MOD(ROW()-4,12),1)","v":"2019-10-01"},{"$f":"OFFSET(NRI!$A$3,1+INT((ROW()-5)/12),A410,1,1)","v":""},"",{"$f":"IF(AND(C411=\"\",C410<>\"\"),0,IFERROR(IF(E411+C410>0,E411+C410,0)*VLOOKUP(MONTH(B410),'NRI (Auto)'!$O$6:$Q$17,3,0),\"\"))","v":""},{"$f":"IFERROR(IF(NRI!$P$2-E410<=0,NRI!$P$3,NRI!$P$2-E410),\"\")","v":""},{"$error":"#DIV/0!"}]
[11,{"$f":"DATE(NRI!$A$4+INT((ROW()-4)/12),MOD(ROW()-4,12),1)","v":"2019-11-01"},{"$f":"OFFSET(NRI!$A$3,1+INT((ROW()-5)/12),A411,1,1)","v":""},"",{"$f":"IF(AND(C412=\"\",C411<>\"\"),0,IFERROR(IF(E412+C411>0,E412+C411,0)*VLOOKUP(MONTH(B411),'NRI (Auto)'!$O$6:$Q$17,3,0),\"\"))","v":""},{"$f":"IFERROR(IF(NRI!$P$2-E411<=0,NRI!$P$3,NRI!$P$2-E411),\"\")","v":""},{"$error":"#DIV/0!"}]
[12,{"$f":"DATE(NRI!$A$4+INT((ROW()-4)/12),MOD(ROW()-4,12),1)","v":"2019-12-01"},{"$f":"OFFSET(NRI!$A$3,1+INT((ROW()-5)/12),A412,1,1)","v":""},"",{"$f":"IF(AND(C413=\"\",C412<>\"\"),0,IFERROR(IF(E413+C412>0,E413+C412,0)*VLOOKUP(MONTH(B412),'NRI (Auto)'!$O$6:$Q$17,3,0),\"\"))","v":""},{"$f":"IFERROR(IF(NRI!$P$2-E412<=0,NRI!$P$3,NRI!$P$2-E412),\"\")","v":""},{"$error":"#DIV/0!"}]
[1,{"$f":"DATE(NRI!$A$4+INT((ROW()-4)/12),MOD(ROW()-4,12),1)","v":"2020-01-01"},{"$f":"OFFSET(NRI!$A$3,1+INT((ROW()-5)/12),A413,1,1)","v":""},"",{"$f":"IF(AND(C414=\"\",C413<>\"\"),0,IFERROR(IF(E414+C413>0,E414+C413,0)*VLOOKUP(MONTH(B413),'NRI (Auto)'!$O$6:$Q$17,3,0),\"\"))","v":""},{"$f":"IFERROR(IF(NRI!$P$2-E413<=0,NRI!$P$3,NRI!$P$2-E413),\"\")","v":""},{"$error":"#DIV/0!"}]
[2,{"$f":"DATE(NRI!$A$4+INT((ROW()-4)/12),MOD(ROW()-4,12),1)","v":"2020-02-01"},{"$f":"OFFSET(NRI!$A$3,1+INT((ROW()-5)/12),A414,1,1)","v":""},"",{"$f":"IF(AND(C415=\"\",C414<>\"\"),0,IFERROR(IF(E415+C414>0,E415+C414,0)*VLOOKUP(MONTH(B414),'NRI (Auto)'!$O$6:$Q$17,3,0),\"\"))","v":""},{"$f":"IFERROR(IF(NRI!$P$2-E414<=0,NRI!$P$3,NRI!$P$2-E414),\"\")","v":""},{"$error":"#DIV/0!"}]
[3,{"$f":"DATE(NRI!$A$4+INT((ROW()-4)/12),MOD(ROW()-4,12),1)","v":"2020-03-01"},{"$f":"OFFSET(NRI!$A$3,1+INT((ROW()-5)/12),A415,1,1)","v":""},"",{"$f":"IF(AND(C416=\"\",C415<>\"\"),0,IFERROR(IF(E416+C415>0,E416+C415,0)*VLOOKUP(MONTH(B415),'NRI (Auto)'!$O$6:$Q$17,3,0),\"\"))","v":""},{"$f":"IFERROR(IF(NRI!$P$2-E415<=0,NRI!$P$3,NRI!$P$2-E415),\"\")","v":""},{"$error":"#DIV/0!"}]
[4,{"$f":"DATE(NRI!$A$4+INT((ROW()-4)/12),MOD(ROW()-4,12),1)","v":"2020-04-01"},{"$f":"OFFSET(NRI!$A$3,1+INT((ROW()-5)/12),A416,1,1)","v":""},"",{"$f":"IF(AND(C417=\"\",C416<>\"\"),0,IFERROR(IF(E417+C416>0,E417+C416,0)*VLOOKUP(MONTH(B416),'NRI (Auto)'!$O$6:$Q$17,3,0),\"\"))","v":""},{"$f":"IFERROR(IF(NRI!$P$2-E416<=0,NRI!$P$3,NRI!$P$2-E416),\"\")","v":""},{"$error":"#DIV/0!"}]
[5,{"$f":"DATE(NRI!$A$4+INT((ROW()-4)/12),MOD(ROW()-4,12),1)","v":"2020-05-01"},{"$f":"OFFSET(NRI!$A$3,1+INT((ROW()-5)/12),A417,1,1)","v":""},"",{"$f":"IF(AND(C418=\"\",C417<>\"\"),0,IFERROR(IF(E418+C417>0,E418+C417,0)*VLOOKUP(MONTH(B417),'NRI (Auto)'!$O$6:$Q$17,3,0),\"\"))","v":""},{"$f":"IFERROR(IF(NRI!$P$2-E417<=0,NRI!$P$3,NRI!$P$2-E417),\"\")","v":""},{"$error":"#DIV/0!"}]
[6,{"$f":"DATE(NRI!$A$4+INT((ROW()-4)/12),MOD(ROW()-4,12),1)","v":"2020-06-01"},{"$f":"OFFSET(NRI!$A$3,1+INT((ROW()-5)/12),A418,1,1)","v":""},"",{"$f":"IF(AND(C419=\"\",C418<>\"\"),0,IFERROR(IF(E419+C418>0,E419+C418,0)*VLOOKUP(MONTH(B418),'NRI (Auto)'!$O$6:$Q$17,3,0),\"\"))","v":""},{"$f":"IFERROR(IF(NRI!$P$2-E418<=0,NRI!$P$3,NRI!$P$2-E418),\"\")","v":""},{"$error":"#DIV/0!"}]
[7,{"$f":"DATE(NRI!$A$4+INT((ROW()-4)/12),MOD(ROW()-4,12),1)","v":"2020-07-01"},{"$f":"OFFSET(NRI!$A$3,1+INT((ROW()-5)/12),A419,1,1)","v":""},"",{"$f":"IF(AND(C420=\"\",C419<>\"\"),0,IFERROR(IF(E420+C419>0,E420+C419,0)*VLOOKUP(MONTH(B419),'NRI (Auto)'!$O$6:$Q$17,3,0),\"\"))","v":""},{"$f":"IFERROR(IF(NRI!$P$2-E419<=0,NRI!$P$3,NRI!$P$2-E419),\"\")","v":""},{"$error":"#DIV/0!"}]
[8,{"$f":"DATE(NRI!$A$4+INT((ROW()-4)/12),MOD(ROW()-4,12),1)","v":"2020-08-01"},{"$f":"OFFSET(NRI!$A$3,1+INT((ROW()-5)/12),A420,1,1)","v":""},"",{"$f":"IF(AND(C421=\"\",C420<>\"\"),0,IFERROR(IF(E421+C420>0,E421+C420,0)*VLOOKUP(MONTH(B420),'NRI (Auto)'!$O$6:$Q$17,3,0),\"\"))","v":""},{"$f":"IFERROR(IF(NRI!$P$2-E420<=0,NRI!$P$3,NRI!$P$2-E420),\"\")","v":""},{"$error":"#DIV/0!"}]
[9,{"$f":"DATE(NRI!$A$4+INT((ROW()-4)/12),MOD(ROW()-4,12),1)","v":"2020-09-01"},{"$f":"OFFSET(NRI!$A$3,1+INT((ROW()-5)/12),A421,1,1)","v":""},"",{"$f":"IF(AND(C422=\"\",C421<>\"\"),0,IFERROR(IF(E422+C421>0,E422+C421,0)*VLOOKUP(MONTH(B421),'NRI (Auto)'!$O$6:$Q$17,3,0),\"\"))","v":""},{"$f":"IFERROR(IF(NRI!$P$2-E421<=0,NRI!$P$3,NRI!$P$2-E421),\"\")","v":""},{"$error":"#DIV/0!"}]
[10,{"$f":"DATE(NRI!$A$4+INT((ROW()-4)/12),MOD(ROW()-4,12),1)","v":"2020-10-01"},{"$f":"OFFSET(NRI!$A$3,1+INT((ROW()-5)/12),A422,1,1)","v":""},"",{"$f":"IF(AND(C423=\"\",C422<>\"\"),0,IFERROR(IF(E423+C422>0,E423+C422,0)*VLOOKUP(MONTH(B422),'NRI (Auto)'!$O$6:$Q$17,3,0),\"\"))","v":""},{"$f":"IFERROR(IF(NRI!$P$2-E422<=0,NRI!$P$3,NRI!$P$2-E422),\"\")","v":""},{"$error":"#DIV/0!"}]
[11,{"$f":"DATE(NRI!$A$4+INT((ROW()-4)/12),MOD(ROW()-4,12),1)","v":"2020-11-01"},{"$f":"OFFSET(NRI!$A$3,1+INT((ROW()-5)/12),A423,1,1)","v":""},"",{"$f":"IF(AND(C424=\"\",C423<>\"\"),0,IFERROR(IF(E424+C423>0,E424+C423,0)*VLOOKUP(MONTH(B423),'NRI (Auto)'!$O$6:$Q$17,3,0),\"\"))","v":""},{"$f":"IFERROR(IF(NRI!$P$2-E423<=0,NRI!$P$3,NRI!$P$2-E423),\"\")","v":""},{"$error":"#DIV/0!"}]
[12,{"$f":"DATE(NRI!$A$4+INT((ROW()-4)/12),MOD(ROW()-4,12),1)","v":"2020-12-01"},{"$f":"OFFSET(NRI!$A$3,1+INT((ROW()-5)/12),A424,1,1)","v":""},"",{"$f":"IF(AND(C425=\"\",C424<>\"\"),0,IFERROR(IF(E425+C424>0,E425+C424,0)*VLOOKUP(MONTH(B424),'NRI (Auto)'!$O$6:$Q$17,3,0),\"\"))","v":""},{"$f":"IFERROR(IF(NRI!$P$2-E424<=0,NRI!$P$3,NRI!$P$2-E424),\"\")","v":""},{"$error":"#DIV/0!"}]
[1,{"$f":"DATE(NRI!$A$4+INT((ROW()-4)/12),MOD(ROW()-4,12),1)","v":"2021-01-01"},{"$f":"OFFSET(NRI!$A$3,1+INT((ROW()-5)/12),A425,1,1)","v":""},"",{"$f":"IF(AND(C426=\"\",C425<>\"\"),0,IFERROR(IF(E426+C425>0,E426+C425,0)*VLOOKUP(MONTH(B425),'NRI (Auto)'!$O$6:$Q$17,3,0),\"\"))","v":""},{"$f":"IFERROR(IF(NRI!$P$2-E425<=0,NRI!$P$3,NRI!$P$2-E425),\"\")","v":""},{"$error":"#DIV/0!"}]
[2,{"$f":"DATE(NRI!$A$4+INT((ROW()-4)/12),MOD(ROW()-4,12),1)","v":"2021-02-01"},{"$f":"OFFSET(NRI!$A$3,1+INT((ROW()-5)/12),A426,1,1)","v":""},"",{"$f":"IF(AND(C427=\"\",C426<>\"\"),0,IFERROR(IF(E427+C426>0,E427+C426,0)*VLOOKUP(MONTH(B426),'NRI (Auto)'!$O$6:$Q$17,3,0),\"\"))","v":""},{"$f":"IFERROR(IF(NRI!$P$2-E426<=0,NRI!$P$3,NRI!$P$2-E426),\"\")","v":""},{"$error":"#DIV/0!"}]
[3,{"$f":"DATE(NRI!$A$4+INT((ROW()-4)/12),MOD(ROW()-4,12),1)","v":"2021-03-01"},{"$f":"OFFSET(NRI!$A$3,1+INT((ROW()-5)/12),A427,1,1)","v":""},"",{"$f":"IF(AND(C428=\"\",C427<>\"\"),0,IFERROR(IF(E428+C427>0,E428+C427,0)*VLOOKUP(MONTH(B427),'NRI (Auto)'!$O$6:$Q$17,3,0),\"\"))","v":""},{"$f":"IFERROR(IF(NRI!$P$2-E427<=0,NRI!$P$3,NRI!$P$2-E427),\"\")","v":""},{"$error":"#DIV/0!"}]
[4,{"$f":"DATE(NRI!$A$4+INT((ROW()-4)/12),MOD(ROW()-4,12),1)","v":"2021-04-01"},{"$f":"OFFSET(NRI!$A$3,1+INT((ROW()-5)/12),A428,1,1)","v":""},"",{"$f":"IF(AND(C429=\"\",C428<>\"\"),0,IFERROR(IF(E429+C428>0,E429+C428,0)*VLOOKUP(MONTH(B428),'NRI (Auto)'!$O$6:$Q$17,3,0),\"\"))","v":""},{"$f":"IFERROR(IF(NRI!$P$2-E428<=0,NRI!$P$3,NRI!$P$2-E428),\"\")","v":""},{"$error":"#DIV/0!"}]
[5,{"$f":"DATE(NRI!$A$4+INT((ROW()-4)/12),MOD(ROW()-4,12),1)","v":"2021-05-01"},{"$f":"OFFSET(NRI!$A$3,1+INT((ROW()-5)/12),A429,1,1)","v":""},"",{"$f":"IF(AND(C430=\"\",C429<>\"\"),0,IFERROR(IF(E430+C429>0,E430+C429,0)*VLOOKUP(MONTH(B429),'NRI (Auto)'!$O$6:$Q$17,3,0),\"\"))","v":""},{"$f":"IFERROR(IF(NRI!$P$2-E429<=0,NRI!$P$3,NRI!$P$2-E429),\"\")","v":""},{"$error":"#DIV/0!"}]
[6,{"$f":"DATE(NRI!$A$4+INT((ROW()-4)/12),MOD(ROW()-4,12),1)","v":"2021-06-01"},{"$f":"OFFSET(NRI!$A$3,1+INT((ROW()-5)/12),A430,1,1)","v":""},"",{"$f":"IF(AND(C431=\"\",C430<>\"\"),0,IFERROR(IF(E431+C430>0,E431+C430,0)*VLOOKUP(MONTH(B430),'NRI (Auto)'!$O$6:$Q$17,3,0),\"\"))","v":""},{"$f":"IFERROR(IF(NRI!$P$2-E430<=0,NRI!$P$3,NRI!$P$2-E430),\"\")","v":""},{"$error":"#DIV/0!"}]
[7,{"$f":"DATE(NRI!$A$4+INT((ROW()-4)/12),MOD(ROW()-4,12),1)","v":"2021-07-01"},{"$f":"OFFSET(NRI!$A$3,1+INT((ROW()-5)/12),A431,1,1)","v":""},"",{"$f":"IF(AND(C432=\"\",C431<>\"\"),0,IFERROR(IF(E432+C431>0,E432+C431,0)*VLOOKUP(MONTH(B431),'NRI (Auto)'!$O$6:$Q$17,3,0),\"\"))","v":""},{"$f":"IFERROR(IF(NRI!$P$2-E431<=0,NRI!$P$3,NRI!$P$2-E431),\"\")","v":""},{"$error":"#DIV/0!"}]
[8,{"$f":"DATE(NRI!$A$4+INT((ROW()-4)/12),MOD(ROW()-4,12),1)","v":"2021-08-01"},{"$f":"OFFSET(NRI!$A$3,1+INT((ROW()-5)/12),A432,1,1)","v":""},"",{"$f":"IF(AND(C433=\"\",C432<>\"\"),0,IFERROR(IF(E433+C432>0,E433+C432,0)*VLOOKUP(MONTH(B432),'NRI (Auto)'!$O$6:$Q$17,3,0),\"\"))","v":""},{"$f":"IFERROR(IF(NRI!$P$2-E432<=0,NRI!$P$3,NRI!$P$2-E432),\"\")","v":""},{"$error":"#DIV/0!"}]
[9,{"$f":"DATE(NRI!$A$4+INT((ROW()-4)/12),MOD(ROW()-4,12),1)","v":"2021-09-01"},{"$f":"OFFSET(NRI!$A$3,1+INT((ROW()-5)/12),A433,1,1)","v":""},"",{"$f":"IF(AND(C434=\"\",C433<>\"\"),0,IFERROR(IF(E434+C433>0,E434+C433,0)*VLOOKUP(MONTH(B433),'NRI (Auto)'!$O$6:$Q$17,3,0),\"\"))","v":""},{"$f":"IFERROR(IF(NRI!$P$2-E433<=0,NRI!$P$3,NRI!$P$2-E433),\"\")","v":""},{"$error":"#DIV/0!"}]
[10,{"$f":"DATE(NRI!$A$4+INT((ROW()-4)/12),MOD(ROW()-4,12),1)","v":"2021-10-01"},{"$f":"OFFSET(NRI!$A$3,1+INT((ROW()-5)/12),A434,1,1)","v":""},"",{"$f":"IF(AND(C435=\"\",C434<>\"\"),0,IFERROR(IF(E435+C434>0,E435+C434,0)*VLOOKUP(MONTH(B434),'NRI (Auto)'!$O$6:$Q$17,3,0),\"\"))","v":""},{"$f":"IFERROR(IF(NRI!$P$2-E434<=0,NRI!$P$3,NRI!$P$2-E434),\"\")","v":""},{"$error":"#DIV/0!"}]
[11,{"$f":"DATE(NRI!$A$4+INT((ROW()-4)/12),MOD(ROW()-4,12),1)","v":"2021-11-01"},{"$f":"OFFSET(NRI!$A$3,1+INT((ROW()-5)/12),A435,1,1)","v":""},"",{"$f":"IF(AND(C436=\"\",C435<>\"\"),0,IFERROR(IF(E436+C435>0,E436+C435,0)*VLOOKUP(MONTH(B435),'NRI (Auto)'!$O$6:$Q$17,3,0),\"\"))","v":""},{"$f":"IFERROR(IF(NRI!$P$2-E435<=0,NRI!$P$3,NRI!$P$2-E435),\"\")","v":""},{"$error":"#DIV/0!"}]
[12,{"$f":"DATE(NRI!$A$4+INT((ROW()-4)/12),MOD(ROW()-4,12),1)","v":"2021-12-01"},{"$f":"OFFSET(NRI!$A$3,1+INT((ROW()-5)/12),A436,1,1)","v":""},"",{"$f":"IF(AND(C437=\"\",C436<>\"\"),0,IFERROR(IF(E437+C436>0,E437+C436,0)*VLOOKUP(MONTH(B436),'NRI (Auto)'!$O$6:$Q$17,3,0),\"\"))","v":""},{"$f":"IFERROR(IF(NRI!$P$2-E436<=0,NRI!$P$3,NRI!$P$2-E436),\"\")","v":""},{"$error":"#DIV/0!"}]
[1,{"$f":"DATE(NRI!$A$4+INT((ROW()-4)/12),MOD(ROW()-4,12),1)","v":"2022-01-01"},{"$f":"OFFSET(NRI!$A$3,1+INT((ROW()-5)/12),A437,1,1)","v":""},"",{"$f":"IF(AND(C438=\"\",C437<>\"\"),0,IFERROR(IF(E438+C437>0,E438+C437,0)*VLOOKUP(MONTH(B437),'NRI (Auto)'!$O$6:$Q$17,3,0),\"\"))","v":""},{"$f":"IFERROR(IF(NRI!$P$2-E437<=0,NRI!$P$3,NRI!$P$2-E437),\"\")","v":""},{"$error":"#DIV/0!"}]
[2,{"$f":"DATE(NRI!$A$4+INT((ROW()-4)/12),MOD(ROW()-4,12),1)","v":"2022-02-01"},{"$f":"OFFSET(NRI!$A$3,1+INT((ROW()-5)/12),A438,1,1)","v":""},"",{"$f":"IF(AND(C439=\"\",C438<>\"\"),0,IFERROR(IF(E439+C438>0,E439+C438,0)*VLOOKUP(MONTH(B438),'NRI (Auto)'!$O$6:$Q$17,3,0),\"\"))","v":""},{"$f":"IFERROR(IF(NRI!$P$2-E438<=0,NRI!$P$3,NRI!$P$2-E438),\"\")","v":""},{"$error":"#DIV/0!"}]
[3,{"$f":"DATE(NRI!$A$4+INT((ROW()-4)/12),MOD(ROW()-4,12),1)","v":"2022-03-01"},{"$f":"OFFSET(NRI!$A$3,1+INT((ROW()-5)/12),A439,1,1)","v":""},"",{"$f":"IF(AND(C440=\"\",C439<>\"\"),0,IFERROR(IF(E440+C439>0,E440+C439,0)*VLOOKUP(MONTH(B439),'NRI (Auto)'!$O$6:$Q$17,3,0),\"\"))","v":""},{"$f":"IFERROR(IF(NRI!$P$2-E439<=0,NRI!$P$3,NRI!$P$2-E439),\"\")","v":""},{"$error":"#DIV/0!"}]
[4,{"$f":"DATE(NRI!$A$4+INT((ROW()-4)/12),MOD(ROW()-4,12),1)","v":"2022-04-01"},{"$f":"OFFSET(NRI!$A$3,1+INT((ROW()-5)/12),A440,1,1)","v":""},"",{"$f":"IF(AND(C441=\"\",C440<>\"\"),0,IFERROR(IF(E441+C440>0,E441+C440,0)*VLOOKUP(MONTH(B440),'NRI (Auto)'!$O$6:$Q$17,3,0),\"\"))","v":""},{"$f":"IFERROR(IF(NRI!$P$2-E440<=0,NRI!$P$3,NRI!$P$2-E440),\"\")","v":""},{"$error":"#DIV/0!"}]
[5,{"$f":"DATE(NRI!$A$4+INT((ROW()-4)/12),MOD(ROW()-4,12),1)","v":"2022-05-01"},{"$f":"OFFSET(NRI!$A$3,1+INT((ROW()-5)/12),A441,1,1)","v":""},"",{"$f":"IF(AND(C442=\"\",C441<>\"\"),0,IFERROR(IF(E442+C441>0,E442+C441,0)*VLOOKUP(MONTH(B441),'NRI (Auto)'!$O$6:$Q$17,3,0),\"\"))","v":""},{"$f":"IFERROR(IF(NRI!$P$2-E441<=0,NRI!$P$3,NRI!$P$2-E441),\"\")","v":""},{"$error":"#DIV/0!"}]
[6,{"$f":"DATE(NRI!$A$4+INT((ROW()-4)/12),MOD(ROW()-4,12),1)","v":"2022-06-01"},{"$f":"OFFSET(NRI!$A$3,1+INT((ROW()-5)/12),A442,1,1)","v":""},"",{"$f":"IF(AND(C443=\"\",C442<>\"\"),0,IFERROR(IF(E443+C442>0,E443+C442,0)*VLOOKUP(MONTH(B442),'NRI (Auto)'!$O$6:$Q$17,3,0),\"\"))","v":""},{"$f":"IFERROR(IF(NRI!$P$2-E442<=0,NRI!$P$3,NRI!$P$2-E442),\"\")","v":""},{"$error":"#DIV/0!"}]
[7,{"$f":"DATE(NRI!$A$4+INT((ROW()-4)/12),MOD(ROW()-4,12),1)","v":"2022-07-01"},{"$f":"OFFSET(NRI!$A$3,1+INT((ROW()-5)/12),A443,1,1)","v":""},"",{"$f":"IF(AND(C444=\"\",C443<>\"\"),0,IFERROR(IF(E444+C443>0,E444+C443,0)*VLOOKUP(MONTH(B443),'NRI (Auto)'!$O$6:$Q$17,3,0),\"\"))","v":""},{"$f":"IFERROR(IF(NRI!$P$2-E443<=0,NRI!$P$3,NRI!$P$2-E443),\"\")","v":""},{"$error":"#DIV/0!"}]
[8,{"$f":"DATE(NRI!$A$4+INT((ROW()-4)/12),MOD(ROW()-4,12),1)","v":"2022-08-01"},{"$f":"OFFSET(NRI!$A$3,1+INT((ROW()-5)/12),A444,1,1)","v":""},"",{"$f":"IF(AND(C445=\"\",C444<>\"\"),0,IFERROR(IF(E445+C444>0,E445+C444,0)*VLOOKUP(MONTH(B444),'NRI (Auto)'!$O$6:$Q$17,3,0),\"\"))","v":""},{"$f":"IFERROR(IF(NRI!$P$2-E444<=0,NRI!$P$3,NRI!$P$2-E444),\"\")","v":""},{"$error":"#DIV/0!"}]
[9,{"$f":"DATE(NRI!$A$4+INT((ROW()-4)/12),MOD(ROW()-4,12),1)","v":"2022-09-01"},{"$f":"OFFSET(NRI!$A$3,1+INT((ROW()-5)/12),A445,1,1)","v":""},"",{"$f":"IF(AND(C446=\"\",C445<>\"\"),0,IFERROR(IF(E446+C445>0,E446+C445,0)*VLOOKUP(MONTH(B445),'NRI (Auto)'!$O$6:$Q$17,3,0),\"\"))","v":""},{"$f":"IFERROR(IF(NRI!$P$2-E445<=0,NRI!$P$3,NRI!$P$2-E445),\"\")","v":""},{"$error":"#DIV/0!"}]
[10,{"$f":"DATE(NRI!$A$4+INT((ROW()-4)/12),MOD(ROW()-4,12),1)","v":"2022-10-01"},{"$f":"OFFSET(NRI!$A$3,1+INT((ROW()-5)/12),A446,1,1)","v":""},"",{"$f":"IF(AND(C447=\"\",C446<>\"\"),0,IFERROR(IF(E447+C446>0,E447+C446,0)*VLOOKUP(MONTH(B446),'NRI (Auto)'!$O$6:$Q$17,3,0),\"\"))","v":""},{"$f":"IFERROR(IF(NRI!$P$2-E446<=0,NRI!$P$3,NRI!$P$2-E446),\"\")","v":""},{"$error":"#DIV/0!"}]
[11,{"$f":"DATE(NRI!$A$4+INT((ROW()-4)/12),MOD(ROW()-4,12),1)","v":"2022-11-01"},{"$f":"OFFSET(NRI!$A$3,1+INT((ROW()-5)/12),A447,1,1)","v":""},"",{"$f":"IF(AND(C448=\"\",C447<>\"\"),0,IFERROR(IF(E448+C447>0,E448+C447,0)*VLOOKUP(MONTH(B447),'NRI (Auto)'!$O$6:$Q$17,3,0),\"\"))","v":""},{"$f":"IFERROR(IF(NRI!$P$2-E447<=0,NRI!$P$3,NRI!$P$2-E447),\"\")","v":""},{"$error":"#DIV/0!"}]
[12,{"$f":"DATE(NRI!$A$4+INT((ROW()-4)/12),MOD(ROW()-4,12),1)","v":"2022-12-01"},{"$f":"OFFSET(NRI!$A$3,1+INT((ROW()-5)/12),A448,1,1)","v":""},"",{"$f":"IF(AND(C449=\"\",C448<>\"\"),0,IFERROR(IF(E449+C448>0,E449+C448,0)*VLOOKUP(MONTH(B448),'NRI (Auto)'!$O$6:$Q$17,3,0),\"\"))","v":""},{"$f":"IFERROR(IF(NRI!$P$2-E448<=0,NRI!$P$3,NRI!$P$2-E448),\"\")","v":""},{"$error":"#DIV/0!"}]
[1,{"$f":"DATE(NRI!$A$4+INT((ROW()-4)/12),MOD(ROW()-4,12),1)","v":"2023-01-01"},{"$f":"OFFSET(NRI!$A$3,1+INT((ROW()-5)/12),A449,1,1)","v":""},"",{"$f":"IF(AND(C450=\"\",C449<>\"\"),0,IFERROR(IF(E450+C449>0,E450+C449,0)*VLOOKUP(MONTH(B449),'NRI (Auto)'!$O$6:$Q$17,3,0),\"\"))","v":""},{"$f":"IFERROR(IF(NRI!$P$2-E449<=0,NRI!$P$3,NRI!$P$2-E449),\"\")","v":""},{"$error":"#DIV/0!"}]
[2,{"$f":"DATE(NRI!$A$4+INT((ROW()-4)/12),MOD(ROW()-4,12),1)","v":"2023-02-01"},{"$f":"OFFSET(NRI!$A$3,1+INT((ROW()-5)/12),A450,1,1)","v":""},"",{"$f":"IF(AND(C451=\"\",C450<>\"\"),0,IFERROR(IF(E451+C450>0,E451+C450,0)*VLOOKUP(MONTH(B450),'NRI (Auto)'!$O$6:$Q$17,3,0),\"\"))","v":""},{"$f":"IFERROR(IF(NRI!$P$2-E450<=0,NRI!$P$3,NRI!$P$2-E450),\"\")","v":""},{"$error":"#DIV/0!"}]
[3,{"$f":"DATE(NRI!$A$4+INT((ROW()-4)/12),MOD(ROW()-4,12),1)","v":"2023-03-01"},{"$f":"OFFSET(NRI!$A$3,1+INT((ROW()-5)/12),A451,1,1)","v":""},"",{"$f":"IF(AND(C452=\"\",C451<>\"\"),0,IFERROR(IF(E452+C451>0,E452+C451,0)*VLOOKUP(MONTH(B451),'NRI (Auto)'!$O$6:$Q$17,3,0),\"\"))","v":""},{"$f":"IFERROR(IF(NRI!$P$2-E451<=0,NRI!$P$3,NRI!$P$2-E451),\"\")","v":""},{"$error":"#DIV/0!"}]
[4,{"$f":"DATE(NRI!$A$4+INT((ROW()-4)/12),MOD(ROW()-4,12),1)","v":"2023-04-01"},{"$f":"OFFSET(NRI!$A$3,1+INT((ROW()-5)/12),A452,1,1)","v":""},"",{"$f":"IF(AND(C453=\"\",C452<>\"\"),0,IFERROR(IF(E453+C452>0,E453+C452,0)*VLOOKUP(MONTH(B452),'NRI (Auto)'!$O$6:$Q$17,3,0),\"\"))","v":""},{"$f":"IFERROR(IF(NRI!$P$2-E452<=0,NRI!$P$3,NRI!$P$2-E452),\"\")","v":""},{"$error":"#DIV/0!"}]
[5,{"$f":"DATE(NRI!$A$4+INT((ROW()-4)/12),MOD(ROW()-4,12),1)","v":"2023-05-01"},{"$f":"OFFSET(NRI!$A$3,1+INT((ROW()-5)/12),A453,1,1)","v":""},"",{"$f":"IF(AND(C454=\"\",C453<>\"\"),0,IFERROR(IF(E454+C453>0,E454+C453,0)*VLOOKUP(MONTH(B453),'NRI (Auto)'!$O$6:$Q$17,3,0),\"\"))","v":""},{"$f":"IFERROR(IF(NRI!$P$2-E453<=0,NRI!$P$3,NRI!$P$2-E453),\"\")","v":""},{"$error":"#DIV/0!"}]
[6,{"$f":"DATE(NRI!$A$4+INT((ROW()-4)/12),MOD(ROW()-4,12),1)","v":"2023-06-01"},{"$f":"OFFSET(NRI!$A$3,1+INT((ROW()-5)/12),A454,1,1)","v":""},{"$f":"IFERROR(IF(D453+C454>0,D453+C454,0),\"\")","v":""},{"$f":"IF(AND(C455=\"\",C454<>\"\"),0,IFERROR(IF(E455+C454>0,E455+C454,0)*VLOOKUP(MONTH(B454),'NRI (Auto)'!$O$6:$Q$17,3,0),\"\"))","v":""},{"$f":"IFERROR(IF(NRI!$P$2-E454<=0,NRI!$P$3,NRI!$P$2-E454),\"\")","v":""},{"$error":"#DIV/0!"}]
[7,{"$f":"DATE(NRI!$A$4+INT((ROW()-4)/12),MOD(ROW()-4,12),1)","v":"2023-07-01"},{"$f":"OFFSET(NRI!$A$3,1+INT((ROW()-5)/12),A455,1,1)","v":""},"",{"$f":"IF(AND(C456=\"\",C455<>\"\"),0,IFERROR(IF(E456+C455>0,E456+C455,0)*VLOOKUP(MONTH(B455),'NRI (Auto)'!$O$6:$Q$17,3,0),\"\"))","v":""},{"$f":"IFERROR(IF(NRI!$P$2-E455<=0,NRI!$P$3,NRI!$P$2-E455),\"\")","v":""},{"$error":"#DIV/0!"}]
[8,{"$f":"DATE(NRI!$A$4+INT((ROW()-4)/12),MOD(ROW()-4,12),1)","v":"2023-08-01"},{"$f":"OFFSET(NRI!$A$3,1+INT((ROW()-5)/12),A456,1,1)","v":""},"",{"$f":"IF(AND(C457=\"\",C456<>\"\"),0,IFERROR(IF(E457+C456>0,E457+C456,0)*VLOOKUP(MONTH(B456),'NRI (Auto)'!$O$6:$Q$17,3,0),\"\"))","v":""},{"$f":"IFERROR(IF(NRI!$P$2-E456<=0,NRI!$P$3,NRI!$P$2-E456),\"\")","v":""},{"$error":"#DIV/0!"}]
[9,{"$f":"DATE(NRI!$A$4+INT((ROW()-4)/12),MOD(ROW()-4,12),1)","v":"2023-09-01"},{"$f":"OFFSET(NRI!$A$3,1+INT((ROW()-5)/12),A457,1,1)","v":""},"",{"$f":"IF(AND(C458=\"\",C457<>\"\"),0,IFERROR(IF(E458+C457>0,E458+C457,0)*VLOOKUP(MONTH(B457),'NRI (Auto)'!$O$6:$Q$17,3,0),\"\"))","v":""},{"$f":"IFERROR(IF(NRI!$P$2-E457<=0,NRI!$P$3,NRI!$P$2-E457),\"\")","v":""},{"$error":"#DIV/0!"}]
[10,{"$f":"DATE(NRI!$A$4+INT((ROW()-4)/12),MOD(ROW()-4,12),1)","v":"2023-10-01"},{"$f":"OFFSET(NRI!$A$3,1+INT((ROW()-5)/12),A458,1,1)","v":""},"",{"$f":"IF(AND(C459=\"\",C458<>\"\"),0,IFERROR(IF(E459+C458>0,E459+C458,0)*VLOOKUP(MONTH(B458),'NRI (Auto)'!$O$6:$Q$17,3,0),\"\"))","v":""},{"$f":"IFERROR(IF(NRI!$P$2-E458<=0,NRI!$P$3,NRI!$P$2-E458),\"\")","v":""},{"$error":"#DIV/0!"}]
[11,{"$f":"DATE(NRI!$A$4+INT((ROW()-4)/12),MOD(ROW()-4,12),1)","v":"2023-11-01"},{"$f":"OFFSET(NRI!$A$3,1+INT((ROW()-5)/12),A459,1,1)","v":""},"",{"$f":"IF(AND(C460=\"\",C459<>\"\"),0,IFERROR(IF(E460+C459>0,E460+C459,0)*VLOOKUP(MONTH(B459),'NRI (Auto)'!$O$6:$Q$17,3,0),\"\"))","v":""},{"$f":"IFERROR(IF(NRI!$P$2-E459<=0,NRI!$P$3,NRI!$P$2-E459),\"\")","v":""},{"$error":"#DIV/0!"}]
[12,{"$f":"DATE(NRI!$A$4+INT((ROW()-4)/12),MOD(ROW()-4,12),1)","v":"2023-12-01"},{"$f":"OFFSET(NRI!$A$3,1+INT((ROW()-5)/12),A460,1,1)","v":""},"",{"$f":"IF(AND(C461=\"\",C460<>\"\"),0,IFERROR(IF(E461+C460>0,E461+C460,0)*VLOOKUP(MONTH(B460),'NRI (Auto)'!$O$6:$Q$17,3,0),\"\"))","v":""},{"$f":"IFERROR(IF(NRI!$P$2-E460<=0,NRI!$P$3,NRI!$P$2-E460),\"\")","v":""},{"$error":"#DIV/0!"}]
[1,{"$f":"DATE(NRI!$A$4+INT((ROW()-4)/12),MOD(ROW()-4,12),1)","v":"2024-01-01"},{"$f":"OFFSET(NRI!$A$3,1+INT((ROW()-5)/12),A461,1,1)","v":""},"",{"$f":"IF(AND(C462=\"\",C461<>\"\"),0,IFERROR(IF(E462+C461>0,E462+C461,0)*VLOOKUP(MONTH(B461),'NRI (Auto)'!$O$6:$Q$17,3,0),\"\"))","v":""},{"$f":"IFERROR(IF(NRI!$P$2-E461<=0,NRI!$P$3,NRI!$P$2-E461),\"\")","v":""},{"$error":"#DIV/0!"}]
[2,{"$f":"DATE(NRI!$A$4+INT((ROW()-4)/12),MOD(ROW()-4,12),1)","v":"2024-02-01"},{"$f":"OFFSET(NRI!$A$3,1+INT((ROW()-5)/12),A462,1,1)","v":""},"",{"$f":"IF(AND(C463=\"\",C462<>\"\"),0,IFERROR(IF(E463+C462>0,E463+C462,0)*VLOOKUP(MONTH(B462),'NRI (Auto)'!$O$6:$Q$17,3,0),\"\"))","v":""},{"$f":"IFERROR(IF(NRI!$P$2-E462<=0,NRI!$P$3,NRI!$P$2-E462),\"\")","v":""},{"$error":"#DIV/0!"}]
[3,{"$f":"DATE(NRI!$A$4+INT((ROW()-4)/12),MOD(ROW()-4,12),1)","v":"2024-03-01"},{"$f":"OFFSET(NRI!$A$3,1+INT((ROW()-5)/12),A463,1,1)","v":""},"",{"$f":"IF(AND(C464=\"\",C463<>\"\"),0,IFERROR(IF(E464+C463>0,E464+C463,0)*VLOOKUP(MONTH(B463),'NRI (Auto)'!$O$6:$Q$17,3,0),\"\"))","v":""},{"$f":"IFERROR(IF(NRI!$P$2-E463<=0,NRI!$P$3,NRI!$P$2-E463),\"\")","v":""},{"$error":"#DIV/0!"}]
[4,{"$f":"DATE(NRI!$A$4+INT((ROW()-4)/12),MOD(ROW()-4,12),1)","v":"2024-04-01"},{"$f":"OFFSET(NRI!$A$3,1+INT((ROW()-5)/12),A464,1,1)","v":""},"",{"$f":"IF(AND(C465=\"\",C464<>\"\"),0,IFERROR(IF(E465+C464>0,E465+C464,0)*VLOOKUP(MONTH(B464),'NRI (Auto)'!$O$6:$Q$17,3,0),\"\"))","v":""},{"$f":"IFERROR(IF(NRI!$P$2-E464<=0,NRI!$P$3,NRI!$P$2-E464),\"\")","v":""},{"$error":"#DIV/0!"}]
[5,{"$f":"DATE(NRI!$A$4+INT((ROW()-4)/12),MOD(ROW()-4,12),1)","v":"2024-05-01"},{"$f":"OFFSET(NRI!$A$3,1+INT((ROW()-5)/12),A465,1,1)","v":""},"",{"$f":"IF(AND(C466=\"\",C465<>\"\"),0,IFERROR(IF(E466+C465>0,E466+C465,0)*VLOOKUP(MONTH(B465),'NRI (Auto)'!$O$6:$Q$17,3,0),\"\"))","v":""},{"$f":"IFERROR(IF(NRI!$P$2-E465<=0,NRI!$P$3,NRI!$P$2-E465),\"\")","v":""},{"$error":"#DIV/0!"}]
[{"$f":"+A454","v":6},{"$f":"DATE(NRI!$A$4+INT((ROW()-4)/12),MOD(ROW()-4,12),1)","v":"2024-06-01"},{"$f":"OFFSET(NRI!$A$3,1+INT((ROW()-5)/12),A466,1,1)","v":""},"",{"$f":"IF(AND(C467=\"\",C466<>\"\"),0,IFERROR(IF(E467+C466>0,E467+C466,0)*VLOOKUP(MONTH(B466),'NRI (Auto)'!$O$6:$Q$17,3,0),\"\"))","v":""},{"$f":"IFERROR(IF(NRI!$P$2-E466<=0,NRI!$P$3,NRI!$P$2-E466),\"\")","v":""},{"$f":"+G454","v":{"$error":"#DIV/0!"}}]
[7,{"$f":"DATE(NRI!$A$4+INT((ROW()-4)/12),MOD(ROW()-4,12),1)","v":"2024-07-01"},{"$f":"OFFSET(NRI!$A$3,1+INT((ROW()-5)/12),A467,1,1)","v":""},"",{"$f":"IF(AND(C468=\"\",C467<>\"\"),0,IFERROR(IF(E468+C467>0,E468+C467,0)*VLOOKUP(MONTH(B467),'NRI (Auto)'!$O$6:$Q$17,3,0),\"\"))","v":""},{"$f":"IFERROR(IF(NRI!$P$2-E467<=0,NRI!$P$3,NRI!$P$2-E467),\"\")","v":""},{"$error":"#DIV/0!"}]
[8,{"$f":"DATE(NRI!$A$4+INT((ROW()-4)/12),MOD(ROW()-4,12),1)","v":"2024-08-01"},{"$f":"OFFSET(NRI!$A$3,1+INT((ROW()-5)/12),A468,1,1)","v":""},"",{"$f":"IF(AND(C469=\"\",C468<>\"\"),0,IFERROR(IF(E469+C468>0,E469+C468,0)*VLOOKUP(MONTH(B468),'NRI (Auto)'!$O$6:$Q$17,3,0),\"\"))","v":""},{"$f":"IFERROR(IF(NRI!$P$2-E468<=0,NRI!$P$3,NRI!$P$2-E468),\"\")","v":""},{"$error":"#DIV/0!"}]
[9,{"$f":"DATE(NRI!$A$4+INT((ROW()-4)/12),MOD(ROW()-4,12),1)","v":"2024-09-01"},{"$f":"OFFSET(NRI!$A$3,1+INT((ROW()-5)/12),A469,1,1)","v":""},"",{"$f":"IF(AND(C470=\"\",C469<>\"\"),0,IFERROR(IF(E470+C469>0,E470+C469,0)*VLOOKUP(MONTH(B469),'NRI (Auto)'!$O$6:$Q$17,3,0),\"\"))","v":""},{"$f":"IFERROR(IF(NRI!$P$2-E469<=0,NRI!$P$3,NRI!$P$2-E469),\"\")","v":""},{"$error":"#DIV/0!"}]
[10,{"$f":"DATE(NRI!$A$4+INT((ROW()-4)/12),MOD(ROW()-4,12),1)","v":"2024-10-01"},{"$f":"OFFSET(NRI!$A$3,1+INT((ROW()-5)/12),A470,1,1)","v":""},"",{"$f":"IF(AND(C471=\"\",C470<>\"\"),0,IFERROR(IF(E471+C470>0,E471+C470,0)*VLOOKUP(MONTH(B470),'NRI (Auto)'!$O$6:$Q$17,3,0),\"\"))","v":""},{"$f":"IFERROR(IF(NRI!$P$2-E470<=0,NRI!$P$3,NRI!$P$2-E470),\"\")","v":""},{"$error":"#DIV/0!"}]
[11,{"$f":"DATE(NRI!$A$4+INT((ROW()-4)/12),MOD(ROW()-4,12),1)","v":"2024-11-01"},{"$f":"OFFSET(NRI!$A$3,1+INT((ROW()-5)/12),A471,1,1)","v":""},"",{"$f":"IF(AND(C472=\"\",C471<>\"\"),0,IFERROR(IF(E472+C471>0,E472+C471,0)*VLOOKUP(MONTH(B471),'NRI (Auto)'!$O$6:$Q$17,3,0),\"\"))","v":""},{"$f":"IFERROR(IF(NRI!$P$2-E471<=0,NRI!$P$3,NRI!$P$2-E471),\"\")","v":""},{"$error":"#DIV/0!"}]
[12,{"$f":"DATE(NRI!$A$4+INT((ROW()-4)/12),MOD(ROW()-4,12),1)","v":"2024-12-01"},{"$f":"OFFSET(NRI!$A$3,1+INT((ROW()-5)/12),A472,1,1)","v":""},"",{"$f":"IF(AND(C473=\"\",C472<>\"\"),0,IFERROR(IF(E473+C472>0,E473+C472,0)*VLOOKUP(MONTH(B472),'NRI (Auto)'!$O$6:$Q$17,3,0),\"\"))","v":""},{"$f":"IFERROR(IF(NRI!$P$2-E472<=0,NRI!$P$3,NRI!$P$2-E472),\"\")","v":""},{"$error":"#DIV/0!"}]
[1,{"$f":"DATE(NRI!$A$4+INT((ROW()-4)/12),MOD(ROW()-4,12),1)","v":"2025-01-01"},{"$f":"OFFSET(NRI!$A$3,1+INT((ROW()-5)/12),A473,1,1)","v":""},"",{"$f":"IF(AND(C474=\"\",C473<>\"\"),0,IFERROR(IF(E474+C473>0,E474+C473,0)*VLOOKUP(MONTH(B473),'NRI (Auto)'!$O$6:$Q$17,3,0),\"\"))","v":""},{"$f":"IFERROR(IF(NRI!$P$2-E473<=0,NRI!$P$3,NRI!$P$2-E473),\"\")","v":""},{"$error":"#DIV/0!"}]
[2,{"$f":"DATE(NRI!$A$4+INT((ROW()-4)/12),MOD(ROW()-4,12),1)","v":"2025-02-01"},{"$f":"OFFSET(NRI!$A$3,1+INT((ROW()-5)/12),A474,1,1)","v":""},"",{"$f":"IF(AND(C475=\"\",C474<>\"\"),0,IFERROR(IF(E475+C474>0,E475+C474,0)*VLOOKUP(MONTH(B474),'NRI (Auto)'!$O$6:$Q$17,3,0),\"\"))","v":""},{"$f":"IFERROR(IF(NRI!$P$2-E474<=0,NRI!$P$3,NRI!$P$2-E474),\"\")","v":""},{"$error":"#DIV/0!"}]
[3,{"$f":"DATE(NRI!$A$4+INT((ROW()-4)/12),MOD(ROW()-4,12),1)","v":"2025-03-01"},{"$f":"OFFSET(NRI!$A$3,1+INT((ROW()-5)/12),A475,1,1)","v":""},"",{"$f":"IF(AND(C476=\"\",C475<>\"\"),0,IFERROR(IF(E476+C475>0,E476+C475,0)*VLOOKUP(MONTH(B475),'NRI (Auto)'!$O$6:$Q$17,3,0),\"\"))","v":""},{"$f":"IFERROR(IF(NRI!$P$2-E475<=0,NRI!$P$3,NRI!$P$2-E475),\"\")","v":""},{"$error":"#DIV/0!"}]
[4,{"$f":"DATE(NRI!$A$4+INT((ROW()-4)/12),MOD(ROW()-4,12),1)","v":"2025-04-01"},{"$f":"OFFSET(NRI!$A$3,1+INT((ROW()-5)/12),A476,1,1)","v":""},"",{"$f":"IF(AND(C477=\"\",C476<>\"\"),0,IFERROR(IF(E477+C476>0,E477+C476,0)*VLOOKUP(MONTH(B476),'NRI (Auto)'!$O$6:$Q$17,3,0),\"\"))","v":""},{"$f":"IFERROR(IF(NRI!$P$2-E476<=0,NRI!$P$3,NRI!$P$2-E476),\"\")","v":""},{"$error":"#DIV/0!"}]
[5,{"$f":"DATE(NRI!$A$4+INT((ROW()-4)/12),MOD(ROW()-4,12),1)","v":"2025-05-01"},{"$f":"OFFSET(NRI!$A$3,1+INT((ROW()-5)/12),A477,1,1)","v":""},"",{"$f":"IF(AND(C478=\"\",C477<>\"\"),0,IFERROR(IF(E478+C477>0,E478+C477,0)*VLOOKUP(MONTH(B477),'NRI (Auto)'!$O$6:$Q$17,3,0),\"\"))","v":""},{"$f":"IFERROR(IF(NRI!$P$2-E477<=0,NRI!$P$3,NRI!$P$2-E477),\"\")","v":""},{"$error":"#DIV/0!"}]
[6,{"$f":"DATE(NRI!$A$4+INT((ROW()-4)/12),MOD(ROW()-4,12),1)","v":"2025-06-01"},{"$f":"OFFSET(NRI!$A$3,1+INT((ROW()-5)/12),A478,1,1)","v":""},"",{"$f":"IF(AND(C479=\"\",C478<>\"\"),0,IFERROR(IF(E479+C478>0,E479+C478,0)*VLOOKUP(MONTH(B478),'NRI (Auto)'!$O$6:$Q$17,3,0),\"\"))","v":""},{"$f":"IFERROR(IF(NRI!$P$2-E478<=0,NRI!$P$3,NRI!$P$2-E478),\"\")","v":""},{"$error":"#DIV/0!"}]
[7,{"$f":"DATE(NRI!$A$4+INT((ROW()-4)/12),MOD(ROW()-4,12),1)","v":"2025-07-01"},{"$f":"OFFSET(NRI!$A$3,1+INT((ROW()-5)/12),A479,1,1)","v":""},"",{"$f":"IF(AND(C480=\"\",C479<>\"\"),0,IFERROR(IF(E480+C479>0,E480+C479,0)*VLOOKUP(MONTH(B479),'NRI (Auto)'!$O$6:$Q$17,3,0),\"\"))","v":""},{"$f":"IFERROR(IF(NRI!$P$2-E479<=0,NRI!$P$3,NRI!$P$2-E479),\"\")","v":""},{"$error":"#DIV/0!"}]
[8,{"$f":"DATE(NRI!$A$4+INT((ROW()-4)/12),MOD(ROW()-4,12),1)","v":"2025-08-01"},{"$f":"OFFSET(NRI!$A$3,1+INT((ROW()-5)/12),A480,1,1)","v":""},"",{"$f":"IF(AND(C481=\"\",C480<>\"\"),0,IFERROR(IF(E481+C480>0,E481+C480,0)*VLOOKUP(MONTH(B480),'NRI (Auto)'!$O$6:$Q$17,3,0),\"\"))","v":""},{"$f":"IFERROR(IF(NRI!$P$2-E480<=0,NRI!$P$3,NRI!$P$2-E480),\"\")","v":""},{"$error":"#DIV/0!"}]
[9,{"$f":"DATE(NRI!$A$4+INT((ROW()-4)/12),MOD(ROW()-4,12),1)","v":"2025-09-01"},{"$f":"OFFSET(NRI!$A$3,1+INT((ROW()-5)/12),A481,1,1)","v":""},"",{"$f":"IF(AND(C482=\"\",C481<>\"\"),0,IFERROR(IF(E482+C481>0,E482+C481,0)*VLOOKUP(MONTH(B481),'NRI (Auto)'!$O$6:$Q$17,3,0),\"\"))","v":""},{"$f":"IFERROR(IF(NRI!$P$2-E481<=0,NRI!$P$3,NRI!$P$2-E481),\"\")","v":""},{"$error":"#DIV/0!"}]
[10,{"$f":"DATE(NRI!$A$4+INT((ROW()-4)/12),MOD(ROW()-4,12),1)","v":"2025-10-01"},{"$f":"OFFSET(NRI!$A$3,1+INT((ROW()-5)/12),A482,1,1)","v":""},"",{"$f":"IF(AND(C483=\"\",C482<>\"\"),0,IFERROR(IF(E483+C482>0,E483+C482,0)*VLOOKUP(MONTH(B482),'NRI (Auto)'!$O$6:$Q$17,3,0),\"\"))","v":""},{"$f":"IFERROR(IF(NRI!$P$2-E482<=0,NRI!$P$3,NRI!$P$2-E482),\"\")","v":""},{"$error":"#DIV/0!"}]
[11,{"$f":"DATE(NRI!$A$4+INT((ROW()-4)/12),MOD(ROW()-4,12),1)","v":"2025-11-01"},{"$f":"OFFSET(NRI!$A$3,1+INT((ROW()-5)/12),A483,1,1)","v":""},"",{"$f":"IF(AND(C484=\"\",C483<>\"\"),0,IFERROR(IF(E484+C483>0,E484+C483,0)*VLOOKUP(MONTH(B483),'NRI (Auto)'!$O$6:$Q$17,3,0),\"\"))","v":""},{"$f":"IFERROR(IF(NRI!$P$2-E483<=0,NRI!$P$3,NRI!$P$2-E483),\"\")","v":""},{"$error":"#DIV/0!"}]
[12,{"$f":"DATE(NRI!$A$4+INT((ROW()-4)/12),MOD(ROW()-4,12),1)","v":"2025-12-01"},{"$f":"OFFSET(NRI!$A$3,1+INT((ROW()-5)/12),A484,1,1)","v":""},"",{"$f":"IF(AND(C485=\"\",C484<>\"\"),0,IFERROR(IF(E485+C484>0,E485+C484,0)*VLOOKUP(MONTH(B484),'NRI (Auto)'!$O$6:$Q$17,3,0),\"\"))","v":""},{"$f":"IFERROR(IF(NRI!$P$2-E484<=0,NRI!$P$3,NRI!$P$2-E484),\"\")","v":""},{"$error":"#DIV/0!"}]
[1,{"$f":"DATE(NRI!$A$4+INT((ROW()-4)/12),MOD(ROW()-4,12),1)","v":"2026-01-01"},{"$f":"OFFSET(NRI!$A$3,1+INT((ROW()-5)/12),A485,1,1)","v":""},"",{"$f":"IF(AND(C486=\"\",C485<>\"\"),0,IFERROR(IF(E486+C485>0,E486+C485,0)*VLOOKUP(MONTH(B485),'NRI (Auto)'!$O$6:$Q$17,3,0),\"\"))","v":""},{"$f":"IFERROR(IF(NRI!$P$2-E485<=0,NRI!$P$3,NRI!$P$2-E485),\"\")","v":""},{"$error":"#DIV/0!"}]
[2,{"$f":"DATE(NRI!$A$4+INT((ROW()-4)/12),MOD(ROW()-4,12),1)","v":"2026-02-01"},{"$f":"OFFSET(NRI!$A$3,1+INT((ROW()-5)/12),A486,1,1)","v":""},"",{"$f":"IF(AND(C487=\"\",C486<>\"\"),0,IFERROR(IF(E487+C486>0,E487+C486,0)*VLOOKUP(MONTH(B486),'NRI (Auto)'!$O$6:$Q$17,3,0),\"\"))","v":""},{"$f":"IFERROR(IF(NRI!$P$2-E486<=0,NRI!$P$3,NRI!$P$2-E486),\"\")","v":""},{"$error":"#DIV/0!"}]
[3,{"$f":"DATE(NRI!$A$4+INT((ROW()-4)/12),MOD(ROW()-4,12),1)","v":"2026-03-01"},{"$f":"OFFSET(NRI!$A$3,1+INT((ROW()-5)/12),A487,1,1)","v":""},"",{"$f":"IF(AND(C488=\"\",C487<>\"\"),0,IFERROR(IF(E488+C487>0,E488+C487,0)*VLOOKUP(MONTH(B487),'NRI (Auto)'!$O$6:$Q$17,3,0),\"\"))","v":""},{"$f":"IFERROR(IF(NRI!$P$2-E487<=0,NRI!$P$3,NRI!$P$2-E487),\"\")","v":""},{"$error":"#DIV/0!"}]
[4,{"$f":"DATE(NRI!$A$4+INT((ROW()-4)/12),MOD(ROW()-4,12),1)","v":"2026-04-01"},{"$f":"OFFSET(NRI!$A$3,1+INT((ROW()-5)/12),A488,1,1)","v":""},"",{"$f":"IF(AND(C489=\"\",C488<>\"\"),0,IFERROR(IF(E489+C488>0,E489+C488,0)*VLOOKUP(MONTH(B488),'NRI (Auto)'!$O$6:$Q$17,3,0),\"\"))","v":""},{"$f":"IFERROR(IF(NRI!$P$2-E488<=0,NRI!$P$3,NRI!$P$2-E488),\"\")","v":""},{"$error":"#DIV/0!"}]
[5,{"$f":"DATE(NRI!$A$4+INT((ROW()-4)/12),MOD(ROW()-4,12),1)","v":"2026-05-01"},{"$f":"OFFSET(NRI!$A$3,1+INT((ROW()-5)/12),A489,1,1)","v":""},"",{"$f":"IF(AND(C490=\"\",C489<>\"\"),0,IFERROR(IF(E490+C489>0,E490+C489,0)*VLOOKUP(MONTH(B489),'NRI (Auto)'!$O$6:$Q$17,3,0),\"\"))","v":""},{"$f":"IFERROR(IF(NRI!$P$2-E489<=0,NRI!$P$3,NRI!$P$2-E489),\"\")","v":""},{"$error":"#DIV/0!"}]
[6,{"$f":"DATE(NRI!$A$4+INT((ROW()-4)/12),MOD(ROW()-4,12),1)","v":"2026-06-01"},{"$f":"OFFSET(NRI!$A$3,1+INT((ROW()-5)/12),A490,1,1)","v":""},"",{"$f":"IF(AND(C491=\"\",C490<>\"\"),0,IFERROR(IF(E491+C490>0,E491+C490,0)*VLOOKUP(MONTH(B490),'NRI (Auto)'!$O$6:$Q$17,3,0),\"\"))","v":""},{"$f":"IFERROR(IF(NRI!$P$2-E490<=0,NRI!$P$3,NRI!$P$2-E490),\"\")","v":""},{"$error":"#DIV/0!"}]
[7,{"$f":"DATE(NRI!$A$4+INT((ROW()-4)/12),MOD(ROW()-4,12),1)","v":"2026-07-01"},{"$f":"OFFSET(NRI!$A$3,1+INT((ROW()-5)/12),A491,1,1)","v":""},"",{"$f":"IF(AND(C492=\"\",C491<>\"\"),0,IFERROR(IF(E492+C491>0,E492+C491,0)*VLOOKUP(MONTH(B491),'NRI (Auto)'!$O$6:$Q$17,3,0),\"\"))","v":""},{"$f":"IFERROR(IF(NRI!$P$2-E491<=0,NRI!$P$3,NRI!$P$2-E491),\"\")","v":""},{"$error":"#DIV/0!"}]
[8,{"$f":"DATE(NRI!$A$4+INT((ROW()-4)/12),MOD(ROW()-4,12),1)","v":"2026-08-01"},{"$f":"OFFSET(NRI!$A$3,1+INT((ROW()-5)/12),A492,1,1)","v":""},"",{"$f":"IF(AND(C493=\"\",C492<>\"\"),0,IFERROR(IF(E493+C492>0,E493+C492,0)*VLOOKUP(MONTH(B492),'NRI (Auto)'!$O$6:$Q$17,3,0),\"\"))","v":""},{"$f":"IFERROR(IF(NRI!$P$2-E492<=0,NRI!$P$3,NRI!$P$2-E492),\"\")","v":""},{"$error":"#DIV/0!"}]
[9,{"$f":"DATE(NRI!$A$4+INT((ROW()-4)/12),MOD(ROW()-4,12),1)","v":"2026-09-01"},{"$f":"OFFSET(NRI!$A$3,1+INT((ROW()-5)/12),A493,1,1)","v":""},"",{"$f":"IF(AND(C494=\"\",C493<>\"\"),0,IFERROR(IF(E494+C493>0,E494+C493,0)*VLOOKUP(MONTH(B493),'NRI (Auto)'!$O$6:$Q$17,3,0),\"\"))","v":""},{"$f":"IFERROR(IF(NRI!$P$2-E493<=0,NRI!$P$3,NRI!$P$2-E493),\"\")","v":""},{"$error":"#DIV/0!"}]
[10,{"$f":"DATE(NRI!$A$4+INT((ROW()-4)/12),MOD(ROW()-4,12),1)","v":"2026-10-01"},{"$f":"OFFSET(NRI!$A$3,1+INT((ROW()-5)/12),A494,1,1)","v":""},"",{"$f":"IF(AND(C495=\"\",C494<>\"\"),0,IFERROR(IF(E495+C494>0,E495+C494,0)*VLOOKUP(MONTH(B494),'NRI (Auto)'!$O$6:$Q$17,3,0),\"\"))","v":""},{"$f":"IFERROR(IF(NRI!$P$2-E494<=0,NRI!$P$3,NRI!$P$2-E494),\"\")","v":""},{"$error":"#DIV/0!"}]
[11,{"$f":"DATE(NRI!$A$4+INT((ROW()-4)/12),MOD(ROW()-4,12),1)","v":"2026-11-01"},{"$f":"OFFSET(NRI!$A$3,1+INT((ROW()-5)/12),A495,1,1)","v":""},"",{"$f":"IF(AND(C496=\"\",C495<>\"\"),0,IFERROR(IF(E496+C495>0,E496+C495,0)*VLOOKUP(MONTH(B495),'NRI (Auto)'!$O$6:$Q$17,3,0),\"\"))","v":""},{"$f":"IFERROR(IF(NRI!$P$2-E495<=0,NRI!$P$3,NRI!$P$2-E495),\"\")","v":""},{"$error":"#DIV/0!"}]
[12,{"$f":"DATE(NRI!$A$4+INT((ROW()-4)/12),MOD(ROW()-4,12),1)","v":"2026-12-01"},{"$f":"OFFSET(NRI!$A$3,1+INT((ROW()-5)/12),A496,1,1)","v":""},"",{"$f":"IF(AND(C497=\"\",C496<>\"\"),0,IFERROR(IF(E497+C496>0,E497+C496,0)*VLOOKUP(MONTH(B496),'NRI (Auto)'!$O$6:$Q$17,3,0),\"\"))","v":""},{"$f":"IFERROR(IF(NRI!$P$2-E496<=0,NRI!$P$3,NRI!$P$2-E496),\"\")","v":""},{"$error":"#DIV/0!"}]
[1,{"$f":"DATE(NRI!$A$4+INT((ROW()-4)/12),MOD(ROW()-4,12),1)","v":"2027-01-01"},{"$f":"OFFSET(NRI!$A$3,1+INT((ROW()-5)/12),A497,1,1)","v":""},"",{"$f":"IF(AND(C498=\"\",C497<>\"\"),0,IFERROR(IF(E498+C497>0,E498+C497,0)*VLOOKUP(MONTH(B497),'NRI (Auto)'!$O$6:$Q$17,3,0),\"\"))","v":""},{"$f":"IFERROR(IF(NRI!$P$2-E497<=0,NRI!$P$3,NRI!$P$2-E497),\"\")","v":""},{"$error":"#DIV/0!"}]
[2,{"$f":"DATE(NRI!$A$4+INT((ROW()-4)/12),MOD(ROW()-4,12),1)","v":"2027-02-01"},{"$f":"OFFSET(NRI!$A$3,1+INT((ROW()-5)/12),A498,1,1)","v":""},"",{"$f":"IF(AND(C499=\"\",C498<>\"\"),0,IFERROR(IF(E499+C498>0,E499+C498,0)*VLOOKUP(MONTH(B498),'NRI (Auto)'!$O$6:$Q$17,3,0),\"\"))","v":""},{"$f":"IFERROR(IF(NRI!$P$2-E498<=0,NRI!$P$3,NRI!$P$2-E498),\"\")","v":""},{"$error":"#DIV/0!"}]
[3,{"$f":"DATE(NRI!$A$4+INT((ROW()-4)/12),MOD(ROW()-4,12),1)","v":"2027-03-01"},{"$f":"OFFSET(NRI!$A$3,1+INT((ROW()-5)/12),A499,1,1)","v":""},"",{"$f":"IF(AND(C500=\"\",C499<>\"\"),0,IFERROR(IF(E500+C499>0,E500+C499,0)*VLOOKUP(MONTH(B499),'NRI (Auto)'!$O$6:$Q$17,3,0),\"\"))","v":""},{"$f":"IFERROR(IF(NRI!$P$2-E499<=0,NRI!$P$3,NRI!$P$2-E499),\"\")","v":""},{"$error":"#DIV/0!"}]
[4,{"$f":"DATE(NRI!$A$4+INT((ROW()-4)/12),MOD(ROW()-4,12),1)","v":"2027-04-01"},{"$f":"OFFSET(NRI!$A$3,1+INT((ROW()-5)/12),A500,1,1)","v":""},"",{"$f":"IF(AND(C501=\"\",C500<>\"\"),0,IFERROR(IF(E501+C500>0,E501+C500,0)*VLOOKUP(MONTH(B500),'NRI (Auto)'!$O$6:$Q$17,3,0),\"\"))","v":""},{"$f":"IFERROR(IF(NRI!$P$2-E500<=0,NRI!$P$3,NRI!$P$2-E500),\"\")","v":""},{"$error":"#DIV/0!"}]
[5,{"$f":"DATE(NRI!$A$4+INT((ROW()-4)/12),MOD(ROW()-4,12),1)","v":"2027-05-01"},{"$f":"OFFSET(NRI!$A$3,1+INT((ROW()-5)/12),A501,1,1)","v":""},"",{"$f":"IF(AND(C502=\"\",C501<>\"\"),0,IFERROR(IF(E502+C501>0,E502+C501,0)*VLOOKUP(MONTH(B501),'NRI (Auto)'!$O$6:$Q$17,3,0),\"\"))","v":""},{"$f":"IFERROR(IF(NRI!$P$2-E501<=0,NRI!$P$3,NRI!$P$2-E501),\"\")","v":""},{"$error":"#DIV/0!"}]
[6,{"$f":"DATE(NRI!$A$4+INT((ROW()-4)/12),MOD(ROW()-4,12),1)","v":"2027-06-01"},{"$f":"OFFSET(NRI!$A$3,1+INT((ROW()-5)/12),A502,1,1)","v":""},"",{"$f":"IF(AND(C503=\"\",C502<>\"\"),0,IFERROR(IF(E503+C502>0,E503+C502,0)*VLOOKUP(MONTH(B502),'NRI (Auto)'!$O$6:$Q$17,3,0),\"\"))","v":""},{"$f":"IFERROR(IF(NRI!$P$2-E502<=0,NRI!$P$3,NRI!$P$2-E502),\"\")","v":""},{"$error":"#DIV/0!"}]
[7,{"$f":"DATE(NRI!$A$4+INT((ROW()-4)/12),MOD(ROW()-4,12),1)","v":"2027-07-01"},{"$f":"OFFSET(NRI!$A$3,1+INT((ROW()-5)/12),A503,1,1)","v":""},"",{"$f":"IF(AND(C504=\"\",C503<>\"\"),0,IFERROR(IF(E504+C503>0,E504+C503,0)*VLOOKUP(MONTH(B503),'NRI (Auto)'!$O$6:$Q$17,3,0),\"\"))","v":""},{"$f":"IFERROR(IF(NRI!$P$2-E503<=0,NRI!$P$3,NRI!$P$2-E503),\"\")","v":""},{"$error":"#DIV/0!"}]
[8,{"$f":"DATE(NRI!$A$4+INT((ROW()-4)/12),MOD(ROW()-4,12),1)","v":"2027-08-01"},{"$f":"OFFSET(NRI!$A$3,1+INT((ROW()-5)/12),A504,1,1)","v":""},"",{"$f":"IF(AND(C505=\"\",C504<>\"\"),0,IFERROR(IF(E505+C504>0,E505+C504,0)*VLOOKUP(MONTH(B504),'NRI (Auto)'!$O$6:$Q$17,3,0),\"\"))","v":""},{"$f":"IFERROR(IF(NRI!$P$2-E504<=0,NRI!$P$3,NRI!$P$2-E504),\"\")","v":""},{"$error":"#DIV/0!"}]
[9,{"$f":"DATE(NRI!$A$4+INT((ROW()-4)/12),MOD(ROW()-4,12),1)","v":"2027-09-01"},{"$f":"OFFSET(NRI!$A$3,1+INT((ROW()-5)/12),A505,1,1)","v":""},"",{"$f":"IF(AND(C506=\"\",C505<>\"\"),0,IFERROR(IF(E506+C505>0,E506+C505,0)*VLOOKUP(MONTH(B505),'NRI (Auto)'!$O$6:$Q$17,3,0),\"\"))","v":""},{"$f":"IFERROR(IF(NRI!$P$2-E505<=0,NRI!$P$3,NRI!$P$2-E505),\"\")","v":""},{"$error":"#DIV/0!"}]
[10,{"$f":"DATE(NRI!$A$4+INT((ROW()-4)/12),MOD(ROW()-4,12),1)","v":"2027-10-01"},{"$f":"OFFSET(NRI!$A$3,1+INT((ROW()-5)/12),A506,1,1)","v":""},"",{"$f":"IF(AND(C507=\"\",C506<>\"\"),0,IFERROR(IF(E507+C506>0,E507+C506,0)*VLOOKUP(MONTH(B506),'NRI (Auto)'!$O$6:$Q$17,3,0),\"\"))","v":""},{"$f":"IFERROR(IF(NRI!$P$2-E506<=0,NRI!$P$3,NRI!$P$2-E506),\"\")","v":""},{"$error":"#DIV/0!"}]
[11,{"$f":"DATE(NRI!$A$4+INT((ROW()-4)/12),MOD(ROW()-4,12),1)","v":"2027-11-01"},{"$f":"OFFSET(NRI!$A$3,1+INT((ROW()-5)/12),A507,1,1)","v":""},"",{"$f":"IF(AND(C508=\"\",C507<>\"\"),0,IFERROR(IF(E508+C507>0,E508+C507,0)*VLOOKUP(MONTH(B507),'NRI (Auto)'!$O$6:$Q$17,3,0),\"\"))","v":""},{"$f":"IFERROR(IF(NRI!$P$2-E507<=0,NRI!$P$3,NRI!$P$2-E507),\"\")","v":""},{"$error":"#DIV/0!"}]
[12,{"$f":"DATE(NRI!$A$4+INT((ROW()-4)/12),MOD(ROW()-4,12),1)","v":"2027-12-01"},{"$f":"OFFSET(NRI!$A$3,1+INT((ROW()-5)/12),A508,1,1)","v":""},"",{"$f":"IF(AND(C509=\"\",C508<>\"\"),0,IFERROR(IF(E509+C508>0,E509+C508,0)*VLOOKUP(MONTH(B508),'NRI (Auto)'!$O$6:$Q$17,3,0),\"\"))","v":""},{"$f":"IFERROR(IF(NRI!$P$2-E508<=0,NRI!$P$3,NRI!$P$2-E508),\"\")","v":""},{"$error":"#DIV/0!"}]
[1,{"$f":"DATE(NRI!$A$4+INT((ROW()-4)/12),MOD(ROW()-4,12),1)","v":"2028-01-01"},{"$f":"OFFSET(NRI!$A$3,1+INT((ROW()-5)/12),A509,1,1)","v":""},"",{"$f":"IF(AND(C510=\"\",C509<>\"\"),0,IFERROR(IF(E510+C509>0,E510+C509,0)*VLOOKUP(MONTH(B509),'NRI (Auto)'!$O$6:$Q$17,3,0),\"\"))","v":""},{"$f":"IFERROR(IF(NRI!$P$2-E509<=0,NRI!$P$3,NRI!$P$2-E509),\"\")","v":""},{"$error":"#DIV/0!"}]
[2,{"$f":"DATE(NRI!$A$4+INT((ROW()-4)/12),MOD(ROW()-4,12),1)","v":"2028-02-01"},{"$f":"OFFSET(NRI!$A$3,1+INT((ROW()-5)/12),A510,1,1)","v":""},"",{"$f":"IF(AND(C511=\"\",C510<>\"\"),0,IFERROR(IF(E511+C510>0,E511+C510,0)*VLOOKUP(MONTH(B510),'NRI (Auto)'!$O$6:$Q$17,3,0),\"\"))","v":""},{"$f":"IFERROR(IF(NRI!$P$2-E510<=0,NRI!$P$3,NRI!$P$2-E510),\"\")","v":""},{"$error":"#DIV/0!"}]
[3,{"$f":"DATE(NRI!$A$4+INT((ROW()-4)/12),MOD(ROW()-4,12),1)","v":"2028-03-01"},{"$f":"OFFSET(NRI!$A$3,1+INT((ROW()-5)/12),A511,1,1)","v":""},"",{"$f":"IF(AND(C512=\"\",C511<>\"\"),0,IFERROR(IF(E512+C511>0,E512+C511,0)*VLOOKUP(MONTH(B511),'NRI (Auto)'!$O$6:$Q$17,3,0),\"\"))","v":""},{"$f":"IFERROR(IF(NRI!$P$2-E511<=0,NRI!$P$3,NRI!$P$2-E511),\"\")","v":""},{"$error":"#DIV/0!"}]
[4,{"$f":"DATE(NRI!$A$4+INT((ROW()-4)/12),MOD(ROW()-4,12),1)","v":"2028-04-01"},{"$f":"OFFSET(NRI!$A$3,1+INT((ROW()-5)/12),A512,1,1)","v":""},"",{"$f":"IF(AND(C513=\"\",C512<>\"\"),0,IFERROR(IF(E513+C512>0,E513+C512,0)*VLOOKUP(MONTH(B512),'NRI (Auto)'!$O$6:$Q$17,3,0),\"\"))","v":""},{"$f":"IFERROR(IF(NRI!$P$2-E512<=0,NRI!$P$3,NRI!$P$2-E512),\"\")","v":""},{"$error":"#DIV/0!"}]
[5,{"$f":"DATE(NRI!$A$4+INT((ROW()-4)/12),MOD(ROW()-4,12),1)","v":"2028-05-01"},{"$f":"OFFSET(NRI!$A$3,1+INT((ROW()-5)/12),A513,1,1)","v":""},"",{"$f":"IF(AND(C514=\"\",C513<>\"\"),0,IFERROR(IF(E514+C513>0,E514+C513,0)*VLOOKUP(MONTH(B513),'NRI (Auto)'!$O$6:$Q$17,3,0),\"\"))","v":""},{"$f":"IFERROR(IF(NRI!$P$2-E513<=0,NRI!$P$3,NRI!$P$2-E513),\"\")","v":""},{"$error":"#DIV/0!"}]
[6,{"$f":"DATE(NRI!$A$4+INT((ROW()-4)/12),MOD(ROW()-4,12),1)","v":"2028-06-01"},{"$f":"OFFSET(NRI!$A$3,1+INT((ROW()-5)/12),A514,1,1)","v":""},"",{"$f":"IF(AND(C515=\"\",C514<>\"\"),0,IFERROR(IF(E515+C514>0,E515+C514,0)*VLOOKUP(MONTH(B514),'NRI (Auto)'!$O$6:$Q$17,3,0),\"\"))","v":""},{"$f":"IFERROR(IF(NRI!$P$2-E514<=0,NRI!$P$3,NRI!$P$2-E514),\"\")","v":""},{"$error":"#DIV/0!"}]
[7,{"$f":"DATE(NRI!$A$4+INT((ROW()-4)/12),MOD(ROW()-4,12),1)","v":"2028-07-01"},{"$f":"OFFSET(NRI!$A$3,1+INT((ROW()-5)/12),A515,1,1)","v":""},"",{"$f":"IF(AND(C516=\"\",C515<>\"\"),0,IFERROR(IF(E516+C515>0,E516+C515,0)*VLOOKUP(MONTH(B515),'NRI (Auto)'!$O$6:$Q$17,3,0),\"\"))","v":""},{"$f":"IFERROR(IF(NRI!$P$2-E515<=0,NRI!$P$3,NRI!$P$2-E515),\"\")","v":""},{"$error":"#DIV/0!"}]
[8,{"$f":"DATE(NRI!$A$4+INT((ROW()-4)/12),MOD(ROW()-4,12),1)","v":"2028-08-01"},{"$f":"OFFSET(NRI!$A$3,1+INT((ROW()-5)/12),A516,1,1)","v":""},"",{"$f":"IF(AND(C517=\"\",C516<>\"\"),0,IFERROR(IF(E517+C516>0,E517+C516,0)*VLOOKUP(MONTH(B516),'NRI (Auto)'!$O$6:$Q$17,3,0),\"\"))","v":""},{"$f":"IFERROR(IF(NRI!$P$2-E516<=0,NRI!$P$3,NRI!$P$2-E516),\"\")","v":""},{"$error":"#DIV/0!"}]
[9,{"$f":"DATE(NRI!$A$4+INT((ROW()-4)/12),MOD(ROW()-4,12),1)","v":"2028-09-01"},{"$f":"OFFSET(NRI!$A$3,1+INT((ROW()-5)/12),A517,1,1)","v":""},"",{"$f":"IF(AND(C518=\"\",C517<>\"\"),0,IFERROR(IF(E518+C517>0,E518+C517,0)*VLOOKUP(MONTH(B517),'NRI (Auto)'!$O$6:$Q$17,3,0),\"\"))","v":""},{"$f":"IFERROR(IF(NRI!$P$2-E517<=0,NRI!$P$3,NRI!$P$2-E517),\"\")","v":""},{"$error":"#DIV/0!"}]
[10,{"$f":"DATE(NRI!$A$4+INT((ROW()-4)/12),MOD(ROW()-4,12),1)","v":"2028-10-01"},{"$f":"OFFSET(NRI!$A$3,1+INT((ROW()-5)/12),A518,1,1)","v":""},{"$f":"IFERROR(IF(D517+C518>0,D517+C518,0),\"\")","v":""},{"$f":"IF(AND(C519=\"\",C518<>\"\"),0,IFERROR(IF(E519+C518>0,E519+C518,0)*VLOOKUP(MONTH(B518),'NRI (Auto)'!$O$6:$Q$17,3,0),\"\"))","v":""},{"$f":"IFERROR(IF(NRI!$P$2-E518<=0,NRI!$P$3,NRI!$P$2-E518),\"\")","v":""},{"$error":"#DIV/0!"}]
[11,{"$f":"DATE(NRI!$A$4+INT((ROW()-4)/12),MOD(ROW()-4,12),1)","v":"2028-11-01"},{"$f":"OFFSET(NRI!$A$3,1+INT((ROW()-5)/12),A519,1,1)","v":""},"",{"$f":"IF(AND(C520=\"\",C519<>\"\"),0,IFERROR(IF(E520+C519>0,E520+C519,0)*VLOOKUP(MONTH(B519),'NRI (Auto)'!$O$6:$Q$17,3,0),\"\"))","v":""},{"$f":"IFERROR(IF(NRI!$P$2-E519<=0,NRI!$P$3,NRI!$P$2-E519),\"\")","v":""},{"$error":"#DIV/0!"}]
[12,{"$f":"DATE(NRI!$A$4+INT((ROW()-4)/12),MOD(ROW()-4,12),1)","v":"2028-12-01"},{"$f":"OFFSET(NRI!$A$3,1+INT((ROW()-5)/12),A520,1,1)","v":""},"",{"$f":"IF(AND(C521=\"\",C520<>\"\"),0,IFERROR(IF(E521+C520>0,E521+C520,0)*VLOOKUP(MONTH(B520),'NRI (Auto)'!$O$6:$Q$17,3,0),\"\"))","v":""},{"$f":"IFERROR(IF(NRI!$P$2-E520<=0,NRI!$P$3,NRI!$P$2-E520),\"\")","v":""},{"$error":"#DIV/0!"}]
[1,{"$f":"DATE(NRI!$A$4+INT((ROW()-4)/12),MOD(ROW()-4,12),1)","v":"2029-01-01"},{"$f":"OFFSET(NRI!$A$3,1+INT((ROW()-5)/12),A521,1,1)","v":""},"",{"$f":"IF(AND(C522=\"\",C521<>\"\"),0,IFERROR(IF(E522+C521>0,E522+C521,0)*VLOOKUP(MONTH(B521),'NRI (Auto)'!$O$6:$Q$17,3,0),\"\"))","v":""},{"$f":"IFERROR(IF(NRI!$P$2-E521<=0,NRI!$P$3,NRI!$P$2-E521),\"\")","v":""},{"$error":"#DIV/0!"}]
[2,{"$f":"DATE(NRI!$A$4+INT((ROW()-4)/12),MOD(ROW()-4,12),1)","v":"2029-02-01"},{"$f":"OFFSET(NRI!$A$3,1+INT((ROW()-5)/12),A522,1,1)","v":""},"",{"$f":"IF(AND(C523=\"\",C522<>\"\"),0,IFERROR(IF(E523+C522>0,E523+C522,0)*VLOOKUP(MONTH(B522),'NRI (Auto)'!$O$6:$Q$17,3,0),\"\"))","v":""},{"$f":"IFERROR(IF(NRI!$P$2-E522<=0,NRI!$P$3,NRI!$P$2-E522),\"\")","v":""},{"$error":"#DIV/0!"}]
[3,{"$f":"DATE(NRI!$A$4+INT((ROW()-4)/12),MOD(ROW()-4,12),1)","v":"2029-03-01"},{"$f":"OFFSET(NRI!$A$3,1+INT((ROW()-5)/12),A523,1,1)","v":""},"",{"$f":"IF(AND(C524=\"\",C523<>\"\"),0,IFERROR(IF(E524+C523>0,E524+C523,0)*VLOOKUP(MONTH(B523),'NRI (Auto)'!$O$6:$Q$17,3,0),\"\"))","v":""},{"$f":"IFERROR(IF(NRI!$P$2-E523<=0,NRI!$P$3,NRI!$P$2-E523),\"\")","v":""},{"$error":"#DIV/0!"}]
[4,{"$f":"DATE(NRI!$A$4+INT((ROW()-4)/12),MOD(ROW()-4,12),1)","v":"2029-04-01"},{"$f":"OFFSET(NRI!$A$3,1+INT((ROW()-5)/12),A524,1,1)","v":""},"",{"$f":"IF(AND(C525=\"\",C524<>\"\"),0,IFERROR(IF(E525+C524>0,E525+C524,0)*VLOOKUP(MONTH(B524),'NRI (Auto)'!$O$6:$Q$17,3,0),\"\"))","v":""},{"$f":"IFERROR(IF(NRI!$P$2-E524<=0,NRI!$P$3,NRI!$P$2-E524),\"\")","v":""},{"$error":"#DIV/0!"}]
[5,{"$f":"DATE(NRI!$A$4+INT((ROW()-4)/12),MOD(ROW()-4,12),1)","v":"2029-05-01"},{"$f":"OFFSET(NRI!$A$3,1+INT((ROW()-5)/12),A525,1,1)","v":""},"",{"$f":"IF(AND(C526=\"\",C525<>\"\"),0,IFERROR(IF(E526+C525>0,E526+C525,0)*VLOOKUP(MONTH(B525),'NRI (Auto)'!$O$6:$Q$17,3,0),\"\"))","v":""},{"$f":"IFERROR(IF(NRI!$P$2-E525<=0,NRI!$P$3,NRI!$P$2-E525),\"\")","v":""},{"$error":"#DIV/0!"}]
[6,{"$f":"DATE(NRI!$A$4+INT((ROW()-4)/12),MOD(ROW()-4,12),1)","v":"2029-06-01"},{"$f":"OFFSET(NRI!$A$3,1+INT((ROW()-5)/12),A526,1,1)","v":""},"",{"$f":"IF(AND(C527=\"\",C526<>\"\"),0,IFERROR(IF(E527+C526>0,E527+C526,0)*VLOOKUP(MONTH(B526),'NRI (Auto)'!$O$6:$Q$17,3,0),\"\"))","v":""},{"$f":"IFERROR(IF(NRI!$P$2-E526<=0,NRI!$P$3,NRI!$P$2-E526),\"\")","v":""},{"$error":"#DIV/0!"}]
[7,{"$f":"DATE(NRI!$A$4+INT((ROW()-4)/12),MOD(ROW()-4,12),1)","v":"2029-07-01"},{"$f":"OFFSET(NRI!$A$3,1+INT((ROW()-5)/12),A527,1,1)","v":""},"",{"$f":"IF(AND(C528=\"\",C527<>\"\"),0,IFERROR(IF(E528+C527>0,E528+C527,0)*VLOOKUP(MONTH(B527),'NRI (Auto)'!$O$6:$Q$17,3,0),\"\"))","v":""},{"$f":"IFERROR(IF(NRI!$P$2-E527<=0,NRI!$P$3,NRI!$P$2-E527),\"\")","v":""},{"$error":"#DIV/0!"}]
[8,{"$f":"DATE(NRI!$A$4+INT((ROW()-4)/12),MOD(ROW()-4,12),1)","v":"2029-08-01"},{"$f":"OFFSET(NRI!$A$3,1+INT((ROW()-5)/12),A528,1,1)","v":""},"",{"$f":"IF(AND(C529=\"\",C528<>\"\"),0,IFERROR(IF(E529+C528>0,E529+C528,0)*VLOOKUP(MONTH(B528),'NRI (Auto)'!$O$6:$Q$17,3,0),\"\"))","v":""},{"$f":"IFERROR(IF(NRI!$P$2-E528<=0,NRI!$P$3,NRI!$P$2-E528),\"\")","v":""},{"$error":"#DIV/0!"}]
[9,{"$f":"DATE(NRI!$A$4+INT((ROW()-4)/12),MOD(ROW()-4,12),1)","v":"2029-09-01"},{"$f":"OFFSET(NRI!$A$3,1+INT((ROW()-5)/12),A529,1,1)","v":""},"",{"$f":"IF(AND(C530=\"\",C529<>\"\"),0,IFERROR(IF(E530+C529>0,E530+C529,0)*VLOOKUP(MONTH(B529),'NRI (Auto)'!$O$6:$Q$17,3,0),\"\"))","v":""},{"$f":"IFERROR(IF(NRI!$P$2-E529<=0,NRI!$P$3,NRI!$P$2-E529),\"\")","v":""},{"$error":"#DIV/0!"}]
[{"$f":"+A518","v":10},{"$f":"DATE(NRI!$A$4+INT((ROW()-4)/12),MOD(ROW()-4,12),1)","v":"2029-10-01"},{"$f":"OFFSET(NRI!$A$3,1+INT((ROW()-5)/12),A530,1,1)","v":""},"",{"$f":"IF(AND(C531=\"\",C530<>\"\"),0,IFERROR(IF(E531+C530>0,E531+C530,0)*VLOOKUP(MONTH(B530),'NRI (Auto)'!$O$6:$Q$17,3,0),\"\"))","v":""},{"$f":"IFERROR(IF(NRI!$P$2-E530<=0,NRI!$P$3,NRI!$P$2-E530),\"\")","v":""},{"$f":"+G518","v":{"$error":"#DIV/0!"}}]
[11,{"$f":"DATE(NRI!$A$4+INT((ROW()-4)/12),MOD(ROW()-4,12),1)","v":"2029-11-01"},{"$f":"OFFSET(NRI!$A$3,1+INT((ROW()-5)/12),A531,1,1)","v":""},"",{"$f":"IF(AND(C532=\"\",C531<>\"\"),0,IFERROR(IF(E532+C531>0,E532+C531,0)*VLOOKUP(MONTH(B531),'NRI (Auto)'!$O$6:$Q$17,3,0),\"\"))","v":""},{"$f":"IFERROR(IF(NRI!$P$2-E531<=0,NRI!$P$3,NRI!$P$2-E531),\"\")","v":""},{"$error":"#DIV/0!"}]
[12,{"$f":"DATE(NRI!$A$4+INT((ROW()-4)/12),MOD(ROW()-4,12),1)","v":"2029-12-01"},{"$f":"OFFSET(NRI!$A$3,1+INT((ROW()-5)/12),A532,1,1)","v":""},"",{"$f":"IF(AND(C533=\"\",C532<>\"\"),0,IFERROR(IF(E533+C532>0,E533+C532,0)*VLOOKUP(MONTH(B532),'NRI (Auto)'!$O$6:$Q$17,3,0),\"\"))","v":""},{"$f":"IFERROR(IF(NRI!$P$2-E532<=0,NRI!$P$3,NRI!$P$2-E532),\"\")","v":""},{"$error":"#DIV/0!"}]
[1,{"$f":"DATE(NRI!$A$4+INT((ROW()-4)/12),MOD(ROW()-4,12),1)","v":"2030-01-01"},{"$f":"OFFSET(NRI!$A$3,1+INT((ROW()-5)/12),A533,1,1)","v":""},"",{"$f":"IF(AND(C534=\"\",C533<>\"\"),0,IFERROR(IF(E534+C533>0,E534+C533,0)*VLOOKUP(MONTH(B533),'NRI (Auto)'!$O$6:$Q$17,3,0),\"\"))","v":""},{"$f":"IFERROR(IF(NRI!$P$2-E533<=0,NRI!$P$3,NRI!$P$2-E533),\"\")","v":""},{"$error":"#DIV/0!"}]
[2,{"$f":"DATE(NRI!$A$4+INT((ROW()-4)/12),MOD(ROW()-4,12),1)","v":"2030-02-01"},{"$f":"OFFSET(NRI!$A$3,1+INT((ROW()-5)/12),A534,1,1)","v":""},"",{"$f":"IF(AND(C535=\"\",C534<>\"\"),0,IFERROR(IF(E535+C534>0,E535+C534,0)*VLOOKUP(MONTH(B534),'NRI (Auto)'!$O$6:$Q$17,3,0),\"\"))","v":""},{"$f":"IFERROR(IF(NRI!$P$2-E534<=0,NRI!$P$3,NRI!$P$2-E534),\"\")","v":""},{"$error":"#DIV/0!"}]
[3,{"$f":"DATE(NRI!$A$4+INT((ROW()-4)/12),MOD(ROW()-4,12),1)","v":"2030-03-01"},{"$f":"OFFSET(NRI!$A$3,1+INT((ROW()-5)/12),A535,1,1)","v":""},"",{"$f":"IF(AND(C536=\"\",C535<>\"\"),0,IFERROR(IF(E536+C535>0,E536+C535,0)*VLOOKUP(MONTH(B535),'NRI (Auto)'!$O$6:$Q$17,3,0),\"\"))","v":""},{"$f":"IFERROR(IF(NRI!$P$2-E535<=0,NRI!$P$3,NRI!$P$2-E535),\"\")","v":""},{"$error":"#DIV/0!"}]
[4,{"$f":"DATE(NRI!$A$4+INT((ROW()-4)/12),MOD(ROW()-4,12),1)","v":"2030-04-01"},{"$f":"OFFSET(NRI!$A$3,1+INT((ROW()-5)/12),A536,1,1)","v":""},"",{"$f":"IF(AND(C537=\"\",C536<>\"\"),0,IFERROR(IF(E537+C536>0,E537+C536,0)*VLOOKUP(MONTH(B536),'NRI (Auto)'!$O$6:$Q$17,3,0),\"\"))","v":""},{"$f":"IFERROR(IF(NRI!$P$2-E536<=0,NRI!$P$3,NRI!$P$2-E536),\"\")","v":""},{"$error":"#DIV/0!"}]
[5,{"$f":"DATE(NRI!$A$4+INT((ROW()-4)/12),MOD(ROW()-4,12),1)","v":"2030-05-01"},{"$f":"OFFSET(NRI!$A$3,1+INT((ROW()-5)/12),A537,1,1)","v":""},"",{"$f":"IF(AND(C538=\"\",C537<>\"\"),0,IFERROR(IF(E538+C537>0,E538+C537,0)*VLOOKUP(MONTH(B537),'NRI (Auto)'!$O$6:$Q$17,3,0),\"\"))","v":""},{"$f":"IFERROR(IF(NRI!$P$2-E537<=0,NRI!$P$3,NRI!$P$2-E537),\"\")","v":""},{"$error":"#DIV/0!"}]
[6,{"$f":"DATE(NRI!$A$4+INT((ROW()-4)/12),MOD(ROW()-4,12),1)","v":"2030-06-01"},{"$f":"OFFSET(NRI!$A$3,1+INT((ROW()-5)/12),A538,1,1)","v":""},"",{"$f":"IF(AND(C539=\"\",C538<>\"\"),0,IFERROR(IF(E539+C538>0,E539+C538,0)*VLOOKUP(MONTH(B538),'NRI (Auto)'!$O$6:$Q$17,3,0),\"\"))","v":""},{"$f":"IFERROR(IF(NRI!$P$2-E538<=0,NRI!$P$3,NRI!$P$2-E538),\"\")","v":""},{"$error":"#DIV/0!"}]
[7,{"$f":"DATE(NRI!$A$4+INT((ROW()-4)/12),MOD(ROW()-4,12),1)","v":"2030-07-01"},{"$f":"OFFSET(NRI!$A$3,1+INT((ROW()-5)/12),A539,1,1)","v":""},"",{"$f":"IF(AND(C540=\"\",C539<>\"\"),0,IFERROR(IF(E540+C539>0,E540+C539,0)*VLOOKUP(MONTH(B539),'NRI (Auto)'!$O$6:$Q$17,3,0),\"\"))","v":""},{"$f":"IFERROR(IF(NRI!$P$2-E539<=0,NRI!$P$3,NRI!$P$2-E539),\"\")","v":""},{"$error":"#DIV/0!"}]
[8,{"$f":"DATE(NRI!$A$4+INT((ROW()-4)/12),MOD(ROW()-4,12),1)","v":"2030-08-01"},{"$f":"OFFSET(NRI!$A$3,1+INT((ROW()-5)/12),A540,1,1)","v":""},"",{"$f":"IF(AND(C541=\"\",C540<>\"\"),0,IFERROR(IF(E541+C540>0,E541+C540,0)*VLOOKUP(MONTH(B540),'NRI (Auto)'!$O$6:$Q$17,3,0),\"\"))","v":""},{"$f":"IFERROR(IF(NRI!$P$2-E540<=0,NRI!$P$3,NRI!$P$2-E540),\"\")","v":""},{"$error":"#DIV/0!"}]
[9,{"$f":"DATE(NRI!$A$4+INT((ROW()-4)/12),MOD(ROW()-4,12),1)","v":"2030-09-01"},{"$f":"OFFSET(NRI!$A$3,1+INT((ROW()-5)/12),A541,1,1)","v":""},"",{"$f":"IF(AND(C542=\"\",C541<>\"\"),0,IFERROR(IF(E542+C541>0,E542+C541,0)*VLOOKUP(MONTH(B541),'NRI (Auto)'!$O$6:$Q$17,3,0),\"\"))","v":""},{"$f":"IFERROR(IF(NRI!$P$2-E541<=0,NRI!$P$3,NRI!$P$2-E541),\"\")","v":""},{"$error":"#DIV/0!"}]
[10,{"$f":"DATE(NRI!$A$4+INT((ROW()-4)/12),MOD(ROW()-4,12),1)","v":"2030-10-01"},{"$f":"OFFSET(NRI!$A$3,1+INT((ROW()-5)/12),A542,1,1)","v":""},"",{"$f":"IF(AND(C543=\"\",C542<>\"\"),0,IFERROR(IF(E543+C542>0,E543+C542,0)*VLOOKUP(MONTH(B542),'NRI (Auto)'!$O$6:$Q$17,3,0),\"\"))","v":""},{"$f":"IFERROR(IF(NRI!$P$2-E542<=0,NRI!$P$3,NRI!$P$2-E542),\"\")","v":""},{"$error":"#DIV/0!"}]
[11,{"$f":"DATE(NRI!$A$4+INT((ROW()-4)/12),MOD(ROW()-4,12),1)","v":"2030-11-01"},{"$f":"OFFSET(NRI!$A$3,1+INT((ROW()-5)/12),A543,1,1)","v":""},"",{"$f":"IF(AND(C544=\"\",C543<>\"\"),0,IFERROR(IF(E544+C543>0,E544+C543,0)*VLOOKUP(MONTH(B543),'NRI (Auto)'!$O$6:$Q$17,3,0),\"\"))","v":""},{"$f":"IFERROR(IF(NRI!$P$2-E543<=0,NRI!$P$3,NRI!$P$2-E543),\"\")","v":""},{"$error":"#DIV/0!"}]
[12,{"$f":"DATE(NRI!$A$4+INT((ROW()-4)/12),MOD(ROW()-4,12),1)","v":"2030-12-01"},{"$f":"OFFSET(NRI!$A$3,1+INT((ROW()-5)/12),A544,1,1)","v":""},"",{"$f":"IF(AND(C545=\"\",C544<>\"\"),0,IFERROR(IF(E545+C544>0,E545+C544,0)*VLOOKUP(MONTH(B544),'NRI (Auto)'!$O$6:$Q$17,3,0),\"\"))","v":""},{"$f":"IFERROR(IF(NRI!$P$2-E544<=0,NRI!$P$3,NRI!$P$2-E544),\"\")","v":""},{"$error":"#DIV/0!"}]
[1,{"$f":"DATE(NRI!$A$4+INT((ROW()-4)/12),MOD(ROW()-4,12),1)","v":"2031-01-01"},{"$f":"OFFSET(NRI!$A$3,1+INT((ROW()-5)/12),A545,1,1)","v":""},"",{"$f":"IF(AND(C546=\"\",C545<>\"\"),0,IFERROR(IF(E546+C545>0,E546+C545,0)*VLOOKUP(MONTH(B545),'NRI (Auto)'!$O$6:$Q$17,3,0),\"\"))","v":""},{"$f":"IFERROR(IF(NRI!$P$2-E545<=0,NRI!$P$3,NRI!$P$2-E545),\"\")","v":""},{"$error":"#DIV/0!"}]
[2,{"$f":"DATE(NRI!$A$4+INT((ROW()-4)/12),MOD(ROW()-4,12),1)","v":"2031-02-01"},{"$f":"OFFSET(NRI!$A$3,1+INT((ROW()-5)/12),A546,1,1)","v":""},"",{"$f":"IF(AND(C547=\"\",C546<>\"\"),0,IFERROR(IF(E547+C546>0,E547+C546,0)*VLOOKUP(MONTH(B546),'NRI (Auto)'!$O$6:$Q$17,3,0),\"\"))","v":""},{"$f":"IFERROR(IF(NRI!$P$2-E546<=0,NRI!$P$3,NRI!$P$2-E546),\"\")","v":""},{"$error":"#DIV/0!"}]
[3,{"$f":"DATE(NRI!$A$4+INT((ROW()-4)/12),MOD(ROW()-4,12),1)","v":"2031-03-01"},{"$f":"OFFSET(NRI!$A$3,1+INT((ROW()-5)/12),A547,1,1)","v":""},"",{"$f":"IF(AND(C548=\"\",C547<>\"\"),0,IFERROR(IF(E548+C547>0,E548+C547,0)*VLOOKUP(MONTH(B547),'NRI (Auto)'!$O$6:$Q$17,3,0),\"\"))","v":""},{"$f":"IFERROR(IF(NRI!$P$2-E547<=0,NRI!$P$3,NRI!$P$2-E547),\"\")","v":""},{"$error":"#DIV/0!"}]
[4,{"$f":"DATE(NRI!$A$4+INT((ROW()-4)/12),MOD(ROW()-4,12),1)","v":"2031-04-01"},{"$f":"OFFSET(NRI!$A$3,1+INT((ROW()-5)/12),A548,1,1)","v":""},"",{"$f":"IF(AND(C549=\"\",C548<>\"\"),0,IFERROR(IF(E549+C548>0,E549+C548,0)*VLOOKUP(MONTH(B548),'NRI (Auto)'!$O$6:$Q$17,3,0),\"\"))","v":""},{"$f":"IFERROR(IF(NRI!$P$2-E548<=0,NRI!$P$3,NRI!$P$2-E548),\"\")","v":""},{"$error":"#DIV/0!"}]
[5,{"$f":"DATE(NRI!$A$4+INT((ROW()-4)/12),MOD(ROW()-4,12),1)","v":"2031-05-01"},{"$f":"OFFSET(NRI!$A$3,1+INT((ROW()-5)/12),A549,1,1)","v":""},"",{"$f":"IF(AND(C550=\"\",C549<>\"\"),0,IFERROR(IF(E550+C549>0,E550+C549,0)*VLOOKUP(MONTH(B549),'NRI (Auto)'!$O$6:$Q$17,3,0),\"\"))","v":""},{"$f":"IFERROR(IF(NRI!$P$2-E549<=0,NRI!$P$3,NRI!$P$2-E549),\"\")","v":""},{"$error":"#DIV/0!"}]
[6,{"$f":"DATE(NRI!$A$4+INT((ROW()-4)/12),MOD(ROW()-4,12),1)","v":"2031-06-01"},{"$f":"OFFSET(NRI!$A$3,1+INT((ROW()-5)/12),A550,1,1)","v":""},"",{"$f":"IF(AND(C551=\"\",C550<>\"\"),0,IFERROR(IF(E551+C550>0,E551+C550,0)*VLOOKUP(MONTH(B550),'NRI (Auto)'!$O$6:$Q$17,3,0),\"\"))","v":""},{"$f":"IFERROR(IF(NRI!$P$2-E550<=0,NRI!$P$3,NRI!$P$2-E550),\"\")","v":""},{"$error":"#DIV/0!"}]
[7,{"$f":"DATE(NRI!$A$4+INT((ROW()-4)/12),MOD(ROW()-4,12),1)","v":"2031-07-01"},{"$f":"OFFSET(NRI!$A$3,1+INT((ROW()-5)/12),A551,1,1)","v":""},"",{"$f":"IF(AND(C552=\"\",C551<>\"\"),0,IFERROR(IF(E552+C551>0,E552+C551,0)*VLOOKUP(MONTH(B551),'NRI (Auto)'!$O$6:$Q$17,3,0),\"\"))","v":""},{"$f":"IFERROR(IF(NRI!$P$2-E551<=0,NRI!$P$3,NRI!$P$2-E551),\"\")","v":""},{"$error":"#DIV/0!"}]
[8,{"$f":"DATE(NRI!$A$4+INT((ROW()-4)/12),MOD(ROW()-4,12),1)","v":"2031-08-01"},{"$f":"OFFSET(NRI!$A$3,1+INT((ROW()-5)/12),A552,1,1)","v":""},"",{"$f":"IF(AND(C553=\"\",C552<>\"\"),0,IFERROR(IF(E553+C552>0,E553+C552,0)*VLOOKUP(MONTH(B552),'NRI (Auto)'!$O$6:$Q$17,3,0),\"\"))","v":""},{"$f":"IFERROR(IF(NRI!$P$2-E552<=0,NRI!$P$3,NRI!$P$2-E552),\"\")","v":""},{"$error":"#DIV/0!"}]
[9,{"$f":"DATE(NRI!$A$4+INT((ROW()-4)/12),MOD(ROW()-4,12),1)","v":"2031-09-01"},{"$f":"OFFSET(NRI!$A$3,1+INT((ROW()-5)/12),A553,1,1)","v":""},"",{"$f":"IF(AND(C554=\"\",C553<>\"\"),0,IFERROR(IF(E554+C553>0,E554+C553,0)*VLOOKUP(MONTH(B553),'NRI (Auto)'!$O$6:$Q$17,3,0),\"\"))","v":""},{"$f":"IFERROR(IF(NRI!$P$2-E553<=0,NRI!$P$3,NRI!$P$2-E553),\"\")","v":""},{"$error":"#DIV/0!"}]
[10,{"$f":"DATE(NRI!$A$4+INT((ROW()-4)/12),MOD(ROW()-4,12),1)","v":"2031-10-01"},{"$f":"OFFSET(NRI!$A$3,1+INT((ROW()-5)/12),A554,1,1)","v":""},"",{"$f":"IF(AND(C555=\"\",C554<>\"\"),0,IFERROR(IF(E555+C554>0,E555+C554,0)*VLOOKUP(MONTH(B554),'NRI (Auto)'!$O$6:$Q$17,3,0),\"\"))","v":""},{"$f":"IFERROR(IF(NRI!$P$2-E554<=0,NRI!$P$3,NRI!$P$2-E554),\"\")","v":""},{"$error":"#DIV/0!"}]
[11,{"$f":"DATE(NRI!$A$4+INT((ROW()-4)/12),MOD(ROW()-4,12),1)","v":"2031-11-01"},{"$f":"OFFSET(NRI!$A$3,1+INT((ROW()-5)/12),A555,1,1)","v":""},"",{"$f":"IF(AND(C556=\"\",C555<>\"\"),0,IFERROR(IF(E556+C555>0,E556+C555,0)*VLOOKUP(MONTH(B555),'NRI (Auto)'!$O$6:$Q$17,3,0),\"\"))","v":""},{"$f":"IFERROR(IF(NRI!$P$2-E555<=0,NRI!$P$3,NRI!$P$2-E555),\"\")","v":""},{"$error":"#DIV/0!"}]
[12,{"$f":"DATE(NRI!$A$4+INT((ROW()-4)/12),MOD(ROW()-4,12),1)","v":"2031-12-01"},{"$f":"OFFSET(NRI!$A$3,1+INT((ROW()-5)/12),A556,1,1)","v":""},"",{"$f":"IF(AND(C557=\"\",C556<>\"\"),0,IFERROR(IF(E557+C556>0,E557+C556,0)*VLOOKUP(MONTH(B556),'NRI (Auto)'!$O$6:$Q$17,3,0),\"\"))","v":""},{"$f":"IFERROR(IF(NRI!$P$2-E556<=0,NRI!$P$3,NRI!$P$2-E556),\"\")","v":""},{"$error":"#DIV/0!"}]
[1,{"$f":"DATE(NRI!$A$4+INT((ROW()-4)/12),MOD(ROW()-4,12),1)","v":"2032-01-01"},{"$f":"OFFSET(NRI!$A$3,1+INT((ROW()-5)/12),A557,1,1)","v":""},"",{"$f":"IF(AND(C558=\"\",C557<>\"\"),0,IFERROR(IF(E558+C557>0,E558+C557,0)*VLOOKUP(MONTH(B557),'NRI (Auto)'!$O$6:$Q$17,3,0),\"\"))","v":""},{"$f":"IFERROR(IF(NRI!$P$2-E557<=0,NRI!$P$3,NRI!$P$2-E557),\"\")","v":""},{"$error":"#DIV/0!"}]
[2,{"$f":"DATE(NRI!$A$4+INT((ROW()-4)/12),MOD(ROW()-4,12),1)","v":"2032-02-01"},{"$f":"OFFSET(NRI!$A$3,1+INT((ROW()-5)/12),A558,1,1)","v":""},"",{"$f":"IF(AND(C559=\"\",C558<>\"\"),0,IFERROR(IF(E559+C558>0,E559+C558,0)*VLOOKUP(MONTH(B558),'NRI (Auto)'!$O$6:$Q$17,3,0),\"\"))","v":""},{"$f":"IFERROR(IF(NRI!$P$2-E558<=0,NRI!$P$3,NRI!$P$2-E558),\"\")","v":""},{"$error":"#DIV/0!"}]
[3,{"$f":"DATE(NRI!$A$4+INT((ROW()-4)/12),MOD(ROW()-4,12),1)","v":"2032-03-01"},{"$f":"OFFSET(NRI!$A$3,1+INT((ROW()-5)/12),A559,1,1)","v":""},"",{"$f":"IF(AND(C560=\"\",C559<>\"\"),0,IFERROR(IF(E560+C559>0,E560+C559,0)*VLOOKUP(MONTH(B559),'NRI (Auto)'!$O$6:$Q$17,3,0),\"\"))","v":""},{"$f":"IFERROR(IF(NRI!$P$2-E559<=0,NRI!$P$3,NRI!$P$2-E559),\"\")","v":""},{"$error":"#DIV/0!"}]
[4,{"$f":"DATE(NRI!$A$4+INT((ROW()-4)/12),MOD(ROW()-4,12),1)","v":"2032-04-01"},{"$f":"OFFSET(NRI!$A$3,1+INT((ROW()-5)/12),A560,1,1)","v":""},"",{"$f":"IF(AND(C561=\"\",C560<>\"\"),0,IFERROR(IF(E561+C560>0,E561+C560,0)*VLOOKUP(MONTH(B560),'NRI (Auto)'!$O$6:$Q$17,3,0),\"\"))","v":""},{"$f":"IFERROR(IF(NRI!$P$2-E560<=0,NRI!$P$3,NRI!$P$2-E560),\"\")","v":""},{"$error":"#DIV/0!"}]
[5,{"$f":"DATE(NRI!$A$4+INT((ROW()-4)/12),MOD(ROW()-4,12),1)","v":"2032-05-01"},{"$f":"OFFSET(NRI!$A$3,1+INT((ROW()-5)/12),A561,1,1)","v":""},"",{"$f":"IF(AND(C562=\"\",C561<>\"\"),0,IFERROR(IF(E562+C561>0,E562+C561,0)*VLOOKUP(MONTH(B561),'NRI (Auto)'!$O$6:$Q$17,3,0),\"\"))","v":""},{"$f":"IFERROR(IF(NRI!$P$2-E561<=0,NRI!$P$3,NRI!$P$2-E561),\"\")","v":""},{"$error":"#DIV/0!"}]
[6,{"$f":"DATE(NRI!$A$4+INT((ROW()-4)/12),MOD(ROW()-4,12),1)","v":"2032-06-01"},{"$f":"OFFSET(NRI!$A$3,1+INT((ROW()-5)/12),A562,1,1)","v":""},"",{"$f":"IF(AND(C563=\"\",C562<>\"\"),0,IFERROR(IF(E563+C562>0,E563+C562,0)*VLOOKUP(MONTH(B562),'NRI (Auto)'!$O$6:$Q$17,3,0),\"\"))","v":""},{"$f":"IFERROR(IF(NRI!$P$2-E562<=0,NRI!$P$3,NRI!$P$2-E562),\"\")","v":""},{"$error":"#DIV/0!"}]
[7,{"$f":"DATE(NRI!$A$4+INT((ROW()-4)/12),MOD(ROW()-4,12),1)","v":"2032-07-01"},{"$f":"OFFSET(NRI!$A$3,1+INT((ROW()-5)/12),A563,1,1)","v":""},"",{"$f":"IF(AND(C564=\"\",C563<>\"\"),0,IFERROR(IF(E564+C563>0,E564+C563,0)*VLOOKUP(MONTH(B563),'NRI (Auto)'!$O$6:$Q$17,3,0),\"\"))","v":""},{"$f":"IFERROR(IF(NRI!$P$2-E563<=0,NRI!$P$3,NRI!$P$2-E563),\"\")","v":""},{"$error":"#DIV/0!"}]
[8,{"$f":"DATE(NRI!$A$4+INT((ROW()-4)/12),MOD(ROW()-4,12),1)","v":"2032-08-01"},{"$f":"OFFSET(NRI!$A$3,1+INT((ROW()-5)/12),A564,1,1)","v":""},"",{"$f":"IF(AND(C565=\"\",C564<>\"\"),0,IFERROR(IF(E565+C564>0,E565+C564,0)*VLOOKUP(MONTH(B564),'NRI (Auto)'!$O$6:$Q$17,3,0),\"\"))","v":""},{"$f":"IFERROR(IF(NRI!$P$2-E564<=0,NRI!$P$3,NRI!$P$2-E564),\"\")","v":""},{"$error":"#DIV/0!"}]
[9,{"$f":"DATE(NRI!$A$4+INT((ROW()-4)/12),MOD(ROW()-4,12),1)","v":"2032-09-01"},{"$f":"OFFSET(NRI!$A$3,1+INT((ROW()-5)/12),A565,1,1)","v":""},"",{"$f":"IF(AND(C566=\"\",C565<>\"\"),0,IFERROR(IF(E566+C565>0,E566+C565,0)*VLOOKUP(MONTH(B565),'NRI (Auto)'!$O$6:$Q$17,3,0),\"\"))","v":""},{"$f":"IFERROR(IF(NRI!$P$2-E565<=0,NRI!$P$3,NRI!$P$2-E565),\"\")","v":""},{"$error":"#DIV/0!"}]
[10,{"$f":"DATE(NRI!$A$4+INT((ROW()-4)/12),MOD(ROW()-4,12),1)","v":"2032-10-01"},{"$f":"OFFSET(NRI!$A$3,1+INT((ROW()-5)/12),A566,1,1)","v":""},"",{"$f":"IF(AND(C567=\"\",C566<>\"\"),0,IFERROR(IF(E567+C566>0,E567+C566,0)*VLOOKUP(MONTH(B566),'NRI (Auto)'!$O$6:$Q$17,3,0),\"\"))","v":""},{"$f":"IFERROR(IF(NRI!$P$2-E566<=0,NRI!$P$3,NRI!$P$2-E566),\"\")","v":""},{"$error":"#DIV/0!"}]
[11,{"$f":"DATE(NRI!$A$4+INT((ROW()-4)/12),MOD(ROW()-4,12),1)","v":"2032-11-01"},{"$f":"OFFSET(NRI!$A$3,1+INT((ROW()-5)/12),A567,1,1)","v":""},"",{"$f":"IF(AND(C568=\"\",C567<>\"\"),0,IFERROR(IF(E568+C567>0,E568+C567,0)*VLOOKUP(MONTH(B567),'NRI (Auto)'!$O$6:$Q$17,3,0),\"\"))","v":""},{"$f":"IFERROR(IF(NRI!$P$2-E567<=0,NRI!$P$3,NRI!$P$2-E567),\"\")","v":""},{"$error":"#DIV/0!"}]
[12,{"$f":"DATE(NRI!$A$4+INT((ROW()-4)/12),MOD(ROW()-4,12),1)","v":"2032-12-01"},{"$f":"OFFSET(NRI!$A$3,1+INT((ROW()-5)/12),A568,1,1)","v":""},"",{"$f":"IF(AND(C569=\"\",C568<>\"\"),0,IFERROR(IF(E569+C568>0,E569+C568,0)*VLOOKUP(MONTH(B568),'NRI (Auto)'!$O$6:$Q$17,3,0),\"\"))","v":""},{"$f":"IFERROR(IF(NRI!$P$2-E568<=0,NRI!$P$3,NRI!$P$2-E568),\"\")","v":""},{"$error":"#DIV/0!"}]
[1,{"$f":"DATE(NRI!$A$4+INT((ROW()-4)/12),MOD(ROW()-4,12),1)","v":"2033-01-01"},{"$f":"OFFSET(NRI!$A$3,1+INT((ROW()-5)/12),A569,1,1)","v":""},"",{"$f":"IF(AND(C570=\"\",C569<>\"\"),0,IFERROR(IF(E570+C569>0,E570+C569,0)*VLOOKUP(MONTH(B569),'NRI (Auto)'!$O$6:$Q$17,3,0),\"\"))","v":""},{"$f":"IFERROR(IF(NRI!$P$2-E569<=0,NRI!$P$3,NRI!$P$2-E569),\"\")","v":""},{"$error":"#DIV/0!"}]
[2,{"$f":"DATE(NRI!$A$4+INT((ROW()-4)/12),MOD(ROW()-4,12),1)","v":"2033-02-01"},{"$f":"OFFSET(NRI!$A$3,1+INT((ROW()-5)/12),A570,1,1)","v":""},"",{"$f":"IF(AND(C571=\"\",C570<>\"\"),0,IFERROR(IF(E571+C570>0,E571+C570,0)*VLOOKUP(MONTH(B570),'NRI (Auto)'!$O$6:$Q$17,3,0),\"\"))","v":""},{"$f":"IFERROR(IF(NRI!$P$2-E570<=0,NRI!$P$3,NRI!$P$2-E570),\"\")","v":""},{"$error":"#DIV/0!"}]
[3,{"$f":"DATE(NRI!$A$4+INT((ROW()-4)/12),MOD(ROW()-4,12),1)","v":"2033-03-01"},{"$f":"OFFSET(NRI!$A$3,1+INT((ROW()-5)/12),A571,1,1)","v":""},"",{"$f":"IF(AND(C572=\"\",C571<>\"\"),0,IFERROR(IF(E572+C571>0,E572+C571,0)*VLOOKUP(MONTH(B571),'NRI (Auto)'!$O$6:$Q$17,3,0),\"\"))","v":""},{"$f":"IFERROR(IF(NRI!$P$2-E571<=0,NRI!$P$3,NRI!$P$2-E571),\"\")","v":""},{"$error":"#DIV/0!"}]
[4,{"$f":"DATE(NRI!$A$4+INT((ROW()-4)/12),MOD(ROW()-4,12),1)","v":"2033-04-01"},{"$f":"OFFSET(NRI!$A$3,1+INT((ROW()-5)/12),A572,1,1)","v":""},"",{"$f":"IF(AND(C573=\"\",C572<>\"\"),0,IFERROR(IF(E573+C572>0,E573+C572,0)*VLOOKUP(MONTH(B572),'NRI (Auto)'!$O$6:$Q$17,3,0),\"\"))","v":""},{"$f":"IFERROR(IF(NRI!$P$2-E572<=0,NRI!$P$3,NRI!$P$2-E572),\"\")","v":""},{"$error":"#DIV/0!"}]
[5,{"$f":"DATE(NRI!$A$4+INT((ROW()-4)/12),MOD(ROW()-4,12),1)","v":"2033-05-01"},{"$f":"OFFSET(NRI!$A$3,1+INT((ROW()-5)/12),A573,1,1)","v":""},"",{"$f":"IF(AND(C574=\"\",C573<>\"\"),0,IFERROR(IF(E574+C573>0,E574+C573,0)*VLOOKUP(MONTH(B573),'NRI (Auto)'!$O$6:$Q$17,3,0),\"\"))","v":""},{"$f":"IFERROR(IF(NRI!$P$2-E573<=0,NRI!$P$3,NRI!$P$2-E573),\"\")","v":""},{"$error":"#DIV/0!"}]
[6,{"$f":"DATE(NRI!$A$4+INT((ROW()-4)/12),MOD(ROW()-4,12),1)","v":"2033-06-01"},{"$f":"OFFSET(NRI!$A$3,1+INT((ROW()-5)/12),A574,1,1)","v":""},"",{"$f":"IF(AND(C575=\"\",C574<>\"\"),0,IFERROR(IF(E575+C574>0,E575+C574,0)*VLOOKUP(MONTH(B574),'NRI (Auto)'!$O$6:$Q$17,3,0),\"\"))","v":""},{"$f":"IFERROR(IF(NRI!$P$2-E574<=0,NRI!$P$3,NRI!$P$2-E574),\"\")","v":""},{"$error":"#DIV/0!"}]
[7,{"$f":"DATE(NRI!$A$4+INT((ROW()-4)/12),MOD(ROW()-4,12),1)","v":"2033-07-01"},{"$f":"OFFSET(NRI!$A$3,1+INT((ROW()-5)/12),A575,1,1)","v":""},"",{"$f":"IF(AND(C576=\"\",C575<>\"\"),0,IFERROR(IF(E576+C575>0,E576+C575,0)*VLOOKUP(MONTH(B575),'NRI (Auto)'!$O$6:$Q$17,3,0),\"\"))","v":""},{"$f":"IFERROR(IF(NRI!$P$2-E575<=0,NRI!$P$3,NRI!$P$2-E575),\"\")","v":""},{"$error":"#DIV/0!"}]
[8,{"$f":"DATE(NRI!$A$4+INT((ROW()-4)/12),MOD(ROW()-4,12),1)","v":"2033-08-01"},{"$f":"OFFSET(NRI!$A$3,1+INT((ROW()-5)/12),A576,1,1)","v":""},"",{"$f":"IF(AND(C577=\"\",C576<>\"\"),0,IFERROR(IF(E577+C576>0,E577+C576,0)*VLOOKUP(MONTH(B576),'NRI (Auto)'!$O$6:$Q$17,3,0),\"\"))","v":""},{"$f":"IFERROR(IF(NRI!$P$2-E576<=0,NRI!$P$3,NRI!$P$2-E576),\"\")","v":""},{"$error":"#DIV/0!"}]
[9,{"$f":"DATE(NRI!$A$4+INT((ROW()-4)/12),MOD(ROW()-4,12),1)","v":"2033-09-01"},{"$f":"OFFSET(NRI!$A$3,1+INT((ROW()-5)/12),A577,1,1)","v":""},"",{"$f":"IF(AND(C578=\"\",C577<>\"\"),0,IFERROR(IF(E578+C577>0,E578+C577,0)*VLOOKUP(MONTH(B577),'NRI (Auto)'!$O$6:$Q$17,3,0),\"\"))","v":""},{"$f":"IFERROR(IF(NRI!$P$2-E577<=0,NRI!$P$3,NRI!$P$2-E577),\"\")","v":""},{"$error":"#DIV/0!"}]
[10,{"$f":"DATE(NRI!$A$4+INT((ROW()-4)/12),MOD(ROW()-4,12),1)","v":"2033-10-01"},{"$f":"OFFSET(NRI!$A$3,1+INT((ROW()-5)/12),A578,1,1)","v":""},"",{"$f":"IF(AND(C579=\"\",C578<>\"\"),0,IFERROR(IF(E579+C578>0,E579+C578,0)*VLOOKUP(MONTH(B578),'NRI (Auto)'!$O$6:$Q$17,3,0),\"\"))","v":""},{"$f":"IFERROR(IF(NRI!$P$2-E578<=0,NRI!$P$3,NRI!$P$2-E578),\"\")","v":""},{"$error":"#DIV/0!"}]
[11,{"$f":"DATE(NRI!$A$4+INT((ROW()-4)/12),MOD(ROW()-4,12),1)","v":"2033-11-01"},{"$f":"OFFSET(NRI!$A$3,1+INT((ROW()-5)/12),A579,1,1)","v":""},"",{"$f":"IF(AND(C580=\"\",C579<>\"\"),0,IFERROR(IF(E580+C579>0,E580+C579,0)*VLOOKUP(MONTH(B579),'NRI (Auto)'!$O$6:$Q$17,3,0),\"\"))","v":""},{"$f":"IFERROR(IF(NRI!$P$2-E579<=0,NRI!$P$3,NRI!$P$2-E579),\"\")","v":""},{"$error":"#DIV/0!"}]
[12,{"$f":"DATE(NRI!$A$4+INT((ROW()-4)/12),MOD(ROW()-4,12),1)","v":"2033-12-01"},{"$f":"OFFSET(NRI!$A$3,1+INT((ROW()-5)/12),A580,1,1)","v":""},"",{"$f":"IF(AND(C581=\"\",C580<>\"\"),0,IFERROR(IF(E581+C580>0,E581+C580,0)*VLOOKUP(MONTH(B580),'NRI (Auto)'!$O$6:$Q$17,3,0),\"\"))","v":""},{"$f":"IFERROR(IF(NRI!$P$2-E580<=0,NRI!$P$3,NRI!$P$2-E580),\"\")","v":""},{"$error":"#DIV/0!"}]
[1,{"$f":"DATE(NRI!$A$4+INT((ROW()-4)/12),MOD(ROW()-4,12),1)","v":"2034-01-01"},{"$f":"OFFSET(NRI!$A$3,1+INT((ROW()-5)/12),A581,1,1)","v":""},"",{"$f":"IF(AND(C582=\"\",C581<>\"\"),0,IFERROR(IF(E582+C581>0,E582+C581,0)*VLOOKUP(MONTH(B581),'NRI (Auto)'!$O$6:$Q$17,3,0),\"\"))","v":""},{"$f":"IFERROR(IF(NRI!$P$2-E581<=0,NRI!$P$3,NRI!$P$2-E581),\"\")","v":""},{"$error":"#DIV/0!"}]
[2,{"$f":"DATE(NRI!$A$4+INT((ROW()-4)/12),MOD(ROW()-4,12),1)","v":"2034-02-01"},{"$f":"OFFSET(NRI!$A$3,1+INT((ROW()-5)/12),A582,1,1)","v":""},{"$f":"IFERROR(IF(D581+C582>0,D581+C582,0),\"\")","v":""},{"$f":"IF(AND(C583=\"\",C582<>\"\"),0,IFERROR(IF(E583+C582>0,E583+C582,0)*VLOOKUP(MONTH(B582),'NRI (Auto)'!$O$6:$Q$17,3,0),\"\"))","v":""},{"$f":"IFERROR(IF(NRI!$P$2-E582<=0,NRI!$P$3,NRI!$P$2-E582),\"\")","v":""},{"$error":"#DIV/0!"}]
[3,{"$f":"DATE(NRI!$A$4+INT((ROW()-4)/12),MOD(ROW()-4,12),1)","v":"2034-03-01"},{"$f":"OFFSET(NRI!$A$3,1+INT((ROW()-5)/12),A583,1,1)","v":""},"",{"$f":"IF(AND(C584=\"\",C583<>\"\"),0,IFERROR(IF(E584+C583>0,E584+C583,0)*VLOOKUP(MONTH(B583),'NRI (Auto)'!$O$6:$Q$17,3,0),\"\"))","v":""},{"$f":"IFERROR(IF(NRI!$P$2-E583<=0,NRI!$P$3,NRI!$P$2-E583),\"\")","v":""},{"$error":"#DIV/0!"}]
[4,{"$f":"DATE(NRI!$A$4+INT((ROW()-4)/12),MOD(ROW()-4,12),1)","v":"2034-04-01"},{"$f":"OFFSET(NRI!$A$3,1+INT((ROW()-5)/12),A584,1,1)","v":""},"",{"$f":"IF(AND(C585=\"\",C584<>\"\"),0,IFERROR(IF(E585+C584>0,E585+C584,0)*VLOOKUP(MONTH(B584),'NRI (Auto)'!$O$6:$Q$17,3,0),\"\"))","v":""},{"$f":"IFERROR(IF(NRI!$P$2-E584<=0,NRI!$P$3,NRI!$P$2-E584),\"\")","v":""},{"$error":"#DIV/0!"}]
[5,{"$f":"DATE(NRI!$A$4+INT((ROW()-4)/12),MOD(ROW()-4,12),1)","v":"2034-05-01"},{"$f":"OFFSET(NRI!$A$3,1+INT((ROW()-5)/12),A585,1,1)","v":""},"",{"$f":"IF(AND(C586=\"\",C585<>\"\"),0,IFERROR(IF(E586+C585>0,E586+C585,0)*VLOOKUP(MONTH(B585),'NRI (Auto)'!$O$6:$Q$17,3,0),\"\"))","v":""},{"$f":"IFERROR(IF(NRI!$P$2-E585<=0,NRI!$P$3,NRI!$P$2-E585),\"\")","v":""},{"$error":"#DIV/0!"}]
[6,{"$f":"DATE(NRI!$A$4+INT((ROW()-4)/12),MOD(ROW()-4,12),1)","v":"2034-06-01"},{"$f":"OFFSET(NRI!$A$3,1+INT((ROW()-5)/12),A586,1,1)","v":""},"",{"$f":"IF(AND(C587=\"\",C586<>\"\"),0,IFERROR(IF(E587+C586>0,E587+C586,0)*VLOOKUP(MONTH(B586),'NRI (Auto)'!$O$6:$Q$17,3,0),\"\"))","v":""},{"$f":"IFERROR(IF(NRI!$P$2-E586<=0,NRI!$P$3,NRI!$P$2-E586),\"\")","v":""},{"$error":"#DIV/0!"}]
[7,{"$f":"DATE(NRI!$A$4+INT((ROW()-4)/12),MOD(ROW()-4,12),1)","v":"2034-07-01"},{"$f":"OFFSET(NRI!$A$3,1+INT((ROW()-5)/12),A587,1,1)","v":""},"",{"$f":"IF(AND(C588=\"\",C587<>\"\"),0,IFERROR(IF(E588+C587>0,E588+C587,0)*VLOOKUP(MONTH(B587),'NRI (Auto)'!$O$6:$Q$17,3,0),\"\"))","v":""},{"$f":"IFERROR(IF(NRI!$P$2-E587<=0,NRI!$P$3,NRI!$P$2-E587),\"\")","v":""},{"$error":"#DIV/0!"}]
[8,{"$f":"DATE(NRI!$A$4+INT((ROW()-4)/12),MOD(ROW()-4,12),1)","v":"2034-08-01"},{"$f":"OFFSET(NRI!$A$3,1+INT((ROW()-5)/12),A588,1,1)","v":""},"",{"$f":"IF(AND(C589=\"\",C588<>\"\"),0,IFERROR(IF(E589+C588>0,E589+C588,0)*VLOOKUP(MONTH(B588),'NRI (Auto)'!$O$6:$Q$17,3,0),\"\"))","v":""},{"$f":"IFERROR(IF(NRI!$P$2-E588<=0,NRI!$P$3,NRI!$P$2-E588),\"\")","v":""},{"$error":"#DIV/0!"}]
[9,{"$f":"DATE(NRI!$A$4+INT((ROW()-4)/12),MOD(ROW()-4,12),1)","v":"2034-09-01"},{"$f":"OFFSET(NRI!$A$3,1+INT((ROW()-5)/12),A589,1,1)","v":""},"",{"$f":"IF(AND(C590=\"\",C589<>\"\"),0,IFERROR(IF(E590+C589>0,E590+C589,0)*VLOOKUP(MONTH(B589),'NRI (Auto)'!$O$6:$Q$17,3,0),\"\"))","v":""},{"$f":"IFERROR(IF(NRI!$P$2-E589<=0,NRI!$P$3,NRI!$P$2-E589),\"\")","v":""},{"$error":"#DIV/0!"}]
[10,{"$f":"DATE(NRI!$A$4+INT((ROW()-4)/12),MOD(ROW()-4,12),1)","v":"2034-10-01"},{"$f":"OFFSET(NRI!$A$3,1+INT((ROW()-5)/12),A590,1,1)","v":""},"",{"$f":"IF(AND(C591=\"\",C590<>\"\"),0,IFERROR(IF(E591+C590>0,E591+C590,0)*VLOOKUP(MONTH(B590),'NRI (Auto)'!$O$6:$Q$17,3,0),\"\"))","v":""},{"$f":"IFERROR(IF(NRI!$P$2-E590<=0,NRI!$P$3,NRI!$P$2-E590),\"\")","v":""},{"$error":"#DIV/0!"}]
[11,{"$f":"DATE(NRI!$A$4+INT((ROW()-4)/12),MOD(ROW()-4,12),1)","v":"2034-11-01"},{"$f":"OFFSET(NRI!$A$3,1+INT((ROW()-5)/12),A591,1,1)","v":""},"",{"$f":"IF(AND(C592=\"\",C591<>\"\"),0,IFERROR(IF(E592+C591>0,E592+C591,0)*VLOOKUP(MONTH(B591),'NRI (Auto)'!$O$6:$Q$17,3,0),\"\"))","v":""},{"$f":"IFERROR(IF(NRI!$P$2-E591<=0,NRI!$P$3,NRI!$P$2-E591),\"\")","v":""},{"$error":"#DIV/0!"}]
[12,{"$f":"DATE(NRI!$A$4+INT((ROW()-4)/12),MOD(ROW()-4,12),1)","v":"2034-12-01"},{"$f":"OFFSET(NRI!$A$3,1+INT((ROW()-5)/12),A592,1,1)","v":""},"",{"$f":"IF(AND(C593=\"\",C592<>\"\"),0,IFERROR(IF(E593+C592>0,E593+C592,0)*VLOOKUP(MONTH(B592),'NRI (Auto)'!$O$6:$Q$17,3,0),\"\"))","v":""},{"$f":"IFERROR(IF(NRI!$P$2-E592<=0,NRI!$P$3,NRI!$P$2-E592),\"\")","v":""},{"$error":"#DIV/0!"}]
[1,{"$f":"DATE(NRI!$A$4+INT((ROW()-4)/12),MOD(ROW()-4,12),1)","v":"2035-01-01"},{"$f":"OFFSET(NRI!$A$3,1+INT((ROW()-5)/12),A593,1,1)","v":""},"",{"$f":"IF(AND(C594=\"\",C593<>\"\"),0,IFERROR(IF(E594+C593>0,E594+C593,0)*VLOOKUP(MONTH(B593),'NRI (Auto)'!$O$6:$Q$17,3,0),\"\"))","v":""},{"$f":"IFERROR(IF(NRI!$P$2-E593<=0,NRI!$P$3,NRI!$P$2-E593),\"\")","v":""},{"$error":"#DIV/0!"}]
[{"$f":"+A582","v":2},{"$f":"DATE(NRI!$A$4+INT((ROW()-4)/12),MOD(ROW()-4,12),1)","v":"2035-02-01"},{"$f":"OFFSET(NRI!$A$3,1+INT((ROW()-5)/12),A594,1,1)","v":""},"",{"$f":"IF(AND(C595=\"\",C594<>\"\"),0,IFERROR(IF(E595+C594>0,E595+C594,0)*VLOOKUP(MONTH(B594),'NRI (Auto)'!$O$6:$Q$17,3,0),\"\"))","v":""},{"$f":"IFERROR(IF(NRI!$P$2-E594<=0,NRI!$P$3,NRI!$P$2-E594),\"\")","v":""},{"$f":"+G582","v":{"$error":"#DIV/0!"}}]
[3,{"$f":"DATE(NRI!$A$4+INT((ROW()-4)/12),MOD(ROW()-4,12),1)","v":"2035-03-01"},{"$f":"OFFSET(NRI!$A$3,1+INT((ROW()-5)/12),A595,1,1)","v":""},"",{"$f":"IF(AND(C596=\"\",C595<>\"\"),0,IFERROR(IF(E596+C595>0,E596+C595,0)*VLOOKUP(MONTH(B595),'NRI (Auto)'!$O$6:$Q$17,3,0),\"\"))","v":""},{"$f":"IFERROR(IF(NRI!$P$2-E595<=0,NRI!$P$3,NRI!$P$2-E595),\"\")","v":""},{"$error":"#DIV/0!"}]
[4,{"$f":"DATE(NRI!$A$4+INT((ROW()-4)/12),MOD(ROW()-4,12),1)","v":"2035-04-01"},{"$f":"OFFSET(NRI!$A$3,1+INT((ROW()-5)/12),A596,1,1)","v":""},"",{"$f":"IF(AND(C597=\"\",C596<>\"\"),0,IFERROR(IF(E597+C596>0,E597+C596,0)*VLOOKUP(MONTH(B596),'NRI (Auto)'!$O$6:$Q$17,3,0),\"\"))","v":""},{"$f":"IFERROR(IF(NRI!$P$2-E596<=0,NRI!$P$3,NRI!$P$2-E596),\"\")","v":""},{"$error":"#DIV/0!"}]
[5,{"$f":"DATE(NRI!$A$4+INT((ROW()-4)/12),MOD(ROW()-4,12),1)","v":"2035-05-01"},{"$f":"OFFSET(NRI!$A$3,1+INT((ROW()-5)/12),A597,1,1)","v":""},"",{"$f":"IF(AND(C598=\"\",C597<>\"\"),0,IFERROR(IF(E598+C597>0,E598+C597,0)*VLOOKUP(MONTH(B597),'NRI (Auto)'!$O$6:$Q$17,3,0),\"\"))","v":""},{"$f":"IFERROR(IF(NRI!$P$2-E597<=0,NRI!$P$3,NRI!$P$2-E597),\"\")","v":""},{"$error":"#DIV/0!"}]
[6,{"$f":"DATE(NRI!$A$4+INT((ROW()-4)/12),MOD(ROW()-4,12),1)","v":"2035-06-01"},{"$f":"OFFSET(NRI!$A$3,1+INT((ROW()-5)/12),A598,1,1)","v":""},"",{"$f":"IF(AND(C599=\"\",C598<>\"\"),0,IFERROR(IF(E599+C598>0,E599+C598,0)*VLOOKUP(MONTH(B598),'NRI (Auto)'!$O$6:$Q$17,3,0),\"\"))","v":""},{"$f":"IFERROR(IF(NRI!$P$2-E598<=0,NRI!$P$3,NRI!$P$2-E598),\"\")","v":""},{"$error":"#DIV/0!"}]
[7,{"$f":"DATE(NRI!$A$4+INT((ROW()-4)/12),MOD(ROW()-4,12),1)","v":"2035-07-01"},{"$f":"OFFSET(NRI!$A$3,1+INT((ROW()-5)/12),A599,1,1)","v":""},"",{"$f":"IF(AND(C600=\"\",C599<>\"\"),0,IFERROR(IF(E600+C599>0,E600+C599,0)*VLOOKUP(MONTH(B599),'NRI (Auto)'!$O$6:$Q$17,3,0),\"\"))","v":""},{"$f":"IFERROR(IF(NRI!$P$2-E599<=0,NRI!$P$3,NRI!$P$2-E599),\"\")","v":""},{"$error":"#DIV/0!"}]
[8,{"$f":"DATE(NRI!$A$4+INT((ROW()-4)/12),MOD(ROW()-4,12),1)","v":"2035-08-01"},{"$f":"OFFSET(NRI!$A$3,1+INT((ROW()-5)/12),A600,1,1)","v":""},"",{"$f":"IF(AND(C601=\"\",C600<>\"\"),0,IFERROR(IF(E601+C600>0,E601+C600,0)*VLOOKUP(MONTH(B600),'NRI (Auto)'!$O$6:$Q$17,3,0),\"\"))","v":""},{"$f":"IFERROR(IF(NRI!$P$2-E600<=0,NRI!$P$3,NRI!$P$2-E600),\"\")","v":""},{"$error":"#DIV/0!"}]
[9,{"$f":"DATE(NRI!$A$4+INT((ROW()-4)/12),MOD(ROW()-4,12),1)","v":"2035-09-01"},{"$f":"OFFSET(NRI!$A$3,1+INT((ROW()-5)/12),A601,1,1)","v":""},"",{"$f":"IF(AND(C602=\"\",C601<>\"\"),0,IFERROR(IF(E602+C601>0,E602+C601,0)*VLOOKUP(MONTH(B601),'NRI (Auto)'!$O$6:$Q$17,3,0),\"\"))","v":""},{"$f":"IFERROR(IF(NRI!$P$2-E601<=0,NRI!$P$3,NRI!$P$2-E601),\"\")","v":""},{"$error":"#DIV/0!"}]
[10,{"$f":"DATE(NRI!$A$4+INT((ROW()-4)/12),MOD(ROW()-4,12),1)","v":"2035-10-01"},{"$f":"OFFSET(NRI!$A$3,1+INT((ROW()-5)/12),A602,1,1)","v":""},"",{"$f":"IF(AND(C603=\"\",C602<>\"\"),0,IFERROR(IF(E603+C602>0,E603+C602,0)*VLOOKUP(MONTH(B602),'NRI (Auto)'!$O$6:$Q$17,3,0),\"\"))","v":""},{"$f":"IFERROR(IF(NRI!$P$2-E602<=0,NRI!$P$3,NRI!$P$2-E602),\"\")","v":""},{"$error":"#DIV/0!"}]
[11,{"$f":"DATE(NRI!$A$4+INT((ROW()-4)/12),MOD(ROW()-4,12),1)","v":"2035-11-01"},{"$f":"OFFSET(NRI!$A$3,1+INT((ROW()-5)/12),A603,1,1)","v":""},"",{"$f":"IF(AND(C604=\"\",C603<>\"\"),0,IFERROR(IF(E604+C603>0,E604+C603,0)*VLOOKUP(MONTH(B603),'NRI (Auto)'!$O$6:$Q$17,3,0),\"\"))","v":""},{"$f":"IFERROR(IF(NRI!$P$2-E603<=0,NRI!$P$3,NRI!$P$2-E603),\"\")","v":""},{"$error":"#DIV/0!"}]
[12,{"$f":"DATE(NRI!$A$4+INT((ROW()-4)/12),MOD(ROW()-4,12),1)","v":"2035-12-01"},{"$f":"OFFSET(NRI!$A$3,1+INT((ROW()-5)/12),A604,1,1)","v":""},"",{"$f":"IF(C604<>\"\",0,\"\")","v":""},{"$f":"IFERROR(IF(NRI!$P$2-E604<=0,NRI!$P$3,NRI!$P$2-E604),\"\")","v":""},{"$error":"#DIV/0!"}]
["Mean",null,{"$f":"AVERAGE(C5:C604)","v":0},{"$f":"AVERAGE(D5:D604)","v":0},{"$f":"AVERAGE(E5:E604)","v":0},{"$f":"AVERAGE(F5:F604)","v":0}]
["Stdev.",null,{"$f":"STDEV(C5:C604)","v":0},{"$f":"STDEV(D5:D604)","v":0},{"$f":"STDEV(E5:E604)","v":{"$error":"#DIV/0!"}},{"$f":"STDEV(F5:F604)","v":{"$error":"#DIV/0!"}}]
["Skewness",null,{"$f":"SKEW(C5:C604)","v":{"$error":"#DIV/0!"}},{"$f":"SKEW(D5:D604)","v":{"$error":"#DIV/0!"}},{"$f":"SKEW(E5:E604)","v":{"$error":"#DIV/0!"}},{"$f":"SKEW(F5:F604)","v":{"$error":"#DIV/0!"}}]

{"sheet":"LRC VAR","index":22,"n_rows":607,"n_cols":8,"rows_kept":607,"cut":false,"hidden":false,"merged":[]}
["Lower Rule Curve",null,"8/","9/","10/"]
["No.","Date","Surplus Outflow","Minimum Storage Requirement","Lower Line",null,"Average of Lower Line"]
[null,null,"(MCM)","(MCM)","(MCM)",null,"Month","Total"]
[0,null,null,null,null,null,"Jan",{"$f":"AVERAGEIF($A$5:$A$628,\"=\"&ROW()-3,$E$5:$E$628)","v":{"$error":"#DIV/0!"}}]
[1,{"$f":"'URC VAR'!B5","v":"1986-01-01"},{"$f":"IFERROR('URC VAR'!C5*-1,\"\")","v":0},{"$f":"IFERROR(IF(AND(C6=\"\",C5<>\"\"),0,IF(D6+C6>0,D6+C6,0)*VLOOKUP(MONTH(B5),'NRI (Auto)'!$R$6:$T$17,3,0)),\"\")","v":""},{"$f":"IFERROR(NRI!$P$3+D5,\"\")","v":""},{"$f":"'NRI (Auto)'!T6","v":{"$error":"#DIV/0!"}},"Feb",{"$error":"#DIV/0!"}]
[2,{"$f":"'URC VAR'!B6","v":"1986-02-01"},{"$f":"IFERROR('URC VAR'!C6*-1,\"\")","v":0},{"$f":"IFERROR(IF(AND(C7=\"\",C6<>\"\"),0,IF(D7+C7>0,D7+C7,0)*VLOOKUP(MONTH(B6),'NRI (Auto)'!$R$6:$T$17,3,0)),\"\")","v":""},{"$f":"IFERROR(NRI!$P$3+D6,\"\")","v":""},{"$f":"'NRI (Auto)'!T7","v":{"$error":"#DIV/0!"}},"Mar",{"$error":"#DIV/0!"}]
[3,{"$f":"'URC VAR'!B7","v":"1986-03-01"},{"$f":"IFERROR('URC VAR'!C7*-1,\"\")","v":0},{"$f":"IFERROR(IF(AND(C8=\"\",C7<>\"\"),0,IF(D8+C8>0,D8+C8,0)*VLOOKUP(MONTH(B7),'NRI (Auto)'!$R$6:$T$17,3,0)),\"\")","v":""},{"$f":"IFERROR(NRI!$P$3+D7,\"\")","v":""},{"$f":"'NRI (Auto)'!T8","v":{"$error":"#DIV/0!"}},"Apr",{"$error":"#DIV/0!"}]
[4,{"$f":"'URC VAR'!B8","v":"1986-04-01"},{"$f":"IFERROR('URC VAR'!C8*-1,\"\")","v":0},{"$f":"IFERROR(IF(AND(C9=\"\",C8<>\"\"),0,IF(D9+C9>0,D9+C9,0)*VLOOKUP(MONTH(B8),'NRI (Auto)'!$R$6:$T$17,3,0)),\"\")","v":""},{"$f":"IFERROR(NRI!$P$3+D8,\"\")","v":""},{"$f":"'NRI (Auto)'!T9","v":{"$error":"#DIV/0!"}},"May",{"$error":"#DIV/0!"}]
[5,{"$f":"'URC VAR'!B9","v":"1986-05-01"},{"$f":"IFERROR('URC VAR'!C9*-1,\"\")","v":0},{"$f":"IFERROR(IF(AND(C10=\"\",C9<>\"\"),0,IF(D10+C10>0,D10+C10,0)*VLOOKUP(MONTH(B9),'NRI (Auto)'!$R$6:$T$17,3,0)),\"\")","v":""},{"$f":"IFERROR(NRI!$P$3+D9,\"\")","v":""},{"$f":"'NRI (Auto)'!T10","v":{"$error":"#DIV/0!"}},"Jun",{"$error":"#DIV/0!"}]
[6,{"$f":"'URC VAR'!B10","v":"1986-06-01"},{"$f":"IFERROR('URC VAR'!C10*-1,\"\")","v":0},{"$f":"IFERROR(IF(AND(C11=\"\",C10<>\"\"),0,IF(D11+C11>0,D11+C11,0)*VLOOKUP(MONTH(B10),'NRI (Auto)'!$R$6:$T$17,3,0)),\"\")","v":""},{"$f":"IFERROR(NRI!$P$3+D10,\"\")","v":""},{"$f":"'NRI (Auto)'!T11","v":{"$error":"#DIV/0!"}},"Jul",{"$error":"#DIV/0!"}]
[7,{"$f":"'URC VAR'!B11","v":"1986-07-01"},{"$f":"IFERROR('URC VAR'!C11*-1,\"\")","v":0},{"$f":"IFERROR(IF(AND(C12=\"\",C11<>\"\"),0,IF(D12+C12>0,D12+C12,0)*VLOOKUP(MONTH(B11),'NRI (Auto)'!$R$6:$T$17,3,0)),\"\")","v":""},{"$f":"IFERROR(NRI!$P$3+D11,\"\")","v":""},{"$f":"'NRI (Auto)'!T12","v":{"$error":"#DIV/0!"}},"Aug",{"$error":"#DIV/0!"}]
[8,{"$f":"'URC VAR'!B12","v":"1986-08-01"},{"$f":"IFERROR('URC VAR'!C12*-1,\"\")","v":0},{"$f":"IFERROR(IF(AND(C13=\"\",C12<>\"\"),0,IF(D13+C13>0,D13+C13,0)*VLOOKUP(MONTH(B12),'NRI (Auto)'!$R$6:$T$17,3,0)),\"\")","v":""},{"$f":"IFERROR(NRI!$P$3+D12,\"\")","v":""},{"$f":"'NRI (Auto)'!T13","v":{"$error":"#DIV/0!"}},"Sep",{"$error":"#DIV/0!"}]
[9,{"$f":"'URC VAR'!B13","v":"1986-09-01"},{"$f":"IFERROR('URC VAR'!C13*-1,\"\")","v":0},{"$f":"IFERROR(IF(AND(C14=\"\",C13<>\"\"),0,IF(D14+C14>0,D14+C14,0)*VLOOKUP(MONTH(B13),'NRI (Auto)'!$R$6:$T$17,3,0)),\"\")","v":""},{"$f":"IFERROR(NRI!$P$3+D13,\"\")","v":""},{"$f":"'NRI (Auto)'!T14","v":{"$error":"#DIV/0!"}},"Oct",{"$error":"#DIV/0!"}]
[10,{"$f":"'URC VAR'!B14","v":"1986-10-01"},{"$f":"IFERROR('URC VAR'!C14*-1,\"\")","v":0},{"$f":"IFERROR(IF(AND(C15=\"\",C14<>\"\"),0,IF(D15+C15>0,D15+C15,0)*VLOOKUP(MONTH(B14),'NRI (Auto)'!$R$6:$T$17,3,0)),\"\")","v":""},{"$f":"IFERROR(NRI!$P$3+D14,\"\")","v":""},{"$f":"'NRI (Auto)'!T15","v":{"$error":"#DIV/0!"}},"Nov",{"$error":"#DIV/0!"}]
[11,{"$f":"'URC VAR'!B15","v":"1986-11-01"},{"$f":"IFERROR('URC VAR'!C15*-1,\"\")","v":0},{"$f":"IFERROR(IF(AND(C16=\"\",C15<>\"\"),0,IF(D16+C16>0,D16+C16,0)*VLOOKUP(MONTH(B15),'NRI (Auto)'!$R$6:$T$17,3,0)),\"\")","v":""},{"$f":"IFERROR(NRI!$P$3+D15,\"\")","v":""},{"$f":"'NRI (Auto)'!T16","v":{"$error":"#DIV/0!"}},"Dec",0]
[12,{"$f":"'URC VAR'!B16","v":"1986-12-01"},{"$f":"IFERROR('URC VAR'!C16*-1,\"\")","v":0},{"$f":"IFERROR(IF(AND(C17=\"\",C16<>\"\"),0,IF(D17+C17>0,D17+C17,0)*VLOOKUP(MONTH(B16),'NRI (Auto)'!$R$6:$T$17,3,0)),\"\")","v":""},{"$f":"IFERROR(NRI!$P$3+D16,\"\")","v":""},{"$f":"'NRI (Auto)'!T17","v":{"$error":"#DIV/0!"}},{"$f":"G4","v":"Jan"},{"$f":"H4","v":{"$error":"#DIV/0!"}}]
[{"$f":"+A5","v":1},{"$f":"'URC VAR'!B17","v":"1987-01-01"},{"$f":"IFERROR('URC VAR'!C17*-1,\"\")","v":0},{"$f":"IFERROR(IF(AND(C18=\"\",C17<>\"\"),0,IF(D18+C18>0,D18+C18,0)*VLOOKUP(MONTH(B17),'NRI (Auto)'!$R$6:$T$17,3,0)),\"\")","v":""},{"$f":"IFERROR(NRI!$P$3+D17,\"\")","v":""},{"$f":"+F5","v":{"$error":"#DIV/0!"}}]
[{"$f":"+A6","v":2},{"$f":"'URC VAR'!B18","v":"1987-02-01"},{"$f":"IFERROR('URC VAR'!C18*-1,\"\")","v":0},{"$f":"IFERROR(IF(AND(C19=\"\",C18<>\"\"),0,IF(D19+C19>0,D19+C19,0)*VLOOKUP(MONTH(B18),'NRI (Auto)'!$R$6:$T$17,3,0)),\"\")","v":""},{"$f":"IFERROR(NRI!$P$3+D18,\"\")","v":""},{"$f":"+F6","v":{"$error":"#DIV/0!"}}]
[3,{"$f":"'URC VAR'!B19","v":"1987-03-01"},{"$f":"IFERROR('URC VAR'!C19*-1,\"\")","v":0},{"$f":"IFERROR(IF(AND(C20=\"\",C19<>\"\"),0,IF(D20+C20>0,D20+C20,0)*VLOOKUP(MONTH(B19),'NRI (Auto)'!$R$6:$T$17,3,0)),\"\")","v":""},{"$f":"IFERROR(NRI!$P$3+D19,\"\")","v":""},{"$error":"#DIV/0!"}]
[4,{"$f":"'URC VAR'!B20","v":"1987-04-01"},{"$f":"IFERROR('URC VAR'!C20*-1,\"\")","v":0},{"$f":"IFERROR(IF(AND(C21=\"\",C20<>\"\"),0,IF(D21+C21>0,D21+C21,0)*VLOOKUP(MONTH(B20),'NRI (Auto)'!$R$6:$T$17,3,0)),\"\")","v":""},{"$f":"IFERROR(NRI!$P$3+D20,\"\")","v":""},{"$error":"#DIV/0!"}]
[5,{"$f":"'URC VAR'!B21","v":"1987-05-01"},{"$f":"IFERROR('URC VAR'!C21*-1,\"\")","v":0},{"$f":"IFERROR(IF(AND(C22=\"\",C21<>\"\"),0,IF(D22+C22>0,D22+C22,0)*VLOOKUP(MONTH(B21),'NRI (Auto)'!$R$6:$T$17,3,0)),\"\")","v":""},{"$f":"IFERROR(NRI!$P$3+D21,\"\")","v":""},{"$error":"#DIV/0!"}]
[6,{"$f":"'URC VAR'!B22","v":"1987-06-01"},{"$f":"IFERROR('URC VAR'!C22*-1,\"\")","v":0},{"$f":"IFERROR(IF(AND(C23=\"\",C22<>\"\"),0,IF(D23+C23>0,D23+C23,0)*VLOOKUP(MONTH(B22),'NRI (Auto)'!$R$6:$T$17,3,0)),\"\")","v":""},{"$f":"IFERROR(NRI!$P$3+D22,\"\")","v":""},{"$error":"#DIV/0!"}]
[7,{"$f":"'URC VAR'!B23","v":"1987-07-01"},{"$f":"IFERROR('URC VAR'!C23*-1,\"\")","v":0},{"$f":"IFERROR(IF(AND(C24=\"\",C23<>\"\"),0,IF(D24+C24>0,D24+C24,0)*VLOOKUP(MONTH(B23),'NRI (Auto)'!$R$6:$T$17,3,0)),\"\")","v":""},{"$f":"IFERROR(NRI!$P$3+D23,\"\")","v":""},{"$error":"#DIV/0!"}]
[8,{"$f":"'URC VAR'!B24","v":"1987-08-01"},{"$f":"IFERROR('URC VAR'!C24*-1,\"\")","v":0},{"$f":"IFERROR(IF(AND(C25=\"\",C24<>\"\"),0,IF(D25+C25>0,D25+C25,0)*VLOOKUP(MONTH(B24),'NRI (Auto)'!$R$6:$T$17,3,0)),\"\")","v":""},{"$f":"IFERROR(NRI!$P$3+D24,\"\")","v":""},{"$error":"#DIV/0!"}]
[9,{"$f":"'URC VAR'!B25","v":"1987-09-01"},{"$f":"IFERROR('URC VAR'!C25*-1,\"\")","v":0},{"$f":"IFERROR(IF(AND(C26=\"\",C25<>\"\"),0,IF(D26+C26>0,D26+C26,0)*VLOOKUP(MONTH(B25),'NRI (Auto)'!$R$6:$T$17,3,0)),\"\")","v":""},{"$f":"IFERROR(NRI!$P$3+D25,\"\")","v":""},{"$error":"#DIV/0!"}]
[10,{"$f":"'URC VAR'!B26","v":"1987-10-01"},{"$f":"IFERROR('URC VAR'!C26*-1,\"\")","v":0},{"$f":"IFERROR(IF(AND(C27=\"\",C26<>\"\"),0,IF(D27+C27>0,D27+C27,0)*VLOOKUP(MONTH(B26),'NRI (Auto)'!$R$6:$T$17,3,0)),\"\")","v":""},{"$f":"IFERROR(NRI!$P$3+D26,\"\")","v":""},{"$error":"#DIV/0!"}]
[11,{"$f":"'URC VAR'!B27","v":"1987-11-01"},{"$f":"IFERROR('URC VAR'!C27*-1,\"\")","v":0},{"$f":"IFERROR(IF(AND(C28=\"\",C27<>\"\"),0,IF(D28+C28>0,D28+C28,0)*VLOOKUP(MONTH(B27),'NRI (Auto)'!$R$6:$T$17,3,0)),\"\")","v":""},{"$f":"IFERROR(NRI!$P$3+D27,\"\")","v":""},{"$error":"#DIV/0!"}]
[12,{"$f":"'URC VAR'!B28","v":"1987-12-01"},{"$f":"IFERROR('URC VAR'!C28*-1,\"\")","v":0},{"$f":"IFERROR(IF(AND(C29=\"\",C28<>\"\"),0,IF(D29+C29>0,D29+C29,0)*VLOOKUP(MONTH(B28),'NRI (Auto)'!$R$6:$T$17,3,0)),\"\")","v":""},{"$f":"IFERROR(NRI!$P$3+D28,\"\")","v":""},{"$error":"#DIV/0!"}]
[1,{"$f":"'URC VAR'!B29","v":"1988-01-01"},{"$f":"IFERROR('URC VAR'!C29*-1,\"\")","v":0},{"$f":"IFERROR(IF(AND(C30=\"\",C29<>\"\"),0,IF(D30+C30>0,D30+C30,0)*VLOOKUP(MONTH(B29),'NRI (Auto)'!$R$6:$T$17,3,0)),\"\")","v":""},{"$f":"IFERROR(NRI!$P$3+D29,\"\")","v":""},{"$error":"#DIV/0!"}]
[2,{"$f":"'URC VAR'!B30","v":"1988-02-01"},{"$f":"IFERROR('URC VAR'!C30*-1,\"\")","v":0},{"$f":"IFERROR(IF(AND(C31=\"\",C30<>\"\"),0,IF(D31+C31>0,D31+C31,0)*VLOOKUP(MONTH(B30),'NRI (Auto)'!$R$6:$T$17,3,0)),\"\")","v":""},{"$f":"IFERROR(NRI!$P$3+D30,\"\")","v":""},{"$error":"#DIV/0!"}]
[3,{"$f":"'URC VAR'!B31","v":"1988-03-01"},{"$f":"IFERROR('URC VAR'!C31*-1,\"\")","v":0},{"$f":"IFERROR(IF(AND(C32=\"\",C31<>\"\"),0,IF(D32+C32>0,D32+C32,0)*VLOOKUP(MONTH(B31),'NRI (Auto)'!$R$6:$T$17,3,0)),\"\")","v":""},{"$f":"IFERROR(NRI!$P$3+D31,\"\")","v":""},{"$error":"#DIV/0!"}]
[4,{"$f":"'URC VAR'!B32","v":"1988-04-01"},{"$f":"IFERROR('URC VAR'!C32*-1,\"\")","v":0},{"$f":"IFERROR(IF(AND(C33=\"\",C32<>\"\"),0,IF(D33+C33>0,D33+C33,0)*VLOOKUP(MONTH(B32),'NRI (Auto)'!$R$6:$T$17,3,0)),\"\")","v":""},{"$f":"IFERROR(NRI!$P$3+D32,\"\")","v":""},{"$error":"#DIV/0!"}]
[5,{"$f":"'URC VAR'!B33","v":"1988-05-01"},{"$f":"IFERROR('URC VAR'!C33*-1,\"\")","v":0},{"$f":"IFERROR(IF(AND(C34=\"\",C33<>\"\"),0,IF(D34+C34>0,D34+C34,0)*VLOOKUP(MONTH(B33),'NRI (Auto)'!$R$6:$T$17,3,0)),\"\")","v":""},{"$f":"IFERROR(NRI!$P$3+D33,\"\")","v":""},{"$error":"#DIV/0!"}]
[6,{"$f":"'URC VAR'!B34","v":"1988-06-01"},{"$f":"IFERROR('URC VAR'!C34*-1,\"\")","v":0},{"$f":"IFERROR(IF(AND(C35=\"\",C34<>\"\"),0,IF(D35+C35>0,D35+C35,0)*VLOOKUP(MONTH(B34),'NRI (Auto)'!$R$6:$T$17,3,0)),\"\")","v":""},{"$f":"IFERROR(NRI!$P$3+D34,\"\")","v":""},{"$error":"#DIV/0!"}]
[7,{"$f":"'URC VAR'!B35","v":"1988-07-01"},{"$f":"IFERROR('URC VAR'!C35*-1,\"\")","v":0},{"$f":"IFERROR(IF(AND(C36=\"\",C35<>\"\"),0,IF(D36+C36>0,D36+C36,0)*VLOOKUP(MONTH(B35),'NRI (Auto)'!$R$6:$T$17,3,0)),\"\")","v":""},{"$f":"IFERROR(NRI!$P$3+D35,\"\")","v":""},{"$error":"#DIV/0!"}]
[8,{"$f":"'URC VAR'!B36","v":"1988-08-01"},{"$f":"IFERROR('URC VAR'!C36*-1,\"\")","v":0},{"$f":"IFERROR(IF(AND(C37=\"\",C36<>\"\"),0,IF(D37+C37>0,D37+C37,0)*VLOOKUP(MONTH(B36),'NRI (Auto)'!$R$6:$T$17,3,0)),\"\")","v":""},{"$f":"IFERROR(NRI!$P$3+D36,\"\")","v":""},{"$error":"#DIV/0!"}]
[9,{"$f":"'URC VAR'!B37","v":"1988-09-01"},{"$f":"IFERROR('URC VAR'!C37*-1,\"\")","v":0},{"$f":"IFERROR(IF(AND(C38=\"\",C37<>\"\"),0,IF(D38+C38>0,D38+C38,0)*VLOOKUP(MONTH(B37),'NRI (Auto)'!$R$6:$T$17,3,0)),\"\")","v":""},{"$f":"IFERROR(NRI!$P$3+D37,\"\")","v":""},{"$error":"#DIV/0!"}]
[10,{"$f":"'URC VAR'!B38","v":"1988-10-01"},{"$f":"IFERROR('URC VAR'!C38*-1,\"\")","v":0},{"$f":"IFERROR(IF(AND(C39=\"\",C38<>\"\"),0,IF(D39+C39>0,D39+C39,0)*VLOOKUP(MONTH(B38),'NRI (Auto)'!$R$6:$T$17,3,0)),\"\")","v":""},{"$f":"IFERROR(NRI!$P$3+D38,\"\")","v":""},{"$error":"#DIV/0!"}]
[11,{"$f":"'URC VAR'!B39","v":"1988-11-01"},{"$f":"IFERROR('URC VAR'!C39*-1,\"\")","v":0},{"$f":"IFERROR(IF(AND(C40=\"\",C39<>\"\"),0,IF(D40+C40>0,D40+C40,0)*VLOOKUP(MONTH(B39),'NRI (Auto)'!$R$6:$T$17,3,0)),\"\")","v":""},{"$f":"IFERROR(NRI!$P$3+D39,\"\")","v":""},{"$error":"#DIV/0!"}]
[12,{"$f":"'URC VAR'!B40","v":"1988-12-01"},{"$f":"IFERROR('URC VAR'!C40*-1,\"\")","v":0},{"$f":"IFERROR(IF(AND(C41=\"\",C40<>\"\"),0,IF(D41+C41>0,D41+C41,0)*VLOOKUP(MONTH(B40),'NRI (Auto)'!$R$6:$T$17,3,0)),\"\")","v":""},{"$f":"IFERROR(NRI!$P$3+D40,\"\")","v":""},{"$error":"#DIV/0!"}]
[1,{"$f":"'URC VAR'!B41","v":"1989-01-01"},{"$f":"IFERROR('URC VAR'!C41*-1,\"\")","v":0},{"$f":"IFERROR(IF(AND(C42=\"\",C41<>\"\"),0,IF(D42+C42>0,D42+C42,0)*VLOOKUP(MONTH(B41),'NRI (Auto)'!$R$6:$T$17,3,0)),\"\")","v":""},{"$f":"IFERROR(NRI!$P$3+D41,\"\")","v":""},{"$error":"#DIV/0!"}]
[2,{"$f":"'URC VAR'!B42","v":"1989-02-01"},{"$f":"IFERROR('URC VAR'!C42*-1,\"\")","v":0},{"$f":"IFERROR(IF(AND(C43=\"\",C42<>\"\"),0,IF(D43+C43>0,D43+C43,0)*VLOOKUP(MONTH(B42),'NRI (Auto)'!$R$6:$T$17,3,0)),\"\")","v":""},{"$f":"IFERROR(NRI!$P$3+D42,\"\")","v":""},{"$error":"#DIV/0!"}]
[3,{"$f":"'URC VAR'!B43","v":"1989-03-01"},{"$f":"IFERROR('URC VAR'!C43*-1,\"\")","v":0},{"$f":"IFERROR(IF(AND(C44=\"\",C43<>\"\"),0,IF(D44+C44>0,D44+C44,0)*VLOOKUP(MONTH(B43),'NRI (Auto)'!$R$6:$T$17,3,0)),\"\")","v":""},{"$f":"IFERROR(NRI!$P$3+D43,\"\")","v":""},{"$error":"#DIV/0!"}]
[4,{"$f":"'URC VAR'!B44","v":"1989-04-01"},{"$f":"IFERROR('URC VAR'!C44*-1,\"\")","v":0},{"$f":"IFERROR(IF(AND(C45=\"\",C44<>\"\"),0,IF(D45+C45>0,D45+C45,0)*VLOOKUP(MONTH(B44),'NRI (Auto)'!$R$6:$T$17,3,0)),\"\")","v":""},{"$f":"IFERROR(NRI!$P$3+D44,\"\")","v":""},{"$error":"#DIV/0!"}]
[5,{"$f":"'URC VAR'!B45","v":"1989-05-01"},{"$f":"IFERROR('URC VAR'!C45*-1,\"\")","v":0},{"$f":"IFERROR(IF(AND(C46=\"\",C45<>\"\"),0,IF(D46+C46>0,D46+C46,0)*VLOOKUP(MONTH(B45),'NRI (Auto)'!$R$6:$T$17,3,0)),\"\")","v":""},{"$f":"IFERROR(NRI!$P$3+D45,\"\")","v":""},{"$error":"#DIV/0!"}]
[6,{"$f":"'URC VAR'!B46","v":"1989-06-01"},{"$f":"IFERROR('URC VAR'!C46*-1,\"\")","v":0},{"$f":"IFERROR(IF(AND(C47=\"\",C46<>\"\"),0,IF(D47+C47>0,D47+C47,0)*VLOOKUP(MONTH(B46),'NRI (Auto)'!$R$6:$T$17,3,0)),\"\")","v":""},{"$f":"IFERROR(NRI!$P$3+D46,\"\")","v":""},{"$error":"#DIV/0!"}]
[7,{"$f":"'URC VAR'!B47","v":"1989-07-01"},{"$f":"IFERROR('URC VAR'!C47*-1,\"\")","v":0},{"$f":"IFERROR(IF(AND(C48=\"\",C47<>\"\"),0,IF(D48+C48>0,D48+C48,0)*VLOOKUP(MONTH(B47),'NRI (Auto)'!$R$6:$T$17,3,0)),\"\")","v":""},{"$f":"IFERROR(NRI!$P$3+D47,\"\")","v":""},{"$error":"#DIV/0!"}]
[8,{"$f":"'URC VAR'!B48","v":"1989-08-01"},{"$f":"IFERROR('URC VAR'!C48*-1,\"\")","v":0},{"$f":"IFERROR(IF(AND(C49=\"\",C48<>\"\"),0,IF(D49+C49>0,D49+C49,0)*VLOOKUP(MONTH(B48),'NRI (Auto)'!$R$6:$T$17,3,0)),\"\")","v":""},{"$f":"IFERROR(NRI!$P$3+D48,\"\")","v":""},{"$error":"#DIV/0!"}]
[9,{"$f":"'URC VAR'!B49","v":"1989-09-01"},{"$f":"IFERROR('URC VAR'!C49*-1,\"\")","v":0},{"$f":"IFERROR(IF(AND(C50=\"\",C49<>\"\"),0,IF(D50+C50>0,D50+C50,0)*VLOOKUP(MONTH(B49),'NRI (Auto)'!$R$6:$T$17,3,0)),\"\")","v":""},{"$f":"IFERROR(NRI!$P$3+D49,\"\")","v":""},{"$error":"#DIV/0!"}]
[10,{"$f":"'URC VAR'!B50","v":"1989-10-01"},{"$f":"IFERROR('URC VAR'!C50*-1,\"\")","v":0},{"$f":"IFERROR(IF(AND(C51=\"\",C50<>\"\"),0,IF(D51+C51>0,D51+C51,0)*VLOOKUP(MONTH(B50),'NRI (Auto)'!$R$6:$T$17,3,0)),\"\")","v":""},{"$f":"IFERROR(NRI!$P$3+D50,\"\")","v":""},{"$error":"#DIV/0!"}]
[11,{"$f":"'URC VAR'!B51","v":"1989-11-01"},{"$f":"IFERROR('URC VAR'!C51*-1,\"\")","v":0},{"$f":"IFERROR(IF(AND(C52=\"\",C51<>\"\"),0,IF(D52+C52>0,D52+C52,0)*VLOOKUP(MONTH(B51),'NRI (Auto)'!$R$6:$T$17,3,0)),\"\")","v":""},{"$f":"IFERROR(NRI!$P$3+D51,\"\")","v":""},{"$error":"#DIV/0!"}]
[12,{"$f":"'URC VAR'!B52","v":"1989-12-01"},{"$f":"IFERROR('URC VAR'!C52*-1,\"\")","v":0},{"$f":"IFERROR(IF(AND(C53=\"\",C52<>\"\"),0,IF(D53+C53>0,D53+C53,0)*VLOOKUP(MONTH(B52),'NRI (Auto)'!$R$6:$T$17,3,0)),\"\")","v":""},{"$f":"IFERROR(NRI!$P$3+D52,\"\")","v":""},{"$error":"#DIV/0!"}]
[1,{"$f":"'URC VAR'!B53","v":"1990-01-01"},{"$f":"IFERROR('URC VAR'!C53*-1,\"\")","v":0},{"$f":"IFERROR(IF(AND(C54=\"\",C53<>\"\"),0,IF(D54+C54>0,D54+C54,0)*VLOOKUP(MONTH(B53),'NRI (Auto)'!$R$6:$T$17,3,0)),\"\")","v":""},{"$f":"IFERROR(NRI!$P$3+D53,\"\")","v":""},{"$error":"#DIV/0!"}]
[2,{"$f":"'URC VAR'!B54","v":"1990-02-01"},{"$f":"IFERROR('URC VAR'!C54*-1,\"\")","v":0},{"$f":"IFERROR(IF(AND(C55=\"\",C54<>\"\"),0,IF(D55+C55>0,D55+C55,0)*VLOOKUP(MONTH(B54),'NRI (Auto)'!$R$6:$T$17,3,0)),\"\")","v":""},{"$f":"IFERROR(NRI!$P$3+D54,\"\")","v":""},{"$error":"#DIV/0!"}]
[3,{"$f":"'URC VAR'!B55","v":"1990-03-01"},{"$f":"IFERROR('URC VAR'!C55*-1,\"\")","v":0},{"$f":"IFERROR(IF(AND(C56=\"\",C55<>\"\"),0,IF(D56+C56>0,D56+C56,0)*VLOOKUP(MONTH(B55),'NRI (Auto)'!$R$6:$T$17,3,0)),\"\")","v":""},{"$f":"IFERROR(NRI!$P$3+D55,\"\")","v":""},{"$error":"#DIV/0!"}]
[4,{"$f":"'URC VAR'!B56","v":"1990-04-01"},{"$f":"IFERROR('URC VAR'!C56*-1,\"\")","v":0},{"$f":"IFERROR(IF(AND(C57=\"\",C56<>\"\"),0,IF(D57+C57>0,D57+C57,0)*VLOOKUP(MONTH(B56),'NRI (Auto)'!$R$6:$T$17,3,0)),\"\")","v":""},{"$f":"IFERROR(NRI!$P$3+D56,\"\")","v":""},{"$error":"#DIV/0!"}]
[5,{"$f":"'URC VAR'!B57","v":"1990-05-01"},{"$f":"IFERROR('URC VAR'!C57*-1,\"\")","v":0},{"$f":"IFERROR(IF(AND(C58=\"\",C57<>\"\"),0,IF(D58+C58>0,D58+C58,0)*VLOOKUP(MONTH(B57),'NRI (Auto)'!$R$6:$T$17,3,0)),\"\")","v":""},{"$f":"IFERROR(NRI!$P$3+D57,\"\")","v":""},{"$error":"#DIV/0!"}]
[6,{"$f":"'URC VAR'!B58","v":"1990-06-01"},{"$f":"IFERROR('URC VAR'!C58*-1,\"\")","v":0},{"$f":"IFERROR(IF(AND(C59=\"\",C58<>\"\"),0,IF(D59+C59>0,D59+C59,0)*VLOOKUP(MONTH(B58),'NRI (Auto)'!$R$6:$T$17,3,0)),\"\")","v":""},{"$f":"IFERROR(NRI!$P$3+D58,\"\")","v":""},{"$error":"#DIV/0!"}]
[7,{"$f":"'URC VAR'!B59","v":"1990-07-01"},{"$f":"IFERROR('URC VAR'!C59*-1,\"\")","v":0},{"$f":"IFERROR(IF(AND(C60=\"\",C59<>\"\"),0,IF(D60+C60>0,D60+C60,0)*VLOOKUP(MONTH(B59),'NRI (Auto)'!$R$6:$T$17,3,0)),\"\")","v":""},{"$f":"IFERROR(NRI!$P$3+D59,\"\")","v":""},{"$error":"#DIV/0!"}]
[8,{"$f":"'URC VAR'!B60","v":"1990-08-01"},{"$f":"IFERROR('URC VAR'!C60*-1,\"\")","v":0},{"$f":"IFERROR(IF(AND(C61=\"\",C60<>\"\"),0,IF(D61+C61>0,D61+C61,0)*VLOOKUP(MONTH(B60),'NRI (Auto)'!$R$6:$T$17,3,0)),\"\")","v":""},{"$f":"IFERROR(NRI!$P$3+D60,\"\")","v":""},{"$error":"#DIV/0!"}]
[9,{"$f":"'URC VAR'!B61","v":"1990-09-01"},{"$f":"IFERROR('URC VAR'!C61*-1,\"\")","v":0},{"$f":"IFERROR(IF(AND(C62=\"\",C61<>\"\"),0,IF(D62+C62>0,D62+C62,0)*VLOOKUP(MONTH(B61),'NRI (Auto)'!$R$6:$T$17,3,0)),\"\")","v":""},{"$f":"IFERROR(NRI!$P$3+D61,\"\")","v":""},{"$error":"#DIV/0!"}]
[10,{"$f":"'URC VAR'!B62","v":"1990-10-01"},{"$f":"IFERROR('URC VAR'!C62*-1,\"\")","v":0},{"$f":"IFERROR(IF(AND(C63=\"\",C62<>\"\"),0,IF(D63+C63>0,D63+C63,0)*VLOOKUP(MONTH(B62),'NRI (Auto)'!$R$6:$T$17,3,0)),\"\")","v":""},{"$f":"IFERROR(NRI!$P$3+D62,\"\")","v":""},{"$error":"#DIV/0!"}]
[11,{"$f":"'URC VAR'!B63","v":"1990-11-01"},{"$f":"IFERROR('URC VAR'!C63*-1,\"\")","v":0},{"$f":"IFERROR(IF(AND(C64=\"\",C63<>\"\"),0,IF(D64+C64>0,D64+C64,0)*VLOOKUP(MONTH(B63),'NRI (Auto)'!$R$6:$T$17,3,0)),\"\")","v":""},{"$f":"IFERROR(NRI!$P$3+D63,\"\")","v":""},{"$error":"#DIV/0!"}]
[12,{"$f":"'URC VAR'!B64","v":"1990-12-01"},{"$f":"IFERROR('URC VAR'!C64*-1,\"\")","v":0},{"$f":"IFERROR(IF(AND(C65=\"\",C64<>\"\"),0,IF(D65+C65>0,D65+C65,0)*VLOOKUP(MONTH(B64),'NRI (Auto)'!$R$6:$T$17,3,0)),\"\")","v":""},{"$f":"IFERROR(NRI!$P$3+D64,\"\")","v":""},{"$error":"#DIV/0!"}]
[1,{"$f":"'URC VAR'!B65","v":"1991-01-01"},{"$f":"IFERROR('URC VAR'!C65*-1,\"\")","v":0},{"$f":"IFERROR(IF(AND(C66=\"\",C65<>\"\"),0,IF(D66+C66>0,D66+C66,0)*VLOOKUP(MONTH(B65),'NRI (Auto)'!$R$6:$T$17,3,0)),\"\")","v":""},{"$f":"IFERROR(NRI!$P$3+D65,\"\")","v":""},{"$error":"#DIV/0!"}]
[2,{"$f":"'URC VAR'!B66","v":"1991-02-01"},{"$f":"IFERROR('URC VAR'!C66*-1,\"\")","v":0},{"$f":"IFERROR(IF(AND(C67=\"\",C66<>\"\"),0,IF(D67+C67>0,D67+C67,0)*VLOOKUP(MONTH(B66),'NRI (Auto)'!$R$6:$T$17,3,0)),\"\")","v":""},{"$f":"IFERROR(NRI!$P$3+D66,\"\")","v":""},{"$error":"#DIV/0!"}]
[3,{"$f":"'URC VAR'!B67","v":"1991-03-01"},{"$f":"IFERROR('URC VAR'!C67*-1,\"\")","v":0},{"$f":"IFERROR(IF(AND(C68=\"\",C67<>\"\"),0,IF(D68+C68>0,D68+C68,0)*VLOOKUP(MONTH(B67),'NRI (Auto)'!$R$6:$T$17,3,0)),\"\")","v":""},{"$f":"IFERROR(NRI!$P$3+D67,\"\")","v":""},{"$error":"#DIV/0!"}]
[4,{"$f":"'URC VAR'!B68","v":"1991-04-01"},{"$f":"IFERROR('URC VAR'!C68*-1,\"\")","v":0},{"$f":"IFERROR(IF(AND(C69=\"\",C68<>\"\"),0,IF(D69+C69>0,D69+C69,0)*VLOOKUP(MONTH(B68),'NRI (Auto)'!$R$6:$T$17,3,0)),\"\")","v":""},{"$f":"IFERROR(NRI!$P$3+D68,\"\")","v":""},{"$error":"#DIV/0!"}]
[5,{"$f":"'URC VAR'!B69","v":"1991-05-01"},{"$f":"IFERROR('URC VAR'!C69*-1,\"\")","v":0},{"$f":"IFERROR(IF(AND(C70=\"\",C69<>\"\"),0,IF(D70+C70>0,D70+C70,0)*VLOOKUP(MONTH(B69),'NRI (Auto)'!$R$6:$T$17,3,0)),\"\")","v":""},{"$f":"IFERROR(NRI!$P$3+D69,\"\")","v":""},{"$error":"#DIV/0!"}]
[6,{"$f":"'URC VAR'!B70","v":"1991-06-01"},{"$f":"IFERROR('URC VAR'!C70*-1,\"\")","v":0},{"$f":"IFERROR(IF(AND(C71=\"\",C70<>\"\"),0,IF(D71+C71>0,D71+C71,0)*VLOOKUP(MONTH(B70),'NRI (Auto)'!$R$6:$T$17,3,0)),\"\")","v":""},{"$f":"IFERROR(NRI!$P$3+D70,\"\")","v":""},{"$error":"#DIV/0!"}]
[7,{"$f":"'URC VAR'!B71","v":"1991-07-01"},{"$f":"IFERROR('URC VAR'!C71*-1,\"\")","v":0},{"$f":"IFERROR(IF(AND(C72=\"\",C71<>\"\"),0,IF(D72+C72>0,D72+C72,0)*VLOOKUP(MONTH(B71),'NRI (Auto)'!$R$6:$T$17,3,0)),\"\")","v":""},{"$f":"IFERROR(NRI!$P$3+D71,\"\")","v":""},{"$error":"#DIV/0!"}]
[8,{"$f":"'URC VAR'!B72","v":"1991-08-01"},{"$f":"IFERROR('URC VAR'!C72*-1,\"\")","v":0},{"$f":"IFERROR(IF(AND(C73=\"\",C72<>\"\"),0,IF(D73+C73>0,D73+C73,0)*VLOOKUP(MONTH(B72),'NRI (Auto)'!$R$6:$T$17,3,0)),\"\")","v":""},{"$f":"IFERROR(NRI!$P$3+D72,\"\")","v":""},{"$error":"#DIV/0!"}]
[9,{"$f":"'URC VAR'!B73","v":"1991-09-01"},{"$f":"IFERROR('URC VAR'!C73*-1,\"\")","v":0},{"$f":"IFERROR(IF(AND(C74=\"\",C73<>\"\"),0,IF(D74+C74>0,D74+C74,0)*VLOOKUP(MONTH(B73),'NRI (Auto)'!$R$6:$T$17,3,0)),\"\")","v":""},{"$f":"IFERROR(NRI!$P$3+D73,\"\")","v":""},{"$error":"#DIV/0!"}]
[10,{"$f":"'URC VAR'!B74","v":"1991-10-01"},{"$f":"IFERROR('URC VAR'!C74*-1,\"\")","v":0},{"$f":"IFERROR(IF(AND(C75=\"\",C74<>\"\"),0,IF(D75+C75>0,D75+C75,0)*VLOOKUP(MONTH(B74),'NRI (Auto)'!$R$6:$T$17,3,0)),\"\")","v":""},{"$f":"IFERROR(NRI!$P$3+D74,\"\")","v":""},{"$error":"#DIV/0!"}]
[11,{"$f":"'URC VAR'!B75","v":"1991-11-01"},{"$f":"IFERROR('URC VAR'!C75*-1,\"\")","v":0},{"$f":"IFERROR(IF(AND(C76=\"\",C75<>\"\"),0,IF(D76+C76>0,D76+C76,0)*VLOOKUP(MONTH(B75),'NRI (Auto)'!$R$6:$T$17,3,0)),\"\")","v":""},{"$f":"IFERROR(NRI!$P$3+D75,\"\")","v":""},{"$error":"#DIV/0!"}]
[12,{"$f":"'URC VAR'!B76","v":"1991-12-01"},{"$f":"IFERROR('URC VAR'!C76*-1,\"\")","v":0},{"$f":"IFERROR(IF(AND(C77=\"\",C76<>\"\"),0,IF(D77+C77>0,D77+C77,0)*VLOOKUP(MONTH(B76),'NRI (Auto)'!$R$6:$T$17,3,0)),\"\")","v":""},{"$f":"IFERROR(NRI!$P$3+D76,\"\")","v":""},{"$error":"#DIV/0!"}]
[1,{"$f":"'URC VAR'!B77","v":"1992-01-01"},{"$f":"IFERROR('URC VAR'!C77*-1,\"\")","v":0},{"$f":"IFERROR(IF(AND(C78=\"\",C77<>\"\"),0,IF(D78+C78>0,D78+C78,0)*VLOOKUP(MONTH(B77),'NRI (Auto)'!$R$6:$T$17,3,0)),\"\")","v":""},{"$f":"IFERROR(NRI!$P$3+D77,\"\")","v":""},{"$error":"#DIV/0!"}]
[2,{"$f":"'URC VAR'!B78","v":"1992-02-01"},{"$f":"IFERROR('URC VAR'!C78*-1,\"\")","v":0},{"$f":"IFERROR(IF(AND(C79=\"\",C78<>\"\"),0,IF(D79+C79>0,D79+C79,0)*VLOOKUP(MONTH(B78),'NRI (Auto)'!$R$6:$T$17,3,0)),\"\")","v":""},{"$f":"IFERROR(NRI!$P$3+D78,\"\")","v":""},{"$error":"#DIV/0!"}]
[3,{"$f":"'URC VAR'!B79","v":"1992-03-01"},{"$f":"IFERROR('URC VAR'!C79*-1,\"\")","v":0},{"$f":"IFERROR(IF(AND(C80=\"\",C79<>\"\"),0,IF(D80+C80>0,D80+C80,0)*VLOOKUP(MONTH(B79),'NRI (Auto)'!$R$6:$T$17,3,0)),\"\")","v":""},{"$f":"IFERROR(NRI!$P$3+D79,\"\")","v":""},{"$error":"#DIV/0!"}]
[4,{"$f":"'URC VAR'!B80","v":"1992-04-01"},{"$f":"IFERROR('URC VAR'!C80*-1,\"\")","v":0},{"$f":"IFERROR(IF(AND(C81=\"\",C80<>\"\"),0,IF(D81+C81>0,D81+C81,0)*VLOOKUP(MONTH(B80),'NRI (Auto)'!$R$6:$T$17,3,0)),\"\")","v":""},{"$f":"IFERROR(NRI!$P$3+D80,\"\")","v":""},{"$error":"#DIV/0!"}]
[5,{"$f":"'URC VAR'!B81","v":"1992-05-01"},{"$f":"IFERROR('URC VAR'!C81*-1,\"\")","v":0},{"$f":"IFERROR(IF(AND(C82=\"\",C81<>\"\"),0,IF(D82+C82>0,D82+C82,0)*VLOOKUP(MONTH(B81),'NRI (Auto)'!$R$6:$T$17,3,0)),\"\")","v":""},{"$f":"IFERROR(NRI!$P$3+D81,\"\")","v":""},{"$error":"#DIV/0!"}]
[{"$f":"+A70","v":6},{"$f":"'URC VAR'!B82","v":"1992-06-01"},{"$f":"IFERROR('URC VAR'!C82*-1,\"\")","v":0},{"$f":"IFERROR(IF(AND(C83=\"\",C82<>\"\"),0,IF(D83+C83>0,D83+C83,0)*VLOOKUP(MONTH(B82),'NRI (Auto)'!$R$6:$T$17,3,0)),\"\")","v":""},{"$f":"IFERROR(NRI!$P$3+D82,\"\")","v":""},{"$f":"+F70","v":{"$error":"#DIV/0!"}}]
[7,{"$f":"'URC VAR'!B83","v":"1992-07-01"},{"$f":"IFERROR('URC VAR'!C83*-1,\"\")","v":0},{"$f":"IFERROR(IF(AND(C84=\"\",C83<>\"\"),0,IF(D84+C84>0,D84+C84,0)*VLOOKUP(MONTH(B83),'NRI (Auto)'!$R$6:$T$17,3,0)),\"\")","v":""},{"$f":"IFERROR(NRI!$P$3+D83,\"\")","v":""},{"$error":"#DIV/0!"}]
[8,{"$f":"'URC VAR'!B84","v":"1992-08-01"},{"$f":"IFERROR('URC VAR'!C84*-1,\"\")","v":0},{"$f":"IFERROR(IF(AND(C85=\"\",C84<>\"\"),0,IF(D85+C85>0,D85+C85,0)*VLOOKUP(MONTH(B84),'NRI (Auto)'!$R$6:$T$17,3,0)),\"\")","v":""},{"$f":"IFERROR(NRI!$P$3+D84,\"\")","v":""},{"$error":"#DIV/0!"}]
[9,{"$f":"'URC VAR'!B85","v":"1992-09-01"},{"$f":"IFERROR('URC VAR'!C85*-1,\"\")","v":0},{"$f":"IFERROR(IF(AND(C86=\"\",C85<>\"\"),0,IF(D86+C86>0,D86+C86,0)*VLOOKUP(MONTH(B85),'NRI (Auto)'!$R$6:$T$17,3,0)),\"\")","v":""},{"$f":"IFERROR(NRI!$P$3+D85,\"\")","v":""},{"$error":"#DIV/0!"}]
[10,{"$f":"'URC VAR'!B86","v":"1992-10-01"},{"$f":"IFERROR('URC VAR'!C86*-1,\"\")","v":0},{"$f":"IFERROR(IF(AND(C87=\"\",C86<>\"\"),0,IF(D87+C87>0,D87+C87,0)*VLOOKUP(MONTH(B86),'NRI (Auto)'!$R$6:$T$17,3,0)),\"\")","v":""},{"$f":"IFERROR(NRI!$P$3+D86,\"\")","v":""},{"$error":"#DIV/0!"}]
[11,{"$f":"'URC VAR'!B87","v":"1992-11-01"},{"$f":"IFERROR('URC VAR'!C87*-1,\"\")","v":0},{"$f":"IFERROR(IF(AND(C88=\"\",C87<>\"\"),0,IF(D88+C88>0,D88+C88,0)*VLOOKUP(MONTH(B87),'NRI (Auto)'!$R$6:$T$17,3,0)),\"\")","v":""},{"$f":"IFERROR(NRI!$P$3+D87,\"\")","v":""},{"$error":"#DIV/0!"}]
[12,{"$f":"'URC VAR'!B88","v":"1992-12-01"},{"$f":"IFERROR('URC VAR'!C88*-1,\"\")","v":0},{"$f":"IFERROR(IF(AND(C89=\"\",C88<>\"\"),0,IF(D89+C89>0,D89+C89,0)*VLOOKUP(MONTH(B88),'NRI (Auto)'!$R$6:$T$17,3,0)),\"\")","v":""},{"$f":"IFERROR(NRI!$P$3+D88,\"\")","v":""},{"$error":"#DIV/0!"}]
[1,{"$f":"'URC VAR'!B89","v":"1993-01-01"},{"$f":"IFERROR('URC VAR'!C89*-1,\"\")","v":0},{"$f":"IFERROR(IF(AND(C90=\"\",C89<>\"\"),0,IF(D90+C90>0,D90+C90,0)*VLOOKUP(MONTH(B89),'NRI (Auto)'!$R$6:$T$17,3,0)),\"\")","v":""},{"$f":"IFERROR(NRI!$P$3+D89,\"\")","v":""},{"$error":"#DIV/0!"}]
[2,{"$f":"'URC VAR'!B90","v":"1993-02-01"},{"$f":"IFERROR('URC VAR'!C90*-1,\"\")","v":0},{"$f":"IFERROR(IF(AND(C91=\"\",C90<>\"\"),0,IF(D91+C91>0,D91+C91,0)*VLOOKUP(MONTH(B90),'NRI (Auto)'!$R$6:$T$17,3,0)),\"\")","v":""},{"$f":"IFERROR(NRI!$P$3+D90,\"\")","v":""},{"$error":"#DIV/0!"}]
[3,{"$f":"'URC VAR'!B91","v":"1993-03-01"},{"$f":"IFERROR('URC VAR'!C91*-1,\"\")","v":0},{"$f":"IFERROR(IF(AND(C92=\"\",C91<>\"\"),0,IF(D92+C92>0,D92+C92,0)*VLOOKUP(MONTH(B91),'NRI (Auto)'!$R$6:$T$17,3,0)),\"\")","v":""},{"$f":"IFERROR(NRI!$P$3+D91,\"\")","v":""},{"$error":"#DIV/0!"}]
[4,{"$f":"'URC VAR'!B92","v":"1993-04-01"},{"$f":"IFERROR('URC VAR'!C92*-1,\"\")","v":0},{"$f":"IFERROR(IF(AND(C93=\"\",C92<>\"\"),0,IF(D93+C93>0,D93+C93,0)*VLOOKUP(MONTH(B92),'NRI (Auto)'!$R$6:$T$17,3,0)),\"\")","v":""},{"$f":"IFERROR(NRI!$P$3+D92,\"\")","v":""},{"$error":"#DIV/0!"}]
[5,{"$f":"'URC VAR'!B93","v":"1993-05-01"},{"$f":"IFERROR('URC VAR'!C93*-1,\"\")","v":0},{"$f":"IFERROR(IF(AND(C94=\"\",C93<>\"\"),0,IF(D94+C94>0,D94+C94,0)*VLOOKUP(MONTH(B93),'NRI (Auto)'!$R$6:$T$17,3,0)),\"\")","v":""},{"$f":"IFERROR(NRI!$P$3+D93,\"\")","v":""},{"$error":"#DIV/0!"}]
[6,{"$f":"'URC VAR'!B94","v":"1993-06-01"},{"$f":"IFERROR('URC VAR'!C94*-1,\"\")","v":0},{"$f":"IFERROR(IF(AND(C95=\"\",C94<>\"\"),0,IF(D95+C95>0,D95+C95,0)*VLOOKUP(MONTH(B94),'NRI (Auto)'!$R$6:$T$17,3,0)),\"\")","v":""},{"$f":"IFERROR(NRI!$P$3+D94,\"\")","v":""},{"$error":"#DIV/0!"}]
[7,{"$f":"'URC VAR'!B95","v":"1993-07-01"},{"$f":"IFERROR('URC VAR'!C95*-1,\"\")","v":0},{"$f":"IFERROR(IF(AND(C96=\"\",C95<>\"\"),0,IF(D96+C96>0,D96+C96,0)*VLOOKUP(MONTH(B95),'NRI (Auto)'!$R$6:$T$17,3,0)),\"\")","v":""},{"$f":"IFERROR(NRI!$P$3+D95,\"\")","v":""},{"$error":"#DIV/0!"}]
[8,{"$f":"'URC VAR'!B96","v":"1993-08-01"},{"$f":"IFERROR('URC VAR'!C96*-1,\"\")","v":0},{"$f":"IFERROR(IF(AND(C97=\"\",C96<>\"\"),0,IF(D97+C97>0,D97+C97,0)*VLOOKUP(MONTH(B96),'NRI (Auto)'!$R$6:$T$17,3,0)),\"\")","v":""},{"$f":"IFERROR(NRI!$P$3+D96,\"\")","v":""},{"$error":"#DIV/0!"}]
[9,{"$f":"'URC VAR'!B97","v":"1993-09-01"},{"$f":"IFERROR('URC VAR'!C97*-1,\"\")","v":0},{"$f":"IFERROR(IF(AND(C98=\"\",C97<>\"\"),0,IF(D98+C98>0,D98+C98,0)*VLOOKUP(MONTH(B97),'NRI (Auto)'!$R$6:$T$17,3,0)),\"\")","v":""},{"$f":"IFERROR(NRI!$P$3+D97,\"\")","v":""},{"$error":"#DIV/0!"}]
[10,{"$f":"'URC VAR'!B98","v":"1993-10-01"},{"$f":"IFERROR('URC VAR'!C98*-1,\"\")","v":0},{"$f":"IFERROR(IF(AND(C99=\"\",C98<>\"\"),0,IF(D99+C99>0,D99+C99,0)*VLOOKUP(MONTH(B98),'NRI (Auto)'!$R$6:$T$17,3,0)),\"\")","v":""},{"$f":"IFERROR(NRI!$P$3+D98,\"\")","v":""},{"$error":"#DIV/0!"}]
[11,{"$f":"'URC VAR'!B99","v":"1993-11-01"},{"$f":"IFERROR('URC VAR'!C99*-1,\"\")","v":0},{"$f":"IFERROR(IF(AND(C100=\"\",C99<>\"\"),0,IF(D100+C100>0,D100+C100,0)*VLOOKUP(MONTH(B99),'NRI (Auto)'!$R$6:$T$17,3,0)),\"\")","v":""},{"$f":"IFERROR(NRI!$P$3+D99,\"\")","v":""},{"$error":"#DIV/0!"}]
[12,{"$f":"'URC VAR'!B100","v":"1993-12-01"},{"$f":"IFERROR('URC VAR'!C100*-1,\"\")","v":0},{"$f":"IFERROR(IF(AND(C101=\"\",C100<>\"\"),0,IF(D101+C101>0,D101+C101,0)*VLOOKUP(MONTH(B100),'NRI (Auto)'!$R$6:$T$17,3,0)),\"\")","v":""},{"$f":"IFERROR(NRI!$P$3+D100,\"\")","v":""},{"$error":"#DIV/0!"}]
[1,{"$f":"'URC VAR'!B101","v":"1994-01-01"},{"$f":"IFERROR('URC VAR'!C101*-1,\"\")","v":0},{"$f":"IFERROR(IF(AND(C102=\"\",C101<>\"\"),0,IF(D102+C102>0,D102+C102,0)*VLOOKUP(MONTH(B101),'NRI (Auto)'!$R$6:$T$17,3,0)),\"\")","v":""},{"$f":"IFERROR(NRI!$P$3+D101,\"\")","v":""},{"$error":"#DIV/0!"}]
[2,{"$f":"'URC VAR'!B102","v":"1994-02-01"},{"$f":"IFERROR('URC VAR'!C102*-1,\"\")","v":0},{"$f":"IFERROR(IF(AND(C103=\"\",C102<>\"\"),0,IF(D103+C103>0,D103+C103,0)*VLOOKUP(MONTH(B102),'NRI (Auto)'!$R$6:$T$17,3,0)),\"\")","v":""},{"$f":"IFERROR(NRI!$P$3+D102,\"\")","v":""},{"$error":"#DIV/0!"}]
[3,{"$f":"'URC VAR'!B103","v":"1994-03-01"},{"$f":"IFERROR('URC VAR'!C103*-1,\"\")","v":0},{"$f":"IFERROR(IF(AND(C104=\"\",C103<>\"\"),0,IF(D104+C104>0,D104+C104,0)*VLOOKUP(MONTH(B103),'NRI (Auto)'!$R$6:$T$17,3,0)),\"\")","v":""},{"$f":"IFERROR(NRI!$P$3+D103,\"\")","v":""},{"$error":"#DIV/0!"}]
[4,{"$f":"'URC VAR'!B104","v":"1994-04-01"},{"$f":"IFERROR('URC VAR'!C104*-1,\"\")","v":0},{"$f":"IFERROR(IF(AND(C105=\"\",C104<>\"\"),0,IF(D105+C105>0,D105+C105,0)*VLOOKUP(MONTH(B104),'NRI (Auto)'!$R$6:$T$17,3,0)),\"\")","v":""},{"$f":"IFERROR(NRI!$P$3+D104,\"\")","v":""},{"$error":"#DIV/0!"}]
[5,{"$f":"'URC VAR'!B105","v":"1994-05-01"},{"$f":"IFERROR('URC VAR'!C105*-1,\"\")","v":0},{"$f":"IFERROR(IF(AND(C106=\"\",C105<>\"\"),0,IF(D106+C106>0,D106+C106,0)*VLOOKUP(MONTH(B105),'NRI (Auto)'!$R$6:$T$17,3,0)),\"\")","v":""},{"$f":"IFERROR(NRI!$P$3+D105,\"\")","v":""},{"$error":"#DIV/0!"}]
[6,{"$f":"'URC VAR'!B106","v":"1994-06-01"},{"$f":"IFERROR('URC VAR'!C106*-1,\"\")","v":0},{"$f":"IFERROR(IF(AND(C107=\"\",C106<>\"\"),0,IF(D107+C107>0,D107+C107,0)*VLOOKUP(MONTH(B106),'NRI (Auto)'!$R$6:$T$17,3,0)),\"\")","v":""},{"$f":"IFERROR(NRI!$P$3+D106,\"\")","v":""},{"$error":"#DIV/0!"}]
[7,{"$f":"'URC VAR'!B107","v":"1994-07-01"},{"$f":"IFERROR('URC VAR'!C107*-1,\"\")","v":0},{"$f":"IFERROR(IF(AND(C108=\"\",C107<>\"\"),0,IF(D108+C108>0,D108+C108,0)*VLOOKUP(MONTH(B107),'NRI (Auto)'!$R$6:$T$17,3,0)),\"\")","v":""},{"$f":"IFERROR(NRI!$P$3+D107,\"\")","v":""},{"$error":"#DIV/0!"}]
[8,{"$f":"'URC VAR'!B108","v":"1994-08-01"},{"$f":"IFERROR('URC VAR'!C108*-1,\"\")","v":0},{"$f":"IFERROR(IF(AND(C109=\"\",C108<>\"\"),0,IF(D109+C109>0,D109+C109,0)*VLOOKUP(MONTH(B108),'NRI (Auto)'!$R$6:$T$17,3,0)),\"\")","v":""},{"$f":"IFERROR(NRI!$P$3+D108,\"\")","v":""},{"$error":"#DIV/0!"}]
[9,{"$f":"'URC VAR'!B109","v":"1994-09-01"},{"$f":"IFERROR('URC VAR'!C109*-1,\"\")","v":0},{"$f":"IFERROR(IF(AND(C110=\"\",C109<>\"\"),0,IF(D110+C110>0,D110+C110,0)*VLOOKUP(MONTH(B109),'NRI (Auto)'!$R$6:$T$17,3,0)),\"\")","v":""},{"$f":"IFERROR(NRI!$P$3+D109,\"\")","v":""},{"$error":"#DIV/0!"}]
[10,{"$f":"'URC VAR'!B110","v":"1994-10-01"},{"$f":"IFERROR('URC VAR'!C110*-1,\"\")","v":0},{"$f":"IFERROR(IF(AND(C111=\"\",C110<>\"\"),0,IF(D111+C111>0,D111+C111,0)*VLOOKUP(MONTH(B110),'NRI (Auto)'!$R$6:$T$17,3,0)),\"\")","v":""},{"$f":"IFERROR(NRI!$P$3+D110,\"\")","v":""},{"$error":"#DIV/0!"}]
[11,{"$f":"'URC VAR'!B111","v":"1994-11-01"},{"$f":"IFERROR('URC VAR'!C111*-1,\"\")","v":0},{"$f":"IFERROR(IF(AND(C112=\"\",C111<>\"\"),0,IF(D112+C112>0,D112+C112,0)*VLOOKUP(MONTH(B111),'NRI (Auto)'!$R$6:$T$17,3,0)),\"\")","v":""},{"$f":"IFERROR(NRI!$P$3+D111,\"\")","v":""},{"$error":"#DIV/0!"}]
[12,{"$f":"'URC VAR'!B112","v":"1994-12-01"},{"$f":"IFERROR('URC VAR'!C112*-1,\"\")","v":0},{"$f":"IFERROR(IF(AND(C113=\"\",C112<>\"\"),0,IF(D113+C113>0,D113+C113,0)*VLOOKUP(MONTH(B112),'NRI (Auto)'!$R$6:$T$17,3,0)),\"\")","v":""},{"$f":"IFERROR(NRI!$P$3+D112,\"\")","v":""},{"$error":"#DIV/0!"}]
[1,{"$f":"'URC VAR'!B113","v":"1995-01-01"},{"$f":"IFERROR('URC VAR'!C113*-1,\"\")","v":0},{"$f":"IFERROR(IF(AND(C114=\"\",C113<>\"\"),0,IF(D114+C114>0,D114+C114,0)*VLOOKUP(MONTH(B113),'NRI (Auto)'!$R$6:$T$17,3,0)),\"\")","v":""},{"$f":"IFERROR(NRI!$P$3+D113,\"\")","v":""},{"$error":"#DIV/0!"}]
[2,{"$f":"'URC VAR'!B114","v":"1995-02-01"},{"$f":"IFERROR('URC VAR'!C114*-1,\"\")","v":0},{"$f":"IFERROR(IF(AND(C115=\"\",C114<>\"\"),0,IF(D115+C115>0,D115+C115,0)*VLOOKUP(MONTH(B114),'NRI (Auto)'!$R$6:$T$17,3,0)),\"\")","v":""},{"$f":"IFERROR(NRI!$P$3+D114,\"\")","v":""},{"$error":"#DIV/0!"}]
[3,{"$f":"'URC VAR'!B115","v":"1995-03-01"},{"$f":"IFERROR('URC VAR'!C115*-1,\"\")","v":0},{"$f":"IFERROR(IF(AND(C116=\"\",C115<>\"\"),0,IF(D116+C116>0,D116+C116,0)*VLOOKUP(MONTH(B115),'NRI (Auto)'!$R$6:$T$17,3,0)),\"\")","v":""},{"$f":"IFERROR(NRI!$P$3+D115,\"\")","v":""},{"$error":"#DIV/0!"}]
[4,{"$f":"'URC VAR'!B116","v":"1995-04-01"},{"$f":"IFERROR('URC VAR'!C116*-1,\"\")","v":0},{"$f":"IFERROR(IF(AND(C117=\"\",C116<>\"\"),0,IF(D117+C117>0,D117+C117,0)*VLOOKUP(MONTH(B116),'NRI (Auto)'!$R$6:$T$17,3,0)),\"\")","v":""},{"$f":"IFERROR(NRI!$P$3+D116,\"\")","v":""},{"$error":"#DIV/0!"}]
[5,{"$f":"'URC VAR'!B117","v":"1995-05-01"},{"$f":"IFERROR('URC VAR'!C117*-1,\"\")","v":0},{"$f":"IFERROR(IF(AND(C118=\"\",C117<>\"\"),0,IF(D118+C118>0,D118+C118,0)*VLOOKUP(MONTH(B117),'NRI (Auto)'!$R$6:$T$17,3,0)),\"\")","v":""},{"$f":"IFERROR(NRI!$P$3+D117,\"\")","v":""},{"$error":"#DIV/0!"}]
[6,{"$f":"'URC VAR'!B118","v":"1995-06-01"},{"$f":"IFERROR('URC VAR'!C118*-1,\"\")","v":0},{"$f":"IFERROR(IF(AND(C119=\"\",C118<>\"\"),0,IF(D119+C119>0,D119+C119,0)*VLOOKUP(MONTH(B118),'NRI (Auto)'!$R$6:$T$17,3,0)),\"\")","v":""},{"$f":"IFERROR(NRI!$P$3+D118,\"\")","v":""},{"$error":"#DIV/0!"}]
[7,{"$f":"'URC VAR'!B119","v":"1995-07-01"},{"$f":"IFERROR('URC VAR'!C119*-1,\"\")","v":0},{"$f":"IFERROR(IF(AND(C120=\"\",C119<>\"\"),0,IF(D120+C120>0,D120+C120,0)*VLOOKUP(MONTH(B119),'NRI (Auto)'!$R$6:$T$17,3,0)),\"\")","v":""},{"$f":"IFERROR(NRI!$P$3+D119,\"\")","v":""},{"$error":"#DIV/0!"}]
[8,{"$f":"'URC VAR'!B120","v":"1995-08-01"},{"$f":"IFERROR('URC VAR'!C120*-1,\"\")","v":0},{"$f":"IFERROR(IF(AND(C121=\"\",C120<>\"\"),0,IF(D121+C121>0,D121+C121,0)*VLOOKUP(MONTH(B120),'NRI (Auto)'!$R$6:$T$17,3,0)),\"\")","v":""},{"$f":"IFERROR(NRI!$P$3+D120,\"\")","v":""},{"$error":"#DIV/0!"}]
[9,{"$f":"'URC VAR'!B121","v":"1995-09-01"},{"$f":"IFERROR('URC VAR'!C121*-1,\"\")","v":0},{"$f":"IFERROR(IF(AND(C122=\"\",C121<>\"\"),0,IF(D122+C122>0,D122+C122,0)*VLOOKUP(MONTH(B121),'NRI (Auto)'!$R$6:$T$17,3,0)),\"\")","v":""},{"$f":"IFERROR(NRI!$P$3+D121,\"\")","v":""},{"$error":"#DIV/0!"}]
[10,{"$f":"'URC VAR'!B122","v":"1995-10-01"},{"$f":"IFERROR('URC VAR'!C122*-1,\"\")","v":0},{"$f":"IFERROR(IF(AND(C123=\"\",C122<>\"\"),0,IF(D123+C123>0,D123+C123,0)*VLOOKUP(MONTH(B122),'NRI (Auto)'!$R$6:$T$17,3,0)),\"\")","v":""},{"$f":"IFERROR(NRI!$P$3+D122,\"\")","v":""},{"$error":"#DIV/0!"}]
[11,{"$f":"'URC VAR'!B123","v":"1995-11-01"},{"$f":"IFERROR('URC VAR'!C123*-1,\"\")","v":0},{"$f":"IFERROR(IF(AND(C124=\"\",C123<>\"\"),0,IF(D124+C124>0,D124+C124,0)*VLOOKUP(MONTH(B123),'NRI (Auto)'!$R$6:$T$17,3,0)),\"\")","v":""},{"$f":"IFERROR(NRI!$P$3+D123,\"\")","v":""},{"$error":"#DIV/0!"}]
[12,{"$f":"'URC VAR'!B124","v":"1995-12-01"},{"$f":"IFERROR('URC VAR'!C124*-1,\"\")","v":0},{"$f":"IFERROR(IF(AND(C125=\"\",C124<>\"\"),0,IF(D125+C125>0,D125+C125,0)*VLOOKUP(MONTH(B124),'NRI (Auto)'!$R$6:$T$17,3,0)),\"\")","v":""},{"$f":"IFERROR(NRI!$P$3+D124,\"\")","v":""},{"$error":"#DIV/0!"}]
[1,{"$f":"'URC VAR'!B125","v":"1996-01-01"},{"$f":"IFERROR('URC VAR'!C125*-1,\"\")","v":0},{"$f":"IFERROR(IF(AND(C126=\"\",C125<>\"\"),0,IF(D126+C126>0,D126+C126,0)*VLOOKUP(MONTH(B125),'NRI (Auto)'!$R$6:$T$17,3,0)),\"\")","v":""},{"$f":"IFERROR(NRI!$P$3+D125,\"\")","v":""},{"$error":"#DIV/0!"}]
[2,{"$f":"'URC VAR'!B126","v":"1996-02-01"},{"$f":"IFERROR('URC VAR'!C126*-1,\"\")","v":0},{"$f":"IFERROR(IF(AND(C127=\"\",C126<>\"\"),0,IF(D127+C127>0,D127+C127,0)*VLOOKUP(MONTH(B126),'NRI (Auto)'!$R$6:$T$17,3,0)),\"\")","v":""},{"$f":"IFERROR(NRI!$P$3+D126,\"\")","v":""},{"$error":"#DIV/0!"}]
[3,{"$f":"'URC VAR'!B127","v":"1996-03-01"},{"$f":"IFERROR('URC VAR'!C127*-1,\"\")","v":0},{"$f":"IFERROR(IF(AND(C128=\"\",C127<>\"\"),0,IF(D128+C128>0,D128+C128,0)*VLOOKUP(MONTH(B127),'NRI (Auto)'!$R$6:$T$17,3,0)),\"\")","v":""},{"$f":"IFERROR(NRI!$P$3+D127,\"\")","v":""},{"$error":"#DIV/0!"}]
[4,{"$f":"'URC VAR'!B128","v":"1996-04-01"},{"$f":"IFERROR('URC VAR'!C128*-1,\"\")","v":0},{"$f":"IFERROR(IF(AND(C129=\"\",C128<>\"\"),0,IF(D129+C129>0,D129+C129,0)*VLOOKUP(MONTH(B128),'NRI (Auto)'!$R$6:$T$17,3,0)),\"\")","v":""},{"$f":"IFERROR(NRI!$P$3+D128,\"\")","v":""},{"$error":"#DIV/0!"}]
[5,{"$f":"'URC VAR'!B129","v":"1996-05-01"},{"$f":"IFERROR('URC VAR'!C129*-1,\"\")","v":0},{"$f":"IFERROR(IF(AND(C130=\"\",C129<>\"\"),0,IF(D130+C130>0,D130+C130,0)*VLOOKUP(MONTH(B129),'NRI (Auto)'!$R$6:$T$17,3,0)),\"\")","v":""},{"$f":"IFERROR(NRI!$P$3+D129,\"\")","v":""},{"$error":"#DIV/0!"}]
[6,{"$f":"'URC VAR'!B130","v":"1996-06-01"},{"$f":"IFERROR('URC VAR'!C130*-1,\"\")","v":0},{"$f":"IFERROR(IF(AND(C131=\"\",C130<>\"\"),0,IF(D131+C131>0,D131+C131,0)*VLOOKUP(MONTH(B130),'NRI (Auto)'!$R$6:$T$17,3,0)),\"\")","v":""},{"$f":"IFERROR(NRI!$P$3+D130,\"\")","v":""},{"$error":"#DIV/0!"}]
[7,{"$f":"'URC VAR'!B131","v":"1996-07-01"},{"$f":"IFERROR('URC VAR'!C131*-1,\"\")","v":0},{"$f":"IFERROR(IF(AND(C132=\"\",C131<>\"\"),0,IF(D132+C132>0,D132+C132,0)*VLOOKUP(MONTH(B131),'NRI (Auto)'!$R$6:$T$17,3,0)),\"\")","v":""},{"$f":"IFERROR(NRI!$P$3+D131,\"\")","v":""},{"$error":"#DIV/0!"}]
[8,{"$f":"'URC VAR'!B132","v":"1996-08-01"},{"$f":"IFERROR('URC VAR'!C132*-1,\"\")","v":0},{"$f":"IFERROR(IF(AND(C133=\"\",C132<>\"\"),0,IF(D133+C133>0,D133+C133,0)*VLOOKUP(MONTH(B132),'NRI (Auto)'!$R$6:$T$17,3,0)),\"\")","v":""},{"$f":"IFERROR(NRI!$P$3+D132,\"\")","v":""},{"$error":"#DIV/0!"}]
[9,{"$f":"'URC VAR'!B133","v":"1996-09-01"},{"$f":"IFERROR('URC VAR'!C133*-1,\"\")","v":0},{"$f":"IFERROR(IF(AND(C134=\"\",C133<>\"\"),0,IF(D134+C134>0,D134+C134,0)*VLOOKUP(MONTH(B133),'NRI (Auto)'!$R$6:$T$17,3,0)),\"\")","v":""},{"$f":"IFERROR(NRI!$P$3+D133,\"\")","v":""},{"$error":"#DIV/0!"}]
[10,{"$f":"'URC VAR'!B134","v":"1996-10-01"},{"$f":"IFERROR('URC VAR'!C134*-1,\"\")","v":0},{"$f":"IFERROR(IF(AND(C135=\"\",C134<>\"\"),0,IF(D135+C135>0,D135+C135,0)*VLOOKUP(MONTH(B134),'NRI (Auto)'!$R$6:$T$17,3,0)),\"\")","v":""},{"$f":"IFERROR(NRI!$P$3+D134,\"\")","v":""},{"$error":"#DIV/0!"}]
[11,{"$f":"'URC VAR'!B135","v":"1996-11-01"},{"$f":"IFERROR('URC VAR'!C135*-1,\"\")","v":0},{"$f":"IFERROR(IF(AND(C136=\"\",C135<>\"\"),0,IF(D136+C136>0,D136+C136,0)*VLOOKUP(MONTH(B135),'NRI (Auto)'!$R$6:$T$17,3,0)),\"\")","v":""},{"$f":"IFERROR(NRI!$P$3+D135,\"\")","v":""},{"$error":"#DIV/0!"}]
[12,{"$f":"'URC VAR'!B136","v":"1996-12-01"},{"$f":"IFERROR('URC VAR'!C136*-1,\"\")","v":0},{"$f":"IFERROR(IF(AND(C137=\"\",C136<>\"\"),0,IF(D137+C137>0,D137+C137,0)*VLOOKUP(MONTH(B136),'NRI (Auto)'!$R$6:$T$17,3,0)),\"\")","v":""},{"$f":"IFERROR(NRI!$P$3+D136,\"\")","v":""},{"$error":"#DIV/0!"}]
[1,{"$f":"'URC VAR'!B137","v":"1997-01-01"},{"$f":"IFERROR('URC VAR'!C137*-1,\"\")","v":0},{"$f":"IFERROR(IF(AND(C138=\"\",C137<>\"\"),0,IF(D138+C138>0,D138+C138,0)*VLOOKUP(MONTH(B137),'NRI (Auto)'!$R$6:$T$17,3,0)),\"\")","v":""},{"$f":"IFERROR(NRI!$P$3+D137,\"\")","v":""},{"$error":"#DIV/0!"}]
[2,{"$f":"'URC VAR'!B138","v":"1997-02-01"},{"$f":"IFERROR('URC VAR'!C138*-1,\"\")","v":0},{"$f":"IFERROR(IF(AND(C139=\"\",C138<>\"\"),0,IF(D139+C139>0,D139+C139,0)*VLOOKUP(MONTH(B138),'NRI (Auto)'!$R$6:$T$17,3,0)),\"\")","v":""},{"$f":"IFERROR(NRI!$P$3+D138,\"\")","v":""},{"$error":"#DIV/0!"}]
[3,{"$f":"'URC VAR'!B139","v":"1997-03-01"},{"$f":"IFERROR('URC VAR'!C139*-1,\"\")","v":0},{"$f":"IFERROR(IF(AND(C140=\"\",C139<>\"\"),0,IF(D140+C140>0,D140+C140,0)*VLOOKUP(MONTH(B139),'NRI (Auto)'!$R$6:$T$17,3,0)),\"\")","v":""},{"$f":"IFERROR(NRI!$P$3+D139,\"\")","v":""},{"$error":"#DIV/0!"}]
[4,{"$f":"'URC VAR'!B140","v":"1997-04-01"},{"$f":"IFERROR('URC VAR'!C140*-1,\"\")","v":0},{"$f":"IFERROR(IF(AND(C141=\"\",C140<>\"\"),0,IF(D141+C141>0,D141+C141,0)*VLOOKUP(MONTH(B140),'NRI (Auto)'!$R$6:$T$17,3,0)),\"\")","v":""},{"$f":"IFERROR(NRI!$P$3+D140,\"\")","v":""},{"$error":"#DIV/0!"}]
[5,{"$f":"'URC VAR'!B141","v":"1997-05-01"},{"$f":"IFERROR('URC VAR'!C141*-1,\"\")","v":0},{"$f":"IFERROR(IF(AND(C142=\"\",C141<>\"\"),0,IF(D142+C142>0,D142+C142,0)*VLOOKUP(MONTH(B141),'NRI (Auto)'!$R$6:$T$17,3,0)),\"\")","v":""},{"$f":"IFERROR(NRI!$P$3+D141,\"\")","v":""},{"$error":"#DIV/0!"}]
[6,{"$f":"'URC VAR'!B142","v":"1997-06-01"},{"$f":"IFERROR('URC VAR'!C142*-1,\"\")","v":0},{"$f":"IFERROR(IF(AND(C143=\"\",C142<>\"\"),0,IF(D143+C143>0,D143+C143,0)*VLOOKUP(MONTH(B142),'NRI (Auto)'!$R$6:$T$17,3,0)),\"\")","v":""},{"$f":"IFERROR(NRI!$P$3+D142,\"\")","v":""},{"$error":"#DIV/0!"}]
[7,{"$f":"'URC VAR'!B143","v":"1997-07-01"},{"$f":"IFERROR('URC VAR'!C143*-1,\"\")","v":0},{"$f":"IFERROR(IF(AND(C144=\"\",C143<>\"\"),0,IF(D144+C144>0,D144+C144,0)*VLOOKUP(MONTH(B143),'NRI (Auto)'!$R$6:$T$17,3,0)),\"\")","v":""},{"$f":"IFERROR(NRI!$P$3+D143,\"\")","v":""},{"$error":"#DIV/0!"}]
[8,{"$f":"'URC VAR'!B144","v":"1997-08-01"},{"$f":"IFERROR('URC VAR'!C144*-1,\"\")","v":0},{"$f":"IFERROR(IF(AND(C145=\"\",C144<>\"\"),0,IF(D145+C145>0,D145+C145,0)*VLOOKUP(MONTH(B144),'NRI (Auto)'!$R$6:$T$17,3,0)),\"\")","v":""},{"$f":"IFERROR(NRI!$P$3+D144,\"\")","v":""},{"$error":"#DIV/0!"}]
[9,{"$f":"'URC VAR'!B145","v":"1997-09-01"},{"$f":"IFERROR('URC VAR'!C145*-1,\"\")","v":0},{"$f":"IFERROR(IF(AND(C146=\"\",C145<>\"\"),0,IF(D146+C146>0,D146+C146,0)*VLOOKUP(MONTH(B145),'NRI (Auto)'!$R$6:$T$17,3,0)),\"\")","v":""},{"$f":"IFERROR(NRI!$P$3+D145,\"\")","v":""},{"$error":"#DIV/0!"}]
[{"$f":"+A134","v":10},{"$f":"'URC VAR'!B146","v":"1997-10-01"},{"$f":"IFERROR('URC VAR'!C146*-1,\"\")","v":0},{"$f":"IFERROR(IF(AND(C147=\"\",C146<>\"\"),0,IF(D147+C147>0,D147+C147,0)*VLOOKUP(MONTH(B146),'NRI (Auto)'!$R$6:$T$17,3,0)),\"\")","v":""},{"$f":"IFERROR(NRI!$P$3+D146,\"\")","v":""},{"$f":"+F134","v":{"$error":"#DIV/0!"}}]
[11,{"$f":"'URC VAR'!B147","v":"1997-11-01"},{"$f":"IFERROR('URC VAR'!C147*-1,\"\")","v":0},{"$f":"IFERROR(IF(AND(C148=\"\",C147<>\"\"),0,IF(D148+C148>0,D148+C148,0)*VLOOKUP(MONTH(B147),'NRI (Auto)'!$R$6:$T$17,3,0)),\"\")","v":""},{"$f":"IFERROR(NRI!$P$3+D147,\"\")","v":""},{"$error":"#DIV/0!"}]
[12,{"$f":"'URC VAR'!B148","v":"1997-12-01"},{"$f":"IFERROR('URC VAR'!C148*-1,\"\")","v":0},{"$f":"IFERROR(IF(AND(C149=\"\",C148<>\"\"),0,IF(D149+C149>0,D149+C149,0)*VLOOKUP(MONTH(B148),'NRI (Auto)'!$R$6:$T$17,3,0)),\"\")","v":""},{"$f":"IFERROR(NRI!$P$3+D148,\"\")","v":""},{"$error":"#DIV/0!"}]
[1,{"$f":"'URC VAR'!B149","v":"1998-01-01"},{"$f":"IFERROR('URC VAR'!C149*-1,\"\")","v":0},{"$f":"IFERROR(IF(AND(C150=\"\",C149<>\"\"),0,IF(D150+C150>0,D150+C150,0)*VLOOKUP(MONTH(B149),'NRI (Auto)'!$R$6:$T$17,3,0)),\"\")","v":""},{"$f":"IFERROR(NRI!$P$3+D149,\"\")","v":""},{"$error":"#DIV/0!"}]
[2,{"$f":"'URC VAR'!B150","v":"1998-02-01"},{"$f":"IFERROR('URC VAR'!C150*-1,\"\")","v":0},{"$f":"IFERROR(IF(AND(C151=\"\",C150<>\"\"),0,IF(D151+C151>0,D151+C151,0)*VLOOKUP(MONTH(B150),'NRI (Auto)'!$R$6:$T$17,3,0)),\"\")","v":""},{"$f":"IFERROR(NRI!$P$3+D150,\"\")","v":""},{"$error":"#DIV/0!"}]
[3,{"$f":"'URC VAR'!B151","v":"1998-03-01"},{"$f":"IFERROR('URC VAR'!C151*-1,\"\")","v":0},{"$f":"IFERROR(IF(AND(C152=\"\",C151<>\"\"),0,IF(D152+C152>0,D152+C152,0)*VLOOKUP(MONTH(B151),'NRI (Auto)'!$R$6:$T$17,3,0)),\"\")","v":""},{"$f":"IFERROR(NRI!$P$3+D151,\"\")","v":""},{"$error":"#DIV/0!"}]
[4,{"$f":"'URC VAR'!B152","v":"1998-04-01"},{"$f":"IFERROR('URC VAR'!C152*-1,\"\")","v":0},{"$f":"IFERROR(IF(AND(C153=\"\",C152<>\"\"),0,IF(D153+C153>0,D153+C153,0)*VLOOKUP(MONTH(B152),'NRI (Auto)'!$R$6:$T$17,3,0)),\"\")","v":""},{"$f":"IFERROR(NRI!$P$3+D152,\"\")","v":""},{"$error":"#DIV/0!"}]
[5,{"$f":"'URC VAR'!B153","v":"1998-05-01"},{"$f":"IFERROR('URC VAR'!C153*-1,\"\")","v":0},{"$f":"IFERROR(IF(AND(C154=\"\",C153<>\"\"),0,IF(D154+C154>0,D154+C154,0)*VLOOKUP(MONTH(B153),'NRI (Auto)'!$R$6:$T$17,3,0)),\"\")","v":""},{"$f":"IFERROR(NRI!$P$3+D153,\"\")","v":""},{"$error":"#DIV/0!"}]
[6,{"$f":"'URC VAR'!B154","v":"1998-06-01"},{"$f":"IFERROR('URC VAR'!C154*-1,\"\")","v":0},{"$f":"IFERROR(IF(AND(C155=\"\",C154<>\"\"),0,IF(D155+C155>0,D155+C155,0)*VLOOKUP(MONTH(B154),'NRI (Auto)'!$R$6:$T$17,3,0)),\"\")","v":""},{"$f":"IFERROR(NRI!$P$3+D154,\"\")","v":""},{"$error":"#DIV/0!"}]
[7,{"$f":"'URC VAR'!B155","v":"1998-07-01"},{"$f":"IFERROR('URC VAR'!C155*-1,\"\")","v":0},{"$f":"IFERROR(IF(AND(C156=\"\",C155<>\"\"),0,IF(D156+C156>0,D156+C156,0)*VLOOKUP(MONTH(B155),'NRI (Auto)'!$R$6:$T$17,3,0)),\"\")","v":""},{"$f":"IFERROR(NRI!$P$3+D155,\"\")","v":""},{"$error":"#DIV/0!"}]
[8,{"$f":"'URC VAR'!B156","v":"1998-08-01"},{"$f":"IFERROR('URC VAR'!C156*-1,\"\")","v":0},{"$f":"IFERROR(IF(AND(C157=\"\",C156<>\"\"),0,IF(D157+C157>0,D157+C157,0)*VLOOKUP(MONTH(B156),'NRI (Auto)'!$R$6:$T$17,3,0)),\"\")","v":""},{"$f":"IFERROR(NRI!$P$3+D156,\"\")","v":""},{"$error":"#DIV/0!"}]
[9,{"$f":"'URC VAR'!B157","v":"1998-09-01"},{"$f":"IFERROR('URC VAR'!C157*-1,\"\")","v":0},{"$f":"IFERROR(IF(AND(C158=\"\",C157<>\"\"),0,IF(D158+C158>0,D158+C158,0)*VLOOKUP(MONTH(B157),'NRI (Auto)'!$R$6:$T$17,3,0)),\"\")","v":""},{"$f":"IFERROR(NRI!$P$3+D157,\"\")","v":""},{"$error":"#DIV/0!"}]
[10,{"$f":"'URC VAR'!B158","v":"1998-10-01"},{"$f":"IFERROR('URC VAR'!C158*-1,\"\")","v":0},{"$f":"IFERROR(IF(AND(C159=\"\",C158<>\"\"),0,IF(D159+C159>0,D159+C159,0)*VLOOKUP(MONTH(B158),'NRI (Auto)'!$R$6:$T$17,3,0)),\"\")","v":""},{"$f":"IFERROR(NRI!$P$3+D158,\"\")","v":""},{"$error":"#DIV/0!"}]
[11,{"$f":"'URC VAR'!B159","v":"1998-11-01"},{"$f":"IFERROR('URC VAR'!C159*-1,\"\")","v":0},{"$f":"IFERROR(IF(AND(C160=\"\",C159<>\"\"),0,IF(D160+C160>0,D160+C160,0)*VLOOKUP(MONTH(B159),'NRI (Auto)'!$R$6:$T$17,3,0)),\"\")","v":""},{"$f":"IFERROR(NRI!$P$3+D159,\"\")","v":""},{"$error":"#DIV/0!"}]
[12,{"$f":"'URC VAR'!B160","v":"1998-12-01"},{"$f":"IFERROR('URC VAR'!C160*-1,\"\")","v":0},{"$f":"IFERROR(IF(AND(C161=\"\",C160<>\"\"),0,IF(D161+C161>0,D161+C161,0)*VLOOKUP(MONTH(B160),'NRI (Auto)'!$R$6:$T$17,3,0)),\"\")","v":""},{"$f":"IFERROR(NRI!$P$3+D160,\"\")","v":""},{"$error":"#DIV/0!"}]
[1,{"$f":"'URC VAR'!B161","v":"1999-01-01"},{"$f":"IFERROR('URC VAR'!C161*-1,\"\")","v":0},{"$f":"IFERROR(IF(AND(C162=\"\",C161<>\"\"),0,IF(D162+C162>0,D162+C162,0)*VLOOKUP(MONTH(B161),'NRI (Auto)'!$R$6:$T$17,3,0)),\"\")","v":""},{"$f":"IFERROR(NRI!$P$3+D161,\"\")","v":""},{"$error":"#DIV/0!"}]
[2,{"$f":"'URC VAR'!B162","v":"1999-02-01"},{"$f":"IFERROR('URC VAR'!C162*-1,\"\")","v":0},{"$f":"IFERROR(IF(AND(C163=\"\",C162<>\"\"),0,IF(D163+C163>0,D163+C163,0)*VLOOKUP(MONTH(B162),'NRI (Auto)'!$R$6:$T$17,3,0)),\"\")","v":""},{"$f":"IFERROR(NRI!$P$3+D162,\"\")","v":""},{"$error":"#DIV/0!"}]
[3,{"$f":"'URC VAR'!B163","v":"1999-03-01"},{"$f":"IFERROR('URC VAR'!C163*-1,\"\")","v":0},{"$f":"IFERROR(IF(AND(C164=\"\",C163<>\"\"),0,IF(D164+C164>0,D164+C164,0)*VLOOKUP(MONTH(B163),'NRI (Auto)'!$R$6:$T$17,3,0)),\"\")","v":""},{"$f":"IFERROR(NRI!$P$3+D163,\"\")","v":""},{"$error":"#DIV/0!"}]
[4,{"$f":"'URC VAR'!B164","v":"1999-04-01"},{"$f":"IFERROR('URC VAR'!C164*-1,\"\")","v":0},{"$f":"IFERROR(IF(AND(C165=\"\",C164<>\"\"),0,IF(D165+C165>0,D165+C165,0)*VLOOKUP(MONTH(B164),'NRI (Auto)'!$R$6:$T$17,3,0)),\"\")","v":""},{"$f":"IFERROR(NRI!$P$3+D164,\"\")","v":""},{"$error":"#DIV/0!"}]
[5,{"$f":"'URC VAR'!B165","v":"1999-05-01"},{"$f":"IFERROR('URC VAR'!C165*-1,\"\")","v":0},{"$f":"IFERROR(IF(AND(C166=\"\",C165<>\"\"),0,IF(D166+C166>0,D166+C166,0)*VLOOKUP(MONTH(B165),'NRI (Auto)'!$R$6:$T$17,3,0)),\"\")","v":""},{"$f":"IFERROR(NRI!$P$3+D165,\"\")","v":""},{"$error":"#DIV/0!"}]
[6,{"$f":"'URC VAR'!B166","v":"1999-06-01"},{"$f":"IFERROR('URC VAR'!C166*-1,\"\")","v":0},{"$f":"IFERROR(IF(AND(C167=\"\",C166<>\"\"),0,IF(D167+C167>0,D167+C167,0)*VLOOKUP(MONTH(B166),'NRI (Auto)'!$R$6:$T$17,3,0)),\"\")","v":""},{"$f":"IFERROR(NRI!$P$3+D166,\"\")","v":""},{"$error":"#DIV/0!"}]
[7,{"$f":"'URC VAR'!B167","v":"1999-07-01"},{"$f":"IFERROR('URC VAR'!C167*-1,\"\")","v":0},{"$f":"IFERROR(IF(AND(C168=\"\",C167<>\"\"),0,IF(D168+C168>0,D168+C168,0)*VLOOKUP(MONTH(B167),'NRI (Auto)'!$R$6:$T$17,3,0)),\"\")","v":""},{"$f":"IFERROR(NRI!$P$3+D167,\"\")","v":""},{"$error":"#DIV/0!"}]
[8,{"$f":"'URC VAR'!B168","v":"1999-08-01"},{"$f":"IFERROR('URC VAR'!C168*-1,\"\")","v":0},{"$f":"IFERROR(IF(AND(C169=\"\",C168<>\"\"),0,IF(D169+C169>0,D169+C169,0)*VLOOKUP(MONTH(B168),'NRI (Auto)'!$R$6:$T$17,3,0)),\"\")","v":""},{"$f":"IFERROR(NRI!$P$3+D168,\"\")","v":""},{"$error":"#DIV/0!"}]
[9,{"$f":"'URC VAR'!B169","v":"1999-09-01"},{"$f":"IFERROR('URC VAR'!C169*-1,\"\")","v":0},{"$f":"IFERROR(IF(AND(C170=\"\",C169<>\"\"),0,IF(D170+C170>0,D170+C170,0)*VLOOKUP(MONTH(B169),'NRI (Auto)'!$R$6:$T$17,3,0)),\"\")","v":""},{"$f":"IFERROR(NRI!$P$3+D169,\"\")","v":""},{"$error":"#DIV/0!"}]
[10,{"$f":"'URC VAR'!B170","v":"1999-10-01"},{"$f":"IFERROR('URC VAR'!C170*-1,\"\")","v":0},{"$f":"IFERROR(IF(AND(C171=\"\",C170<>\"\"),0,IF(D171+C171>0,D171+C171,0)*VLOOKUP(MONTH(B170),'NRI (Auto)'!$R$6:$T$17,3,0)),\"\")","v":""},{"$f":"IFERROR(NRI!$P$3+D170,\"\")","v":""},{"$error":"#DIV/0!"}]
[11,{"$f":"'URC VAR'!B171","v":"1999-11-01"},{"$f":"IFERROR('URC VAR'!C171*-1,\"\")","v":0},{"$f":"IFERROR(IF(AND(C172=\"\",C171<>\"\"),0,IF(D172+C172>0,D172+C172,0)*VLOOKUP(MONTH(B171),'NRI (Auto)'!$R$6:$T$17,3,0)),\"\")","v":""},{"$f":"IFERROR(NRI!$P$3+D171,\"\")","v":""},{"$error":"#DIV/0!"}]
[12,{"$f":"'URC VAR'!B172","v":"1999-12-01"},{"$f":"IFERROR('URC VAR'!C172*-1,\"\")","v":0},{"$f":"IFERROR(IF(AND(C173=\"\",C172<>\"\"),0,IF(D173+C173>0,D173+C173,0)*VLOOKUP(MONTH(B172),'NRI (Auto)'!$R$6:$T$17,3,0)),\"\")","v":""},{"$f":"IFERROR(NRI!$P$3+D172,\"\")","v":""},{"$error":"#DIV/0!"}]
[1,{"$f":"'URC VAR'!B173","v":"2000-01-01"},{"$f":"IFERROR('URC VAR'!C173*-1,\"\")","v":0},{"$f":"IFERROR(IF(AND(C174=\"\",C173<>\"\"),0,IF(D174+C174>0,D174+C174,0)*VLOOKUP(MONTH(B173),'NRI (Auto)'!$R$6:$T$17,3,0)),\"\")","v":""},{"$f":"IFERROR(NRI!$P$3+D173,\"\")","v":""},{"$error":"#DIV/0!"}]
[2,{"$f":"'URC VAR'!B174","v":"2000-02-01"},{"$f":"IFERROR('URC VAR'!C174*-1,\"\")","v":0},{"$f":"IFERROR(IF(AND(C175=\"\",C174<>\"\"),0,IF(D175+C175>0,D175+C175,0)*VLOOKUP(MONTH(B174),'NRI (Auto)'!$R$6:$T$17,3,0)),\"\")","v":""},{"$f":"IFERROR(NRI!$P$3+D174,\"\")","v":""},{"$error":"#DIV/0!"}]
[3,{"$f":"'URC VAR'!B175","v":"2000-03-01"},{"$f":"IFERROR('URC VAR'!C175*-1,\"\")","v":0},{"$f":"IFERROR(IF(AND(C176=\"\",C175<>\"\"),0,IF(D176+C176>0,D176+C176,0)*VLOOKUP(MONTH(B175),'NRI (Auto)'!$R$6:$T$17,3,0)),\"\")","v":""},{"$f":"IFERROR(NRI!$P$3+D175,\"\")","v":""},{"$error":"#DIV/0!"}]
[4,{"$f":"'URC VAR'!B176","v":"2000-04-01"},{"$f":"IFERROR('URC VAR'!C176*-1,\"\")","v":0},{"$f":"IFERROR(IF(AND(C177=\"\",C176<>\"\"),0,IF(D177+C177>0,D177+C177,0)*VLOOKUP(MONTH(B176),'NRI (Auto)'!$R$6:$T$17,3,0)),\"\")","v":""},{"$f":"IFERROR(NRI!$P$3+D176,\"\")","v":""},{"$error":"#DIV/0!"}]
[5,{"$f":"'URC VAR'!B177","v":"2000-05-01"},{"$f":"IFERROR('URC VAR'!C177*-1,\"\")","v":0},{"$f":"IFERROR(IF(AND(C178=\"\",C177<>\"\"),0,IF(D178+C178>0,D178+C178,0)*VLOOKUP(MONTH(B177),'NRI (Auto)'!$R$6:$T$17,3,0)),\"\")","v":""},{"$f":"IFERROR(NRI!$P$3+D177,\"\")","v":""},{"$error":"#DIV/0!"}]
[6,{"$f":"'URC VAR'!B178","v":"2000-06-01"},{"$f":"IFERROR('URC VAR'!C178*-1,\"\")","v":0},{"$f":"IFERROR(IF(AND(C179=\"\",C178<>\"\"),0,IF(D179+C179>0,D179+C179,0)*VLOOKUP(MONTH(B178),'NRI (Auto)'!$R$6:$T$17,3,0)),\"\")","v":""},{"$f":"IFERROR(NRI!$P$3+D178,\"\")","v":""},{"$error":"#DIV/0!"}]
[7,{"$f":"'URC VAR'!B179","v":"2000-07-01"},{"$f":"IFERROR('URC VAR'!C179*-1,\"\")","v":0},{"$f":"IFERROR(IF(AND(C180=\"\",C179<>\"\"),0,IF(D180+C180>0,D180+C180,0)*VLOOKUP(MONTH(B179),'NRI (Auto)'!$R$6:$T$17,3,0)),\"\")","v":""},{"$f":"IFERROR(NRI!$P$3+D179,\"\")","v":""},{"$error":"#DIV/0!"}]
[8,{"$f":"'URC VAR'!B180","v":"2000-08-01"},{"$f":"IFERROR('URC VAR'!C180*-1,\"\")","v":0},{"$f":"IFERROR(IF(AND(C181=\"\",C180<>\"\"),0,IF(D181+C181>0,D181+C181,0)*VLOOKUP(MONTH(B180),'NRI (Auto)'!$R$6:$T$17,3,0)),\"\")","v":""},{"$f":"IFERROR(NRI!$P$3+D180,\"\")","v":""},{"$error":"#DIV/0!"}]
[9,{"$f":"'URC VAR'!B181","v":"2000-09-01"},{"$f":"IFERROR('URC VAR'!C181*-1,\"\")","v":0},{"$f":"IFERROR(IF(AND(C182=\"\",C181<>\"\"),0,IF(D182+C182>0,D182+C182,0)*VLOOKUP(MONTH(B181),'NRI (Auto)'!$R$6:$T$17,3,0)),\"\")","v":""},{"$f":"IFERROR(NRI!$P$3+D181,\"\")","v":""},{"$error":"#DIV/0!"}]
[10,{"$f":"'URC VAR'!B182","v":"2000-10-01"},{"$f":"IFERROR('URC VAR'!C182*-1,\"\")","v":0},{"$f":"IFERROR(IF(AND(C183=\"\",C182<>\"\"),0,IF(D183+C183>0,D183+C183,0)*VLOOKUP(MONTH(B182),'NRI (Auto)'!$R$6:$T$17,3,0)),\"\")","v":""},{"$f":"IFERROR(NRI!$P$3+D182,\"\")","v":""},{"$error":"#DIV/0!"}]
[11,{"$f":"'URC VAR'!B183","v":"2000-11-01"},{"$f":"IFERROR('URC VAR'!C183*-1,\"\")","v":0},{"$f":"IFERROR(IF(AND(C184=\"\",C183<>\"\"),0,IF(D184+C184>0,D184+C184,0)*VLOOKUP(MONTH(B183),'NRI (Auto)'!$R$6:$T$17,3,0)),\"\")","v":""},{"$f":"IFERROR(NRI!$P$3+D183,\"\")","v":""},{"$error":"#DIV/0!"}]
[12,{"$f":"'URC VAR'!B184","v":"2000-12-01"},{"$f":"IFERROR('URC VAR'!C184*-1,\"\")","v":0},{"$f":"IFERROR(IF(AND(C185=\"\",C184<>\"\"),0,IF(D185+C185>0,D185+C185,0)*VLOOKUP(MONTH(B184),'NRI (Auto)'!$R$6:$T$17,3,0)),\"\")","v":""},{"$f":"IFERROR(NRI!$P$3+D184,\"\")","v":""},{"$error":"#DIV/0!"}]
[1,{"$f":"'URC VAR'!B185","v":"2001-01-01"},{"$f":"IFERROR('URC VAR'!C185*-1,\"\")","v":0},{"$f":"IFERROR(IF(AND(C186=\"\",C185<>\"\"),0,IF(D186+C186>0,D186+C186,0)*VLOOKUP(MONTH(B185),'NRI (Auto)'!$R$6:$T$17,3,0)),\"\")","v":""},{"$f":"IFERROR(NRI!$P$3+D185,\"\")","v":""},{"$error":"#DIV/0!"}]
[2,{"$f":"'URC VAR'!B186","v":"2001-02-01"},{"$f":"IFERROR('URC VAR'!C186*-1,\"\")","v":0},{"$f":"IFERROR(IF(AND(C187=\"\",C186<>\"\"),0,IF(D187+C187>0,D187+C187,0)*VLOOKUP(MONTH(B186),'NRI (Auto)'!$R$6:$T$17,3,0)),\"\")","v":""},{"$f":"IFERROR(NRI!$P$3+D186,\"\")","v":""},{"$error":"#DIV/0!"}]
[3,{"$f":"'URC VAR'!B187","v":"2001-03-01"},{"$f":"IFERROR('URC VAR'!C187*-1,\"\")","v":0},{"$f":"IFERROR(IF(AND(C188=\"\",C187<>\"\"),0,IF(D188+C188>0,D188+C188,0)*VLOOKUP(MONTH(B187),'NRI (Auto)'!$R$6:$T$17,3,0)),\"\")","v":""},{"$f":"IFERROR(NRI!$P$3+D187,\"\")","v":""},{"$error":"#DIV/0!"}]
[4,{"$f":"'URC VAR'!B188","v":"2001-04-01"},{"$f":"IFERROR('URC VAR'!C188*-1,\"\")","v":0},{"$f":"IFERROR(IF(AND(C189=\"\",C188<>\"\"),0,IF(D189+C189>0,D189+C189,0)*VLOOKUP(MONTH(B188),'NRI (Auto)'!$R$6:$T$17,3,0)),\"\")","v":""},{"$f":"IFERROR(NRI!$P$3+D188,\"\")","v":""},{"$error":"#DIV/0!"}]
[5,{"$f":"'URC VAR'!B189","v":"2001-05-01"},{"$f":"IFERROR('URC VAR'!C189*-1,\"\")","v":0},{"$f":"IFERROR(IF(AND(C190=\"\",C189<>\"\"),0,IF(D190+C190>0,D190+C190,0)*VLOOKUP(MONTH(B189),'NRI (Auto)'!$R$6:$T$17,3,0)),\"\")","v":""},{"$f":"IFERROR(NRI!$P$3+D189,\"\")","v":""},{"$error":"#DIV/0!"}]
[6,{"$f":"'URC VAR'!B190","v":"2001-06-01"},{"$f":"IFERROR('URC VAR'!C190*-1,\"\")","v":0},{"$f":"IFERROR(IF(AND(C191=\"\",C190<>\"\"),0,IF(D191+C191>0,D191+C191,0)*VLOOKUP(MONTH(B190),'NRI (Auto)'!$R$6:$T$17,3,0)),\"\")","v":""},{"$f":"IFERROR(NRI!$P$3+D190,\"\")","v":""},{"$error":"#DIV/0!"}]
[7,{"$f":"'URC VAR'!B191","v":"2001-07-01"},{"$f":"IFERROR('URC VAR'!C191*-1,\"\")","v":0},{"$f":"IFERROR(IF(AND(C192=\"\",C191<>\"\"),0,IF(D192+C192>0,D192+C192,0)*VLOOKUP(MONTH(B191),'NRI (Auto)'!$R$6:$T$17,3,0)),\"\")","v":""},{"$f":"IFERROR(NRI!$P$3+D191,\"\")","v":""},{"$error":"#DIV/0!"}]
[8,{"$f":"'URC VAR'!B192","v":"2001-08-01"},{"$f":"IFERROR('URC VAR'!C192*-1,\"\")","v":0},{"$f":"IFERROR(IF(AND(C193=\"\",C192<>\"\"),0,IF(D193+C193>0,D193+C193,0)*VLOOKUP(MONTH(B192),'NRI (Auto)'!$R$6:$T$17,3,0)),\"\")","v":""},{"$f":"IFERROR(NRI!$P$3+D192,\"\")","v":""},{"$error":"#DIV/0!"}]
[9,{"$f":"'URC VAR'!B193","v":"2001-09-01"},{"$f":"IFERROR('URC VAR'!C193*-1,\"\")","v":0},{"$f":"IFERROR(IF(AND(C194=\"\",C193<>\"\"),0,IF(D194+C194>0,D194+C194,0)*VLOOKUP(MONTH(B193),'NRI (Auto)'!$R$6:$T$17,3,0)),\"\")","v":""},{"$f":"IFERROR(NRI!$P$3+D193,\"\")","v":""},{"$error":"#DIV/0!"}]
[10,{"$f":"'URC VAR'!B194","v":"2001-10-01"},{"$f":"IFERROR('URC VAR'!C194*-1,\"\")","v":0},{"$f":"IFERROR(IF(AND(C195=\"\",C194<>\"\"),0,IF(D195+C195>0,D195+C195,0)*VLOOKUP(MONTH(B194),'NRI (Auto)'!$R$6:$T$17,3,0)),\"\")","v":""},{"$f":"IFERROR(NRI!$P$3+D194,\"\")","v":""},{"$error":"#DIV/0!"}]
[11,{"$f":"'URC VAR'!B195","v":"2001-11-01"},{"$f":"IFERROR('URC VAR'!C195*-1,\"\")","v":0},{"$f":"IFERROR(IF(AND(C196=\"\",C195<>\"\"),0,IF(D196+C196>0,D196+C196,0)*VLOOKUP(MONTH(B195),'NRI (Auto)'!$R$6:$T$17,3,0)),\"\")","v":""},{"$f":"IFERROR(NRI!$P$3+D195,\"\")","v":""},{"$error":"#DIV/0!"}]
[12,{"$f":"'URC VAR'!B196","v":"2001-12-01"},{"$f":"IFERROR('URC VAR'!C196*-1,\"\")","v":0},{"$f":"IFERROR(IF(AND(C197=\"\",C196<>\"\"),0,IF(D197+C197>0,D197+C197,0)*VLOOKUP(MONTH(B196),'NRI (Auto)'!$R$6:$T$17,3,0)),\"\")","v":""},{"$f":"IFERROR(NRI!$P$3+D196,\"\")","v":""},{"$error":"#DIV/0!"}]
[1,{"$f":"'URC VAR'!B197","v":"2002-01-01"},{"$f":"IFERROR('URC VAR'!C197*-1,\"\")","v":0},{"$f":"IFERROR(IF(AND(C198=\"\",C197<>\"\"),0,IF(D198+C198>0,D198+C198,0)*VLOOKUP(MONTH(B197),'NRI (Auto)'!$R$6:$T$17,3,0)),\"\")","v":""},{"$f":"IFERROR(NRI!$P$3+D197,\"\")","v":""},{"$error":"#DIV/0!"}]
[2,{"$f":"'URC VAR'!B198","v":"2002-02-01"},{"$f":"IFERROR('URC VAR'!C198*-1,\"\")","v":0},{"$f":"IFERROR(IF(AND(C199=\"\",C198<>\"\"),0,IF(D199+C199>0,D199+C199,0)*VLOOKUP(MONTH(B198),'NRI (Auto)'!$R$6:$T$17,3,0)),\"\")","v":""},{"$f":"IFERROR(NRI!$P$3+D198,\"\")","v":""},{"$error":"#DIV/0!"}]
[3,{"$f":"'URC VAR'!B199","v":"2002-03-01"},{"$f":"IFERROR('URC VAR'!C199*-1,\"\")","v":0},{"$f":"IFERROR(IF(AND(C200=\"\",C199<>\"\"),0,IF(D200+C200>0,D200+C200,0)*VLOOKUP(MONTH(B199),'NRI (Auto)'!$R$6:$T$17,3,0)),\"\")","v":""},{"$f":"IFERROR(NRI!$P$3+D199,\"\")","v":""},{"$error":"#DIV/0!"}]
[4,{"$f":"'URC VAR'!B200","v":"2002-04-01"},{"$f":"IFERROR('URC VAR'!C200*-1,\"\")","v":0},{"$f":"IFERROR(IF(AND(C201=\"\",C200<>\"\"),0,IF(D201+C201>0,D201+C201,0)*VLOOKUP(MONTH(B200),'NRI (Auto)'!$R$6:$T$17,3,0)),\"\")","v":""},{"$f":"IFERROR(NRI!$P$3+D200,\"\")","v":""},{"$error":"#DIV/0!"}]
[5,{"$f":"'URC VAR'!B201","v":"2002-05-01"},{"$f":"IFERROR('URC VAR'!C201*-1,\"\")","v":0},{"$f":"IFERROR(IF(AND(C202=\"\",C201<>\"\"),0,IF(D202+C202>0,D202+C202,0)*VLOOKUP(MONTH(B201),'NRI (Auto)'!$R$6:$T$17,3,0)),\"\")","v":""},{"$f":"IFERROR(NRI!$P$3+D201,\"\")","v":""},{"$error":"#DIV/0!"}]
[6,{"$f":"'URC VAR'!B202","v":"2002-06-01"},{"$f":"IFERROR('URC VAR'!C202*-1,\"\")","v":0},{"$f":"IFERROR(IF(AND(C203=\"\",C202<>\"\"),0,IF(D203+C203>0,D203+C203,0)*VLOOKUP(MONTH(B202),'NRI (Auto)'!$R$6:$T$17,3,0)),\"\")","v":""},{"$f":"IFERROR(NRI!$P$3+D202,\"\")","v":""},{"$error":"#DIV/0!"}]
[7,{"$f":"'URC VAR'!B203","v":"2002-07-01"},{"$f":"IFERROR('URC VAR'!C203*-1,\"\")","v":0},{"$f":"IFERROR(IF(AND(C204=\"\",C203<>\"\"),0,IF(D204+C204>0,D204+C204,0)*VLOOKUP(MONTH(B203),'NRI (Auto)'!$R$6:$T$17,3,0)),\"\")","v":""},{"$f":"IFERROR(NRI!$P$3+D203,\"\")","v":""},{"$error":"#DIV/0!"}]
[8,{"$f":"'URC VAR'!B204","v":"2002-08-01"},{"$f":"IFERROR('URC VAR'!C204*-1,\"\")","v":0},{"$f":"IFERROR(IF(AND(C205=\"\",C204<>\"\"),0,IF(D205+C205>0,D205+C205,0)*VLOOKUP(MONTH(B204),'NRI (Auto)'!$R$6:$T$17,3,0)),\"\")","v":""},{"$f":"IFERROR(NRI!$P$3+D204,\"\")","v":""},{"$error":"#DIV/0!"}]
[9,{"$f":"'URC VAR'!B205","v":"2002-09-01"},{"$f":"IFERROR('URC VAR'!C205*-1,\"\")","v":0},{"$f":"IFERROR(IF(AND(C206=\"\",C205<>\"\"),0,IF(D206+C206>0,D206+C206,0)*VLOOKUP(MONTH(B205),'NRI (Auto)'!$R$6:$T$17,3,0)),\"\")","v":""},{"$f":"IFERROR(NRI!$P$3+D205,\"\")","v":""},{"$error":"#DIV/0!"}]
[10,{"$f":"'URC VAR'!B206","v":"2002-10-01"},{"$f":"IFERROR('URC VAR'!C206*-1,\"\")","v":0},{"$f":"IFERROR(IF(AND(C207=\"\",C206<>\"\"),0,IF(D207+C207>0,D207+C207,0)*VLOOKUP(MONTH(B206),'NRI (Auto)'!$R$6:$T$17,3,0)),\"\")","v":""},{"$f":"IFERROR(NRI!$P$3+D206,\"\")","v":""},{"$error":"#DIV/0!"}]
[11,{"$f":"'URC VAR'!B207","v":"2002-11-01"},{"$f":"IFERROR('URC VAR'!C207*-1,\"\")","v":0},{"$f":"IFERROR(IF(AND(C208=\"\",C207<>\"\"),0,IF(D208+C208>0,D208+C208,0)*VLOOKUP(MONTH(B207),'NRI (Auto)'!$R$6:$T$17,3,0)),\"\")","v":""},{"$f":"IFERROR(NRI!$P$3+D207,\"\")","v":""},{"$error":"#DIV/0!"}]
[12,{"$f":"'URC VAR'!B208","v":"2002-12-01"},{"$f":"IFERROR('URC VAR'!C208*-1,\"\")","v":0},{"$f":"IFERROR(IF(AND(C209=\"\",C208<>\"\"),0,IF(D209+C209>0,D209+C209,0)*VLOOKUP(MONTH(B208),'NRI (Auto)'!$R$6:$T$17,3,0)),\"\")","v":""},{"$f":"IFERROR(NRI!$P$3+D208,\"\")","v":""},{"$error":"#DIV/0!"}]
[1,{"$f":"'URC VAR'!B209","v":"2003-01-01"},{"$f":"IFERROR('URC VAR'!C209*-1,\"\")","v":0},{"$f":"IFERROR(IF(AND(C210=\"\",C209<>\"\"),0,IF(D210+C210>0,D210+C210,0)*VLOOKUP(MONTH(B209),'NRI (Auto)'!$R$6:$T$17,3,0)),\"\")","v":""},{"$f":"IFERROR(NRI!$P$3+D209,\"\")","v":""},{"$error":"#DIV/0!"}]
[{"$f":"+A198","v":2},{"$f":"'URC VAR'!B210","v":"2003-02-01"},{"$f":"IFERROR('URC VAR'!C210*-1,\"\")","v":0},{"$f":"IFERROR(IF(AND(C211=\"\",C210<>\"\"),0,IF(D211+C211>0,D211+C211,0)*VLOOKUP(MONTH(B210),'NRI (Auto)'!$R$6:$T$17,3,0)),\"\")","v":""},{"$f":"IFERROR(NRI!$P$3+D210,\"\")","v":""},{"$f":"+F198","v":{"$error":"#DIV/0!"}}]
[3,{"$f":"'URC VAR'!B211","v":"2003-03-01"},{"$f":"IFERROR('URC VAR'!C211*-1,\"\")","v":0},{"$f":"IFERROR(IF(AND(C212=\"\",C211<>\"\"),0,IF(D212+C212>0,D212+C212,0)*VLOOKUP(MONTH(B211),'NRI (Auto)'!$R$6:$T$17,3,0)),\"\")","v":""},{"$f":"IFERROR(NRI!$P$3+D211,\"\")","v":""},{"$error":"#DIV/0!"}]
[4,{"$f":"'URC VAR'!B212","v":"2003-04-01"},{"$f":"IFERROR('URC VAR'!C212*-1,\"\")","v":0},{"$f":"IFERROR(IF(AND(C213=\"\",C212<>\"\"),0,IF(D213+C213>0,D213+C213,0)*VLOOKUP(MONTH(B212),'NRI (Auto)'!$R$6:$T$17,3,0)),\"\")","v":""},{"$f":"IFERROR(NRI!$P$3+D212,\"\")","v":""},{"$error":"#DIV/0!"}]
[5,{"$f":"'URC VAR'!B213","v":"2003-05-01"},{"$f":"IFERROR('URC VAR'!C213*-1,\"\")","v":0},{"$f":"IFERROR(IF(AND(C214=\"\",C213<>\"\"),0,IF(D214+C214>0,D214+C214,0)*VLOOKUP(MONTH(B213),'NRI (Auto)'!$R$6:$T$17,3,0)),\"\")","v":""},{"$f":"IFERROR(NRI!$P$3+D213,\"\")","v":""},{"$error":"#DIV/0!"}]
[6,{"$f":"'URC VAR'!B214","v":"2003-06-01"},{"$f":"IFERROR('URC VAR'!C214*-1,\"\")","v":0},{"$f":"IFERROR(IF(AND(C215=\"\",C214<>\"\"),0,IF(D215+C215>0,D215+C215,0)*VLOOKUP(MONTH(B214),'NRI (Auto)'!$R$6:$T$17,3,0)),\"\")","v":""},{"$f":"IFERROR(NRI!$P$3+D214,\"\")","v":""},{"$error":"#DIV/0!"}]
[7,{"$f":"'URC VAR'!B215","v":"2003-07-01"},{"$f":"IFERROR('URC VAR'!C215*-1,\"\")","v":0},{"$f":"IFERROR(IF(AND(C216=\"\",C215<>\"\"),0,IF(D216+C216>0,D216+C216,0)*VLOOKUP(MONTH(B215),'NRI (Auto)'!$R$6:$T$17,3,0)),\"\")","v":""},{"$f":"IFERROR(NRI!$P$3+D215,\"\")","v":""},{"$error":"#DIV/0!"}]
[8,{"$f":"'URC VAR'!B216","v":"2003-08-01"},{"$f":"IFERROR('URC VAR'!C216*-1,\"\")","v":0},{"$f":"IFERROR(IF(AND(C217=\"\",C216<>\"\"),0,IF(D217+C217>0,D217+C217,0)*VLOOKUP(MONTH(B216),'NRI (Auto)'!$R$6:$T$17,3,0)),\"\")","v":""},{"$f":"IFERROR(NRI!$P$3+D216,\"\")","v":""},{"$error":"#DIV/0!"}]
[9,{"$f":"'URC VAR'!B217","v":"2003-09-01"},{"$f":"IFERROR('URC VAR'!C217*-1,\"\")","v":0},{"$f":"IFERROR(IF(AND(C218=\"\",C217<>\"\"),0,IF(D218+C218>0,D218+C218,0)*VLOOKUP(MONTH(B217),'NRI (Auto)'!$R$6:$T$17,3,0)),\"\")","v":""},{"$f":"IFERROR(NRI!$P$3+D217,\"\")","v":""},{"$error":"#DIV/0!"}]
[10,{"$f":"'URC VAR'!B218","v":"2003-10-01"},{"$f":"IFERROR('URC VAR'!C218*-1,\"\")","v":0},{"$f":"IFERROR(IF(AND(C219=\"\",C218<>\"\"),0,IF(D219+C219>0,D219+C219,0)*VLOOKUP(MONTH(B218),'NRI (Auto)'!$R$6:$T$17,3,0)),\"\")","v":""},{"$f":"IFERROR(NRI!$P$3+D218,\"\")","v":""},{"$error":"#DIV/0!"}]
[11,{"$f":"'URC VAR'!B219","v":"2003-11-01"},{"$f":"IFERROR('URC VAR'!C219*-1,\"\")","v":0},{"$f":"IFERROR(IF(AND(C220=\"\",C219<>\"\"),0,IF(D220+C220>0,D220+C220,0)*VLOOKUP(MONTH(B219),'NRI (Auto)'!$R$6:$T$17,3,0)),\"\")","v":""},{"$f":"IFERROR(NRI!$P$3+D219,\"\")","v":""},{"$error":"#DIV/0!"}]
[12,{"$f":"'URC VAR'!B220","v":"2003-12-01"},{"$f":"IFERROR('URC VAR'!C220*-1,\"\")","v":0},{"$f":"IFERROR(IF(AND(C221=\"\",C220<>\"\"),0,IF(D221+C221>0,D221+C221,0)*VLOOKUP(MONTH(B220),'NRI (Auto)'!$R$6:$T$17,3,0)),\"\")","v":""},{"$f":"IFERROR(NRI!$P$3+D220,\"\")","v":""},{"$error":"#DIV/0!"}]
[1,{"$f":"'URC VAR'!B221","v":"2004-01-01"},{"$f":"IFERROR('URC VAR'!C221*-1,\"\")","v":0},{"$f":"IFERROR(IF(AND(C222=\"\",C221<>\"\"),0,IF(D222+C222>0,D222+C222,0)*VLOOKUP(MONTH(B221),'NRI (Auto)'!$R$6:$T$17,3,0)),\"\")","v":""},{"$f":"IFERROR(NRI!$P$3+D221,\"\")","v":""},{"$error":"#DIV/0!"}]
[2,{"$f":"'URC VAR'!B222","v":"2004-02-01"},{"$f":"IFERROR('URC VAR'!C222*-1,\"\")","v":0},{"$f":"IFERROR(IF(AND(C223=\"\",C222<>\"\"),0,IF(D223+C223>0,D223+C223,0)*VLOOKUP(MONTH(B222),'NRI (Auto)'!$R$6:$T$17,3,0)),\"\")","v":""},{"$f":"IFERROR(NRI!$P$3+D222,\"\")","v":""},{"$error":"#DIV/0!"}]
[3,{"$f":"'URC VAR'!B223","v":"2004-03-01"},{"$f":"IFERROR('URC VAR'!C223*-1,\"\")","v":0},{"$f":"IFERROR(IF(AND(C224=\"\",C223<>\"\"),0,IF(D224+C224>0,D224+C224,0)*VLOOKUP(MONTH(B223),'NRI (Auto)'!$R$6:$T$17,3,0)),\"\")","v":""},{"$f":"IFERROR(NRI!$P$3+D223,\"\")","v":""},{"$error":"#DIV/0!"}]
[4,{"$f":"'URC VAR'!B224","v":"2004-04-01"},{"$f":"IFERROR('URC VAR'!C224*-1,\"\")","v":0},{"$f":"IFERROR(IF(AND(C225=\"\",C224<>\"\"),0,IF(D225+C225>0,D225+C225,0)*VLOOKUP(MONTH(B224),'NRI (Auto)'!$R$6:$T$17,3,0)),\"\")","v":""},{"$f":"IFERROR(NRI!$P$3+D224,\"\")","v":""},{"$error":"#DIV/0!"}]
[5,{"$f":"'URC VAR'!B225","v":"2004-05-01"},{"$f":"IFERROR('URC VAR'!C225*-1,\"\")","v":0},{"$f":"IFERROR(IF(AND(C226=\"\",C225<>\"\"),0,IF(D226+C226>0,D226+C226,0)*VLOOKUP(MONTH(B225),'NRI (Auto)'!$R$6:$T$17,3,0)),\"\")","v":""},{"$f":"IFERROR(NRI!$P$3+D225,\"\")","v":""},{"$error":"#DIV/0!"}]
[6,{"$f":"'URC VAR'!B226","v":"2004-06-01"},{"$f":"IFERROR('URC VAR'!C226*-1,\"\")","v":0},{"$f":"IFERROR(IF(AND(C227=\"\",C226<>\"\"),0,IF(D227+C227>0,D227+C227,0)*VLOOKUP(MONTH(B226),'NRI (Auto)'!$R$6:$T$17,3,0)),\"\")","v":""},{"$f":"IFERROR(NRI!$P$3+D226,\"\")","v":""},{"$error":"#DIV/0!"}]
[7,{"$f":"'URC VAR'!B227","v":"2004-07-01"},{"$f":"IFERROR('URC VAR'!C227*-1,\"\")","v":0},{"$f":"IFERROR(IF(AND(C228=\"\",C227<>\"\"),0,IF(D228+C228>0,D228+C228,0)*VLOOKUP(MONTH(B227),'NRI (Auto)'!$R$6:$T$17,3,0)),\"\")","v":""},{"$f":"IFERROR(NRI!$P$3+D227,\"\")","v":""},{"$error":"#DIV/0!"}]
[8,{"$f":"'URC VAR'!B228","v":"2004-08-01"},{"$f":"IFERROR('URC VAR'!C228*-1,\"\")","v":0},{"$f":"IFERROR(IF(AND(C229=\"\",C228<>\"\"),0,IF(D229+C229>0,D229+C229,0)*VLOOKUP(MONTH(B228),'NRI (Auto)'!$R$6:$T$17,3,0)),\"\")","v":""},{"$f":"IFERROR(NRI!$P$3+D228,\"\")","v":""},{"$error":"#DIV/0!"}]
[9,{"$f":"'URC VAR'!B229","v":"2004-09-01"},{"$f":"IFERROR('URC VAR'!C229*-1,\"\")","v":0},{"$f":"IFERROR(IF(AND(C230=\"\",C229<>\"\"),0,IF(D230+C230>0,D230+C230,0)*VLOOKUP(MONTH(B229),'NRI (Auto)'!$R$6:$T$17,3,0)),\"\")","v":""},{"$f":"IFERROR(NRI!$P$3+D229,\"\")","v":""},{"$error":"#DIV/0!"}]
[10,{"$f":"'URC VAR'!B230","v":"2004-10-01"},{"$f":"IFERROR('URC VAR'!C230*-1,\"\")","v":0},{"$f":"IFERROR(IF(AND(C231=\"\",C230<>\"\"),0,IF(D231+C231>0,D231+C231,0)*VLOOKUP(MONTH(B230),'NRI (Auto)'!$R$6:$T$17,3,0)),\"\")","v":""},{"$f":"IFERROR(NRI!$P$3+D230,\"\")","v":""},{"$error":"#DIV/0!"}]
[11,{"$f":"'URC VAR'!B231","v":"2004-11-01"},{"$f":"IFERROR('URC VAR'!C231*-1,\"\")","v":0},{"$f":"IFERROR(IF(AND(C232=\"\",C231<>\"\"),0,IF(D232+C232>0,D232+C232,0)*VLOOKUP(MONTH(B231),'NRI (Auto)'!$R$6:$T$17,3,0)),\"\")","v":""},{"$f":"IFERROR(NRI!$P$3+D231,\"\")","v":""},{"$error":"#DIV/0!"}]
[12,{"$f":"'URC VAR'!B232","v":"2004-12-01"},{"$f":"IFERROR('URC VAR'!C232*-1,\"\")","v":0},{"$f":"IFERROR(IF(AND(C233=\"\",C232<>\"\"),0,IF(D233+C233>0,D233+C233,0)*VLOOKUP(MONTH(B232),'NRI (Auto)'!$R$6:$T$17,3,0)),\"\")","v":""},{"$f":"IFERROR(NRI!$P$3+D232,\"\")","v":""},{"$error":"#DIV/0!"}]
[1,{"$f":"'URC VAR'!B233","v":"2005-01-01"},{"$f":"IFERROR('URC VAR'!C233*-1,\"\")","v":0},{"$f":"IFERROR(IF(AND(C234=\"\",C233<>\"\"),0,IF(D234+C234>0,D234+C234,0)*VLOOKUP(MONTH(B233),'NRI (Auto)'!$R$6:$T$17,3,0)),\"\")","v":""},{"$f":"IFERROR(NRI!$P$3+D233,\"\")","v":""},{"$error":"#DIV/0!"}]
[2,{"$f":"'URC VAR'!B234","v":"2005-02-01"},{"$f":"IFERROR('URC VAR'!C234*-1,\"\")","v":0},{"$f":"IFERROR(IF(AND(C235=\"\",C234<>\"\"),0,IF(D235+C235>0,D235+C235,0)*VLOOKUP(MONTH(B234),'NRI (Auto)'!$R$6:$T$17,3,0)),\"\")","v":""},{"$f":"IFERROR(NRI!$P$3+D234,\"\")","v":""},{"$error":"#DIV/0!"}]
[3,{"$f":"'URC VAR'!B235","v":"2005-03-01"},{"$f":"IFERROR('URC VAR'!C235*-1,\"\")","v":0},{"$f":"IFERROR(IF(AND(C236=\"\",C235<>\"\"),0,IF(D236+C236>0,D236+C236,0)*VLOOKUP(MONTH(B235),'NRI (Auto)'!$R$6:$T$17,3,0)),\"\")","v":""},{"$f":"IFERROR(NRI!$P$3+D235,\"\")","v":""},{"$error":"#DIV/0!"}]
[4,{"$f":"'URC VAR'!B236","v":"2005-04-01"},{"$f":"IFERROR('URC VAR'!C236*-1,\"\")","v":0},{"$f":"IFERROR(IF(AND(C237=\"\",C236<>\"\"),0,IF(D237+C237>0,D237+C237,0)*VLOOKUP(MONTH(B236),'NRI (Auto)'!$R$6:$T$17,3,0)),\"\")","v":""},{"$f":"IFERROR(NRI!$P$3+D236,\"\")","v":""},{"$error":"#DIV/0!"}]
[5,{"$f":"'URC VAR'!B237","v":"2005-05-01"},{"$f":"IFERROR('URC VAR'!C237*-1,\"\")","v":0},{"$f":"IFERROR(IF(AND(C238=\"\",C237<>\"\"),0,IF(D238+C238>0,D238+C238,0)*VLOOKUP(MONTH(B237),'NRI (Auto)'!$R$6:$T$17,3,0)),\"\")","v":""},{"$f":"IFERROR(NRI!$P$3+D237,\"\")","v":""},{"$error":"#DIV/0!"}]
[6,{"$f":"'URC VAR'!B238","v":"2005-06-01"},{"$f":"IFERROR('URC VAR'!C238*-1,\"\")","v":0},{"$f":"IFERROR(IF(AND(C239=\"\",C238<>\"\"),0,IF(D239+C239>0,D239+C239,0)*VLOOKUP(MONTH(B238),'NRI (Auto)'!$R$6:$T$17,3,0)),\"\")","v":""},{"$f":"IFERROR(NRI!$P$3+D238,\"\")","v":""},{"$error":"#DIV/0!"}]
[7,{"$f":"'URC VAR'!B239","v":"2005-07-01"},{"$f":"IFERROR('URC VAR'!C239*-1,\"\")","v":0},{"$f":"IFERROR(IF(AND(C240=\"\",C239<>\"\"),0,IF(D240+C240>0,D240+C240,0)*VLOOKUP(MONTH(B239),'NRI (Auto)'!$R$6:$T$17,3,0)),\"\")","v":""},{"$f":"IFERROR(NRI!$P$3+D239,\"\")","v":""},{"$error":"#DIV/0!"}]
[8,{"$f":"'URC VAR'!B240","v":"2005-08-01"},{"$f":"IFERROR('URC VAR'!C240*-1,\"\")","v":0},{"$f":"IFERROR(IF(AND(C241=\"\",C240<>\"\"),0,IF(D241+C241>0,D241+C241,0)*VLOOKUP(MONTH(B240),'NRI (Auto)'!$R$6:$T$17,3,0)),\"\")","v":""},{"$f":"IFERROR(NRI!$P$3+D240,\"\")","v":""},{"$error":"#DIV/0!"}]
[9,{"$f":"'URC VAR'!B241","v":"2005-09-01"},{"$f":"IFERROR('URC VAR'!C241*-1,\"\")","v":0},{"$f":"IFERROR(IF(AND(C242=\"\",C241<>\"\"),0,IF(D242+C242>0,D242+C242,0)*VLOOKUP(MONTH(B241),'NRI (Auto)'!$R$6:$T$17,3,0)),\"\")","v":""},{"$f":"IFERROR(NRI!$P$3+D241,\"\")","v":""},{"$error":"#DIV/0!"}]
[10,{"$f":"'URC VAR'!B242","v":"2005-10-01"},{"$f":"IFERROR('URC VAR'!C242*-1,\"\")","v":0},{"$f":"IFERROR(IF(AND(C243=\"\",C242<>\"\"),0,IF(D243+C243>0,D243+C243,0)*VLOOKUP(MONTH(B242),'NRI (Auto)'!$R$6:$T$17,3,0)),\"\")","v":""},{"$f":"IFERROR(NRI!$P$3+D242,\"\")","v":""},{"$error":"#DIV/0!"}]
[11,{"$f":"'URC VAR'!B243","v":"2005-11-01"},{"$f":"IFERROR('URC VAR'!C243*-1,\"\")","v":0},{"$f":"IFERROR(IF(AND(C244=\"\",C243<>\"\"),0,IF(D244+C244>0,D244+C244,0)*VLOOKUP(MONTH(B243),'NRI (Auto)'!$R$6:$T$17,3,0)),\"\")","v":""},{"$f":"IFERROR(NRI!$P$3+D243,\"\")","v":""},{"$error":"#DIV/0!"}]
[12,{"$f":"'URC VAR'!B244","v":"2005-12-01"},{"$f":"IFERROR('URC VAR'!C244*-1,\"\")","v":0},{"$f":"IFERROR(IF(AND(C245=\"\",C244<>\"\"),0,IF(D245+C245>0,D245+C245,0)*VLOOKUP(MONTH(B244),'NRI (Auto)'!$R$6:$T$17,3,0)),\"\")","v":""},{"$f":"IFERROR(NRI!$P$3+D244,\"\")","v":""},{"$error":"#DIV/0!"}]
[1,{"$f":"'URC VAR'!B245","v":"2006-01-01"},{"$f":"IFERROR('URC VAR'!C245*-1,\"\")","v":0},{"$f":"IFERROR(IF(AND(C246=\"\",C245<>\"\"),0,IF(D246+C246>0,D246+C246,0)*VLOOKUP(MONTH(B245),'NRI (Auto)'!$R$6:$T$17,3,0)),\"\")","v":""},{"$f":"IFERROR(NRI!$P$3+D245,\"\")","v":""},{"$error":"#DIV/0!"}]
[2,{"$f":"'URC VAR'!B246","v":"2006-02-01"},{"$f":"IFERROR('URC VAR'!C246*-1,\"\")","v":0},{"$f":"IFERROR(IF(AND(C247=\"\",C246<>\"\"),0,IF(D247+C247>0,D247+C247,0)*VLOOKUP(MONTH(B246),'NRI (Auto)'!$R$6:$T$17,3,0)),\"\")","v":""},{"$f":"IFERROR(NRI!$P$3+D246,\"\")","v":""},{"$error":"#DIV/0!"}]
[3,{"$f":"'URC VAR'!B247","v":"2006-03-01"},{"$f":"IFERROR('URC VAR'!C247*-1,\"\")","v":0},{"$f":"IFERROR(IF(AND(C248=\"\",C247<>\"\"),0,IF(D248+C248>0,D248+C248,0)*VLOOKUP(MONTH(B247),'NRI (Auto)'!$R$6:$T$17,3,0)),\"\")","v":""},{"$f":"IFERROR(NRI!$P$3+D247,\"\")","v":""},{"$error":"#DIV/0!"}]
[4,{"$f":"'URC VAR'!B248","v":"2006-04-01"},{"$f":"IFERROR('URC VAR'!C248*-1,\"\")","v":0},{"$f":"IFERROR(IF(AND(C249=\"\",C248<>\"\"),0,IF(D249+C249>0,D249+C249,0)*VLOOKUP(MONTH(B248),'NRI (Auto)'!$R$6:$T$17,3,0)),\"\")","v":""},{"$f":"IFERROR(NRI!$P$3+D248,\"\")","v":""},{"$error":"#DIV/0!"}]
[5,{"$f":"'URC VAR'!B249","v":"2006-05-01"},{"$f":"IFERROR('URC VAR'!C249*-1,\"\")","v":0},{"$f":"IFERROR(IF(AND(C250=\"\",C249<>\"\"),0,IF(D250+C250>0,D250+C250,0)*VLOOKUP(MONTH(B249),'NRI (Auto)'!$R$6:$T$17,3,0)),\"\")","v":""},{"$f":"IFERROR(NRI!$P$3+D249,\"\")","v":""},{"$error":"#DIV/0!"}]
[6,{"$f":"'URC VAR'!B250","v":"2006-06-01"},{"$f":"IFERROR('URC VAR'!C250*-1,\"\")","v":0},{"$f":"IFERROR(IF(AND(C251=\"\",C250<>\"\"),0,IF(D251+C251>0,D251+C251,0)*VLOOKUP(MONTH(B250),'NRI (Auto)'!$R$6:$T$17,3,0)),\"\")","v":""},{"$f":"IFERROR(NRI!$P$3+D250,\"\")","v":""},{"$error":"#DIV/0!"}]
[7,{"$f":"'URC VAR'!B251","v":"2006-07-01"},{"$f":"IFERROR('URC VAR'!C251*-1,\"\")","v":0},{"$f":"IFERROR(IF(AND(C252=\"\",C251<>\"\"),0,IF(D252+C252>0,D252+C252,0)*VLOOKUP(MONTH(B251),'NRI (Auto)'!$R$6:$T$17,3,0)),\"\")","v":""},{"$f":"IFERROR(NRI!$P$3+D251,\"\")","v":""},{"$error":"#DIV/0!"}]
[8,{"$f":"'URC VAR'!B252","v":"2006-08-01"},{"$f":"IFERROR('URC VAR'!C252*-1,\"\")","v":0},{"$f":"IFERROR(IF(AND(C253=\"\",C252<>\"\"),0,IF(D253+C253>0,D253+C253,0)*VLOOKUP(MONTH(B252),'NRI (Auto)'!$R$6:$T$17,3,0)),\"\")","v":""},{"$f":"IFERROR(NRI!$P$3+D252,\"\")","v":""},{"$error":"#DIV/0!"}]
[9,{"$f":"'URC VAR'!B253","v":"2006-09-01"},{"$f":"IFERROR('URC VAR'!C253*-1,\"\")","v":0},{"$f":"IFERROR(IF(AND(C254=\"\",C253<>\"\"),0,IF(D254+C254>0,D254+C254,0)*VLOOKUP(MONTH(B253),'NRI (Auto)'!$R$6:$T$17,3,0)),\"\")","v":""},{"$f":"IFERROR(NRI!$P$3+D253,\"\")","v":""},{"$error":"#DIV/0!"}]
[10,{"$f":"'URC VAR'!B254","v":"2006-10-01"},{"$f":"IFERROR('URC VAR'!C254*-1,\"\")","v":0},{"$f":"IFERROR(IF(AND(C255=\"\",C254<>\"\"),0,IF(D255+C255>0,D255+C255,0)*VLOOKUP(MONTH(B254),'NRI (Auto)'!$R$6:$T$17,3,0)),\"\")","v":""},{"$f":"IFERROR(NRI!$P$3+D254,\"\")","v":""},{"$error":"#DIV/0!"}]
[11,{"$f":"'URC VAR'!B255","v":"2006-11-01"},{"$f":"IFERROR('URC VAR'!C255*-1,\"\")","v":0},{"$f":"IFERROR(IF(AND(C256=\"\",C255<>\"\"),0,IF(D256+C256>0,D256+C256,0)*VLOOKUP(MONTH(B255),'NRI (Auto)'!$R$6:$T$17,3,0)),\"\")","v":""},{"$f":"IFERROR(NRI!$P$3+D255,\"\")","v":""},{"$error":"#DIV/0!"}]
[12,{"$f":"'URC VAR'!B256","v":"2006-12-01"},{"$f":"IFERROR('URC VAR'!C256*-1,\"\")","v":0},{"$f":"IFERROR(IF(AND(C257=\"\",C256<>\"\"),0,IF(D257+C257>0,D257+C257,0)*VLOOKUP(MONTH(B256),'NRI (Auto)'!$R$6:$T$17,3,0)),\"\")","v":""},{"$f":"IFERROR(NRI!$P$3+D256,\"\")","v":""},{"$error":"#DIV/0!"}]
[1,{"$f":"'URC VAR'!B257","v":"2007-01-01"},{"$f":"IFERROR('URC VAR'!C257*-1,\"\")","v":0},{"$f":"IFERROR(IF(AND(C258=\"\",C257<>\"\"),0,IF(D258+C258>0,D258+C258,0)*VLOOKUP(MONTH(B257),'NRI (Auto)'!$R$6:$T$17,3,0)),\"\")","v":""},{"$f":"IFERROR(NRI!$P$3+D257,\"\")","v":""},{"$error":"#DIV/0!"}]
[2,{"$f":"'URC VAR'!B258","v":"2007-02-01"},{"$f":"IFERROR('URC VAR'!C258*-1,\"\")","v":0},{"$f":"IFERROR(IF(AND(C259=\"\",C258<>\"\"),0,IF(D259+C259>0,D259+C259,0)*VLOOKUP(MONTH(B258),'NRI (Auto)'!$R$6:$T$17,3,0)),\"\")","v":""},{"$f":"IFERROR(NRI!$P$3+D258,\"\")","v":""},{"$error":"#DIV/0!"}]
[3,{"$f":"'URC VAR'!B259","v":"2007-03-01"},{"$f":"IFERROR('URC VAR'!C259*-1,\"\")","v":0},{"$f":"IFERROR(IF(AND(C260=\"\",C259<>\"\"),0,IF(D260+C260>0,D260+C260,0)*VLOOKUP(MONTH(B259),'NRI (Auto)'!$R$6:$T$17,3,0)),\"\")","v":""},{"$f":"IFERROR(NRI!$P$3+D259,\"\")","v":""},{"$error":"#DIV/0!"}]
[4,{"$f":"'URC VAR'!B260","v":"2007-04-01"},{"$f":"IFERROR('URC VAR'!C260*-1,\"\")","v":0},{"$f":"IFERROR(IF(AND(C261=\"\",C260<>\"\"),0,IF(D261+C261>0,D261+C261,0)*VLOOKUP(MONTH(B260),'NRI (Auto)'!$R$6:$T$17,3,0)),\"\")","v":""},{"$f":"IFERROR(NRI!$P$3+D260,\"\")","v":""},{"$error":"#DIV/0!"}]
[5,{"$f":"'URC VAR'!B261","v":"2007-05-01"},{"$f":"IFERROR('URC VAR'!C261*-1,\"\")","v":0},{"$f":"IFERROR(IF(AND(C262=\"\",C261<>\"\"),0,IF(D262+C262>0,D262+C262,0)*VLOOKUP(MONTH(B261),'NRI (Auto)'!$R$6:$T$17,3,0)),\"\")","v":""},{"$f":"IFERROR(NRI!$P$3+D261,\"\")","v":""},{"$error":"#DIV/0!"}]
[6,{"$f":"'URC VAR'!B262","v":"2007-06-01"},{"$f":"IFERROR('URC VAR'!C262*-1,\"\")","v":0},{"$f":"IFERROR(IF(AND(C263=\"\",C262<>\"\"),0,IF(D263+C263>0,D263+C263,0)*VLOOKUP(MONTH(B262),'NRI (Auto)'!$R$6:$T$17,3,0)),\"\")","v":""},{"$f":"IFERROR(NRI!$P$3+D262,\"\")","v":""},{"$error":"#DIV/0!"}]
[7,{"$f":"'URC VAR'!B263","v":"2007-07-01"},{"$f":"IFERROR('URC VAR'!C263*-1,\"\")","v":0},{"$f":"IFERROR(IF(AND(C264=\"\",C263<>\"\"),0,IF(D264+C264>0,D264+C264,0)*VLOOKUP(MONTH(B263),'NRI (Auto)'!$R$6:$T$17,3,0)),\"\")","v":""},{"$f":"IFERROR(NRI!$P$3+D263,\"\")","v":""},{"$error":"#DIV/0!"}]
[8,{"$f":"'URC VAR'!B264","v":"2007-08-01"},{"$f":"IFERROR('URC VAR'!C264*-1,\"\")","v":0},{"$f":"IFERROR(IF(AND(C265=\"\",C264<>\"\"),0,IF(D265+C265>0,D265+C265,0)*VLOOKUP(MONTH(B264),'NRI (Auto)'!$R$6:$T$17,3,0)),\"\")","v":""},{"$f":"IFERROR(NRI!$P$3+D264,\"\")","v":""},{"$error":"#DIV/0!"}]
[9,{"$f":"'URC VAR'!B265","v":"2007-09-01"},{"$f":"IFERROR('URC VAR'!C265*-1,\"\")","v":0},{"$f":"IFERROR(IF(AND(C266=\"\",C265<>\"\"),0,IF(D266+C266>0,D266+C266,0)*VLOOKUP(MONTH(B265),'NRI (Auto)'!$R$6:$T$17,3,0)),\"\")","v":""},{"$f":"IFERROR(NRI!$P$3+D265,\"\")","v":""},{"$error":"#DIV/0!"}]
[10,{"$f":"'URC VAR'!B266","v":"2007-10-01"},{"$f":"IFERROR('URC VAR'!C266*-1,\"\")","v":0},{"$f":"IFERROR(IF(AND(C267=\"\",C266<>\"\"),0,IF(D267+C267>0,D267+C267,0)*VLOOKUP(MONTH(B266),'NRI (Auto)'!$R$6:$T$17,3,0)),\"\")","v":""},{"$f":"IFERROR(NRI!$P$3+D266,\"\")","v":""},{"$error":"#DIV/0!"}]
[11,{"$f":"'URC VAR'!B267","v":"2007-11-01"},{"$f":"IFERROR('URC VAR'!C267*-1,\"\")","v":0},{"$f":"IFERROR(IF(AND(C268=\"\",C267<>\"\"),0,IF(D268+C268>0,D268+C268,0)*VLOOKUP(MONTH(B267),'NRI (Auto)'!$R$6:$T$17,3,0)),\"\")","v":""},{"$f":"IFERROR(NRI!$P$3+D267,\"\")","v":""},{"$error":"#DIV/0!"}]
[12,{"$f":"'URC VAR'!B268","v":"2007-12-01"},{"$f":"IFERROR('URC VAR'!C268*-1,\"\")","v":0},{"$f":"IFERROR(IF(AND(C269=\"\",C268<>\"\"),0,IF(D269+C269>0,D269+C269,0)*VLOOKUP(MONTH(B268),'NRI (Auto)'!$R$6:$T$17,3,0)),\"\")","v":""},{"$f":"IFERROR(NRI!$P$3+D268,\"\")","v":""},{"$error":"#DIV/0!"}]
[1,{"$f":"'URC VAR'!B269","v":"2008-01-01"},{"$f":"IFERROR('URC VAR'!C269*-1,\"\")","v":0},{"$f":"IFERROR(IF(AND(C270=\"\",C269<>\"\"),0,IF(D270+C270>0,D270+C270,0)*VLOOKUP(MONTH(B269),'NRI (Auto)'!$R$6:$T$17,3,0)),\"\")","v":""},{"$f":"IFERROR(NRI!$P$3+D269,\"\")","v":""},{"$error":"#DIV/0!"}]
[2,{"$f":"'URC VAR'!B270","v":"2008-02-01"},{"$f":"IFERROR('URC VAR'!C270*-1,\"\")","v":0},{"$f":"IFERROR(IF(AND(C271=\"\",C270<>\"\"),0,IF(D271+C271>0,D271+C271,0)*VLOOKUP(MONTH(B270),'NRI (Auto)'!$R$6:$T$17,3,0)),\"\")","v":""},{"$f":"IFERROR(NRI!$P$3+D270,\"\")","v":""},{"$error":"#DIV/0!"}]
[3,{"$f":"'URC VAR'!B271","v":"2008-03-01"},{"$f":"IFERROR('URC VAR'!C271*-1,\"\")","v":0},{"$f":"IFERROR(IF(AND(C272=\"\",C271<>\"\"),0,IF(D272+C272>0,D272+C272,0)*VLOOKUP(MONTH(B271),'NRI (Auto)'!$R$6:$T$17,3,0)),\"\")","v":""},{"$f":"IFERROR(NRI!$P$3+D271,\"\")","v":""},{"$error":"#DIV/0!"}]
[4,{"$f":"'URC VAR'!B272","v":"2008-04-01"},{"$f":"IFERROR('URC VAR'!C272*-1,\"\")","v":0},{"$f":"IFERROR(IF(AND(C273=\"\",C272<>\"\"),0,IF(D273+C273>0,D273+C273,0)*VLOOKUP(MONTH(B272),'NRI (Auto)'!$R$6:$T$17,3,0)),\"\")","v":""},{"$f":"IFERROR(NRI!$P$3+D272,\"\")","v":""},{"$error":"#DIV/0!"}]
[5,{"$f":"'URC VAR'!B273","v":"2008-05-01"},{"$f":"IFERROR('URC VAR'!C273*-1,\"\")","v":0},{"$f":"IFERROR(IF(AND(C274=\"\",C273<>\"\"),0,IF(D274+C274>0,D274+C274,0)*VLOOKUP(MONTH(B273),'NRI (Auto)'!$R$6:$T$17,3,0)),\"\")","v":""},{"$f":"IFERROR(NRI!$P$3+D273,\"\")","v":""},{"$error":"#DIV/0!"}]
[{"$f":"+A262","v":6},{"$f":"'URC VAR'!B274","v":"2008-06-01"},{"$f":"IFERROR('URC VAR'!C274*-1,\"\")","v":0},{"$f":"IFERROR(IF(AND(C275=\"\",C274<>\"\"),0,IF(D275+C275>0,D275+C275,0)*VLOOKUP(MONTH(B274),'NRI (Auto)'!$R$6:$T$17,3,0)),\"\")","v":""},{"$f":"IFERROR(NRI!$P$3+D274,\"\")","v":""},{"$f":"+F262","v":{"$error":"#DIV/0!"}}]
[7,{"$f":"'URC VAR'!B275","v":"2008-07-01"},{"$f":"IFERROR('URC VAR'!C275*-1,\"\")","v":0},{"$f":"IFERROR(IF(AND(C276=\"\",C275<>\"\"),0,IF(D276+C276>0,D276+C276,0)*VLOOKUP(MONTH(B275),'NRI (Auto)'!$R$6:$T$17,3,0)),\"\")","v":""},{"$f":"IFERROR(NRI!$P$3+D275,\"\")","v":""},{"$error":"#DIV/0!"}]
[8,{"$f":"'URC VAR'!B276","v":"2008-08-01"},{"$f":"IFERROR('URC VAR'!C276*-1,\"\")","v":0},{"$f":"IFERROR(IF(AND(C277=\"\",C276<>\"\"),0,IF(D277+C277>0,D277+C277,0)*VLOOKUP(MONTH(B276),'NRI (Auto)'!$R$6:$T$17,3,0)),\"\")","v":""},{"$f":"IFERROR(NRI!$P$3+D276,\"\")","v":""},{"$error":"#DIV/0!"}]
[9,{"$f":"'URC VAR'!B277","v":"2008-09-01"},{"$f":"IFERROR('URC VAR'!C277*-1,\"\")","v":0},{"$f":"IFERROR(IF(AND(C278=\"\",C277<>\"\"),0,IF(D278+C278>0,D278+C278,0)*VLOOKUP(MONTH(B277),'NRI (Auto)'!$R$6:$T$17,3,0)),\"\")","v":""},{"$f":"IFERROR(NRI!$P$3+D277,\"\")","v":""},{"$error":"#DIV/0!"}]
[10,{"$f":"'URC VAR'!B278","v":"2008-10-01"},{"$f":"IFERROR('URC VAR'!C278*-1,\"\")","v":0},{"$f":"IFERROR(IF(AND(C279=\"\",C278<>\"\"),0,IF(D279+C279>0,D279+C279,0)*VLOOKUP(MONTH(B278),'NRI (Auto)'!$R$6:$T$17,3,0)),\"\")","v":""},{"$f":"IFERROR(NRI!$P$3+D278,\"\")","v":""},{"$error":"#DIV/0!"}]
[11,{"$f":"'URC VAR'!B279","v":"2008-11-01"},{"$f":"IFERROR('URC VAR'!C279*-1,\"\")","v":0},{"$f":"IFERROR(IF(AND(C280=\"\",C279<>\"\"),0,IF(D280+C280>0,D280+C280,0)*VLOOKUP(MONTH(B279),'NRI (Auto)'!$R$6:$T$17,3,0)),\"\")","v":""},{"$f":"IFERROR(NRI!$P$3+D279,\"\")","v":""},{"$error":"#DIV/0!"}]
[12,{"$f":"'URC VAR'!B280","v":"2008-12-01"},{"$f":"IFERROR('URC VAR'!C280*-1,\"\")","v":0},{"$f":"IFERROR(IF(AND(C281=\"\",C280<>\"\"),0,IF(D281+C281>0,D281+C281,0)*VLOOKUP(MONTH(B280),'NRI (Auto)'!$R$6:$T$17,3,0)),\"\")","v":""},{"$f":"IFERROR(NRI!$P$3+D280,\"\")","v":""},{"$error":"#DIV/0!"}]
[1,{"$f":"'URC VAR'!B281","v":"2009-01-01"},{"$f":"IFERROR('URC VAR'!C281*-1,\"\")","v":0},{"$f":"IFERROR(IF(AND(C282=\"\",C281<>\"\"),0,IF(D282+C282>0,D282+C282,0)*VLOOKUP(MONTH(B281),'NRI (Auto)'!$R$6:$T$17,3,0)),\"\")","v":""},{"$f":"IFERROR(NRI!$P$3+D281,\"\")","v":""},{"$error":"#DIV/0!"}]
[2,{"$f":"'URC VAR'!B282","v":"2009-02-01"},{"$f":"IFERROR('URC VAR'!C282*-1,\"\")","v":0},{"$f":"IFERROR(IF(AND(C283=\"\",C282<>\"\"),0,IF(D283+C283>0,D283+C283,0)*VLOOKUP(MONTH(B282),'NRI (Auto)'!$R$6:$T$17,3,0)),\"\")","v":""},{"$f":"IFERROR(NRI!$P$3+D282,\"\")","v":""},{"$error":"#DIV/0!"}]
[3,{"$f":"'URC VAR'!B283","v":"2009-03-01"},{"$f":"IFERROR('URC VAR'!C283*-1,\"\")","v":0},{"$f":"IFERROR(IF(AND(C284=\"\",C283<>\"\"),0,IF(D284+C284>0,D284+C284,0)*VLOOKUP(MONTH(B283),'NRI (Auto)'!$R$6:$T$17,3,0)),\"\")","v":""},{"$f":"IFERROR(NRI!$P$3+D283,\"\")","v":""},{"$error":"#DIV/0!"}]
[4,{"$f":"'URC VAR'!B284","v":"2009-04-01"},{"$f":"IFERROR('URC VAR'!C284*-1,\"\")","v":0},{"$f":"IFERROR(IF(AND(C285=\"\",C284<>\"\"),0,IF(D285+C285>0,D285+C285,0)*VLOOKUP(MONTH(B284),'NRI (Auto)'!$R$6:$T$17,3,0)),\"\")","v":""},{"$f":"IFERROR(NRI!$P$3+D284,\"\")","v":""},{"$error":"#DIV/0!"}]
[5,{"$f":"'URC VAR'!B285","v":"2009-05-01"},{"$f":"IFERROR('URC VAR'!C285*-1,\"\")","v":0},{"$f":"IFERROR(IF(AND(C286=\"\",C285<>\"\"),0,IF(D286+C286>0,D286+C286,0)*VLOOKUP(MONTH(B285),'NRI (Auto)'!$R$6:$T$17,3,0)),\"\")","v":""},{"$f":"IFERROR(NRI!$P$3+D285,\"\")","v":""},{"$error":"#DIV/0!"}]
[6,{"$f":"'URC VAR'!B286","v":"2009-06-01"},{"$f":"IFERROR('URC VAR'!C286*-1,\"\")","v":0},{"$f":"IFERROR(IF(AND(C287=\"\",C286<>\"\"),0,IF(D287+C287>0,D287+C287,0)*VLOOKUP(MONTH(B286),'NRI (Auto)'!$R$6:$T$17,3,0)),\"\")","v":""},{"$f":"IFERROR(NRI!$P$3+D286,\"\")","v":""},{"$error":"#DIV/0!"}]
[7,{"$f":"'URC VAR'!B287","v":"2009-07-01"},{"$f":"IFERROR('URC VAR'!C287*-1,\"\")","v":0},{"$f":"IFERROR(IF(AND(C288=\"\",C287<>\"\"),0,IF(D288+C288>0,D288+C288,0)*VLOOKUP(MONTH(B287),'NRI (Auto)'!$R$6:$T$17,3,0)),\"\")","v":""},{"$f":"IFERROR(NRI!$P$3+D287,\"\")","v":""},{"$error":"#DIV/0!"}]
[8,{"$f":"'URC VAR'!B288","v":"2009-08-01"},{"$f":"IFERROR('URC VAR'!C288*-1,\"\")","v":0},{"$f":"IFERROR(IF(AND(C289=\"\",C288<>\"\"),0,IF(D289+C289>0,D289+C289,0)*VLOOKUP(MONTH(B288),'NRI (Auto)'!$R$6:$T$17,3,0)),\"\")","v":""},{"$f":"IFERROR(NRI!$P$3+D288,\"\")","v":""},{"$error":"#DIV/0!"}]
[9,{"$f":"'URC VAR'!B289","v":"2009-09-01"},{"$f":"IFERROR('URC VAR'!C289*-1,\"\")","v":0},{"$f":"IFERROR(IF(AND(C290=\"\",C289<>\"\"),0,IF(D290+C290>0,D290+C290,0)*VLOOKUP(MONTH(B289),'NRI (Auto)'!$R$6:$T$17,3,0)),\"\")","v":""},{"$f":"IFERROR(NRI!$P$3+D289,\"\")","v":""},{"$error":"#DIV/0!"}]
[10,{"$f":"'URC VAR'!B290","v":"2009-10-01"},{"$f":"IFERROR('URC VAR'!C290*-1,\"\")","v":0},{"$f":"IFERROR(IF(AND(C291=\"\",C290<>\"\"),0,IF(D291+C291>0,D291+C291,0)*VLOOKUP(MONTH(B290),'NRI (Auto)'!$R$6:$T$17,3,0)),\"\")","v":""},{"$f":"IFERROR(NRI!$P$3+D290,\"\")","v":""},{"$error":"#DIV/0!"}]
[11,{"$f":"'URC VAR'!B291","v":"2009-11-01"},{"$f":"IFERROR('URC VAR'!C291*-1,\"\")","v":0},{"$f":"IFERROR(IF(AND(C292=\"\",C291<>\"\"),0,IF(D292+C292>0,D292+C292,0)*VLOOKUP(MONTH(B291),'NRI (Auto)'!$R$6:$T$17,3,0)),\"\")","v":""},{"$f":"IFERROR(NRI!$P$3+D291,\"\")","v":""},{"$error":"#DIV/0!"}]
[12,{"$f":"'URC VAR'!B292","v":"2009-12-01"},{"$f":"IFERROR('URC VAR'!C292*-1,\"\")","v":0},{"$f":"IFERROR(IF(AND(C293=\"\",C292<>\"\"),0,IF(D293+C293>0,D293+C293,0)*VLOOKUP(MONTH(B292),'NRI (Auto)'!$R$6:$T$17,3,0)),\"\")","v":""},{"$f":"IFERROR(NRI!$P$3+D292,\"\")","v":""},{"$error":"#DIV/0!"}]
[1,{"$f":"'URC VAR'!B293","v":"2010-01-01"},{"$f":"IFERROR('URC VAR'!C293*-1,\"\")","v":0},{"$f":"IFERROR(IF(AND(C294=\"\",C293<>\"\"),0,IF(D294+C294>0,D294+C294,0)*VLOOKUP(MONTH(B293),'NRI (Auto)'!$R$6:$T$17,3,0)),\"\")","v":""},{"$f":"IFERROR(NRI!$P$3+D293,\"\")","v":""},{"$error":"#DIV/0!"}]
[2,{"$f":"'URC VAR'!B294","v":"2010-02-01"},{"$f":"IFERROR('URC VAR'!C294*-1,\"\")","v":0},{"$f":"IFERROR(IF(AND(C295=\"\",C294<>\"\"),0,IF(D295+C295>0,D295+C295,0)*VLOOKUP(MONTH(B294),'NRI (Auto)'!$R$6:$T$17,3,0)),\"\")","v":""},{"$f":"IFERROR(NRI!$P$3+D294,\"\")","v":""},{"$error":"#DIV/0!"}]
[3,{"$f":"'URC VAR'!B295","v":"2010-03-01"},{"$f":"IFERROR('URC VAR'!C295*-1,\"\")","v":0},{"$f":"IFERROR(IF(AND(C296=\"\",C295<>\"\"),0,IF(D296+C296>0,D296+C296,0)*VLOOKUP(MONTH(B295),'NRI (Auto)'!$R$6:$T$17,3,0)),\"\")","v":""},{"$f":"IFERROR(NRI!$P$3+D295,\"\")","v":""},{"$error":"#DIV/0!"}]
[4,{"$f":"'URC VAR'!B296","v":"2010-04-01"},{"$f":"IFERROR('URC VAR'!C296*-1,\"\")","v":0},{"$f":"IFERROR(IF(AND(C297=\"\",C296<>\"\"),0,IF(D297+C297>0,D297+C297,0)*VLOOKUP(MONTH(B296),'NRI (Auto)'!$R$6:$T$17,3,0)),\"\")","v":""},{"$f":"IFERROR(NRI!$P$3+D296,\"\")","v":""},{"$error":"#DIV/0!"}]
[5,{"$f":"'URC VAR'!B297","v":"2010-05-01"},{"$f":"IFERROR('URC VAR'!C297*-1,\"\")","v":0},{"$f":"IFERROR(IF(AND(C298=\"\",C297<>\"\"),0,IF(D298+C298>0,D298+C298,0)*VLOOKUP(MONTH(B297),'NRI (Auto)'!$R$6:$T$17,3,0)),\"\")","v":""},{"$f":"IFERROR(NRI!$P$3+D297,\"\")","v":""},{"$error":"#DIV/0!"}]
[6,{"$f":"'URC VAR'!B298","v":"2010-06-01"},{"$f":"IFERROR('URC VAR'!C298*-1,\"\")","v":0},{"$f":"IFERROR(IF(AND(C299=\"\",C298<>\"\"),0,IF(D299+C299>0,D299+C299,0)*VLOOKUP(MONTH(B298),'NRI (Auto)'!$R$6:$T$17,3,0)),\"\")","v":""},{"$f":"IFERROR(NRI!$P$3+D298,\"\")","v":""},{"$error":"#DIV/0!"}]
[7,{"$f":"'URC VAR'!B299","v":"2010-07-01"},{"$f":"IFERROR('URC VAR'!C299*-1,\"\")","v":0},{"$f":"IFERROR(IF(AND(C300=\"\",C299<>\"\"),0,IF(D300+C300>0,D300+C300,0)*VLOOKUP(MONTH(B299),'NRI (Auto)'!$R$6:$T$17,3,0)),\"\")","v":""},{"$f":"IFERROR(NRI!$P$3+D299,\"\")","v":""},{"$error":"#DIV/0!"}]
[8,{"$f":"'URC VAR'!B300","v":"2010-08-01"},{"$f":"IFERROR('URC VAR'!C300*-1,\"\")","v":0},{"$f":"IFERROR(IF(AND(C301=\"\",C300<>\"\"),0,IF(D301+C301>0,D301+C301,0)*VLOOKUP(MONTH(B300),'NRI (Auto)'!$R$6:$T$17,3,0)),\"\")","v":""},{"$f":"IFERROR(NRI!$P$3+D300,\"\")","v":""},{"$error":"#DIV/0!"}]
[9,{"$f":"'URC VAR'!B301","v":"2010-09-01"},{"$f":"IFERROR('URC VAR'!C301*-1,\"\")","v":0},{"$f":"IFERROR(IF(AND(C302=\"\",C301<>\"\"),0,IF(D302+C302>0,D302+C302,0)*VLOOKUP(MONTH(B301),'NRI (Auto)'!$R$6:$T$17,3,0)),\"\")","v":""},{"$f":"IFERROR(NRI!$P$3+D301,\"\")","v":""},{"$error":"#DIV/0!"}]
[10,{"$f":"'URC VAR'!B302","v":"2010-10-01"},{"$f":"IFERROR('URC VAR'!C302*-1,\"\")","v":0},{"$f":"IFERROR(IF(AND(C303=\"\",C302<>\"\"),0,IF(D303+C303>0,D303+C303,0)*VLOOKUP(MONTH(B302),'NRI (Auto)'!$R$6:$T$17,3,0)),\"\")","v":""},{"$f":"IFERROR(NRI!$P$3+D302,\"\")","v":""},{"$error":"#DIV/0!"}]
[11,{"$f":"'URC VAR'!B303","v":"2010-11-01"},{"$f":"IFERROR('URC VAR'!C303*-1,\"\")","v":0},{"$f":"IFERROR(IF(AND(C304=\"\",C303<>\"\"),0,IF(D304+C304>0,D304+C304,0)*VLOOKUP(MONTH(B303),'NRI (Auto)'!$R$6:$T$17,3,0)),\"\")","v":""},{"$f":"IFERROR(NRI!$P$3+D303,\"\")","v":""},{"$error":"#DIV/0!"}]
[12,{"$f":"'URC VAR'!B304","v":"2010-12-01"},{"$f":"IFERROR('URC VAR'!C304*-1,\"\")","v":0},{"$f":"IFERROR(IF(AND(C305=\"\",C304<>\"\"),0,IF(D305+C305>0,D305+C305,0)*VLOOKUP(MONTH(B304),'NRI (Auto)'!$R$6:$T$17,3,0)),\"\")","v":""},{"$f":"IFERROR(NRI!$P$3+D304,\"\")","v":""},{"$error":"#DIV/0!"}]
[1,{"$f":"'URC VAR'!B305","v":"2011-01-01"},{"$f":"IFERROR('URC VAR'!C305*-1,\"\")","v":0},{"$f":"IFERROR(IF(AND(C306=\"\",C305<>\"\"),0,IF(D306+C306>0,D306+C306,0)*VLOOKUP(MONTH(B305),'NRI (Auto)'!$R$6:$T$17,3,0)),\"\")","v":""},{"$f":"IFERROR(NRI!$P$3+D305,\"\")","v":""},{"$error":"#DIV/0!"}]
[2,{"$f":"'URC VAR'!B306","v":"2011-02-01"},{"$f":"IFERROR('URC VAR'!C306*-1,\"\")","v":0},{"$f":"IFERROR(IF(AND(C307=\"\",C306<>\"\"),0,IF(D307+C307>0,D307+C307,0)*VLOOKUP(MONTH(B306),'NRI (Auto)'!$R$6:$T$17,3,0)),\"\")","v":""},{"$f":"IFERROR(NRI!$P$3+D306,\"\")","v":""},{"$error":"#DIV/0!"}]
[3,{"$f":"'URC VAR'!B307","v":"2011-03-01"},{"$f":"IFERROR('URC VAR'!C307*-1,\"\")","v":0},{"$f":"IFERROR(IF(AND(C308=\"\",C307<>\"\"),0,IF(D308+C308>0,D308+C308,0)*VLOOKUP(MONTH(B307),'NRI (Auto)'!$R$6:$T$17,3,0)),\"\")","v":""},{"$f":"IFERROR(NRI!$P$3+D307,\"\")","v":""},{"$error":"#DIV/0!"}]
[4,{"$f":"'URC VAR'!B308","v":"2011-04-01"},{"$f":"IFERROR('URC VAR'!C308*-1,\"\")","v":0},{"$f":"IFERROR(IF(AND(C309=\"\",C308<>\"\"),0,IF(D309+C309>0,D309+C309,0)*VLOOKUP(MONTH(B308),'NRI (Auto)'!$R$6:$T$17,3,0)),\"\")","v":""},{"$f":"IFERROR(NRI!$P$3+D308,\"\")","v":""},{"$error":"#DIV/0!"}]
[5,{"$f":"'URC VAR'!B309","v":"2011-05-01"},{"$f":"IFERROR('URC VAR'!C309*-1,\"\")","v":0},{"$f":"IFERROR(IF(AND(C310=\"\",C309<>\"\"),0,IF(D310+C310>0,D310+C310,0)*VLOOKUP(MONTH(B309),'NRI (Auto)'!$R$6:$T$17,3,0)),\"\")","v":""},{"$f":"IFERROR(NRI!$P$3+D309,\"\")","v":""},{"$error":"#DIV/0!"}]
[6,{"$f":"'URC VAR'!B310","v":"2011-06-01"},{"$f":"IFERROR('URC VAR'!C310*-1,\"\")","v":0},{"$f":"IFERROR(IF(AND(C311=\"\",C310<>\"\"),0,IF(D311+C311>0,D311+C311,0)*VLOOKUP(MONTH(B310),'NRI (Auto)'!$R$6:$T$17,3,0)),\"\")","v":""},{"$f":"IFERROR(NRI!$P$3+D310,\"\")","v":""},{"$error":"#DIV/0!"}]
[7,{"$f":"'URC VAR'!B311","v":"2011-07-01"},{"$f":"IFERROR('URC VAR'!C311*-1,\"\")","v":0},{"$f":"IFERROR(IF(AND(C312=\"\",C311<>\"\"),0,IF(D312+C312>0,D312+C312,0)*VLOOKUP(MONTH(B311),'NRI (Auto)'!$R$6:$T$17,3,0)),\"\")","v":""},{"$f":"IFERROR(NRI!$P$3+D311,\"\")","v":""},{"$error":"#DIV/0!"}]
[8,{"$f":"'URC VAR'!B312","v":"2011-08-01"},{"$f":"IFERROR('URC VAR'!C312*-1,\"\")","v":0},{"$f":"IFERROR(IF(AND(C313=\"\",C312<>\"\"),0,IF(D313+C313>0,D313+C313,0)*VLOOKUP(MONTH(B312),'NRI (Auto)'!$R$6:$T$17,3,0)),\"\")","v":""},{"$f":"IFERROR(NRI!$P$3+D312,\"\")","v":""},{"$error":"#DIV/0!"}]
[9,{"$f":"'URC VAR'!B313","v":"2011-09-01"},{"$f":"IFERROR('URC VAR'!C313*-1,\"\")","v":0},{"$f":"IFERROR(IF(AND(C314=\"\",C313<>\"\"),0,IF(D314+C314>0,D314+C314,0)*VLOOKUP(MONTH(B313),'NRI (Auto)'!$R$6:$T$17,3,0)),\"\")","v":""},{"$f":"IFERROR(NRI!$P$3+D313,\"\")","v":""},{"$error":"#DIV/0!"}]
[10,{"$f":"'URC VAR'!B314","v":"2011-10-01"},{"$f":"IFERROR('URC VAR'!C314*-1,\"\")","v":0},{"$f":"IFERROR(IF(AND(C315=\"\",C314<>\"\"),0,IF(D315+C315>0,D315+C315,0)*VLOOKUP(MONTH(B314),'NRI (Auto)'!$R$6:$T$17,3,0)),\"\")","v":""},{"$f":"IFERROR(NRI!$P$3+D314,\"\")","v":""},{"$error":"#DIV/0!"}]
[11,{"$f":"'URC VAR'!B315","v":"2011-11-01"},{"$f":"IFERROR('URC VAR'!C315*-1,\"\")","v":0},{"$f":"IFERROR(IF(AND(C316=\"\",C315<>\"\"),0,IF(D316+C316>0,D316+C316,0)*VLOOKUP(MONTH(B315),'NRI (Auto)'!$R$6:$T$17,3,0)),\"\")","v":""},{"$f":"IFERROR(NRI!$P$3+D315,\"\")","v":""},{"$error":"#DIV/0!"}]
[12,{"$f":"'URC VAR'!B316","v":"2011-12-01"},{"$f":"IFERROR('URC VAR'!C316*-1,\"\")","v":0},{"$f":"IFERROR(IF(AND(C317=\"\",C316<>\"\"),0,IF(D317+C317>0,D317+C317,0)*VLOOKUP(MONTH(B316),'NRI (Auto)'!$R$6:$T$17,3,0)),\"\")","v":""},{"$f":"IFERROR(NRI!$P$3+D316,\"\")","v":""},{"$error":"#DIV/0!"}]
[1,{"$f":"'URC VAR'!B317","v":"2012-01-01"},{"$f":"IFERROR('URC VAR'!C317*-1,\"\")","v":0},{"$f":"IFERROR(IF(AND(C318=\"\",C317<>\"\"),0,IF(D318+C318>0,D318+C318,0)*VLOOKUP(MONTH(B317),'NRI (Auto)'!$R$6:$T$17,3,0)),\"\")","v":""},{"$f":"IFERROR(NRI!$P$3+D317,\"\")","v":""},{"$error":"#DIV/0!"}]
[2,{"$f":"'URC VAR'!B318","v":"2012-02-01"},{"$f":"IFERROR('URC VAR'!C318*-1,\"\")","v":0},{"$f":"IFERROR(IF(AND(C319=\"\",C318<>\"\"),0,IF(D319+C319>0,D319+C319,0)*VLOOKUP(MONTH(B318),'NRI (Auto)'!$R$6:$T$17,3,0)),\"\")","v":""},{"$f":"IFERROR(NRI!$P$3+D318,\"\")","v":""},{"$error":"#DIV/0!"}]
[3,{"$f":"'URC VAR'!B319","v":"2012-03-01"},{"$f":"IFERROR('URC VAR'!C319*-1,\"\")","v":0},{"$f":"IFERROR(IF(AND(C320=\"\",C319<>\"\"),0,IF(D320+C320>0,D320+C320,0)*VLOOKUP(MONTH(B319),'NRI (Auto)'!$R$6:$T$17,3,0)),\"\")","v":""},{"$f":"IFERROR(NRI!$P$3+D319,\"\")","v":""},{"$error":"#DIV/0!"}]
[4,{"$f":"'URC VAR'!B320","v":"2012-04-01"},{"$f":"IFERROR('URC VAR'!C320*-1,\"\")","v":0},{"$f":"IFERROR(IF(AND(C321=\"\",C320<>\"\"),0,IF(D321+C321>0,D321+C321,0)*VLOOKUP(MONTH(B320),'NRI (Auto)'!$R$6:$T$17,3,0)),\"\")","v":""},{"$f":"IFERROR(NRI!$P$3+D320,\"\")","v":""},{"$error":"#DIV/0!"}]
[5,{"$f":"'URC VAR'!B321","v":"2012-05-01"},{"$f":"IFERROR('URC VAR'!C321*-1,\"\")","v":0},{"$f":"IFERROR(IF(AND(C322=\"\",C321<>\"\"),0,IF(D322+C322>0,D322+C322,0)*VLOOKUP(MONTH(B321),'NRI (Auto)'!$R$6:$T$17,3,0)),\"\")","v":""},{"$f":"IFERROR(NRI!$P$3+D321,\"\")","v":""},{"$error":"#DIV/0!"}]
[6,{"$f":"'URC VAR'!B322","v":"2012-06-01"},{"$f":"IFERROR('URC VAR'!C322*-1,\"\")","v":0},{"$f":"IFERROR(IF(AND(C323=\"\",C322<>\"\"),0,IF(D323+C323>0,D323+C323,0)*VLOOKUP(MONTH(B322),'NRI (Auto)'!$R$6:$T$17,3,0)),\"\")","v":""},{"$f":"IFERROR(NRI!$P$3+D322,\"\")","v":""},{"$error":"#DIV/0!"}]
[7,{"$f":"'URC VAR'!B323","v":"2012-07-01"},{"$f":"IFERROR('URC VAR'!C323*-1,\"\")","v":0},{"$f":"IFERROR(IF(AND(C324=\"\",C323<>\"\"),0,IF(D324+C324>0,D324+C324,0)*VLOOKUP(MONTH(B323),'NRI (Auto)'!$R$6:$T$17,3,0)),\"\")","v":""},{"$f":"IFERROR(NRI!$P$3+D323,\"\")","v":""},{"$error":"#DIV/0!"}]
[8,{"$f":"'URC VAR'!B324","v":"2012-08-01"},{"$f":"IFERROR('URC VAR'!C324*-1,\"\")","v":0},{"$f":"IFERROR(IF(AND(C325=\"\",C324<>\"\"),0,IF(D325+C325>0,D325+C325,0)*VLOOKUP(MONTH(B324),'NRI (Auto)'!$R$6:$T$17,3,0)),\"\")","v":""},{"$f":"IFERROR(NRI!$P$3+D324,\"\")","v":""},{"$error":"#DIV/0!"}]
[9,{"$f":"'URC VAR'!B325","v":"2012-09-01"},{"$f":"IFERROR('URC VAR'!C325*-1,\"\")","v":0},{"$f":"IFERROR(IF(AND(C326=\"\",C325<>\"\"),0,IF(D326+C326>0,D326+C326,0)*VLOOKUP(MONTH(B325),'NRI (Auto)'!$R$6:$T$17,3,0)),\"\")","v":""},{"$f":"IFERROR(NRI!$P$3+D325,\"\")","v":""},{"$error":"#DIV/0!"}]
[10,{"$f":"'URC VAR'!B326","v":"2012-10-01"},{"$f":"IFERROR('URC VAR'!C326*-1,\"\")","v":0},{"$f":"IFERROR(IF(AND(C327=\"\",C326<>\"\"),0,IF(D327+C327>0,D327+C327,0)*VLOOKUP(MONTH(B326),'NRI (Auto)'!$R$6:$T$17,3,0)),\"\")","v":""},{"$f":"IFERROR(NRI!$P$3+D326,\"\")","v":""},{"$error":"#DIV/0!"}]
[11,{"$f":"'URC VAR'!B327","v":"2012-11-01"},{"$f":"IFERROR('URC VAR'!C327*-1,\"\")","v":0},{"$f":"IFERROR(IF(AND(C328=\"\",C327<>\"\"),0,IF(D328+C328>0,D328+C328,0)*VLOOKUP(MONTH(B327),'NRI (Auto)'!$R$6:$T$17,3,0)),\"\")","v":""},{"$f":"IFERROR(NRI!$P$3+D327,\"\")","v":""},{"$error":"#DIV/0!"}]
[12,{"$f":"'URC VAR'!B328","v":"2012-12-01"},{"$f":"IFERROR('URC VAR'!C328*-1,\"\")","v":0},{"$f":"IFERROR(IF(AND(C329=\"\",C328<>\"\"),0,IF(D329+C329>0,D329+C329,0)*VLOOKUP(MONTH(B328),'NRI (Auto)'!$R$6:$T$17,3,0)),\"\")","v":""},{"$f":"IFERROR(NRI!$P$3+D328,\"\")","v":""},{"$error":"#DIV/0!"}]
[1,{"$f":"'URC VAR'!B329","v":"2013-01-01"},{"$f":"IFERROR('URC VAR'!C329*-1,\"\")","v":0},{"$f":"IFERROR(IF(AND(C330=\"\",C329<>\"\"),0,IF(D330+C330>0,D330+C330,0)*VLOOKUP(MONTH(B329),'NRI (Auto)'!$R$6:$T$17,3,0)),\"\")","v":""},{"$f":"IFERROR(NRI!$P$3+D329,\"\")","v":""},{"$error":"#DIV/0!"}]
[2,{"$f":"'URC VAR'!B330","v":"2013-02-01"},{"$f":"IFERROR('URC VAR'!C330*-1,\"\")","v":0},{"$f":"IFERROR(IF(AND(C331=\"\",C330<>\"\"),0,IF(D331+C331>0,D331+C331,0)*VLOOKUP(MONTH(B330),'NRI (Auto)'!$R$6:$T$17,3,0)),\"\")","v":""},{"$f":"IFERROR(NRI!$P$3+D330,\"\")","v":""},{"$error":"#DIV/0!"}]
[3,{"$f":"'URC VAR'!B331","v":"2013-03-01"},{"$f":"IFERROR('URC VAR'!C331*-1,\"\")","v":0},{"$f":"IFERROR(IF(AND(C332=\"\",C331<>\"\"),0,IF(D332+C332>0,D332+C332,0)*VLOOKUP(MONTH(B331),'NRI (Auto)'!$R$6:$T$17,3,0)),\"\")","v":""},{"$f":"IFERROR(NRI!$P$3+D331,\"\")","v":""},{"$error":"#DIV/0!"}]
[4,{"$f":"'URC VAR'!B332","v":"2013-04-01"},{"$f":"IFERROR('URC VAR'!C332*-1,\"\")","v":0},{"$f":"IFERROR(IF(AND(C333=\"\",C332<>\"\"),0,IF(D333+C333>0,D333+C333,0)*VLOOKUP(MONTH(B332),'NRI (Auto)'!$R$6:$T$17,3,0)),\"\")","v":""},{"$f":"IFERROR(NRI!$P$3+D332,\"\")","v":""},{"$error":"#DIV/0!"}]
[5,{"$f":"'URC VAR'!B333","v":"2013-05-01"},{"$f":"IFERROR('URC VAR'!C333*-1,\"\")","v":0},{"$f":"IFERROR(IF(AND(C334=\"\",C333<>\"\"),0,IF(D334+C334>0,D334+C334,0)*VLOOKUP(MONTH(B333),'NRI (Auto)'!$R$6:$T$17,3,0)),\"\")","v":""},{"$f":"IFERROR(NRI!$P$3+D333,\"\")","v":""},{"$error":"#DIV/0!"}]
[6,{"$f":"'URC VAR'!B334","v":"2013-06-01"},{"$f":"IFERROR('URC VAR'!C334*-1,\"\")","v":0},{"$f":"IFERROR(IF(AND(C335=\"\",C334<>\"\"),0,IF(D335+C335>0,D335+C335,0)*VLOOKUP(MONTH(B334),'NRI (Auto)'!$R$6:$T$17,3,0)),\"\")","v":""},{"$f":"IFERROR(NRI!$P$3+D334,\"\")","v":""},{"$error":"#DIV/0!"}]
[7,{"$f":"'URC VAR'!B335","v":"2013-07-01"},{"$f":"IFERROR('URC VAR'!C335*-1,\"\")","v":0},{"$f":"IFERROR(IF(AND(C336=\"\",C335<>\"\"),0,IF(D336+C336>0,D336+C336,0)*VLOOKUP(MONTH(B335),'NRI (Auto)'!$R$6:$T$17,3,0)),\"\")","v":""},{"$f":"IFERROR(NRI!$P$3+D335,\"\")","v":""},{"$error":"#DIV/0!"}]
[8,{"$f":"'URC VAR'!B336","v":"2013-08-01"},{"$f":"IFERROR('URC VAR'!C336*-1,\"\")","v":0},{"$f":"IFERROR(IF(AND(C337=\"\",C336<>\"\"),0,IF(D337+C337>0,D337+C337,0)*VLOOKUP(MONTH(B336),'NRI (Auto)'!$R$6:$T$17,3,0)),\"\")","v":""},{"$f":"IFERROR(NRI!$P$3+D336,\"\")","v":""},{"$error":"#DIV/0!"}]
[9,{"$f":"'URC VAR'!B337","v":"2013-09-01"},{"$f":"IFERROR('URC VAR'!C337*-1,\"\")","v":0},{"$f":"IFERROR(IF(AND(C338=\"\",C337<>\"\"),0,IF(D338+C338>0,D338+C338,0)*VLOOKUP(MONTH(B337),'NRI (Auto)'!$R$6:$T$17,3,0)),\"\")","v":""},{"$f":"IFERROR(NRI!$P$3+D337,\"\")","v":""},{"$error":"#DIV/0!"}]
[{"$f":"+A326","v":10},{"$f":"'URC VAR'!B338","v":"2013-10-01"},{"$f":"IFERROR('URC VAR'!C338*-1,\"\")","v":0},{"$f":"IFERROR(IF(AND(C339=\"\",C338<>\"\"),0,IF(D339+C339>0,D339+C339,0)*VLOOKUP(MONTH(B338),'NRI (Auto)'!$R$6:$T$17,3,0)),\"\")","v":""},{"$f":"IFERROR(NRI!$P$3+D338,\"\")","v":""},{"$f":"+F326","v":{"$error":"#DIV/0!"}}]
[11,{"$f":"'URC VAR'!B339","v":"2013-11-01"},{"$f":"IFERROR('URC VAR'!C339*-1,\"\")","v":0},{"$f":"IFERROR(IF(AND(C340=\"\",C339<>\"\"),0,IF(D340+C340>0,D340+C340,0)*VLOOKUP(MONTH(B339),'NRI (Auto)'!$R$6:$T$17,3,0)),\"\")","v":""},{"$f":"IFERROR(NRI!$P$3+D339,\"\")","v":""},{"$error":"#DIV/0!"}]
[12,{"$f":"'URC VAR'!B340","v":"2013-12-01"},{"$f":"IFERROR('URC VAR'!C340*-1,\"\")","v":0},{"$f":"IFERROR(IF(AND(C341=\"\",C340<>\"\"),0,IF(D341+C341>0,D341+C341,0)*VLOOKUP(MONTH(B340),'NRI (Auto)'!$R$6:$T$17,3,0)),\"\")","v":""},{"$f":"IFERROR(NRI!$P$3+D340,\"\")","v":""},{"$error":"#DIV/0!"}]
[1,{"$f":"'URC VAR'!B341","v":"2014-01-01"},{"$f":"IFERROR('URC VAR'!C341*-1,\"\")","v":0},{"$f":"IFERROR(IF(AND(C342=\"\",C341<>\"\"),0,IF(D342+C342>0,D342+C342,0)*VLOOKUP(MONTH(B341),'NRI (Auto)'!$R$6:$T$17,3,0)),\"\")","v":""},{"$f":"IFERROR(NRI!$P$3+D341,\"\")","v":""},{"$error":"#DIV/0!"}]
[2,{"$f":"'URC VAR'!B342","v":"2014-02-01"},{"$f":"IFERROR('URC VAR'!C342*-1,\"\")","v":0},{"$f":"IFERROR(IF(AND(C343=\"\",C342<>\"\"),0,IF(D343+C343>0,D343+C343,0)*VLOOKUP(MONTH(B342),'NRI (Auto)'!$R$6:$T$17,3,0)),\"\")","v":""},{"$f":"IFERROR(NRI!$P$3+D342,\"\")","v":""},{"$error":"#DIV/0!"}]
[3,{"$f":"'URC VAR'!B343","v":"2014-03-01"},{"$f":"IFERROR('URC VAR'!C343*-1,\"\")","v":0},{"$f":"IFERROR(IF(AND(C344=\"\",C343<>\"\"),0,IF(D344+C344>0,D344+C344,0)*VLOOKUP(MONTH(B343),'NRI (Auto)'!$R$6:$T$17,3,0)),\"\")","v":""},{"$f":"IFERROR(NRI!$P$3+D343,\"\")","v":""},{"$error":"#DIV/0!"}]
[4,{"$f":"'URC VAR'!B344","v":"2014-04-01"},{"$f":"IFERROR('URC VAR'!C344*-1,\"\")","v":0},{"$f":"IFERROR(IF(AND(C345=\"\",C344<>\"\"),0,IF(D345+C345>0,D345+C345,0)*VLOOKUP(MONTH(B344),'NRI (Auto)'!$R$6:$T$17,3,0)),\"\")","v":""},{"$f":"IFERROR(NRI!$P$3+D344,\"\")","v":""},{"$error":"#DIV/0!"}]
[5,{"$f":"'URC VAR'!B345","v":"2014-05-01"},{"$f":"IFERROR('URC VAR'!C345*-1,\"\")","v":0},{"$f":"IFERROR(IF(AND(C346=\"\",C345<>\"\"),0,IF(D346+C346>0,D346+C346,0)*VLOOKUP(MONTH(B345),'NRI (Auto)'!$R$6:$T$17,3,0)),\"\")","v":""},{"$f":"IFERROR(NRI!$P$3+D345,\"\")","v":""},{"$error":"#DIV/0!"}]
[6,{"$f":"'URC VAR'!B346","v":"2014-06-01"},{"$f":"IFERROR('URC VAR'!C346*-1,\"\")","v":0},{"$f":"IFERROR(IF(AND(C347=\"\",C346<>\"\"),0,IF(D347+C347>0,D347+C347,0)*VLOOKUP(MONTH(B346),'NRI (Auto)'!$R$6:$T$17,3,0)),\"\")","v":""},{"$f":"IFERROR(NRI!$P$3+D346,\"\")","v":""},{"$error":"#DIV/0!"}]
[7,{"$f":"'URC VAR'!B347","v":"2014-07-01"},{"$f":"IFERROR('URC VAR'!C347*-1,\"\")","v":0},{"$f":"IFERROR(IF(AND(C348=\"\",C347<>\"\"),0,IF(D348+C348>0,D348+C348,0)*VLOOKUP(MONTH(B347),'NRI (Auto)'!$R$6:$T$17,3,0)),\"\")","v":""},{"$f":"IFERROR(NRI!$P$3+D347,\"\")","v":""},{"$error":"#DIV/0!"}]
[8,{"$f":"'URC VAR'!B348","v":"2014-08-01"},{"$f":"IFERROR('URC VAR'!C348*-1,\"\")","v":0},{"$f":"IFERROR(IF(AND(C349=\"\",C348<>\"\"),0,IF(D349+C349>0,D349+C349,0)*VLOOKUP(MONTH(B348),'NRI (Auto)'!$R$6:$T$17,3,0)),\"\")","v":""},{"$f":"IFERROR(NRI!$P$3+D348,\"\")","v":""},{"$error":"#DIV/0!"}]
[9,{"$f":"'URC VAR'!B349","v":"2014-09-01"},{"$f":"IFERROR('URC VAR'!C349*-1,\"\")","v":0},{"$f":"IFERROR(IF(AND(C350=\"\",C349<>\"\"),0,IF(D350+C350>0,D350+C350,0)*VLOOKUP(MONTH(B349),'NRI (Auto)'!$R$6:$T$17,3,0)),\"\")","v":""},{"$f":"IFERROR(NRI!$P$3+D349,\"\")","v":""},{"$error":"#DIV/0!"}]
[10,{"$f":"'URC VAR'!B350","v":"2014-10-01"},{"$f":"IFERROR('URC VAR'!C350*-1,\"\")","v":0},{"$f":"IFERROR(IF(AND(C351=\"\",C350<>\"\"),0,IF(D351+C351>0,D351+C351,0)*VLOOKUP(MONTH(B350),'NRI (Auto)'!$R$6:$T$17,3,0)),\"\")","v":""},{"$f":"IFERROR(NRI!$P$3+D350,\"\")","v":""},{"$error":"#DIV/0!"}]
[11,{"$f":"'URC VAR'!B351","v":"2014-11-01"},{"$f":"IFERROR('URC VAR'!C351*-1,\"\")","v":0},{"$f":"IFERROR(IF(AND(C352=\"\",C351<>\"\"),0,IF(D352+C352>0,D352+C352,0)*VLOOKUP(MONTH(B351),'NRI (Auto)'!$R$6:$T$17,3,0)),\"\")","v":""},{"$f":"IFERROR(NRI!$P$3+D351,\"\")","v":""},{"$error":"#DIV/0!"}]
[12,{"$f":"'URC VAR'!B352","v":"2014-12-01"},{"$f":"IFERROR('URC VAR'!C352*-1,\"\")","v":0},{"$f":"IFERROR(IF(AND(C353=\"\",C352<>\"\"),0,IF(D353+C353>0,D353+C353,0)*VLOOKUP(MONTH(B352),'NRI (Auto)'!$R$6:$T$17,3,0)),\"\")","v":""},{"$f":"IFERROR(NRI!$P$3+D352,\"\")","v":""},{"$error":"#DIV/0!"}]
[1,{"$f":"'URC VAR'!B353","v":"2015-01-01"},{"$f":"IFERROR('URC VAR'!C353*-1,\"\")","v":0},{"$f":"IFERROR(IF(AND(C354=\"\",C353<>\"\"),0,IF(D354+C354>0,D354+C354,0)*VLOOKUP(MONTH(B353),'NRI (Auto)'!$R$6:$T$17,3,0)),\"\")","v":""},{"$f":"IFERROR(NRI!$P$3+D353,\"\")","v":""},{"$error":"#DIV/0!"}]
[2,{"$f":"'URC VAR'!B354","v":"2015-02-01"},{"$f":"IFERROR('URC VAR'!C354*-1,\"\")","v":0},{"$f":"IFERROR(IF(AND(C355=\"\",C354<>\"\"),0,IF(D355+C355>0,D355+C355,0)*VLOOKUP(MONTH(B354),'NRI (Auto)'!$R$6:$T$17,3,0)),\"\")","v":""},{"$f":"IFERROR(NRI!$P$3+D354,\"\")","v":""},{"$error":"#DIV/0!"}]
[3,{"$f":"'URC VAR'!B355","v":"2015-03-01"},{"$f":"IFERROR('URC VAR'!C355*-1,\"\")","v":0},{"$f":"IFERROR(IF(AND(C356=\"\",C355<>\"\"),0,IF(D356+C356>0,D356+C356,0)*VLOOKUP(MONTH(B355),'NRI (Auto)'!$R$6:$T$17,3,0)),\"\")","v":""},{"$f":"IFERROR(NRI!$P$3+D355,\"\")","v":""},{"$error":"#DIV/0!"}]
[4,{"$f":"'URC VAR'!B356","v":"2015-04-01"},{"$f":"IFERROR('URC VAR'!C356*-1,\"\")","v":0},{"$f":"IFERROR(IF(AND(C357=\"\",C356<>\"\"),0,IF(D357+C357>0,D357+C357,0)*VLOOKUP(MONTH(B356),'NRI (Auto)'!$R$6:$T$17,3,0)),\"\")","v":""},{"$f":"IFERROR(NRI!$P$3+D356,\"\")","v":""},{"$error":"#DIV/0!"}]
[5,{"$f":"'URC VAR'!B357","v":"2015-05-01"},{"$f":"IFERROR('URC VAR'!C357*-1,\"\")","v":0},{"$f":"IFERROR(IF(AND(C358=\"\",C357<>\"\"),0,IF(D358+C358>0,D358+C358,0)*VLOOKUP(MONTH(B357),'NRI (Auto)'!$R$6:$T$17,3,0)),\"\")","v":""},{"$f":"IFERROR(NRI!$P$3+D357,\"\")","v":""},{"$error":"#DIV/0!"}]
[6,{"$f":"'URC VAR'!B358","v":"2015-06-01"},{"$f":"IFERROR('URC VAR'!C358*-1,\"\")","v":0},{"$f":"IFERROR(IF(AND(C359=\"\",C358<>\"\"),0,IF(D359+C359>0,D359+C359,0)*VLOOKUP(MONTH(B358),'NRI (Auto)'!$R$6:$T$17,3,0)),\"\")","v":""},{"$f":"IFERROR(NRI!$P$3+D358,\"\")","v":""},{"$error":"#DIV/0!"}]
[7,{"$f":"'URC VAR'!B359","v":"2015-07-01"},{"$f":"IFERROR('URC VAR'!C359*-1,\"\")","v":0},{"$f":"IFERROR(IF(AND(C360=\"\",C359<>\"\"),0,IF(D360+C360>0,D360+C360,0)*VLOOKUP(MONTH(B359),'NRI (Auto)'!$R$6:$T$17,3,0)),\"\")","v":""},{"$f":"IFERROR(NRI!$P$3+D359,\"\")","v":""},{"$error":"#DIV/0!"}]
[8,{"$f":"'URC VAR'!B360","v":"2015-08-01"},{"$f":"IFERROR('URC VAR'!C360*-1,\"\")","v":0},{"$f":"IFERROR(IF(AND(C361=\"\",C360<>\"\"),0,IF(D361+C361>0,D361+C361,0)*VLOOKUP(MONTH(B360),'NRI (Auto)'!$R$6:$T$17,3,0)),\"\")","v":""},{"$f":"IFERROR(NRI!$P$3+D360,\"\")","v":""},{"$error":"#DIV/0!"}]
[9,{"$f":"'URC VAR'!B361","v":"2015-09-01"},{"$f":"IFERROR('URC VAR'!C361*-1,\"\")","v":0},{"$f":"IFERROR(IF(AND(C362=\"\",C361<>\"\"),0,IF(D362+C362>0,D362+C362,0)*VLOOKUP(MONTH(B361),'NRI (Auto)'!$R$6:$T$17,3,0)),\"\")","v":""},{"$f":"IFERROR(NRI!$P$3+D361,\"\")","v":""},{"$error":"#DIV/0!"}]
[10,{"$f":"'URC VAR'!B362","v":"2015-10-01"},{"$f":"IFERROR('URC VAR'!C362*-1,\"\")","v":0},{"$f":"IFERROR(IF(AND(C363=\"\",C362<>\"\"),0,IF(D363+C363>0,D363+C363,0)*VLOOKUP(MONTH(B362),'NRI (Auto)'!$R$6:$T$17,3,0)),\"\")","v":""},{"$f":"IFERROR(NRI!$P$3+D362,\"\")","v":""},{"$error":"#DIV/0!"}]
[11,{"$f":"'URC VAR'!B363","v":"2015-11-01"},{"$f":"IFERROR('URC VAR'!C363*-1,\"\")","v":0},{"$f":"IFERROR(IF(AND(C364=\"\",C363<>\"\"),0,IF(D364+C364>0,D364+C364,0)*VLOOKUP(MONTH(B363),'NRI (Auto)'!$R$6:$T$17,3,0)),\"\")","v":""},{"$f":"IFERROR(NRI!$P$3+D363,\"\")","v":""},{"$error":"#DIV/0!"}]
[12,{"$f":"'URC VAR'!B364","v":"2015-12-01"},{"$f":"IFERROR('URC VAR'!C364*-1,\"\")","v":0},{"$f":"IFERROR(IF(AND(C365=\"\",C364<>\"\"),0,IF(D365+C365>0,D365+C365,0)*VLOOKUP(MONTH(B364),'NRI (Auto)'!$R$6:$T$17,3,0)),\"\")","v":""},{"$f":"IFERROR(NRI!$P$3+D364,\"\")","v":""},{"$error":"#DIV/0!"}]
[1,{"$f":"'URC VAR'!B365","v":"2016-01-01"},{"$f":"IFERROR('URC VAR'!C365*-1,\"\")","v":0},{"$f":"IFERROR(IF(AND(C366=\"\",C365<>\"\"),0,IF(D366+C366>0,D366+C366,0)*VLOOKUP(MONTH(B365),'NRI (Auto)'!$R$6:$T$17,3,0)),\"\")","v":""},{"$f":"IFERROR(NRI!$P$3+D365,\"\")","v":""},{"$error":"#DIV/0!"}]
[2,{"$f":"'URC VAR'!B366","v":"2016-02-01"},{"$f":"IFERROR('URC VAR'!C366*-1,\"\")","v":0},{"$f":"IFERROR(IF(AND(C367=\"\",C366<>\"\"),0,IF(D367+C367>0,D367+C367,0)*VLOOKUP(MONTH(B366),'NRI (Auto)'!$R$6:$T$17,3,0)),\"\")","v":""},{"$f":"IFERROR(NRI!$P$3+D366,\"\")","v":""},{"$error":"#DIV/0!"}]
[3,{"$f":"'URC VAR'!B367","v":"2016-03-01"},{"$f":"IFERROR('URC VAR'!C367*-1,\"\")","v":0},{"$f":"IFERROR(IF(AND(C368=\"\",C367<>\"\"),0,IF(D368+C368>0,D368+C368,0)*VLOOKUP(MONTH(B367),'NRI (Auto)'!$R$6:$T$17,3,0)),\"\")","v":""},{"$f":"IFERROR(NRI!$P$3+D367,\"\")","v":""},{"$error":"#DIV/0!"}]
[4,{"$f":"'URC VAR'!B368","v":"2016-04-01"},{"$f":"IFERROR('URC VAR'!C368*-1,\"\")","v":0},{"$f":"IFERROR(IF(AND(C369=\"\",C368<>\"\"),0,IF(D369+C369>0,D369+C369,0)*VLOOKUP(MONTH(B368),'NRI (Auto)'!$R$6:$T$17,3,0)),\"\")","v":""},{"$f":"IFERROR(NRI!$P$3+D368,\"\")","v":""},{"$error":"#DIV/0!"}]
[5,{"$f":"'URC VAR'!B369","v":"2016-05-01"},{"$f":"IFERROR('URC VAR'!C369*-1,\"\")","v":0},{"$f":"IFERROR(IF(AND(C370=\"\",C369<>\"\"),0,IF(D370+C370>0,D370+C370,0)*VLOOKUP(MONTH(B369),'NRI (Auto)'!$R$6:$T$17,3,0)),\"\")","v":""},{"$f":"IFERROR(NRI!$P$3+D369,\"\")","v":""},{"$error":"#DIV/0!"}]
[6,{"$f":"'URC VAR'!B370","v":"2016-06-01"},{"$f":"IFERROR('URC VAR'!C370*-1,\"\")","v":0},{"$f":"IFERROR(IF(AND(C371=\"\",C370<>\"\"),0,IF(D371+C371>0,D371+C371,0)*VLOOKUP(MONTH(B370),'NRI (Auto)'!$R$6:$T$17,3,0)),\"\")","v":""},{"$f":"IFERROR(NRI!$P$3+D370,\"\")","v":""},{"$error":"#DIV/0!"}]
[7,{"$f":"'URC VAR'!B371","v":"2016-07-01"},{"$f":"IFERROR('URC VAR'!C371*-1,\"\")","v":0},{"$f":"IFERROR(IF(AND(C372=\"\",C371<>\"\"),0,IF(D372+C372>0,D372+C372,0)*VLOOKUP(MONTH(B371),'NRI (Auto)'!$R$6:$T$17,3,0)),\"\")","v":""},{"$f":"IFERROR(NRI!$P$3+D371,\"\")","v":""},{"$error":"#DIV/0!"}]
[8,{"$f":"'URC VAR'!B372","v":"2016-08-01"},{"$f":"IFERROR('URC VAR'!C372*-1,\"\")","v":0},{"$f":"IFERROR(IF(AND(C373=\"\",C372<>\"\"),0,IF(D373+C373>0,D373+C373,0)*VLOOKUP(MONTH(B372),'NRI (Auto)'!$R$6:$T$17,3,0)),\"\")","v":""},{"$f":"IFERROR(NRI!$P$3+D372,\"\")","v":""},{"$error":"#DIV/0!"}]
[9,{"$f":"'URC VAR'!B373","v":"2016-09-01"},{"$f":"IFERROR('URC VAR'!C373*-1,\"\")","v":0},{"$f":"IFERROR(IF(AND(C374=\"\",C373<>\"\"),0,IF(D374+C374>0,D374+C374,0)*VLOOKUP(MONTH(B373),'NRI (Auto)'!$R$6:$T$17,3,0)),\"\")","v":""},{"$f":"IFERROR(NRI!$P$3+D373,\"\")","v":""},{"$error":"#DIV/0!"}]
[10,{"$f":"'URC VAR'!B374","v":"2016-10-01"},{"$f":"IFERROR('URC VAR'!C374*-1,\"\")","v":0},{"$f":"IFERROR(IF(AND(C375=\"\",C374<>\"\"),0,IF(D375+C375>0,D375+C375,0)*VLOOKUP(MONTH(B374),'NRI (Auto)'!$R$6:$T$17,3,0)),\"\")","v":""},{"$f":"IFERROR(NRI!$P$3+D374,\"\")","v":""},{"$error":"#DIV/0!"}]
[11,{"$f":"'URC VAR'!B375","v":"2016-11-01"},{"$f":"IFERROR('URC VAR'!C375*-1,\"\")","v":0},{"$f":"IFERROR(IF(AND(C376=\"\",C375<>\"\"),0,IF(D376+C376>0,D376+C376,0)*VLOOKUP(MONTH(B375),'NRI (Auto)'!$R$6:$T$17,3,0)),\"\")","v":""},{"$f":"IFERROR(NRI!$P$3+D375,\"\")","v":""},{"$error":"#DIV/0!"}]
[12,{"$f":"'URC VAR'!B376","v":"2016-12-01"},{"$f":"IFERROR('URC VAR'!C376*-1,\"\")","v":0},{"$f":"IFERROR(IF(AND(C377=\"\",C376<>\"\"),0,IF(D377+C377>0,D377+C377,0)*VLOOKUP(MONTH(B376),'NRI (Auto)'!$R$6:$T$17,3,0)),\"\")","v":""},{"$f":"IFERROR(NRI!$P$3+D376,\"\")","v":""},{"$error":"#DIV/0!"}]
[1,{"$f":"'URC VAR'!B377","v":"2017-01-01"},{"$f":"IFERROR('URC VAR'!C377*-1,\"\")","v":0},{"$f":"IFERROR(IF(AND(C378=\"\",C377<>\"\"),0,IF(D378+C378>0,D378+C378,0)*VLOOKUP(MONTH(B377),'NRI (Auto)'!$R$6:$T$17,3,0)),\"\")","v":""},{"$f":"IFERROR(NRI!$P$3+D377,\"\")","v":""},{"$error":"#DIV/0!"}]
[2,{"$f":"'URC VAR'!B378","v":"2017-02-01"},{"$f":"IFERROR('URC VAR'!C378*-1,\"\")","v":0},{"$f":"IFERROR(IF(AND(C379=\"\",C378<>\"\"),0,IF(D379+C379>0,D379+C379,0)*VLOOKUP(MONTH(B378),'NRI (Auto)'!$R$6:$T$17,3,0)),\"\")","v":""},{"$f":"IFERROR(NRI!$P$3+D378,\"\")","v":""},{"$error":"#DIV/0!"}]
[3,{"$f":"'URC VAR'!B379","v":"2017-03-01"},{"$f":"IFERROR('URC VAR'!C379*-1,\"\")","v":0},{"$f":"IFERROR(IF(AND(C380=\"\",C379<>\"\"),0,IF(D380+C380>0,D380+C380,0)*VLOOKUP(MONTH(B379),'NRI (Auto)'!$R$6:$T$17,3,0)),\"\")","v":""},{"$f":"IFERROR(NRI!$P$3+D379,\"\")","v":""},{"$error":"#DIV/0!"}]
[4,{"$f":"'URC VAR'!B380","v":"2017-04-01"},{"$f":"IFERROR('URC VAR'!C380*-1,\"\")","v":0},{"$f":"IFERROR(IF(AND(C381=\"\",C380<>\"\"),0,IF(D381+C381>0,D381+C381,0)*VLOOKUP(MONTH(B380),'NRI (Auto)'!$R$6:$T$17,3,0)),\"\")","v":""},{"$f":"IFERROR(NRI!$P$3+D380,\"\")","v":""},{"$error":"#DIV/0!"}]
[5,{"$f":"'URC VAR'!B381","v":"2017-05-01"},{"$f":"IFERROR('URC VAR'!C381*-1,\"\")","v":0},{"$f":"IFERROR(IF(AND(C382=\"\",C381<>\"\"),0,IF(D382+C382>0,D382+C382,0)*VLOOKUP(MONTH(B381),'NRI (Auto)'!$R$6:$T$17,3,0)),\"\")","v":""},{"$f":"IFERROR(NRI!$P$3+D381,\"\")","v":""},{"$error":"#DIV/0!"}]
[6,{"$f":"'URC VAR'!B382","v":"2017-06-01"},{"$f":"IFERROR('URC VAR'!C382*-1,\"\")","v":0},{"$f":"IFERROR(IF(AND(C383=\"\",C382<>\"\"),0,IF(D383+C383>0,D383+C383,0)*VLOOKUP(MONTH(B382),'NRI (Auto)'!$R$6:$T$17,3,0)),\"\")","v":""},{"$f":"IFERROR(NRI!$P$3+D382,\"\")","v":""},{"$error":"#DIV/0!"}]
[7,{"$f":"'URC VAR'!B383","v":"2017-07-01"},{"$f":"IFERROR('URC VAR'!C383*-1,\"\")","v":0},{"$f":"IFERROR(IF(AND(C384=\"\",C383<>\"\"),0,IF(D384+C384>0,D384+C384,0)*VLOOKUP(MONTH(B383),'NRI (Auto)'!$R$6:$T$17,3,0)),\"\")","v":""},{"$f":"IFERROR(NRI!$P$3+D383,\"\")","v":""},{"$error":"#DIV/0!"}]
[8,{"$f":"'URC VAR'!B384","v":"2017-08-01"},{"$f":"IFERROR('URC VAR'!C384*-1,\"\")","v":0},{"$f":"IFERROR(IF(AND(C385=\"\",C384<>\"\"),0,IF(D385+C385>0,D385+C385,0)*VLOOKUP(MONTH(B384),'NRI (Auto)'!$R$6:$T$17,3,0)),\"\")","v":""},{"$f":"IFERROR(NRI!$P$3+D384,\"\")","v":""},{"$error":"#DIV/0!"}]
[9,{"$f":"'URC VAR'!B385","v":"2017-09-01"},{"$f":"IFERROR('URC VAR'!C385*-1,\"\")","v":0},{"$f":"IFERROR(IF(AND(C386=\"\",C385<>\"\"),0,IF(D386+C386>0,D386+C386,0)*VLOOKUP(MONTH(B385),'NRI (Auto)'!$R$6:$T$17,3,0)),\"\")","v":""},{"$f":"IFERROR(NRI!$P$3+D385,\"\")","v":""},{"$error":"#DIV/0!"}]
[10,{"$f":"'URC VAR'!B386","v":"2017-10-01"},{"$f":"IFERROR('URC VAR'!C386*-1,\"\")","v":0},{"$f":"IFERROR(IF(AND(C387=\"\",C386<>\"\"),0,IF(D387+C387>0,D387+C387,0)*VLOOKUP(MONTH(B386),'NRI (Auto)'!$R$6:$T$17,3,0)),\"\")","v":""},{"$f":"IFERROR(NRI!$P$3+D386,\"\")","v":""},{"$error":"#DIV/0!"}]
[11,{"$f":"'URC VAR'!B387","v":"2017-11-01"},{"$f":"IFERROR('URC VAR'!C387*-1,\"\")","v":0},{"$f":"IFERROR(IF(AND(C388=\"\",C387<>\"\"),0,IF(D388+C388>0,D388+C388,0)*VLOOKUP(MONTH(B387),'NRI (Auto)'!$R$6:$T$17,3,0)),\"\")","v":""},{"$f":"IFERROR(NRI!$P$3+D387,\"\")","v":""},{"$error":"#DIV/0!"}]
[12,{"$f":"'URC VAR'!B388","v":"2017-12-01"},{"$f":"IFERROR('URC VAR'!C388*-1,\"\")","v":0},{"$f":"IFERROR(IF(AND(C389=\"\",C388<>\"\"),0,IF(D389+C389>0,D389+C389,0)*VLOOKUP(MONTH(B388),'NRI (Auto)'!$R$6:$T$17,3,0)),\"\")","v":""},{"$f":"IFERROR(NRI!$P$3+D388,\"\")","v":""},{"$error":"#DIV/0!"}]
[1,{"$f":"'URC VAR'!B389","v":"2018-01-01"},{"$f":"IFERROR('URC VAR'!C389*-1,\"\")","v":0},{"$f":"IFERROR(IF(AND(C390=\"\",C389<>\"\"),0,IF(D390+C390>0,D390+C390,0)*VLOOKUP(MONTH(B389),'NRI (Auto)'!$R$6:$T$17,3,0)),\"\")","v":""},{"$f":"IFERROR(NRI!$P$3+D389,\"\")","v":""},{"$error":"#DIV/0!"}]
[2,{"$f":"'URC VAR'!B390","v":"2018-02-01"},{"$f":"IFERROR('URC VAR'!C390*-1,\"\")","v":0},{"$f":"IFERROR(IF(AND(C391=\"\",C390<>\"\"),0,IF(D391+C391>0,D391+C391,0)*VLOOKUP(MONTH(B390),'NRI (Auto)'!$R$6:$T$17,3,0)),\"\")","v":""},{"$f":"IFERROR(NRI!$P$3+D390,\"\")","v":""},{"$error":"#DIV/0!"}]
[3,{"$f":"'URC VAR'!B391","v":"2018-03-01"},{"$f":"IFERROR('URC VAR'!C391*-1,\"\")","v":0},{"$f":"IFERROR(IF(AND(C392=\"\",C391<>\"\"),0,IF(D392+C392>0,D392+C392,0)*VLOOKUP(MONTH(B391),'NRI (Auto)'!$R$6:$T$17,3,0)),\"\")","v":""},{"$f":"IFERROR(NRI!$P$3+D391,\"\")","v":""},{"$error":"#DIV/0!"}]
[4,{"$f":"'URC VAR'!B392","v":"2018-04-01"},{"$f":"IFERROR('URC VAR'!C392*-1,\"\")","v":0},{"$f":"IFERROR(IF(AND(C393=\"\",C392<>\"\"),0,IF(D393+C393>0,D393+C393,0)*VLOOKUP(MONTH(B392),'NRI (Auto)'!$R$6:$T$17,3,0)),\"\")","v":""},{"$f":"IFERROR(NRI!$P$3+D392,\"\")","v":""},{"$error":"#DIV/0!"}]
[5,{"$f":"'URC VAR'!B393","v":"2018-05-01"},{"$f":"IFERROR('URC VAR'!C393*-1,\"\")","v":0},{"$f":"IFERROR(IF(AND(C394=\"\",C393<>\"\"),0,IF(D394+C394>0,D394+C394,0)*VLOOKUP(MONTH(B393),'NRI (Auto)'!$R$6:$T$17,3,0)),\"\")","v":""},{"$f":"IFERROR(NRI!$P$3+D393,\"\")","v":""},{"$error":"#DIV/0!"}]
[6,{"$f":"'URC VAR'!B394","v":"2018-06-01"},{"$f":"IFERROR('URC VAR'!C394*-1,\"\")","v":0},{"$f":"IFERROR(IF(AND(C395=\"\",C394<>\"\"),0,IF(D395+C395>0,D395+C395,0)*VLOOKUP(MONTH(B394),'NRI (Auto)'!$R$6:$T$17,3,0)),\"\")","v":""},{"$f":"IFERROR(NRI!$P$3+D394,\"\")","v":""},{"$error":"#DIV/0!"}]
[7,{"$f":"'URC VAR'!B395","v":"2018-07-01"},{"$f":"IFERROR('URC VAR'!C395*-1,\"\")","v":0},{"$f":"IFERROR(IF(AND(C396=\"\",C395<>\"\"),0,IF(D396+C396>0,D396+C396,0)*VLOOKUP(MONTH(B395),'NRI (Auto)'!$R$6:$T$17,3,0)),\"\")","v":""},{"$f":"IFERROR(NRI!$P$3+D395,\"\")","v":""},{"$error":"#DIV/0!"}]
[8,{"$f":"'URC VAR'!B396","v":"2018-08-01"},{"$f":"IFERROR('URC VAR'!C396*-1,\"\")","v":0},{"$f":"IFERROR(IF(AND(C397=\"\",C396<>\"\"),0,IF(D397+C397>0,D397+C397,0)*VLOOKUP(MONTH(B396),'NRI (Auto)'!$R$6:$T$17,3,0)),\"\")","v":""},{"$f":"IFERROR(NRI!$P$3+D396,\"\")","v":""},{"$error":"#DIV/0!"}]
[9,{"$f":"'URC VAR'!B397","v":"2018-09-01"},{"$f":"IFERROR('URC VAR'!C397*-1,\"\")","v":0},{"$f":"IFERROR(IF(AND(C398=\"\",C397<>\"\"),0,IF(D398+C398>0,D398+C398,0)*VLOOKUP(MONTH(B397),'NRI (Auto)'!$R$6:$T$17,3,0)),\"\")","v":""},{"$f":"IFERROR(NRI!$P$3+D397,\"\")","v":""},{"$error":"#DIV/0!"}]
[10,{"$f":"'URC VAR'!B398","v":"2018-10-01"},{"$f":"IFERROR('URC VAR'!C398*-1,\"\")","v":0},{"$f":"IFERROR(IF(AND(C399=\"\",C398<>\"\"),0,IF(D399+C399>0,D399+C399,0)*VLOOKUP(MONTH(B398),'NRI (Auto)'!$R$6:$T$17,3,0)),\"\")","v":""},{"$f":"IFERROR(NRI!$P$3+D398,\"\")","v":""},{"$error":"#DIV/0!"}]
[11,{"$f":"'URC VAR'!B399","v":"2018-11-01"},{"$f":"IFERROR('URC VAR'!C399*-1,\"\")","v":0},{"$f":"IFERROR(IF(AND(C400=\"\",C399<>\"\"),0,IF(D400+C400>0,D400+C400,0)*VLOOKUP(MONTH(B399),'NRI (Auto)'!$R$6:$T$17,3,0)),\"\")","v":""},{"$f":"IFERROR(NRI!$P$3+D399,\"\")","v":""},{"$error":"#DIV/0!"}]
[12,{"$f":"'URC VAR'!B400","v":"2018-12-01"},{"$f":"IFERROR('URC VAR'!C400*-1,\"\")","v":0},{"$f":"IFERROR(IF(AND(C401=\"\",C400<>\"\"),0,IF(D401+C401>0,D401+C401,0)*VLOOKUP(MONTH(B400),'NRI (Auto)'!$R$6:$T$17,3,0)),\"\")","v":0},{"$f":"IFERROR(NRI!$P$3+D400,\"\")","v":0},{"$error":"#DIV/0!"}]
[1,{"$f":"'URC VAR'!B401","v":"2019-01-01"},{"$f":"IFERROR('URC VAR'!C401*-1,\"\")","v":""},{"$f":"IFERROR(IF(AND(C402=\"\",C401<>\"\"),0,IF(D402+C402>0,D402+C402,0)*VLOOKUP(MONTH(B401),'NRI (Auto)'!$R$6:$T$17,3,0)),\"\")","v":""},{"$f":"IFERROR(NRI!$P$3+D401,\"\")","v":""},{"$error":"#DIV/0!"}]
[{"$f":"+A390","v":2},{"$f":"'URC VAR'!B402","v":"2019-02-01"},{"$f":"IFERROR('URC VAR'!C402*-1,\"\")","v":""},{"$f":"IFERROR(IF(AND(C403=\"\",C402<>\"\"),0,IF(D403+C403>0,D403+C403,0)*VLOOKUP(MONTH(B402),'NRI (Auto)'!$R$6:$T$17,3,0)),\"\")","v":""},{"$f":"IFERROR(NRI!$P$3+D402,\"\")","v":""},{"$f":"+F390","v":{"$error":"#DIV/0!"}}]
[3,{"$f":"'URC VAR'!B403","v":"2019-03-01"},{"$f":"IFERROR('URC VAR'!C403*-1,\"\")","v":""},{"$f":"IFERROR(IF(AND(C404=\"\",C403<>\"\"),0,IF(D404+C404>0,D404+C404,0)*VLOOKUP(MONTH(B403),'NRI (Auto)'!$R$6:$T$17,3,0)),\"\")","v":""},{"$f":"IFERROR(NRI!$P$3+D403,\"\")","v":""},{"$error":"#DIV/0!"}]
[4,{"$f":"'URC VAR'!B404","v":"2019-04-01"},{"$f":"IFERROR('URC VAR'!C404*-1,\"\")","v":""},{"$f":"IFERROR(IF(AND(C405=\"\",C404<>\"\"),0,IF(D405+C405>0,D405+C405,0)*VLOOKUP(MONTH(B404),'NRI (Auto)'!$R$6:$T$17,3,0)),\"\")","v":""},{"$f":"IFERROR(NRI!$P$3+D404,\"\")","v":""},{"$error":"#DIV/0!"}]
[5,{"$f":"'URC VAR'!B405","v":"2019-05-01"},{"$f":"IFERROR('URC VAR'!C405*-1,\"\")","v":""},{"$f":"IFERROR(IF(AND(C406=\"\",C405<>\"\"),0,IF(D406+C406>0,D406+C406,0)*VLOOKUP(MONTH(B405),'NRI (Auto)'!$R$6:$T$17,3,0)),\"\")","v":""},{"$f":"IFERROR(NRI!$P$3+D405,\"\")","v":""},{"$error":"#DIV/0!"}]
[6,{"$f":"'URC VAR'!B406","v":"2019-06-01"},{"$f":"IFERROR('URC VAR'!C406*-1,\"\")","v":""},{"$f":"IFERROR(IF(AND(C407=\"\",C406<>\"\"),0,IF(D407+C407>0,D407+C407,0)*VLOOKUP(MONTH(B406),'NRI (Auto)'!$R$6:$T$17,3,0)),\"\")","v":""},{"$f":"IFERROR(NRI!$P$3+D406,\"\")","v":""},{"$error":"#DIV/0!"}]
[7,{"$f":"'URC VAR'!B407","v":"2019-07-01"},{"$f":"IFERROR('URC VAR'!C407*-1,\"\")","v":""},{"$f":"IFERROR(IF(AND(C408=\"\",C407<>\"\"),0,IF(D408+C408>0,D408+C408,0)*VLOOKUP(MONTH(B407),'NRI (Auto)'!$R$6:$T$17,3,0)),\"\")","v":""},{"$f":"IFERROR(NRI!$P$3+D407,\"\")","v":""},{"$error":"#DIV/0!"}]
[8,{"$f":"'URC VAR'!B408","v":"2019-08-01"},{"$f":"IFERROR('URC VAR'!C408*-1,\"\")","v":""},{"$f":"IFERROR(IF(AND(C409=\"\",C408<>\"\"),0,IF(D409+C409>0,D409+C409,0)*VLOOKUP(MONTH(B408),'NRI (Auto)'!$R$6:$T$17,3,0)),\"\")","v":""},{"$f":"IFERROR(NRI!$P$3+D408,\"\")","v":""},{"$error":"#DIV/0!"}]
[9,{"$f":"'URC VAR'!B409","v":"2019-09-01"},{"$f":"IFERROR('URC VAR'!C409*-1,\"\")","v":""},{"$f":"IFERROR(IF(AND(C410=\"\",C409<>\"\"),0,IF(D410+C410>0,D410+C410,0)*VLOOKUP(MONTH(B409),'NRI (Auto)'!$R$6:$T$17,3,0)),\"\")","v":""},{"$f":"IFERROR(NRI!$P$3+D409,\"\")","v":""},{"$error":"#DIV/0!"}]
[10,{"$f":"'URC VAR'!B410","v":"2019-10-01"},{"$f":"IFERROR('URC VAR'!C410*-1,\"\")","v":""},{"$f":"IFERROR(IF(AND(C411=\"\",C410<>\"\"),0,IF(D411+C411>0,D411+C411,0)*VLOOKUP(MONTH(B410),'NRI (Auto)'!$R$6:$T$17,3,0)),\"\")","v":""},{"$f":"IFERROR(NRI!$P$3+D410,\"\")","v":""},{"$error":"#DIV/0!"}]
[11,{"$f":"'URC VAR'!B411","v":"2019-11-01"},{"$f":"IFERROR('URC VAR'!C411*-1,\"\")","v":""},{"$f":"IFERROR(IF(AND(C412=\"\",C411<>\"\"),0,IF(D412+C412>0,D412+C412,0)*VLOOKUP(MONTH(B411),'NRI (Auto)'!$R$6:$T$17,3,0)),\"\")","v":""},{"$f":"IFERROR(NRI!$P$3+D411,\"\")","v":""},{"$error":"#DIV/0!"}]
[12,{"$f":"'URC VAR'!B412","v":"2019-12-01"},{"$f":"IFERROR('URC VAR'!C412*-1,\"\")","v":""},{"$f":"IFERROR(IF(AND(C413=\"\",C412<>\"\"),0,IF(D413+C413>0,D413+C413,0)*VLOOKUP(MONTH(B412),'NRI (Auto)'!$R$6:$T$17,3,0)),\"\")","v":""},{"$f":"IFERROR(NRI!$P$3+D412,\"\")","v":""},{"$error":"#DIV/0!"}]
[1,{"$f":"'URC VAR'!B413","v":"2020-01-01"},{"$f":"IFERROR('URC VAR'!C413*-1,\"\")","v":""},{"$f":"IFERROR(IF(AND(C414=\"\",C413<>\"\"),0,IF(D414+C414>0,D414+C414,0)*VLOOKUP(MONTH(B413),'NRI (Auto)'!$R$6:$T$17,3,0)),\"\")","v":""},{"$f":"IFERROR(NRI!$P$3+D413,\"\")","v":""},{"$error":"#DIV/0!"}]
[2,{"$f":"'URC VAR'!B414","v":"2020-02-01"},{"$f":"IFERROR('URC VAR'!C414*-1,\"\")","v":""},{"$f":"IFERROR(IF(AND(C415=\"\",C414<>\"\"),0,IF(D415+C415>0,D415+C415,0)*VLOOKUP(MONTH(B414),'NRI (Auto)'!$R$6:$T$17,3,0)),\"\")","v":""},{"$f":"IFERROR(NRI!$P$3+D414,\"\")","v":""},{"$error":"#DIV/0!"}]
[3,{"$f":"'URC VAR'!B415","v":"2020-03-01"},{"$f":"IFERROR('URC VAR'!C415*-1,\"\")","v":""},{"$f":"IFERROR(IF(AND(C416=\"\",C415<>\"\"),0,IF(D416+C416>0,D416+C416,0)*VLOOKUP(MONTH(B415),'NRI (Auto)'!$R$6:$T$17,3,0)),\"\")","v":""},{"$f":"IFERROR(NRI!$P$3+D415,\"\")","v":""},{"$error":"#DIV/0!"}]
[4,{"$f":"'URC VAR'!B416","v":"2020-04-01"},{"$f":"IFERROR('URC VAR'!C416*-1,\"\")","v":""},{"$f":"IFERROR(IF(AND(C417=\"\",C416<>\"\"),0,IF(D417+C417>0,D417+C417,0)*VLOOKUP(MONTH(B416),'NRI (Auto)'!$R$6:$T$17,3,0)),\"\")","v":""},{"$f":"IFERROR(NRI!$P$3+D416,\"\")","v":""},{"$error":"#DIV/0!"}]
[5,{"$f":"'URC VAR'!B417","v":"2020-05-01"},{"$f":"IFERROR('URC VAR'!C417*-1,\"\")","v":""},{"$f":"IFERROR(IF(AND(C418=\"\",C417<>\"\"),0,IF(D418+C418>0,D418+C418,0)*VLOOKUP(MONTH(B417),'NRI (Auto)'!$R$6:$T$17,3,0)),\"\")","v":""},{"$f":"IFERROR(NRI!$P$3+D417,\"\")","v":""},{"$error":"#DIV/0!"}]
[6,{"$f":"'URC VAR'!B418","v":"2020-06-01"},{"$f":"IFERROR('URC VAR'!C418*-1,\"\")","v":""},{"$f":"IFERROR(IF(AND(C419=\"\",C418<>\"\"),0,IF(D419+C419>0,D419+C419,0)*VLOOKUP(MONTH(B418),'NRI (Auto)'!$R$6:$T$17,3,0)),\"\")","v":""},{"$f":"IFERROR(NRI!$P$3+D418,\"\")","v":""},{"$error":"#DIV/0!"}]
[7,{"$f":"'URC VAR'!B419","v":"2020-07-01"},{"$f":"IFERROR('URC VAR'!C419*-1,\"\")","v":""},{"$f":"IFERROR(IF(AND(C420=\"\",C419<>\"\"),0,IF(D420+C420>0,D420+C420,0)*VLOOKUP(MONTH(B419),'NRI (Auto)'!$R$6:$T$17,3,0)),\"\")","v":""},{"$f":"IFERROR(NRI!$P$3+D419,\"\")","v":""},{"$error":"#DIV/0!"}]
[8,{"$f":"'URC VAR'!B420","v":"2020-08-01"},{"$f":"IFERROR('URC VAR'!C420*-1,\"\")","v":""},{"$f":"IFERROR(IF(AND(C421=\"\",C420<>\"\"),0,IF(D421+C421>0,D421+C421,0)*VLOOKUP(MONTH(B420),'NRI (Auto)'!$R$6:$T$17,3,0)),\"\")","v":""},{"$f":"IFERROR(NRI!$P$3+D420,\"\")","v":""},{"$error":"#DIV/0!"}]
[9,{"$f":"'URC VAR'!B421","v":"2020-09-01"},{"$f":"IFERROR('URC VAR'!C421*-1,\"\")","v":""},{"$f":"IFERROR(IF(AND(C422=\"\",C421<>\"\"),0,IF(D422+C422>0,D422+C422,0)*VLOOKUP(MONTH(B421),'NRI (Auto)'!$R$6:$T$17,3,0)),\"\")","v":""},{"$f":"IFERROR(NRI!$P$3+D421,\"\")","v":""},{"$error":"#DIV/0!"}]
[10,{"$f":"'URC VAR'!B422","v":"2020-10-01"},{"$f":"IFERROR('URC VAR'!C422*-1,\"\")","v":""},{"$f":"IFERROR(IF(AND(C423=\"\",C422<>\"\"),0,IF(D423+C423>0,D423+C423,0)*VLOOKUP(MONTH(B422),'NRI (Auto)'!$R$6:$T$17,3,0)),\"\")","v":""},{"$f":"IFERROR(NRI!$P$3+D422,\"\")","v":""},{"$error":"#DIV/0!"}]
[11,{"$f":"'URC VAR'!B423","v":"2020-11-01"},{"$f":"IFERROR('URC VAR'!C423*-1,\"\")","v":""},{"$f":"IFERROR(IF(AND(C424=\"\",C423<>\"\"),0,IF(D424+C424>0,D424+C424,0)*VLOOKUP(MONTH(B423),'NRI (Auto)'!$R$6:$T$17,3,0)),\"\")","v":""},{"$f":"IFERROR(NRI!$P$3+D423,\"\")","v":""},{"$error":"#DIV/0!"}]
[12,{"$f":"'URC VAR'!B424","v":"2020-12-01"},{"$f":"IFERROR('URC VAR'!C424*-1,\"\")","v":""},{"$f":"IFERROR(IF(AND(C425=\"\",C424<>\"\"),0,IF(D425+C425>0,D425+C425,0)*VLOOKUP(MONTH(B424),'NRI (Auto)'!$R$6:$T$17,3,0)),\"\")","v":""},{"$f":"IFERROR(NRI!$P$3+D424,\"\")","v":""},{"$error":"#DIV/0!"}]
[1,{"$f":"'URC VAR'!B425","v":"2021-01-01"},{"$f":"IFERROR('URC VAR'!C425*-1,\"\")","v":""},{"$f":"IFERROR(IF(AND(C426=\"\",C425<>\"\"),0,IF(D426+C426>0,D426+C426,0)*VLOOKUP(MONTH(B425),'NRI (Auto)'!$R$6:$T$17,3,0)),\"\")","v":""},{"$f":"IFERROR(NRI!$P$3+D425,\"\")","v":""},{"$error":"#DIV/0!"}]
[2,{"$f":"'URC VAR'!B426","v":"2021-02-01"},{"$f":"IFERROR('URC VAR'!C426*-1,\"\")","v":""},{"$f":"IFERROR(IF(AND(C427=\"\",C426<>\"\"),0,IF(D427+C427>0,D427+C427,0)*VLOOKUP(MONTH(B426),'NRI (Auto)'!$R$6:$T$17,3,0)),\"\")","v":""},{"$f":"IFERROR(NRI!$P$3+D426,\"\")","v":""},{"$error":"#DIV/0!"}]
[3,{"$f":"'URC VAR'!B427","v":"2021-03-01"},{"$f":"IFERROR('URC VAR'!C427*-1,\"\")","v":""},{"$f":"IFERROR(IF(AND(C428=\"\",C427<>\"\"),0,IF(D428+C428>0,D428+C428,0)*VLOOKUP(MONTH(B427),'NRI (Auto)'!$R$6:$T$17,3,0)),\"\")","v":""},{"$f":"IFERROR(NRI!$P$3+D427,\"\")","v":""},{"$error":"#DIV/0!"}]
[4,{"$f":"'URC VAR'!B428","v":"2021-04-01"},{"$f":"IFERROR('URC VAR'!C428*-1,\"\")","v":""},{"$f":"IFERROR(IF(AND(C429=\"\",C428<>\"\"),0,IF(D429+C429>0,D429+C429,0)*VLOOKUP(MONTH(B428),'NRI (Auto)'!$R$6:$T$17,3,0)),\"\")","v":""},{"$f":"IFERROR(NRI!$P$3+D428,\"\")","v":""},{"$error":"#DIV/0!"}]
[5,{"$f":"'URC VAR'!B429","v":"2021-05-01"},{"$f":"IFERROR('URC VAR'!C429*-1,\"\")","v":""},{"$f":"IFERROR(IF(AND(C430=\"\",C429<>\"\"),0,IF(D430+C430>0,D430+C430,0)*VLOOKUP(MONTH(B429),'NRI (Auto)'!$R$6:$T$17,3,0)),\"\")","v":""},{"$f":"IFERROR(NRI!$P$3+D429,\"\")","v":""},{"$error":"#DIV/0!"}]
[6,{"$f":"'URC VAR'!B430","v":"2021-06-01"},{"$f":"IFERROR('URC VAR'!C430*-1,\"\")","v":""},{"$f":"IFERROR(IF(AND(C431=\"\",C430<>\"\"),0,IF(D431+C431>0,D431+C431,0)*VLOOKUP(MONTH(B430),'NRI (Auto)'!$R$6:$T$17,3,0)),\"\")","v":""},{"$f":"IFERROR(NRI!$P$3+D430,\"\")","v":""},{"$error":"#DIV/0!"}]
[7,{"$f":"'URC VAR'!B431","v":"2021-07-01"},{"$f":"IFERROR('URC VAR'!C431*-1,\"\")","v":""},{"$f":"IFERROR(IF(AND(C432=\"\",C431<>\"\"),0,IF(D432+C432>0,D432+C432,0)*VLOOKUP(MONTH(B431),'NRI (Auto)'!$R$6:$T$17,3,0)),\"\")","v":""},{"$f":"IFERROR(NRI!$P$3+D431,\"\")","v":""},{"$error":"#DIV/0!"}]
[8,{"$f":"'URC VAR'!B432","v":"2021-08-01"},{"$f":"IFERROR('URC VAR'!C432*-1,\"\")","v":""},{"$f":"IFERROR(IF(AND(C433=\"\",C432<>\"\"),0,IF(D433+C433>0,D433+C433,0)*VLOOKUP(MONTH(B432),'NRI (Auto)'!$R$6:$T$17,3,0)),\"\")","v":""},{"$f":"IFERROR(NRI!$P$3+D432,\"\")","v":""},{"$error":"#DIV/0!"}]
[9,{"$f":"'URC VAR'!B433","v":"2021-09-01"},{"$f":"IFERROR('URC VAR'!C433*-1,\"\")","v":""},{"$f":"IFERROR(IF(AND(C434=\"\",C433<>\"\"),0,IF(D434+C434>0,D434+C434,0)*VLOOKUP(MONTH(B433),'NRI (Auto)'!$R$6:$T$17,3,0)),\"\")","v":""},{"$f":"IFERROR(NRI!$P$3+D433,\"\")","v":""},{"$error":"#DIV/0!"}]
[10,{"$f":"'URC VAR'!B434","v":"2021-10-01"},{"$f":"IFERROR('URC VAR'!C434*-1,\"\")","v":""},{"$f":"IFERROR(IF(AND(C435=\"\",C434<>\"\"),0,IF(D435+C435>0,D435+C435,0)*VLOOKUP(MONTH(B434),'NRI (Auto)'!$R$6:$T$17,3,0)),\"\")","v":""},{"$f":"IFERROR(NRI!$P$3+D434,\"\")","v":""},{"$error":"#DIV/0!"}]
[11,{"$f":"'URC VAR'!B435","v":"2021-11-01"},{"$f":"IFERROR('URC VAR'!C435*-1,\"\")","v":""},{"$f":"IFERROR(IF(AND(C436=\"\",C435<>\"\"),0,IF(D436+C436>0,D436+C436,0)*VLOOKUP(MONTH(B435),'NRI (Auto)'!$R$6:$T$17,3,0)),\"\")","v":""},{"$f":"IFERROR(NRI!$P$3+D435,\"\")","v":""},{"$error":"#DIV/0!"}]
[12,{"$f":"'URC VAR'!B436","v":"2021-12-01"},{"$f":"IFERROR('URC VAR'!C436*-1,\"\")","v":""},{"$f":"IFERROR(IF(AND(C437=\"\",C436<>\"\"),0,IF(D437+C437>0,D437+C437,0)*VLOOKUP(MONTH(B436),'NRI (Auto)'!$R$6:$T$17,3,0)),\"\")","v":""},{"$f":"IFERROR(NRI!$P$3+D436,\"\")","v":""},{"$error":"#DIV/0!"}]
[1,{"$f":"'URC VAR'!B437","v":"2022-01-01"},{"$f":"IFERROR('URC VAR'!C437*-1,\"\")","v":""},{"$f":"IFERROR(IF(AND(C438=\"\",C437<>\"\"),0,IF(D438+C438>0,D438+C438,0)*VLOOKUP(MONTH(B437),'NRI (Auto)'!$R$6:$T$17,3,0)),\"\")","v":""},{"$f":"IFERROR(NRI!$P$3+D437,\"\")","v":""},{"$error":"#DIV/0!"}]
[2,{"$f":"'URC VAR'!B438","v":"2022-02-01"},{"$f":"IFERROR('URC VAR'!C438*-1,\"\")","v":""},{"$f":"IFERROR(IF(AND(C439=\"\",C438<>\"\"),0,IF(D439+C439>0,D439+C439,0)*VLOOKUP(MONTH(B438),'NRI (Auto)'!$R$6:$T$17,3,0)),\"\")","v":""},{"$f":"IFERROR(NRI!$P$3+D438,\"\")","v":""},{"$error":"#DIV/0!"}]
[3,{"$f":"'URC VAR'!B439","v":"2022-03-01"},{"$f":"IFERROR('URC VAR'!C439*-1,\"\")","v":""},{"$f":"IFERROR(IF(AND(C440=\"\",C439<>\"\"),0,IF(D440+C440>0,D440+C440,0)*VLOOKUP(MONTH(B439),'NRI (Auto)'!$R$6:$T$17,3,0)),\"\")","v":""},{"$f":"IFERROR(NRI!$P$3+D439,\"\")","v":""},{"$error":"#DIV/0!"}]
[4,{"$f":"'URC VAR'!B440","v":"2022-04-01"},{"$f":"IFERROR('URC VAR'!C440*-1,\"\")","v":""},{"$f":"IFERROR(IF(AND(C441=\"\",C440<>\"\"),0,IF(D441+C441>0,D441+C441,0)*VLOOKUP(MONTH(B440),'NRI (Auto)'!$R$6:$T$17,3,0)),\"\")","v":""},{"$f":"IFERROR(NRI!$P$3+D440,\"\")","v":""},{"$error":"#DIV/0!"}]
[5,{"$f":"'URC VAR'!B441","v":"2022-05-01"},{"$f":"IFERROR('URC VAR'!C441*-1,\"\")","v":""},{"$f":"IFERROR(IF(AND(C442=\"\",C441<>\"\"),0,IF(D442+C442>0,D442+C442,0)*VLOOKUP(MONTH(B441),'NRI (Auto)'!$R$6:$T$17,3,0)),\"\")","v":""},{"$f":"IFERROR(NRI!$P$3+D441,\"\")","v":""},{"$error":"#DIV/0!"}]
[6,{"$f":"'URC VAR'!B442","v":"2022-06-01"},{"$f":"IFERROR('URC VAR'!C442*-1,\"\")","v":""},{"$f":"IFERROR(IF(AND(C443=\"\",C442<>\"\"),0,IF(D443+C443>0,D443+C443,0)*VLOOKUP(MONTH(B442),'NRI (Auto)'!$R$6:$T$17,3,0)),\"\")","v":""},{"$f":"IFERROR(NRI!$P$3+D442,\"\")","v":""},{"$error":"#DIV/0!"}]
[7,{"$f":"'URC VAR'!B443","v":"2022-07-01"},{"$f":"IFERROR('URC VAR'!C443*-1,\"\")","v":""},{"$f":"IFERROR(IF(AND(C444=\"\",C443<>\"\"),0,IF(D444+C444>0,D444+C444,0)*VLOOKUP(MONTH(B443),'NRI (Auto)'!$R$6:$T$17,3,0)),\"\")","v":""},{"$f":"IFERROR(NRI!$P$3+D443,\"\")","v":""},{"$error":"#DIV/0!"}]
[8,{"$f":"'URC VAR'!B444","v":"2022-08-01"},{"$f":"IFERROR('URC VAR'!C444*-1,\"\")","v":""},{"$f":"IFERROR(IF(AND(C445=\"\",C444<>\"\"),0,IF(D445+C445>0,D445+C445,0)*VLOOKUP(MONTH(B444),'NRI (Auto)'!$R$6:$T$17,3,0)),\"\")","v":""},{"$f":"IFERROR(NRI!$P$3+D444,\"\")","v":""},{"$error":"#DIV/0!"}]
[9,{"$f":"'URC VAR'!B445","v":"2022-09-01"},{"$f":"IFERROR('URC VAR'!C445*-1,\"\")","v":""},{"$f":"IFERROR(IF(AND(C446=\"\",C445<>\"\"),0,IF(D446+C446>0,D446+C446,0)*VLOOKUP(MONTH(B445),'NRI (Auto)'!$R$6:$T$17,3,0)),\"\")","v":""},{"$f":"IFERROR(NRI!$P$3+D445,\"\")","v":""},{"$error":"#DIV/0!"}]
[10,{"$f":"'URC VAR'!B446","v":"2022-10-01"},{"$f":"IFERROR('URC VAR'!C446*-1,\"\")","v":""},{"$f":"IFERROR(IF(AND(C447=\"\",C446<>\"\"),0,IF(D447+C447>0,D447+C447,0)*VLOOKUP(MONTH(B446),'NRI (Auto)'!$R$6:$T$17,3,0)),\"\")","v":""},{"$f":"IFERROR(NRI!$P$3+D446,\"\")","v":""},{"$error":"#DIV/0!"}]
[11,{"$f":"'URC VAR'!B447","v":"2022-11-01"},{"$f":"IFERROR('URC VAR'!C447*-1,\"\")","v":""},{"$f":"IFERROR(IF(AND(C448=\"\",C447<>\"\"),0,IF(D448+C448>0,D448+C448,0)*VLOOKUP(MONTH(B447),'NRI (Auto)'!$R$6:$T$17,3,0)),\"\")","v":""},{"$f":"IFERROR(NRI!$P$3+D447,\"\")","v":""},{"$error":"#DIV/0!"}]
[12,{"$f":"'URC VAR'!B448","v":"2022-12-01"},{"$f":"IFERROR('URC VAR'!C448*-1,\"\")","v":""},{"$f":"IFERROR(IF(AND(C449=\"\",C448<>\"\"),0,IF(D449+C449>0,D449+C449,0)*VLOOKUP(MONTH(B448),'NRI (Auto)'!$R$6:$T$17,3,0)),\"\")","v":""},{"$f":"IFERROR(NRI!$P$3+D448,\"\")","v":""},{"$error":"#DIV/0!"}]
[1,{"$f":"'URC VAR'!B449","v":"2023-01-01"},{"$f":"IFERROR('URC VAR'!C449*-1,\"\")","v":""},{"$f":"IFERROR(IF(AND(C450=\"\",C449<>\"\"),0,IF(D450+C450>0,D450+C450,0)*VLOOKUP(MONTH(B449),'NRI (Auto)'!$R$6:$T$17,3,0)),\"\")","v":""},{"$f":"IFERROR(NRI!$P$3+D449,\"\")","v":""},{"$error":"#DIV/0!"}]
[2,{"$f":"'URC VAR'!B450","v":"2023-02-01"},{"$f":"IFERROR('URC VAR'!C450*-1,\"\")","v":""},{"$f":"IFERROR(IF(AND(C451=\"\",C450<>\"\"),0,IF(D451+C451>0,D451+C451,0)*VLOOKUP(MONTH(B450),'NRI (Auto)'!$R$6:$T$17,3,0)),\"\")","v":""},{"$f":"IFERROR(NRI!$P$3+D450,\"\")","v":""},{"$error":"#DIV/0!"}]
[3,{"$f":"'URC VAR'!B451","v":"2023-03-01"},{"$f":"IFERROR('URC VAR'!C451*-1,\"\")","v":""},{"$f":"IFERROR(IF(AND(C452=\"\",C451<>\"\"),0,IF(D452+C452>0,D452+C452,0)*VLOOKUP(MONTH(B451),'NRI (Auto)'!$R$6:$T$17,3,0)),\"\")","v":""},{"$f":"IFERROR(NRI!$P$3+D451,\"\")","v":""},{"$error":"#DIV/0!"}]
[4,{"$f":"'URC VAR'!B452","v":"2023-04-01"},{"$f":"IFERROR('URC VAR'!C452*-1,\"\")","v":""},{"$f":"IFERROR(IF(AND(C453=\"\",C452<>\"\"),0,IF(D453+C453>0,D453+C453,0)*VLOOKUP(MONTH(B452),'NRI (Auto)'!$R$6:$T$17,3,0)),\"\")","v":""},{"$f":"IFERROR(NRI!$P$3+D452,\"\")","v":""},{"$error":"#DIV/0!"}]
[5,{"$f":"'URC VAR'!B453","v":"2023-05-01"},{"$f":"IFERROR('URC VAR'!C453*-1,\"\")","v":""},{"$f":"IFERROR(IF(AND(C454=\"\",C453<>\"\"),0,IF(D454+C454>0,D454+C454,0)*VLOOKUP(MONTH(B453),'NRI (Auto)'!$R$6:$T$17,3,0)),\"\")","v":""},{"$f":"IFERROR(NRI!$P$3+D453,\"\")","v":""},{"$error":"#DIV/0!"}]
[6,{"$f":"'URC VAR'!B454","v":"2023-06-01"},{"$f":"IFERROR('URC VAR'!C454*-1,\"\")","v":""},{"$f":"IFERROR(IF(AND(C455=\"\",C454<>\"\"),0,IF(D455+C455>0,D455+C455,0)*VLOOKUP(MONTH(B454),'NRI (Auto)'!$R$6:$T$17,3,0)),\"\")","v":""},{"$f":"IFERROR(NRI!$P$3+D454,\"\")","v":""},{"$error":"#DIV/0!"}]
[7,{"$f":"'URC VAR'!B455","v":"2023-07-01"},{"$f":"IFERROR('URC VAR'!C455*-1,\"\")","v":""},{"$f":"IFERROR(IF(AND(C456=\"\",C455<>\"\"),0,IF(D456+C456>0,D456+C456,0)*VLOOKUP(MONTH(B455),'NRI (Auto)'!$R$6:$T$17,3,0)),\"\")","v":""},{"$f":"IFERROR(NRI!$P$3+D455,\"\")","v":""},{"$error":"#DIV/0!"}]
[8,{"$f":"'URC VAR'!B456","v":"2023-08-01"},{"$f":"IFERROR('URC VAR'!C456*-1,\"\")","v":""},{"$f":"IFERROR(IF(AND(C457=\"\",C456<>\"\"),0,IF(D457+C457>0,D457+C457,0)*VLOOKUP(MONTH(B456),'NRI (Auto)'!$R$6:$T$17,3,0)),\"\")","v":""},{"$f":"IFERROR(NRI!$P$3+D456,\"\")","v":""},{"$error":"#DIV/0!"}]
[9,{"$f":"'URC VAR'!B457","v":"2023-09-01"},{"$f":"IFERROR('URC VAR'!C457*-1,\"\")","v":""},{"$f":"IFERROR(IF(AND(C458=\"\",C457<>\"\"),0,IF(D458+C458>0,D458+C458,0)*VLOOKUP(MONTH(B457),'NRI (Auto)'!$R$6:$T$17,3,0)),\"\")","v":""},{"$f":"IFERROR(NRI!$P$3+D457,\"\")","v":""},{"$error":"#DIV/0!"}]
[10,{"$f":"'URC VAR'!B458","v":"2023-10-01"},{"$f":"IFERROR('URC VAR'!C458*-1,\"\")","v":""},{"$f":"IFERROR(IF(AND(C459=\"\",C458<>\"\"),0,IF(D459+C459>0,D459+C459,0)*VLOOKUP(MONTH(B458),'NRI (Auto)'!$R$6:$T$17,3,0)),\"\")","v":""},{"$f":"IFERROR(NRI!$P$3+D458,\"\")","v":""},{"$error":"#DIV/0!"}]
[11,{"$f":"'URC VAR'!B459","v":"2023-11-01"},{"$f":"IFERROR('URC VAR'!C459*-1,\"\")","v":""},{"$f":"IFERROR(IF(AND(C460=\"\",C459<>\"\"),0,IF(D460+C460>0,D460+C460,0)*VLOOKUP(MONTH(B459),'NRI (Auto)'!$R$6:$T$17,3,0)),\"\")","v":""},{"$f":"IFERROR(NRI!$P$3+D459,\"\")","v":""},{"$error":"#DIV/0!"}]
[12,{"$f":"'URC VAR'!B460","v":"2023-12-01"},{"$f":"IFERROR('URC VAR'!C460*-1,\"\")","v":""},{"$f":"IFERROR(IF(AND(C461=\"\",C460<>\"\"),0,IF(D461+C461>0,D461+C461,0)*VLOOKUP(MONTH(B460),'NRI (Auto)'!$R$6:$T$17,3,0)),\"\")","v":""},{"$f":"IFERROR(NRI!$P$3+D460,\"\")","v":""},{"$error":"#DIV/0!"}]
[1,{"$f":"'URC VAR'!B461","v":"2024-01-01"},{"$f":"IFERROR('URC VAR'!C461*-1,\"\")","v":""},{"$f":"IFERROR(IF(AND(C462=\"\",C461<>\"\"),0,IF(D462+C462>0,D462+C462,0)*VLOOKUP(MONTH(B461),'NRI (Auto)'!$R$6:$T$17,3,0)),\"\")","v":""},{"$f":"IFERROR(NRI!$P$3+D461,\"\")","v":""},{"$error":"#DIV/0!"}]
[2,{"$f":"'URC VAR'!B462","v":"2024-02-01"},{"$f":"IFERROR('URC VAR'!C462*-1,\"\")","v":""},{"$f":"IFERROR(IF(AND(C463=\"\",C462<>\"\"),0,IF(D463+C463>0,D463+C463,0)*VLOOKUP(MONTH(B462),'NRI (Auto)'!$R$6:$T$17,3,0)),\"\")","v":""},{"$f":"IFERROR(NRI!$P$3+D462,\"\")","v":""},{"$error":"#DIV/0!"}]
[3,{"$f":"'URC VAR'!B463","v":"2024-03-01"},{"$f":"IFERROR('URC VAR'!C463*-1,\"\")","v":""},{"$f":"IFERROR(IF(AND(C464=\"\",C463<>\"\"),0,IF(D464+C464>0,D464+C464,0)*VLOOKUP(MONTH(B463),'NRI (Auto)'!$R$6:$T$17,3,0)),\"\")","v":""},{"$f":"IFERROR(NRI!$P$3+D463,\"\")","v":""},{"$error":"#DIV/0!"}]
[4,{"$f":"'URC VAR'!B464","v":"2024-04-01"},{"$f":"IFERROR('URC VAR'!C464*-1,\"\")","v":""},{"$f":"IFERROR(IF(AND(C465=\"\",C464<>\"\"),0,IF(D465+C465>0,D465+C465,0)*VLOOKUP(MONTH(B464),'NRI (Auto)'!$R$6:$T$17,3,0)),\"\")","v":""},{"$f":"IFERROR(NRI!$P$3+D464,\"\")","v":""},{"$error":"#DIV/0!"}]
[5,{"$f":"'URC VAR'!B465","v":"2024-05-01"},{"$f":"IFERROR('URC VAR'!C465*-1,\"\")","v":""},{"$f":"IFERROR(IF(AND(C466=\"\",C465<>\"\"),0,IF(D466+C466>0,D466+C466,0)*VLOOKUP(MONTH(B465),'NRI (Auto)'!$R$6:$T$17,3,0)),\"\")","v":""},{"$f":"IFERROR(NRI!$P$3+D465,\"\")","v":""},{"$error":"#DIV/0!"}]
[{"$f":"+A454","v":6},{"$f":"'URC VAR'!B466","v":"2024-06-01"},{"$f":"IFERROR('URC VAR'!C466*-1,\"\")","v":""},{"$f":"IFERROR(IF(AND(C467=\"\",C466<>\"\"),0,IF(D467+C467>0,D467+C467,0)*VLOOKUP(MONTH(B466),'NRI (Auto)'!$R$6:$T$17,3,0)),\"\")","v":""},{"$f":"IFERROR(NRI!$P$3+D466,\"\")","v":""},{"$f":"+F454","v":{"$error":"#DIV/0!"}}]
[7,{"$f":"'URC VAR'!B467","v":"2024-07-01"},{"$f":"IFERROR('URC VAR'!C467*-1,\"\")","v":""},{"$f":"IFERROR(IF(AND(C468=\"\",C467<>\"\"),0,IF(D468+C468>0,D468+C468,0)*VLOOKUP(MONTH(B467),'NRI (Auto)'!$R$6:$T$17,3,0)),\"\")","v":""},{"$f":"IFERROR(NRI!$P$3+D467,\"\")","v":""},{"$error":"#DIV/0!"}]
[8,{"$f":"'URC VAR'!B468","v":"2024-08-01"},{"$f":"IFERROR('URC VAR'!C468*-1,\"\")","v":""},{"$f":"IFERROR(IF(AND(C469=\"\",C468<>\"\"),0,IF(D469+C469>0,D469+C469,0)*VLOOKUP(MONTH(B468),'NRI (Auto)'!$R$6:$T$17,3,0)),\"\")","v":""},{"$f":"IFERROR(NRI!$P$3+D468,\"\")","v":""},{"$error":"#DIV/0!"}]
[9,{"$f":"'URC VAR'!B469","v":"2024-09-01"},{"$f":"IFERROR('URC VAR'!C469*-1,\"\")","v":""},{"$f":"IFERROR(IF(AND(C470=\"\",C469<>\"\"),0,IF(D470+C470>0,D470+C470,0)*VLOOKUP(MONTH(B469),'NRI (Auto)'!$R$6:$T$17,3,0)),\"\")","v":""},{"$f":"IFERROR(NRI!$P$3+D469,\"\")","v":""},{"$error":"#DIV/0!"}]
[10,{"$f":"'URC VAR'!B470","v":"2024-10-01"},{"$f":"IFERROR('URC VAR'!C470*-1,\"\")","v":""},{"$f":"IFERROR(IF(AND(C471=\"\",C470<>\"\"),0,IF(D471+C471>0,D471+C471,0)*VLOOKUP(MONTH(B470),'NRI (Auto)'!$R$6:$T$17,3,0)),\"\")","v":""},{"$f":"IFERROR(NRI!$P$3+D470,\"\")","v":""},{"$error":"#DIV/0!"}]
[11,{"$f":"'URC VAR'!B471","v":"2024-11-01"},{"$f":"IFERROR('URC VAR'!C471*-1,\"\")","v":""},{"$f":"IFERROR(IF(AND(C472=\"\",C471<>\"\"),0,IF(D472+C472>0,D472+C472,0)*VLOOKUP(MONTH(B471),'NRI (Auto)'!$R$6:$T$17,3,0)),\"\")","v":""},{"$f":"IFERROR(NRI!$P$3+D471,\"\")","v":""},{"$error":"#DIV/0!"}]
[12,{"$f":"'URC VAR'!B472","v":"2024-12-01"},{"$f":"IFERROR('URC VAR'!C472*-1,\"\")","v":""},{"$f":"IFERROR(IF(AND(C473=\"\",C472<>\"\"),0,IF(D473+C473>0,D473+C473,0)*VLOOKUP(MONTH(B472),'NRI (Auto)'!$R$6:$T$17,3,0)),\"\")","v":""},{"$f":"IFERROR(NRI!$P$3+D472,\"\")","v":""},{"$error":"#DIV/0!"}]
[1,{"$f":"'URC VAR'!B473","v":"2025-01-01"},{"$f":"IFERROR('URC VAR'!C473*-1,\"\")","v":""},{"$f":"IFERROR(IF(AND(C474=\"\",C473<>\"\"),0,IF(D474+C474>0,D474+C474,0)*VLOOKUP(MONTH(B473),'NRI (Auto)'!$R$6:$T$17,3,0)),\"\")","v":""},{"$f":"IFERROR(NRI!$P$3+D473,\"\")","v":""},{"$error":"#DIV/0!"}]
[2,{"$f":"'URC VAR'!B474","v":"2025-02-01"},{"$f":"IFERROR('URC VAR'!C474*-1,\"\")","v":""},{"$f":"IFERROR(IF(AND(C475=\"\",C474<>\"\"),0,IF(D475+C475>0,D475+C475,0)*VLOOKUP(MONTH(B474),'NRI (Auto)'!$R$6:$T$17,3,0)),\"\")","v":""},{"$f":"IFERROR(NRI!$P$3+D474,\"\")","v":""},{"$error":"#DIV/0!"}]
[3,{"$f":"'URC VAR'!B475","v":"2025-03-01"},{"$f":"IFERROR('URC VAR'!C475*-1,\"\")","v":""},{"$f":"IFERROR(IF(AND(C476=\"\",C475<>\"\"),0,IF(D476+C476>0,D476+C476,0)*VLOOKUP(MONTH(B475),'NRI (Auto)'!$R$6:$T$17,3,0)),\"\")","v":""},{"$f":"IFERROR(NRI!$P$3+D475,\"\")","v":""},{"$error":"#DIV/0!"}]
[4,{"$f":"'URC VAR'!B476","v":"2025-04-01"},{"$f":"IFERROR('URC VAR'!C476*-1,\"\")","v":""},{"$f":"IFERROR(IF(AND(C477=\"\",C476<>\"\"),0,IF(D477+C477>0,D477+C477,0)*VLOOKUP(MONTH(B476),'NRI (Auto)'!$R$6:$T$17,3,0)),\"\")","v":""},{"$f":"IFERROR(NRI!$P$3+D476,\"\")","v":""},{"$error":"#DIV/0!"}]
[5,{"$f":"'URC VAR'!B477","v":"2025-05-01"},{"$f":"IFERROR('URC VAR'!C477*-1,\"\")","v":""},{"$f":"IFERROR(IF(AND(C478=\"\",C477<>\"\"),0,IF(D478+C478>0,D478+C478,0)*VLOOKUP(MONTH(B477),'NRI (Auto)'!$R$6:$T$17,3,0)),\"\")","v":""},{"$f":"IFERROR(NRI!$P$3+D477,\"\")","v":""},{"$error":"#DIV/0!"}]
[6,{"$f":"'URC VAR'!B478","v":"2025-06-01"},{"$f":"IFERROR('URC VAR'!C478*-1,\"\")","v":""},{"$f":"IFERROR(IF(AND(C479=\"\",C478<>\"\"),0,IF(D479+C479>0,D479+C479,0)*VLOOKUP(MONTH(B478),'NRI (Auto)'!$R$6:$T$17,3,0)),\"\")","v":""},{"$f":"IFERROR(NRI!$P$3+D478,\"\")","v":""},{"$error":"#DIV/0!"}]
[7,{"$f":"'URC VAR'!B479","v":"2025-07-01"},{"$f":"IFERROR('URC VAR'!C479*-1,\"\")","v":""},{"$f":"IFERROR(IF(AND(C480=\"\",C479<>\"\"),0,IF(D480+C480>0,D480+C480,0)*VLOOKUP(MONTH(B479),'NRI (Auto)'!$R$6:$T$17,3,0)),\"\")","v":""},{"$f":"IFERROR(NRI!$P$3+D479,\"\")","v":""},{"$error":"#DIV/0!"}]
[8,{"$f":"'URC VAR'!B480","v":"2025-08-01"},{"$f":"IFERROR('URC VAR'!C480*-1,\"\")","v":""},{"$f":"IFERROR(IF(AND(C481=\"\",C480<>\"\"),0,IF(D481+C481>0,D481+C481,0)*VLOOKUP(MONTH(B480),'NRI (Auto)'!$R$6:$T$17,3,0)),\"\")","v":""},{"$f":"IFERROR(NRI!$P$3+D480,\"\")","v":""},{"$error":"#DIV/0!"}]
[9,{"$f":"'URC VAR'!B481","v":"2025-09-01"},{"$f":"IFERROR('URC VAR'!C481*-1,\"\")","v":""},{"$f":"IFERROR(IF(AND(C482=\"\",C481<>\"\"),0,IF(D482+C482>0,D482+C482,0)*VLOOKUP(MONTH(B481),'NRI (Auto)'!$R$6:$T$17,3,0)),\"\")","v":""},{"$f":"IFERROR(NRI!$P$3+D481,\"\")","v":""},{"$error":"#DIV/0!"}]
[10,{"$f":"'URC VAR'!B482","v":"2025-10-01"},{"$f":"IFERROR('URC VAR'!C482*-1,\"\")","v":""},{"$f":"IFERROR(IF(AND(C483=\"\",C482<>\"\"),0,IF(D483+C483>0,D483+C483,0)*VLOOKUP(MONTH(B482),'NRI (Auto)'!$R$6:$T$17,3,0)),\"\")","v":""},{"$f":"IFERROR(NRI!$P$3+D482,\"\")","v":""},{"$error":"#DIV/0!"}]
[11,{"$f":"'URC VAR'!B483","v":"2025-11-01"},{"$f":"IFERROR('URC VAR'!C483*-1,\"\")","v":""},{"$f":"IFERROR(IF(AND(C484=\"\",C483<>\"\"),0,IF(D484+C484>0,D484+C484,0)*VLOOKUP(MONTH(B483),'NRI (Auto)'!$R$6:$T$17,3,0)),\"\")","v":""},{"$f":"IFERROR(NRI!$P$3+D483,\"\")","v":""},{"$error":"#DIV/0!"}]
[12,{"$f":"'URC VAR'!B484","v":"2025-12-01"},{"$f":"IFERROR('URC VAR'!C484*-1,\"\")","v":""},{"$f":"IFERROR(IF(AND(C485=\"\",C484<>\"\"),0,IF(D485+C485>0,D485+C485,0)*VLOOKUP(MONTH(B484),'NRI (Auto)'!$R$6:$T$17,3,0)),\"\")","v":""},{"$f":"IFERROR(NRI!$P$3+D484,\"\")","v":""},{"$error":"#DIV/0!"}]
[1,{"$f":"'URC VAR'!B485","v":"2026-01-01"},{"$f":"IFERROR('URC VAR'!C485*-1,\"\")","v":""},{"$f":"IFERROR(IF(AND(C486=\"\",C485<>\"\"),0,IF(D486+C486>0,D486+C486,0)*VLOOKUP(MONTH(B485),'NRI (Auto)'!$R$6:$T$17,3,0)),\"\")","v":""},{"$f":"IFERROR(NRI!$P$3+D485,\"\")","v":""},{"$error":"#DIV/0!"}]
[2,{"$f":"'URC VAR'!B486","v":"2026-02-01"},{"$f":"IFERROR('URC VAR'!C486*-1,\"\")","v":""},{"$f":"IFERROR(IF(AND(C487=\"\",C486<>\"\"),0,IF(D487+C487>0,D487+C487,0)*VLOOKUP(MONTH(B486),'NRI (Auto)'!$R$6:$T$17,3,0)),\"\")","v":""},{"$f":"IFERROR(NRI!$P$3+D486,\"\")","v":""},{"$error":"#DIV/0!"}]
[3,{"$f":"'URC VAR'!B487","v":"2026-03-01"},{"$f":"IFERROR('URC VAR'!C487*-1,\"\")","v":""},{"$f":"IFERROR(IF(AND(C488=\"\",C487<>\"\"),0,IF(D488+C488>0,D488+C488,0)*VLOOKUP(MONTH(B487),'NRI (Auto)'!$R$6:$T$17,3,0)),\"\")","v":""},{"$f":"IFERROR(NRI!$P$3+D487,\"\")","v":""},{"$error":"#DIV/0!"}]
[4,{"$f":"'URC VAR'!B488","v":"2026-04-01"},{"$f":"IFERROR('URC VAR'!C488*-1,\"\")","v":""},{"$f":"IFERROR(IF(AND(C489=\"\",C488<>\"\"),0,IF(D489+C489>0,D489+C489,0)*VLOOKUP(MONTH(B488),'NRI (Auto)'!$R$6:$T$17,3,0)),\"\")","v":""},{"$f":"IFERROR(NRI!$P$3+D488,\"\")","v":""},{"$error":"#DIV/0!"}]
[5,{"$f":"'URC VAR'!B489","v":"2026-05-01"},{"$f":"IFERROR('URC VAR'!C489*-1,\"\")","v":""},{"$f":"IFERROR(IF(AND(C490=\"\",C489<>\"\"),0,IF(D490+C490>0,D490+C490,0)*VLOOKUP(MONTH(B489),'NRI (Auto)'!$R$6:$T$17,3,0)),\"\")","v":""},{"$f":"IFERROR(NRI!$P$3+D489,\"\")","v":""},{"$error":"#DIV/0!"}]
[6,{"$f":"'URC VAR'!B490","v":"2026-06-01"},{"$f":"IFERROR('URC VAR'!C490*-1,\"\")","v":""},{"$f":"IFERROR(IF(AND(C491=\"\",C490<>\"\"),0,IF(D491+C491>0,D491+C491,0)*VLOOKUP(MONTH(B490),'NRI (Auto)'!$R$6:$T$17,3,0)),\"\")","v":""},{"$f":"IFERROR(NRI!$P$3+D490,\"\")","v":""},{"$error":"#DIV/0!"}]
[7,{"$f":"'URC VAR'!B491","v":"2026-07-01"},{"$f":"IFERROR('URC VAR'!C491*-1,\"\")","v":""},{"$f":"IFERROR(IF(AND(C492=\"\",C491<>\"\"),0,IF(D492+C492>0,D492+C492,0)*VLOOKUP(MONTH(B491),'NRI (Auto)'!$R$6:$T$17,3,0)),\"\")","v":""},{"$f":"IFERROR(NRI!$P$3+D491,\"\")","v":""},{"$error":"#DIV/0!"}]
[8,{"$f":"'URC VAR'!B492","v":"2026-08-01"},{"$f":"IFERROR('URC VAR'!C492*-1,\"\")","v":""},{"$f":"IFERROR(IF(AND(C493=\"\",C492<>\"\"),0,IF(D493+C493>0,D493+C493,0)*VLOOKUP(MONTH(B492),'NRI (Auto)'!$R$6:$T$17,3,0)),\"\")","v":""},{"$f":"IFERROR(NRI!$P$3+D492,\"\")","v":""},{"$error":"#DIV/0!"}]
[9,{"$f":"'URC VAR'!B493","v":"2026-09-01"},{"$f":"IFERROR('URC VAR'!C493*-1,\"\")","v":""},{"$f":"IFERROR(IF(AND(C494=\"\",C493<>\"\"),0,IF(D494+C494>0,D494+C494,0)*VLOOKUP(MONTH(B493),'NRI (Auto)'!$R$6:$T$17,3,0)),\"\")","v":""},{"$f":"IFERROR(NRI!$P$3+D493,\"\")","v":""},{"$error":"#DIV/0!"}]
[10,{"$f":"'URC VAR'!B494","v":"2026-10-01"},{"$f":"IFERROR('URC VAR'!C494*-1,\"\")","v":""},{"$f":"IFERROR(IF(AND(C495=\"\",C494<>\"\"),0,IF(D495+C495>0,D495+C495,0)*VLOOKUP(MONTH(B494),'NRI (Auto)'!$R$6:$T$17,3,0)),\"\")","v":""},{"$f":"IFERROR(NRI!$P$3+D494,\"\")","v":""},{"$error":"#DIV/0!"}]
[11,{"$f":"'URC VAR'!B495","v":"2026-11-01"},{"$f":"IFERROR('URC VAR'!C495*-1,\"\")","v":""},{"$f":"IFERROR(IF(AND(C496=\"\",C495<>\"\"),0,IF(D496+C496>0,D496+C496,0)*VLOOKUP(MONTH(B495),'NRI (Auto)'!$R$6:$T$17,3,0)),\"\")","v":""},{"$f":"IFERROR(NRI!$P$3+D495,\"\")","v":""},{"$error":"#DIV/0!"}]
[12,{"$f":"'URC VAR'!B496","v":"2026-12-01"},{"$f":"IFERROR('URC VAR'!C496*-1,\"\")","v":""},{"$f":"IFERROR(IF(AND(C497=\"\",C496<>\"\"),0,IF(D497+C497>0,D497+C497,0)*VLOOKUP(MONTH(B496),'NRI (Auto)'!$R$6:$T$17,3,0)),\"\")","v":""},{"$f":"IFERROR(NRI!$P$3+D496,\"\")","v":""},{"$error":"#DIV/0!"}]
[1,{"$f":"'URC VAR'!B497","v":"2027-01-01"},{"$f":"IFERROR('URC VAR'!C497*-1,\"\")","v":""},{"$f":"IFERROR(IF(AND(C498=\"\",C497<>\"\"),0,IF(D498+C498>0,D498+C498,0)*VLOOKUP(MONTH(B497),'NRI (Auto)'!$R$6:$T$17,3,0)),\"\")","v":""},{"$f":"IFERROR(NRI!$P$3+D497,\"\")","v":""},{"$error":"#DIV/0!"}]
[2,{"$f":"'URC VAR'!B498","v":"2027-02-01"},{"$f":"IFERROR('URC VAR'!C498*-1,\"\")","v":""},{"$f":"IFERROR(IF(AND(C499=\"\",C498<>\"\"),0,IF(D499+C499>0,D499+C499,0)*VLOOKUP(MONTH(B498),'NRI (Auto)'!$R$6:$T$17,3,0)),\"\")","v":""},{"$f":"IFERROR(NRI!$P$3+D498,\"\")","v":""},{"$error":"#DIV/0!"}]
[3,{"$f":"'URC VAR'!B499","v":"2027-03-01"},{"$f":"IFERROR('URC VAR'!C499*-1,\"\")","v":""},{"$f":"IFERROR(IF(AND(C500=\"\",C499<>\"\"),0,IF(D500+C500>0,D500+C500,0)*VLOOKUP(MONTH(B499),'NRI (Auto)'!$R$6:$T$17,3,0)),\"\")","v":""},{"$f":"IFERROR(NRI!$P$3+D499,\"\")","v":""},{"$error":"#DIV/0!"}]
[4,{"$f":"'URC VAR'!B500","v":"2027-04-01"},{"$f":"IFERROR('URC VAR'!C500*-1,\"\")","v":""},{"$f":"IFERROR(IF(AND(C501=\"\",C500<>\"\"),0,IF(D501+C501>0,D501+C501,0)*VLOOKUP(MONTH(B500),'NRI (Auto)'!$R$6:$T$17,3,0)),\"\")","v":""},{"$f":"IFERROR(NRI!$P$3+D500,\"\")","v":""},{"$error":"#DIV/0!"}]
[5,{"$f":"'URC VAR'!B501","v":"2027-05-01"},{"$f":"IFERROR('URC VAR'!C501*-1,\"\")","v":""},{"$f":"IFERROR(IF(AND(C502=\"\",C501<>\"\"),0,IF(D502+C502>0,D502+C502,0)*VLOOKUP(MONTH(B501),'NRI (Auto)'!$R$6:$T$17,3,0)),\"\")","v":""},{"$f":"IFERROR(NRI!$P$3+D501,\"\")","v":""},{"$error":"#DIV/0!"}]
[6,{"$f":"'URC VAR'!B502","v":"2027-06-01"},{"$f":"IFERROR('URC VAR'!C502*-1,\"\")","v":""},{"$f":"IFERROR(IF(AND(C503=\"\",C502<>\"\"),0,IF(D503+C503>0,D503+C503,0)*VLOOKUP(MONTH(B502),'NRI (Auto)'!$R$6:$T$17,3,0)),\"\")","v":""},{"$f":"IFERROR(NRI!$P$3+D502,\"\")","v":""},{"$error":"#DIV/0!"}]
[7,{"$f":"'URC VAR'!B503","v":"2027-07-01"},{"$f":"IFERROR('URC VAR'!C503*-1,\"\")","v":""},{"$f":"IFERROR(IF(AND(C504=\"\",C503<>\"\"),0,IF(D504+C504>0,D504+C504,0)*VLOOKUP(MONTH(B503),'NRI (Auto)'!$R$6:$T$17,3,0)),\"\")","v":""},{"$f":"IFERROR(NRI!$P$3+D503,\"\")","v":""},{"$error":"#DIV/0!"}]
[8,{"$f":"'URC VAR'!B504","v":"2027-08-01"},{"$f":"IFERROR('URC VAR'!C504*-1,\"\")","v":""},{"$f":"IFERROR(IF(AND(C505=\"\",C504<>\"\"),0,IF(D505+C505>0,D505+C505,0)*VLOOKUP(MONTH(B504),'NRI (Auto)'!$R$6:$T$17,3,0)),\"\")","v":""},{"$f":"IFERROR(NRI!$P$3+D504,\"\")","v":""},{"$error":"#DIV/0!"}]
[9,{"$f":"'URC VAR'!B505","v":"2027-09-01"},{"$f":"IFERROR('URC VAR'!C505*-1,\"\")","v":""},{"$f":"IFERROR(IF(AND(C506=\"\",C505<>\"\"),0,IF(D506+C506>0,D506+C506,0)*VLOOKUP(MONTH(B505),'NRI (Auto)'!$R$6:$T$17,3,0)),\"\")","v":""},{"$f":"IFERROR(NRI!$P$3+D505,\"\")","v":""},{"$error":"#DIV/0!"}]
[10,{"$f":"'URC VAR'!B506","v":"2027-10-01"},{"$f":"IFERROR('URC VAR'!C506*-1,\"\")","v":""},{"$f":"IFERROR(IF(AND(C507=\"\",C506<>\"\"),0,IF(D507+C507>0,D507+C507,0)*VLOOKUP(MONTH(B506),'NRI (Auto)'!$R$6:$T$17,3,0)),\"\")","v":""},{"$f":"IFERROR(NRI!$P$3+D506,\"\")","v":""},{"$error":"#DIV/0!"}]
[11,{"$f":"'URC VAR'!B507","v":"2027-11-01"},{"$f":"IFERROR('URC VAR'!C507*-1,\"\")","v":""},{"$f":"IFERROR(IF(AND(C508=\"\",C507<>\"\"),0,IF(D508+C508>0,D508+C508,0)*VLOOKUP(MONTH(B507),'NRI (Auto)'!$R$6:$T$17,3,0)),\"\")","v":""},{"$f":"IFERROR(NRI!$P$3+D507,\"\")","v":""},{"$error":"#DIV/0!"}]
[12,{"$f":"'URC VAR'!B508","v":"2027-12-01"},{"$f":"IFERROR('URC VAR'!C508*-1,\"\")","v":""},{"$f":"IFERROR(IF(AND(C509=\"\",C508<>\"\"),0,IF(D509+C509>0,D509+C509,0)*VLOOKUP(MONTH(B508),'NRI (Auto)'!$R$6:$T$17,3,0)),\"\")","v":""},{"$f":"IFERROR(NRI!$P$3+D508,\"\")","v":""},{"$error":"#DIV/0!"}]
[1,{"$f":"'URC VAR'!B509","v":"2028-01-01"},{"$f":"IFERROR('URC VAR'!C509*-1,\"\")","v":""},{"$f":"IFERROR(IF(AND(C510=\"\",C509<>\"\"),0,IF(D510+C510>0,D510+C510,0)*VLOOKUP(MONTH(B509),'NRI (Auto)'!$R$6:$T$17,3,0)),\"\")","v":""},{"$f":"IFERROR(NRI!$P$3+D509,\"\")","v":""},{"$error":"#DIV/0!"}]
[2,{"$f":"'URC VAR'!B510","v":"2028-02-01"},{"$f":"IFERROR('URC VAR'!C510*-1,\"\")","v":""},{"$f":"IFERROR(IF(AND(C511=\"\",C510<>\"\"),0,IF(D511+C511>0,D511+C511,0)*VLOOKUP(MONTH(B510),'NRI (Auto)'!$R$6:$T$17,3,0)),\"\")","v":""},{"$f":"IFERROR(NRI!$P$3+D510,\"\")","v":""},{"$error":"#DIV/0!"}]
[3,{"$f":"'URC VAR'!B511","v":"2028-03-01"},{"$f":"IFERROR('URC VAR'!C511*-1,\"\")","v":""},{"$f":"IFERROR(IF(AND(C512=\"\",C511<>\"\"),0,IF(D512+C512>0,D512+C512,0)*VLOOKUP(MONTH(B511),'NRI (Auto)'!$R$6:$T$17,3,0)),\"\")","v":""},{"$f":"IFERROR(NRI!$P$3+D511,\"\")","v":""},{"$error":"#DIV/0!"}]
[4,{"$f":"'URC VAR'!B512","v":"2028-04-01"},{"$f":"IFERROR('URC VAR'!C512*-1,\"\")","v":""},{"$f":"IFERROR(IF(AND(C513=\"\",C512<>\"\"),0,IF(D513+C513>0,D513+C513,0)*VLOOKUP(MONTH(B512),'NRI (Auto)'!$R$6:$T$17,3,0)),\"\")","v":""},{"$f":"IFERROR(NRI!$P$3+D512,\"\")","v":""},{"$error":"#DIV/0!"}]
[5,{"$f":"'URC VAR'!B513","v":"2028-05-01"},{"$f":"IFERROR('URC VAR'!C513*-1,\"\")","v":""},{"$f":"IFERROR(IF(AND(C514=\"\",C513<>\"\"),0,IF(D514+C514>0,D514+C514,0)*VLOOKUP(MONTH(B513),'NRI (Auto)'!$R$6:$T$17,3,0)),\"\")","v":""},{"$f":"IFERROR(NRI!$P$3+D513,\"\")","v":""},{"$error":"#DIV/0!"}]
[6,{"$f":"'URC VAR'!B514","v":"2028-06-01"},{"$f":"IFERROR('URC VAR'!C514*-1,\"\")","v":""},{"$f":"IFERROR(IF(AND(C515=\"\",C514<>\"\"),0,IF(D515+C515>0,D515+C515,0)*VLOOKUP(MONTH(B514),'NRI (Auto)'!$R$6:$T$17,3,0)),\"\")","v":""},{"$f":"IFERROR(NRI!$P$3+D514,\"\")","v":""},{"$error":"#DIV/0!"}]
[7,{"$f":"'URC VAR'!B515","v":"2028-07-01"},{"$f":"IFERROR('URC VAR'!C515*-1,\"\")","v":""},{"$f":"IFERROR(IF(AND(C516=\"\",C515<>\"\"),0,IF(D516+C516>0,D516+C516,0)*VLOOKUP(MONTH(B515),'NRI (Auto)'!$R$6:$T$17,3,0)),\"\")","v":""},{"$f":"IFERROR(NRI!$P$3+D515,\"\")","v":""},{"$error":"#DIV/0!"}]
[8,{"$f":"'URC VAR'!B516","v":"2028-08-01"},{"$f":"IFERROR('URC VAR'!C516*-1,\"\")","v":""},{"$f":"IFERROR(IF(AND(C517=\"\",C516<>\"\"),0,IF(D517+C517>0,D517+C517,0)*VLOOKUP(MONTH(B516),'NRI (Auto)'!$R$6:$T$17,3,0)),\"\")","v":""},{"$f":"IFERROR(NRI!$P$3+D516,\"\")","v":""},{"$error":"#DIV/0!"}]
[9,{"$f":"'URC VAR'!B517","v":"2028-09-01"},{"$f":"IFERROR('URC VAR'!C517*-1,\"\")","v":""},{"$f":"IFERROR(IF(AND(C518=\"\",C517<>\"\"),0,IF(D518+C518>0,D518+C518,0)*VLOOKUP(MONTH(B517),'NRI (Auto)'!$R$6:$T$17,3,0)),\"\")","v":""},{"$f":"IFERROR(NRI!$P$3+D517,\"\")","v":""},{"$error":"#DIV/0!"}]
[10,{"$f":"'URC VAR'!B518","v":"2028-10-01"},{"$f":"IFERROR('URC VAR'!C518*-1,\"\")","v":""},{"$f":"IFERROR(IF(AND(C519=\"\",C518<>\"\"),0,IF(D519+C519>0,D519+C519,0)*VLOOKUP(MONTH(B518),'NRI (Auto)'!$R$6:$T$17,3,0)),\"\")","v":""},{"$f":"IFERROR(NRI!$P$3+D518,\"\")","v":""},{"$error":"#DIV/0!"}]
[11,{"$f":"'URC VAR'!B519","v":"2028-11-01"},{"$f":"IFERROR('URC VAR'!C519*-1,\"\")","v":""},{"$f":"IFERROR(IF(AND(C520=\"\",C519<>\"\"),0,IF(D520+C520>0,D520+C520,0)*VLOOKUP(MONTH(B519),'NRI (Auto)'!$R$6:$T$17,3,0)),\"\")","v":""},{"$f":"IFERROR(NRI!$P$3+D519,\"\")","v":""},{"$error":"#DIV/0!"}]
[12,{"$f":"'URC VAR'!B520","v":"2028-12-01"},{"$f":"IFERROR('URC VAR'!C520*-1,\"\")","v":""},{"$f":"IFERROR(IF(AND(C521=\"\",C520<>\"\"),0,IF(D521+C521>0,D521+C521,0)*VLOOKUP(MONTH(B520),'NRI (Auto)'!$R$6:$T$17,3,0)),\"\")","v":""},{"$f":"IFERROR(NRI!$P$3+D520,\"\")","v":""},{"$error":"#DIV/0!"}]
[1,{"$f":"'URC VAR'!B521","v":"2029-01-01"},{"$f":"IFERROR('URC VAR'!C521*-1,\"\")","v":""},{"$f":"IFERROR(IF(AND(C522=\"\",C521<>\"\"),0,IF(D522+C522>0,D522+C522,0)*VLOOKUP(MONTH(B521),'NRI (Auto)'!$R$6:$T$17,3,0)),\"\")","v":""},{"$f":"IFERROR(NRI!$P$3+D521,\"\")","v":""},{"$error":"#DIV/0!"}]
[2,{"$f":"'URC VAR'!B522","v":"2029-02-01"},{"$f":"IFERROR('URC VAR'!C522*-1,\"\")","v":""},{"$f":"IFERROR(IF(AND(C523=\"\",C522<>\"\"),0,IF(D523+C523>0,D523+C523,0)*VLOOKUP(MONTH(B522),'NRI (Auto)'!$R$6:$T$17,3,0)),\"\")","v":""},{"$f":"IFERROR(NRI!$P$3+D522,\"\")","v":""},{"$error":"#DIV/0!"}]
[3,{"$f":"'URC VAR'!B523","v":"2029-03-01"},{"$f":"IFERROR('URC VAR'!C523*-1,\"\")","v":""},{"$f":"IFERROR(IF(AND(C524=\"\",C523<>\"\"),0,IF(D524+C524>0,D524+C524,0)*VLOOKUP(MONTH(B523),'NRI (Auto)'!$R$6:$T$17,3,0)),\"\")","v":""},{"$f":"IFERROR(NRI!$P$3+D523,\"\")","v":""},{"$error":"#DIV/0!"}]
[4,{"$f":"'URC VAR'!B524","v":"2029-04-01"},{"$f":"IFERROR('URC VAR'!C524*-1,\"\")","v":""},{"$f":"IFERROR(IF(AND(C525=\"\",C524<>\"\"),0,IF(D525+C525>0,D525+C525,0)*VLOOKUP(MONTH(B524),'NRI (Auto)'!$R$6:$T$17,3,0)),\"\")","v":""},{"$f":"IFERROR(NRI!$P$3+D524,\"\")","v":""},{"$error":"#DIV/0!"}]
[5,{"$f":"'URC VAR'!B525","v":"2029-05-01"},{"$f":"IFERROR('URC VAR'!C525*-1,\"\")","v":""},{"$f":"IFERROR(IF(AND(C526=\"\",C525<>\"\"),0,IF(D526+C526>0,D526+C526,0)*VLOOKUP(MONTH(B525),'NRI (Auto)'!$R$6:$T$17,3,0)),\"\")","v":""},{"$f":"IFERROR(NRI!$P$3+D525,\"\")","v":""},{"$error":"#DIV/0!"}]
[6,{"$f":"'URC VAR'!B526","v":"2029-06-01"},{"$f":"IFERROR('URC VAR'!C526*-1,\"\")","v":""},{"$f":"IFERROR(IF(AND(C527=\"\",C526<>\"\"),0,IF(D527+C527>0,D527+C527,0)*VLOOKUP(MONTH(B526),'NRI (Auto)'!$R$6:$T$17,3,0)),\"\")","v":""},{"$f":"IFERROR(NRI!$P$3+D526,\"\")","v":""},{"$error":"#DIV/0!"}]
[7,{"$f":"'URC VAR'!B527","v":"2029-07-01"},{"$f":"IFERROR('URC VAR'!C527*-1,\"\")","v":""},{"$f":"IFERROR(IF(AND(C528=\"\",C527<>\"\"),0,IF(D528+C528>0,D528+C528,0)*VLOOKUP(MONTH(B527),'NRI (Auto)'!$R$6:$T$17,3,0)),\"\")","v":""},{"$f":"IFERROR(NRI!$P$3+D527,\"\")","v":""},{"$error":"#DIV/0!"}]
[8,{"$f":"'URC VAR'!B528","v":"2029-08-01"},{"$f":"IFERROR('URC VAR'!C528*-1,\"\")","v":""},{"$f":"IFERROR(IF(AND(C529=\"\",C528<>\"\"),0,IF(D529+C529>0,D529+C529,0)*VLOOKUP(MONTH(B528),'NRI (Auto)'!$R$6:$T$17,3,0)),\"\")","v":""},{"$f":"IFERROR(NRI!$P$3+D528,\"\")","v":""},{"$error":"#DIV/0!"}]
[9,{"$f":"'URC VAR'!B529","v":"2029-09-01"},{"$f":"IFERROR('URC VAR'!C529*-1,\"\")","v":""},{"$f":"IFERROR(IF(AND(C530=\"\",C529<>\"\"),0,IF(D530+C530>0,D530+C530,0)*VLOOKUP(MONTH(B529),'NRI (Auto)'!$R$6:$T$17,3,0)),\"\")","v":""},{"$f":"IFERROR(NRI!$P$3+D529,\"\")","v":""},{"$error":"#DIV/0!"}]
[{"$f":"+A518","v":10},{"$f":"'URC VAR'!B530","v":"2029-10-01"},{"$f":"IFERROR('URC VAR'!C530*-1,\"\")","v":""},{"$f":"IFERROR(IF(AND(C531=\"\",C530<>\"\"),0,IF(D531+C531>0,D531+C531,0)*VLOOKUP(MONTH(B530),'NRI (Auto)'!$R$6:$T$17,3,0)),\"\")","v":""},{"$f":"IFERROR(NRI!$P$3+D530,\"\")","v":""},{"$f":"+F518","v":{"$error":"#DIV/0!"}}]
[11,{"$f":"'URC VAR'!B531","v":"2029-11-01"},{"$f":"IFERROR('URC VAR'!C531*-1,\"\")","v":""},{"$f":"IFERROR(IF(AND(C532=\"\",C531<>\"\"),0,IF(D532+C532>0,D532+C532,0)*VLOOKUP(MONTH(B531),'NRI (Auto)'!$R$6:$T$17,3,0)),\"\")","v":""},{"$f":"IFERROR(NRI!$P$3+D531,\"\")","v":""},{"$error":"#DIV/0!"}]
[12,{"$f":"'URC VAR'!B532","v":"2029-12-01"},{"$f":"IFERROR('URC VAR'!C532*-1,\"\")","v":""},{"$f":"IFERROR(IF(AND(C533=\"\",C532<>\"\"),0,IF(D533+C533>0,D533+C533,0)*VLOOKUP(MONTH(B532),'NRI (Auto)'!$R$6:$T$17,3,0)),\"\")","v":""},{"$f":"IFERROR(NRI!$P$3+D532,\"\")","v":""},{"$error":"#DIV/0!"}]
[1,{"$f":"'URC VAR'!B533","v":"2030-01-01"},{"$f":"IFERROR('URC VAR'!C533*-1,\"\")","v":""},{"$f":"IFERROR(IF(AND(C534=\"\",C533<>\"\"),0,IF(D534+C534>0,D534+C534,0)*VLOOKUP(MONTH(B533),'NRI (Auto)'!$R$6:$T$17,3,0)),\"\")","v":""},{"$f":"IFERROR(NRI!$P$3+D533,\"\")","v":""},{"$error":"#DIV/0!"}]
[2,{"$f":"'URC VAR'!B534","v":"2030-02-01"},{"$f":"IFERROR('URC VAR'!C534*-1,\"\")","v":""},{"$f":"IFERROR(IF(AND(C535=\"\",C534<>\"\"),0,IF(D535+C535>0,D535+C535,0)*VLOOKUP(MONTH(B534),'NRI (Auto)'!$R$6:$T$17,3,0)),\"\")","v":""},{"$f":"IFERROR(NRI!$P$3+D534,\"\")","v":""},{"$error":"#DIV/0!"}]
[3,{"$f":"'URC VAR'!B535","v":"2030-03-01"},{"$f":"IFERROR('URC VAR'!C535*-1,\"\")","v":""},{"$f":"IFERROR(IF(AND(C536=\"\",C535<>\"\"),0,IF(D536+C536>0,D536+C536,0)*VLOOKUP(MONTH(B535),'NRI (Auto)'!$R$6:$T$17,3,0)),\"\")","v":""},{"$f":"IFERROR(NRI!$P$3+D535,\"\")","v":""},{"$error":"#DIV/0!"}]
[4,{"$f":"'URC VAR'!B536","v":"2030-04-01"},{"$f":"IFERROR('URC VAR'!C536*-1,\"\")","v":""},{"$f":"IFERROR(IF(AND(C537=\"\",C536<>\"\"),0,IF(D537+C537>0,D537+C537,0)*VLOOKUP(MONTH(B536),'NRI (Auto)'!$R$6:$T$17,3,0)),\"\")","v":""},{"$f":"IFERROR(NRI!$P$3+D536,\"\")","v":""},{"$error":"#DIV/0!"}]
[5,{"$f":"'URC VAR'!B537","v":"2030-05-01"},{"$f":"IFERROR('URC VAR'!C537*-1,\"\")","v":""},{"$f":"IFERROR(IF(AND(C538=\"\",C537<>\"\"),0,IF(D538+C538>0,D538+C538,0)*VLOOKUP(MONTH(B537),'NRI (Auto)'!$R$6:$T$17,3,0)),\"\")","v":""},{"$f":"IFERROR(NRI!$P$3+D537,\"\")","v":""},{"$error":"#DIV/0!"}]
[6,{"$f":"'URC VAR'!B538","v":"2030-06-01"},{"$f":"IFERROR('URC VAR'!C538*-1,\"\")","v":""},{"$f":"IFERROR(IF(AND(C539=\"\",C538<>\"\"),0,IF(D539+C539>0,D539+C539,0)*VLOOKUP(MONTH(B538),'NRI (Auto)'!$R$6:$T$17,3,0)),\"\")","v":""},{"$f":"IFERROR(NRI!$P$3+D538,\"\")","v":""},{"$error":"#DIV/0!"}]
[7,{"$f":"'URC VAR'!B539","v":"2030-07-01"},{"$f":"IFERROR('URC VAR'!C539*-1,\"\")","v":""},{"$f":"IFERROR(IF(AND(C540=\"\",C539<>\"\"),0,IF(D540+C540>0,D540+C540,0)*VLOOKUP(MONTH(B539),'NRI (Auto)'!$R$6:$T$17,3,0)),\"\")","v":""},{"$f":"IFERROR(NRI!$P$3+D539,\"\")","v":""},{"$error":"#DIV/0!"}]
[8,{"$f":"'URC VAR'!B540","v":"2030-08-01"},{"$f":"IFERROR('URC VAR'!C540*-1,\"\")","v":""},{"$f":"IFERROR(IF(AND(C541=\"\",C540<>\"\"),0,IF(D541+C541>0,D541+C541,0)*VLOOKUP(MONTH(B540),'NRI (Auto)'!$R$6:$T$17,3,0)),\"\")","v":""},{"$f":"IFERROR(NRI!$P$3+D540,\"\")","v":""},{"$error":"#DIV/0!"}]
[9,{"$f":"'URC VAR'!B541","v":"2030-09-01"},{"$f":"IFERROR('URC VAR'!C541*-1,\"\")","v":""},{"$f":"IFERROR(IF(AND(C542=\"\",C541<>\"\"),0,IF(D542+C542>0,D542+C542,0)*VLOOKUP(MONTH(B541),'NRI (Auto)'!$R$6:$T$17,3,0)),\"\")","v":""},{"$f":"IFERROR(NRI!$P$3+D541,\"\")","v":""},{"$error":"#DIV/0!"}]
[10,{"$f":"'URC VAR'!B542","v":"2030-10-01"},{"$f":"IFERROR('URC VAR'!C542*-1,\"\")","v":""},{"$f":"IFERROR(IF(AND(C543=\"\",C542<>\"\"),0,IF(D543+C543>0,D543+C543,0)*VLOOKUP(MONTH(B542),'NRI (Auto)'!$R$6:$T$17,3,0)),\"\")","v":""},{"$f":"IFERROR(NRI!$P$3+D542,\"\")","v":""},{"$error":"#DIV/0!"}]
[11,{"$f":"'URC VAR'!B543","v":"2030-11-01"},{"$f":"IFERROR('URC VAR'!C543*-1,\"\")","v":""},{"$f":"IFERROR(IF(AND(C544=\"\",C543<>\"\"),0,IF(D544+C544>0,D544+C544,0)*VLOOKUP(MONTH(B543),'NRI (Auto)'!$R$6:$T$17,3,0)),\"\")","v":""},{"$f":"IFERROR(NRI!$P$3+D543,\"\")","v":""},{"$error":"#DIV/0!"}]
[12,{"$f":"'URC VAR'!B544","v":"2030-12-01"},{"$f":"IFERROR('URC VAR'!C544*-1,\"\")","v":""},{"$f":"IFERROR(IF(AND(C545=\"\",C544<>\"\"),0,IF(D545+C545>0,D545+C545,0)*VLOOKUP(MONTH(B544),'NRI (Auto)'!$R$6:$T$17,3,0)),\"\")","v":""},{"$f":"IFERROR(NRI!$P$3+D544,\"\")","v":""},{"$error":"#DIV/0!"}]
[1,{"$f":"'URC VAR'!B545","v":"2031-01-01"},{"$f":"IFERROR('URC VAR'!C545*-1,\"\")","v":""},{"$f":"IFERROR(IF(AND(C546=\"\",C545<>\"\"),0,IF(D546+C546>0,D546+C546,0)*VLOOKUP(MONTH(B545),'NRI (Auto)'!$R$6:$T$17,3,0)),\"\")","v":""},{"$f":"IFERROR(NRI!$P$3+D545,\"\")","v":""},{"$error":"#DIV/0!"}]
[2,{"$f":"'URC VAR'!B546","v":"2031-02-01"},{"$f":"IFERROR('URC VAR'!C546*-1,\"\")","v":""},{"$f":"IFERROR(IF(AND(C547=\"\",C546<>\"\"),0,IF(D547+C547>0,D547+C547,0)*VLOOKUP(MONTH(B546),'NRI (Auto)'!$R$6:$T$17,3,0)),\"\")","v":""},{"$f":"IFERROR(NRI!$P$3+D546,\"\")","v":""},{"$error":"#DIV/0!"}]
[3,{"$f":"'URC VAR'!B547","v":"2031-03-01"},{"$f":"IFERROR('URC VAR'!C547*-1,\"\")","v":""},{"$f":"IFERROR(IF(AND(C548=\"\",C547<>\"\"),0,IF(D548+C548>0,D548+C548,0)*VLOOKUP(MONTH(B547),'NRI (Auto)'!$R$6:$T$17,3,0)),\"\")","v":""},{"$f":"IFERROR(NRI!$P$3+D547,\"\")","v":""},{"$error":"#DIV/0!"}]
[4,{"$f":"'URC VAR'!B548","v":"2031-04-01"},{"$f":"IFERROR('URC VAR'!C548*-1,\"\")","v":""},{"$f":"IFERROR(IF(AND(C549=\"\",C548<>\"\"),0,IF(D549+C549>0,D549+C549,0)*VLOOKUP(MONTH(B548),'NRI (Auto)'!$R$6:$T$17,3,0)),\"\")","v":""},{"$f":"IFERROR(NRI!$P$3+D548,\"\")","v":""},{"$error":"#DIV/0!"}]
[5,{"$f":"'URC VAR'!B549","v":"2031-05-01"},{"$f":"IFERROR('URC VAR'!C549*-1,\"\")","v":""},{"$f":"IFERROR(IF(AND(C550=\"\",C549<>\"\"),0,IF(D550+C550>0,D550+C550,0)*VLOOKUP(MONTH(B549),'NRI (Auto)'!$R$6:$T$17,3,0)),\"\")","v":""},{"$f":"IFERROR(NRI!$P$3+D549,\"\")","v":""},{"$error":"#DIV/0!"}]
[6,{"$f":"'URC VAR'!B550","v":"2031-06-01"},{"$f":"IFERROR('URC VAR'!C550*-1,\"\")","v":""},{"$f":"IFERROR(IF(AND(C551=\"\",C550<>\"\"),0,IF(D551+C551>0,D551+C551,0)*VLOOKUP(MONTH(B550),'NRI (Auto)'!$R$6:$T$17,3,0)),\"\")","v":""},{"$f":"IFERROR(NRI!$P$3+D550,\"\")","v":""},{"$error":"#DIV/0!"}]
[7,{"$f":"'URC VAR'!B551","v":"2031-07-01"},{"$f":"IFERROR('URC VAR'!C551*-1,\"\")","v":""},{"$f":"IFERROR(IF(AND(C552=\"\",C551<>\"\"),0,IF(D552+C552>0,D552+C552,0)*VLOOKUP(MONTH(B551),'NRI (Auto)'!$R$6:$T$17,3,0)),\"\")","v":""},{"$f":"IFERROR(NRI!$P$3+D551,\"\")","v":""},{"$error":"#DIV/0!"}]
[8,{"$f":"'URC VAR'!B552","v":"2031-08-01"},{"$f":"IFERROR('URC VAR'!C552*-1,\"\")","v":""},{"$f":"IFERROR(IF(AND(C553=\"\",C552<>\"\"),0,IF(D553+C553>0,D553+C553,0)*VLOOKUP(MONTH(B552),'NRI (Auto)'!$R$6:$T$17,3,0)),\"\")","v":""},{"$f":"IFERROR(NRI!$P$3+D552,\"\")","v":""},{"$error":"#DIV/0!"}]
[9,{"$f":"'URC VAR'!B553","v":"2031-09-01"},{"$f":"IFERROR('URC VAR'!C553*-1,\"\")","v":""},{"$f":"IFERROR(IF(AND(C554=\"\",C553<>\"\"),0,IF(D554+C554>0,D554+C554,0)*VLOOKUP(MONTH(B553),'NRI (Auto)'!$R$6:$T$17,3,0)),\"\")","v":""},{"$f":"IFERROR(NRI!$P$3+D553,\"\")","v":""},{"$error":"#DIV/0!"}]
[10,{"$f":"'URC VAR'!B554","v":"2031-10-01"},{"$f":"IFERROR('URC VAR'!C554*-1,\"\")","v":""},{"$f":"IFERROR(IF(AND(C555=\"\",C554<>\"\"),0,IF(D555+C555>0,D555+C555,0)*VLOOKUP(MONTH(B554),'NRI (Auto)'!$R$6:$T$17,3,0)),\"\")","v":""},{"$f":"IFERROR(NRI!$P$3+D554,\"\")","v":""},{"$error":"#DIV/0!"}]
[11,{"$f":"'URC VAR'!B555","v":"2031-11-01"},{"$f":"IFERROR('URC VAR'!C555*-1,\"\")","v":""},{"$f":"IFERROR(IF(AND(C556=\"\",C555<>\"\"),0,IF(D556+C556>0,D556+C556,0)*VLOOKUP(MONTH(B555),'NRI (Auto)'!$R$6:$T$17,3,0)),\"\")","v":""},{"$f":"IFERROR(NRI!$P$3+D555,\"\")","v":""},{"$error":"#DIV/0!"}]
[12,{"$f":"'URC VAR'!B556","v":"2031-12-01"},{"$f":"IFERROR('URC VAR'!C556*-1,\"\")","v":""},{"$f":"IFERROR(IF(AND(C557=\"\",C556<>\"\"),0,IF(D557+C557>0,D557+C557,0)*VLOOKUP(MONTH(B556),'NRI (Auto)'!$R$6:$T$17,3,0)),\"\")","v":""},{"$f":"IFERROR(NRI!$P$3+D556,\"\")","v":""},{"$error":"#DIV/0!"}]
[1,{"$f":"'URC VAR'!B557","v":"2032-01-01"},{"$f":"IFERROR('URC VAR'!C557*-1,\"\")","v":""},{"$f":"IFERROR(IF(AND(C558=\"\",C557<>\"\"),0,IF(D558+C558>0,D558+C558,0)*VLOOKUP(MONTH(B557),'NRI (Auto)'!$R$6:$T$17,3,0)),\"\")","v":""},{"$f":"IFERROR(NRI!$P$3+D557,\"\")","v":""},{"$error":"#DIV/0!"}]
[2,{"$f":"'URC VAR'!B558","v":"2032-02-01"},{"$f":"IFERROR('URC VAR'!C558*-1,\"\")","v":""},{"$f":"IFERROR(IF(AND(C559=\"\",C558<>\"\"),0,IF(D559+C559>0,D559+C559,0)*VLOOKUP(MONTH(B558),'NRI (Auto)'!$R$6:$T$17,3,0)),\"\")","v":""},{"$f":"IFERROR(NRI!$P$3+D558,\"\")","v":""},{"$error":"#DIV/0!"}]
[3,{"$f":"'URC VAR'!B559","v":"2032-03-01"},{"$f":"IFERROR('URC VAR'!C559*-1,\"\")","v":""},{"$f":"IFERROR(IF(AND(C560=\"\",C559<>\"\"),0,IF(D560+C560>0,D560+C560,0)*VLOOKUP(MONTH(B559),'NRI (Auto)'!$R$6:$T$17,3,0)),\"\")","v":""},{"$f":"IFERROR(NRI!$P$3+D559,\"\")","v":""},{"$error":"#DIV/0!"}]
[4,{"$f":"'URC VAR'!B560","v":"2032-04-01"},{"$f":"IFERROR('URC VAR'!C560*-1,\"\")","v":""},{"$f":"IFERROR(IF(AND(C561=\"\",C560<>\"\"),0,IF(D561+C561>0,D561+C561,0)*VLOOKUP(MONTH(B560),'NRI (Auto)'!$R$6:$T$17,3,0)),\"\")","v":""},{"$f":"IFERROR(NRI!$P$3+D560,\"\")","v":""},{"$error":"#DIV/0!"}]
[5,{"$f":"'URC VAR'!B561","v":"2032-05-01"},{"$f":"IFERROR('URC VAR'!C561*-1,\"\")","v":""},{"$f":"IFERROR(IF(AND(C562=\"\",C561<>\"\"),0,IF(D562+C562>0,D562+C562,0)*VLOOKUP(MONTH(B561),'NRI (Auto)'!$R$6:$T$17,3,0)),\"\")","v":""},{"$f":"IFERROR(NRI!$P$3+D561,\"\")","v":""},{"$error":"#DIV/0!"}]
[6,{"$f":"'URC VAR'!B562","v":"2032-06-01"},{"$f":"IFERROR('URC VAR'!C562*-1,\"\")","v":""},{"$f":"IFERROR(IF(AND(C563=\"\",C562<>\"\"),0,IF(D563+C563>0,D563+C563,0)*VLOOKUP(MONTH(B562),'NRI (Auto)'!$R$6:$T$17,3,0)),\"\")","v":""},{"$f":"IFERROR(NRI!$P$3+D562,\"\")","v":""},{"$error":"#DIV/0!"}]
[7,{"$f":"'URC VAR'!B563","v":"2032-07-01"},{"$f":"IFERROR('URC VAR'!C563*-1,\"\")","v":""},{"$f":"IFERROR(IF(AND(C564=\"\",C563<>\"\"),0,IF(D564+C564>0,D564+C564,0)*VLOOKUP(MONTH(B563),'NRI (Auto)'!$R$6:$T$17,3,0)),\"\")","v":""},{"$f":"IFERROR(NRI!$P$3+D563,\"\")","v":""},{"$error":"#DIV/0!"}]
[8,{"$f":"'URC VAR'!B564","v":"2032-08-01"},{"$f":"IFERROR('URC VAR'!C564*-1,\"\")","v":""},{"$f":"IFERROR(IF(AND(C565=\"\",C564<>\"\"),0,IF(D565+C565>0,D565+C565,0)*VLOOKUP(MONTH(B564),'NRI (Auto)'!$R$6:$T$17,3,0)),\"\")","v":""},{"$f":"IFERROR(NRI!$P$3+D564,\"\")","v":""},{"$error":"#DIV/0!"}]
[9,{"$f":"'URC VAR'!B565","v":"2032-09-01"},{"$f":"IFERROR('URC VAR'!C565*-1,\"\")","v":""},{"$f":"IFERROR(IF(AND(C566=\"\",C565<>\"\"),0,IF(D566+C566>0,D566+C566,0)*VLOOKUP(MONTH(B565),'NRI (Auto)'!$R$6:$T$17,3,0)),\"\")","v":""},{"$f":"IFERROR(NRI!$P$3+D565,\"\")","v":""},{"$error":"#DIV/0!"}]
[10,{"$f":"'URC VAR'!B566","v":"2032-10-01"},{"$f":"IFERROR('URC VAR'!C566*-1,\"\")","v":""},{"$f":"IFERROR(IF(AND(C567=\"\",C566<>\"\"),0,IF(D567+C567>0,D567+C567,0)*VLOOKUP(MONTH(B566),'NRI (Auto)'!$R$6:$T$17,3,0)),\"\")","v":""},{"$f":"IFERROR(NRI!$P$3+D566,\"\")","v":""},{"$error":"#DIV/0!"}]
[11,{"$f":"'URC VAR'!B567","v":"2032-11-01"},{"$f":"IFERROR('URC VAR'!C567*-1,\"\")","v":""},{"$f":"IFERROR(IF(AND(C568=\"\",C567<>\"\"),0,IF(D568+C568>0,D568+C568,0)*VLOOKUP(MONTH(B567),'NRI (Auto)'!$R$6:$T$17,3,0)),\"\")","v":""},{"$f":"IFERROR(NRI!$P$3+D567,\"\")","v":""},{"$error":"#DIV/0!"}]
[12,{"$f":"'URC VAR'!B568","v":"2032-12-01"},{"$f":"IFERROR('URC VAR'!C568*-1,\"\")","v":""},{"$f":"IFERROR(IF(AND(C569=\"\",C568<>\"\"),0,IF(D569+C569>0,D569+C569,0)*VLOOKUP(MONTH(B568),'NRI (Auto)'!$R$6:$T$17,3,0)),\"\")","v":""},{"$f":"IFERROR(NRI!$P$3+D568,\"\")","v":""},{"$error":"#DIV/0!"}]
[1,{"$f":"'URC VAR'!B569","v":"2033-01-01"},{"$f":"IFERROR('URC VAR'!C569*-1,\"\")","v":""},{"$f":"IFERROR(IF(AND(C570=\"\",C569<>\"\"),0,IF(D570+C570>0,D570+C570,0)*VLOOKUP(MONTH(B569),'NRI (Auto)'!$R$6:$T$17,3,0)),\"\")","v":""},{"$f":"IFERROR(NRI!$P$3+D569,\"\")","v":""},{"$error":"#DIV/0!"}]
[2,{"$f":"'URC VAR'!B570","v":"2033-02-01"},{"$f":"IFERROR('URC VAR'!C570*-1,\"\")","v":""},{"$f":"IFERROR(IF(AND(C571=\"\",C570<>\"\"),0,IF(D571+C571>0,D571+C571,0)*VLOOKUP(MONTH(B570),'NRI (Auto)'!$R$6:$T$17,3,0)),\"\")","v":""},{"$f":"IFERROR(NRI!$P$3+D570,\"\")","v":""},{"$error":"#DIV/0!"}]
[3,{"$f":"'URC VAR'!B571","v":"2033-03-01"},{"$f":"IFERROR('URC VAR'!C571*-1,\"\")","v":""},{"$f":"IFERROR(IF(AND(C572=\"\",C571<>\"\"),0,IF(D572+C572>0,D572+C572,0)*VLOOKUP(MONTH(B571),'NRI (Auto)'!$R$6:$T$17,3,0)),\"\")","v":""},{"$f":"IFERROR(NRI!$P$3+D571,\"\")","v":""},{"$error":"#DIV/0!"}]
[4,{"$f":"'URC VAR'!B572","v":"2033-04-01"},{"$f":"IFERROR('URC VAR'!C572*-1,\"\")","v":""},{"$f":"IFERROR(IF(AND(C573=\"\",C572<>\"\"),0,IF(D573+C573>0,D573+C573,0)*VLOOKUP(MONTH(B572),'NRI (Auto)'!$R$6:$T$17,3,0)),\"\")","v":""},{"$f":"IFERROR(NRI!$P$3+D572,\"\")","v":""},{"$error":"#DIV/0!"}]
[5,{"$f":"'URC VAR'!B573","v":"2033-05-01"},{"$f":"IFERROR('URC VAR'!C573*-1,\"\")","v":""},{"$f":"IFERROR(IF(AND(C574=\"\",C573<>\"\"),0,IF(D574+C574>0,D574+C574,0)*VLOOKUP(MONTH(B573),'NRI (Auto)'!$R$6:$T$17,3,0)),\"\")","v":""},{"$f":"IFERROR(NRI!$P$3+D573,\"\")","v":""},{"$error":"#DIV/0!"}]
[6,{"$f":"'URC VAR'!B574","v":"2033-06-01"},{"$f":"IFERROR('URC VAR'!C574*-1,\"\")","v":""},{"$f":"IFERROR(IF(AND(C575=\"\",C574<>\"\"),0,IF(D575+C575>0,D575+C575,0)*VLOOKUP(MONTH(B574),'NRI (Auto)'!$R$6:$T$17,3,0)),\"\")","v":""},{"$f":"IFERROR(NRI!$P$3+D574,\"\")","v":""},{"$error":"#DIV/0!"}]
[7,{"$f":"'URC VAR'!B575","v":"2033-07-01"},{"$f":"IFERROR('URC VAR'!C575*-1,\"\")","v":""},{"$f":"IFERROR(IF(AND(C576=\"\",C575<>\"\"),0,IF(D576+C576>0,D576+C576,0)*VLOOKUP(MONTH(B575),'NRI (Auto)'!$R$6:$T$17,3,0)),\"\")","v":""},{"$f":"IFERROR(NRI!$P$3+D575,\"\")","v":""},{"$error":"#DIV/0!"}]
[8,{"$f":"'URC VAR'!B576","v":"2033-08-01"},{"$f":"IFERROR('URC VAR'!C576*-1,\"\")","v":""},{"$f":"IFERROR(IF(AND(C577=\"\",C576<>\"\"),0,IF(D577+C577>0,D577+C577,0)*VLOOKUP(MONTH(B576),'NRI (Auto)'!$R$6:$T$17,3,0)),\"\")","v":""},{"$f":"IFERROR(NRI!$P$3+D576,\"\")","v":""},{"$error":"#DIV/0!"}]
[9,{"$f":"'URC VAR'!B577","v":"2033-09-01"},{"$f":"IFERROR('URC VAR'!C577*-1,\"\")","v":""},{"$f":"IFERROR(IF(AND(C578=\"\",C577<>\"\"),0,IF(D578+C578>0,D578+C578,0)*VLOOKUP(MONTH(B577),'NRI (Auto)'!$R$6:$T$17,3,0)),\"\")","v":""},{"$f":"IFERROR(NRI!$P$3+D577,\"\")","v":""},{"$error":"#DIV/0!"}]
[10,{"$f":"'URC VAR'!B578","v":"2033-10-01"},{"$f":"IFERROR('URC VAR'!C578*-1,\"\")","v":""},{"$f":"IFERROR(IF(AND(C579=\"\",C578<>\"\"),0,IF(D579+C579>0,D579+C579,0)*VLOOKUP(MONTH(B578),'NRI (Auto)'!$R$6:$T$17,3,0)),\"\")","v":""},{"$f":"IFERROR(NRI!$P$3+D578,\"\")","v":""},{"$error":"#DIV/0!"}]
[11,{"$f":"'URC VAR'!B579","v":"2033-11-01"},{"$f":"IFERROR('URC VAR'!C579*-1,\"\")","v":""},{"$f":"IFERROR(IF(AND(C580=\"\",C579<>\"\"),0,IF(D580+C580>0,D580+C580,0)*VLOOKUP(MONTH(B579),'NRI (Auto)'!$R$6:$T$17,3,0)),\"\")","v":""},{"$f":"IFERROR(NRI!$P$3+D579,\"\")","v":""},{"$error":"#DIV/0!"}]
[12,{"$f":"'URC VAR'!B580","v":"2033-12-01"},{"$f":"IFERROR('URC VAR'!C580*-1,\"\")","v":""},{"$f":"IFERROR(IF(AND(C581=\"\",C580<>\"\"),0,IF(D581+C581>0,D581+C581,0)*VLOOKUP(MONTH(B580),'NRI (Auto)'!$R$6:$T$17,3,0)),\"\")","v":""},{"$f":"IFERROR(NRI!$P$3+D580,\"\")","v":""},{"$error":"#DIV/0!"}]
[1,{"$f":"'URC VAR'!B581","v":"2034-01-01"},{"$f":"IFERROR('URC VAR'!C581*-1,\"\")","v":""},{"$f":"IFERROR(IF(AND(C582=\"\",C581<>\"\"),0,IF(D582+C582>0,D582+C582,0)*VLOOKUP(MONTH(B581),'NRI (Auto)'!$R$6:$T$17,3,0)),\"\")","v":""},{"$f":"IFERROR(NRI!$P$3+D581,\"\")","v":""},{"$error":"#DIV/0!"}]
[2,{"$f":"'URC VAR'!B582","v":"2034-02-01"},{"$f":"IFERROR('URC VAR'!C582*-1,\"\")","v":""},{"$f":"IFERROR(IF(AND(C583=\"\",C582<>\"\"),0,IF(D583+C583>0,D583+C583,0)*VLOOKUP(MONTH(B582),'NRI (Auto)'!$R$6:$T$17,3,0)),\"\")","v":""},{"$f":"IFERROR(NRI!$P$3+D582,\"\")","v":""},{"$error":"#DIV/0!"}]
[3,{"$f":"'URC VAR'!B583","v":"2034-03-01"},{"$f":"IFERROR('URC VAR'!C583*-1,\"\")","v":""},{"$f":"IFERROR(IF(AND(C584=\"\",C583<>\"\"),0,IF(D584+C584>0,D584+C584,0)*VLOOKUP(MONTH(B583),'NRI (Auto)'!$R$6:$T$17,3,0)),\"\")","v":""},{"$f":"IFERROR(NRI!$P$3+D583,\"\")","v":""},{"$error":"#DIV/0!"}]
[4,{"$f":"'URC VAR'!B584","v":"2034-04-01"},{"$f":"IFERROR('URC VAR'!C584*-1,\"\")","v":""},{"$f":"IFERROR(IF(AND(C585=\"\",C584<>\"\"),0,IF(D585+C585>0,D585+C585,0)*VLOOKUP(MONTH(B584),'NRI (Auto)'!$R$6:$T$17,3,0)),\"\")","v":""},{"$f":"IFERROR(NRI!$P$3+D584,\"\")","v":""},{"$error":"#DIV/0!"}]
[5,{"$f":"'URC VAR'!B585","v":"2034-05-01"},{"$f":"IFERROR('URC VAR'!C585*-1,\"\")","v":""},{"$f":"IFERROR(IF(AND(C586=\"\",C585<>\"\"),0,IF(D586+C586>0,D586+C586,0)*VLOOKUP(MONTH(B585),'NRI (Auto)'!$R$6:$T$17,3,0)),\"\")","v":""},{"$f":"IFERROR(NRI!$P$3+D585,\"\")","v":""},{"$error":"#DIV/0!"}]
[6,{"$f":"'URC VAR'!B586","v":"2034-06-01"},{"$f":"IFERROR('URC VAR'!C586*-1,\"\")","v":""},{"$f":"IFERROR(IF(AND(C587=\"\",C586<>\"\"),0,IF(D587+C587>0,D587+C587,0)*VLOOKUP(MONTH(B586),'NRI (Auto)'!$R$6:$T$17,3,0)),\"\")","v":""},{"$f":"IFERROR(NRI!$P$3+D586,\"\")","v":""},{"$error":"#DIV/0!"}]
[7,{"$f":"'URC VAR'!B587","v":"2034-07-01"},{"$f":"IFERROR('URC VAR'!C587*-1,\"\")","v":""},{"$f":"IFERROR(IF(AND(C588=\"\",C587<>\"\"),0,IF(D588+C588>0,D588+C588,0)*VLOOKUP(MONTH(B587),'NRI (Auto)'!$R$6:$T$17,3,0)),\"\")","v":""},{"$f":"IFERROR(NRI!$P$3+D587,\"\")","v":""},{"$error":"#DIV/0!"}]
[8,{"$f":"'URC VAR'!B588","v":"2034-08-01"},{"$f":"IFERROR('URC VAR'!C588*-1,\"\")","v":""},{"$f":"IFERROR(IF(AND(C589=\"\",C588<>\"\"),0,IF(D589+C589>0,D589+C589,0)*VLOOKUP(MONTH(B588),'NRI (Auto)'!$R$6:$T$17,3,0)),\"\")","v":""},{"$f":"IFERROR(NRI!$P$3+D588,\"\")","v":""},{"$error":"#DIV/0!"}]
[9,{"$f":"'URC VAR'!B589","v":"2034-09-01"},{"$f":"IFERROR('URC VAR'!C589*-1,\"\")","v":""},{"$f":"IFERROR(IF(AND(C590=\"\",C589<>\"\"),0,IF(D590+C590>0,D590+C590,0)*VLOOKUP(MONTH(B589),'NRI (Auto)'!$R$6:$T$17,3,0)),\"\")","v":""},{"$f":"IFERROR(NRI!$P$3+D589,\"\")","v":""},{"$error":"#DIV/0!"}]
[10,{"$f":"'URC VAR'!B590","v":"2034-10-01"},{"$f":"IFERROR('URC VAR'!C590*-1,\"\")","v":""},{"$f":"IFERROR(IF(AND(C591=\"\",C590<>\"\"),0,IF(D591+C591>0,D591+C591,0)*VLOOKUP(MONTH(B590),'NRI (Auto)'!$R$6:$T$17,3,0)),\"\")","v":""},{"$f":"IFERROR(NRI!$P$3+D590,\"\")","v":""},{"$error":"#DIV/0!"}]
[11,{"$f":"'URC VAR'!B591","v":"2034-11-01"},{"$f":"IFERROR('URC VAR'!C591*-1,\"\")","v":""},{"$f":"IFERROR(IF(AND(C592=\"\",C591<>\"\"),0,IF(D592+C592>0,D592+C592,0)*VLOOKUP(MONTH(B591),'NRI (Auto)'!$R$6:$T$17,3,0)),\"\")","v":""},{"$f":"IFERROR(NRI!$P$3+D591,\"\")","v":""},{"$error":"#DIV/0!"}]
[12,{"$f":"'URC VAR'!B592","v":"2034-12-01"},{"$f":"IFERROR('URC VAR'!C592*-1,\"\")","v":""},{"$f":"IFERROR(IF(AND(C593=\"\",C592<>\"\"),0,IF(D593+C593>0,D593+C593,0)*VLOOKUP(MONTH(B592),'NRI (Auto)'!$R$6:$T$17,3,0)),\"\")","v":""},{"$f":"IFERROR(NRI!$P$3+D592,\"\")","v":""},{"$error":"#DIV/0!"}]
[1,{"$f":"'URC VAR'!B593","v":"2035-01-01"},{"$f":"IFERROR('URC VAR'!C593*-1,\"\")","v":""},{"$f":"IFERROR(IF(AND(C594=\"\",C593<>\"\"),0,IF(D594+C594>0,D594+C594,0)*VLOOKUP(MONTH(B593),'NRI (Auto)'!$R$6:$T$17,3,0)),\"\")","v":""},{"$f":"IFERROR(NRI!$P$3+D593,\"\")","v":""},{"$error":"#DIV/0!"}]
[2,{"$f":"'URC VAR'!B594","v":"2035-02-01"},{"$f":"IFERROR('URC VAR'!C594*-1,\"\")","v":""},{"$f":"IFERROR(IF(AND(C595=\"\",C594<>\"\"),0,IF(D595+C595>0,D595+C595,0)*VLOOKUP(MONTH(B594),'NRI (Auto)'!$R$6:$T$17,3,0)),\"\")","v":""},{"$f":"IFERROR(NRI!$P$3+D594,\"\")","v":""},{"$f":"+F582","v":{"$error":"#DIV/0!"}}]
[3,{"$f":"'URC VAR'!B595","v":"2035-03-01"},{"$f":"IFERROR('URC VAR'!C595*-1,\"\")","v":""},{"$f":"IFERROR(IF(AND(C596=\"\",C595<>\"\"),0,IF(D596+C596>0,D596+C596,0)*VLOOKUP(MONTH(B595),'NRI (Auto)'!$R$6:$T$17,3,0)),\"\")","v":""},{"$f":"IFERROR(NRI!$P$3+D595,\"\")","v":""},{"$error":"#DIV/0!"}]
[4,{"$f":"'URC VAR'!B596","v":"2035-04-01"},{"$f":"IFERROR('URC VAR'!C596*-1,\"\")","v":""},{"$f":"IFERROR(IF(AND(C597=\"\",C596<>\"\"),0,IF(D597+C597>0,D597+C597,0)*VLOOKUP(MONTH(B596),'NRI (Auto)'!$R$6:$T$17,3,0)),\"\")","v":""},{"$f":"IFERROR(NRI!$P$3+D596,\"\")","v":""},{"$error":"#DIV/0!"}]
[5,{"$f":"'URC VAR'!B597","v":"2035-05-01"},{"$f":"IFERROR('URC VAR'!C597*-1,\"\")","v":""},{"$f":"IFERROR(IF(AND(C598=\"\",C597<>\"\"),0,IF(D598+C598>0,D598+C598,0)*VLOOKUP(MONTH(B597),'NRI (Auto)'!$R$6:$T$17,3,0)),\"\")","v":""},{"$f":"IFERROR(NRI!$P$3+D597,\"\")","v":""},{"$error":"#DIV/0!"}]
[6,{"$f":"'URC VAR'!B598","v":"2035-06-01"},{"$f":"IFERROR('URC VAR'!C598*-1,\"\")","v":""},{"$f":"IFERROR(IF(AND(C599=\"\",C598<>\"\"),0,IF(D599+C599>0,D599+C599,0)*VLOOKUP(MONTH(B598),'NRI (Auto)'!$R$6:$T$17,3,0)),\"\")","v":""},{"$f":"IFERROR(NRI!$P$3+D598,\"\")","v":""},{"$error":"#DIV/0!"}]
[7,{"$f":"'URC VAR'!B599","v":"2035-07-01"},{"$f":"IFERROR('URC VAR'!C599*-1,\"\")","v":""},{"$f":"IFERROR(IF(AND(C600=\"\",C599<>\"\"),0,IF(D600+C600>0,D600+C600,0)*VLOOKUP(MONTH(B599),'NRI (Auto)'!$R$6:$T$17,3,0)),\"\")","v":""},{"$f":"IFERROR(NRI!$P$3+D599,\"\")","v":""},{"$error":"#DIV/0!"}]
[8,{"$f":"'URC VAR'!B600","v":"2035-08-01"},{"$f":"IFERROR('URC VAR'!C600*-1,\"\")","v":""},{"$f":"IFERROR(IF(AND(C601=\"\",C600<>\"\"),0,IF(D601+C601>0,D601+C601,0)*VLOOKUP(MONTH(B600),'NRI (Auto)'!$R$6:$T$17,3,0)),\"\")","v":""},{"$f":"IFERROR(NRI!$P$3+D600,\"\")","v":""},{"$error":"#DIV/0!"}]
[9,{"$f":"'URC VAR'!B601","v":"2035-09-01"},{"$f":"IFERROR('URC VAR'!C601*-1,\"\")","v":""},{"$f":"IFERROR(IF(AND(C602=\"\",C601<>\"\"),0,IF(D602+C602>0,D602+C602,0)*VLOOKUP(MONTH(B601),'NRI (Auto)'!$R$6:$T$17,3,0)),\"\")","v":""},{"$f":"IFERROR(NRI!$P$3+D601,\"\")","v":""},{"$error":"#DIV/0!"}]
[10,{"$f":"'URC VAR'!B602","v":"2035-10-01"},{"$f":"IFERROR('URC VAR'!C602*-1,\"\")","v":""},{"$f":"IFERROR(IF(AND(C603=\"\",C602<>\"\"),0,IF(D603+C603>0,D603+C603,0)*VLOOKUP(MONTH(B602),'NRI (Auto)'!$R$6:$T$17,3,0)),\"\")","v":""},{"$f":"IFERROR(NRI!$P$3+D602,\"\")","v":""},{"$error":"#DIV/0!"}]
[11,{"$f":"'URC VAR'!B603","v":"2035-11-01"},{"$f":"IFERROR('URC VAR'!C603*-1,\"\")","v":""},{"$f":"IFERROR(IF(AND(C604=\"\",C603<>\"\"),0,IF(D604+C604>0,D604+C604,0)*VLOOKUP(MONTH(B603),'NRI (Auto)'!$R$6:$T$17,3,0)),\"\")","v":""},{"$f":"IFERROR(NRI!$P$3+D603,\"\")","v":""},{"$error":"#DIV/0!"}]
[12,{"$f":"'URC VAR'!B604","v":"2035-12-01"},{"$f":"IFERROR('URC VAR'!C604*-1,\"\")","v":""},{"$f":"IF(C604<>\"\",0,\"\")","v":""},{"$f":"IFERROR(NRI!$P$3+D604,\"\")","v":""},{"$error":"#DIV/0!"}]
["Mean",null,{"$f":"AVERAGE(C5:C604)","v":0},{"$f":"AVERAGE(D5:D604)","v":0},{"$f":"AVERAGE(E5:E604)","v":0}]
["Stdev.",null,{"$f":"STDEV(C5:C604)","v":0},{"$f":"STDEV(D5:D604)","v":{"$error":"#DIV/0!"}},{"$f":"STDEV(E5:E604)","v":{"$error":"#DIV/0!"}}]
["Skewness",null,{"$f":"SKEW(C5:C604)","v":{"$error":"#DIV/0!"}},{"$f":"SKEW(D5:D604)","v":{"$error":"#DIV/0!"}},{"$f":"SKEW(E5:E604)","v":{"$error":"#DIV/0!"}}]

{"sheet":"Rule Curve","index":23,"n_rows":389,"n_cols":54,"rows_kept":389,"cut":false,"hidden":false,"merged":[[22,2,22,7],[1,25,1,34],[2,8,2,13],[22,8,22,13],[4,26,5,26],[22,29,22,31],[22,32,22,34],[22,14,22,15],[22,16,22,17],[4,49,4,51],[6,25,17,25],[4,41,4,43],[3,31,3,34],[3,27,3,30],[3,39,3,45],[3,47,3,53]]}
[]
[null,{"$f":"\"ขั้นตอนที่ 9 สร้างโค้งปฏิบัติงาน\"&NRI!O1","v":"ขั้นตอนที่ 9 สร้างโค้งปฏิบัติงาน"},null,null,null,null,null,null,null,null,null,null,null,null,null,null,null,null,null,null,null,null,null,null,null,"ขั้นตอนที่ 10 รายละเอียดข้อมูลต่างๆที่ได้",null,null,null,null,null,null,null,null,null,null,null,null,null,null,null,"เก็บกักปกติ",{"$f":"NRI!P2","v":0}]
[null,"ปริมาณน้ำ",null,null,null,null,null,null,"ระดับน้ำ",null,null,null,null,null,null,null,null,null,null,null,null,null,null,null,null,null,null,null,null,null,null,null,null,"จำนวนปี",{"$f":"'หา NRI'!D58","v":4},null,null,null,null,null,null,"เก็บกักต่ำสุด",{"$f":"NRI!P3","v":0}]
[null,"เดือน",null,"UPPER RULE CURVES",null,null,"LOWER RULE CURVES",null,null,"UPPER RULE CURVES",null,null,"LOWER RULE CURVES",null,"Hec3","Hec3","Hec3","Hec3",null,null,null,null,null,null,null,null,null,"ปริมาณน้ำเฉลี่ยรายเดือน",null,null,null,"ระดับน้ำเฉลี่ยรายเดือน",null,null,null,null,null,null,null,"ปริมาณ",null,null,null,null,null,null,null,"ระดับ"]
[null,null,null,"RISK",null,null,"RISK",null,null,"RISK",null,null,"RISK",null,"URC","LRC","URC","LRC",null,null,null,null,null,null,null,null,"เดือน","ปีน้ำแล้ง 20%","ปีน้ำมาก 80%","น้ำแล้ง 20%","น้ำมาก 80%","ปีน้ำแล้ง 20%","ปีน้ำมาก 80%","น้ำแล้ง 20%","น้ำมาก 80%",null,null,null,null,null,null,"จากชีต หา NRI",null,null,"น้ำแล้ง 20%","น้ำมาก 80%",null,null,null,"จากชีต หา NRI",null,null,"น้ำแล้ง 20%","น้ำมาก 80%"]
[null,null,0.05,0.1,0.15,0.05,0.1,0.15,0.05,0.1,0.15,0.05,0.1,0.15,"(Vol.)","(Vol.)","(Level)","(Level)",null,null,null,null,null,null,null,null,null,{"$f":"'หา NRI'!C60","v":{"$error":"#DIV/0!"}},{"$f":"'หา NRI'!D60","v":{"$error":"#DIV/0!"}},"ประจำเดือน","ประจำเดือน",{"$f":"AB6","v":{"$error":"#DIV/0!"}},{"$f":"AC6","v":{"$error":"#DIV/0!"}},"ประจำเดือน","ประจำเดือน",null,null,null,null,"เก็บกักปกติ","เก็บกักต่ำสุด",{"$f":"\"Average \"&'หา NRI'!D3+543&\"-\"&OFFSET('หา NRI'!C3,0,COUNT('หา NRI'!D3:IV3),1,1)+543","v":"Average 2529-2532"},{"$f":"\"ปีน้ำแล้ง \"&'หา NRI'!C60&\" (20%)\"","v":{"$error":"#DIV/0!"}},{"$f":"\"ปีน้ำท่วม \"&'หา NRI'!D60&\" (80%)\"","v":{"$error":"#DIV/0!"}},"ประจำเดือน","ประจำเดือน",null,"เก็บกักปกติ","เก็บกักต่ำสุด",{"$f":"\"Average \"&'หา NRI'!D3+543&\"-\"&OFFSET('หา NRI'!C3,0,COUNT('หา NRI'!D3:IV3),1,1)+543","v":"Average 2529-2532"},{"$f":"\"ปีน้ำแล้ง \"&'หา NRI'!C60&\" (20%)\"","v":{"$error":"#DIV/0!"}},{"$f":"\"ปีน้ำท่วม \"&'หา NRI'!D60&\" (80%)\"","v":{"$error":"#DIV/0!"}},"ประจำเดือน","ประจำเดือน"]
[null,"ม.ค.",{"$f":"'URC POP'!B81","v":{"$error":"#DIV/0!"}},{"$f":"'URC POP'!C81","v":{"$error":"#DIV/0!"}},{"$f":"'URC POP'!D81","v":{"$error":"#DIV/0!"}},{"$f":"'LRC POP'!P79","v":{"$error":"#DIV/0!"}},{"$f":"'LRC POP'!Q79","v":{"$error":"#DIV/0!"}},{"$f":"'LRC POP'!R79","v":{"$error":"#DIV/0!"}},{"$f":"OFFSET(EL_Area_Vol!$A$2,MATCH(C7,capacitycurve,1),0,1,1)+((OFFSET(EL_Area_Vol!$A$2,MATCH(C7,capacitycurve,1)+1,0,1,1)-OFFSET(EL_Area_Vol!$A$2,MATCH(C7,capacitycurve,1),0,1,1))*(C7-OFFSET(EL_Area_Vol!$A$2,MATCH(C7,capacitycurve,1),2,1,1))/(OFFSET(EL_Area_Vol!$A$2,MATCH(C7,capacitycurve,1)+1,2,1,1)-OFFSET(EL_Area_Vol!$A$2,MATCH(C7,capacitycurve,1),2,1,1)))","v":{"$error":"#DIV/0!"}},{"$f":"OFFSET(EL_Area_Vol!$A$2,MATCH(D7,capacitycurve,1),0,1,1)+((OFFSET(EL_Area_Vol!$A$2,MATCH(D7,capacitycurve,1)+1,0,1,1)-OFFSET(EL_Area_Vol!$A$2,MATCH(D7,capacitycurve,1),0,1,1))*(D7-OFFSET(EL_Area_Vol!$A$2,MATCH(D7,capacitycurve,1),2,1,1))/(OFFSET(EL_Area_Vol!$A$2,MATCH(D7,capacitycurve,1)+1,2,1,1)-OFFSET(EL_Area_Vol!$A$2,MATCH(D7,capacitycurve,1),2,1,1)))","v":{"$error":"#DIV/0!"}},{"$f":"OFFSET(EL_Area_Vol!$A$2,MATCH(E7,capacitycurve,1),0,1,1)+((OFFSET(EL_Area_Vol!$A$2,MATCH(E7,capacitycurve,1)+1,0,1,1)-OFFSET(EL_Area_Vol!$A$2,MATCH(E7,capacitycurve,1),0,1,1))*(E7-OFFSET(EL_Area_Vol!$A$2,MATCH(E7,capacitycurve,1),2,1,1))/(OFFSET(EL_Area_Vol!$A$2,MATCH(E7,capacitycurve,1)+1,2,1,1)-OFFSET(EL_Area_Vol!$A$2,MATCH(E7,capacitycurve,1),2,1,1)))","v":{"$error":"#DIV/0!"}},{"$f":"OFFSET(EL_Area_Vol!$A$2,MATCH(F7,capacitycurve,1),0,1,1)+((OFFSET(EL_Area_Vol!$A$2,MATCH(F7,capacitycurve,1)+1,0,1,1)-OFFSET(EL_Area_Vol!$A$2,MATCH(F7,capacitycurve,1),0,1,1))*(F7-OFFSET(EL_Area_Vol!$A$2,MATCH(F7,capacitycurve,1),2,1,1))/(OFFSET(EL_Area_Vol!$A$2,MATCH(F7,capacitycurve,1)+1,2,1,1)-OFFSET(EL_Area_Vol!$A$2,MATCH(F7,capacitycurve,1),2,1,1)))","v":{"$error":"#DIV/0!"}},{"$f":"OFFSET(EL_Area_Vol!$A$2,MATCH(G7,capacitycurve,1),0,1,1)+((OFFSET(EL_Area_Vol!$A$2,MATCH(G7,capacitycurve,1)+1,0,1,1)-OFFSET(EL_Area_Vol!$A$2,MATCH(G7,capacitycurve,1),0,1,1))*(G7-OFFSET(EL_Area_Vol!$A$2,MATCH(G7,capacitycurve,1),2,1,1))/(OFFSET(EL_Area_Vol!$A$2,MATCH(G7,capacitycurve,1)+1,2,1,1)-OFFSET(EL_Area_Vol!$A$2,MATCH(G7,capacitycurve,1),2,1,1)))","v":{"$error":"#DIV/0!"}},{"$f":"OFFSET(EL_Area_Vol!$A$2,MATCH(H7,capacitycurve,1),0,1,1)+((OFFSET(EL_Area_Vol!$A$2,MATCH(H7,capacitycurve,1)+1,0,1,1)-OFFSET(EL_Area_Vol!$A$2,MATCH(H7,capacitycurve,1),0,1,1))*(H7-OFFSET(EL_Area_Vol!$A$2,MATCH(H7,capacitycurve,1),2,1,1))/(OFFSET(EL_Area_Vol!$A$2,MATCH(H7,capacitycurve,1)+1,2,1,1)-OFFSET(EL_Area_Vol!$A$2,MATCH(H7,capacitycurve,1),2,1,1)))","v":{"$error":"#DIV/0!"}},{"$f":"OFFSET('Hec3'!$DC$3,0,ROW()-6,1,1)","v":0},{"$f":"OFFSET('Hec3'!$DC$4,0,ROW()-6,1,1)","v":0},{"$f":"OFFSET(EL_Area_Vol!$A$2,MATCH(O7,capacitycurve,1),0,1,1)+((OFFSET(EL_Area_Vol!$A$2,MATCH(O7,capacitycurve,1)+1,0,1,1)-OFFSET(EL_Area_Vol!$A$2,MATCH(O7,capacitycurve,1),0,1,1))*(O7-OFFSET(EL_Area_Vol!$A$2,MATCH(O7,capacitycurve,1),2,1,1))/(OFFSET(EL_Area_Vol!$A$2,MATCH(O7,capacitycurve,1)+1,2,1,1)-OFFSET(EL_Area_Vol!$A$2,MATCH(O7,capacitycurve,1),2,1,1)))","v":{"$error":"#N/A"}},{"$f":"OFFSET(EL_Area_Vol!$A$2,MATCH(P7,capacitycurve,1),0,1,1)+((OFFSET(EL_Area_Vol!$A$2,MATCH(P7,capacitycurve,1)+1,0,1,1)-OFFSET(EL_Area_Vol!$A$2,MATCH(P7,capacitycurve,1),0,1,1))*(P7-OFFSET(EL_Area_Vol!$A$2,MATCH(P7,capacitycurve,1),2,1,1))/(OFFSET(EL_Area_Vol!$A$2,MATCH(P7,capacitycurve,1)+1,2,1,1)-OFFSET(EL_Area_Vol!$A$2,MATCH(P7,capacitycurve,1),2,1,1)))","v":{"$error":"#N/A"}},null,null,null,null,null,null,null,null,"ม.ค.",{"$f":"'หา NRI'!C61","v":{"$error":"#DIV/0!"}},{"$f":"'หา NRI'!D61","v":{"$error":"#DIV/0!"}},{"$f":"'หา NRI'!E61","v":{"$error":"#DIV/0!"}},{"$f":"'หา NRI'!F61","v":{"$error":"#DIV/0!"}},{"$f":"OFFSET(EL_Area_Vol!$A$2,MATCH(AB7,capacitycurve,1),0,1,1)+((OFFSET(EL_Area_Vol!$A$2,MATCH(AB7,capacitycurve,1)+1,0,1,1)-OFFSET(EL_Area_Vol!$A$2,MATCH(AB7,capacitycurve,1),0,1,1))*(AB7-OFFSET(EL_Area_Vol!$A$2,MATCH(AB7,capacitycurve,1),2,1,1))/(OFFSET(EL_Area_Vol!$A$2,MATCH(AB7,capacitycurve,1)+1,2,1,1)-OFFSET(EL_Area_Vol!$A$2,MATCH(AB7,capacitycurve,1),2,1,1)))","v":{"$error":"#DIV/0!"}},{"$f":"OFFSET(EL_Area_Vol!$A$2,MATCH(AC7,capacitycurve,1),0,1,1)+((OFFSET(EL_Area_Vol!$A$2,MATCH(AC7,capacitycurve,1)+1,0,1,1)-OFFSET(EL_Area_Vol!$A$2,MATCH(AC7,capacitycurve,1),0,1,1))*(AC7-OFFSET(EL_Area_Vol!$A$2,MATCH(AC7,capacitycurve,1),2,1,1))/(OFFSET(EL_Area_Vol!$A$2,MATCH(AC7,capacitycurve,1)+1,2,1,1)-OFFSET(EL_Area_Vol!$A$2,MATCH(AC7,capacitycurve,1),2,1,1)))","v":{"$error":"#DIV/0!"}},{"$f":"OFFSET(EL_Area_Vol!$A$2,MATCH(AD7,capacitycurve,1),0,1,1)+((OFFSET(EL_Area_Vol!$A$2,MATCH(AD7,capacitycurve,1)+1,0,1,1)-OFFSET(EL_Area_Vol!$A$2,MATCH(AD7,capacitycurve,1),0,1,1))*(AD7-OFFSET(EL_Area_Vol!$A$2,MATCH(AD7,capacitycurve,1),2,1,1))/(OFFSET(EL_Area_Vol!$A$2,MATCH(AD7,capacitycurve,1)+1,2,1,1)-OFFSET(EL_Area_Vol!$A$2,MATCH(AD7,capacitycurve,1),2,1,1)))","v":{"$error":"#DIV/0!"}},{"$f":"OFFSET(EL_Area_Vol!$A$2,MATCH(AE7,capacitycurve,1),0,1,1)+((OFFSET(EL_Area_Vol!$A$2,MATCH(AE7,capacitycurve,1)+1,0,1,1)-OFFSET(EL_Area_Vol!$A$2,MATCH(AE7,capacitycurve,1),0,1,1))*(AE7-OFFSET(EL_Area_Vol!$A$2,MATCH(AE7,capacitycurve,1),2,1,1))/(OFFSET(EL_Area_Vol!$A$2,MATCH(AE7,capacitycurve,1)+1,2,1,1)-OFFSET(EL_Area_Vol!$A$2,MATCH(AE7,capacitycurve,1),2,1,1)))","v":{"$error":"#DIV/0!"}},null,null,null,1,{"$f":"$AQ$2","v":0},{"$f":"$AQ$3","v":0},{"$f":"'หา NRI'!C18","v":{"$error":"#DIV/0!"}},{"$f":"'หา NRI'!C61","v":{"$error":"#DIV/0!"}},{"$f":"'หา NRI'!D61","v":{"$error":"#DIV/0!"}},{"$f":"AD7","v":{"$error":"#DIV/0!"}},{"$f":"AE7","v":{"$error":"#DIV/0!"}},null,{"$f":"OFFSET(EL_Area_Vol!$A$2,MATCH(AN7,capacitycurve,1),0,1,1)+((OFFSET(EL_Area_Vol!$A$2,MATCH(AN7,capacitycurve,1)+1,0,1,1)-OFFSET(EL_Area_Vol!$A$2,MATCH(AN7,capacitycurve,1),0,1,1))*(AN7-OFFSET(EL_Area_Vol!$A$2,MATCH(AN7,capacitycurve,1),2,1,1))/(OFFSET(EL_Area_Vol!$A$2,MATCH(AN7,capacitycurve,1)+1,2,1,1)-OFFSET(EL_Area_Vol!$A$2,MATCH(AN7,capacitycurve,1),2,1,1)))","v":{"$error":"#N/A"}},{"$f":"OFFSET(EL_Area_Vol!$A$2,MATCH(AO7,capacitycurve,1),0,1,1)+((OFFSET(EL_Area_Vol!$A$2,MATCH(AO7,capacitycurve,1)+1,0,1,1)-OFFSET(EL_Area_Vol!$A$2,MATCH(AO7,capacitycurve,1),0,1,1))*(AO7-OFFSET(EL_Area_Vol!$A$2,MATCH(AO7,capacitycurve,1),2,1,1))/(OFFSET(EL_Area_Vol!$A$2,MATCH(AO7,capacitycurve,1)+1,2,1,1)-OFFSET(EL_Area_Vol!$A$2,MATCH(AO7,capacitycurve,1),2,1,1)))","v":{"$error":"#N/A"}},{"$f":"OFFSET(EL_Area_Vol!$A$2,MATCH(AP7,capacitycurve,1),0,1,1)+((OFFSET(EL_Area_Vol!$A$2,MATCH(AP7,capacitycurve,1)+1,0,1,1)-OFFSET(EL_Area_Vol!$A$2,MATCH(AP7,capacitycurve,1),0,1,1))*(AP7-OFFSET(EL_Area_Vol!$A$2,MATCH(AP7,capacitycurve,1),2,1,1))/(OFFSET(EL_Area_Vol!$A$2,MATCH(AP7,capacitycurve,1)+1,2,1,1)-OFFSET(EL_Area_Vol!$A$2,MATCH(AP7,capacitycurve,1),2,1,1)))","v":{"$error":"#DIV/0!"}},{"$f":"OFFSET(EL_Area_Vol!$A$2,MATCH(AQ7,capacitycurve,1),0,1,1)+((OFFSET(EL_Area_Vol!$A$2,MATCH(AQ7,capacitycurve,1)+1,0,1,1)-OFFSET(EL_Area_Vol!$A$2,MATCH(AQ7,capacitycurve,1),0,1,1))*(AQ7-OFFSET(EL_Area_Vol!$A$2,MATCH(AQ7,capacitycurve,1),2,1,1))/(OFFSET(EL_Area_Vol!$A$2,MATCH(AQ7,capacitycurve,1)+1,2,1,1)-OFFSET(EL_Area_Vol!$A$2,MATCH(AQ7,capacitycurve,1),2,1,1)))","v":{"$error":"#DIV/0!"}},{"$f":"OFFSET(EL_Area_Vol!$A$2,MATCH(AR7,capacitycurve,1),0,1,1)+((OFFSET(EL_Area_Vol!$A$2,MATCH(AR7,capacitycurve,1)+1,0,1,1)-OFFSET(EL_Area_Vol!$A$2,MATCH(AR7,capacitycurve,1),0,1,1))*(AR7-OFFSET(EL_Area_Vol!$A$2,MATCH(AR7,capacitycurve,1),2,1,1))/(OFFSET(EL_Area_Vol!$A$2,MATCH(AR7,capacitycurve,1)+1,2,1,1)-OFFSET(EL_Area_Vol!$A$2,MATCH(AR7,capacitycurve,1),2,1,1)))","v":{"$error":"#DIV/0!"}},{"$f":"OFFSET(EL_Area_Vol!$A$2,MATCH(AS7,capacitycurve,1),0,1,1)+((OFFSET(EL_Area_Vol!$A$2,MATCH(AS7,capacitycurve,1)+1,0,1,1)-OFFSET(EL_Area_Vol!$A$2,MATCH(AS7,capacitycurve,1),0,1,1))*(AS7-OFFSET(EL_Area_Vol!$A$2,MATCH(AS7,capacitycurve,1),2,1,1))/(OFFSET(EL_Area_Vol!$A$2,MATCH(AS7,capacitycurve,1)+1,2,1,1)-OFFSET(EL_Area_Vol!$A$2,MATCH(AS7,capacitycurve,1),2,1,1)))","v":{"$error":"#DIV/0!"}},{"$f":"OFFSET(EL_Area_Vol!$A$2,MATCH(AT7,capacitycurve,1),0,1,1)+((OFFSET(EL_Area_Vol!$A$2,MATCH(AT7,capacitycurve,1)+1,0,1,1)-OFFSET(EL_Area_Vol!$A$2,MATCH(AT7,capacitycurve,1),0,1,1))*(AT7-OFFSET(EL_Area_Vol!$A$2,MATCH(AT7,capacitycurve,1),2,1,1))/(OFFSET(EL_Area_Vol!$A$2,MATCH(AT7,capacitycurve,1)+1,2,1,1)-OFFSET(EL_Area_Vol!$A$2,MATCH(AT7,capacitycurve,1),2,1,1)))","v":{"$error":"#DIV/0!"}}]
[null,"ก.พ.",{"$f":"'URC POP'!B82","v":{"$error":"#DIV/0!"}},{"$f":"'URC POP'!C82","v":{"$error":"#DIV/0!"}},{"$f":"'URC POP'!D82","v":{"$error":"#DIV/0!"}},{"$f":"'LRC POP'!P80","v":{"$error":"#DIV/0!"}},{"$f":"'LRC POP'!Q80","v":{"$error":"#DIV/0!"}},{"$f":"'LRC POP'!R80","v":{"$error":"#DIV/0!"}},{"$f":"OFFSET(EL_Area_Vol!$A$2,MATCH(C8,capacitycurve,1),0,1,1)+((OFFSET(EL_Area_Vol!$A$2,MATCH(C8,capacitycurve,1)+1,0,1,1)-OFFSET(EL_Area_Vol!$A$2,MATCH(C8,capacitycurve,1),0,1,1))*(C8-OFFSET(EL_Area_Vol!$A$2,MATCH(C8,capacitycurve,1),2,1,1))/(OFFSET(EL_Area_Vol!$A$2,MATCH(C8,capacitycurve,1)+1,2,1,1)-OFFSET(EL_Area_Vol!$A$2,MATCH(C8,capacitycurve,1),2,1,1)))","v":{"$error":"#DIV/0!"}},{"$f":"OFFSET(EL_Area_Vol!$A$2,MATCH(D8,capacitycurve,1),0,1,1)+((OFFSET(EL_Area_Vol!$A$2,MATCH(D8,capacitycurve,1)+1,0,1,1)-OFFSET(EL_Area_Vol!$A$2,MATCH(D8,capacitycurve,1),0,1,1))*(D8-OFFSET(EL_Area_Vol!$A$2,MATCH(D8,capacitycurve,1),2,1,1))/(OFFSET(EL_Area_Vol!$A$2,MATCH(D8,capacitycurve,1)+1,2,1,1)-OFFSET(EL_Area_Vol!$A$2,MATCH(D8,capacitycurve,1),2,1,1)))","v":{"$error":"#DIV/0!"}},{"$f":"OFFSET(EL_Area_Vol!$A$2,MATCH(E8,capacitycurve,1),0,1,1)+((OFFSET(EL_Area_Vol!$A$2,MATCH(E8,capacitycurve,1)+1,0,1,1)-OFFSET(EL_Area_Vol!$A$2,MATCH(E8,capacitycurve,1),0,1,1))*(E8-OFFSET(EL_Area_Vol!$A$2,MATCH(E8,capacitycurve,1),2,1,1))/(OFFSET(EL_Area_Vol!$A$2,MATCH(E8,capacitycurve,1)+1,2,1,1)-OFFSET(EL_Area_Vol!$A$2,MATCH(E8,capacitycurve,1),2,1,1)))","v":{"$error":"#DIV/0!"}},{"$f":"OFFSET(EL_Area_Vol!$A$2,MATCH(F8,capacitycurve,1),0,1,1)+((OFFSET(EL_Area_Vol!$A$2,MATCH(F8,capacitycurve,1)+1,0,1,1)-OFFSET(EL_Area_Vol!$A$2,MATCH(F8,capacitycurve,1),0,1,1))*(F8-OFFSET(EL_Area_Vol!$A$2,MATCH(F8,capacitycurve,1),2,1,1))/(OFFSET(EL_Area_Vol!$A$2,MATCH(F8,capacitycurve,1)+1,2,1,1)-OFFSET(EL_Area_Vol!$A$2,MATCH(F8,capacitycurve,1),2,1,1)))","v":{"$error":"#DIV/0!"}},{"$f":"OFFSET(EL_Area_Vol!$A$2,MATCH(G8,capacitycurve,1),0,1,1)+((OFFSET(EL_Area_Vol!$A$2,MATCH(G8,capacitycurve,1)+1,0,1,1)-OFFSET(EL_Area_Vol!$A$2,MATCH(G8,capacitycurve,1),0,1,1))*(G8-OFFSET(EL_Area_Vol!$A$2,MATCH(G8,capacitycurve,1),2,1,1))/(OFFSET(EL_Area_Vol!$A$2,MATCH(G8,capacitycurve,1)+1,2,1,1)-OFFSET(EL_Area_Vol!$A$2,MATCH(G8,capacitycurve,1),2,1,1)))","v":{"$error":"#DIV/0!"}},{"$f":"OFFSET(EL_Area_Vol!$A$2,MATCH(H8,capacitycurve,1),0,1,1)+((OFFSET(EL_Area_Vol!$A$2,MATCH(H8,capacitycurve,1)+1,0,1,1)-OFFSET(EL_Area_Vol!$A$2,MATCH(H8,capacitycurve,1),0,1,1))*(H8-OFFSET(EL_Area_Vol!$A$2,MATCH(H8,capacitycurve,1),2,1,1))/(OFFSET(EL_Area_Vol!$A$2,MATCH(H8,capacitycurve,1)+1,2,1,1)-OFFSET(EL_Area_Vol!$A$2,MATCH(H8,capacitycurve,1),2,1,1)))","v":{"$error":"#DIV/0!"}},{"$f":"OFFSET('Hec3'!$DC$3,0,ROW()-6,1,1)","v":0},{"$f":"OFFSET('Hec3'!$DC$4,0,ROW()-6,1,1)","v":0},{"$f":"OFFSET(EL_Area_Vol!$A$2,MATCH(O8,capacitycurve,1),0,1,1)+((OFFSET(EL_Area_Vol!$A$2,MATCH(O8,capacitycurve,1)+1,0,1,1)-OFFSET(EL_Area_Vol!$A$2,MATCH(O8,capacitycurve,1),0,1,1))*(O8-OFFSET(EL_Area_Vol!$A$2,MATCH(O8,capacitycurve,1),2,1,1))/(OFFSET(EL_Area_Vol!$A$2,MATCH(O8,capacitycurve,1)+1,2,1,1)-OFFSET(EL_Area_Vol!$A$2,MATCH(O8,capacitycurve,1),2,1,1)))","v":{"$error":"#N/A"}},{"$f":"OFFSET(EL_Area_Vol!$A$2,MATCH(P8,capacitycurve,1),0,1,1)+((OFFSET(EL_Area_Vol!$A$2,MATCH(P8,capacitycurve,1)+1,0,1,1)-OFFSET(EL_Area_Vol!$A$2,MATCH(P8,capacitycurve,1),0,1,1))*(P8-OFFSET(EL_Area_Vol!$A$2,MATCH(P8,capacitycurve,1),2,1,1))/(OFFSET(EL_Area_Vol!$A$2,MATCH(P8,capacitycurve,1)+1,2,1,1)-OFFSET(EL_Area_Vol!$A$2,MATCH(P8,capacitycurve,1),2,1,1)))","v":{"$error":"#N/A"}},null,null,null,null,null,null,null,null,"ก.พ.",{"$f":"'หา NRI'!C62","v":{"$error":"#DIV/0!"}},{"$f":"'หา NRI'!D62","v":{"$error":"#DIV/0!"}},{"$f":"'หา NRI'!E62","v":{"$error":"#DIV/0!"}},{"$f":"'หา NRI'!F62","v":{"$error":"#DIV/0!"}},{"$f":"OFFSET(EL_Area_Vol!$A$2,MATCH(AB8,capacitycurve,1),0,1,1)+((OFFSET(EL_Area_Vol!$A$2,MATCH(AB8,capacitycurve,1)+1,0,1,1)-OFFSET(EL_Area_Vol!$A$2,MATCH(AB8,capacitycurve,1),0,1,1))*(AB8-OFFSET(EL_Area_Vol!$A$2,MATCH(AB8,capacitycurve,1),2,1,1))/(OFFSET(EL_Area_Vol!$A$2,MATCH(AB8,capacitycurve,1)+1,2,1,1)-OFFSET(EL_Area_Vol!$A$2,MATCH(AB8,capacitycurve,1),2,1,1)))","v":{"$error":"#DIV/0!"}},{"$f":"OFFSET(EL_Area_Vol!$A$2,MATCH(AC8,capacitycurve,1),0,1,1)+((OFFSET(EL_Area_Vol!$A$2,MATCH(AC8,capacitycurve,1)+1,0,1,1)-OFFSET(EL_Area_Vol!$A$2,MATCH(AC8,capacitycurve,1),0,1,1))*(AC8-OFFSET(EL_Area_Vol!$A$2,MATCH(AC8,capacitycurve,1),2,1,1))/(OFFSET(EL_Area_Vol!$A$2,MATCH(AC8,capacitycurve,1)+1,2,1,1)-OFFSET(EL_Area_Vol!$A$2,MATCH(AC8,capacitycurve,1),2,1,1)))","v":{"$error":"#DIV/0!"}},{"$f":"OFFSET(EL_Area_Vol!$A$2,MATCH(AD8,capacitycurve,1),0,1,1)+((OFFSET(EL_Area_Vol!$A$2,MATCH(AD8,capacitycurve,1)+1,0,1,1)-OFFSET(EL_Area_Vol!$A$2,MATCH(AD8,capacitycurve,1),0,1,1))*(AD8-OFFSET(EL_Area_Vol!$A$2,MATCH(AD8,capacitycurve,1),2,1,1))/(OFFSET(EL_Area_Vol!$A$2,MATCH(AD8,capacitycurve,1)+1,2,1,1)-OFFSET(EL_Area_Vol!$A$2,MATCH(AD8,capacitycurve,1),2,1,1)))","v":{"$error":"#DIV/0!"}},{"$f":"OFFSET(EL_Area_Vol!$A$2,MATCH(AE8,capacitycurve,1),0,1,1)+((OFFSET(EL_Area_Vol!$A$2,MATCH(AE8,capacitycurve,1)+1,0,1,1)-OFFSET(EL_Area_Vol!$A$2,MATCH(AE8,capacitycurve,1),0,1,1))*(AE8-OFFSET(EL_Area_Vol!$A$2,MATCH(AE8,capacitycurve,1),2,1,1))/(OFFSET(EL_Area_Vol!$A$2,MATCH(AE8,capacitycurve,1)+1,2,1,1)-OFFSET(EL_Area_Vol!$A$2,MATCH(AE8,capacitycurve,1),2,1,1)))","v":{"$error":"#DIV/0!"}},null,null,null,2,0,0,{"$f":"'หา NRI'!C19","v":{"$error":"#DIV/0!"}},{"$f":"'หา NRI'!C62","v":{"$error":"#DIV/0!"}},{"$f":"'หา NRI'!D62","v":{"$error":"#DIV/0!"}},{"$f":"AD8","v":{"$error":"#DIV/0!"}},{"$error":"#DIV/0!"},null,{"$f":"OFFSET(EL_Area_Vol!$A$2,MATCH(AN8,capacitycurve,1),0,1,1)+((OFFSET(EL_Area_Vol!$A$2,MATCH(AN8,capacitycurve,1)+1,0,1,1)-OFFSET(EL_Area_Vol!$A$2,MATCH(AN8,capacitycurve,1),0,1,1))*(AN8-OFFSET(EL_Area_Vol!$A$2,MATCH(AN8,capacitycurve,1),2,1,1))/(OFFSET(EL_Area_Vol!$A$2,MATCH(AN8,capacitycurve,1)+1,2,1,1)-OFFSET(EL_Area_Vol!$A$2,MATCH(AN8,capacitycurve,1),2,1,1)))","v":{"$error":"#N/A"}},{"$f":"OFFSET(EL_Area_Vol!$A$2,MATCH(AO8,capacitycurve,1),0,1,1)+((OFFSET(EL_Area_Vol!$A$2,MATCH(AO8,capacitycurve,1)+1,0,1,1)-OFFSET(EL_Area_Vol!$A$2,MATCH(AO8,capacitycurve,1),0,1,1))*(AO8-OFFSET(EL_Area_Vol!$A$2,MATCH(AO8,capacitycurve,1),2,1,1))/(OFFSET(EL_Area_Vol!$A$2,MATCH(AO8,capacitycurve,1)+1,2,1,1)-OFFSET(EL_Area_Vol!$A$2,MATCH(AO8,capacitycurve,1),2,1,1)))","v":{"$error":"#N/A"}},{"$f":"OFFSET(EL_Area_Vol!$A$2,MATCH(AP8,capacitycurve,1),0,1,1)+((OFFSET(EL_Area_Vol!$A$2,MATCH(AP8,capacitycurve,1)+1,0,1,1)-OFFSET(EL_Area_Vol!$A$2,MATCH(AP8,capacitycurve,1),0,1,1))*(AP8-OFFSET(EL_Area_Vol!$A$2,MATCH(AP8,capacitycurve,1),2,1,1))/(OFFSET(EL_Area_Vol!$A$2,MATCH(AP8,capacitycurve,1)+1,2,1,1)-OFFSET(EL_Area_Vol!$A$2,MATCH(AP8,capacitycurve,1),2,1,1)))","v":{"$error":"#DIV/0!"}},{"$f":"OFFSET(EL_Area_Vol!$A$2,MATCH(AQ8,capacitycurve,1),0,1,1)+((OFFSET(EL_Area_Vol!$A$2,MATCH(AQ8,capacitycurve,1)+1,0,1,1)-OFFSET(EL_Area_Vol!$A$2,MATCH(AQ8,capacitycurve,1),0,1,1))*(AQ8-OFFSET(EL_Area_Vol!$A$2,MATCH(AQ8,capacitycurve,1),2,1,1))/(OFFSET(EL_Area_Vol!$A$2,MATCH(AQ8,capacitycurve,1)+1,2,1,1)-OFFSET(EL_Area_Vol!$A$2,MATCH(AQ8,capacitycurve,1),2,1,1)))","v":{"$error":"#DIV/0!"}},{"$f":"OFFSET(EL_Area_Vol!$A$2,MATCH(AR8,capacitycurve,1),0,1,1)+((OFFSET(EL_Area_Vol!$A$2,MATCH(AR8,capacitycurve,1)+1,0,1,1)-OFFSET(EL_Area_Vol!$A$2,MATCH(AR8,capacitycurve,1),0,1,1))*(AR8-OFFSET(EL_Area_Vol!$A$2,MATCH(AR8,capacitycurve,1),2,1,1))/(OFFSET(EL_Area_Vol!$A$2,MATCH(AR8,capacitycurve,1)+1,2,1,1)-OFFSET(EL_Area_Vol!$A$2,MATCH(AR8,capacitycurve,1),2,1,1)))","v":{"$error":"#DIV/0!"}},{"$f":"OFFSET(EL_Area_Vol!$A$2,MATCH(AS8,capacitycurve,1),0,1,1)+((OFFSET(EL_Area_Vol!$A$2,MATCH(AS8,capacitycurve,1)+1,0,1,1)-OFFSET(EL_Area_Vol!$A$2,MATCH(AS8,capacitycurve,1),0,1,1))*(AS8-OFFSET(EL_Area_Vol!$A$2,MATCH(AS8,capacitycurve,1),2,1,1))/(OFFSET(EL_Area_Vol!$A$2,MATCH(AS8,capacitycurve,1)+1,2,1,1)-OFFSET(EL_Area_Vol!$A$2,MATCH(AS8,capacitycurve,1),2,1,1)))","v":{"$error":"#DIV/0!"}},{"$f":"OFFSET(EL_Area_Vol!$A$2,MATCH(AT8,capacitycurve,1),0,1,1)+((OFFSET(EL_Area_Vol!$A$2,MATCH(AT8,capacitycurve,1)+1,0,1,1)-OFFSET(EL_Area_Vol!$A$2,MATCH(AT8,capacitycurve,1),0,1,1))*(AT8-OFFSET(EL_Area_Vol!$A$2,MATCH(AT8,capacitycurve,1),2,1,1))/(OFFSET(EL_Area_Vol!$A$2,MATCH(AT8,capacitycurve,1)+1,2,1,1)-OFFSET(EL_Area_Vol!$A$2,MATCH(AT8,capacitycurve,1),2,1,1)))","v":{"$error":"#DIV/0!"}}]
[null,"มี.ค.",{"$f":"'URC POP'!B83","v":{"$error":"#DIV/0!"}},{"$f":"'URC POP'!C83","v":{"$error":"#DIV/0!"}},{"$f":"'URC POP'!D83","v":{"$error":"#DIV/0!"}},{"$f":"'LRC POP'!P81","v":{"$error":"#DIV/0!"}},{"$f":"'LRC POP'!Q81","v":{"$error":"#DIV/0!"}},{"$f":"'LRC POP'!R81","v":{"$error":"#DIV/0!"}},{"$f":"OFFSET(EL_Area_Vol!$A$2,MATCH(C9,capacitycurve,1),0,1,1)+((OFFSET(EL_Area_Vol!$A$2,MATCH(C9,capacitycurve,1)+1,0,1,1)-OFFSET(EL_Area_Vol!$A$2,MATCH(C9,capacitycurve,1),0,1,1))*(C9-OFFSET(EL_Area_Vol!$A$2,MATCH(C9,capacitycurve,1),2,1,1))/(OFFSET(EL_Area_Vol!$A$2,MATCH(C9,capacitycurve,1)+1,2,1,1)-OFFSET(EL_Area_Vol!$A$2,MATCH(C9,capacitycurve,1),2,1,1)))","v":{"$error":"#DIV/0!"}},{"$f":"OFFSET(EL_Area_Vol!$A$2,MATCH(D9,capacitycurve,1),0,1,1)+((OFFSET(EL_Area_Vol!$A$2,MATCH(D9,capacitycurve,1)+1,0,1,1)-OFFSET(EL_Area_Vol!$A$2,MATCH(D9,capacitycurve,1),0,1,1))*(D9-OFFSET(EL_Area_Vol!$A$2,MATCH(D9,capacitycurve,1),2,1,1))/(OFFSET(EL_Area_Vol!$A$2,MATCH(D9,capacitycurve,1)+1,2,1,1)-OFFSET(EL_Area_Vol!$A$2,MATCH(D9,capacitycurve,1),2,1,1)))","v":{"$error":"#DIV/0!"}},{"$f":"OFFSET(EL_Area_Vol!$A$2,MATCH(E9,capacitycurve,1),0,1,1)+((OFFSET(EL_Area_Vol!$A$2,MATCH(E9,capacitycurve,1)+1,0,1,1)-OFFSET(EL_Area_Vol!$A$2,MATCH(E9,capacitycurve,1),0,1,1))*(E9-OFFSET(EL_Area_Vol!$A$2,MATCH(E9,capacitycurve,1),2,1,1))/(OFFSET(EL_Area_Vol!$A$2,MATCH(E9,capacitycurve,1)+1,2,1,1)-OFFSET(EL_Area_Vol!$A$2,MATCH(E9,capacitycurve,1),2,1,1)))","v":{"$error":"#DIV/0!"}},{"$f":"OFFSET(EL_Area_Vol!$A$2,MATCH(F9,capacitycurve,1),0,1,1)+((OFFSET(EL_Area_Vol!$A$2,MATCH(F9,capacitycurve,1)+1,0,1,1)-OFFSET(EL_Area_Vol!$A$2,MATCH(F9,capacitycurve,1),0,1,1))*(F9-OFFSET(EL_Area_Vol!$A$2,MATCH(F9,capacitycurve,1),2,1,1))/(OFFSET(EL_Area_Vol!$A$2,MATCH(F9,capacitycurve,1)+1,2,1,1)-OFFSET(EL_Area_Vol!$A$2,MATCH(F9,capacitycurve,1),2,1,1)))","v":{"$error":"#DIV/0!"}},{"$f":"OFFSET(EL_Area_Vol!$A$2,MATCH(G9,capacitycurve,1),0,1,1)+((OFFSET(EL_Area_Vol!$A$2,MATCH(G9,capacitycurve,1)+1,0,1,1)-OFFSET(EL_Area_Vol!$A$2,MATCH(G9,capacitycurve,1),0,1,1))*(G9-OFFSET(EL_Area_Vol!$A$2,MATCH(G9,capacitycurve,1),2,1,1))/(OFFSET(EL_Area_Vol!$A$2,MATCH(G9,capacitycurve,1)+1,2,1,1)-OFFSET(EL_Area_Vol!$A$2,MATCH(G9,capacitycurve,1),2,1,1)))","v":{"$error":"#DIV/0!"}},{"$f":"OFFSET(EL_Area_Vol!$A$2,MATCH(H9,capacitycurve,1),0,1,1)+((OFFSET(EL_Area_Vol!$A$2,MATCH(H9,capacitycurve,1)+1,0,1,1)-OFFSET(EL_Area_Vol!$A$2,MATCH(H9,capacitycurve,1),0,1,1))*(H9-OFFSET(EL_Area_Vol!$A$2,MATCH(H9,capacitycurve,1),2,1,1))/(OFFSET(EL_Area_Vol!$A$2,MATCH(H9,capacitycurve,1)+1,2,1,1)-OFFSET(EL_Area_Vol!$A$2,MATCH(H9,capacitycurve,1),2,1,1)))","v":{"$error":"#DIV/0!"}},{"$f":"OFFSET('Hec3'!$DC$3,0,ROW()-6,1,1)","v":0},{"$f":"OFFSET('Hec3'!$DC$4,0,ROW()-6,1,1)","v":0},{"$f":"OFFSET(EL_Area_Vol!$A$2,MATCH(O9,capacitycurve,1),0,1,1)+((OFFSET(EL_Area_Vol!$A$2,MATCH(O9,capacitycurve,1)+1,0,1,1)-OFFSET(EL_Area_Vol!$A$2,MATCH(O9,capacitycurve,1),0,1,1))*(O9-OFFSET(EL_Area_Vol!$A$2,MATCH(O9,capacitycurve,1),2,1,1))/(OFFSET(EL_Area_Vol!$A$2,MATCH(O9,capacitycurve,1)+1,2,1,1)-OFFSET(EL_Area_Vol!$A$2,MATCH(O9,capacitycurve,1),2,1,1)))","v":{"$error":"#N/A"}},{"$f":"OFFSET(EL_Area_Vol!$A$2,MATCH(P9,capacitycurve,1),0,1,1)+((OFFSET(EL_Area_Vol!$A$2,MATCH(P9,capacitycurve,1)+1,0,1,1)-OFFSET(EL_Area_Vol!$A$2,MATCH(P9,capacitycurve,1),0,1,1))*(P9-OFFSET(EL_Area_Vol!$A$2,MATCH(P9,capacitycurve,1),2,1,1))/(OFFSET(EL_Area_Vol!$A$2,MATCH(P9,capacitycurve,1)+1,2,1,1)-OFFSET(EL_Area_Vol!$A$2,MATCH(P9,capacitycurve,1),2,1,1)))","v":{"$error":"#N/A"}},null,null,null,null,null,null,null,null,"มี.ค.",{"$f":"'หา NRI'!C63","v":{"$error":"#DIV/0!"}},{"$f":"'หา NRI'!D63","v":{"$error":"#DIV/0!"}},{"$f":"'หา NRI'!E63","v":{"$error":"#DIV/0!"}},{"$f":"'หา NRI'!F63","v":{"$error":"#DIV/0!"}},{"$f":"OFFSET(EL_Area_Vol!$A$2,MATCH(AB9,capacitycurve,1),0,1,1)+((OFFSET(EL_Area_Vol!$A$2,MATCH(AB9,capacitycurve,1)+1,0,1,1)-OFFSET(EL_Area_Vol!$A$2,MATCH(AB9,capacitycurve,1),0,1,1))*(AB9-OFFSET(EL_Area_Vol!$A$2,MATCH(AB9,capacitycurve,1),2,1,1))/(OFFSET(EL_Area_Vol!$A$2,MATCH(AB9,capacitycurve,1)+1,2,1,1)-OFFSET(EL_Area_Vol!$A$2,MATCH(AB9,capacitycurve,1),2,1,1)))","v":{"$error":"#DIV/0!"}},{"$f":"OFFSET(EL_Area_Vol!$A$2,MATCH(AC9,capacitycurve,1),0,1,1)+((OFFSET(EL_Area_Vol!$A$2,MATCH(AC9,capacitycurve,1)+1,0,1,1)-OFFSET(EL_Area_Vol!$A$2,MATCH(AC9,capacitycurve,1),0,1,1))*(AC9-OFFSET(EL_Area_Vol!$A$2,MATCH(AC9,capacitycurve,1),2,1,1))/(OFFSET(EL_Area_Vol!$A$2,MATCH(AC9,capacitycurve,1)+1,2,1,1)-OFFSET(EL_Area_Vol!$A$2,MATCH(AC9,capacitycurve,1),2,1,1)))","v":{"$error":"#DIV/0!"}},{"$f":"OFFSET(EL_Area_Vol!$A$2,MATCH(AD9,capacitycurve,1),0,1,1)+((OFFSET(EL_Area_Vol!$A$2,MATCH(AD9,capacitycurve,1)+1,0,1,1)-OFFSET(EL_Area_Vol!$A$2,MATCH(AD9,capacitycurve,1),0,1,1))*(AD9-OFFSET(EL_Area_Vol!$A$2,MATCH(AD9,capacitycurve,1),2,1,1))/(OFFSET(EL_Area_Vol!$A$2,MATCH(AD9,capacitycurve,1)+1,2,1,1)-OFFSET(EL_Area_Vol!$A$2,MATCH(AD9,capacitycurve,1),2,1,1)))","v":{"$error":"#DIV/0!"}},{"$f":"OFFSET(EL_Area_Vol!$A$2,MATCH(AE9,capacitycurve,1),0,1,1)+((OFFSET(EL_Area_Vol!$A$2,MATCH(AE9,capacitycurve,1)+1,0,1,1)-OFFSET(EL_Area_Vol!$A$2,MATCH(AE9,capacitycurve,1),0,1,1))*(AE9-OFFSET(EL_Area_Vol!$A$2,MATCH(AE9,capacitycurve,1),2,1,1))/(OFFSET(EL_Area_Vol!$A$2,MATCH(AE9,capacitycurve,1)+1,2,1,1)-OFFSET(EL_Area_Vol!$A$2,MATCH(AE9,capacitycurve,1),2,1,1)))","v":{"$error":"#DIV/0!"}},null,null,null,3,0,0,{"$f":"'หา NRI'!C20","v":{"$error":"#DIV/0!"}},{"$f":"'หา NRI'!C63","v":{"$error":"#DIV/0!"}},{"$f":"'หา NRI'!D63","v":{"$error":"#DIV/0!"}},{"$error":"#DIV/0!"},{"$error":"#DIV/0!"},null,{"$f":"OFFSET(EL_Area_Vol!$A$2,MATCH(AN9,capacitycurve,1),0,1,1)+((OFFSET(EL_Area_Vol!$A$2,MATCH(AN9,capacitycurve,1)+1,0,1,1)-OFFSET(EL_Area_Vol!$A$2,MATCH(AN9,capacitycurve,1),0,1,1))*(AN9-OFFSET(EL_Area_Vol!$A$2,MATCH(AN9,capacitycurve,1),2,1,1))/(OFFSET(EL_Area_Vol!$A$2,MATCH(AN9,capacitycurve,1)+1,2,1,1)-OFFSET(EL_Area_Vol!$A$2,MATCH(AN9,capacitycurve,1),2,1,1)))","v":{"$error":"#N/A"}},{"$f":"OFFSET(EL_Area_Vol!$A$2,MATCH(AO9,capacitycurve,1),0,1,1)+((OFFSET(EL_Area_Vol!$A$2,MATCH(AO9,capacitycurve,1)+1,0,1,1)-OFFSET(EL_Area_Vol!$A$2,MATCH(AO9,capacitycurve,1),0,1,1))*(AO9-OFFSET(EL_Area_Vol!$A$2,MATCH(AO9,capacitycurve,1),2,1,1))/(OFFSET(EL_Area_Vol!$A$2,MATCH(AO9,capacitycurve,1)+1,2,1,1)-OFFSET(EL_Area_Vol!$A$2,MATCH(AO9,capacitycurve,1),2,1,1)))","v":{"$error":"#N/A"}},{"$f":"OFFSET(EL_Area_Vol!$A$2,MATCH(AP9,capacitycurve,1),0,1,1)+((OFFSET(EL_Area_Vol!$A$2,MATCH(AP9,capacitycurve,1)+1,0,1,1)-OFFSET(EL_Area_Vol!$A$2,MATCH(AP9,capacitycurve,1),0,1,1))*(AP9-OFFSET(EL_Area_Vol!$A$2,MATCH(AP9,capacitycurve,1),2,1,1))/(OFFSET(EL_Area_Vol!$A$2,MATCH(AP9,capacitycurve,1)+1,2,1,1)-OFFSET(EL_Area_Vol!$A$2,MATCH(AP9,capacitycurve,1),2,1,1)))","v":{"$error":"#DIV/0!"}},{"$f":"OFFSET(EL_Area_Vol!$A$2,MATCH(AQ9,capacitycurve,1),0,1,1)+((OFFSET(EL_Area_Vol!$A$2,MATCH(AQ9,capacitycurve,1)+1,0,1,1)-OFFSET(EL_Area_Vol!$A$2,MATCH(AQ9,capacitycurve,1),0,1,1))*(AQ9-OFFSET(EL_Area_Vol!$A$2,MATCH(AQ9,capacitycurve,1),2,1,1))/(OFFSET(EL_Area_Vol!$A$2,MATCH(AQ9,capacitycurve,1)+1,2,1,1)-OFFSET(EL_Area_Vol!$A$2,MATCH(AQ9,capacitycurve,1),2,1,1)))","v":{"$error":"#DIV/0!"}},{"$f":"OFFSET(EL_Area_Vol!$A$2,MATCH(AR9,capacitycurve,1),0,1,1)+((OFFSET(EL_Area_Vol!$A$2,MATCH(AR9,capacitycurve,1)+1,0,1,1)-OFFSET(EL_Area_Vol!$A$2,MATCH(AR9,capacitycurve,1),0,1,1))*(AR9-OFFSET(EL_Area_Vol!$A$2,MATCH(AR9,capacitycurve,1),2,1,1))/(OFFSET(EL_Area_Vol!$A$2,MATCH(AR9,capacitycurve,1)+1,2,1,1)-OFFSET(EL_Area_Vol!$A$2,MATCH(AR9,capacitycurve,1),2,1,1)))","v":{"$error":"#DIV/0!"}},{"$f":"OFFSET(EL_Area_Vol!$A$2,MATCH(AS9,capacitycurve,1),0,1,1)+((OFFSET(EL_Area_Vol!$A$2,MATCH(AS9,capacitycurve,1)+1,0,1,1)-OFFSET(EL_Area_Vol!$A$2,MATCH(AS9,capacitycurve,1),0,1,1))*(AS9-OFFSET(EL_Area_Vol!$A$2,MATCH(AS9,capacitycurve,1),2,1,1))/(OFFSET(EL_Area_Vol!$A$2,MATCH(AS9,capacitycurve,1)+1,2,1,1)-OFFSET(EL_Area_Vol!$A$2,MATCH(AS9,capacitycurve,1),2,1,1)))","v":{"$error":"#DIV/0!"}},{"$f":"OFFSET(EL_Area_Vol!$A$2,MATCH(AT9,capacitycurve,1),0,1,1)+((OFFSET(EL_Area_Vol!$A$2,MATCH(AT9,capacitycurve,1)+1,0,1,1)-OFFSET(EL_Area_Vol!$A$2,MATCH(AT9,capacitycurve,1),0,1,1))*(AT9-OFFSET(EL_Area_Vol!$A$2,MATCH(AT9,capacitycurve,1),2,1,1))/(OFFSET(EL_Area_Vol!$A$2,MATCH(AT9,capacitycurve,1)+1,2,1,1)-OFFSET(EL_Area_Vol!$A$2,MATCH(AT9,capacitycurve,1),2,1,1)))","v":{"$error":"#DIV/0!"}}]
[null,"เม.ย.",{"$f":"'URC POP'!B84","v":{"$error":"#DIV/0!"}},{"$f":"'URC POP'!C84","v":{"$error":"#DIV/0!"}},{"$f":"'URC POP'!D84","v":{"$error":"#DIV/0!"}},{"$f":"'LRC POP'!P82","v":{"$error":"#DIV/0!"}},{"$f":"'LRC POP'!Q82","v":{"$error":"#DIV/0!"}},{"$f":"'LRC POP'!R82","v":{"$error":"#DIV/0!"}},{"$f":"OFFSET(EL_Area_Vol!$A$2,MATCH(C10,capacitycurve,1),0,1,1)+((OFFSET(EL_Area_Vol!$A$2,MATCH(C10,capacitycurve,1)+1,0,1,1)-OFFSET(EL_Area_Vol!$A$2,MATCH(C10,capacitycurve,1),0,1,1))*(C10-OFFSET(EL_Area_Vol!$A$2,MATCH(C10,capacitycurve,1),2,1,1))/(OFFSET(EL_Area_Vol!$A$2,MATCH(C10,capacitycurve,1)+1,2,1,1)-OFFSET(EL_Area_Vol!$A$2,MATCH(C10,capacitycurve,1),2,1,1)))","v":{"$error":"#DIV/0!"}},{"$f":"OFFSET(EL_Area_Vol!$A$2,MATCH(D10,capacitycurve,1),0,1,1)+((OFFSET(EL_Area_Vol!$A$2,MATCH(D10,capacitycurve,1)+1,0,1,1)-OFFSET(EL_Area_Vol!$A$2,MATCH(D10,capacitycurve,1),0,1,1))*(D10-OFFSET(EL_Area_Vol!$A$2,MATCH(D10,capacitycurve,1),2,1,1))/(OFFSET(EL_Area_Vol!$A$2,MATCH(D10,capacitycurve,1)+1,2,1,1)-OFFSET(EL_Area_Vol!$A$2,MATCH(D10,capacitycurve,1),2,1,1)))","v":{"$error":"#DIV/0!"}},{"$f":"OFFSET(EL_Area_Vol!$A$2,MATCH(E10,capacitycurve,1),0,1,1)+((OFFSET(EL_Area_Vol!$A$2,MATCH(E10,capacitycurve,1)+1,0,1,1)-OFFSET(EL_Area_Vol!$A$2,MATCH(E10,capacitycurve,1),0,1,1))*(E10-OFFSET(EL_Area_Vol!$A$2,MATCH(E10,capacitycurve,1),2,1,1))/(OFFSET(EL_Area_Vol!$A$2,MATCH(E10,capacitycurve,1)+1,2,1,1)-OFFSET(EL_Area_Vol!$A$2,MATCH(E10,capacitycurve,1),2,1,1)))","v":{"$error":"#DIV/0!"}},{"$f":"OFFSET(EL_Area_Vol!$A$2,MATCH(F10,capacitycurve,1),0,1,1)+((OFFSET(EL_Area_Vol!$A$2,MATCH(F10,capacitycurve,1)+1,0,1,1)-OFFSET(EL_Area_Vol!$A$2,MATCH(F10,capacitycurve,1),0,1,1))*(F10-OFFSET(EL_Area_Vol!$A$2,MATCH(F10,capacitycurve,1),2,1,1))/(OFFSET(EL_Area_Vol!$A$2,MATCH(F10,capacitycurve,1)+1,2,1,1)-OFFSET(EL_Area_Vol!$A$2,MATCH(F10,capacitycurve,1),2,1,1)))","v":{"$error":"#DIV/0!"}},{"$f":"OFFSET(EL_Area_Vol!$A$2,MATCH(G10,capacitycurve,1),0,1,1)+((OFFSET(EL_Area_Vol!$A$2,MATCH(G10,capacitycurve,1)+1,0,1,1)-OFFSET(EL_Area_Vol!$A$2,MATCH(G10,capacitycurve,1),0,1,1))*(G10-OFFSET(EL_Area_Vol!$A$2,MATCH(G10,capacitycurve,1),2,1,1))/(OFFSET(EL_Area_Vol!$A$2,MATCH(G10,capacitycurve,1)+1,2,1,1)-OFFSET(EL_Area_Vol!$A$2,MATCH(G10,capacitycurve,1),2,1,1)))","v":{"$error":"#DIV/0!"}},{"$f":"OFFSET(EL_Area_Vol!$A$2,MATCH(H10,capacitycurve,1),0,1,1)+((OFFSET(EL_Area_Vol!$A$2,MATCH(H10,capacitycurve,1)+1,0,1,1)-OFFSET(EL_Area_Vol!$A$2,MATCH(H10,capacitycurve,1),0,1,1))*(H10-OFFSET(EL_Area_Vol!$A$2,MATCH(H10,capacitycurve,1),2,1,1))/(OFFSET(EL_Area_Vol!$A$2,MATCH(H10,capacitycurve,1)+1,2,1,1)-OFFSET(EL_Area_Vol!$A$2,MATCH(H10,capacitycurve,1),2,1,1)))","v":{"$error":"#DIV/0!"}},{"$f":"OFFSET('Hec3'!$DC$3,0,ROW()-6,1,1)","v":0},{"$f":"OFFSET('Hec3'!$DC$4,0,ROW()-6,1,1)","v":0},{"$f":"OFFSET(EL_Area_Vol!$A$2,MATCH(O10,capacitycurve,1),0,1,1)+((OFFSET(EL_Area_Vol!$A$2,MATCH(O10,capacitycurve,1)+1,0,1,1)-OFFSET(EL_Area_Vol!$A$2,MATCH(O10,capacitycurve,1),0,1,1))*(O10-OFFSET(EL_Area_Vol!$A$2,MATCH(O10,capacitycurve,1),2,1,1))/(OFFSET(EL_Area_Vol!$A$2,MATCH(O10,capacitycurve,1)+1,2,1,1)-OFFSET(EL_Area_Vol!$A$2,MATCH(O10,capacitycurve,1),2,1,1)))","v":{"$error":"#N/A"}},{"$f":"OFFSET(EL_Area_Vol!$A$2,MATCH(P10,capacitycurve,1),0,1,1)+((OFFSET(EL_Area_Vol!$A$2,MATCH(P10,capacitycurve,1)+1,0,1,1)-OFFSET(EL_Area_Vol!$A$2,MATCH(P10,capacitycurve,1),0,1,1))*(P10-OFFSET(EL_Area_Vol!$A$2,MATCH(P10,capacitycurve,1),2,1,1))/(OFFSET(EL_Area_Vol!$A$2,MATCH(P10,capacitycurve,1)+1,2,1,1)-OFFSET(EL_Area_Vol!$A$2,MATCH(P10,capacitycurve,1),2,1,1)))","v":{"$error":"#N/A"}},null,null,null,null,null,null,null,null,"เม.ย.",{"$f":"'หา NRI'!C64","v":{"$error":"#DIV/0!"}},{"$f":"'หา NRI'!D64","v":{"$error":"#DIV/0!"}},{"$f":"'หา NRI'!E64","v":{"$error":"#DIV/0!"}},{"$f":"'หา NRI'!F64","v":{"$error":"#DIV/0!"}},{"$f":"OFFSET(EL_Area_Vol!$A$2,MATCH(AB10,capacitycurve,1),0,1,1)+((OFFSET(EL_Area_Vol!$A$2,MATCH(AB10,capacitycurve,1)+1,0,1,1)-OFFSET(EL_Area_Vol!$A$2,MATCH(AB10,capacitycurve,1),0,1,1))*(AB10-OFFSET(EL_Area_Vol!$A$2,MATCH(AB10,capacitycurve,1),2,1,1))/(OFFSET(EL_Area_Vol!$A$2,MATCH(AB10,capacitycurve,1)+1,2,1,1)-OFFSET(EL_Area_Vol!$A$2,MATCH(AB10,capacitycurve,1),2,1,1)))","v":{"$error":"#DIV/0!"}},{"$f":"OFFSET(EL_Area_Vol!$A$2,MATCH(AC10,capacitycurve,1),0,1,1)+((OFFSET(EL_Area_Vol!$A$2,MATCH(AC10,capacitycurve,1)+1,0,1,1)-OFFSET(EL_Area_Vol!$A$2,MATCH(AC10,capacitycurve,1),0,1,1))*(AC10-OFFSET(EL_Area_Vol!$A$2,MATCH(AC10,capacitycurve,1),2,1,1))/(OFFSET(EL_Area_Vol!$A$2,MATCH(AC10,capacitycurve,1)+1,2,1,1)-OFFSET(EL_Area_Vol!$A$2,MATCH(AC10,capacitycurve,1),2,1,1)))","v":{"$error":"#DIV/0!"}},{"$f":"OFFSET(EL_Area_Vol!$A$2,MATCH(AD10,capacitycurve,1),0,1,1)+((OFFSET(EL_Area_Vol!$A$2,MATCH(AD10,capacitycurve,1)+1,0,1,1)-OFFSET(EL_Area_Vol!$A$2,MATCH(AD10,capacitycurve,1),0,1,1))*(AD10-OFFSET(EL_Area_Vol!$A$2,MATCH(AD10,capacitycurve,1),2,1,1))/(OFFSET(EL_Area_Vol!$A$2,MATCH(AD10,capacitycurve,1)+1,2,1,1)-OFFSET(EL_Area_Vol!$A$2,MATCH(AD10,capacitycurve,1),2,1,1)))","v":{"$error":"#DIV/0!"}},{"$f":"OFFSET(EL_Area_Vol!$A$2,MATCH(AE10,capacitycurve,1),0,1,1)+((OFFSET(EL_Area_Vol!$A$2,MATCH(AE10,capacitycurve,1)+1,0,1,1)-OFFSET(EL_Area_Vol!$A$2,MATCH(AE10,capacitycurve,1),0,1,1))*(AE10-OFFSET(EL_Area_Vol!$A$2,MATCH(AE10,capacitycurve,1),2,1,1))/(OFFSET(EL_Area_Vol!$A$2,MATCH(AE10,capacitycurve,1)+1,2,1,1)-OFFSET(EL_Area_Vol!$A$2,MATCH(AE10,capacitycurve,1),2,1,1)))","v":{"$error":"#DIV/0!"}},null,null,null,4,0,0,{"$f":"'หา NRI'!C21","v":{"$error":"#DIV/0!"}},{"$f":"'หา NRI'!C64","v":{"$error":"#DIV/0!"}},{"$f":"'หา NRI'!D64","v":{"$error":"#DIV/0!"}},{"$error":"#DIV/0!"},{"$error":"#DIV/0!"},null,{"$f":"OFFSET(EL_Area_Vol!$A$2,MATCH(AN10,capacitycurve,1),0,1,1)+((OFFSET(EL_Area_Vol!$A$2,MATCH(AN10,capacitycurve,1)+1,0,1,1)-OFFSET(EL_Area_Vol!$A$2,MATCH(AN10,capacitycurve,1),0,1,1))*(AN10-OFFSET(EL_Area_Vol!$A$2,MATCH(AN10,capacitycurve,1),2,1,1))/(OFFSET(EL_Area_Vol!$A$2,MATCH(AN10,capacitycurve,1)+1,2,1,1)-OFFSET(EL_Area_Vol!$A$2,MATCH(AN10,capacitycurve,1),2,1,1)))","v":{"$error":"#N/A"}},{"$f":"OFFSET(EL_Area_Vol!$A$2,MATCH(AO10,capacitycurve,1),0,1,1)+((OFFSET(EL_Area_Vol!$A$2,MATCH(AO10,capacitycurve,1)+1,0,1,1)-OFFSET(EL_Area_Vol!$A$2,MATCH(AO10,capacitycurve,1),0,1,1))*(AO10-OFFSET(EL_Area_Vol!$A$2,MATCH(AO10,capacitycurve,1),2,1,1))/(OFFSET(EL_Area_Vol!$A$2,MATCH(AO10,capacitycurve,1)+1,2,1,1)-OFFSET(EL_Area_Vol!$A$2,MATCH(AO10,capacitycurve,1),2,1,1)))","v":{"$error":"#N/A"}},{"$f":"OFFSET(EL_Area_Vol!$A$2,MATCH(AP10,capacitycurve,1),0,1,1)+((OFFSET(EL_Area_Vol!$A$2,MATCH(AP10,capacitycurve,1)+1,0,1,1)-OFFSET(EL_Area_Vol!$A$2,MATCH(AP10,capacitycurve,1),0,1,1))*(AP10-OFFSET(EL_Area_Vol!$A$2,MATCH(AP10,capacitycurve,1),2,1,1))/(OFFSET(EL_Area_Vol!$A$2,MATCH(AP10,capacitycurve,1)+1,2,1,1)-OFFSET(EL_Area_Vol!$A$2,MATCH(AP10,capacitycurve,1),2,1,1)))","v":{"$error":"#DIV/0!"}},{"$f":"OFFSET(EL_Area_Vol!$A$2,MATCH(AQ10,capacitycurve,1),0,1,1)+((OFFSET(EL_Area_Vol!$A$2,MATCH(AQ10,capacitycurve,1)+1,0,1,1)-OFFSET(EL_Area_Vol!$A$2,MATCH(AQ10,capacitycurve,1),0,1,1))*(AQ10-OFFSET(EL_Area_Vol!$A$2,MATCH(AQ10,capacitycurve,1),2,1,1))/(OFFSET(EL_Area_Vol!$A$2,MATCH(AQ10,capacitycurve,1)+1,2,1,1)-OFFSET(EL_Area_Vol!$A$2,MATCH(AQ10,capacitycurve,1),2,1,1)))","v":{"$error":"#DIV/0!"}},{"$f":"OFFSET(EL_Area_Vol!$A$2,MATCH(AR10,capacitycurve,1),0,1,1)+((OFFSET(EL_Area_Vol!$A$2,MATCH(AR10,capacitycurve,1)+1,0,1,1)-OFFSET(EL_Area_Vol!$A$2,MATCH(AR10,capacitycurve,1),0,1,1))*(AR10-OFFSET(EL_Area_Vol!$A$2,MATCH(AR10,capacitycurve,1),2,1,1))/(OFFSET(EL_Area_Vol!$A$2,MATCH(AR10,capacitycurve,1)+1,2,1,1)-OFFSET(EL_Area_Vol!$A$2,MATCH(AR10,capacitycurve,1),2,1,1)))","v":{"$error":"#DIV/0!"}},{"$f":"OFFSET(EL_Area_Vol!$A$2,MATCH(AS10,capacitycurve,1),0,1,1)+((OFFSET(EL_Area_Vol!$A$2,MATCH(AS10,capacitycurve,1)+1,0,1,1)-OFFSET(EL_Area_Vol!$A$2,MATCH(AS10,capacitycurve,1),0,1,1))*(AS10-OFFSET(EL_Area_Vol!$A$2,MATCH(AS10,capacitycurve,1),2,1,1))/(OFFSET(EL_Area_Vol!$A$2,MATCH(AS10,capacitycurve,1)+1,2,1,1)-OFFSET(EL_Area_Vol!$A$2,MATCH(AS10,capacitycurve,1),2,1,1)))","v":{"$error":"#DIV/0!"}},{"$f":"OFFSET(EL_Area_Vol!$A$2,MATCH(AT10,capacitycurve,1),0,1,1)+((OFFSET(EL_Area_Vol!$A$2,MATCH(AT10,capacitycurve,1)+1,0,1,1)-OFFSET(EL_Area_Vol!$A$2,MATCH(AT10,capacitycurve,1),0,1,1))*(AT10-OFFSET(EL_Area_Vol!$A$2,MATCH(AT10,capacitycurve,1),2,1,1))/(OFFSET(EL_Area_Vol!$A$2,MATCH(AT10,capacitycurve,1)+1,2,1,1)-OFFSET(EL_Area_Vol!$A$2,MATCH(AT10,capacitycurve,1),2,1,1)))","v":{"$error":"#DIV/0!"}}]
[null,"พ.ค.",{"$f":"'URC POP'!B85","v":{"$error":"#DIV/0!"}},{"$f":"'URC POP'!C85","v":{"$error":"#DIV/0!"}},{"$f":"'URC POP'!D85","v":{"$error":"#DIV/0!"}},{"$f":"'LRC POP'!P83","v":{"$error":"#DIV/0!"}},{"$f":"'LRC POP'!Q83","v":{"$error":"#DIV/0!"}},{"$f":"'LRC POP'!R83","v":{"$error":"#DIV/0!"}},{"$f":"OFFSET(EL_Area_Vol!$A$2,MATCH(C11,capacitycurve,1),0,1,1)+((OFFSET(EL_Area_Vol!$A$2,MATCH(C11,capacitycurve,1)+1,0,1,1)-OFFSET(EL_Area_Vol!$A$2,MATCH(C11,capacitycurve,1),0,1,1))*(C11-OFFSET(EL_Area_Vol!$A$2,MATCH(C11,capacitycurve,1),2,1,1))/(OFFSET(EL_Area_Vol!$A$2,MATCH(C11,capacitycurve,1)+1,2,1,1)-OFFSET(EL_Area_Vol!$A$2,MATCH(C11,capacitycurve,1),2,1,1)))","v":{"$error":"#DIV/0!"}},{"$f":"OFFSET(EL_Area_Vol!$A$2,MATCH(D11,capacitycurve,1),0,1,1)+((OFFSET(EL_Area_Vol!$A$2,MATCH(D11,capacitycurve,1)+1,0,1,1)-OFFSET(EL_Area_Vol!$A$2,MATCH(D11,capacitycurve,1),0,1,1))*(D11-OFFSET(EL_Area_Vol!$A$2,MATCH(D11,capacitycurve,1),2,1,1))/(OFFSET(EL_Area_Vol!$A$2,MATCH(D11,capacitycurve,1)+1,2,1,1)-OFFSET(EL_Area_Vol!$A$2,MATCH(D11,capacitycurve,1),2,1,1)))","v":{"$error":"#DIV/0!"}},{"$f":"OFFSET(EL_Area_Vol!$A$2,MATCH(E11,capacitycurve,1),0,1,1)+((OFFSET(EL_Area_Vol!$A$2,MATCH(E11,capacitycurve,1)+1,0,1,1)-OFFSET(EL_Area_Vol!$A$2,MATCH(E11,capacitycurve,1),0,1,1))*(E11-OFFSET(EL_Area_Vol!$A$2,MATCH(E11,capacitycurve,1),2,1,1))/(OFFSET(EL_Area_Vol!$A$2,MATCH(E11,capacitycurve,1)+1,2,1,1)-OFFSET(EL_Area_Vol!$A$2,MATCH(E11,capacitycurve,1),2,1,1)))","v":{"$error":"#DIV/0!"}},{"$f":"OFFSET(EL_Area_Vol!$A$2,MATCH(F11,capacitycurve,1),0,1,1)+((OFFSET(EL_Area_Vol!$A$2,MATCH(F11,capacitycurve,1)+1,0,1,1)-OFFSET(EL_Area_Vol!$A$2,MATCH(F11,capacitycurve,1),0,1,1))*(F11-OFFSET(EL_Area_Vol!$A$2,MATCH(F11,capacitycurve,1),2,1,1))/(OFFSET(EL_Area_Vol!$A$2,MATCH(F11,capacitycurve,1)+1,2,1,1)-OFFSET(EL_Area_Vol!$A$2,MATCH(F11,capacitycurve,1),2,1,1)))","v":{"$error":"#DIV/0!"}},{"$f":"OFFSET(EL_Area_Vol!$A$2,MATCH(G11,capacitycurve,1),0,1,1)+((OFFSET(EL_Area_Vol!$A$2,MATCH(G11,capacitycurve,1)+1,0,1,1)-OFFSET(EL_Area_Vol!$A$2,MATCH(G11,capacitycurve,1),0,1,1))*(G11-OFFSET(EL_Area_Vol!$A$2,MATCH(G11,capacitycurve,1),2,1,1))/(OFFSET(EL_Area_Vol!$A$2,MATCH(G11,capacitycurve,1)+1,2,1,1)-OFFSET(EL_Area_Vol!$A$2,MATCH(G11,capacitycurve,1),2,1,1)))","v":{"$error":"#DIV/0!"}},{"$f":"OFFSET(EL_Area_Vol!$A$2,MATCH(H11,capacitycurve,1),0,1,1)+((OFFSET(EL_Area_Vol!$A$2,MATCH(H11,capacitycurve,1)+1,0,1,1)-OFFSET(EL_Area_Vol!$A$2,MATCH(H11,capacitycurve,1),0,1,1))*(H11-OFFSET(EL_Area_Vol!$A$2,MATCH(H11,capacitycurve,1),2,1,1))/(OFFSET(EL_Area_Vol!$A$2,MATCH(H11,capacitycurve,1)+1,2,1,1)-OFFSET(EL_Area_Vol!$A$2,MATCH(H11,capacitycurve,1),2,1,1)))","v":{"$error":"#DIV/0!"}},{"$f":"OFFSET('Hec3'!$DC$3,0,ROW()-6,1,1)","v":0},{"$f":"OFFSET('Hec3'!$DC$4,0,ROW()-6,1,1)","v":0},{"$f":"OFFSET(EL_Area_Vol!$A$2,MATCH(O11,capacitycurve,1),0,1,1)+((OFFSET(EL_Area_Vol!$A$2,MATCH(O11,capacitycurve,1)+1,0,1,1)-OFFSET(EL_Area_Vol!$A$2,MATCH(O11,capacitycurve,1),0,1,1))*(O11-OFFSET(EL_Area_Vol!$A$2,MATCH(O11,capacitycurve,1),2,1,1))/(OFFSET(EL_Area_Vol!$A$2,MATCH(O11,capacitycurve,1)+1,2,1,1)-OFFSET(EL_Area_Vol!$A$2,MATCH(O11,capacitycurve,1),2,1,1)))","v":{"$error":"#N/A"}},{"$f":"OFFSET(EL_Area_Vol!$A$2,MATCH(P11,capacitycurve,1),0,1,1)+((OFFSET(EL_Area_Vol!$A$2,MATCH(P11,capacitycurve,1)+1,0,1,1)-OFFSET(EL_Area_Vol!$A$2,MATCH(P11,capacitycurve,1),0,1,1))*(P11-OFFSET(EL_Area_Vol!$A$2,MATCH(P11,capacitycurve,1),2,1,1))/(OFFSET(EL_Area_Vol!$A$2,MATCH(P11,capacitycurve,1)+1,2,1,1)-OFFSET(EL_Area_Vol!$A$2,MATCH(P11,capacitycurve,1),2,1,1)))","v":{"$error":"#N/A"}},null,null,null,null,null,null,null,null,"พ.ค.",{"$f":"'หา NRI'!C65","v":{"$error":"#DIV/0!"}},{"$f":"'หา NRI'!D65","v":{"$error":"#DIV/0!"}},{"$f":"'หา NRI'!E65","v":{"$error":"#DIV/0!"}},{"$f":"'หา NRI'!F65","v":{"$error":"#DIV/0!"}},{"$f":"OFFSET(EL_Area_Vol!$A$2,MATCH(AB11,capacitycurve,1),0,1,1)+((OFFSET(EL_Area_Vol!$A$2,MATCH(AB11,capacitycurve,1)+1,0,1,1)-OFFSET(EL_Area_Vol!$A$2,MATCH(AB11,capacitycurve,1),0,1,1))*(AB11-OFFSET(EL_Area_Vol!$A$2,MATCH(AB11,capacitycurve,1),2,1,1))/(OFFSET(EL_Area_Vol!$A$2,MATCH(AB11,capacitycurve,1)+1,2,1,1)-OFFSET(EL_Area_Vol!$A$2,MATCH(AB11,capacitycurve,1),2,1,1)))","v":{"$error":"#DIV/0!"}},{"$f":"OFFSET(EL_Area_Vol!$A$2,MATCH(AC11,capacitycurve,1),0,1,1)+((OFFSET(EL_Area_Vol!$A$2,MATCH(AC11,capacitycurve,1)+1,0,1,1)-OFFSET(EL_Area_Vol!$A$2,MATCH(AC11,capacitycurve,1),0,1,1))*(AC11-OFFSET(EL_Area_Vol!$A$2,MATCH(AC11,capacitycurve,1),2,1,1))/(OFFSET(EL_Area_Vol!$A$2,MATCH(AC11,capacitycurve,1)+1,2,1,1)-OFFSET(EL_Area_Vol!$A$2,MATCH(AC11,capacitycurve,1),2,1,1)))","v":{"$error":"#DIV/0!"}},{"$f":"OFFSET(EL_Area_Vol!$A$2,MATCH(AD11,capacitycurve,1),0,1,1)+((OFFSET(EL_Area_Vol!$A$2,MATCH(AD11,capacitycurve,1)+1,0,1,1)-OFFSET(EL_Area_Vol!$A$2,MATCH(AD11,capacitycurve,1),0,1,1))*(AD11-OFFSET(EL_Area_Vol!$A$2,MATCH(AD11,capacitycurve,1),2,1,1))/(OFFSET(EL_Area_Vol!$A$2,MATCH(AD11,capacitycurve,1)+1,2,1,1)-OFFSET(EL_Area_Vol!$A$2,MATCH(AD11,capacitycurve,1),2,1,1)))","v":{"$error":"#DIV/0!"}},{"$f":"OFFSET(EL_Area_Vol!$A$2,MATCH(AE11,capacitycurve,1),0,1,1)+((OFFSET(EL_Area_Vol!$A$2,MATCH(AE11,capacitycurve,1)+1,0,1,1)-OFFSET(EL_Area_Vol!$A$2,MATCH(AE11,capacitycurve,1),0,1,1))*(AE11-OFFSET(EL_Area_Vol!$A$2,MATCH(AE11,capacitycurve,1),2,1,1))/(OFFSET(EL_Area_Vol!$A$2,MATCH(AE11,capacitycurve,1)+1,2,1,1)-OFFSET(EL_Area_Vol!$A$2,MATCH(AE11,capacitycurve,1),2,1,1)))","v":{"$error":"#DIV/0!"}},null,null,null,5,0,0,{"$f":"'หา NRI'!C22","v":{"$error":"#DIV/0!"}},{"$f":"'หา NRI'!C65","v":{"$error":"#DIV/0!"}},{"$f":"'หา NRI'!D65","v":{"$error":"#DIV/0!"}},{"$error":"#DIV/0!"},{"$error":"#DIV/0!"},null,{"$f":"OFFSET(EL_Area_Vol!$A$2,MATCH(AN11,capacitycurve,1),0,1,1)+((OFFSET(EL_Area_Vol!$A$2,MATCH(AN11,capacitycurve,1)+1,0,1,1)-OFFSET(EL_Area_Vol!$A$2,MATCH(AN11,capacitycurve,1),0,1,1))*(AN11-OFFSET(EL_Area_Vol!$A$2,MATCH(AN11,capacitycurve,1),2,1,1))/(OFFSET(EL_Area_Vol!$A$2,MATCH(AN11,capacitycurve,1)+1,2,1,1)-OFFSET(EL_Area_Vol!$A$2,MATCH(AN11,capacitycurve,1),2,1,1)))","v":{"$error":"#N/A"}},{"$f":"OFFSET(EL_Area_Vol!$A$2,MATCH(AO11,capacitycurve,1),0,1,1)+((OFFSET(EL_Area_Vol!$A$2,MATCH(AO11,capacitycurve,1)+1,0,1,1)-OFFSET(EL_Area_Vol!$A$2,MATCH(AO11,capacitycurve,1),0,1,1))*(AO11-OFFSET(EL_Area_Vol!$A$2,MATCH(AO11,capacitycurve,1),2,1,1))/(OFFSET(EL_Area_Vol!$A$2,MATCH(AO11,capacitycurve,1)+1,2,1,1)-OFFSET(EL_Area_Vol!$A$2,MATCH(AO11,capacitycurve,1),2,1,1)))","v":{"$error":"#N/A"}},{"$f":"OFFSET(EL_Area_Vol!$A$2,MATCH(AP11,capacitycurve,1),0,1,1)+((OFFSET(EL_Area_Vol!$A$2,MATCH(AP11,capacitycurve,1)+1,0,1,1)-OFFSET(EL_Area_Vol!$A$2,MATCH(AP11,capacitycurve,1),0,1,1))*(AP11-OFFSET(EL_Area_Vol!$A$2,MATCH(AP11,capacitycurve,1),2,1,1))/(OFFSET(EL_Area_Vol!$A$2,MATCH(AP11,capacitycurve,1)+1,2,1,1)-OFFSET(EL_Area_Vol!$A$2,MATCH(AP11,capacitycurve,1),2,1,1)))","v":{"$error":"#DIV/0!"}},{"$f":"OFFSET(EL_Area_Vol!$A$2,MATCH(AQ11,capacitycurve,1),0,1,1)+((OFFSET(EL_Area_Vol!$A$2,MATCH(AQ11,capacitycurve,1)+1,0,1,1)-OFFSET(EL_Area_Vol!$A$2,MATCH(AQ11,capacitycurve,1),0,1,1))*(AQ11-OFFSET(EL_Area_Vol!$A$2,MATCH(AQ11,capacitycurve,1),2,1,1))/(OFFSET(EL_Area_Vol!$A$2,MATCH(AQ11,capacitycurve,1)+1,2,1,1)-OFFSET(EL_Area_Vol!$A$2,MATCH(AQ11,capacitycurve,1),2,1,1)))","v":{"$error":"#DIV/0!"}},{"$f":"OFFSET(EL_Area_Vol!$A$2,MATCH(AR11,capacitycurve,1),0,1,1)+((OFFSET(EL_Area_Vol!$A$2,MATCH(AR11,capacitycurve,1)+1,0,1,1)-OFFSET(EL_Area_Vol!$A$2,MATCH(AR11,capacitycurve,1),0,1,1))*(AR11-OFFSET(EL_Area_Vol!$A$2,MATCH(AR11,capacitycurve,1),2,1,1))/(OFFSET(EL_Area_Vol!$A$2,MATCH(AR11,capacitycurve,1)+1,2,1,1)-OFFSET(EL_Area_Vol!$A$2,MATCH(AR11,capacitycurve,1),2,1,1)))","v":{"$error":"#DIV/0!"}},{"$f":"OFFSET(EL_Area_Vol!$A$2,MATCH(AS11,capacitycurve,1),0,1,1)+((OFFSET(EL_Area_Vol!$A$2,MATCH(AS11,capacitycurve,1)+1,0,1,1)-OFFSET(EL_Area_Vol!$A$2,MATCH(AS11,capacitycurve,1),0,1,1))*(AS11-OFFSET(EL_Area_Vol!$A$2,MATCH(AS11,capacitycurve,1),2,1,1))/(OFFSET(EL_Area_Vol!$A$2,MATCH(AS11,capacitycurve,1)+1,2,1,1)-OFFSET(EL_Area_Vol!$A$2,MATCH(AS11,capacitycurve,1),2,1,1)))","v":{"$error":"#DIV/0!"}},{"$f":"OFFSET(EL_Area_Vol!$A$2,MATCH(AT11,capacitycurve,1),0,1,1)+((OFFSET(EL_Area_Vol!$A$2,MATCH(AT11,capacitycurve,1)+1,0,1,1)-OFFSET(EL_Area_Vol!$A$2,MATCH(AT11,capacitycurve,1),0,1,1))*(AT11-OFFSET(EL_Area_Vol!$A$2,MATCH(AT11,capacitycurve,1),2,1,1))/(OFFSET(EL_Area_Vol!$A$2,MATCH(AT11,capacitycurve,1)+1,2,1,1)-OFFSET(EL_Area_Vol!$A$2,MATCH(AT11,capacitycurve,1),2,1,1)))","v":{"$error":"#DIV/0!"}}]
[null,"มิ.ย.",{"$f":"'URC POP'!B86","v":{"$error":"#DIV/0!"}},{"$f":"'URC POP'!C86","v":{"$error":"#DIV/0!"}},{"$f":"'URC POP'!D86","v":{"$error":"#DIV/0!"}},{"$f":"'LRC POP'!P84","v":{"$error":"#DIV/0!"}},{"$f":"'LRC POP'!Q84","v":{"$error":"#DIV/0!"}},{"$f":"'LRC POP'!R84","v":{"$error":"#DIV/0!"}},{"$f":"OFFSET(EL_Area_Vol!$A$2,MATCH(C12,capacitycurve,1),0,1,1)+((OFFSET(EL_Area_Vol!$A$2,MATCH(C12,capacitycurve,1)+1,0,1,1)-OFFSET(EL_Area_Vol!$A$2,MATCH(C12,capacitycurve,1),0,1,1))*(C12-OFFSET(EL_Area_Vol!$A$2,MATCH(C12,capacitycurve,1),2,1,1))/(OFFSET(EL_Area_Vol!$A$2,MATCH(C12,capacitycurve,1)+1,2,1,1)-OFFSET(EL_Area_Vol!$A$2,MATCH(C12,capacitycurve,1),2,1,1)))","v":{"$error":"#DIV/0!"}},{"$f":"OFFSET(EL_Area_Vol!$A$2,MATCH(D12,capacitycurve,1),0,1,1)+((OFFSET(EL_Area_Vol!$A$2,MATCH(D12,capacitycurve,1)+1,0,1,1)-OFFSET(EL_Area_Vol!$A$2,MATCH(D12,capacitycurve,1),0,1,1))*(D12-OFFSET(EL_Area_Vol!$A$2,MATCH(D12,capacitycurve,1),2,1,1))/(OFFSET(EL_Area_Vol!$A$2,MATCH(D12,capacitycurve,1)+1,2,1,1)-OFFSET(EL_Area_Vol!$A$2,MATCH(D12,capacitycurve,1),2,1,1)))","v":{"$error":"#DIV/0!"}},{"$f":"OFFSET(EL_Area_Vol!$A$2,MATCH(E12,capacitycurve,1),0,1,1)+((OFFSET(EL_Area_Vol!$A$2,MATCH(E12,capacitycurve,1)+1,0,1,1)-OFFSET(EL_Area_Vol!$A$2,MATCH(E12,capacitycurve,1),0,1,1))*(E12-OFFSET(EL_Area_Vol!$A$2,MATCH(E12,capacitycurve,1),2,1,1))/(OFFSET(EL_Area_Vol!$A$2,MATCH(E12,capacitycurve,1)+1,2,1,1)-OFFSET(EL_Area_Vol!$A$2,MATCH(E12,capacitycurve,1),2,1,1)))","v":{"$error":"#DIV/0!"}},{"$f":"OFFSET(EL_Area_Vol!$A$2,MATCH(F12,capacitycurve,1),0,1,1)+((OFFSET(EL_Area_Vol!$A$2,MATCH(F12,capacitycurve,1)+1,0,1,1)-OFFSET(EL_Area_Vol!$A$2,MATCH(F12,capacitycurve,1),0,1,1))*(F12-OFFSET(EL_Area_Vol!$A$2,MATCH(F12,capacitycurve,1),2,1,1))/(OFFSET(EL_Area_Vol!$A$2,MATCH(F12,capacitycurve,1)+1,2,1,1)-OFFSET(EL_Area_Vol!$A$2,MATCH(F12,capacitycurve,1),2,1,1)))","v":{"$error":"#DIV/0!"}},{"$f":"OFFSET(EL_Area_Vol!$A$2,MATCH(G12,capacitycurve,1),0,1,1)+((OFFSET(EL_Area_Vol!$A$2,MATCH(G12,capacitycurve,1)+1,0,1,1)-OFFSET(EL_Area_Vol!$A$2,MATCH(G12,capacitycurve,1),0,1,1))*(G12-OFFSET(EL_Area_Vol!$A$2,MATCH(G12,capacitycurve,1),2,1,1))/(OFFSET(EL_Area_Vol!$A$2,MATCH(G12,capacitycurve,1)+1,2,1,1)-OFFSET(EL_Area_Vol!$A$2,MATCH(G12,capacitycurve,1),2,1,1)))","v":{"$error":"#DIV/0!"}},{"$f":"OFFSET(EL_Area_Vol!$A$2,MATCH(H12,capacitycurve,1),0,1,1)+((OFFSET(EL_Area_Vol!$A$2,MATCH(H12,capacitycurve,1)+1,0,1,1)-OFFSET(EL_Area_Vol!$A$2,MATCH(H12,capacitycurve,1),0,1,1))*(H12-OFFSET(EL_Area_Vol!$A$2,MATCH(H12,capacitycurve,1),2,1,1))/(OFFSET(EL_Area_Vol!$A$2,MATCH(H12,capacitycurve,1)+1,2,1,1)-OFFSET(EL_Area_Vol!$A$2,MATCH(H12,capacitycurve,1),2,1,1)))","v":{"$error":"#DIV/0!"}},{"$f":"OFFSET('Hec3'!$DC$3,0,ROW()-6,1,1)","v":0},{"$f":"OFFSET('Hec3'!$DC$4,0,ROW()-6,1,1)","v":0},{"$f":"OFFSET(EL_Area_Vol!$A$2,MATCH(O12,capacitycurve,1),0,1,1)+((OFFSET(EL_Area_Vol!$A$2,MATCH(O12,capacitycurve,1)+1,0,1,1)-OFFSET(EL_Area_Vol!$A$2,MATCH(O12,capacitycurve,1),0,1,1))*(O12-OFFSET(EL_Area_Vol!$A$2,MATCH(O12,capacitycurve,1),2,1,1))/(OFFSET(EL_Area_Vol!$A$2,MATCH(O12,capacitycurve,1)+1,2,1,1)-OFFSET(EL_Area_Vol!$A$2,MATCH(O12,capacitycurve,1),2,1,1)))","v":{"$error":"#N/A"}},{"$f":"OFFSET(EL_Area_Vol!$A$2,MATCH(P12,capacitycurve,1),0,1,1)+((OFFSET(EL_Area_Vol!$A$2,MATCH(P12,capacitycurve,1)+1,0,1,1)-OFFSET(EL_Area_Vol!$A$2,MATCH(P12,capacitycurve,1),0,1,1))*(P12-OFFSET(EL_Area_Vol!$A$2,MATCH(P12,capacitycurve,1),2,1,1))/(OFFSET(EL_Area_Vol!$A$2,MATCH(P12,capacitycurve,1)+1,2,1,1)-OFFSET(EL_Area_Vol!$A$2,MATCH(P12,capacitycurve,1),2,1,1)))","v":{"$error":"#N/A"}},null,null,null,null,null,null,null,null,"มิ.ย.",{"$f":"'หา NRI'!C66","v":{"$error":"#DIV/0!"}},{"$f":"'หา NRI'!D66","v":{"$error":"#DIV/0!"}},{"$f":"'หา NRI'!E66","v":{"$error":"#DIV/0!"}},{"$f":"'หา NRI'!F66","v":{"$error":"#DIV/0!"}},{"$f":"OFFSET(EL_Area_Vol!$A$2,MATCH(AB12,capacitycurve,1),0,1,1)+((OFFSET(EL_Area_Vol!$A$2,MATCH(AB12,capacitycurve,1)+1,0,1,1)-OFFSET(EL_Area_Vol!$A$2,MATCH(AB12,capacitycurve,1),0,1,1))*(AB12-OFFSET(EL_Area_Vol!$A$2,MATCH(AB12,capacitycurve,1),2,1,1))/(OFFSET(EL_Area_Vol!$A$2,MATCH(AB12,capacitycurve,1)+1,2,1,1)-OFFSET(EL_Area_Vol!$A$2,MATCH(AB12,capacitycurve,1),2,1,1)))","v":{"$error":"#DIV/0!"}},{"$f":"OFFSET(EL_Area_Vol!$A$2,MATCH(AC12,capacitycurve,1),0,1,1)+((OFFSET(EL_Area_Vol!$A$2,MATCH(AC12,capacitycurve,1)+1,0,1,1)-OFFSET(EL_Area_Vol!$A$2,MATCH(AC12,capacitycurve,1),0,1,1))*(AC12-OFFSET(EL_Area_Vol!$A$2,MATCH(AC12,capacitycurve,1),2,1,1))/(OFFSET(EL_Area_Vol!$A$2,MATCH(AC12,capacitycurve,1)+1,2,1,1)-OFFSET(EL_Area_Vol!$A$2,MATCH(AC12,capacitycurve,1),2,1,1)))","v":{"$error":"#DIV/0!"}},{"$f":"OFFSET(EL_Area_Vol!$A$2,MATCH(AD12,capacitycurve,1),0,1,1)+((OFFSET(EL_Area_Vol!$A$2,MATCH(AD12,capacitycurve,1)+1,0,1,1)-OFFSET(EL_Area_Vol!$A$2,MATCH(AD12,capacitycurve,1),0,1,1))*(AD12-OFFSET(EL_Area_Vol!$A$2,MATCH(AD12,capacitycurve,1),2,1,1))/(OFFSET(EL_Area_Vol!$A$2,MATCH(AD12,capacitycurve,1)+1,2,1,1)-OFFSET(EL_Area_Vol!$A$2,MATCH(AD12,capacitycurve,1),2,1,1)))","v":{"$error":"#DIV/0!"}},{"$f":"OFFSET(EL_Area_Vol!$A$2,MATCH(AE12,capacitycurve,1),0,1,1)+((OFFSET(EL_Area_Vol!$A$2,MATCH(AE12,capacitycurve,1)+1,0,1,1)-OFFSET(EL_Area_Vol!$A$2,MATCH(AE12,capacitycurve,1),0,1,1))*(AE12-OFFSET(EL_Area_Vol!$A$2,MATCH(AE12,capacitycurve,1),2,1,1))/(OFFSET(EL_Area_Vol!$A$2,MATCH(AE12,capacitycurve,1)+1,2,1,1)-OFFSET(EL_Area_Vol!$A$2,MATCH(AE12,capacitycurve,1),2,1,1)))","v":{"$error":"#DIV/0!"}},null,null,null,6,0,0,{"$f":"'หา NRI'!C23","v":{"$error":"#DIV/0!"}},{"$f":"'หา NRI'!C66","v":{"$error":"#DIV/0!"}},{"$f":"'หา NRI'!D66","v":{"$error":"#DIV/0!"}},{"$error":"#DIV/0!"},{"$error":"#DIV/0!"},null,{"$f":"OFFSET(EL_Area_Vol!$A$2,MATCH(AN12,capacitycurve,1),0,1,1)+((OFFSET(EL_Area_Vol!$A$2,MATCH(AN12,capacitycurve,1)+1,0,1,1)-OFFSET(EL_Area_Vol!$A$2,MATCH(AN12,capacitycurve,1),0,1,1))*(AN12-OFFSET(EL_Area_Vol!$A$2,MATCH(AN12,capacitycurve,1),2,1,1))/(OFFSET(EL_Area_Vol!$A$2,MATCH(AN12,capacitycurve,1)+1,2,1,1)-OFFSET(EL_Area_Vol!$A$2,MATCH(AN12,capacitycurve,1),2,1,1)))","v":{"$error":"#N/A"}},{"$f":"OFFSET(EL_Area_Vol!$A$2,MATCH(AO12,capacitycurve,1),0,1,1)+((OFFSET(EL_Area_Vol!$A$2,MATCH(AO12,capacitycurve,1)+1,0,1,1)-OFFSET(EL_Area_Vol!$A$2,MATCH(AO12,capacitycurve,1),0,1,1))*(AO12-OFFSET(EL_Area_Vol!$A$2,MATCH(AO12,capacitycurve,1),2,1,1))/(OFFSET(EL_Area_Vol!$A$2,MATCH(AO12,capacitycurve,1)+1,2,1,1)-OFFSET(EL_Area_Vol!$A$2,MATCH(AO12,capacitycurve,1),2,1,1)))","v":{"$error":"#N/A"}},{"$f":"OFFSET(EL_Area_Vol!$A$2,MATCH(AP12,capacitycurve,1),0,1,1)+((OFFSET(EL_Area_Vol!$A$2,MATCH(AP12,capacitycurve,1)+1,0,1,1)-OFFSET(EL_Area_Vol!$A$2,MATCH(AP12,capacitycurve,1),0,1,1))*(AP12-OFFSET(EL_Area_Vol!$A$2,MATCH(AP12,capacitycurve,1),2,1,1))/(OFFSET(EL_Area_Vol!$A$2,MATCH(AP12,capacitycurve,1)+1,2,1,1)-OFFSET(EL_Area_Vol!$A$2,MATCH(AP12,capacitycurve,1),2,1,1)))","v":{"$error":"#DIV/0!"}},{"$f":"OFFSET(EL_Area_Vol!$A$2,MATCH(AQ12,capacitycurve,1),0,1,1)+((OFFSET(EL_Area_Vol!$A$2,MATCH(AQ12,capacitycurve,1)+1,0,1,1)-OFFSET(EL_Area_Vol!$A$2,MATCH(AQ12,capacitycurve,1),0,1,1))*(AQ12-OFFSET(EL_Area_Vol!$A$2,MATCH(AQ12,capacitycurve,1),2,1,1))/(OFFSET(EL_Area_Vol!$A$2,MATCH(AQ12,capacitycurve,1)+1,2,1,1)-OFFSET(EL_Area_Vol!$A$2,MATCH(AQ12,capacitycurve,1),2,1,1)))","v":{"$error":"#DIV/0!"}},{"$f":"OFFSET(EL_Area_Vol!$A$2,MATCH(AR12,capacitycurve,1),0,1,1)+((OFFSET(EL_Area_Vol!$A$2,MATCH(AR12,capacitycurve,1)+1,0,1,1)-OFFSET(EL_Area_Vol!$A$2,MATCH(AR12,capacitycurve,1),0,1,1))*(AR12-OFFSET(EL_Area_Vol!$A$2,MATCH(AR12,capacitycurve,1),2,1,1))/(OFFSET(EL_Area_Vol!$A$2,MATCH(AR12,capacitycurve,1)+1,2,1,1)-OFFSET(EL_Area_Vol!$A$2,MATCH(AR12,capacitycurve,1),2,1,1)))","v":{"$error":"#DIV/0!"}},{"$f":"OFFSET(EL_Area_Vol!$A$2,MATCH(AS12,capacitycurve,1),0,1,1)+((OFFSET(EL_Area_Vol!$A$2,MATCH(AS12,capacitycurve,1)+1,0,1,1)-OFFSET(EL_Area_Vol!$A$2,MATCH(AS12,capacitycurve,1),0,1,1))*(AS12-OFFSET(EL_Area_Vol!$A$2,MATCH(AS12,capacitycurve,1),2,1,1))/(OFFSET(EL_Area_Vol!$A$2,MATCH(AS12,capacitycurve,1)+1,2,1,1)-OFFSET(EL_Area_Vol!$A$2,MATCH(AS12,capacitycurve,1),2,1,1)))","v":{"$error":"#DIV/0!"}},{"$f":"OFFSET(EL_Area_Vol!$A$2,MATCH(AT12,capacitycurve,1),0,1,1)+((OFFSET(EL_Area_Vol!$A$2,MATCH(AT12,capacitycurve,1)+1,0,1,1)-OFFSET(EL_Area_Vol!$A$2,MATCH(AT12,capacitycurve,1),0,1,1))*(AT12-OFFSET(EL_Area_Vol!$A$2,MATCH(AT12,capacitycurve,1),2,1,1))/(OFFSET(EL_Area_Vol!$A$2,MATCH(AT12,capacitycurve,1)+1,2,1,1)-OFFSET(EL_Area_Vol!$A$2,MATCH(AT12,capacitycurve,1),2,1,1)))","v":{"$error":"#DIV/0!"}}]
[null,"ก.ค.",{"$f":"'URC POP'!B87","v":{"$error":"#DIV/0!"}},{"$f":"'URC POP'!C87","v":{"$error":"#DIV/0!"}},{"$f":"'URC POP'!D87","v":{"$error":"#DIV/0!"}},{"$f":"'LRC POP'!P85","v":{"$error":"#DIV/0!"}},{"$f":"'LRC POP'!Q85","v":{"$error":"#DIV/0!"}},{"$f":"'LRC POP'!R85","v":{"$error":"#DIV/0!"}},{"$f":"OFFSET(EL_Area_Vol!$A$2,MATCH(C13,capacitycurve,1),0,1,1)+((OFFSET(EL_Area_Vol!$A$2,MATCH(C13,capacitycurve,1)+1,0,1,1)-OFFSET(EL_Area_Vol!$A$2,MATCH(C13,capacitycurve,1),0,1,1))*(C13-OFFSET(EL_Area_Vol!$A$2,MATCH(C13,capacitycurve,1),2,1,1))/(OFFSET(EL_Area_Vol!$A$2,MATCH(C13,capacitycurve,1)+1,2,1,1)-OFFSET(EL_Area_Vol!$A$2,MATCH(C13,capacitycurve,1),2,1,1)))","v":{"$error":"#DIV/0!"}},{"$f":"OFFSET(EL_Area_Vol!$A$2,MATCH(D13,capacitycurve,1),0,1,1)+((OFFSET(EL_Area_Vol!$A$2,MATCH(D13,capacitycurve,1)+1,0,1,1)-OFFSET(EL_Area_Vol!$A$2,MATCH(D13,capacitycurve,1),0,1,1))*(D13-OFFSET(EL_Area_Vol!$A$2,MATCH(D13,capacitycurve,1),2,1,1))/(OFFSET(EL_Area_Vol!$A$2,MATCH(D13,capacitycurve,1)+1,2,1,1)-OFFSET(EL_Area_Vol!$A$2,MATCH(D13,capacitycurve,1),2,1,1)))","v":{"$error":"#DIV/0!"}},{"$f":"OFFSET(EL_Area_Vol!$A$2,MATCH(E13,capacitycurve,1),0,1,1)+((OFFSET(EL_Area_Vol!$A$2,MATCH(E13,capacitycurve,1)+1,0,1,1)-OFFSET(EL_Area_Vol!$A$2,MATCH(E13,capacitycurve,1),0,1,1))*(E13-OFFSET(EL_Area_Vol!$A$2,MATCH(E13,capacitycurve,1),2,1,1))/(OFFSET(EL_Area_Vol!$A$2,MATCH(E13,capacitycurve,1)+1,2,1,1)-OFFSET(EL_Area_Vol!$A$2,MATCH(E13,capacitycurve,1),2,1,1)))","v":{"$error":"#DIV/0!"}},{"$f":"OFFSET(EL_Area_Vol!$A$2,MATCH(F13,capacitycurve,1),0,1,1)+((OFFSET(EL_Area_Vol!$A$2,MATCH(F13,capacitycurve,1)+1,0,1,1)-OFFSET(EL_Area_Vol!$A$2,MATCH(F13,capacitycurve,1),0,1,1))*(F13-OFFSET(EL_Area_Vol!$A$2,MATCH(F13,capacitycurve,1),2,1,1))/(OFFSET(EL_Area_Vol!$A$2,MATCH(F13,capacitycurve,1)+1,2,1,1)-OFFSET(EL_Area_Vol!$A$2,MATCH(F13,capacitycurve,1),2,1,1)))","v":{"$error":"#DIV/0!"}},{"$f":"OFFSET(EL_Area_Vol!$A$2,MATCH(G13,capacitycurve,1),0,1,1)+((OFFSET(EL_Area_Vol!$A$2,MATCH(G13,capacitycurve,1)+1,0,1,1)-OFFSET(EL_Area_Vol!$A$2,MATCH(G13,capacitycurve,1),0,1,1))*(G13-OFFSET(EL_Area_Vol!$A$2,MATCH(G13,capacitycurve,1),2,1,1))/(OFFSET(EL_Area_Vol!$A$2,MATCH(G13,capacitycurve,1)+1,2,1,1)-OFFSET(EL_Area_Vol!$A$2,MATCH(G13,capacitycurve,1),2,1,1)))","v":{"$error":"#DIV/0!"}},{"$f":"OFFSET(EL_Area_Vol!$A$2,MATCH(H13,capacitycurve,1),0,1,1)+((OFFSET(EL_Area_Vol!$A$2,MATCH(H13,capacitycurve,1)+1,0,1,1)-OFFSET(EL_Area_Vol!$A$2,MATCH(H13,capacitycurve,1),0,1,1))*(H13-OFFSET(EL_Area_Vol!$A$2,MATCH(H13,capacitycurve,1),2,1,1))/(OFFSET(EL_Area_Vol!$A$2,MATCH(H13,capacitycurve,1)+1,2,1,1)-OFFSET(EL_Area_Vol!$A$2,MATCH(H13,capacitycurve,1),2,1,1)))","v":{"$error":"#DIV/0!"}},{"$f":"OFFSET('Hec3'!$DC$3,0,ROW()-6,1,1)","v":0},{"$f":"OFFSET('Hec3'!$DC$4,0,ROW()-6,1,1)","v":0},{"$f":"OFFSET(EL_Area_Vol!$A$2,MATCH(O13,capacitycurve,1),0,1,1)+((OFFSET(EL_Area_Vol!$A$2,MATCH(O13,capacitycurve,1)+1,0,1,1)-OFFSET(EL_Area_Vol!$A$2,MATCH(O13,capacitycurve,1),0,1,1))*(O13-OFFSET(EL_Area_Vol!$A$2,MATCH(O13,capacitycurve,1),2,1,1))/(OFFSET(EL_Area_Vol!$A$2,MATCH(O13,capacitycurve,1)+1,2,1,1)-OFFSET(EL_Area_Vol!$A$2,MATCH(O13,capacitycurve,1),2,1,1)))","v":{"$error":"#N/A"}},{"$f":"OFFSET(EL_Area_Vol!$A$2,MATCH(P13,capacitycurve,1),0,1,1)+((OFFSET(EL_Area_Vol!$A$2,MATCH(P13,capacitycurve,1)+1,0,1,1)-OFFSET(EL_Area_Vol!$A$2,MATCH(P13,capacitycurve,1),0,1,1))*(P13-OFFSET(EL_Area_Vol!$A$2,MATCH(P13,capacitycurve,1),2,1,1))/(OFFSET(EL_Area_Vol!$A$2,MATCH(P13,capacitycurve,1)+1,2,1,1)-OFFSET(EL_Area_Vol!$A$2,MATCH(P13,capacitycurve,1),2,1,1)))","v":{"$error":"#N/A"}},null,null,null,null,null,null,null,null,"ก.ค.",{"$f":"'หา NRI'!C67","v":{"$error":"#DIV/0!"}},{"$f":"'หา NRI'!D67","v":{"$error":"#DIV/0!"}},{"$f":"'หา NRI'!E67","v":{"$error":"#DIV/0!"}},{"$f":"'หา NRI'!F67","v":{"$error":"#DIV/0!"}},{"$f":"OFFSET(EL_Area_Vol!$A$2,MATCH(AB13,capacitycurve,1),0,1,1)+((OFFSET(EL_Area_Vol!$A$2,MATCH(AB13,capacitycurve,1)+1,0,1,1)-OFFSET(EL_Area_Vol!$A$2,MATCH(AB13,capacitycurve,1),0,1,1))*(AB13-OFFSET(EL_Area_Vol!$A$2,MATCH(AB13,capacitycurve,1),2,1,1))/(OFFSET(EL_Area_Vol!$A$2,MATCH(AB13,capacitycurve,1)+1,2,1,1)-OFFSET(EL_Area_Vol!$A$2,MATCH(AB13,capacitycurve,1),2,1,1)))","v":{"$error":"#DIV/0!"}},{"$f":"OFFSET(EL_Area_Vol!$A$2,MATCH(AC13,capacitycurve,1),0,1,1)+((OFFSET(EL_Area_Vol!$A$2,MATCH(AC13,capacitycurve,1)+1,0,1,1)-OFFSET(EL_Area_Vol!$A$2,MATCH(AC13,capacitycurve,1),0,1,1))*(AC13-OFFSET(EL_Area_Vol!$A$2,MATCH(AC13,capacitycurve,1),2,1,1))/(OFFSET(EL_Area_Vol!$A$2,MATCH(AC13,capacitycurve,1)+1,2,1,1)-OFFSET(EL_Area_Vol!$A$2,MATCH(AC13,capacitycurve,1),2,1,1)))","v":{"$error":"#DIV/0!"}},{"$f":"OFFSET(EL_Area_Vol!$A$2,MATCH(AD13,capacitycurve,1),0,1,1)+((OFFSET(EL_Area_Vol!$A$2,MATCH(AD13,capacitycurve,1)+1,0,1,1)-OFFSET(EL_Area_Vol!$A$2,MATCH(AD13,capacitycurve,1),0,1,1))*(AD13-OFFSET(EL_Area_Vol!$A$2,MATCH(AD13,capacitycurve,1),2,1,1))/(OFFSET(EL_Area_Vol!$A$2,MATCH(AD13,capacitycurve,1)+1,2,1,1)-OFFSET(EL_Area_Vol!$A$2,MATCH(AD13,capacitycurve,1),2,1,1)))","v":{"$error":"#DIV/0!"}},{"$f":"OFFSET(EL_Area_Vol!$A$2,MATCH(AE13,capacitycurve,1),0,1,1)+((OFFSET(EL_Area_Vol!$A$2,MATCH(AE13,capacitycurve,1)+1,0,1,1)-OFFSET(EL_Area_Vol!$A$2,MATCH(AE13,capacitycurve,1),0,1,1))*(AE13-OFFSET(EL_Area_Vol!$A$2,MATCH(AE13,capacitycurve,1),2,1,1))/(OFFSET(EL_Area_Vol!$A$2,MATCH(AE13,capacitycurve,1)+1,2,1,1)-OFFSET(EL_Area_Vol!$A$2,MATCH(AE13,capacitycurve,1),2,1,1)))","v":{"$error":"#DIV/0!"}},null,null,null,7,0,0,{"$f":"'หา NRI'!C24","v":{"$error":"#DIV/0!"}},{"$f":"'หา NRI'!C67","v":{"$error":"#DIV/0!"}},{"$f":"'หา NRI'!D67","v":{"$error":"#DIV/0!"}},{"$error":"#DIV/0!"},{"$error":"#DIV/0!"},null,{"$f":"OFFSET(EL_Area_Vol!$A$2,MATCH(AN13,capacitycurve,1),0,1,1)+((OFFSET(EL_Area_Vol!$A$2,MATCH(AN13,capacitycurve,1)+1,0,1,1)-OFFSET(EL_Area_Vol!$A$2,MATCH(AN13,capacitycurve,1),0,1,1))*(AN13-OFFSET(EL_Area_Vol!$A$2,MATCH(AN13,capacitycurve,1),2,1,1))/(OFFSET(EL_Area_Vol!$A$2,MATCH(AN13,capacitycurve,1)+1,2,1,1)-OFFSET(EL_Area_Vol!$A$2,MATCH(AN13,capacitycurve,1),2,1,1)))","v":{"$error":"#N/A"}},{"$f":"OFFSET(EL_Area_Vol!$A$2,MATCH(AO13,capacitycurve,1),0,1,1)+((OFFSET(EL_Area_Vol!$A$2,MATCH(AO13,capacitycurve,1)+1,0,1,1)-OFFSET(EL_Area_Vol!$A$2,MATCH(AO13,capacitycurve,1),0,1,1))*(AO13-OFFSET(EL_Area_Vol!$A$2,MATCH(AO13,capacitycurve,1),2,1,1))/(OFFSET(EL_Area_Vol!$A$2,MATCH(AO13,capacitycurve,1)+1,2,1,1)-OFFSET(EL_Area_Vol!$A$2,MATCH(AO13,capacitycurve,1),2,1,1)))","v":{"$error":"#N/A"}},{"$f":"OFFSET(EL_Area_Vol!$A$2,MATCH(AP13,capacitycurve,1),0,1,1)+((OFFSET(EL_Area_Vol!$A$2,MATCH(AP13,capacitycurve,1)+1,0,1,1)-OFFSET(EL_Area_Vol!$A$2,MATCH(AP13,capacitycurve,1),0,1,1))*(AP13-OFFSET(EL_Area_Vol!$A$2,MATCH(AP13,capacitycurve,1),2,1,1))/(OFFSET(EL_Area_Vol!$A$2,MATCH(AP13,capacitycurve,1)+1,2,1,1)-OFFSET(EL_Area_Vol!$A$2,MATCH(AP13,capacitycurve,1),2,1,1)))","v":{"$error":"#DIV/0!"}},{"$f":"OFFSET(EL_Area_Vol!$A$2,MATCH(AQ13,capacitycurve,1),0,1,1)+((OFFSET(EL_Area_Vol!$A$2,MATCH(AQ13,capacitycurve,1)+1,0,1,1)-OFFSET(EL_Area_Vol!$A$2,MATCH(AQ13,capacitycurve,1),0,1,1))*(AQ13-OFFSET(EL_Area_Vol!$A$2,MATCH(AQ13,capacitycurve,1),2,1,1))/(OFFSET(EL_Area_Vol!$A$2,MATCH(AQ13,capacitycurve,1)+1,2,1,1)-OFFSET(EL_Area_Vol!$A$2,MATCH(AQ13,capacitycurve,1),2,1,1)))","v":{"$error":"#DIV/0!"}},{"$f":"OFFSET(EL_Area_Vol!$A$2,MATCH(AR13,capacitycurve,1),0,1,1)+((OFFSET(EL_Area_Vol!$A$2,MATCH(AR13,capacitycurve,1)+1,0,1,1)-OFFSET(EL_Area_Vol!$A$2,MATCH(AR13,capacitycurve,1),0,1,1))*(AR13-OFFSET(EL_Area_Vol!$A$2,MATCH(AR13,capacitycurve,1),2,1,1))/(OFFSET(EL_Area_Vol!$A$2,MATCH(AR13,capacitycurve,1)+1,2,1,1)-OFFSET(EL_Area_Vol!$A$2,MATCH(AR13,capacitycurve,1),2,1,1)))","v":{"$error":"#DIV/0!"}},{"$f":"OFFSET(EL_Area_Vol!$A$2,MATCH(AS13,capacitycurve,1),0,1,1)+((OFFSET(EL_Area_Vol!$A$2,MATCH(AS13,capacitycurve,1)+1,0,1,1)-OFFSET(EL_Area_Vol!$A$2,MATCH(AS13,capacitycurve,1),0,1,1))*(AS13-OFFSET(EL_Area_Vol!$A$2,MATCH(AS13,capacitycurve,1),2,1,1))/(OFFSET(EL_Area_Vol!$A$2,MATCH(AS13,capacitycurve,1)+1,2,1,1)-OFFSET(EL_Area_Vol!$A$2,MATCH(AS13,capacitycurve,1),2,1,1)))","v":{"$error":"#DIV/0!"}},{"$f":"OFFSET(EL_Area_Vol!$A$2,MATCH(AT13,capacitycurve,1),0,1,1)+((OFFSET(EL_Area_Vol!$A$2,MATCH(AT13,capacitycurve,1)+1,0,1,1)-OFFSET(EL_Area_Vol!$A$2,MATCH(AT13,capacitycurve,1),0,1,1))*(AT13-OFFSET(EL_Area_Vol!$A$2,MATCH(AT13,capacitycurve,1),2,1,1))/(OFFSET(EL_Area_Vol!$A$2,MATCH(AT13,capacitycurve,1)+1,2,1,1)-OFFSET(EL_Area_Vol!$A$2,MATCH(AT13,capacitycurve,1),2,1,1)))","v":{"$error":"#DIV/0!"}}]
[null,"ส.ค.",{"$f":"'URC POP'!B88","v":{"$error":"#DIV/0!"}},{"$f":"'URC POP'!C88","v":{"$error":"#DIV/0!"}},{"$f":"'URC POP'!D88","v":{"$error":"#DIV/0!"}},{"$f":"'LRC POP'!P86","v":{"$error":"#DIV/0!"}},{"$f":"'LRC POP'!Q86","v":{"$error":"#DIV/0!"}},{"$f":"'LRC POP'!R86","v":{"$error":"#DIV/0!"}},{"$f":"OFFSET(EL_Area_Vol!$A$2,MATCH(C14,capacitycurve,1),0,1,1)+((OFFSET(EL_Area_Vol!$A$2,MATCH(C14,capacitycurve,1)+1,0,1,1)-OFFSET(EL_Area_Vol!$A$2,MATCH(C14,capacitycurve,1),0,1,1))*(C14-OFFSET(EL_Area_Vol!$A$2,MATCH(C14,capacitycurve,1),2,1,1))/(OFFSET(EL_Area_Vol!$A$2,MATCH(C14,capacitycurve,1)+1,2,1,1)-OFFSET(EL_Area_Vol!$A$2,MATCH(C14,capacitycurve,1),2,1,1)))","v":{"$error":"#DIV/0!"}},{"$f":"OFFSET(EL_Area_Vol!$A$2,MATCH(D14,capacitycurve,1),0,1,1)+((OFFSET(EL_Area_Vol!$A$2,MATCH(D14,capacitycurve,1)+1,0,1,1)-OFFSET(EL_Area_Vol!$A$2,MATCH(D14,capacitycurve,1),0,1,1))*(D14-OFFSET(EL_Area_Vol!$A$2,MATCH(D14,capacitycurve,1),2,1,1))/(OFFSET(EL_Area_Vol!$A$2,MATCH(D14,capacitycurve,1)+1,2,1,1)-OFFSET(EL_Area_Vol!$A$2,MATCH(D14,capacitycurve,1),2,1,1)))","v":{"$error":"#DIV/0!"}},{"$f":"OFFSET(EL_Area_Vol!$A$2,MATCH(E14,capacitycurve,1),0,1,1)+((OFFSET(EL_Area_Vol!$A$2,MATCH(E14,capacitycurve,1)+1,0,1,1)-OFFSET(EL_Area_Vol!$A$2,MATCH(E14,capacitycurve,1),0,1,1))*(E14-OFFSET(EL_Area_Vol!$A$2,MATCH(E14,capacitycurve,1),2,1,1))/(OFFSET(EL_Area_Vol!$A$2,MATCH(E14,capacitycurve,1)+1,2,1,1)-OFFSET(EL_Area_Vol!$A$2,MATCH(E14,capacitycurve,1),2,1,1)))","v":{"$error":"#DIV/0!"}},{"$f":"OFFSET(EL_Area_Vol!$A$2,MATCH(F14,capacitycurve,1),0,1,1)+((OFFSET(EL_Area_Vol!$A$2,MATCH(F14,capacitycurve,1)+1,0,1,1)-OFFSET(EL_Area_Vol!$A$2,MATCH(F14,capacitycurve,1),0,1,1))*(F14-OFFSET(EL_Area_Vol!$A$2,MATCH(F14,capacitycurve,1),2,1,1))/(OFFSET(EL_Area_Vol!$A$2,MATCH(F14,capacitycurve,1)+1,2,1,1)-OFFSET(EL_Area_Vol!$A$2,MATCH(F14,capacitycurve,1),2,1,1)))","v":{"$error":"#DIV/0!"}},{"$f":"OFFSET(EL_Area_Vol!$A$2,MATCH(G14,capacitycurve,1),0,1,1)+((OFFSET(EL_Area_Vol!$A$2,MATCH(G14,capacitycurve,1)+1,0,1,1)-OFFSET(EL_Area_Vol!$A$2,MATCH(G14,capacitycurve,1),0,1,1))*(G14-OFFSET(EL_Area_Vol!$A$2,MATCH(G14,capacitycurve,1),2,1,1))/(OFFSET(EL_Area_Vol!$A$2,MATCH(G14,capacitycurve,1)+1,2,1,1)-OFFSET(EL_Area_Vol!$A$2,MATCH(G14,capacitycurve,1),2,1,1)))","v":{"$error":"#DIV/0!"}},{"$f":"OFFSET(EL_Area_Vol!$A$2,MATCH(H14,capacitycurve,1),0,1,1)+((OFFSET(EL_Area_Vol!$A$2,MATCH(H14,capacitycurve,1)+1,0,1,1)-OFFSET(EL_Area_Vol!$A$2,MATCH(H14,capacitycurve,1),0,1,1))*(H14-OFFSET(EL_Area_Vol!$A$2,MATCH(H14,capacitycurve,1),2,1,1))/(OFFSET(EL_Area_Vol!$A$2,MATCH(H14,capacitycurve,1)+1,2,1,1)-OFFSET(EL_Area_Vol!$A$2,MATCH(H14,capacitycurve,1),2,1,1)))","v":{"$error":"#DIV/0!"}},{"$f":"OFFSET('Hec3'!$DC$3,0,ROW()-6,1,1)","v":0},{"$f":"OFFSET('Hec3'!$DC$4,0,ROW()-6,1,1)","v":0},{"$f":"OFFSET(EL_Area_Vol!$A$2,MATCH(O14,capacitycurve,1),0,1,1)+((OFFSET(EL_Area_Vol!$A$2,MATCH(O14,capacitycurve,1)+1,0,1,1)-OFFSET(EL_Area_Vol!$A$2,MATCH(O14,capacitycurve,1),0,1,1))*(O14-OFFSET(EL_Area_Vol!$A$2,MATCH(O14,capacitycurve,1),2,1,1))/(OFFSET(EL_Area_Vol!$A$2,MATCH(O14,capacitycurve,1)+1,2,1,1)-OFFSET(EL_Area_Vol!$A$2,MATCH(O14,capacitycurve,1),2,1,1)))","v":{"$error":"#N/A"}},{"$f":"OFFSET(EL_Area_Vol!$A$2,MATCH(P14,capacitycurve,1),0,1,1)+((OFFSET(EL_Area_Vol!$A$2,MATCH(P14,capacitycurve,1)+1,0,1,1)-OFFSET(EL_Area_Vol!$A$2,MATCH(P14,capacitycurve,1),0,1,1))*(P14-OFFSET(EL_Area_Vol!$A$2,MATCH(P14,capacitycurve,1),2,1,1))/(OFFSET(EL_Area_Vol!$A$2,MATCH(P14,capacitycurve,1)+1,2,1,1)-OFFSET(EL_Area_Vol!$A$2,MATCH(P14,capacitycurve,1),2,1,1)))","v":{"$error":"#N/A"}},null,null,null,null,null,null,null,null,"ส.ค.",{"$f":"'หา NRI'!C68","v":{"$error":"#DIV/0!"}},{"$f":"'หา NRI'!D68","v":{"$error":"#DIV/0!"}},{"$f":"'หา NRI'!E68","v":{"$error":"#DIV/0!"}},{"$f":"'หา NRI'!F68","v":{"$error":"#DIV/0!"}},{"$f":"OFFSET(EL_Area_Vol!$A$2,MATCH(AB14,capacitycurve,1),0,1,1)+((OFFSET(EL_Area_Vol!$A$2,MATCH(AB14,capacitycurve,1)+1,0,1,1)-OFFSET(EL_Area_Vol!$A$2,MATCH(AB14,capacitycurve,1),0,1,1))*(AB14-OFFSET(EL_Area_Vol!$A$2,MATCH(AB14,capacitycurve,1),2,1,1))/(OFFSET(EL_Area_Vol!$A$2,MATCH(AB14,capacitycurve,1)+1,2,1,1)-OFFSET(EL_Area_Vol!$A$2,MATCH(AB14,capacitycurve,1),2,1,1)))","v":{"$error":"#DIV/0!"}},{"$f":"OFFSET(EL_Area_Vol!$A$2,MATCH(AC14,capacitycurve,1),0,1,1)+((OFFSET(EL_Area_Vol!$A$2,MATCH(AC14,capacitycurve,1)+1,0,1,1)-OFFSET(EL_Area_Vol!$A$2,MATCH(AC14,capacitycurve,1),0,1,1))*(AC14-OFFSET(EL_Area_Vol!$A$2,MATCH(AC14,capacitycurve,1),2,1,1))/(OFFSET(EL_Area_Vol!$A$2,MATCH(AC14,capacitycurve,1)+1,2,1,1)-OFFSET(EL_Area_Vol!$A$2,MATCH(AC14,capacitycurve,1),2,1,1)))","v":{"$error":"#DIV/0!"}},{"$f":"OFFSET(EL_Area_Vol!$A$2,MATCH(AD14,capacitycurve,1),0,1,1)+((OFFSET(EL_Area_Vol!$A$2,MATCH(AD14,capacitycurve,1)+1,0,1,1)-OFFSET(EL_Area_Vol!$A$2,MATCH(AD14,capacitycurve,1),0,1,1))*(AD14-OFFSET(EL_Area_Vol!$A$2,MATCH(AD14,capacitycurve,1),2,1,1))/(OFFSET(EL_Area_Vol!$A$2,MATCH(AD14,capacitycurve,1)+1,2,1,1)-OFFSET(EL_Area_Vol!$A$2,MATCH(AD14,capacitycurve,1),2,1,1)))","v":{"$error":"#DIV/0!"}},{"$f":"OFFSET(EL_Area_Vol!$A$2,MATCH(AE14,capacitycurve,1),0,1,1)+((OFFSET(EL_Area_Vol!$A$2,MATCH(AE14,capacitycurve,1)+1,0,1,1)-OFFSET(EL_Area_Vol!$A$2,MATCH(AE14,capacitycurve,1),0,1,1))*(AE14-OFFSET(EL_Area_Vol!$A$2,MATCH(AE14,capacitycurve,1),2,1,1))/(OFFSET(EL_Area_Vol!$A$2,MATCH(AE14,capacitycurve,1)+1,2,1,1)-OFFSET(EL_Area_Vol!$A$2,MATCH(AE14,capacitycurve,1),2,1,1)))","v":{"$error":"#DIV/0!"}},null,null,null,8,0,0,{"$f":"'หา NRI'!C25","v":{"$error":"#DIV/0!"}},{"$f":"'หา NRI'!C68","v":{"$error":"#DIV/0!"}},{"$f":"'หา NRI'!D68","v":{"$error":"#DIV/0!"}},{"$error":"#DIV/0!"},{"$error":"#DIV/0!"},null,{"$f":"OFFSET(EL_Area_Vol!$A$2,MATCH(AN14,capacitycurve,1),0,1,1)+((OFFSET(EL_Area_Vol!$A$2,MATCH(AN14,capacitycurve,1)+1,0,1,1)-OFFSET(EL_Area_Vol!$A$2,MATCH(AN14,capacitycurve,1),0,1,1))*(AN14-OFFSET(EL_Area_Vol!$A$2,MATCH(AN14,capacitycurve,1),2,1,1))/(OFFSET(EL_Area_Vol!$A$2,MATCH(AN14,capacitycurve,1)+1,2,1,1)-OFFSET(EL_Area_Vol!$A$2,MATCH(AN14,capacitycurve,1),2,1,1)))","v":{"$error":"#N/A"}},{"$f":"OFFSET(EL_Area_Vol!$A$2,MATCH(AO14,capacitycurve,1),0,1,1)+((OFFSET(EL_Area_Vol!$A$2,MATCH(AO14,capacitycurve,1)+1,0,1,1)-OFFSET(EL_Area_Vol!$A$2,MATCH(AO14,capacitycurve,1),0,1,1))*(AO14-OFFSET(EL_Area_Vol!$A$2,MATCH(AO14,capacitycurve,1),2,1,1))/(OFFSET(EL_Area_Vol!$A$2,MATCH(AO14,capacitycurve,1)+1,2,1,1)-OFFSET(EL_Area_Vol!$A$2,MATCH(AO14,capacitycurve,1),2,1,1)))","v":{"$error":"#N/A"}},{"$f":"OFFSET(EL_Area_Vol!$A$2,MATCH(AP14,capacitycurve,1),0,1,1)+((OFFSET(EL_Area_Vol!$A$2,MATCH(AP14,capacitycurve,1)+1,0,1,1)-OFFSET(EL_Area_Vol!$A$2,MATCH(AP14,capacitycurve,1),0,1,1))*(AP14-OFFSET(EL_Area_Vol!$A$2,MATCH(AP14,capacitycurve,1),2,1,1))/(OFFSET(EL_Area_Vol!$A$2,MATCH(AP14,capacitycurve,1)+1,2,1,1)-OFFSET(EL_Area_Vol!$A$2,MATCH(AP14,capacitycurve,1),2,1,1)))","v":{"$error":"#DIV/0!"}},{"$f":"OFFSET(EL_Area_Vol!$A$2,MATCH(AQ14,capacitycurve,1),0,1,1)+((OFFSET(EL_Area_Vol!$A$2,MATCH(AQ14,capacitycurve,1)+1,0,1,1)-OFFSET(EL_Area_Vol!$A$2,MATCH(AQ14,capacitycurve,1),0,1,1))*(AQ14-OFFSET(EL_Area_Vol!$A$2,MATCH(AQ14,capacitycurve,1),2,1,1))/(OFFSET(EL_Area_Vol!$A$2,MATCH(AQ14,capacitycurve,1)+1,2,1,1)-OFFSET(EL_Area_Vol!$A$2,MATCH(AQ14,capacitycurve,1),2,1,1)))","v":{"$error":"#DIV/0!"}},{"$f":"OFFSET(EL_Area_Vol!$A$2,MATCH(AR14,capacitycurve,1),0,1,1)+((OFFSET(EL_Area_Vol!$A$2,MATCH(AR14,capacitycurve,1)+1,0,1,1)-OFFSET(EL_Area_Vol!$A$2,MATCH(AR14,capacitycurve,1),0,1,1))*(AR14-OFFSET(EL_Area_Vol!$A$2,MATCH(AR14,capacitycurve,1),2,1,1))/(OFFSET(EL_Area_Vol!$A$2,MATCH(AR14,capacitycurve,1)+1,2,1,1)-OFFSET(EL_Area_Vol!$A$2,MATCH(AR14,capacitycurve,1),2,1,1)))","v":{"$error":"#DIV/0!"}},{"$f":"OFFSET(EL_Area_Vol!$A$2,MATCH(AS14,capacitycurve,1),0,1,1)+((OFFSET(EL_Area_Vol!$A$2,MATCH(AS14,capacitycurve,1)+1,0,1,1)-OFFSET(EL_Area_Vol!$A$2,MATCH(AS14,capacitycurve,1),0,1,1))*(AS14-OFFSET(EL_Area_Vol!$A$2,MATCH(AS14,capacitycurve,1),2,1,1))/(OFFSET(EL_Area_Vol!$A$2,MATCH(AS14,capacitycurve,1)+1,2,1,1)-OFFSET(EL_Area_Vol!$A$2,MATCH(AS14,capacitycurve,1),2,1,1)))","v":{"$error":"#DIV/0!"}},{"$f":"OFFSET(EL_Area_Vol!$A$2,MATCH(AT14,capacitycurve,1),0,1,1)+((OFFSET(EL_Area_Vol!$A$2,MATCH(AT14,capacitycurve,1)+1,0,1,1)-OFFSET(EL_Area_Vol!$A$2,MATCH(AT14,capacitycurve,1),0,1,1))*(AT14-OFFSET(EL_Area_Vol!$A$2,MATCH(AT14,capacitycurve,1),2,1,1))/(OFFSET(EL_Area_Vol!$A$2,MATCH(AT14,capacitycurve,1)+1,2,1,1)-OFFSET(EL_Area_Vol!$A$2,MATCH(AT14,capacitycurve,1),2,1,1)))","v":{"$error":"#DIV/0!"}}]
[null,"ก.ย.",{"$f":"'URC POP'!B89","v":{"$error":"#DIV/0!"}},{"$f":"'URC POP'!C89","v":{"$error":"#DIV/0!"}},{"$f":"'URC POP'!D89","v":{"$error":"#DIV/0!"}},{"$f":"'LRC POP'!P87","v":{"$error":"#DIV/0!"}},{"$f":"'LRC POP'!Q87","v":{"$error":"#DIV/0!"}},{"$f":"'LRC POP'!R87","v":{"$error":"#DIV/0!"}},{"$f":"OFFSET(EL_Area_Vol!$A$2,MATCH(C15,capacitycurve,1),0,1,1)+((OFFSET(EL_Area_Vol!$A$2,MATCH(C15,capacitycurve,1)+1,0,1,1)-OFFSET(EL_Area_Vol!$A$2,MATCH(C15,capacitycurve,1),0,1,1))*(C15-OFFSET(EL_Area_Vol!$A$2,MATCH(C15,capacitycurve,1),2,1,1))/(OFFSET(EL_Area_Vol!$A$2,MATCH(C15,capacitycurve,1)+1,2,1,1)-OFFSET(EL_Area_Vol!$A$2,MATCH(C15,capacitycurve,1),2,1,1)))","v":{"$error":"#DIV/0!"}},{"$f":"OFFSET(EL_Area_Vol!$A$2,MATCH(D15,capacitycurve,1),0,1,1)+((OFFSET(EL_Area_Vol!$A$2,MATCH(D15,capacitycurve,1)+1,0,1,1)-OFFSET(EL_Area_Vol!$A$2,MATCH(D15,capacitycurve,1),0,1,1))*(D15-OFFSET(EL_Area_Vol!$A$2,MATCH(D15,capacitycurve,1),2,1,1))/(OFFSET(EL_Area_Vol!$A$2,MATCH(D15,capacitycurve,1)+1,2,1,1)-OFFSET(EL_Area_Vol!$A$2,MATCH(D15,capacitycurve,1),2,1,1)))","v":{"$error":"#DIV/0!"}},{"$f":"OFFSET(EL_Area_Vol!$A$2,MATCH(E15,capacitycurve,1),0,1,1)+((OFFSET(EL_Area_Vol!$A$2,MATCH(E15,capacitycurve,1)+1,0,1,1)-OFFSET(EL_Area_Vol!$A$2,MATCH(E15,capacitycurve,1),0,1,1))*(E15-OFFSET(EL_Area_Vol!$A$2,MATCH(E15,capacitycurve,1),2,1,1))/(OFFSET(EL_Area_Vol!$A$2,MATCH(E15,capacitycurve,1)+1,2,1,1)-OFFSET(EL_Area_Vol!$A$2,MATCH(E15,capacitycurve,1),2,1,1)))","v":{"$error":"#DIV/0!"}},{"$f":"OFFSET(EL_Area_Vol!$A$2,MATCH(F15,capacitycurve,1),0,1,1)+((OFFSET(EL_Area_Vol!$A$2,MATCH(F15,capacitycurve,1)+1,0,1,1)-OFFSET(EL_Area_Vol!$A$2,MATCH(F15,capacitycurve,1),0,1,1))*(F15-OFFSET(EL_Area_Vol!$A$2,MATCH(F15,capacitycurve,1),2,1,1))/(OFFSET(EL_Area_Vol!$A$2,MATCH(F15,capacitycurve,1)+1,2,1,1)-OFFSET(EL_Area_Vol!$A$2,MATCH(F15,capacitycurve,1),2,1,1)))","v":{"$error":"#DIV/0!"}},{"$f":"OFFSET(EL_Area_Vol!$A$2,MATCH(G15,capacitycurve,1),0,1,1)+((OFFSET(EL_Area_Vol!$A$2,MATCH(G15,capacitycurve,1)+1,0,1,1)-OFFSET(EL_Area_Vol!$A$2,MATCH(G15,capacitycurve,1),0,1,1))*(G15-OFFSET(EL_Area_Vol!$A$2,MATCH(G15,capacitycurve,1),2,1,1))/(OFFSET(EL_Area_Vol!$A$2,MATCH(G15,capacitycurve,1)+1,2,1,1)-OFFSET(EL_Area_Vol!$A$2,MATCH(G15,capacitycurve,1),2,1,1)))","v":{"$error":"#DIV/0!"}},{"$f":"OFFSET(EL_Area_Vol!$A$2,MATCH(H15,capacitycurve,1),0,1,1)+((OFFSET(EL_Area_Vol!$A$2,MATCH(H15,capacitycurve,1)+1,0,1,1)-OFFSET(EL_Area_Vol!$A$2,MATCH(H15,capacitycurve,1),0,1,1))*(H15-OFFSET(EL_Area_Vol!$A$2,MATCH(H15,capacitycurve,1),2,1,1))/(OFFSET(EL_Area_Vol!$A$2,MATCH(H15,capacitycurve,1)+1,2,1,1)-OFFSET(EL_Area_Vol!$A$2,MATCH(H15,capacitycurve,1),2,1,1)))","v":{"$error":"#DIV/0!"}},{"$f":"OFFSET('Hec3'!$DC$3,0,ROW()-6,1,1)","v":0},{"$f":"OFFSET('Hec3'!$DC$4,0,ROW()-6,1,1)","v":0},{"$f":"OFFSET(EL_Area_Vol!$A$2,MATCH(O15,capacitycurve,1),0,1,1)+((OFFSET(EL_Area_Vol!$A$2,MATCH(O15,capacitycurve,1)+1,0,1,1)-OFFSET(EL_Area_Vol!$A$2,MATCH(O15,capacitycurve,1),0,1,1))*(O15-OFFSET(EL_Area_Vol!$A$2,MATCH(O15,capacitycurve,1),2,1,1))/(OFFSET(EL_Area_Vol!$A$2,MATCH(O15,capacitycurve,1)+1,2,1,1)-OFFSET(EL_Area_Vol!$A$2,MATCH(O15,capacitycurve,1),2,1,1)))","v":{"$error":"#N/A"}},{"$f":"OFFSET(EL_Area_Vol!$A$2,MATCH(P15,capacitycurve,1),0,1,1)+((OFFSET(EL_Area_Vol!$A$2,MATCH(P15,capacitycurve,1)+1,0,1,1)-OFFSET(EL_Area_Vol!$A$2,MATCH(P15,capacitycurve,1),0,1,1))*(P15-OFFSET(EL_Area_Vol!$A$2,MATCH(P15,capacitycurve,1),2,1,1))/(OFFSET(EL_Area_Vol!$A$2,MATCH(P15,capacitycurve,1)+1,2,1,1)-OFFSET(EL_Area_Vol!$A$2,MATCH(P15,capacitycurve,1),2,1,1)))","v":{"$error":"#N/A"}},null,null,null,null,null,null,null,null,"ก.ย.",{"$f":"'หา NRI'!C69","v":{"$error":"#DIV/0!"}},{"$f":"'หา NRI'!D69","v":{"$error":"#DIV/0!"}},{"$f":"'หา NRI'!E69","v":{"$error":"#DIV/0!"}},{"$f":"'หา NRI'!F69","v":{"$error":"#DIV/0!"}},{"$f":"OFFSET(EL_Area_Vol!$A$2,MATCH(AB15,capacitycurve,1),0,1,1)+((OFFSET(EL_Area_Vol!$A$2,MATCH(AB15,capacitycurve,1)+1,0,1,1)-OFFSET(EL_Area_Vol!$A$2,MATCH(AB15,capacitycurve,1),0,1,1))*(AB15-OFFSET(EL_Area_Vol!$A$2,MATCH(AB15,capacitycurve,1),2,1,1))/(OFFSET(EL_Area_Vol!$A$2,MATCH(AB15,capacitycurve,1)+1,2,1,1)-OFFSET(EL_Area_Vol!$A$2,MATCH(AB15,capacitycurve,1),2,1,1)))","v":{"$error":"#DIV/0!"}},{"$f":"OFFSET(EL_Area_Vol!$A$2,MATCH(AC15,capacitycurve,1),0,1,1)+((OFFSET(EL_Area_Vol!$A$2,MATCH(AC15,capacitycurve,1)+1,0,1,1)-OFFSET(EL_Area_Vol!$A$2,MATCH(AC15,capacitycurve,1),0,1,1))*(AC15-OFFSET(EL_Area_Vol!$A$2,MATCH(AC15,capacitycurve,1),2,1,1))/(OFFSET(EL_Area_Vol!$A$2,MATCH(AC15,capacitycurve,1)+1,2,1,1)-OFFSET(EL_Area_Vol!$A$2,MATCH(AC15,capacitycurve,1),2,1,1)))","v":{"$error":"#DIV/0!"}},{"$f":"OFFSET(EL_Area_Vol!$A$2,MATCH(AD15,capacitycurve,1),0,1,1)+((OFFSET(EL_Area_Vol!$A$2,MATCH(AD15,capacitycurve,1)+1,0,1,1)-OFFSET(EL_Area_Vol!$A$2,MATCH(AD15,capacitycurve,1),0,1,1))*(AD15-OFFSET(EL_Area_Vol!$A$2,MATCH(AD15,capacitycurve,1),2,1,1))/(OFFSET(EL_Area_Vol!$A$2,MATCH(AD15,capacitycurve,1)+1,2,1,1)-OFFSET(EL_Area_Vol!$A$2,MATCH(AD15,capacitycurve,1),2,1,1)))","v":{"$error":"#DIV/0!"}},{"$f":"OFFSET(EL_Area_Vol!$A$2,MATCH(AE15,capacitycurve,1),0,1,1)+((OFFSET(EL_Area_Vol!$A$2,MATCH(AE15,capacitycurve,1)+1,0,1,1)-OFFSET(EL_Area_Vol!$A$2,MATCH(AE15,capacitycurve,1),0,1,1))*(AE15-OFFSET(EL_Area_Vol!$A$2,MATCH(AE15,capacitycurve,1),2,1,1))/(OFFSET(EL_Area_Vol!$A$2,MATCH(AE15,capacitycurve,1)+1,2,1,1)-OFFSET(EL_Area_Vol!$A$2,MATCH(AE15,capacitycurve,1),2,1,1)))","v":{"$error":"#DIV/0!"}},null,null,null,9,0,0,{"$f":"'หา NRI'!C26","v":{"$error":"#DIV/0!"}},{"$f":"'หา NRI'!C69","v":{"$error":"#DIV/0!"}},{"$f":"'หา NRI'!D69","v":{"$error":"#DIV/0!"}},{"$error":"#DIV/0!"},{"$error":"#DIV/0!"},null,{"$f":"OFFSET(EL_Area_Vol!$A$2,MATCH(AN15,capacitycurve,1),0,1,1)+((OFFSET(EL_Area_Vol!$A$2,MATCH(AN15,capacitycurve,1)+1,0,1,1)-OFFSET(EL_Area_Vol!$A$2,MATCH(AN15,capacitycurve,1),0,1,1))*(AN15-OFFSET(EL_Area_Vol!$A$2,MATCH(AN15,capacitycurve,1),2,1,1))/(OFFSET(EL_Area_Vol!$A$2,MATCH(AN15,capacitycurve,1)+1,2,1,1)-OFFSET(EL_Area_Vol!$A$2,MATCH(AN15,capacitycurve,1),2,1,1)))","v":{"$error":"#N/A"}},{"$f":"OFFSET(EL_Area_Vol!$A$2,MATCH(AO15,capacitycurve,1),0,1,1)+((OFFSET(EL_Area_Vol!$A$2,MATCH(AO15,capacitycurve,1)+1,0,1,1)-OFFSET(EL_Area_Vol!$A$2,MATCH(AO15,capacitycurve,1),0,1,1))*(AO15-OFFSET(EL_Area_Vol!$A$2,MATCH(AO15,capacitycurve,1),2,1,1))/(OFFSET(EL_Area_Vol!$A$2,MATCH(AO15,capacitycurve,1)+1,2,1,1)-OFFSET(EL_Area_Vol!$A$2,MATCH(AO15,capacitycurve,1),2,1,1)))","v":{"$error":"#N/A"}},{"$f":"OFFSET(EL_Area_Vol!$A$2,MATCH(AP15,capacitycurve,1),0,1,1)+((OFFSET(EL_Area_Vol!$A$2,MATCH(AP15,capacitycurve,1)+1,0,1,1)-OFFSET(EL_Area_Vol!$A$2,MATCH(AP15,capacitycurve,1),0,1,1))*(AP15-OFFSET(EL_Area_Vol!$A$2,MATCH(AP15,capacitycurve,1),2,1,1))/(OFFSET(EL_Area_Vol!$A$2,MATCH(AP15,capacitycurve,1)+1,2,1,1)-OFFSET(EL_Area_Vol!$A$2,MATCH(AP15,capacitycurve,1),2,1,1)))","v":{"$error":"#DIV/0!"}},{"$f":"OFFSET(EL_Area_Vol!$A$2,MATCH(AQ15,capacitycurve,1),0,1,1)+((OFFSET(EL_Area_Vol!$A$2,MATCH(AQ15,capacitycurve,1)+1,0,1,1)-OFFSET(EL_Area_Vol!$A$2,MATCH(AQ15,capacitycurve,1),0,1,1))*(AQ15-OFFSET(EL_Area_Vol!$A$2,MATCH(AQ15,capacitycurve,1),2,1,1))/(OFFSET(EL_Area_Vol!$A$2,MATCH(AQ15,capacitycurve,1)+1,2,1,1)-OFFSET(EL_Area_Vol!$A$2,MATCH(AQ15,capacitycurve,1),2,1,1)))","v":{"$error":"#DIV/0!"}},{"$f":"OFFSET(EL_Area_Vol!$A$2,MATCH(AR15,capacitycurve,1),0,1,1)+((OFFSET(EL_Area_Vol!$A$2,MATCH(AR15,capacitycurve,1)+1,0,1,1)-OFFSET(EL_Area_Vol!$A$2,MATCH(AR15,capacitycurve,1),0,1,1))*(AR15-OFFSET(EL_Area_Vol!$A$2,MATCH(AR15,capacitycurve,1),2,1,1))/(OFFSET(EL_Area_Vol!$A$2,MATCH(AR15,capacitycurve,1)+1,2,1,1)-OFFSET(EL_Area_Vol!$A$2,MATCH(AR15,capacitycurve,1),2,1,1)))","v":{"$error":"#DIV/0!"}},{"$f":"OFFSET(EL_Area_Vol!$A$2,MATCH(AS15,capacitycurve,1),0,1,1)+((OFFSET(EL_Area_Vol!$A$2,MATCH(AS15,capacitycurve,1)+1,0,1,1)-OFFSET(EL_Area_Vol!$A$2,MATCH(AS15,capacitycurve,1),0,1,1))*(AS15-OFFSET(EL_Area_Vol!$A$2,MATCH(AS15,capacitycurve,1),2,1,1))/(OFFSET(EL_Area_Vol!$A$2,MATCH(AS15,capacitycurve,1)+1,2,1,1)-OFFSET(EL_Area_Vol!$A$2,MATCH(AS15,capacitycurve,1),2,1,1)))","v":{"$error":"#DIV/0!"}},{"$f":"OFFSET(EL_Area_Vol!$A$2,MATCH(AT15,capacitycurve,1),0,1,1)+((OFFSET(EL_Area_Vol!$A$2,MATCH(AT15,capacitycurve,1)+1,0,1,1)-OFFSET(EL_Area_Vol!$A$2,MATCH(AT15,capacitycurve,1),0,1,1))*(AT15-OFFSET(EL_Area_Vol!$A$2,MATCH(AT15,capacitycurve,1),2,1,1))/(OFFSET(EL_Area_Vol!$A$2,MATCH(AT15,capacitycurve,1)+1,2,1,1)-OFFSET(EL_Area_Vol!$A$2,MATCH(AT15,capacitycurve,1),2,1,1)))","v":{"$error":"#DIV/0!"}}]
[null,"ต.ค.",{"$f":"'URC POP'!B90","v":{"$error":"#DIV/0!"}},{"$f":"'URC POP'!C90","v":{"$error":"#DIV/0!"}},{"$f":"'URC POP'!D90","v":{"$error":"#DIV/0!"}},{"$f":"'LRC POP'!P88","v":{"$error":"#DIV/0!"}},{"$f":"'LRC POP'!Q88","v":{"$error":"#DIV/0!"}},{"$f":"'LRC POP'!R88","v":{"$error":"#DIV/0!"}},{"$f":"OFFSET(EL_Area_Vol!$A$2,MATCH(C16,capacitycurve,1),0,1,1)+((OFFSET(EL_Area_Vol!$A$2,MATCH(C16,capacitycurve,1)+1,0,1,1)-OFFSET(EL_Area_Vol!$A$2,MATCH(C16,capacitycurve,1),0,1,1))*(C16-OFFSET(EL_Area_Vol!$A$2,MATCH(C16,capacitycurve,1),2,1,1))/(OFFSET(EL_Area_Vol!$A$2,MATCH(C16,capacitycurve,1)+1,2,1,1)-OFFSET(EL_Area_Vol!$A$2,MATCH(C16,capacitycurve,1),2,1,1)))","v":{"$error":"#DIV/0!"}},{"$f":"OFFSET(EL_Area_Vol!$A$2,MATCH(D16,capacitycurve,1),0,1,1)+((OFFSET(EL_Area_Vol!$A$2,MATCH(D16,capacitycurve,1)+1,0,1,1)-OFFSET(EL_Area_Vol!$A$2,MATCH(D16,capacitycurve,1),0,1,1))*(D16-OFFSET(EL_Area_Vol!$A$2,MATCH(D16,capacitycurve,1),2,1,1))/(OFFSET(EL_Area_Vol!$A$2,MATCH(D16,capacitycurve,1)+1,2,1,1)-OFFSET(EL_Area_Vol!$A$2,MATCH(D16,capacitycurve,1),2,1,1)))","v":{"$error":"#DIV/0!"}},{"$f":"OFFSET(EL_Area_Vol!$A$2,MATCH(E16,capacitycurve,1),0,1,1)+((OFFSET(EL_Area_Vol!$A$2,MATCH(E16,capacitycurve,1)+1,0,1,1)-OFFSET(EL_Area_Vol!$A$2,MATCH(E16,capacitycurve,1),0,1,1))*(E16-OFFSET(EL_Area_Vol!$A$2,MATCH(E16,capacitycurve,1),2,1,1))/(OFFSET(EL_Area_Vol!$A$2,MATCH(E16,capacitycurve,1)+1,2,1,1)-OFFSET(EL_Area_Vol!$A$2,MATCH(E16,capacitycurve,1),2,1,1)))","v":{"$error":"#DIV/0!"}},{"$f":"OFFSET(EL_Area_Vol!$A$2,MATCH(F16,capacitycurve,1),0,1,1)+((OFFSET(EL_Area_Vol!$A$2,MATCH(F16,capacitycurve,1)+1,0,1,1)-OFFSET(EL_Area_Vol!$A$2,MATCH(F16,capacitycurve,1),0,1,1))*(F16-OFFSET(EL_Area_Vol!$A$2,MATCH(F16,capacitycurve,1),2,1,1))/(OFFSET(EL_Area_Vol!$A$2,MATCH(F16,capacitycurve,1)+1,2,1,1)-OFFSET(EL_Area_Vol!$A$2,MATCH(F16,capacitycurve,1),2,1,1)))","v":{"$error":"#DIV/0!"}},{"$f":"OFFSET(EL_Area_Vol!$A$2,MATCH(G16,capacitycurve,1),0,1,1)+((OFFSET(EL_Area_Vol!$A$2,MATCH(G16,capacitycurve,1)+1,0,1,1)-OFFSET(EL_Area_Vol!$A$2,MATCH(G16,capacitycurve,1),0,1,1))*(G16-OFFSET(EL_Area_Vol!$A$2,MATCH(G16,capacitycurve,1),2,1,1))/(OFFSET(EL_Area_Vol!$A$2,MATCH(G16,capacitycurve,1)+1,2,1,1)-OFFSET(EL_Area_Vol!$A$2,MATCH(G16,capacitycurve,1),2,1,1)))","v":{"$error":"#DIV/0!"}},{"$f":"OFFSET(EL_Area_Vol!$A$2,MATCH(H16,capacitycurve,1),0,1,1)+((OFFSET(EL_Area_Vol!$A$2,MATCH(H16,capacitycurve,1)+1,0,1,1)-OFFSET(EL_Area_Vol!$A$2,MATCH(H16,capacitycurve,1),0,1,1))*(H16-OFFSET(EL_Area_Vol!$A$2,MATCH(H16,capacitycurve,1),2,1,1))/(OFFSET(EL_Area_Vol!$A$2,MATCH(H16,capacitycurve,1)+1,2,1,1)-OFFSET(EL_Area_Vol!$A$2,MATCH(H16,capacitycurve,1),2,1,1)))","v":{"$error":"#DIV/0!"}},{"$f":"OFFSET('Hec3'!$DC$3,0,ROW()-6,1,1)","v":0},{"$f":"OFFSET('Hec3'!$DC$4,0,ROW()-6,1,1)","v":0},{"$f":"OFFSET(EL_Area_Vol!$A$2,MATCH(O16,capacitycurve,1),0,1,1)+((OFFSET(EL_Area_Vol!$A$2,MATCH(O16,capacitycurve,1)+1,0,1,1)-OFFSET(EL_Area_Vol!$A$2,MATCH(O16,capacitycurve,1),0,1,1))*(O16-OFFSET(EL_Area_Vol!$A$2,MATCH(O16,capacitycurve,1),2,1,1))/(OFFSET(EL_Area_Vol!$A$2,MATCH(O16,capacitycurve,1)+1,2,1,1)-OFFSET(EL_Area_Vol!$A$2,MATCH(O16,capacitycurve,1),2,1,1)))","v":{"$error":"#N/A"}},{"$f":"OFFSET(EL_Area_Vol!$A$2,MATCH(P16,capacitycurve,1),0,1,1)+((OFFSET(EL_Area_Vol!$A$2,MATCH(P16,capacitycurve,1)+1,0,1,1)-OFFSET(EL_Area_Vol!$A$2,MATCH(P16,capacitycurve,1),0,1,1))*(P16-OFFSET(EL_Area_Vol!$A$2,MATCH(P16,capacitycurve,1),2,1,1))/(OFFSET(EL_Area_Vol!$A$2,MATCH(P16,capacitycurve,1)+1,2,1,1)-OFFSET(EL_Area_Vol!$A$2,MATCH(P16,capacitycurve,1),2,1,1)))","v":{"$error":"#N/A"}},null,null,null,null,null,null,null,null,"ต.ค.",{"$f":"'หา NRI'!C70","v":{"$error":"#DIV/0!"}},{"$f":"'หา NRI'!D70","v":{"$error":"#DIV/0!"}},{"$f":"'หา NRI'!E70","v":{"$error":"#DIV/0!"}},{"$f":"'หา NRI'!F70","v":{"$error":"#DIV/0!"}},{"$f":"OFFSET(EL_Area_Vol!$A$2,MATCH(AB16,capacitycurve,1),0,1,1)+((OFFSET(EL_Area_Vol!$A$2,MATCH(AB16,capacitycurve,1)+1,0,1,1)-OFFSET(EL_Area_Vol!$A$2,MATCH(AB16,capacitycurve,1),0,1,1))*(AB16-OFFSET(EL_Area_Vol!$A$2,MATCH(AB16,capacitycurve,1),2,1,1))/(OFFSET(EL_Area_Vol!$A$2,MATCH(AB16,capacitycurve,1)+1,2,1,1)-OFFSET(EL_Area_Vol!$A$2,MATCH(AB16,capacitycurve,1),2,1,1)))","v":{"$error":"#DIV/0!"}},{"$f":"OFFSET(EL_Area_Vol!$A$2,MATCH(AC16,capacitycurve,1),0,1,1)+((OFFSET(EL_Area_Vol!$A$2,MATCH(AC16,capacitycurve,1)+1,0,1,1)-OFFSET(EL_Area_Vol!$A$2,MATCH(AC16,capacitycurve,1),0,1,1))*(AC16-OFFSET(EL_Area_Vol!$A$2,MATCH(AC16,capacitycurve,1),2,1,1))/(OFFSET(EL_Area_Vol!$A$2,MATCH(AC16,capacitycurve,1)+1,2,1,1)-OFFSET(EL_Area_Vol!$A$2,MATCH(AC16,capacitycurve,1),2,1,1)))","v":{"$error":"#DIV/0!"}},{"$f":"OFFSET(EL_Area_Vol!$A$2,MATCH(AD16,capacitycurve,1),0,1,1)+((OFFSET(EL_Area_Vol!$A$2,MATCH(AD16,capacitycurve,1)+1,0,1,1)-OFFSET(EL_Area_Vol!$A$2,MATCH(AD16,capacitycurve,1),0,1,1))*(AD16-OFFSET(EL_Area_Vol!$A$2,MATCH(AD16,capacitycurve,1),2,1,1))/(OFFSET(EL_Area_Vol!$A$2,MATCH(AD16,capacitycurve,1)+1,2,1,1)-OFFSET(EL_Area_Vol!$A$2,MATCH(AD16,capacitycurve,1),2,1,1)))","v":{"$error":"#DIV/0!"}},{"$f":"OFFSET(EL_Area_Vol!$A$2,MATCH(AE16,capacitycurve,1),0,1,1)+((OFFSET(EL_Area_Vol!$A$2,MATCH(AE16,capacitycurve,1)+1,0,1,1)-OFFSET(EL_Area_Vol!$A$2,MATCH(AE16,capacitycurve,1),0,1,1))*(AE16-OFFSET(EL_Area_Vol!$A$2,MATCH(AE16,capacitycurve,1),2,1,1))/(OFFSET(EL_Area_Vol!$A$2,MATCH(AE16,capacitycurve,1)+1,2,1,1)-OFFSET(EL_Area_Vol!$A$2,MATCH(AE16,capacitycurve,1),2,1,1)))","v":{"$error":"#DIV/0!"}},null,null,null,10,0,0,{"$f":"'หา NRI'!C27","v":{"$error":"#DIV/0!"}},{"$f":"'หา NRI'!C70","v":{"$error":"#DIV/0!"}},{"$f":"'หา NRI'!D70","v":{"$error":"#DIV/0!"}},{"$error":"#DIV/0!"},{"$error":"#DIV/0!"},null,{"$f":"OFFSET(EL_Area_Vol!$A$2,MATCH(AN16,capacitycurve,1),0,1,1)+((OFFSET(EL_Area_Vol!$A$2,MATCH(AN16,capacitycurve,1)+1,0,1,1)-OFFSET(EL_Area_Vol!$A$2,MATCH(AN16,capacitycurve,1),0,1,1))*(AN16-OFFSET(EL_Area_Vol!$A$2,MATCH(AN16,capacitycurve,1),2,1,1))/(OFFSET(EL_Area_Vol!$A$2,MATCH(AN16,capacitycurve,1)+1,2,1,1)-OFFSET(EL_Area_Vol!$A$2,MATCH(AN16,capacitycurve,1),2,1,1)))","v":{"$error":"#N/A"}},{"$f":"OFFSET(EL_Area_Vol!$A$2,MATCH(AO16,capacitycurve,1),0,1,1)+((OFFSET(EL_Area_Vol!$A$2,MATCH(AO16,capacitycurve,1)+1,0,1,1)-OFFSET(EL_Area_Vol!$A$2,MATCH(AO16,capacitycurve,1),0,1,1))*(AO16-OFFSET(EL_Area_Vol!$A$2,MATCH(AO16,capacitycurve,1),2,1,1))/(OFFSET(EL_Area_Vol!$A$2,MATCH(AO16,capacitycurve,1)+1,2,1,1)-OFFSET(EL_Area_Vol!$A$2,MATCH(AO16,capacitycurve,1),2,1,1)))","v":{"$error":"#N/A"}},{"$f":"OFFSET(EL_Area_Vol!$A$2,MATCH(AP16,capacitycurve,1),0,1,1)+((OFFSET(EL_Area_Vol!$A$2,MATCH(AP16,capacitycurve,1)+1,0,1,1)-OFFSET(EL_Area_Vol!$A$2,MATCH(AP16,capacitycurve,1),0,1,1))*(AP16-OFFSET(EL_Area_Vol!$A$2,MATCH(AP16,capacitycurve,1),2,1,1))/(OFFSET(EL_Area_Vol!$A$2,MATCH(AP16,capacitycurve,1)+1,2,1,1)-OFFSET(EL_Area_Vol!$A$2,MATCH(AP16,capacitycurve,1),2,1,1)))","v":{"$error":"#DIV/0!"}},{"$f":"OFFSET(EL_Area_Vol!$A$2,MATCH(AQ16,capacitycurve,1),0,1,1)+((OFFSET(EL_Area_Vol!$A$2,MATCH(AQ16,capacitycurve,1)+1,0,1,1)-OFFSET(EL_Area_Vol!$A$2,MATCH(AQ16,capacitycurve,1),0,1,1))*(AQ16-OFFSET(EL_Area_Vol!$A$2,MATCH(AQ16,capacitycurve,1),2,1,1))/(OFFSET(EL_Area_Vol!$A$2,MATCH(AQ16,capacitycurve,1)+1,2,1,1)-OFFSET(EL_Area_Vol!$A$2,MATCH(AQ16,capacitycurve,1),2,1,1)))","v":{"$error":"#DIV/0!"}},{"$f":"OFFSET(EL_Area_Vol!$A$2,MATCH(AR16,capacitycurve,1),0,1,1)+((OFFSET(EL_Area_Vol!$A$2,MATCH(AR16,capacitycurve,1)+1,0,1,1)-OFFSET(EL_Area_Vol!$A$2,MATCH(AR16,capacitycurve,1),0,1,1))*(AR16-OFFSET(EL_Area_Vol!$A$2,MATCH(AR16,capacitycurve,1),2,1,1))/(OFFSET(EL_Area_Vol!$A$2,MATCH(AR16,capacitycurve,1)+1,2,1,1)-OFFSET(EL_Area_Vol!$A$2,MATCH(AR16,capacitycurve,1),2,1,1)))","v":{"$error":"#DIV/0!"}},{"$f":"OFFSET(EL_Area_Vol!$A$2,MATCH(AS16,capacitycurve,1),0,1,1)+((OFFSET(EL_Area_Vol!$A$2,MATCH(AS16,capacitycurve,1)+1,0,1,1)-OFFSET(EL_Area_Vol!$A$2,MATCH(AS16,capacitycurve,1),0,1,1))*(AS16-OFFSET(EL_Area_Vol!$A$2,MATCH(AS16,capacitycurve,1),2,1,1))/(OFFSET(EL_Area_Vol!$A$2,MATCH(AS16,capacitycurve,1)+1,2,1,1)-OFFSET(EL_Area_Vol!$A$2,MATCH(AS16,capacitycurve,1),2,1,1)))","v":{"$error":"#DIV/0!"}},{"$f":"OFFSET(EL_Area_Vol!$A$2,MATCH(AT16,capacitycurve,1),0,1,1)+((OFFSET(EL_Area_Vol!$A$2,MATCH(AT16,capacitycurve,1)+1,0,1,1)-OFFSET(EL_Area_Vol!$A$2,MATCH(AT16,capacitycurve,1),0,1,1))*(AT16-OFFSET(EL_Area_Vol!$A$2,MATCH(AT16,capacitycurve,1),2,1,1))/(OFFSET(EL_Area_Vol!$A$2,MATCH(AT16,capacitycurve,1)+1,2,1,1)-OFFSET(EL_Area_Vol!$A$2,MATCH(AT16,capacitycurve,1),2,1,1)))","v":{"$error":"#DIV/0!"}}]
[null,"พ.ย.",{"$f":"'URC POP'!B91","v":{"$error":"#DIV/0!"}},{"$f":"'URC POP'!C91","v":{"$error":"#DIV/0!"}},{"$f":"'URC POP'!D91","v":{"$error":"#DIV/0!"}},{"$f":"'LRC POP'!P89","v":{"$error":"#DIV/0!"}},{"$f":"'LRC POP'!Q89","v":{"$error":"#DIV/0!"}},{"$f":"'LRC POP'!R89","v":{"$error":"#DIV/0!"}},{"$f":"OFFSET(EL_Area_Vol!$A$2,MATCH(C17,capacitycurve,1),0,1,1)+((OFFSET(EL_Area_Vol!$A$2,MATCH(C17,capacitycurve,1)+1,0,1,1)-OFFSET(EL_Area_Vol!$A$2,MATCH(C17,capacitycurve,1),0,1,1))*(C17-OFFSET(EL_Area_Vol!$A$2,MATCH(C17,capacitycurve,1),2,1,1))/(OFFSET(EL_Area_Vol!$A$2,MATCH(C17,capacitycurve,1)+1,2,1,1)-OFFSET(EL_Area_Vol!$A$2,MATCH(C17,capacitycurve,1),2,1,1)))","v":{"$error":"#DIV/0!"}},{"$f":"OFFSET(EL_Area_Vol!$A$2,MATCH(D17,capacitycurve,1),0,1,1)+((OFFSET(EL_Area_Vol!$A$2,MATCH(D17,capacitycurve,1)+1,0,1,1)-OFFSET(EL_Area_Vol!$A$2,MATCH(D17,capacitycurve,1),0,1,1))*(D17-OFFSET(EL_Area_Vol!$A$2,MATCH(D17,capacitycurve,1),2,1,1))/(OFFSET(EL_Area_Vol!$A$2,MATCH(D17,capacitycurve,1)+1,2,1,1)-OFFSET(EL_Area_Vol!$A$2,MATCH(D17,capacitycurve,1),2,1,1)))","v":{"$error":"#DIV/0!"}},{"$f":"OFFSET(EL_Area_Vol!$A$2,MATCH(E17,capacitycurve,1),0,1,1)+((OFFSET(EL_Area_Vol!$A$2,MATCH(E17,capacitycurve,1)+1,0,1,1)-OFFSET(EL_Area_Vol!$A$2,MATCH(E17,capacitycurve,1),0,1,1))*(E17-OFFSET(EL_Area_Vol!$A$2,MATCH(E17,capacitycurve,1),2,1,1))/(OFFSET(EL_Area_Vol!$A$2,MATCH(E17,capacitycurve,1)+1,2,1,1)-OFFSET(EL_Area_Vol!$A$2,MATCH(E17,capacitycurve,1),2,1,1)))","v":{"$error":"#DIV/0!"}},{"$f":"OFFSET(EL_Area_Vol!$A$2,MATCH(F17,capacitycurve,1),0,1,1)+((OFFSET(EL_Area_Vol!$A$2,MATCH(F17,capacitycurve,1)+1,0,1,1)-OFFSET(EL_Area_Vol!$A$2,MATCH(F17,capacitycurve,1),0,1,1))*(F17-OFFSET(EL_Area_Vol!$A$2,MATCH(F17,capacitycurve,1),2,1,1))/(OFFSET(EL_Area_Vol!$A$2,MATCH(F17,capacitycurve,1)+1,2,1,1)-OFFSET(EL_Area_Vol!$A$2,MATCH(F17,capacitycurve,1),2,1,1)))","v":{"$error":"#DIV/0!"}},{"$f":"OFFSET(EL_Area_Vol!$A$2,MATCH(G17,capacitycurve,1),0,1,1)+((OFFSET(EL_Area_Vol!$A$2,MATCH(G17,capacitycurve,1)+1,0,1,1)-OFFSET(EL_Area_Vol!$A$2,MATCH(G17,capacitycurve,1),0,1,1))*(G17-OFFSET(EL_Area_Vol!$A$2,MATCH(G17,capacitycurve,1),2,1,1))/(OFFSET(EL_Area_Vol!$A$2,MATCH(G17,capacitycurve,1)+1,2,1,1)-OFFSET(EL_Area_Vol!$A$2,MATCH(G17,capacitycurve,1),2,1,1)))","v":{"$error":"#DIV/0!"}},{"$f":"OFFSET(EL_Area_Vol!$A$2,MATCH(H17,capacitycurve,1),0,1,1)+((OFFSET(EL_Area_Vol!$A$2,MATCH(H17,capacitycurve,1)+1,0,1,1)-OFFSET(EL_Area_Vol!$A$2,MATCH(H17,capacitycurve,1),0,1,1))*(H17-OFFSET(EL_Area_Vol!$A$2,MATCH(H17,capacitycurve,1),2,1,1))/(OFFSET(EL_Area_Vol!$A$2,MATCH(H17,capacitycurve,1)+1,2,1,1)-OFFSET(EL_Area_Vol!$A$2,MATCH(H17,capacitycurve,1),2,1,1)))","v":{"$error":"#DIV/0!"}},{"$f":"OFFSET('Hec3'!$DC$3,0,ROW()-6,1,1)","v":0},{"$f":"OFFSET('Hec3'!$DC$4,0,ROW()-6,1,1)","v":0},{"$f":"OFFSET(EL_Area_Vol!$A$2,MATCH(O17,capacitycurve,1),0,1,1)+((OFFSET(EL_Area_Vol!$A$2,MATCH(O17,capacitycurve,1)+1,0,1,1)-OFFSET(EL_Area_Vol!$A$2,MATCH(O17,capacitycurve,1),0,1,1))*(O17-OFFSET(EL_Area_Vol!$A$2,MATCH(O17,capacitycurve,1),2,1,1))/(OFFSET(EL_Area_Vol!$A$2,MATCH(O17,capacitycurve,1)+1,2,1,1)-OFFSET(EL_Area_Vol!$A$2,MATCH(O17,capacitycurve,1),2,1,1)))","v":{"$error":"#N/A"}},{"$f":"OFFSET(EL_Area_Vol!$A$2,MATCH(P17,capacitycurve,1),0,1,1)+((OFFSET(EL_Area_Vol!$A$2,MATCH(P17,capacitycurve,1)+1,0,1,1)-OFFSET(EL_Area_Vol!$A$2,MATCH(P17,capacitycurve,1),0,1,1))*(P17-OFFSET(EL_Area_Vol!$A$2,MATCH(P17,capacitycurve,1),2,1,1))/(OFFSET(EL_Area_Vol!$A$2,MATCH(P17,capacitycurve,1)+1,2,1,1)-OFFSET(EL_Area_Vol!$A$2,MATCH(P17,capacitycurve,1),2,1,1)))","v":{"$error":"#N/A"}},null,null,null,null,null,null,null,null,"พ.ย.",{"$f":"'หา NRI'!C71","v":{"$error":"#DIV/0!"}},{"$f":"'หา NRI'!D71","v":{"$error":"#DIV/0!"}},{"$f":"'หา NRI'!E71","v":{"$error":"#DIV/0!"}},{"$f":"'หา NRI'!F71","v":{"$error":"#DIV/0!"}},{"$f":"OFFSET(EL_Area_Vol!$A$2,MATCH(AB17,capacitycurve,1),0,1,1)+((OFFSET(EL_Area_Vol!$A$2,MATCH(AB17,capacitycurve,1)+1,0,1,1)-OFFSET(EL_Area_Vol!$A$2,MATCH(AB17,capacitycurve,1),0,1,1))*(AB17-OFFSET(EL_Area_Vol!$A$2,MATCH(AB17,capacitycurve,1),2,1,1))/(OFFSET(EL_Area_Vol!$A$2,MATCH(AB17,capacitycurve,1)+1,2,1,1)-OFFSET(EL_Area_Vol!$A$2,MATCH(AB17,capacitycurve,1),2,1,1)))","v":{"$error":"#DIV/0!"}},{"$f":"OFFSET(EL_Area_Vol!$A$2,MATCH(AC17,capacitycurve,1),0,1,1)+((OFFSET(EL_Area_Vol!$A$2,MATCH(AC17,capacitycurve,1)+1,0,1,1)-OFFSET(EL_Area_Vol!$A$2,MATCH(AC17,capacitycurve,1),0,1,1))*(AC17-OFFSET(EL_Area_Vol!$A$2,MATCH(AC17,capacitycurve,1),2,1,1))/(OFFSET(EL_Area_Vol!$A$2,MATCH(AC17,capacitycurve,1)+1,2,1,1)-OFFSET(EL_Area_Vol!$A$2,MATCH(AC17,capacitycurve,1),2,1,1)))","v":{"$error":"#DIV/0!"}},{"$f":"OFFSET(EL_Area_Vol!$A$2,MATCH(AD17,capacitycurve,1),0,1,1)+((OFFSET(EL_Area_Vol!$A$2,MATCH(AD17,capacitycurve,1)+1,0,1,1)-OFFSET(EL_Area_Vol!$A$2,MATCH(AD17,capacitycurve,1),0,1,1))*(AD17-OFFSET(EL_Area_Vol!$A$2,MATCH(AD17,capacitycurve,1),2,1,1))/(OFFSET(EL_Area_Vol!$A$2,MATCH(AD17,capacitycurve,1)+1,2,1,1)-OFFSET(EL_Area_Vol!$A$2,MATCH(AD17,capacitycurve,1),2,1,1)))","v":{"$error":"#DIV/0!"}},{"$f":"OFFSET(EL_Area_Vol!$A$2,MATCH(AE17,capacitycurve,1),0,1,1)+((OFFSET(EL_Area_Vol!$A$2,MATCH(AE17,capacitycurve,1)+1,0,1,1)-OFFSET(EL_Area_Vol!$A$2,MATCH(AE17,capacitycurve,1),0,1,1))*(AE17-OFFSET(EL_Area_Vol!$A$2,MATCH(AE17,capacitycurve,1),2,1,1))/(OFFSET(EL_Area_Vol!$A$2,MATCH(AE17,capacitycurve,1)+1,2,1,1)-OFFSET(EL_Area_Vol!$A$2,MATCH(AE17,capacitycurve,1),2,1,1)))","v":{"$error":"#DIV/0!"}},null,null,null,11,0,0,{"$f":"'หา NRI'!C28","v":{"$error":"#DIV/0!"}},{"$f":"'หา NRI'!C71","v":{"$error":"#DIV/0!"}},{"$f":"'หา NRI'!D71","v":{"$error":"#DIV/0!"}},{"$error":"#DIV/0!"},{"$error":"#DIV/0!"},null,{"$f":"OFFSET(EL_Area_Vol!$A$2,MATCH(AN17,capacitycurve,1),0,1,1)+((OFFSET(EL_Area_Vol!$A$2,MATCH(AN17,capacitycurve,1)+1,0,1,1)-OFFSET(EL_Area_Vol!$A$2,MATCH(AN17,capacitycurve,1),0,1,1))*(AN17-OFFSET(EL_Area_Vol!$A$2,MATCH(AN17,capacitycurve,1),2,1,1))/(OFFSET(EL_Area_Vol!$A$2,MATCH(AN17,capacitycurve,1)+1,2,1,1)-OFFSET(EL_Area_Vol!$A$2,MATCH(AN17,capacitycurve,1),2,1,1)))","v":{"$error":"#N/A"}},{"$f":"OFFSET(EL_Area_Vol!$A$2,MATCH(AO17,capacitycurve,1),0,1,1)+((OFFSET(EL_Area_Vol!$A$2,MATCH(AO17,capacitycurve,1)+1,0,1,1)-OFFSET(EL_Area_Vol!$A$2,MATCH(AO17,capacitycurve,1),0,1,1))*(AO17-OFFSET(EL_Area_Vol!$A$2,MATCH(AO17,capacitycurve,1),2,1,1))/(OFFSET(EL_Area_Vol!$A$2,MATCH(AO17,capacitycurve,1)+1,2,1,1)-OFFSET(EL_Area_Vol!$A$2,MATCH(AO17,capacitycurve,1),2,1,1)))","v":{"$error":"#N/A"}},{"$f":"OFFSET(EL_Area_Vol!$A$2,MATCH(AP17,capacitycurve,1),0,1,1)+((OFFSET(EL_Area_Vol!$A$2,MATCH(AP17,capacitycurve,1)+1,0,1,1)-OFFSET(EL_Area_Vol!$A$2,MATCH(AP17,capacitycurve,1),0,1,1))*(AP17-OFFSET(EL_Area_Vol!$A$2,MATCH(AP17,capacitycurve,1),2,1,1))/(OFFSET(EL_Area_Vol!$A$2,MATCH(AP17,capacitycurve,1)+1,2,1,1)-OFFSET(EL_Area_Vol!$A$2,MATCH(AP17,capacitycurve,1),2,1,1)))","v":{"$error":"#DIV/0!"}},{"$f":"OFFSET(EL_Area_Vol!$A$2,MATCH(AQ17,capacitycurve,1),0,1,1)+((OFFSET(EL_Area_Vol!$A$2,MATCH(AQ17,capacitycurve,1)+1,0,1,1)-OFFSET(EL_Area_Vol!$A$2,MATCH(AQ17,capacitycurve,1),0,1,1))*(AQ17-OFFSET(EL_Area_Vol!$A$2,MATCH(AQ17,capacitycurve,1),2,1,1))/(OFFSET(EL_Area_Vol!$A$2,MATCH(AQ17,capacitycurve,1)+1,2,1,1)-OFFSET(EL_Area_Vol!$A$2,MATCH(AQ17,capacitycurve,1),2,1,1)))","v":{"$error":"#DIV/0!"}},{"$f":"OFFSET(EL_Area_Vol!$A$2,MATCH(AR17,capacitycurve,1),0,1,1)+((OFFSET(EL_Area_Vol!$A$2,MATCH(AR17,capacitycurve,1)+1,0,1,1)-OFFSET(EL_Area_Vol!$A$2,MATCH(AR17,capacitycurve,1),0,1,1))*(AR17-OFFSET(EL_Area_Vol!$A$2,MATCH(AR17,capacitycurve,1),2,1,1))/(OFFSET(EL_Area_Vol!$A$2,MATCH(AR17,capacitycurve,1)+1,2,1,1)-OFFSET(EL_Area_Vol!$A$2,MATCH(AR17,capacitycurve,1),2,1,1)))","v":{"$error":"#DIV/0!"}},{"$f":"OFFSET(EL_Area_Vol!$A$2,MATCH(AS17,capacitycurve,1),0,1,1)+((OFFSET(EL_Area_Vol!$A$2,MATCH(AS17,capacitycurve,1)+1,0,1,1)-OFFSET(EL_Area_Vol!$A$2,MATCH(AS17,capacitycurve,1),0,1,1))*(AS17-OFFSET(EL_Area_Vol!$A$2,MATCH(AS17,capacitycurve,1),2,1,1))/(OFFSET(EL_Area_Vol!$A$2,MATCH(AS17,capacitycurve,1)+1,2,1,1)-OFFSET(EL_Area_Vol!$A$2,MATCH(AS17,capacitycurve,1),2,1,1)))","v":{"$error":"#DIV/0!"}},{"$f":"OFFSET(EL_Area_Vol!$A$2,MATCH(AT17,capacitycurve,1),0,1,1)+((OFFSET(EL_Area_Vol!$A$2,MATCH(AT17,capacitycurve,1)+1,0,1,1)-OFFSET(EL_Area_Vol!$A$2,MATCH(AT17,capacitycurve,1),0,1,1))*(AT17-OFFSET(EL_Area_Vol!$A$2,MATCH(AT17,capacitycurve,1),2,1,1))/(OFFSET(EL_Area_Vol!$A$2,MATCH(AT17,capacitycurve,1)+1,2,1,1)-OFFSET(EL_Area_Vol!$A$2,MATCH(AT17,capacitycurve,1),2,1,1)))","v":{"$error":"#DIV/0!"}}]
[null,"ธ.ค.",{"$f":"'URC POP'!B92","v":{"$error":"#DIV/0!"}},{"$f":"'URC POP'!C92","v":{"$error":"#DIV/0!"}},{"$f":"'URC POP'!D92","v":{"$error":"#DIV/0!"}},{"$f":"'LRC POP'!P90","v":{"$error":"#DIV/0!"}},{"$f":"'LRC POP'!Q90","v":{"$error":"#DIV/0!"}},{"$f":"'LRC POP'!R90","v":{"$error":"#DIV/0!"}},{"$f":"OFFSET(EL_Area_Vol!$A$2,MATCH(C18,capacitycurve,1),0,1,1)+((OFFSET(EL_Area_Vol!$A$2,MATCH(C18,capacitycurve,1)+1,0,1,1)-OFFSET(EL_Area_Vol!$A$2,MATCH(C18,capacitycurve,1),0,1,1))*(C18-OFFSET(EL_Area_Vol!$A$2,MATCH(C18,capacitycurve,1),2,1,1))/(OFFSET(EL_Area_Vol!$A$2,MATCH(C18,capacitycurve,1)+1,2,1,1)-OFFSET(EL_Area_Vol!$A$2,MATCH(C18,capacitycurve,1),2,1,1)))","v":{"$error":"#DIV/0!"}},{"$f":"OFFSET(EL_Area_Vol!$A$2,MATCH(D18,capacitycurve,1),0,1,1)+((OFFSET(EL_Area_Vol!$A$2,MATCH(D18,capacitycurve,1)+1,0,1,1)-OFFSET(EL_Area_Vol!$A$2,MATCH(D18,capacitycurve,1),0,1,1))*(D18-OFFSET(EL_Area_Vol!$A$2,MATCH(D18,capacitycurve,1),2,1,1))/(OFFSET(EL_Area_Vol!$A$2,MATCH(D18,capacitycurve,1)+1,2,1,1)-OFFSET(EL_Area_Vol!$A$2,MATCH(D18,capacitycurve,1),2,1,1)))","v":{"$error":"#DIV/0!"}},{"$f":"OFFSET(EL_Area_Vol!$A$2,MATCH(E18,capacitycurve,1),0,1,1)+((OFFSET(EL_Area_Vol!$A$2,MATCH(E18,capacitycurve,1)+1,0,1,1)-OFFSET(EL_Area_Vol!$A$2,MATCH(E18,capacitycurve,1),0,1,1))*(E18-OFFSET(EL_Area_Vol!$A$2,MATCH(E18,capacitycurve,1),2,1,1))/(OFFSET(EL_Area_Vol!$A$2,MATCH(E18,capacitycurve,1)+1,2,1,1)-OFFSET(EL_Area_Vol!$A$2,MATCH(E18,capacitycurve,1),2,1,1)))","v":{"$error":"#DIV/0!"}},{"$f":"OFFSET(EL_Area_Vol!$A$2,MATCH(F18,capacitycurve,1),0,1,1)+((OFFSET(EL_Area_Vol!$A$2,MATCH(F18,capacitycurve,1)+1,0,1,1)-OFFSET(EL_Area_Vol!$A$2,MATCH(F18,capacitycurve,1),0,1,1))*(F18-OFFSET(EL_Area_Vol!$A$2,MATCH(F18,capacitycurve,1),2,1,1))/(OFFSET(EL_Area_Vol!$A$2,MATCH(F18,capacitycurve,1)+1,2,1,1)-OFFSET(EL_Area_Vol!$A$2,MATCH(F18,capacitycurve,1),2,1,1)))","v":{"$error":"#DIV/0!"}},{"$f":"OFFSET(EL_Area_Vol!$A$2,MATCH(G18,capacitycurve,1),0,1,1)+((OFFSET(EL_Area_Vol!$A$2,MATCH(G18,capacitycurve,1)+1,0,1,1)-OFFSET(EL_Area_Vol!$A$2,MATCH(G18,capacitycurve,1),0,1,1))*(G18-OFFSET(EL_Area_Vol!$A$2,MATCH(G18,capacitycurve,1),2,1,1))/(OFFSET(EL_Area_Vol!$A$2,MATCH(G18,capacitycurve,1)+1,2,1,1)-OFFSET(EL_Area_Vol!$A$2,MATCH(G18,capacitycurve,1),2,1,1)))","v":{"$error":"#DIV/0!"}},{"$f":"OFFSET(EL_Area_Vol!$A$2,MATCH(H18,capacitycurve,1),0,1,1)+((OFFSET(EL_Area_Vol!$A$2,MATCH(H18,capacitycurve,1)+1,0,1,1)-OFFSET(EL_Area_Vol!$A$2,MATCH(H18,capacitycurve,1),0,1,1))*(H18-OFFSET(EL_Area_Vol!$A$2,MATCH(H18,capacitycurve,1),2,1,1))/(OFFSET(EL_Area_Vol!$A$2,MATCH(H18,capacitycurve,1)+1,2,1,1)-OFFSET(EL_Area_Vol!$A$2,MATCH(H18,capacitycurve,1),2,1,1)))","v":{"$error":"#DIV/0!"}},{"$f":"OFFSET('Hec3'!$DC$3,0,ROW()-6,1,1)","v":0},{"$f":"OFFSET('Hec3'!$DC$4,0,ROW()-6,1,1)","v":0},{"$f":"OFFSET(EL_Area_Vol!$A$2,MATCH(O18,capacitycurve,1),0,1,1)+((OFFSET(EL_Area_Vol!$A$2,MATCH(O18,capacitycurve,1)+1,0,1,1)-OFFSET(EL_Area_Vol!$A$2,MATCH(O18,capacitycurve,1),0,1,1))*(O18-OFFSET(EL_Area_Vol!$A$2,MATCH(O18,capacitycurve,1),2,1,1))/(OFFSET(EL_Area_Vol!$A$2,MATCH(O18,capacitycurve,1)+1,2,1,1)-OFFSET(EL_Area_Vol!$A$2,MATCH(O18,capacitycurve,1),2,1,1)))","v":{"$error":"#N/A"}},{"$f":"OFFSET(EL_Area_Vol!$A$2,MATCH(P18,capacitycurve,1),0,1,1)+((OFFSET(EL_Area_Vol!$A$2,MATCH(P18,capacitycurve,1)+1,0,1,1)-OFFSET(EL_Area_Vol!$A$2,MATCH(P18,capacitycurve,1),0,1,1))*(P18-OFFSET(EL_Area_Vol!$A$2,MATCH(P18,capacitycurve,1),2,1,1))/(OFFSET(EL_Area_Vol!$A$2,MATCH(P18,capacitycurve,1)+1,2,1,1)-OFFSET(EL_Area_Vol!$A$2,MATCH(P18,capacitycurve,1),2,1,1)))","v":{"$error":"#N/A"}},null,null,null,null,null,null,null,null,"ธ.ค.",{"$f":"'หา NRI'!C72","v":{"$error":"#DIV/0!"}},{"$f":"'หา NRI'!D72","v":{"$error":"#DIV/0!"}},{"$f":"'หา NRI'!E72","v":{"$error":"#DIV/0!"}},{"$f":"'หา NRI'!F72","v":{"$error":"#DIV/0!"}},{"$f":"OFFSET(EL_Area_Vol!$A$2,MATCH(AB18,capacitycurve,1),0,1,1)+((OFFSET(EL_Area_Vol!$A$2,MATCH(AB18,capacitycurve,1)+1,0,1,1)-OFFSET(EL_Area_Vol!$A$2,MATCH(AB18,capacitycurve,1),0,1,1))*(AB18-OFFSET(EL_Area_Vol!$A$2,MATCH(AB18,capacitycurve,1),2,1,1))/(OFFSET(EL_Area_Vol!$A$2,MATCH(AB18,capacitycurve,1)+1,2,1,1)-OFFSET(EL_Area_Vol!$A$2,MATCH(AB18,capacitycurve,1),2,1,1)))","v":{"$error":"#DIV/0!"}},{"$f":"OFFSET(EL_Area_Vol!$A$2,MATCH(AC18,capacitycurve,1),0,1,1)+((OFFSET(EL_Area_Vol!$A$2,MATCH(AC18,capacitycurve,1)+1,0,1,1)-OFFSET(EL_Area_Vol!$A$2,MATCH(AC18,capacitycurve,1),0,1,1))*(AC18-OFFSET(EL_Area_Vol!$A$2,MATCH(AC18,capacitycurve,1),2,1,1))/(OFFSET(EL_Area_Vol!$A$2,MATCH(AC18,capacitycurve,1)+1,2,1,1)-OFFSET(EL_Area_Vol!$A$2,MATCH(AC18,capacitycurve,1),2,1,1)))","v":{"$error":"#DIV/0!"}},{"$f":"OFFSET(EL_Area_Vol!$A$2,MATCH(AD18,capacitycurve,1),0,1,1)+((OFFSET(EL_Area_Vol!$A$2,MATCH(AD18,capacitycurve,1)+1,0,1,1)-OFFSET(EL_Area_Vol!$A$2,MATCH(AD18,capacitycurve,1),0,1,1))*(AD18-OFFSET(EL_Area_Vol!$A$2,MATCH(AD18,capacitycurve,1),2,1,1))/(OFFSET(EL_Area_Vol!$A$2,MATCH(AD18,capacitycurve,1)+1,2,1,1)-OFFSET(EL_Area_Vol!$A$2,MATCH(AD18,capacitycurve,1),2,1,1)))","v":{"$error":"#DIV/0!"}},{"$f":"OFFSET(EL_Area_Vol!$A$2,MATCH(AE18,capacitycurve,1),0,1,1)+((OFFSET(EL_Area_Vol!$A$2,MATCH(AE18,capacitycurve,1)+1,0,1,1)-OFFSET(EL_Area_Vol!$A$2,MATCH(AE18,capacitycurve,1),0,1,1))*(AE18-OFFSET(EL_Area_Vol!$A$2,MATCH(AE18,capacitycurve,1),2,1,1))/(OFFSET(EL_Area_Vol!$A$2,MATCH(AE18,capacitycurve,1)+1,2,1,1)-OFFSET(EL_Area_Vol!$A$2,MATCH(AE18,capacitycurve,1),2,1,1)))","v":{"$error":"#DIV/0!"}},null,null,null,12,0,0,{"$f":"'หา NRI'!C29","v":{"$error":"#DIV/0!"}},{"$f":"'หา NRI'!C72","v":{"$error":"#DIV/0!"}},{"$f":"'หา NRI'!D72","v":{"$error":"#DIV/0!"}},{"$error":"#DIV/0!"},{"$error":"#DIV/0!"},null,{"$f":"OFFSET(EL_Area_Vol!$A$2,MATCH(AN18,capacitycurve,1),0,1,1)+((OFFSET(EL_Area_Vol!$A$2,MATCH(AN18,capacitycurve,1)+1,0,1,1)-OFFSET(EL_Area_Vol!$A$2,MATCH(AN18,capacitycurve,1),0,1,1))*(AN18-OFFSET(EL_Area_Vol!$A$2,MATCH(AN18,capacitycurve,1),2,1,1))/(OFFSET(EL_Area_Vol!$A$2,MATCH(AN18,capacitycurve,1)+1,2,1,1)-OFFSET(EL_Area_Vol!$A$2,MATCH(AN18,capacitycurve,1),2,1,1)))","v":{"$error":"#N/A"}},{"$f":"OFFSET(EL_Area_Vol!$A$2,MATCH(AO18,capacitycurve,1),0,1,1)+((OFFSET(EL_Area_Vol!$A$2,MATCH(AO18,capacitycurve,1)+1,0,1,1)-OFFSET(EL_Area_Vol!$A$2,MATCH(AO18,capacitycurve,1),0,1,1))*(AO18-OFFSET(EL_Area_Vol!$A$2,MATCH(AO18,capacitycurve,1),2,1,1))/(OFFSET(EL_Area_Vol!$A$2,MATCH(AO18,capacitycurve,1)+1,2,1,1)-OFFSET(EL_Area_Vol!$A$2,MATCH(AO18,capacitycurve,1),2,1,1)))","v":{"$error":"#N/A"}},{"$f":"OFFSET(EL_Area_Vol!$A$2,MATCH(AP18,capacitycurve,1),0,1,1)+((OFFSET(EL_Area_Vol!$A$2,MATCH(AP18,capacitycurve,1)+1,0,1,1)-OFFSET(EL_Area_Vol!$A$2,MATCH(AP18,capacitycurve,1),0,1,1))*(AP18-OFFSET(EL_Area_Vol!$A$2,MATCH(AP18,capacitycurve,1),2,1,1))/(OFFSET(EL_Area_Vol!$A$2,MATCH(AP18,capacitycurve,1)+1,2,1,1)-OFFSET(EL_Area_Vol!$A$2,MATCH(AP18,capacitycurve,1),2,1,1)))","v":{"$error":"#DIV/0!"}},{"$f":"OFFSET(EL_Area_Vol!$A$2,MATCH(AQ18,capacitycurve,1),0,1,1)+((OFFSET(EL_Area_Vol!$A$2,MATCH(AQ18,capacitycurve,1)+1,0,1,1)-OFFSET(EL_Area_Vol!$A$2,MATCH(AQ18,capacitycurve,1),0,1,1))*(AQ18-OFFSET(EL_Area_Vol!$A$2,MATCH(AQ18,capacitycurve,1),2,1,1))/(OFFSET(EL_Area_Vol!$A$2,MATCH(AQ18,capacitycurve,1)+1,2,1,1)-OFFSET(EL_Area_Vol!$A$2,MATCH(AQ18,capacitycurve,1),2,1,1)))","v":{"$error":"#DIV/0!"}},{"$f":"OFFSET(EL_Area_Vol!$A$2,MATCH(AR18,capacitycurve,1),0,1,1)+((OFFSET(EL_Area_Vol!$A$2,MATCH(AR18,capacitycurve,1)+1,0,1,1)-OFFSET(EL_Area_Vol!$A$2,MATCH(AR18,capacitycurve,1),0,1,1))*(AR18-OFFSET(EL_Area_Vol!$A$2,MATCH(AR18,capacitycurve,1),2,1,1))/(OFFSET(EL_Area_Vol!$A$2,MATCH(AR18,capacitycurve,1)+1,2,1,1)-OFFSET(EL_Area_Vol!$A$2,MATCH(AR18,capacitycurve,1),2,1,1)))","v":{"$error":"#DIV/0!"}},{"$f":"OFFSET(EL_Area_Vol!$A$2,MATCH(AS18,capacitycurve,1),0,1,1)+((OFFSET(EL_Area_Vol!$A$2,MATCH(AS18,capacitycurve,1)+1,0,1,1)-OFFSET(EL_Area_Vol!$A$2,MATCH(AS18,capacitycurve,1),0,1,1))*(AS18-OFFSET(EL_Area_Vol!$A$2,MATCH(AS18,capacitycurve,1),2,1,1))/(OFFSET(EL_Area_Vol!$A$2,MATCH(AS18,capacitycurve,1)+1,2,1,1)-OFFSET(EL_Area_Vol!$A$2,MATCH(AS18,capacitycurve,1),2,1,1)))","v":{"$error":"#DIV/0!"}},{"$f":"OFFSET(EL_Area_Vol!$A$2,MATCH(AT18,capacitycurve,1),0,1,1)+((OFFSET(EL_Area_Vol!$A$2,MATCH(AT18,capacitycurve,1)+1,0,1,1)-OFFSET(EL_Area_Vol!$A$2,MATCH(AT18,capacitycurve,1),0,1,1))*(AT18-OFFSET(EL_Area_Vol!$A$2,MATCH(AT18,capacitycurve,1),2,1,1))/(OFFSET(EL_Area_Vol!$A$2,MATCH(AT18,capacitycurve,1)+1,2,1,1)-OFFSET(EL_Area_Vol!$A$2,MATCH(AT18,capacitycurve,1),2,1,1)))","v":{"$error":"#DIV/0!"}}]
[null,"ม.ค.",{"$f":"C7","v":{"$error":"#DIV/0!"}},{"$f":"D7","v":{"$error":"#DIV/0!"}},{"$error":"#DIV/0!"},{"$f":"F7","v":{"$error":"#DIV/0!"}},{"$f":"G7","v":{"$error":"#DIV/0!"}},{"$f":"H7","v":{"$error":"#DIV/0!"}},{"$error":"#DIV/0!"},{"$error":"#DIV/0!"},{"$error":"#DIV/0!"},{"$error":"#DIV/0!"},{"$error":"#DIV/0!"},{"$error":"#DIV/0!"},{"$f":"+O7","v":0},{"$f":"+P7","v":0},{"$f":"OFFSET(EL_Area_Vol!$A$2,MATCH(O19,capacitycurve,1),0,1,1)+((OFFSET(EL_Area_Vol!$A$2,MATCH(O19,capacitycurve,1)+1,0,1,1)-OFFSET(EL_Area_Vol!$A$2,MATCH(O19,capacitycurve,1),0,1,1))*(O19-OFFSET(EL_Area_Vol!$A$2,MATCH(O19,capacitycurve,1),2,1,1))/(OFFSET(EL_Area_Vol!$A$2,MATCH(O19,capacitycurve,1)+1,2,1,1)-OFFSET(EL_Area_Vol!$A$2,MATCH(O19,capacitycurve,1),2,1,1)))","v":{"$error":"#N/A"}},{"$f":"OFFSET(EL_Area_Vol!$A$2,MATCH(P19,capacitycurve,1),0,1,1)+((OFFSET(EL_Area_Vol!$A$2,MATCH(P19,capacitycurve,1)+1,0,1,1)-OFFSET(EL_Area_Vol!$A$2,MATCH(P19,capacitycurve,1),0,1,1))*(P19-OFFSET(EL_Area_Vol!$A$2,MATCH(P19,capacitycurve,1),2,1,1))/(OFFSET(EL_Area_Vol!$A$2,MATCH(P19,capacitycurve,1)+1,2,1,1)-OFFSET(EL_Area_Vol!$A$2,MATCH(P19,capacitycurve,1),2,1,1)))","v":{"$error":"#N/A"}},null,null,null,null,null,null,null,null,"ค่าเฉลี่ยรายปี",{"$f":"'หา NRI'!C73","v":{"$error":"#DIV/0!"}},{"$f":"'หา NRI'!D73","v":{"$error":"#DIV/0!"}},null,null,null,null,null,null,null,null,null,null,{"$f":"AN7","v":0},{"$f":"AO7","v":0},{"$error":"#DIV/0!"},{"$error":"#DIV/0!"},{"$error":"#DIV/0!"},{"$error":"#DIV/0!"},{"$error":"#DIV/0!"},null,{"$f":"AV7","v":{"$error":"#N/A"}},{"$f":"AW7","v":{"$error":"#N/A"}},{"$error":"#DIV/0!"},{"$error":"#DIV/0!"},{"$error":"#DIV/0!"},{"$error":"#DIV/0!"},{"$error":"#DIV/0!"}]
[]
[]
[]
[null,null,"Rule Curve ปริมาณน้ำรายวัน",null,null,null,null,null,"Rule Curve ระดับน้ำรายวัน",null,null,null,null,null,"RC Vol.",null,"RC Level",null,null,null,null,null,null,null,null,null,null,null,null,"น้ำแล้ง",null,null,"น้ำมาก"]
[null,"วัน ","URC 5%","LRC 5%","URC 10%","LRC 10%","URC 15%","LRC 15%","URC 5%","LRC 5%","URC 10%","LRC 10%","URC 15%","LRC 15%","URC","LRC","URC","LRC",null,null,null,null,null,null,null,null,null,null,null,"ระดับ","ปี พ.ศ.","ค่าเฉลี่ยนรายปี","ระดับ","ปี พ.ศ.","ค่าเฉลี่ยนรายปี"]
[{"$f":"DAY(B25)","v":1},"2010-01-01",{"$f":"C7","v":{"$error":"#DIV/0!"}},{"$f":"F7","v":{"$error":"#DIV/0!"}},{"$f":"D7","v":{"$error":"#DIV/0!"}},{"$f":"G7","v":{"$error":"#DIV/0!"}},{"$f":"E7","v":{"$error":"#DIV/0!"}},{"$f":"H7","v":{"$error":"#DIV/0!"}},{"$f":"I7","v":{"$error":"#DIV/0!"}},{"$f":"L7","v":{"$error":"#DIV/0!"}},{"$f":"J7","v":{"$error":"#DIV/0!"}},{"$f":"M7","v":{"$error":"#DIV/0!"}},{"$f":"K7","v":{"$error":"#DIV/0!"}},{"$f":"N7","v":{"$error":"#DIV/0!"}},{"$f":"+O7","v":0},{"$f":"+P7","v":0},{"$f":"+Q7","v":{"$error":"#N/A"}},{"$f":"+R7","v":{"$error":"#N/A"}},null,null,null,null,null,null,null,null,null,null,null,{"$f":"'หา NRI'!H61","v":0.2},{"$f":"'หา NRI'!I61","v":{"$error":"#DIV/0!"}},{"$f":"'หา NRI'!J61","v":{"$error":"#DIV/0!"}},{"$f":"'หา NRI'!K61","v":0.75},{"$f":"'หา NRI'!L61","v":{"$error":"#DIV/0!"}},{"$f":"'หา NRI'!M61","v":{"$error":"#DIV/0!"}}]
[{"$f":"DAY(B26)","v":2},"2010-01-02",{"$f":"C$25+((C$56-C$25)*($A26-1)/31)","v":{"$error":"#DIV/0!"}},{"$f":"D$25+((D$56-D$25)*($A26-1)/31)","v":{"$error":"#DIV/0!"}},{"$error":"#DIV/0!"},{"$error":"#DIV/0!"},{"$error":"#DIV/0!"},{"$error":"#DIV/0!"},{"$f":"I$25+((I$56-I$25)*($A26-1)/31)","v":{"$error":"#DIV/0!"}},{"$error":"#DIV/0!"},{"$error":"#DIV/0!"},{"$error":"#DIV/0!"},{"$error":"#DIV/0!"},{"$error":"#DIV/0!"},{"$f":"O$25+((O$56-O$25)*($A26-1)/31)","v":0},{"$f":"P$25+((P$56-P$25)*($A26-1)/31)","v":0},{"$f":"Q$25+((Q$56-Q$25)*($A26-1)/31)","v":{"$error":"#N/A"}},{"$f":"R$25+((R$56-R$25)*($A26-1)/31)","v":{"$error":"#N/A"}},null,null,null,null,null,null,null,null,null,null,null,{"$f":"'หา NRI'!H62","v":""},{"$f":"'หา NRI'!I62","v":""},{"$f":"'หา NRI'!J62","v":""},{"$f":"'หา NRI'!K62","v":1},{"$f":"'หา NRI'!L62","v":{"$error":"#DIV/0!"}},{"$f":"'หา NRI'!M62","v":{"$error":"#DIV/0!"}}]
[3,"2010-01-03",{"$error":"#DIV/0!"},{"$error":"#DIV/0!"},{"$error":"#DIV/0!"},{"$error":"#DIV/0!"},{"$error":"#DIV/0!"},{"$error":"#DIV/0!"},{"$error":"#DIV/0!"},{"$error":"#DIV/0!"},{"$error":"#DIV/0!"},{"$error":"#DIV/0!"},{"$error":"#DIV/0!"},{"$error":"#DIV/0!"},0,0,{"$error":"#N/A"},{"$error":"#N/A"},null,null,null,null,null,null,null,null,null,null,null,{"$f":"'หา NRI'!H63","v":""},{"$f":"'หา NRI'!I63","v":""},{"$f":"'หา NRI'!J63","v":""},{"$f":"'หา NRI'!K63","v":""},{"$f":"'หา NRI'!L63","v":""},{"$f":"'หา NRI'!M63","v":""}]
[4,"2010-01-04",{"$error":"#DIV/0!"},{"$error":"#DIV/0!"},{"$error":"#DIV/0!"},{"$error":"#DIV/0!"},{"$error":"#DIV/0!"},{"$error":"#DIV/0!"},{"$error":"#DIV/0!"},{"$error":"#DIV/0!"},{"$error":"#DIV/0!"},{"$error":"#DIV/0!"},{"$error":"#DIV/0!"},{"$error":"#DIV/0!"},0,0,{"$error":"#N/A"},{"$error":"#N/A"},null,null,null,null,null,null,null,null,null,null,null,{"$f":"'หา NRI'!H64","v":""},{"$f":"'หา NRI'!I64","v":""},{"$f":"'หา NRI'!J64","v":""},{"$f":"'หา NRI'!K64","v":""},{"$f":"'หา NRI'!L64","v":""},{"$f":"'หา NRI'!M64","v":""}]
[5,"2010-01-05",{"$error":"#DIV/0!"},{"$error":"#DIV/0!"},{"$error":"#DIV/0!"},{"$error":"#DIV/0!"},{"$error":"#DIV/0!"},{"$error":"#DIV/0!"},{"$error":"#DIV/0!"},{"$error":"#DIV/0!"},{"$error":"#DIV/0!"},{"$error":"#DIV/0!"},{"$error":"#DIV/0!"},{"$error":"#DIV/0!"},0,0,{"$error":"#N/A"},{"$error":"#N/A"},null,null,null,null,null,null,null,null,null,null,null,{"$f":"'หา NRI'!H65","v":""},{"$f":"'หา NRI'!I65","v":""},{"$f":"'หา NRI'!J65","v":""},{"$f":"'หา NRI'!K65","v":""},{"$f":"'หา NRI'!L65","v":""},{"$f":"'หา NRI'!M65","v":""}]
[6,"2010-01-06",{"$error":"#DIV/0!"},{"$error":"#DIV/0!"},{"$error":"#DIV/0!"},{"$error":"#DIV/0!"},{"$error":"#DIV/0!"},{"$error":"#DIV/0!"},{"$error":"#DIV/0!"},{"$error":"#DIV/0!"},{"$error":"#DIV/0!"},{"$error":"#DIV/0!"},{"$error":"#DIV/0!"},{"$error":"#DIV/0!"},0,0,{"$error":"#N/A"},{"$error":"#N/A"},null,null,null,null,null,null,null,null,null,null,null,{"$f":"'หา NRI'!H66","v":""},{"$f":"'หา NRI'!I66","v":""},{"$f":"'หา NRI'!J66","v":""},{"$f":"'หา NRI'!K66","v":""},{"$f":"'หา NRI'!L66","v":""},{"$f":"'หา NRI'!M66","v":""}]
[7,"2010-01-07",{"$error":"#DIV/0!"},{"$error":"#DIV/0!"},{"$error":"#DIV/0!"},{"$error":"#DIV/0!"},{"$error":"#DIV/0!"},{"$error":"#DIV/0!"},{"$error":"#DIV/0!"},{"$error":"#DIV/0!"},{"$error":"#DIV/0!"},{"$error":"#DIV/0!"},{"$error":"#DIV/0!"},{"$error":"#DIV/0!"},0,0,{"$error":"#N/A"},{"$error":"#N/A"},null,null,null,null,null,null,null,null,null,null,null,{"$f":"'หา NRI'!H67","v":""},{"$f":"'หา NRI'!I67","v":""},{"$f":"'หา NRI'!J67","v":""},{"$f":"'หา NRI'!K67","v":""},{"$f":"'หา NRI'!L67","v":""},{"$f":"'หา NRI'!M67","v":""}]
[8,"2010-01-08",{"$error":"#DIV/0!"},{"$error":"#DIV/0!"},{"$error":"#DIV/0!"},{"$error":"#DIV/0!"},{"$error":"#DIV/0!"},{"$error":"#DIV/0!"},{"$error":"#DIV/0!"},{"$error":"#DIV/0!"},{"$error":"#DIV/0!"},{"$error":"#DIV/0!"},{"$error":"#DIV/0!"},{"$error":"#DIV/0!"},0,0,{"$error":"#N/A"},{"$error":"#N/A"},null,null,null,null,null,null,null,null,null,null,null,{"$f":"'หา NRI'!H68","v":""},{"$f":"'หา NRI'!I68","v":""},{"$f":"'หา NRI'!J68","v":""},{"$f":"'หา NRI'!K68","v":""},{"$f":"'หา NRI'!L68","v":""},{"$f":"'หา NRI'!M68","v":""}]
[9,"2010-01-09",{"$error":"#DIV/0!"},{"$error":"#DIV/0!"},{"$error":"#DIV/0!"},{"$error":"#DIV/0!"},{"$error":"#DIV/0!"},{"$error":"#DIV/0!"},{"$error":"#DIV/0!"},{"$error":"#DIV/0!"},{"$error":"#DIV/0!"},{"$error":"#DIV/0!"},{"$error":"#DIV/0!"},{"$error":"#DIV/0!"},0,0,{"$error":"#N/A"},{"$error":"#N/A"},null,null,null,null,null,null,null,null,null,null,null,{"$f":"'หา NRI'!H69","v":""},{"$f":"'หา NRI'!I69","v":""},{"$f":"'หา NRI'!J69","v":""},{"$f":"'หา NRI'!K69","v":""},{"$f":"'หา NRI'!L69","v":""},{"$f":"'หา NRI'!M69","v":""}]
[10,"2010-01-10",{"$error":"#DIV/0!"},{"$error":"#DIV/0!"},{"$error":"#DIV/0!"},{"$error":"#DIV/0!"},{"$error":"#DIV/0!"},{"$error":"#DIV/0!"},{"$error":"#DIV/0!"},{"$error":"#DIV/0!"},{"$error":"#DIV/0!"},{"$error":"#DIV/0!"},{"$error":"#DIV/0!"},{"$error":"#DIV/0!"},0,0,{"$error":"#N/A"},{"$error":"#N/A"},null,null,null,null,null,null,null,null,null,null,null,{"$f":"'หา NRI'!H70","v":""},{"$f":"'หา NRI'!I70","v":""},{"$f":"'หา NRI'!J70","v":""},{"$f":"'หา NRI'!K70","v":""},{"$f":"'หา NRI'!L70","v":""},{"$f":"'หา NRI'!M70","v":""}]
[11,"2010-01-11",{"$error":"#DIV/0!"},{"$error":"#DIV/0!"},{"$error":"#DIV/0!"},{"$error":"#DIV/0!"},{"$error":"#DIV/0!"},{"$error":"#DIV/0!"},{"$error":"#DIV/0!"},{"$error":"#DIV/0!"},{"$error":"#DIV/0!"},{"$error":"#DIV/0!"},{"$error":"#DIV/0!"},{"$error":"#DIV/0!"},0,0,{"$error":"#N/A"},{"$error":"#N/A"}]
[12,"2010-01-12",{"$error":"#DIV/0!"},{"$error":"#DIV/0!"},{"$error":"#DIV/0!"},{"$error":"#DIV/0!"},{"$error":"#DIV/0!"},{"$error":"#DIV/0!"},{"$error":"#DIV/0!"},{"$error":"#DIV/0!"},{"$error":"#DIV/0!"},{"$error":"#DIV/0!"},{"$error":"#DIV/0!"},{"$error":"#DIV/0!"},0,0,{"$error":"#N/A"},{"$error":"#N/A"}]
[13,"2010-01-13",{"$error":"#DIV/0!"},{"$error":"#DIV/0!"},{"$error":"#DIV/0!"},{"$error":"#DIV/0!"},{"$error":"#DIV/0!"},{"$error":"#DIV/0!"},{"$error":"#DIV/0!"},{"$error":"#DIV/0!"},{"$error":"#DIV/0!"},{"$error":"#DIV/0!"},{"$error":"#DIV/0!"},{"$error":"#DIV/0!"},0,0,{"$error":"#N/A"},{"$error":"#N/A"}]
[14,"2010-01-14",{"$error":"#DIV/0!"},{"$error":"#DIV/0!"},{"$error":"#DIV/0!"},{"$error":"#DIV/0!"},{"$error":"#DIV/0!"},{"$error":"#DIV/0!"},{"$error":"#DIV/0!"},{"$error":"#DIV/0!"},{"$error":"#DIV/0!"},{"$error":"#DIV/0!"},{"$error":"#DIV/0!"},{"$error":"#DIV/0!"},0,0,{"$error":"#N/A"},{"$error":"#N/A"}]
[15,"2010-01-15",{"$error":"#DIV/0!"},{"$error":"#DIV/0!"},{"$error":"#DIV/0!"},{"$error":"#DIV/0!"},{"$error":"#DIV/0!"},{"$error":"#DIV/0!"},{"$error":"#DIV/0!"},{"$error":"#DIV/0!"},{"$error":"#DIV/0!"},{"$error":"#DIV/0!"},{"$error":"#DIV/0!"},{"$error":"#DIV/0!"},0,0,{"$error":"#N/A"},{"$error":"#N/A"}]
[16,"2010-01-16",{"$error":"#DIV/0!"},{"$error":"#DIV/0!"},{"$error":"#DIV/0!"},{"$error":"#DIV/0!"},{"$error":"#DIV/0!"},{"$error":"#DIV/0!"},{"$error":"#DIV/0!"},{"$error":"#DIV/0!"},{"$error":"#DIV/0!"},{"$error":"#DIV/0!"},{"$error":"#DIV/0!"},{"$error":"#DIV/0!"},0,0,{"$error":"#N/A"},{"$error":"#N/A"}]
[17,"2010-01-17",{"$error":"#DIV/0!"},{"$error":"#DIV/0!"},{"$error":"#DIV/0!"},{"$error":"#DIV/0!"},{"$error":"#DIV/0!"},{"$error":"#DIV/0!"},{"$error":"#DIV/0!"},{"$error":"#DIV/0!"},{"$error":"#DIV/0!"},{"$error":"#DIV/0!"},{"$error":"#DIV/0!"},{"$f":"N$25+((N$56-N$25)*($A41-1)/31)","v":{"$error":"#DIV/0!"}},0,0,{"$error":"#N/A"},{"$error":"#N/A"}]
[18,"2010-01-18",{"$error":"#DIV/0!"},{"$f":"D$25+((D$56-D$25)*($A42-1)/31)","v":{"$error":"#DIV/0!"}},{"$error":"#DIV/0!"},{"$error":"#DIV/0!"},{"$error":"#DIV/0!"},{"$error":"#DIV/0!"},{"$error":"#DIV/0!"},{"$f":"J$25+((J$56-J$25)*($A42-1)/31)","v":{"$error":"#DIV/0!"}},{"$error":"#DIV/0!"},{"$error":"#DIV/0!"},{"$error":"#DIV/0!"},{"$error":"#DIV/0!"},0,0,{"$error":"#N/A"},{"$error":"#N/A"}]
[19,"2010-01-19",{"$error":"#DIV/0!"},{"$error":"#DIV/0!"},{"$error":"#DIV/0!"},{"$error":"#DIV/0!"},{"$error":"#DIV/0!"},{"$error":"#DIV/0!"},{"$error":"#DIV/0!"},{"$error":"#DIV/0!"},{"$error":"#DIV/0!"},{"$error":"#DIV/0!"},{"$error":"#DIV/0!"},{"$error":"#DIV/0!"},0,0,{"$error":"#N/A"},{"$error":"#N/A"}]
[20,"2010-01-20",{"$error":"#DIV/0!"},{"$error":"#DIV/0!"},{"$error":"#DIV/0!"},{"$error":"#DIV/0!"},{"$error":"#DIV/0!"},{"$error":"#DIV/0!"},{"$error":"#DIV/0!"},{"$error":"#DIV/0!"},{"$error":"#DIV/0!"},{"$error":"#DIV/0!"},{"$error":"#DIV/0!"},{"$error":"#DIV/0!"},0,0,{"$error":"#N/A"},{"$error":"#N/A"}]
[21,"2010-01-21",{"$error":"#DIV/0!"},{"$error":"#DIV/0!"},{"$error":"#DIV/0!"},{"$error":"#DIV/0!"},{"$error":"#DIV/0!"},{"$error":"#DIV/0!"},{"$error":"#DIV/0!"},{"$error":"#DIV/0!"},{"$error":"#DIV/0!"},{"$error":"#DIV/0!"},{"$error":"#DIV/0!"},{"$error":"#DIV/0!"},0,0,{"$error":"#N/A"},{"$error":"#N/A"}]
[22,"2010-01-22",{"$error":"#DIV/0!"},{"$error":"#DIV/0!"},{"$error":"#DIV/0!"},{"$error":"#DIV/0!"},{"$error":"#DIV/0!"},{"$error":"#DIV/0!"},{"$error":"#DIV/0!"},{"$error":"#DIV/0!"},{"$error":"#DIV/0!"},{"$error":"#DIV/0!"},{"$error":"#DIV/0!"},{"$error":"#DIV/0!"},0,0,{"$error":"#N/A"},{"$error":"#N/A"}]
[23,"2010-01-23",{"$error":"#DIV/0!"},{"$error":"#DIV/0!"},{"$error":"#DIV/0!"},{"$error":"#DIV/0!"},{"$error":"#DIV/0!"},{"$error":"#DIV/0!"},{"$error":"#DIV/0!"},{"$error":"#DIV/0!"},{"$error":"#DIV/0!"},{"$error":"#DIV/0!"},{"$error":"#DIV/0!"},{"$error":"#DIV/0!"},0,0,{"$error":"#N/A"},{"$error":"#N/A"}]
[24,"2010-01-24",{"$error":"#DIV/0!"},{"$error":"#DIV/0!"},{"$error":"#DIV/0!"},{"$error":"#DIV/0!"},{"$error":"#DIV/0!"},{"$error":"#DIV/0!"},{"$error":"#DIV/0!"},{"$error":"#DIV/0!"},{"$error":"#DIV/0!"},{"$error":"#DIV/0!"},{"$error":"#DIV/0!"},{"$error":"#DIV/0!"},0,0,{"$error":"#N/A"},{"$error":"#N/A"}]
[25,"2010-01-25",{"$error":"#DIV/0!"},{"$error":"#DIV/0!"},{"$error":"#DIV/0!"},{"$error":"#DIV/0!"},{"$error":"#DIV/0!"},{"$error":"#DIV/0!"},{"$error":"#DIV/0!"},{"$error":"#DIV/0!"},{"$error":"#DIV/0!"},{"$error":"#DIV/0!"},{"$error":"#DIV/0!"},{"$error":"#DIV/0!"},0,0,{"$error":"#N/A"},{"$error":"#N/A"}]
[26,"2010-01-26",{"$error":"#DIV/0!"},{"$error":"#DIV/0!"},{"$error":"#DIV/0!"},{"$error":"#DIV/0!"},{"$error":"#DIV/0!"},{"$error":"#DIV/0!"},{"$error":"#DIV/0!"},{"$error":"#DIV/0!"},{"$error":"#DIV/0!"},{"$error":"#DIV/0!"},{"$error":"#DIV/0!"},{"$error":"#DIV/0!"},0,0,{"$error":"#N/A"},{"$error":"#N/A"}]
[27,"2010-01-27",{"$error":"#DIV/0!"},{"$error":"#DIV/0!"},{"$error":"#DIV/0!"},{"$error":"#DIV/0!"},{"$error":"#DIV/0!"},{"$error":"#DIV/0!"},{"$error":"#DIV/0!"},{"$error":"#DIV/0!"},{"$error":"#DIV/0!"},{"$error":"#DIV/0!"},{"$error":"#DIV/0!"},{"$error":"#DIV/0!"},0,0,{"$error":"#N/A"},{"$error":"#N/A"}]
[28,"2010-01-28",{"$error":"#DIV/0!"},{"$error":"#DIV/0!"},{"$error":"#DIV/0!"},{"$error":"#DIV/0!"},{"$error":"#DIV/0!"},{"$error":"#DIV/0!"},{"$error":"#DIV/0!"},{"$error":"#DIV/0!"},{"$error":"#DIV/0!"},{"$error":"#DIV/0!"},{"$error":"#DIV/0!"},{"$error":"#DIV/0!"},0,0,{"$error":"#N/A"},{"$error":"#N/A"}]
[29,"2010-01-29",{"$error":"#DIV/0!"},{"$error":"#DIV/0!"},{"$error":"#DIV/0!"},{"$error":"#DIV/0!"},{"$error":"#DIV/0!"},{"$error":"#DIV/0!"},{"$error":"#DIV/0!"},{"$error":"#DIV/0!"},{"$error":"#DIV/0!"},{"$error":"#DIV/0!"},{"$error":"#DIV/0!"},{"$error":"#DIV/0!"},0,0,{"$error":"#N/A"},{"$error":"#N/A"}]
[30,"2010-01-30",{"$error":"#DIV/0!"},{"$error":"#DIV/0!"},{"$error":"#DIV/0!"},{"$error":"#DIV/0!"},{"$error":"#DIV/0!"},{"$error":"#DIV/0!"},{"$error":"#DIV/0!"},{"$error":"#DIV/0!"},{"$error":"#DIV/0!"},{"$error":"#DIV/0!"},{"$error":"#DIV/0!"},{"$error":"#DIV/0!"},0,0,{"$error":"#N/A"},{"$error":"#N/A"}]
[31,"2010-01-31",{"$error":"#DIV/0!"},{"$error":"#DIV/0!"},{"$error":"#DIV/0!"},{"$error":"#DIV/0!"},{"$error":"#DIV/0!"},{"$error":"#DIV/0!"},{"$error":"#DIV/0!"},{"$error":"#DIV/0!"},{"$error":"#DIV/0!"},{"$error":"#DIV/0!"},{"$error":"#DIV/0!"},{"$error":"#DIV/0!"},0,0,{"$error":"#N/A"},{"$error":"#N/A"}]
[1,"2010-02-01",{"$f":"C8","v":{"$error":"#DIV/0!"}},{"$f":"F8","v":{"$error":"#DIV/0!"}},{"$f":"D8","v":{"$error":"#DIV/0!"}},{"$f":"G8","v":{"$error":"#DIV/0!"}},{"$f":"E8","v":{"$error":"#DIV/0!"}},{"$f":"H8","v":{"$error":"#DIV/0!"}},{"$f":"I8","v":{"$error":"#DIV/0!"}},{"$f":"L8","v":{"$error":"#DIV/0!"}},{"$f":"J8","v":{"$error":"#DIV/0!"}},{"$f":"M8","v":{"$error":"#DIV/0!"}},{"$f":"K8","v":{"$error":"#DIV/0!"}},{"$f":"N8","v":{"$error":"#DIV/0!"}},{"$f":"+O8","v":0},{"$f":"+P8","v":0},{"$f":"+Q8","v":{"$error":"#N/A"}},{"$f":"+R8","v":{"$error":"#N/A"}}]
[2,"2010-02-02",{"$f":"C$56+((C$84-C$56)*($A57-1)/28)","v":{"$error":"#DIV/0!"}},{"$f":"D$56+((D$84-D$56)*($A57-1)/28)","v":{"$error":"#DIV/0!"}},{"$error":"#DIV/0!"},{"$error":"#DIV/0!"},{"$error":"#DIV/0!"},{"$error":"#DIV/0!"},{"$error":"#DIV/0!"},{"$error":"#DIV/0!"},{"$error":"#DIV/0!"},{"$error":"#DIV/0!"},{"$error":"#DIV/0!"},{"$error":"#DIV/0!"},{"$f":"O$56+((O$84-O$56)*($A57-1)/28)","v":0},{"$f":"P$56+((P$84-P$56)*($A57-1)/28)","v":0},{"$f":"Q$56+((Q$84-Q$56)*($A57-1)/28)","v":{"$error":"#N/A"}},{"$f":"R$56+((R$84-R$56)*($A57-1)/28)","v":{"$error":"#N/A"}}]
[3,"2010-02-03",{"$error":"#DIV/0!"},{"$error":"#DIV/0!"},{"$error":"#DIV/0!"},{"$error":"#DIV/0!"},{"$error":"#DIV/0!"},{"$error":"#DIV/0!"},{"$error":"#DIV/0!"},{"$error":"#DIV/0!"},{"$error":"#DIV/0!"},{"$error":"#DIV/0!"},{"$error":"#DIV/0!"},{"$error":"#DIV/0!"},0,0,{"$error":"#N/A"},{"$error":"#N/A"}]
[4,"2010-02-04",{"$error":"#DIV/0!"},{"$error":"#DIV/0!"},{"$error":"#DIV/0!"},{"$error":"#DIV/0!"},{"$error":"#DIV/0!"},{"$error":"#DIV/0!"},{"$error":"#DIV/0!"},{"$error":"#DIV/0!"},{"$error":"#DIV/0!"},{"$error":"#DIV/0!"},{"$error":"#DIV/0!"},{"$error":"#DIV/0!"},0,0,{"$error":"#N/A"},{"$error":"#N/A"}]
[5,"2010-02-05",{"$error":"#DIV/0!"},{"$error":"#DIV/0!"},{"$error":"#DIV/0!"},{"$error":"#DIV/0!"},{"$error":"#DIV/0!"},{"$error":"#DIV/0!"},{"$error":"#DIV/0!"},{"$error":"#DIV/0!"},{"$error":"#DIV/0!"},{"$error":"#DIV/0!"},{"$error":"#DIV/0!"},{"$error":"#DIV/0!"},0,0,{"$error":"#N/A"},{"$error":"#N/A"}]
[6,"2010-02-06",{"$error":"#DIV/0!"},{"$error":"#DIV/0!"},{"$error":"#DIV/0!"},{"$error":"#DIV/0!"},{"$error":"#DIV/0!"},{"$error":"#DIV/0!"},{"$error":"#DIV/0!"},{"$error":"#DIV/0!"},{"$error":"#DIV/0!"},{"$error":"#DIV/0!"},{"$error":"#DIV/0!"},{"$error":"#DIV/0!"},0,0,{"$error":"#N/A"},{"$error":"#N/A"}]
[7,"2010-02-07",{"$error":"#DIV/0!"},{"$error":"#DIV/0!"},{"$error":"#DIV/0!"},{"$error":"#DIV/0!"},{"$error":"#DIV/0!"},{"$error":"#DIV/0!"},{"$error":"#DIV/0!"},{"$error":"#DIV/0!"},{"$error":"#DIV/0!"},{"$error":"#DIV/0!"},{"$error":"#DIV/0!"},{"$error":"#DIV/0!"},0,0,{"$error":"#N/A"},{"$error":"#N/A"}]
[8,"2010-02-08",{"$error":"#DIV/0!"},{"$error":"#DIV/0!"},{"$error":"#DIV/0!"},{"$error":"#DIV/0!"},{"$error":"#DIV/0!"},{"$error":"#DIV/0!"},{"$error":"#DIV/0!"},{"$error":"#DIV/0!"},{"$error":"#DIV/0!"},{"$error":"#DIV/0!"},{"$error":"#DIV/0!"},{"$error":"#DIV/0!"},0,0,{"$error":"#N/A"},{"$error":"#N/A"}]
[9,"2010-02-09",{"$error":"#DIV/0!"},{"$error":"#DIV/0!"},{"$error":"#DIV/0!"},{"$error":"#DIV/0!"},{"$error":"#DIV/0!"},{"$error":"#DIV/0!"},{"$error":"#DIV/0!"},{"$error":"#DIV/0!"},{"$error":"#DIV/0!"},{"$error":"#DIV/0!"},{"$error":"#DIV/0!"},{"$error":"#DIV/0!"},0,0,{"$error":"#N/A"},{"$error":"#N/A"}]
[10,"2010-02-10",{"$error":"#DIV/0!"},{"$error":"#DIV/0!"},{"$error":"#DIV/0!"},{"$error":"#DIV/0!"},{"$error":"#DIV/0!"},{"$error":"#DIV/0!"},{"$error":"#DIV/0!"},{"$error":"#DIV/0!"},{"$error":"#DIV/0!"},{"$error":"#DIV/0!"},{"$error":"#DIV/0!"},{"$error":"#DIV/0!"},0,0,{"$error":"#N/A"},{"$error":"#N/A"}]
[11,"2010-02-11",{"$error":"#DIV/0!"},{"$error":"#DIV/0!"},{"$error":"#DIV/0!"},{"$error":"#DIV/0!"},{"$error":"#DIV/0!"},{"$error":"#DIV/0!"},{"$error":"#DIV/0!"},{"$error":"#DIV/0!"},{"$error":"#DIV/0!"},{"$error":"#DIV/0!"},{"$error":"#DIV/0!"},{"$error":"#DIV/0!"},0,0,{"$error":"#N/A"},{"$error":"#N/A"}]
[12,"2010-02-12",{"$error":"#DIV/0!"},{"$error":"#DIV/0!"},{"$error":"#DIV/0!"},{"$error":"#DIV/0!"},{"$error":"#DIV/0!"},{"$error":"#DIV/0!"},{"$error":"#DIV/0!"},{"$error":"#DIV/0!"},{"$error":"#DIV/0!"},{"$error":"#DIV/0!"},{"$error":"#DIV/0!"},{"$error":"#DIV/0!"},0,0,{"$error":"#N/A"},{"$error":"#N/A"}]
[13,"2010-02-13",{"$error":"#DIV/0!"},{"$error":"#DIV/0!"},{"$error":"#DIV/0!"},{"$error":"#DIV/0!"},{"$error":"#DIV/0!"},{"$error":"#DIV/0!"},{"$error":"#DIV/0!"},{"$error":"#DIV/0!"},{"$error":"#DIV/0!"},{"$error":"#DIV/0!"},{"$error":"#DIV/0!"},{"$error":"#DIV/0!"},0,0,{"$error":"#N/A"},{"$error":"#N/A"}]
[14,"2010-02-14",{"$error":"#DIV/0!"},{"$error":"#DIV/0!"},{"$error":"#DIV/0!"},{"$error":"#DIV/0!"},{"$error":"#DIV/0!"},{"$error":"#DIV/0!"},{"$error":"#DIV/0!"},{"$error":"#DIV/0!"},{"$error":"#DIV/0!"},{"$error":"#DIV/0!"},{"$error":"#DIV/0!"},{"$error":"#DIV/0!"},0,0,{"$error":"#N/A"},{"$error":"#N/A"}]
[15,"2010-02-15",{"$error":"#DIV/0!"},{"$error":"#DIV/0!"},{"$error":"#DIV/0!"},{"$error":"#DIV/0!"},{"$error":"#DIV/0!"},{"$error":"#DIV/0!"},{"$error":"#DIV/0!"},{"$error":"#DIV/0!"},{"$error":"#DIV/0!"},{"$error":"#DIV/0!"},{"$error":"#DIV/0!"},{"$error":"#DIV/0!"},0,0,{"$error":"#N/A"},{"$error":"#N/A"}]
[16,"2010-02-16",{"$error":"#DIV/0!"},{"$error":"#DIV/0!"},{"$error":"#DIV/0!"},{"$error":"#DIV/0!"},{"$error":"#DIV/0!"},{"$error":"#DIV/0!"},{"$error":"#DIV/0!"},{"$error":"#DIV/0!"},{"$error":"#DIV/0!"},{"$error":"#DIV/0!"},{"$error":"#DIV/0!"},{"$error":"#DIV/0!"},0,0,{"$error":"#N/A"},{"$error":"#N/A"}]
[17,"2010-02-17",{"$error":"#DIV/0!"},{"$error":"#DIV/0!"},{"$error":"#DIV/0!"},{"$error":"#DIV/0!"},{"$error":"#DIV/0!"},{"$error":"#DIV/0!"},{"$error":"#DIV/0!"},{"$error":"#DIV/0!"},{"$error":"#DIV/0!"},{"$error":"#DIV/0!"},{"$error":"#DIV/0!"},{"$error":"#DIV/0!"},0,0,{"$error":"#N/A"},{"$error":"#N/A"}]
[18,"2010-02-18",{"$error":"#DIV/0!"},{"$f":"D$56+((D$84-D$56)*($A73-1)/28)","v":{"$error":"#DIV/0!"}},{"$error":"#DIV/0!"},{"$error":"#DIV/0!"},{"$error":"#DIV/0!"},{"$error":"#DIV/0!"},{"$error":"#DIV/0!"},{"$error":"#DIV/0!"},{"$error":"#DIV/0!"},{"$error":"#DIV/0!"},{"$error":"#DIV/0!"},{"$error":"#DIV/0!"},0,0,{"$error":"#N/A"},{"$error":"#N/A"}]
[19,"2010-02-19",{"$error":"#DIV/0!"},{"$error":"#DIV/0!"},{"$error":"#DIV/0!"},{"$error":"#DIV/0!"},{"$error":"#DIV/0!"},{"$error":"#DIV/0!"},{"$error":"#DIV/0!"},{"$error":"#DIV/0!"},{"$error":"#DIV/0!"},{"$error":"#DIV/0!"},{"$error":"#DIV/0!"},{"$error":"#DIV/0!"},0,0,{"$error":"#N/A"},{"$error":"#N/A"}]
[20,"2010-02-20",{"$error":"#DIV/0!"},{"$error":"#DIV/0!"},{"$error":"#DIV/0!"},{"$error":"#DIV/0!"},{"$error":"#DIV/0!"},{"$error":"#DIV/0!"},{"$error":"#DIV/0!"},{"$error":"#DIV/0!"},{"$error":"#DIV/0!"},{"$error":"#DIV/0!"},{"$error":"#DIV/0!"},{"$error":"#DIV/0!"},0,0,{"$error":"#N/A"},{"$error":"#N/A"}]
[21,"2010-02-21",{"$error":"#DIV/0!"},{"$error":"#DIV/0!"},{"$error":"#DIV/0!"},{"$error":"#DIV/0!"},{"$error":"#DIV/0!"},{"$error":"#DIV/0!"},{"$error":"#DIV/0!"},{"$error":"#DIV/0!"},{"$error":"#DIV/0!"},{"$error":"#DIV/0!"},{"$error":"#DIV/0!"},{"$error":"#DIV/0!"},0,0,{"$error":"#N/A"},{"$error":"#N/A"}]
[22,"2010-02-22",{"$error":"#DIV/0!"},{"$error":"#DIV/0!"},{"$error":"#DIV/0!"},{"$error":"#DIV/0!"},{"$error":"#DIV/0!"},{"$error":"#DIV/0!"},{"$error":"#DIV/0!"},{"$error":"#DIV/0!"},{"$error":"#DIV/0!"},{"$error":"#DIV/0!"},{"$error":"#DIV/0!"},{"$error":"#DIV/0!"},0,0,{"$error":"#N/A"},{"$error":"#N/A"}]
[23,"2010-02-23",{"$error":"#DIV/0!"},{"$error":"#DIV/0!"},{"$error":"#DIV/0!"},{"$error":"#DIV/0!"},{"$error":"#DIV/0!"},{"$error":"#DIV/0!"},{"$error":"#DIV/0!"},{"$error":"#DIV/0!"},{"$error":"#DIV/0!"},{"$error":"#DIV/0!"},{"$error":"#DIV/0!"},{"$error":"#DIV/0!"},0,0,{"$error":"#N/A"},{"$error":"#N/A"}]
[24,"2010-02-24",{"$error":"#DIV/0!"},{"$error":"#DIV/0!"},{"$error":"#DIV/0!"},{"$error":"#DIV/0!"},{"$error":"#DIV/0!"},{"$error":"#DIV/0!"},{"$error":"#DIV/0!"},{"$error":"#DIV/0!"},{"$error":"#DIV/0!"},{"$error":"#DIV/0!"},{"$error":"#DIV/0!"},{"$error":"#DIV/0!"},0,0,{"$error":"#N/A"},{"$error":"#N/A"}]
[25,"2010-02-25",{"$error":"#DIV/0!"},{"$error":"#DIV/0!"},{"$error":"#DIV/0!"},{"$error":"#DIV/0!"},{"$error":"#DIV/0!"},{"$error":"#DIV/0!"},{"$error":"#DIV/0!"},{"$error":"#DIV/0!"},{"$error":"#DIV/0!"},{"$error":"#DIV/0!"},{"$error":"#DIV/0!"},{"$error":"#DIV/0!"},0,0,{"$error":"#N/A"},{"$error":"#N/A"}]
[26,"2010-02-26",{"$error":"#DIV/0!"},{"$error":"#DIV/0!"},{"$error":"#DIV/0!"},{"$error":"#DIV/0!"},{"$error":"#DIV/0!"},{"$error":"#DIV/0!"},{"$error":"#DIV/0!"},{"$error":"#DIV/0!"},{"$error":"#DIV/0!"},{"$error":"#DIV/0!"},{"$error":"#DIV/0!"},{"$error":"#DIV/0!"},0,0,{"$error":"#N/A"},{"$error":"#N/A"}]
[27,"2010-02-27",{"$error":"#DIV/0!"},{"$error":"#DIV/0!"},{"$error":"#DIV/0!"},{"$error":"#DIV/0!"},{"$error":"#DIV/0!"},{"$error":"#DIV/0!"},{"$error":"#DIV/0!"},{"$error":"#DIV/0!"},{"$error":"#DIV/0!"},{"$error":"#DIV/0!"},{"$error":"#DIV/0!"},{"$error":"#DIV/0!"},0,0,{"$error":"#N/A"},{"$error":"#N/A"}]
[28,"2010-02-28",{"$error":"#DIV/0!"},{"$error":"#DIV/0!"},{"$error":"#DIV/0!"},{"$error":"#DIV/0!"},{"$error":"#DIV/0!"},{"$error":"#DIV/0!"},{"$error":"#DIV/0!"},{"$error":"#DIV/0!"},{"$error":"#DIV/0!"},{"$error":"#DIV/0!"},{"$error":"#DIV/0!"},{"$error":"#DIV/0!"},0,0,{"$error":"#N/A"},{"$error":"#N/A"}]
[1,"2010-03-01",{"$f":"C9","v":{"$error":"#DIV/0!"}},{"$f":"F9","v":{"$error":"#DIV/0!"}},{"$f":"D9","v":{"$error":"#DIV/0!"}},{"$f":"G9","v":{"$error":"#DIV/0!"}},{"$f":"E9","v":{"$error":"#DIV/0!"}},{"$f":"H9","v":{"$error":"#DIV/0!"}},{"$f":"I9","v":{"$error":"#DIV/0!"}},{"$f":"L9","v":{"$error":"#DIV/0!"}},{"$f":"J9","v":{"$error":"#DIV/0!"}},{"$f":"M9","v":{"$error":"#DIV/0!"}},{"$f":"K9","v":{"$error":"#DIV/0!"}},{"$f":"N9","v":{"$error":"#DIV/0!"}},{"$f":"+O9","v":0},{"$f":"+P9","v":0},{"$f":"+Q9","v":{"$error":"#N/A"}},{"$f":"+R9","v":{"$error":"#N/A"}}]
[2,"2010-03-02",{"$f":"C$84+((C$115-C$84)*($A85-1)/31)","v":{"$error":"#DIV/0!"}},{"$f":"D$84+((D$115-D$84)*($A85-1)/31)","v":{"$error":"#DIV/0!"}},{"$error":"#DIV/0!"},{"$error":"#DIV/0!"},{"$error":"#DIV/0!"},{"$error":"#DIV/0!"},{"$f":"I$84+((I$115-I$84)*($A85-1)/31)","v":{"$error":"#DIV/0!"}},{"$error":"#DIV/0!"},{"$error":"#DIV/0!"},{"$error":"#DIV/0!"},{"$error":"#DIV/0!"},{"$error":"#DIV/0!"},{"$f":"O$84+((O$115-O$84)*($A85-1)/31)","v":0},{"$f":"P$84+((P$115-P$84)*($A85-1)/31)","v":0},{"$f":"Q$84+((Q$115-Q$84)*($A85-1)/31)","v":{"$error":"#N/A"}},{"$f":"R$84+((R$115-R$84)*($A85-1)/31)","v":{"$error":"#N/A"}}]
[3,"2010-03-03",{"$f":"C$84+((C$115-C$84)*($A86-1)/31)","v":{"$error":"#DIV/0!"}},{"$error":"#DIV/0!"},{"$error":"#DIV/0!"},{"$error":"#DIV/0!"},{"$error":"#DIV/0!"},{"$error":"#DIV/0!"},{"$error":"#DIV/0!"},{"$error":"#DIV/0!"},{"$error":"#DIV/0!"},{"$error":"#DIV/0!"},{"$error":"#DIV/0!"},{"$error":"#DIV/0!"},0,0,{"$error":"#N/A"},{"$error":"#N/A"}]
[4,"2010-03-04",{"$error":"#DIV/0!"},{"$error":"#DIV/0!"},{"$error":"#DIV/0!"},{"$error":"#DIV/0!"},{"$error":"#DIV/0!"},{"$error":"#DIV/0!"},{"$error":"#DIV/0!"},{"$error":"#DIV/0!"},{"$error":"#DIV/0!"},{"$error":"#DIV/0!"},{"$error":"#DIV/0!"},{"$error":"#DIV/0!"},0,0,{"$error":"#N/A"},{"$error":"#N/A"}]
[5,"2010-03-05",{"$error":"#DIV/0!"},{"$error":"#DIV/0!"},{"$error":"#DIV/0!"},{"$error":"#DIV/0!"},{"$error":"#DIV/0!"},{"$error":"#DIV/0!"},{"$error":"#DIV/0!"},{"$error":"#DIV/0!"},{"$error":"#DIV/0!"},{"$error":"#DIV/0!"},{"$error":"#DIV/0!"},{"$error":"#DIV/0!"},0,0,{"$error":"#N/A"},{"$error":"#N/A"}]
[6,"2010-03-06",{"$error":"#DIV/0!"},{"$error":"#DIV/0!"},{"$error":"#DIV/0!"},{"$error":"#DIV/0!"},{"$error":"#DIV/0!"},{"$error":"#DIV/0!"},{"$error":"#DIV/0!"},{"$error":"#DIV/0!"},{"$error":"#DIV/0!"},{"$error":"#DIV/0!"},{"$error":"#DIV/0!"},{"$error":"#DIV/0!"},0,0,{"$error":"#N/A"},{"$error":"#N/A"}]
[{"$f":"DAY(B90)","v":7},"2010-03-07",{"$error":"#DIV/0!"},{"$error":"#DIV/0!"},{"$error":"#DIV/0!"},{"$error":"#DIV/0!"},{"$error":"#DIV/0!"},{"$error":"#DIV/0!"},{"$error":"#DIV/0!"},{"$error":"#DIV/0!"},{"$error":"#DIV/0!"},{"$error":"#DIV/0!"},{"$error":"#DIV/0!"},{"$error":"#DIV/0!"},0,0,{"$error":"#N/A"},{"$error":"#N/A"}]
[8,"2010-03-08",{"$error":"#DIV/0!"},{"$error":"#DIV/0!"},{"$error":"#DIV/0!"},{"$error":"#DIV/0!"},{"$error":"#DIV/0!"},{"$error":"#DIV/0!"},{"$error":"#DIV/0!"},{"$error":"#DIV/0!"},{"$error":"#DIV/0!"},{"$error":"#DIV/0!"},{"$error":"#DIV/0!"},{"$error":"#DIV/0!"},0,0,{"$error":"#N/A"},{"$error":"#N/A"}]
[9,"2010-03-09",{"$error":"#DIV/0!"},{"$error":"#DIV/0!"},{"$error":"#DIV/0!"},{"$error":"#DIV/0!"},{"$error":"#DIV/0!"},{"$error":"#DIV/0!"},{"$error":"#DIV/0!"},{"$error":"#DIV/0!"},{"$error":"#DIV/0!"},{"$error":"#DIV/0!"},{"$error":"#DIV/0!"},{"$error":"#DIV/0!"},0,0,{"$error":"#N/A"},{"$error":"#N/A"}]
[10,"2010-03-10",{"$error":"#DIV/0!"},{"$error":"#DIV/0!"},{"$error":"#DIV/0!"},{"$error":"#DIV/0!"},{"$error":"#DIV/0!"},{"$error":"#DIV/0!"},{"$error":"#DIV/0!"},{"$error":"#DIV/0!"},{"$error":"#DIV/0!"},{"$error":"#DIV/0!"},{"$error":"#DIV/0!"},{"$error":"#DIV/0!"},0,0,{"$error":"#N/A"},{"$error":"#N/A"}]
[11,"2010-03-11",{"$error":"#DIV/0!"},{"$error":"#DIV/0!"},{"$error":"#DIV/0!"},{"$error":"#DIV/0!"},{"$error":"#DIV/0!"},{"$error":"#DIV/0!"},{"$error":"#DIV/0!"},{"$error":"#DIV/0!"},{"$error":"#DIV/0!"},{"$error":"#DIV/0!"},{"$error":"#DIV/0!"},{"$error":"#DIV/0!"},0,0,{"$error":"#N/A"},{"$error":"#N/A"}]
[12,"2010-03-12",{"$error":"#DIV/0!"},{"$error":"#DIV/0!"},{"$error":"#DIV/0!"},{"$error":"#DIV/0!"},{"$error":"#DIV/0!"},{"$error":"#DIV/0!"},{"$error":"#DIV/0!"},{"$error":"#DIV/0!"},{"$error":"#DIV/0!"},{"$error":"#DIV/0!"},{"$error":"#DIV/0!"},{"$error":"#DIV/0!"},0,0,{"$error":"#N/A"},{"$error":"#N/A"}]
[13,"2010-03-13",{"$error":"#DIV/0!"},{"$error":"#DIV/0!"},{"$error":"#DIV/0!"},{"$error":"#DIV/0!"},{"$error":"#DIV/0!"},{"$error":"#DIV/0!"},{"$error":"#DIV/0!"},{"$error":"#DIV/0!"},{"$error":"#DIV/0!"},{"$error":"#DIV/0!"},{"$error":"#DIV/0!"},{"$error":"#DIV/0!"},0,0,{"$error":"#N/A"},{"$error":"#N/A"}]
[14,"2010-03-14",{"$error":"#DIV/0!"},{"$error":"#DIV/0!"},{"$error":"#DIV/0!"},{"$error":"#DIV/0!"},{"$error":"#DIV/0!"},{"$error":"#DIV/0!"},{"$error":"#DIV/0!"},{"$error":"#DIV/0!"},{"$error":"#DIV/0!"},{"$error":"#DIV/0!"},{"$error":"#DIV/0!"},{"$error":"#DIV/0!"},0,0,{"$error":"#N/A"},{"$error":"#N/A"}]
[15,"2010-03-15",{"$error":"#DIV/0!"},{"$error":"#DIV/0!"},{"$error":"#DIV/0!"},{"$error":"#DIV/0!"},{"$error":"#DIV/0!"},{"$error":"#DIV/0!"},{"$error":"#DIV/0!"},{"$error":"#DIV/0!"},{"$error":"#DIV/0!"},{"$error":"#DIV/0!"},{"$error":"#DIV/0!"},{"$error":"#DIV/0!"},0,0,{"$error":"#N/A"},{"$error":"#N/A"}]
[16,"2010-03-16",{"$error":"#DIV/0!"},{"$error":"#DIV/0!"},{"$error":"#DIV/0!"},{"$error":"#DIV/0!"},{"$error":"#DIV/0!"},{"$error":"#DIV/0!"},{"$error":"#DIV/0!"},{"$error":"#DIV/0!"},{"$error":"#DIV/0!"},{"$error":"#DIV/0!"},{"$error":"#DIV/0!"},{"$error":"#DIV/0!"},0,0,{"$error":"#N/A"},{"$error":"#N/A"}]
[17,"2010-03-17",{"$error":"#DIV/0!"},{"$error":"#DIV/0!"},{"$error":"#DIV/0!"},{"$error":"#DIV/0!"},{"$error":"#DIV/0!"},{"$error":"#DIV/0!"},{"$error":"#DIV/0!"},{"$error":"#DIV/0!"},{"$error":"#DIV/0!"},{"$error":"#DIV/0!"},{"$error":"#DIV/0!"},{"$error":"#DIV/0!"},0,0,{"$error":"#N/A"},{"$error":"#N/A"}]
[18,"2010-03-18",{"$error":"#DIV/0!"},{"$error":"#DIV/0!"},{"$error":"#DIV/0!"},{"$error":"#DIV/0!"},{"$error":"#DIV/0!"},{"$error":"#DIV/0!"},{"$error":"#DIV/0!"},{"$error":"#DIV/0!"},{"$error":"#DIV/0!"},{"$error":"#DIV/0!"},{"$error":"#DIV/0!"},{"$error":"#DIV/0!"},0,0,{"$error":"#N/A"},{"$error":"#N/A"}]
[19,"2010-03-19",{"$error":"#DIV/0!"},{"$error":"#DIV/0!"},{"$error":"#DIV/0!"},{"$error":"#DIV/0!"},{"$error":"#DIV/0!"},{"$error":"#DIV/0!"},{"$error":"#DIV/0!"},{"$error":"#DIV/0!"},{"$error":"#DIV/0!"},{"$error":"#DIV/0!"},{"$error":"#DIV/0!"},{"$error":"#DIV/0!"},0,0,{"$error":"#N/A"},{"$error":"#N/A"}]
[20,"2010-03-20",{"$error":"#DIV/0!"},{"$error":"#DIV/0!"},{"$error":"#DIV/0!"},{"$error":"#DIV/0!"},{"$error":"#DIV/0!"},{"$error":"#DIV/0!"},{"$error":"#DIV/0!"},{"$error":"#DIV/0!"},{"$error":"#DIV/0!"},{"$error":"#DIV/0!"},{"$error":"#DIV/0!"},{"$error":"#DIV/0!"},0,0,{"$error":"#N/A"},{"$error":"#N/A"}]
[21,"2010-03-21",{"$error":"#DIV/0!"},{"$error":"#DIV/0!"},{"$error":"#DIV/0!"},{"$error":"#DIV/0!"},{"$error":"#DIV/0!"},{"$error":"#DIV/0!"},{"$error":"#DIV/0!"},{"$error":"#DIV/0!"},{"$error":"#DIV/0!"},{"$error":"#DIV/0!"},{"$error":"#DIV/0!"},{"$error":"#DIV/0!"},0,0,{"$error":"#N/A"},{"$error":"#N/A"}]
[22,"2010-03-22",{"$error":"#DIV/0!"},{"$error":"#DIV/0!"},{"$error":"#DIV/0!"},{"$error":"#DIV/0!"},{"$error":"#DIV/0!"},{"$error":"#DIV/0!"},{"$error":"#DIV/0!"},{"$error":"#DIV/0!"},{"$error":"#DIV/0!"},{"$error":"#DIV/0!"},{"$error":"#DIV/0!"},{"$error":"#DIV/0!"},0,0,{"$error":"#N/A"},{"$error":"#N/A"}]
[23,"2010-03-23",{"$error":"#DIV/0!"},{"$error":"#DIV/0!"},{"$error":"#DIV/0!"},{"$error":"#DIV/0!"},{"$error":"#DIV/0!"},{"$error":"#DIV/0!"},{"$error":"#DIV/0!"},{"$error":"#DIV/0!"},{"$error":"#DIV/0!"},{"$error":"#DIV/0!"},{"$error":"#DIV/0!"},{"$error":"#DIV/0!"},0,0,{"$error":"#N/A"},{"$error":"#N/A"}]
[24,"2010-03-24",{"$error":"#DIV/0!"},{"$error":"#DIV/0!"},{"$error":"#DIV/0!"},{"$error":"#DIV/0!"},{"$error":"#DIV/0!"},{"$error":"#DIV/0!"},{"$error":"#DIV/0!"},{"$error":"#DIV/0!"},{"$error":"#DIV/0!"},{"$error":"#DIV/0!"},{"$error":"#DIV/0!"},{"$error":"#DIV/0!"},0,0,{"$error":"#N/A"},{"$error":"#N/A"}]
[25,"2010-03-25",{"$error":"#DIV/0!"},{"$error":"#DIV/0!"},{"$error":"#DIV/0!"},{"$error":"#DIV/0!"},{"$error":"#DIV/0!"},{"$error":"#DIV/0!"},{"$error":"#DIV/0!"},{"$error":"#DIV/0!"},{"$error":"#DIV/0!"},{"$error":"#DIV/0!"},{"$error":"#DIV/0!"},{"$error":"#DIV/0!"},0,0,{"$error":"#N/A"},{"$error":"#N/A"}]
[26,"2010-03-26",{"$error":"#DIV/0!"},{"$error":"#DIV/0!"},{"$error":"#DIV/0!"},{"$error":"#DIV/0!"},{"$error":"#DIV/0!"},{"$error":"#DIV/0!"},{"$error":"#DIV/0!"},{"$error":"#DIV/0!"},{"$error":"#DIV/0!"},{"$error":"#DIV/0!"},{"$error":"#DIV/0!"},{"$error":"#DIV/0!"},0,0,{"$error":"#N/A"},{"$error":"#N/A"}]
[27,"2010-03-27",{"$error":"#DIV/0!"},{"$error":"#DIV/0!"},{"$error":"#DIV/0!"},{"$error":"#DIV/0!"},{"$error":"#DIV/0!"},{"$error":"#DIV/0!"},{"$error":"#DIV/0!"},{"$error":"#DIV/0!"},{"$error":"#DIV/0!"},{"$error":"#DIV/0!"},{"$error":"#DIV/0!"},{"$error":"#DIV/0!"},0,0,{"$error":"#N/A"},{"$error":"#N/A"}]
[28,"2010-03-28",{"$error":"#DIV/0!"},{"$error":"#DIV/0!"},{"$error":"#DIV/0!"},{"$error":"#DIV/0!"},{"$error":"#DIV/0!"},{"$error":"#DIV/0!"},{"$error":"#DIV/0!"},{"$error":"#DIV/0!"},{"$error":"#DIV/0!"},{"$error":"#DIV/0!"},{"$error":"#DIV/0!"},{"$error":"#DIV/0!"},0,0,{"$error":"#N/A"},{"$error":"#N/A"}]
[29,"2010-03-29",{"$error":"#DIV/0!"},{"$error":"#DIV/0!"},{"$error":"#DIV/0!"},{"$error":"#DIV/0!"},{"$error":"#DIV/0!"},{"$error":"#DIV/0!"},{"$error":"#DIV/0!"},{"$error":"#DIV/0!"},{"$error":"#DIV/0!"},{"$error":"#DIV/0!"},{"$error":"#DIV/0!"},{"$error":"#DIV/0!"},0,0,{"$error":"#N/A"},{"$error":"#N/A"}]
[30,"2010-03-30",{"$error":"#DIV/0!"},{"$error":"#DIV/0!"},{"$error":"#DIV/0!"},{"$error":"#DIV/0!"},{"$error":"#DIV/0!"},{"$error":"#DIV/0!"},{"$error":"#DIV/0!"},{"$error":"#DIV/0!"},{"$error":"#DIV/0!"},{"$error":"#DIV/0!"},{"$error":"#DIV/0!"},{"$error":"#DIV/0!"},0,0,{"$error":"#N/A"},{"$error":"#N/A"}]
[31,"2010-03-31",{"$error":"#DIV/0!"},{"$error":"#DIV/0!"},{"$error":"#DIV/0!"},{"$error":"#DIV/0!"},{"$error":"#DIV/0!"},{"$error":"#DIV/0!"},{"$error":"#DIV/0!"},{"$error":"#DIV/0!"},{"$error":"#DIV/0!"},{"$error":"#DIV/0!"},{"$error":"#DIV/0!"},{"$error":"#DIV/0!"},0,0,{"$error":"#N/A"},{"$error":"#N/A"}]
[1,"2010-04-01",{"$f":"C10","v":{"$error":"#DIV/0!"}},{"$f":"F10","v":{"$error":"#DIV/0!"}},{"$f":"D10","v":{"$error":"#DIV/0!"}},{"$f":"G10","v":{"$error":"#DIV/0!"}},{"$f":"E10","v":{"$error":"#DIV/0!"}},{"$f":"H10","v":{"$error":"#DIV/0!"}},{"$f":"I10","v":{"$error":"#DIV/0!"}},{"$f":"L10","v":{"$error":"#DIV/0!"}},{"$f":"J10","v":{"$error":"#DIV/0!"}},{"$f":"M10","v":{"$error":"#DIV/0!"}},{"$f":"K10","v":{"$error":"#DIV/0!"}},{"$f":"N10","v":{"$error":"#DIV/0!"}},{"$f":"O10","v":0},{"$f":"P10","v":0},{"$f":"Q10","v":{"$error":"#N/A"}},{"$f":"R10","v":{"$error":"#N/A"}}]
[2,"2010-04-02",{"$f":"C$115+((C$145-C$115)*($A116-1)/30)","v":{"$error":"#DIV/0!"}},{"$f":"D$115+((D$145-D$115)*($A116-1)/30)","v":{"$error":"#DIV/0!"}},{"$error":"#DIV/0!"},{"$error":"#DIV/0!"},{"$error":"#DIV/0!"},{"$error":"#DIV/0!"},{"$f":"I$115+((I$145-I$115)*($A116-1)/30)","v":{"$error":"#DIV/0!"}},{"$error":"#DIV/0!"},{"$error":"#DIV/0!"},{"$error":"#DIV/0!"},{"$error":"#DIV/0!"},{"$error":"#DIV/0!"},{"$f":"O$115+((O$145-O$115)*($A116-1)/30)","v":0},{"$f":"P$115+((P$145-P$115)*($A116-1)/30)","v":0},{"$f":"Q$115+((Q$145-Q$115)*($A116-1)/30)","v":{"$error":"#N/A"}},{"$f":"R$115+((R$145-R$115)*($A116-1)/30)","v":{"$error":"#N/A"}}]
[3,"2010-04-03",{"$f":"C$115+((C$145-C$115)*($A117-1)/30)","v":{"$error":"#DIV/0!"}},{"$error":"#DIV/0!"},{"$error":"#DIV/0!"},{"$error":"#DIV/0!"},{"$error":"#DIV/0!"},{"$error":"#DIV/0!"},{"$error":"#DIV/0!"},{"$error":"#DIV/0!"},{"$error":"#DIV/0!"},{"$error":"#DIV/0!"},{"$error":"#DIV/0!"},{"$error":"#DIV/0!"},0,0,{"$error":"#N/A"},{"$error":"#N/A"}]
[4,"2010-04-04",{"$error":"#DIV/0!"},{"$error":"#DIV/0!"},{"$error":"#DIV/0!"},{"$error":"#DIV/0!"},{"$error":"#DIV/0!"},{"$error":"#DIV/0!"},{"$error":"#DIV/0!"},{"$error":"#DIV/0!"},{"$error":"#DIV/0!"},{"$error":"#DIV/0!"},{"$error":"#DIV/0!"},{"$error":"#DIV/0!"},0,0,{"$error":"#N/A"},{"$error":"#N/A"}]
[5,"2010-04-05",{"$error":"#DIV/0!"},{"$error":"#DIV/0!"},{"$error":"#DIV/0!"},{"$error":"#DIV/0!"},{"$error":"#DIV/0!"},{"$error":"#DIV/0!"},{"$error":"#DIV/0!"},{"$error":"#DIV/0!"},{"$error":"#DIV/0!"},{"$error":"#DIV/0!"},{"$error":"#DIV/0!"},{"$error":"#DIV/0!"},0,0,{"$error":"#N/A"},{"$error":"#N/A"}]
[6,"2010-04-06",{"$error":"#DIV/0!"},{"$error":"#DIV/0!"},{"$error":"#DIV/0!"},{"$error":"#DIV/0!"},{"$error":"#DIV/0!"},{"$error":"#DIV/0!"},{"$error":"#DIV/0!"},{"$error":"#DIV/0!"},{"$error":"#DIV/0!"},{"$error":"#DIV/0!"},{"$error":"#DIV/0!"},{"$error":"#DIV/0!"},0,0,{"$error":"#N/A"},{"$error":"#N/A"}]
[7,"2010-04-07",{"$error":"#DIV/0!"},{"$error":"#DIV/0!"},{"$error":"#DIV/0!"},{"$error":"#DIV/0!"},{"$error":"#DIV/0!"},{"$error":"#DIV/0!"},{"$error":"#DIV/0!"},{"$error":"#DIV/0!"},{"$error":"#DIV/0!"},{"$error":"#DIV/0!"},{"$error":"#DIV/0!"},{"$error":"#DIV/0!"},0,0,{"$error":"#N/A"},{"$error":"#N/A"}]
[8,"2010-04-08",{"$error":"#DIV/0!"},{"$error":"#DIV/0!"},{"$error":"#DIV/0!"},{"$error":"#DIV/0!"},{"$error":"#DIV/0!"},{"$error":"#DIV/0!"},{"$error":"#DIV/0!"},{"$error":"#DIV/0!"},{"$error":"#DIV/0!"},{"$error":"#DIV/0!"},{"$error":"#DIV/0!"},{"$error":"#DIV/0!"},0,0,{"$error":"#N/A"},{"$error":"#N/A"}]
[9,"2010-04-09",{"$error":"#DIV/0!"},{"$error":"#DIV/0!"},{"$error":"#DIV/0!"},{"$error":"#DIV/0!"},{"$error":"#DIV/0!"},{"$error":"#DIV/0!"},{"$error":"#DIV/0!"},{"$error":"#DIV/0!"},{"$error":"#DIV/0!"},{"$error":"#DIV/0!"},{"$error":"#DIV/0!"},{"$error":"#DIV/0!"},0,0,{"$error":"#N/A"},{"$error":"#N/A"}]
[10,"2010-04-10",{"$error":"#DIV/0!"},{"$error":"#DIV/0!"},{"$error":"#DIV/0!"},{"$error":"#DIV/0!"},{"$error":"#DIV/0!"},{"$error":"#DIV/0!"},{"$error":"#DIV/0!"},{"$error":"#DIV/0!"},{"$error":"#DIV/0!"},{"$error":"#DIV/0!"},{"$error":"#DIV/0!"},{"$error":"#DIV/0!"},0,0,{"$error":"#N/A"},{"$error":"#N/A"}]
[11,"2010-04-11",{"$error":"#DIV/0!"},{"$error":"#DIV/0!"},{"$error":"#DIV/0!"},{"$error":"#DIV/0!"},{"$error":"#DIV/0!"},{"$error":"#DIV/0!"},{"$error":"#DIV/0!"},{"$error":"#DIV/0!"},{"$error":"#DIV/0!"},{"$error":"#DIV/0!"},{"$error":"#DIV/0!"},{"$error":"#DIV/0!"},0,0,{"$error":"#N/A"},{"$error":"#N/A"}]
[12,"2010-04-12",{"$error":"#DIV/0!"},{"$error":"#DIV/0!"},{"$error":"#DIV/0!"},{"$error":"#DIV/0!"},{"$error":"#DIV/0!"},{"$error":"#DIV/0!"},{"$error":"#DIV/0!"},{"$error":"#DIV/0!"},{"$error":"#DIV/0!"},{"$error":"#DIV/0!"},{"$error":"#DIV/0!"},{"$error":"#DIV/0!"},0,0,{"$error":"#N/A"},{"$error":"#N/A"}]
[13,"2010-04-13",{"$error":"#DIV/0!"},{"$error":"#DIV/0!"},{"$error":"#DIV/0!"},{"$error":"#DIV/0!"},{"$error":"#DIV/0!"},{"$error":"#DIV/0!"},{"$error":"#DIV/0!"},{"$error":"#DIV/0!"},{"$error":"#DIV/0!"},{"$error":"#DIV/0!"},{"$error":"#DIV/0!"},{"$error":"#DIV/0!"},0,0,{"$error":"#N/A"},{"$error":"#N/A"}]
[14,"2010-04-14",{"$error":"#DIV/0!"},{"$error":"#DIV/0!"},{"$error":"#DIV/0!"},{"$error":"#DIV/0!"},{"$error":"#DIV/0!"},{"$error":"#DIV/0!"},{"$error":"#DIV/0!"},{"$error":"#DIV/0!"},{"$error":"#DIV/0!"},{"$error":"#DIV/0!"},{"$error":"#DIV/0!"},{"$error":"#DIV/0!"},0,0,{"$error":"#N/A"},{"$error":"#N/A"}]
[15,"2010-04-15",{"$error":"#DIV/0!"},{"$error":"#DIV/0!"},{"$error":"#DIV/0!"},{"$error":"#DIV/0!"},{"$error":"#DIV/0!"},{"$error":"#DIV/0!"},{"$error":"#DIV/0!"},{"$error":"#DIV/0!"},{"$error":"#DIV/0!"},{"$error":"#DIV/0!"},{"$error":"#DIV/0!"},{"$error":"#DIV/0!"},0,0,{"$error":"#N/A"},{"$error":"#N/A"}]
[16,"2010-04-16",{"$error":"#DIV/0!"},{"$error":"#DIV/0!"},{"$error":"#DIV/0!"},{"$error":"#DIV/0!"},{"$error":"#DIV/0!"},{"$error":"#DIV/0!"},{"$error":"#DIV/0!"},{"$error":"#DIV/0!"},{"$error":"#DIV/0!"},{"$error":"#DIV/0!"},{"$error":"#DIV/0!"},{"$error":"#DIV/0!"},0,0,{"$error":"#N/A"},{"$error":"#N/A"}]
[17,"2010-04-17",{"$error":"#DIV/0!"},{"$error":"#DIV/0!"},{"$error":"#DIV/0!"},{"$error":"#DIV/0!"},{"$error":"#DIV/0!"},{"$error":"#DIV/0!"},{"$error":"#DIV/0!"},{"$error":"#DIV/0!"},{"$error":"#DIV/0!"},{"$error":"#DIV/0!"},{"$error":"#DIV/0!"},{"$error":"#DIV/0!"},0,0,{"$error":"#N/A"},{"$error":"#N/A"}]
[18,"2010-04-18",{"$error":"#DIV/0!"},{"$error":"#DIV/0!"},{"$error":"#DIV/0!"},{"$error":"#DIV/0!"},{"$error":"#DIV/0!"},{"$error":"#DIV/0!"},{"$error":"#DIV/0!"},{"$error":"#DIV/0!"},{"$error":"#DIV/0!"},{"$error":"#DIV/0!"},{"$error":"#DIV/0!"},{"$error":"#DIV/0!"},0,0,{"$error":"#N/A"},{"$error":"#N/A"}]
[19,"2010-04-19",{"$error":"#DIV/0!"},{"$error":"#DIV/0!"},{"$error":"#DIV/0!"},{"$error":"#DIV/0!"},{"$error":"#DIV/0!"},{"$error":"#DIV/0!"},{"$error":"#DIV/0!"},{"$error":"#DIV/0!"},{"$error":"#DIV/0!"},{"$error":"#DIV/0!"},{"$error":"#DIV/0!"},{"$error":"#DIV/0!"},0,0,{"$error":"#N/A"},{"$error":"#N/A"}]
[20,"2010-04-20",{"$error":"#DIV/0!"},{"$error":"#DIV/0!"},{"$error":"#DIV/0!"},{"$error":"#DIV/0!"},{"$error":"#DIV/0!"},{"$error":"#DIV/0!"},{"$error":"#DIV/0!"},{"$error":"#DIV/0!"},{"$error":"#DIV/0!"},{"$error":"#DIV/0!"},{"$error":"#DIV/0!"},{"$error":"#DIV/0!"},0,0,{"$error":"#N/A"},{"$error":"#N/A"}]
[21,"2010-04-21",{"$error":"#DIV/0!"},{"$error":"#DIV/0!"},{"$error":"#DIV/0!"},{"$error":"#DIV/0!"},{"$error":"#DIV/0!"},{"$error":"#DIV/0!"},{"$error":"#DIV/0!"},{"$error":"#DIV/0!"},{"$error":"#DIV/0!"},{"$error":"#DIV/0!"},{"$error":"#DIV/0!"},{"$error":"#DIV/0!"},0,0,{"$error":"#N/A"},{"$error":"#N/A"}]
[22,"2010-04-22",{"$error":"#DIV/0!"},{"$error":"#DIV/0!"},{"$error":"#DIV/0!"},{"$error":"#DIV/0!"},{"$error":"#DIV/0!"},{"$error":"#DIV/0!"},{"$error":"#DIV/0!"},{"$error":"#DIV/0!"},{"$error":"#DIV/0!"},{"$error":"#DIV/0!"},{"$error":"#DIV/0!"},{"$error":"#DIV/0!"},0,0,{"$error":"#N/A"},{"$error":"#N/A"}]
[23,"2010-04-23",{"$error":"#DIV/0!"},{"$error":"#DIV/0!"},{"$error":"#DIV/0!"},{"$error":"#DIV/0!"},{"$error":"#DIV/0!"},{"$error":"#DIV/0!"},{"$error":"#DIV/0!"},{"$error":"#DIV/0!"},{"$error":"#DIV/0!"},{"$error":"#DIV/0!"},{"$error":"#DIV/0!"},{"$error":"#DIV/0!"},0,0,{"$error":"#N/A"},{"$error":"#N/A"}]
[24,"2010-04-24",{"$error":"#DIV/0!"},{"$error":"#DIV/0!"},{"$error":"#DIV/0!"},{"$error":"#DIV/0!"},{"$error":"#DIV/0!"},{"$error":"#DIV/0!"},{"$error":"#DIV/0!"},{"$error":"#DIV/0!"},{"$error":"#DIV/0!"},{"$error":"#DIV/0!"},{"$error":"#DIV/0!"},{"$error":"#DIV/0!"},0,0,{"$error":"#N/A"},{"$error":"#N/A"}]
[25,"2010-04-25",{"$error":"#DIV/0!"},{"$error":"#DIV/0!"},{"$error":"#DIV/0!"},{"$error":"#DIV/0!"},{"$error":"#DIV/0!"},{"$error":"#DIV/0!"},{"$error":"#DIV/0!"},{"$error":"#DIV/0!"},{"$error":"#DIV/0!"},{"$error":"#DIV/0!"},{"$error":"#DIV/0!"},{"$error":"#DIV/0!"},0,0,{"$error":"#N/A"},{"$error":"#N/A"}]
[26,"2010-04-26",{"$error":"#DIV/0!"},{"$error":"#DIV/0!"},{"$error":"#DIV/0!"},{"$error":"#DIV/0!"},{"$error":"#DIV/0!"},{"$error":"#DIV/0!"},{"$error":"#DIV/0!"},{"$error":"#DIV/0!"},{"$error":"#DIV/0!"},{"$error":"#DIV/0!"},{"$error":"#DIV/0!"},{"$error":"#DIV/0!"},0,0,{"$error":"#N/A"},{"$error":"#N/A"}]
[27,"2010-04-27",{"$error":"#DIV/0!"},{"$error":"#DIV/0!"},{"$error":"#DIV/0!"},{"$error":"#DIV/0!"},{"$error":"#DIV/0!"},{"$error":"#DIV/0!"},{"$error":"#DIV/0!"},{"$error":"#DIV/0!"},{"$error":"#DIV/0!"},{"$error":"#DIV/0!"},{"$error":"#DIV/0!"},{"$error":"#DIV/0!"},0,0,{"$error":"#N/A"},{"$error":"#N/A"}]
[28,"2010-04-28",{"$error":"#DIV/0!"},{"$error":"#DIV/0!"},{"$error":"#DIV/0!"},{"$error":"#DIV/0!"},{"$error":"#DIV/0!"},{"$error":"#DIV/0!"},{"$error":"#DIV/0!"},{"$error":"#DIV/0!"},{"$error":"#DIV/0!"},{"$error":"#DIV/0!"},{"$error":"#DIV/0!"},{"$error":"#DIV/0!"},0,0,{"$error":"#N/A"},{"$error":"#N/A"}]
[29,"2010-04-29",{"$error":"#DIV/0!"},{"$error":"#DIV/0!"},{"$error":"#DIV/0!"},{"$error":"#DIV/0!"},{"$error":"#DIV/0!"},{"$error":"#DIV/0!"},{"$error":"#DIV/0!"},{"$error":"#DIV/0!"},{"$error":"#DIV/0!"},{"$error":"#DIV/0!"},{"$error":"#DIV/0!"},{"$error":"#DIV/0!"},0,0,{"$error":"#N/A"},{"$error":"#N/A"}]
[30,"2010-04-30",{"$error":"#DIV/0!"},{"$error":"#DIV/0!"},{"$error":"#DIV/0!"},{"$error":"#DIV/0!"},{"$error":"#DIV/0!"},{"$error":"#DIV/0!"},{"$error":"#DIV/0!"},{"$error":"#DIV/0!"},{"$error":"#DIV/0!"},{"$error":"#DIV/0!"},{"$error":"#DIV/0!"},{"$error":"#DIV/0!"},0,0,{"$error":"#N/A"},{"$error":"#N/A"}]
[1,"2010-05-01",{"$f":"C11","v":{"$error":"#DIV/0!"}},{"$f":"F11","v":{"$error":"#DIV/0!"}},{"$f":"D11","v":{"$error":"#DIV/0!"}},{"$f":"G11","v":{"$error":"#DIV/0!"}},{"$f":"E11","v":{"$error":"#DIV/0!"}},{"$f":"H11","v":{"$error":"#DIV/0!"}},{"$f":"I11","v":{"$error":"#DIV/0!"}},{"$f":"L11","v":{"$error":"#DIV/0!"}},{"$f":"J11","v":{"$error":"#DIV/0!"}},{"$f":"M11","v":{"$error":"#DIV/0!"}},{"$f":"K11","v":{"$error":"#DIV/0!"}},{"$f":"N11","v":{"$error":"#DIV/0!"}},{"$f":"O11","v":0},{"$f":"P11","v":0},{"$f":"Q11","v":{"$error":"#N/A"}},{"$f":"R11","v":{"$error":"#N/A"}}]
[2,"2010-05-02",{"$f":"C$145+((C$176-C$145)*($A146-1)/31)","v":{"$error":"#DIV/0!"}},{"$f":"D$145+((D$176-D$145)*($A146-1)/31)","v":{"$error":"#DIV/0!"}},{"$error":"#DIV/0!"},{"$error":"#DIV/0!"},{"$error":"#DIV/0!"},{"$error":"#DIV/0!"},{"$f":"I$145+((I$176-I$145)*($A146-1)/31)","v":{"$error":"#DIV/0!"}},{"$error":"#DIV/0!"},{"$error":"#DIV/0!"},{"$error":"#DIV/0!"},{"$error":"#DIV/0!"},{"$error":"#DIV/0!"},{"$f":"O$145+((O$176-O$145)*($A146-1)/31)","v":0},{"$f":"P$145+((P$176-P$145)*($A146-1)/31)","v":0},{"$f":"Q$145+((Q$176-Q$145)*($A146-1)/31)","v":{"$error":"#N/A"}},{"$f":"R$145+((R$176-R$145)*($A146-1)/31)","v":{"$error":"#N/A"}}]
[3,"2010-05-03",{"$f":"C$145+((C$176-C$145)*($A147-1)/31)","v":{"$error":"#DIV/0!"}},{"$error":"#DIV/0!"},{"$error":"#DIV/0!"},{"$error":"#DIV/0!"},{"$error":"#DIV/0!"},{"$error":"#DIV/0!"},{"$error":"#DIV/0!"},{"$error":"#DIV/0!"},{"$error":"#DIV/0!"},{"$error":"#DIV/0!"},{"$error":"#DIV/0!"},{"$error":"#DIV/0!"},0,0,{"$error":"#N/A"},{"$error":"#N/A"}]
[4,"2010-05-04",{"$error":"#DIV/0!"},{"$error":"#DIV/0!"},{"$error":"#DIV/0!"},{"$error":"#DIV/0!"},{"$error":"#DIV/0!"},{"$error":"#DIV/0!"},{"$error":"#DIV/0!"},{"$error":"#DIV/0!"},{"$error":"#DIV/0!"},{"$error":"#DIV/0!"},{"$error":"#DIV/0!"},{"$error":"#DIV/0!"},0,0,{"$error":"#N/A"},{"$error":"#N/A"}]
[5,"2010-05-05",{"$error":"#DIV/0!"},{"$error":"#DIV/0!"},{"$error":"#DIV/0!"},{"$error":"#DIV/0!"},{"$error":"#DIV/0!"},{"$error":"#DIV/0!"},{"$error":"#DIV/0!"},{"$error":"#DIV/0!"},{"$error":"#DIV/0!"},{"$error":"#DIV/0!"},{"$error":"#DIV/0!"},{"$error":"#DIV/0!"},0,0,{"$error":"#N/A"},{"$error":"#N/A"}]
[6,"2010-05-06",{"$error":"#DIV/0!"},{"$error":"#DIV/0!"},{"$error":"#DIV/0!"},{"$error":"#DIV/0!"},{"$error":"#DIV/0!"},{"$error":"#DIV/0!"},{"$error":"#DIV/0!"},{"$error":"#DIV/0!"},{"$error":"#DIV/0!"},{"$error":"#DIV/0!"},{"$error":"#DIV/0!"},{"$error":"#DIV/0!"},0,0,{"$error":"#N/A"},{"$error":"#N/A"}]
[7,"2010-05-07",{"$error":"#DIV/0!"},{"$error":"#DIV/0!"},{"$error":"#DIV/0!"},{"$error":"#DIV/0!"},{"$error":"#DIV/0!"},{"$error":"#DIV/0!"},{"$error":"#DIV/0!"},{"$error":"#DIV/0!"},{"$error":"#DIV/0!"},{"$error":"#DIV/0!"},{"$error":"#DIV/0!"},{"$error":"#DIV/0!"},0,0,{"$error":"#N/A"},{"$error":"#N/A"}]
[8,"2010-05-08",{"$error":"#DIV/0!"},{"$error":"#DIV/0!"},{"$error":"#DIV/0!"},{"$error":"#DIV/0!"},{"$error":"#DIV/0!"},{"$error":"#DIV/0!"},{"$error":"#DIV/0!"},{"$error":"#DIV/0!"},{"$error":"#DIV/0!"},{"$error":"#DIV/0!"},{"$error":"#DIV/0!"},{"$error":"#DIV/0!"},0,0,{"$error":"#N/A"},{"$error":"#N/A"}]
[9,"2010-05-09",{"$error":"#DIV/0!"},{"$error":"#DIV/0!"},{"$error":"#DIV/0!"},{"$error":"#DIV/0!"},{"$error":"#DIV/0!"},{"$error":"#DIV/0!"},{"$error":"#DIV/0!"},{"$error":"#DIV/0!"},{"$error":"#DIV/0!"},{"$error":"#DIV/0!"},{"$error":"#DIV/0!"},{"$error":"#DIV/0!"},0,0,{"$error":"#N/A"},{"$error":"#N/A"}]
[{"$f":"DAY(B154)","v":10},"2010-05-10",{"$error":"#DIV/0!"},{"$error":"#DIV/0!"},{"$error":"#DIV/0!"},{"$error":"#DIV/0!"},{"$error":"#DIV/0!"},{"$error":"#DIV/0!"},{"$error":"#DIV/0!"},{"$error":"#DIV/0!"},{"$error":"#DIV/0!"},{"$error":"#DIV/0!"},{"$error":"#DIV/0!"},{"$error":"#DIV/0!"},0,0,{"$error":"#N/A"},{"$error":"#N/A"}]
[11,"2010-05-11",{"$error":"#DIV/0!"},{"$error":"#DIV/0!"},{"$error":"#DIV/0!"},{"$error":"#DIV/0!"},{"$error":"#DIV/0!"},{"$error":"#DIV/0!"},{"$error":"#DIV/0!"},{"$error":"#DIV/0!"},{"$error":"#DIV/0!"},{"$error":"#DIV/0!"},{"$error":"#DIV/0!"},{"$error":"#DIV/0!"},0,0,{"$error":"#N/A"},{"$error":"#N/A"}]
[12,"2010-05-12",{"$error":"#DIV/0!"},{"$error":"#DIV/0!"},{"$error":"#DIV/0!"},{"$error":"#DIV/0!"},{"$error":"#DIV/0!"},{"$error":"#DIV/0!"},{"$error":"#DIV/0!"},{"$error":"#DIV/0!"},{"$error":"#DIV/0!"},{"$error":"#DIV/0!"},{"$error":"#DIV/0!"},{"$error":"#DIV/0!"},0,0,{"$error":"#N/A"},{"$error":"#N/A"}]
[13,"2010-05-13",{"$error":"#DIV/0!"},{"$error":"#DIV/0!"},{"$error":"#DIV/0!"},{"$error":"#DIV/0!"},{"$error":"#DIV/0!"},{"$error":"#DIV/0!"},{"$error":"#DIV/0!"},{"$error":"#DIV/0!"},{"$error":"#DIV/0!"},{"$error":"#DIV/0!"},{"$error":"#DIV/0!"},{"$error":"#DIV/0!"},0,0,{"$error":"#N/A"},{"$error":"#N/A"}]
[14,"2010-05-14",{"$error":"#DIV/0!"},{"$error":"#DIV/0!"},{"$error":"#DIV/0!"},{"$error":"#DIV/0!"},{"$error":"#DIV/0!"},{"$error":"#DIV/0!"},{"$error":"#DIV/0!"},{"$error":"#DIV/0!"},{"$error":"#DIV/0!"},{"$error":"#DIV/0!"},{"$error":"#DIV/0!"},{"$error":"#DIV/0!"},0,0,{"$error":"#N/A"},{"$error":"#N/A"}]
[15,"2010-05-15",{"$error":"#DIV/0!"},{"$error":"#DIV/0!"},{"$error":"#DIV/0!"},{"$error":"#DIV/0!"},{"$error":"#DIV/0!"},{"$error":"#DIV/0!"},{"$error":"#DIV/0!"},{"$error":"#DIV/0!"},{"$error":"#DIV/0!"},{"$error":"#DIV/0!"},{"$error":"#DIV/0!"},{"$error":"#DIV/0!"},0,0,{"$error":"#N/A"},{"$error":"#N/A"}]
[16,"2010-05-16",{"$error":"#DIV/0!"},{"$error":"#DIV/0!"},{"$error":"#DIV/0!"},{"$error":"#DIV/0!"},{"$error":"#DIV/0!"},{"$error":"#DIV/0!"},{"$error":"#DIV/0!"},{"$error":"#DIV/0!"},{"$error":"#DIV/0!"},{"$error":"#DIV/0!"},{"$error":"#DIV/0!"},{"$error":"#DIV/0!"},0,0,{"$error":"#N/A"},{"$error":"#N/A"}]
[17,"2010-05-17",{"$error":"#DIV/0!"},{"$error":"#DIV/0!"},{"$error":"#DIV/0!"},{"$error":"#DIV/0!"},{"$error":"#DIV/0!"},{"$error":"#DIV/0!"},{"$error":"#DIV/0!"},{"$error":"#DIV/0!"},{"$error":"#DIV/0!"},{"$error":"#DIV/0!"},{"$error":"#DIV/0!"},{"$error":"#DIV/0!"},0,0,{"$error":"#N/A"},{"$error":"#N/A"}]
[18,"2010-05-18",{"$error":"#DIV/0!"},{"$error":"#DIV/0!"},{"$error":"#DIV/0!"},{"$error":"#DIV/0!"},{"$error":"#DIV/0!"},{"$error":"#DIV/0!"},{"$error":"#DIV/0!"},{"$error":"#DIV/0!"},{"$error":"#DIV/0!"},{"$error":"#DIV/0!"},{"$error":"#DIV/0!"},{"$error":"#DIV/0!"},0,0,{"$error":"#N/A"},{"$error":"#N/A"}]
[19,"2010-05-19",{"$error":"#DIV/0!"},{"$error":"#DIV/0!"},{"$error":"#DIV/0!"},{"$error":"#DIV/0!"},{"$error":"#DIV/0!"},{"$error":"#DIV/0!"},{"$error":"#DIV/0!"},{"$error":"#DIV/0!"},{"$error":"#DIV/0!"},{"$error":"#DIV/0!"},{"$error":"#DIV/0!"},{"$error":"#DIV/0!"},0,0,{"$error":"#N/A"},{"$error":"#N/A"}]
[20,"2010-05-20",{"$error":"#DIV/0!"},{"$error":"#DIV/0!"},{"$error":"#DIV/0!"},{"$error":"#DIV/0!"},{"$error":"#DIV/0!"},{"$error":"#DIV/0!"},{"$error":"#DIV/0!"},{"$error":"#DIV/0!"},{"$error":"#DIV/0!"},{"$error":"#DIV/0!"},{"$error":"#DIV/0!"},{"$error":"#DIV/0!"},0,0,{"$error":"#N/A"},{"$error":"#N/A"}]
[21,"2010-05-21",{"$error":"#DIV/0!"},{"$error":"#DIV/0!"},{"$error":"#DIV/0!"},{"$error":"#DIV/0!"},{"$error":"#DIV/0!"},{"$error":"#DIV/0!"},{"$error":"#DIV/0!"},{"$error":"#DIV/0!"},{"$error":"#DIV/0!"},{"$error":"#DIV/0!"},{"$error":"#DIV/0!"},{"$error":"#DIV/0!"},0,0,{"$error":"#N/A"},{"$error":"#N/A"}]
[22,"2010-05-22",{"$error":"#DIV/0!"},{"$error":"#DIV/0!"},{"$error":"#DIV/0!"},{"$error":"#DIV/0!"},{"$error":"#DIV/0!"},{"$error":"#DIV/0!"},{"$error":"#DIV/0!"},{"$error":"#DIV/0!"},{"$error":"#DIV/0!"},{"$error":"#DIV/0!"},{"$error":"#DIV/0!"},{"$error":"#DIV/0!"},0,0,{"$error":"#N/A"},{"$error":"#N/A"}]
[23,"2010-05-23",{"$error":"#DIV/0!"},{"$error":"#DIV/0!"},{"$error":"#DIV/0!"},{"$error":"#DIV/0!"},{"$error":"#DIV/0!"},{"$error":"#DIV/0!"},{"$error":"#DIV/0!"},{"$error":"#DIV/0!"},{"$error":"#DIV/0!"},{"$error":"#DIV/0!"},{"$error":"#DIV/0!"},{"$error":"#DIV/0!"},0,0,{"$error":"#N/A"},{"$error":"#N/A"}]
[24,"2010-05-24",{"$error":"#DIV/0!"},{"$error":"#DIV/0!"},{"$error":"#DIV/0!"},{"$error":"#DIV/0!"},{"$error":"#DIV/0!"},{"$error":"#DIV/0!"},{"$error":"#DIV/0!"},{"$error":"#DIV/0!"},{"$error":"#DIV/0!"},{"$error":"#DIV/0!"},{"$error":"#DIV/0!"},{"$error":"#DIV/0!"},0,0,{"$error":"#N/A"},{"$error":"#N/A"}]
[25,"2010-05-25",{"$error":"#DIV/0!"},{"$error":"#DIV/0!"},{"$error":"#DIV/0!"},{"$error":"#DIV/0!"},{"$error":"#DIV/0!"},{"$error":"#DIV/0!"},{"$error":"#DIV/0!"},{"$error":"#DIV/0!"},{"$error":"#DIV/0!"},{"$error":"#DIV/0!"},{"$error":"#DIV/0!"},{"$error":"#DIV/0!"},0,0,{"$error":"#N/A"},{"$error":"#N/A"}]
[26,"2010-05-26",{"$error":"#DIV/0!"},{"$error":"#DIV/0!"},{"$error":"#DIV/0!"},{"$error":"#DIV/0!"},{"$error":"#DIV/0!"},{"$error":"#DIV/0!"},{"$error":"#DIV/0!"},{"$error":"#DIV/0!"},{"$error":"#DIV/0!"},{"$error":"#DIV/0!"},{"$error":"#DIV/0!"},{"$error":"#DIV/0!"},0,0,{"$error":"#N/A"},{"$error":"#N/A"}]
[27,"2010-05-27",{"$error":"#DIV/0!"},{"$error":"#DIV/0!"},{"$error":"#DIV/0!"},{"$error":"#DIV/0!"},{"$error":"#DIV/0!"},{"$error":"#DIV/0!"},{"$error":"#DIV/0!"},{"$error":"#DIV/0!"},{"$error":"#DIV/0!"},{"$error":"#DIV/0!"},{"$error":"#DIV/0!"},{"$error":"#DIV/0!"},0,0,{"$error":"#N/A"},{"$error":"#N/A"}]
[28,"2010-05-28",{"$error":"#DIV/0!"},{"$error":"#DIV/0!"},{"$error":"#DIV/0!"},{"$error":"#DIV/0!"},{"$error":"#DIV/0!"},{"$error":"#DIV/0!"},{"$error":"#DIV/0!"},{"$error":"#DIV/0!"},{"$error":"#DIV/0!"},{"$error":"#DIV/0!"},{"$error":"#DIV/0!"},{"$error":"#DIV/0!"},0,0,{"$error":"#N/A"},{"$error":"#N/A"}]
[29,"2010-05-29",{"$error":"#DIV/0!"},{"$error":"#DIV/0!"},{"$error":"#DIV/0!"},{"$error":"#DIV/0!"},{"$error":"#DIV/0!"},{"$error":"#DIV/0!"},{"$error":"#DIV/0!"},{"$error":"#DIV/0!"},{"$error":"#DIV/0!"},{"$error":"#DIV/0!"},{"$error":"#DIV/0!"},{"$error":"#DIV/0!"},0,0,{"$error":"#N/A"},{"$error":"#N/A"}]
[30,"2010-05-30",{"$error":"#DIV/0!"},{"$error":"#DIV/0!"},{"$error":"#DIV/0!"},{"$error":"#DIV/0!"},{"$error":"#DIV/0!"},{"$error":"#DIV/0!"},{"$error":"#DIV/0!"},{"$error":"#DIV/0!"},{"$error":"#DIV/0!"},{"$error":"#DIV/0!"},{"$error":"#DIV/0!"},{"$error":"#DIV/0!"},0,0,{"$error":"#N/A"},{"$error":"#N/A"}]
[31,"2010-05-31",{"$error":"#DIV/0!"},{"$error":"#DIV/0!"},{"$error":"#DIV/0!"},{"$error":"#DIV/0!"},{"$error":"#DIV/0!"},{"$error":"#DIV/0!"},{"$error":"#DIV/0!"},{"$error":"#DIV/0!"},{"$error":"#DIV/0!"},{"$error":"#DIV/0!"},{"$error":"#DIV/0!"},{"$error":"#DIV/0!"},0,0,{"$error":"#N/A"},{"$error":"#N/A"}]
[1,"2010-06-01",{"$f":"C12","v":{"$error":"#DIV/0!"}},{"$f":"F12","v":{"$error":"#DIV/0!"}},{"$f":"D12","v":{"$error":"#DIV/0!"}},{"$f":"G12","v":{"$error":"#DIV/0!"}},{"$f":"E12","v":{"$error":"#DIV/0!"}},{"$f":"H12","v":{"$error":"#DIV/0!"}},{"$f":"I12","v":{"$error":"#DIV/0!"}},{"$f":"L12","v":{"$error":"#DIV/0!"}},{"$f":"J12","v":{"$error":"#DIV/0!"}},{"$f":"M12","v":{"$error":"#DIV/0!"}},{"$f":"K12","v":{"$error":"#DIV/0!"}},{"$f":"N12","v":{"$error":"#DIV/0!"}},{"$f":"O12","v":0},{"$f":"P12","v":0},{"$f":"Q12","v":{"$error":"#N/A"}},{"$f":"R12","v":{"$error":"#N/A"}}]
[2,"2010-06-02",{"$f":"C$176+((C$206-C$176)*($A177-1)/31)","v":{"$error":"#DIV/0!"}},{"$f":"D$176+((D$206-D$176)*($A177-1)/31)","v":{"$error":"#DIV/0!"}},{"$error":"#DIV/0!"},{"$error":"#DIV/0!"},{"$error":"#DIV/0!"},{"$error":"#DIV/0!"},{"$f":"I$176+((I$206-I$176)*($A177-1)/31)","v":{"$error":"#DIV/0!"}},{"$error":"#DIV/0!"},{"$error":"#DIV/0!"},{"$error":"#DIV/0!"},{"$error":"#DIV/0!"},{"$error":"#DIV/0!"},{"$f":"O$176+((O$206-O$176)*($A177-1)/31)","v":0},{"$f":"P$176+((P$206-P$176)*($A177-1)/31)","v":0},{"$f":"Q$176+((Q$206-Q$176)*($A177-1)/31)","v":{"$error":"#N/A"}},{"$f":"R$176+((R$206-R$176)*($A177-1)/31)","v":{"$error":"#N/A"}}]
[3,"2010-06-03",{"$f":"C$176+((C$206-C$176)*($A178-1)/31)","v":{"$error":"#DIV/0!"}},{"$error":"#DIV/0!"},{"$error":"#DIV/0!"},{"$error":"#DIV/0!"},{"$error":"#DIV/0!"},{"$error":"#DIV/0!"},{"$error":"#DIV/0!"},{"$error":"#DIV/0!"},{"$error":"#DIV/0!"},{"$error":"#DIV/0!"},{"$error":"#DIV/0!"},{"$error":"#DIV/0!"},0,0,{"$error":"#N/A"},{"$error":"#N/A"}]
[4,"2010-06-04",{"$error":"#DIV/0!"},{"$error":"#DIV/0!"},{"$error":"#DIV/0!"},{"$error":"#DIV/0!"},{"$error":"#DIV/0!"},{"$error":"#DIV/0!"},{"$error":"#DIV/0!"},{"$error":"#DIV/0!"},{"$error":"#DIV/0!"},{"$error":"#DIV/0!"},{"$error":"#DIV/0!"},{"$error":"#DIV/0!"},0,0,{"$error":"#N/A"},{"$error":"#N/A"}]
[5,"2010-06-05",{"$error":"#DIV/0!"},{"$error":"#DIV/0!"},{"$error":"#DIV/0!"},{"$error":"#DIV/0!"},{"$error":"#DIV/0!"},{"$error":"#DIV/0!"},{"$error":"#DIV/0!"},{"$error":"#DIV/0!"},{"$error":"#DIV/0!"},{"$error":"#DIV/0!"},{"$error":"#DIV/0!"},{"$error":"#DIV/0!"},0,0,{"$error":"#N/A"},{"$error":"#N/A"}]
[6,"2010-06-06",{"$error":"#DIV/0!"},{"$error":"#DIV/0!"},{"$error":"#DIV/0!"},{"$error":"#DIV/0!"},{"$error":"#DIV/0!"},{"$error":"#DIV/0!"},{"$error":"#DIV/0!"},{"$error":"#DIV/0!"},{"$error":"#DIV/0!"},{"$error":"#DIV/0!"},{"$error":"#DIV/0!"},{"$error":"#DIV/0!"},0,0,{"$error":"#N/A"},{"$error":"#N/A"}]
[7,"2010-06-07",{"$error":"#DIV/0!"},{"$error":"#DIV/0!"},{"$error":"#DIV/0!"},{"$error":"#DIV/0!"},{"$error":"#DIV/0!"},{"$error":"#DIV/0!"},{"$error":"#DIV/0!"},{"$error":"#DIV/0!"},{"$error":"#DIV/0!"},{"$error":"#DIV/0!"},{"$error":"#DIV/0!"},{"$error":"#DIV/0!"},0,0,{"$error":"#N/A"},{"$error":"#N/A"}]
[8,"2010-06-08",{"$error":"#DIV/0!"},{"$error":"#DIV/0!"},{"$error":"#DIV/0!"},{"$error":"#DIV/0!"},{"$error":"#DIV/0!"},{"$error":"#DIV/0!"},{"$error":"#DIV/0!"},{"$error":"#DIV/0!"},{"$error":"#DIV/0!"},{"$error":"#DIV/0!"},{"$error":"#DIV/0!"},{"$error":"#DIV/0!"},0,0,{"$error":"#N/A"},{"$error":"#N/A"}]
[9,"2010-06-09",{"$error":"#DIV/0!"},{"$error":"#DIV/0!"},{"$error":"#DIV/0!"},{"$error":"#DIV/0!"},{"$error":"#DIV/0!"},{"$error":"#DIV/0!"},{"$error":"#DIV/0!"},{"$error":"#DIV/0!"},{"$error":"#DIV/0!"},{"$error":"#DIV/0!"},{"$error":"#DIV/0!"},{"$error":"#DIV/0!"},0,0,{"$error":"#N/A"},{"$error":"#N/A"}]
[10,"2010-06-10",{"$error":"#DIV/0!"},{"$error":"#DIV/0!"},{"$error":"#DIV/0!"},{"$error":"#DIV/0!"},{"$error":"#DIV/0!"},{"$error":"#DIV/0!"},{"$error":"#DIV/0!"},{"$error":"#DIV/0!"},{"$error":"#DIV/0!"},{"$error":"#DIV/0!"},{"$error":"#DIV/0!"},{"$error":"#DIV/0!"},0,0,{"$error":"#N/A"},{"$error":"#N/A"}]
[11,"2010-06-11",{"$error":"#DIV/0!"},{"$error":"#DIV/0!"},{"$error":"#DIV/0!"},{"$error":"#DIV/0!"},{"$error":"#DIV/0!"},{"$error":"#DIV/0!"},{"$error":"#DIV/0!"},{"$error":"#DIV/0!"},{"$error":"#DIV/0!"},{"$error":"#DIV/0!"},{"$error":"#DIV/0!"},{"$error":"#DIV/0!"},0,0,{"$error":"#N/A"},{"$error":"#N/A"}]
[12,"2010-06-12",{"$error":"#DIV/0!"},{"$error":"#DIV/0!"},{"$error":"#DIV/0!"},{"$error":"#DIV/0!"},{"$error":"#DIV/0!"},{"$error":"#DIV/0!"},{"$error":"#DIV/0!"},{"$error":"#DIV/0!"},{"$error":"#DIV/0!"},{"$error":"#DIV/0!"},{"$error":"#DIV/0!"},{"$error":"#DIV/0!"},0,0,{"$error":"#N/A"},{"$error":"#N/A"}]
[13,"2010-06-13",{"$error":"#DIV/0!"},{"$error":"#DIV/0!"},{"$error":"#DIV/0!"},{"$error":"#DIV/0!"},{"$error":"#DIV/0!"},{"$error":"#DIV/0!"},{"$error":"#DIV/0!"},{"$error":"#DIV/0!"},{"$error":"#DIV/0!"},{"$error":"#DIV/0!"},{"$error":"#DIV/0!"},{"$error":"#DIV/0!"},0,0,{"$error":"#N/A"},{"$error":"#N/A"}]
[14,"2010-06-14",{"$error":"#DIV/0!"},{"$error":"#DIV/0!"},{"$error":"#DIV/0!"},{"$error":"#DIV/0!"},{"$error":"#DIV/0!"},{"$error":"#DIV/0!"},{"$error":"#DIV/0!"},{"$error":"#DIV/0!"},{"$error":"#DIV/0!"},{"$error":"#DIV/0!"},{"$error":"#DIV/0!"},{"$error":"#DIV/0!"},0,0,{"$error":"#N/A"},{"$error":"#N/A"}]
[15,"2010-06-15",{"$error":"#DIV/0!"},{"$error":"#DIV/0!"},{"$error":"#DIV/0!"},{"$error":"#DIV/0!"},{"$error":"#DIV/0!"},{"$error":"#DIV/0!"},{"$error":"#DIV/0!"},{"$error":"#DIV/0!"},{"$error":"#DIV/0!"},{"$error":"#DIV/0!"},{"$error":"#DIV/0!"},{"$error":"#DIV/0!"},0,0,{"$error":"#N/A"},{"$error":"#N/A"}]
[16,"2010-06-16",{"$error":"#DIV/0!"},{"$error":"#DIV/0!"},{"$error":"#DIV/0!"},{"$error":"#DIV/0!"},{"$error":"#DIV/0!"},{"$error":"#DIV/0!"},{"$error":"#DIV/0!"},{"$error":"#DIV/0!"},{"$error":"#DIV/0!"},{"$error":"#DIV/0!"},{"$error":"#DIV/0!"},{"$error":"#DIV/0!"},0,0,{"$error":"#N/A"},{"$error":"#N/A"}]
[17,"2010-06-17",{"$error":"#DIV/0!"},{"$error":"#DIV/0!"},{"$error":"#DIV/0!"},{"$error":"#DIV/0!"},{"$error":"#DIV/0!"},{"$error":"#DIV/0!"},{"$error":"#DIV/0!"},{"$error":"#DIV/0!"},{"$error":"#DIV/0!"},{"$error":"#DIV/0!"},{"$error":"#DIV/0!"},{"$error":"#DIV/0!"},0,0,{"$error":"#N/A"},{"$error":"#N/A"}]
[18,"2010-06-18",{"$error":"#DIV/0!"},{"$error":"#DIV/0!"},{"$error":"#DIV/0!"},{"$error":"#DIV/0!"},{"$error":"#DIV/0!"},{"$error":"#DIV/0!"},{"$error":"#DIV/0!"},{"$error":"#DIV/0!"},{"$error":"#DIV/0!"},{"$error":"#DIV/0!"},{"$error":"#DIV/0!"},{"$error":"#DIV/0!"},0,0,{"$error":"#N/A"},{"$error":"#N/A"}]
[19,"2010-06-19",{"$error":"#DIV/0!"},{"$error":"#DIV/0!"},{"$error":"#DIV/0!"},{"$error":"#DIV/0!"},{"$error":"#DIV/0!"},{"$error":"#DIV/0!"},{"$error":"#DIV/0!"},{"$error":"#DIV/0!"},{"$error":"#DIV/0!"},{"$error":"#DIV/0!"},{"$error":"#DIV/0!"},{"$error":"#DIV/0!"},0,0,{"$error":"#N/A"},{"$error":"#N/A"}]
[20,"2010-06-20",{"$error":"#DIV/0!"},{"$error":"#DIV/0!"},{"$error":"#DIV/0!"},{"$error":"#DIV/0!"},{"$error":"#DIV/0!"},{"$error":"#DIV/0!"},{"$error":"#DIV/0!"},{"$error":"#DIV/0!"},{"$error":"#DIV/0!"},{"$error":"#DIV/0!"},{"$error":"#DIV/0!"},{"$error":"#DIV/0!"},0,0,{"$error":"#N/A"},{"$error":"#N/A"}]
[21,"2010-06-21",{"$error":"#DIV/0!"},{"$error":"#DIV/0!"},{"$error":"#DIV/0!"},{"$error":"#DIV/0!"},{"$error":"#DIV/0!"},{"$error":"#DIV/0!"},{"$error":"#DIV/0!"},{"$error":"#DIV/0!"},{"$error":"#DIV/0!"},{"$error":"#DIV/0!"},{"$error":"#DIV/0!"},{"$error":"#DIV/0!"},0,0,{"$error":"#N/A"},{"$error":"#N/A"}]
[22,"2010-06-22",{"$error":"#DIV/0!"},{"$error":"#DIV/0!"},{"$error":"#DIV/0!"},{"$error":"#DIV/0!"},{"$error":"#DIV/0!"},{"$error":"#DIV/0!"},{"$error":"#DIV/0!"},{"$error":"#DIV/0!"},{"$error":"#DIV/0!"},{"$error":"#DIV/0!"},{"$error":"#DIV/0!"},{"$error":"#DIV/0!"},0,0,{"$error":"#N/A"},{"$error":"#N/A"}]
[23,"2010-06-23",{"$error":"#DIV/0!"},{"$error":"#DIV/0!"},{"$error":"#DIV/0!"},{"$error":"#DIV/0!"},{"$error":"#DIV/0!"},{"$error":"#DIV/0!"},{"$error":"#DIV/0!"},{"$error":"#DIV/0!"},{"$error":"#DIV/0!"},{"$error":"#DIV/0!"},{"$error":"#DIV/0!"},{"$error":"#DIV/0!"},0,0,{"$error":"#N/A"},{"$error":"#N/A"}]
[24,"2010-06-24",{"$error":"#DIV/0!"},{"$error":"#DIV/0!"},{"$error":"#DIV/0!"},{"$error":"#DIV/0!"},{"$error":"#DIV/0!"},{"$error":"#DIV/0!"},{"$error":"#DIV/0!"},{"$error":"#DIV/0!"},{"$error":"#DIV/0!"},{"$error":"#DIV/0!"},{"$error":"#DIV/0!"},{"$error":"#DIV/0!"},0,0,{"$error":"#N/A"},{"$error":"#N/A"}]
[25,"2010-06-25",{"$error":"#DIV/0!"},{"$error":"#DIV/0!"},{"$error":"#DIV/0!"},{"$error":"#DIV/0!"},{"$error":"#DIV/0!"},{"$error":"#DIV/0!"},{"$error":"#DIV/0!"},{"$error":"#DIV/0!"},{"$error":"#DIV/0!"},{"$error":"#DIV/0!"},{"$error":"#DIV/0!"},{"$error":"#DIV/0!"},0,0,{"$error":"#N/A"},{"$error":"#N/A"}]
[26,"2010-06-26",{"$error":"#DIV/0!"},{"$error":"#DIV/0!"},{"$error":"#DIV/0!"},{"$error":"#DIV/0!"},{"$error":"#DIV/0!"},{"$error":"#DIV/0!"},{"$error":"#DIV/0!"},{"$error":"#DIV/0!"},{"$error":"#DIV/0!"},{"$error":"#DIV/0!"},{"$error":"#DIV/0!"},{"$error":"#DIV/0!"},0,0,{"$error":"#N/A"},{"$error":"#N/A"}]
[27,"2010-06-27",{"$error":"#DIV/0!"},{"$error":"#DIV/0!"},{"$error":"#DIV/0!"},{"$error":"#DIV/0!"},{"$error":"#DIV/0!"},{"$error":"#DIV/0!"},{"$error":"#DIV/0!"},{"$error":"#DIV/0!"},{"$error":"#DIV/0!"},{"$error":"#DIV/0!"},{"$error":"#DIV/0!"},{"$error":"#DIV/0!"},0,0,{"$error":"#N/A"},{"$error":"#N/A"}]
[28,"2010-06-28",{"$error":"#DIV/0!"},{"$error":"#DIV/0!"},{"$error":"#DIV/0!"},{"$error":"#DIV/0!"},{"$error":"#DIV/0!"},{"$error":"#DIV/0!"},{"$error":"#DIV/0!"},{"$error":"#DIV/0!"},{"$error":"#DIV/0!"},{"$error":"#DIV/0!"},{"$error":"#DIV/0!"},{"$error":"#DIV/0!"},0,0,{"$error":"#N/A"},{"$error":"#N/A"}]
[29,"2010-06-29",{"$error":"#DIV/0!"},{"$error":"#DIV/0!"},{"$error":"#DIV/0!"},{"$error":"#DIV/0!"},{"$error":"#DIV/0!"},{"$error":"#DIV/0!"},{"$error":"#DIV/0!"},{"$error":"#DIV/0!"},{"$error":"#DIV/0!"},{"$error":"#DIV/0!"},{"$error":"#DIV/0!"},{"$error":"#DIV/0!"},0,0,{"$error":"#N/A"},{"$error":"#N/A"}]
[30,"2010-06-30",{"$error":"#DIV/0!"},{"$error":"#DIV/0!"},{"$error":"#DIV/0!"},{"$error":"#DIV/0!"},{"$error":"#DIV/0!"},{"$error":"#DIV/0!"},{"$error":"#DIV/0!"},{"$error":"#DIV/0!"},{"$error":"#DIV/0!"},{"$error":"#DIV/0!"},{"$error":"#DIV/0!"},{"$error":"#DIV/0!"},0,0,{"$error":"#N/A"},{"$error":"#N/A"}]
[1,"2010-07-01",{"$f":"C13","v":{"$error":"#DIV/0!"}},{"$f":"F13","v":{"$error":"#DIV/0!"}},{"$f":"D13","v":{"$error":"#DIV/0!"}},{"$f":"G13","v":{"$error":"#DIV/0!"}},{"$f":"E13","v":{"$error":"#DIV/0!"}},{"$f":"H13","v":{"$error":"#DIV/0!"}},{"$f":"I13","v":{"$error":"#DIV/0!"}},{"$f":"L13","v":{"$error":"#DIV/0!"}},{"$f":"J13","v":{"$error":"#DIV/0!"}},{"$f":"M13","v":{"$error":"#DIV/0!"}},{"$f":"K13","v":{"$error":"#DIV/0!"}},{"$f":"N13","v":{"$error":"#DIV/0!"}},{"$f":"O13","v":0},{"$f":"P13","v":0},{"$f":"Q13","v":{"$error":"#N/A"}},{"$f":"R13","v":{"$error":"#N/A"}}]
[2,"2010-07-02",{"$f":"C$206+((C$237-C$206)*($A207-1)/31)","v":{"$error":"#DIV/0!"}},{"$f":"D$206+((D$237-D$206)*($A207-1)/31)","v":{"$error":"#DIV/0!"}},{"$error":"#DIV/0!"},{"$error":"#DIV/0!"},{"$error":"#DIV/0!"},{"$error":"#DIV/0!"},{"$f":"I$206+((I$237-I$206)*($A207-1)/31)","v":{"$error":"#DIV/0!"}},{"$error":"#DIV/0!"},{"$error":"#DIV/0!"},{"$error":"#DIV/0!"},{"$error":"#DIV/0!"},{"$error":"#DIV/0!"},{"$f":"O$206+((O$237-O$206)*($A207-1)/31)","v":0},{"$f":"P$206+((P$237-P$206)*($A207-1)/31)","v":0},{"$f":"Q$206+((Q$237-Q$206)*($A207-1)/31)","v":{"$error":"#N/A"}},{"$f":"R$206+((R$237-R$206)*($A207-1)/31)","v":{"$error":"#N/A"}}]
[3,"2010-07-03",{"$f":"C$206+((C$237-C$206)*($A208-1)/31)","v":{"$error":"#DIV/0!"}},{"$error":"#DIV/0!"},{"$error":"#DIV/0!"},{"$error":"#DIV/0!"},{"$error":"#DIV/0!"},{"$error":"#DIV/0!"},{"$error":"#DIV/0!"},{"$error":"#DIV/0!"},{"$error":"#DIV/0!"},{"$error":"#DIV/0!"},{"$error":"#DIV/0!"},{"$error":"#DIV/0!"},0,0,{"$error":"#N/A"},{"$error":"#N/A"}]
[4,"2010-07-04",{"$error":"#DIV/0!"},{"$error":"#DIV/0!"},{"$error":"#DIV/0!"},{"$error":"#DIV/0!"},{"$error":"#DIV/0!"},{"$error":"#DIV/0!"},{"$error":"#DIV/0!"},{"$error":"#DIV/0!"},{"$error":"#DIV/0!"},{"$error":"#DIV/0!"},{"$error":"#DIV/0!"},{"$error":"#DIV/0!"},0,0,{"$error":"#N/A"},{"$error":"#N/A"}]
[5,"2010-07-05",{"$error":"#DIV/0!"},{"$error":"#DIV/0!"},{"$error":"#DIV/0!"},{"$error":"#DIV/0!"},{"$error":"#DIV/0!"},{"$error":"#DIV/0!"},{"$error":"#DIV/0!"},{"$error":"#DIV/0!"},{"$error":"#DIV/0!"},{"$error":"#DIV/0!"},{"$error":"#DIV/0!"},{"$error":"#DIV/0!"},0,0,{"$error":"#N/A"},{"$error":"#N/A"}]
[6,"2010-07-06",{"$error":"#DIV/0!"},{"$error":"#DIV/0!"},{"$error":"#DIV/0!"},{"$error":"#DIV/0!"},{"$error":"#DIV/0!"},{"$error":"#DIV/0!"},{"$error":"#DIV/0!"},{"$error":"#DIV/0!"},{"$error":"#DIV/0!"},{"$error":"#DIV/0!"},{"$error":"#DIV/0!"},{"$error":"#DIV/0!"},0,0,{"$error":"#N/A"},{"$error":"#N/A"}]
[7,"2010-07-07",{"$error":"#DIV/0!"},{"$error":"#DIV/0!"},{"$error":"#DIV/0!"},{"$error":"#DIV/0!"},{"$error":"#DIV/0!"},{"$error":"#DIV/0!"},{"$error":"#DIV/0!"},{"$error":"#DIV/0!"},{"$error":"#DIV/0!"},{"$error":"#DIV/0!"},{"$error":"#DIV/0!"},{"$error":"#DIV/0!"},0,0,{"$error":"#N/A"},{"$error":"#N/A"}]
[8,"2010-07-08",{"$error":"#DIV/0!"},{"$error":"#DIV/0!"},{"$error":"#DIV/0!"},{"$error":"#DIV/0!"},{"$error":"#DIV/0!"},{"$error":"#DIV/0!"},{"$error":"#DIV/0!"},{"$error":"#DIV/0!"},{"$error":"#DIV/0!"},{"$error":"#DIV/0!"},{"$error":"#DIV/0!"},{"$error":"#DIV/0!"},0,0,{"$error":"#N/A"},{"$error":"#N/A"}]
[9,"2010-07-09",{"$error":"#DIV/0!"},{"$error":"#DIV/0!"},{"$error":"#DIV/0!"},{"$error":"#DIV/0!"},{"$error":"#DIV/0!"},{"$error":"#DIV/0!"},{"$error":"#DIV/0!"},{"$error":"#DIV/0!"},{"$error":"#DIV/0!"},{"$error":"#DIV/0!"},{"$error":"#DIV/0!"},{"$error":"#DIV/0!"},0,0,{"$error":"#N/A"},{"$error":"#N/A"}]
[10,"2010-07-10",{"$error":"#DIV/0!"},{"$error":"#DIV/0!"},{"$error":"#DIV/0!"},{"$error":"#DIV/0!"},{"$error":"#DIV/0!"},{"$error":"#DIV/0!"},{"$error":"#DIV/0!"},{"$error":"#DIV/0!"},{"$error":"#DIV/0!"},{"$error":"#DIV/0!"},{"$error":"#DIV/0!"},{"$error":"#DIV/0!"},0,0,{"$error":"#N/A"},{"$error":"#N/A"}]
[11,"2010-07-11",{"$error":"#DIV/0!"},{"$error":"#DIV/0!"},{"$error":"#DIV/0!"},{"$error":"#DIV/0!"},{"$error":"#DIV/0!"},{"$error":"#DIV/0!"},{"$error":"#DIV/0!"},{"$error":"#DIV/0!"},{"$error":"#DIV/0!"},{"$error":"#DIV/0!"},{"$error":"#DIV/0!"},{"$error":"#DIV/0!"},0,0,{"$error":"#N/A"},{"$error":"#N/A"}]
[12,"2010-07-12",{"$error":"#DIV/0!"},{"$error":"#DIV/0!"},{"$error":"#DIV/0!"},{"$error":"#DIV/0!"},{"$error":"#DIV/0!"},{"$error":"#DIV/0!"},{"$error":"#DIV/0!"},{"$error":"#DIV/0!"},{"$error":"#DIV/0!"},{"$error":"#DIV/0!"},{"$error":"#DIV/0!"},{"$error":"#DIV/0!"},0,0,{"$error":"#N/A"},{"$error":"#N/A"}]
[{"$f":"DAY(B218)","v":13},"2010-07-13",{"$error":"#DIV/0!"},{"$error":"#DIV/0!"},{"$error":"#DIV/0!"},{"$error":"#DIV/0!"},{"$error":"#DIV/0!"},{"$error":"#DIV/0!"},{"$error":"#DIV/0!"},{"$error":"#DIV/0!"},{"$error":"#DIV/0!"},{"$error":"#DIV/0!"},{"$error":"#DIV/0!"},{"$error":"#DIV/0!"},0,0,{"$error":"#N/A"},{"$error":"#N/A"}]
[14,"2010-07-14",{"$error":"#DIV/0!"},{"$error":"#DIV/0!"},{"$error":"#DIV/0!"},{"$error":"#DIV/0!"},{"$error":"#DIV/0!"},{"$error":"#DIV/0!"},{"$error":"#DIV/0!"},{"$error":"#DIV/0!"},{"$error":"#DIV/0!"},{"$error":"#DIV/0!"},{"$error":"#DIV/0!"},{"$error":"#DIV/0!"},0,0,{"$error":"#N/A"},{"$error":"#N/A"}]
[15,"2010-07-15",{"$error":"#DIV/0!"},{"$error":"#DIV/0!"},{"$error":"#DIV/0!"},{"$error":"#DIV/0!"},{"$error":"#DIV/0!"},{"$error":"#DIV/0!"},{"$error":"#DIV/0!"},{"$error":"#DIV/0!"},{"$error":"#DIV/0!"},{"$error":"#DIV/0!"},{"$error":"#DIV/0!"},{"$error":"#DIV/0!"},0,0,{"$error":"#N/A"},{"$error":"#N/A"}]
[16,"2010-07-16",{"$error":"#DIV/0!"},{"$error":"#DIV/0!"},{"$error":"#DIV/0!"},{"$error":"#DIV/0!"},{"$error":"#DIV/0!"},{"$error":"#DIV/0!"},{"$error":"#DIV/0!"},{"$error":"#DIV/0!"},{"$error":"#DIV/0!"},{"$error":"#DIV/0!"},{"$error":"#DIV/0!"},{"$error":"#DIV/0!"},0,0,{"$error":"#N/A"},{"$error":"#N/A"}]
[17,"2010-07-17",{"$error":"#DIV/0!"},{"$error":"#DIV/0!"},{"$error":"#DIV/0!"},{"$error":"#DIV/0!"},{"$error":"#DIV/0!"},{"$error":"#DIV/0!"},{"$error":"#DIV/0!"},{"$error":"#DIV/0!"},{"$error":"#DIV/0!"},{"$error":"#DIV/0!"},{"$error":"#DIV/0!"},{"$error":"#DIV/0!"},0,0,{"$error":"#N/A"},{"$error":"#N/A"}]
[18,"2010-07-18",{"$error":"#DIV/0!"},{"$error":"#DIV/0!"},{"$error":"#DIV/0!"},{"$error":"#DIV/0!"},{"$error":"#DIV/0!"},{"$error":"#DIV/0!"},{"$error":"#DIV/0!"},{"$error":"#DIV/0!"},{"$error":"#DIV/0!"},{"$error":"#DIV/0!"},{"$error":"#DIV/0!"},{"$error":"#DIV/0!"},0,0,{"$error":"#N/A"},{"$error":"#N/A"}]
[19,"2010-07-19",{"$error":"#DIV/0!"},{"$error":"#DIV/0!"},{"$error":"#DIV/0!"},{"$error":"#DIV/0!"},{"$error":"#DIV/0!"},{"$error":"#DIV/0!"},{"$error":"#DIV/0!"},{"$error":"#DIV/0!"},{"$error":"#DIV/0!"},{"$error":"#DIV/0!"},{"$error":"#DIV/0!"},{"$error":"#DIV/0!"},0,0,{"$error":"#N/A"},{"$error":"#N/A"}]
[20,"2010-07-20",{"$error":"#DIV/0!"},{"$error":"#DIV/0!"},{"$error":"#DIV/0!"},{"$error":"#DIV/0!"},{"$error":"#DIV/0!"},{"$error":"#DIV/0!"},{"$error":"#DIV/0!"},{"$error":"#DIV/0!"},{"$error":"#DIV/0!"},{"$error":"#DIV/0!"},{"$error":"#DIV/0!"},{"$error":"#DIV/0!"},0,0,{"$error":"#N/A"},{"$error":"#N/A"}]
[21,"2010-07-21",{"$error":"#DIV/0!"},{"$error":"#DIV/0!"},{"$error":"#DIV/0!"},{"$error":"#DIV/0!"},{"$error":"#DIV/0!"},{"$error":"#DIV/0!"},{"$error":"#DIV/0!"},{"$error":"#DIV/0!"},{"$error":"#DIV/0!"},{"$error":"#DIV/0!"},{"$error":"#DIV/0!"},{"$error":"#DIV/0!"},0,0,{"$error":"#N/A"},{"$error":"#N/A"}]
[22,"2010-07-22",{"$error":"#DIV/0!"},{"$error":"#DIV/0!"},{"$error":"#DIV/0!"},{"$error":"#DIV/0!"},{"$error":"#DIV/0!"},{"$error":"#DIV/0!"},{"$error":"#DIV/0!"},{"$error":"#DIV/0!"},{"$error":"#DIV/0!"},{"$error":"#DIV/0!"},{"$error":"#DIV/0!"},{"$error":"#DIV/0!"},0,0,{"$error":"#N/A"},{"$error":"#N/A"}]
[23,"2010-07-23",{"$error":"#DIV/0!"},{"$error":"#DIV/0!"},{"$error":"#DIV/0!"},{"$error":"#DIV/0!"},{"$error":"#DIV/0!"},{"$error":"#DIV/0!"},{"$error":"#DIV/0!"},{"$error":"#DIV/0!"},{"$error":"#DIV/0!"},{"$error":"#DIV/0!"},{"$error":"#DIV/0!"},{"$error":"#DIV/0!"},0,0,{"$error":"#N/A"},{"$error":"#N/A"}]
[24,"2010-07-24",{"$error":"#DIV/0!"},{"$error":"#DIV/0!"},{"$error":"#DIV/0!"},{"$error":"#DIV/0!"},{"$error":"#DIV/0!"},{"$error":"#DIV/0!"},{"$error":"#DIV/0!"},{"$error":"#DIV/0!"},{"$error":"#DIV/0!"},{"$error":"#DIV/0!"},{"$error":"#DIV/0!"},{"$error":"#DIV/0!"},0,0,{"$error":"#N/A"},{"$error":"#N/A"}]
[25,"2010-07-25",{"$error":"#DIV/0!"},{"$error":"#DIV/0!"},{"$error":"#DIV/0!"},{"$error":"#DIV/0!"},{"$error":"#DIV/0!"},{"$error":"#DIV/0!"},{"$error":"#DIV/0!"},{"$error":"#DIV/0!"},{"$error":"#DIV/0!"},{"$error":"#DIV/0!"},{"$error":"#DIV/0!"},{"$error":"#DIV/0!"},0,0,{"$error":"#N/A"},{"$error":"#N/A"}]
[26,"2010-07-26",{"$error":"#DIV/0!"},{"$error":"#DIV/0!"},{"$error":"#DIV/0!"},{"$error":"#DIV/0!"},{"$error":"#DIV/0!"},{"$error":"#DIV/0!"},{"$error":"#DIV/0!"},{"$error":"#DIV/0!"},{"$error":"#DIV/0!"},{"$error":"#DIV/0!"},{"$error":"#DIV/0!"},{"$error":"#DIV/0!"},0,0,{"$error":"#N/A"},{"$error":"#N/A"}]
[27,"2010-07-27",{"$error":"#DIV/0!"},{"$error":"#DIV/0!"},{"$error":"#DIV/0!"},{"$error":"#DIV/0!"},{"$error":"#DIV/0!"},{"$error":"#DIV/0!"},{"$error":"#DIV/0!"},{"$error":"#DIV/0!"},{"$error":"#DIV/0!"},{"$error":"#DIV/0!"},{"$error":"#DIV/0!"},{"$error":"#DIV/0!"},0,0,{"$error":"#N/A"},{"$error":"#N/A"}]
[28,"2010-07-28",{"$error":"#DIV/0!"},{"$error":"#DIV/0!"},{"$error":"#DIV/0!"},{"$error":"#DIV/0!"},{"$error":"#DIV/0!"},{"$error":"#DIV/0!"},{"$error":"#DIV/0!"},{"$error":"#DIV/0!"},{"$error":"#DIV/0!"},{"$error":"#DIV/0!"},{"$error":"#DIV/0!"},{"$error":"#DIV/0!"},0,0,{"$error":"#N/A"},{"$error":"#N/A"}]
[29,"2010-07-29",{"$error":"#DIV/0!"},{"$error":"#DIV/0!"},{"$error":"#DIV/0!"},{"$error":"#DIV/0!"},{"$error":"#DIV/0!"},{"$error":"#DIV/0!"},{"$error":"#DIV/0!"},{"$error":"#DIV/0!"},{"$error":"#DIV/0!"},{"$error":"#DIV/0!"},{"$error":"#DIV/0!"},{"$error":"#DIV/0!"},0,0,{"$error":"#N/A"},{"$error":"#N/A"}]
[30,"2010-07-30",{"$error":"#DIV/0!"},{"$error":"#DIV/0!"},{"$error":"#DIV/0!"},{"$error":"#DIV/0!"},{"$error":"#DIV/0!"},{"$error":"#DIV/0!"},{"$error":"#DIV/0!"},{"$error":"#DIV/0!"},{"$error":"#DIV/0!"},{"$error":"#DIV/0!"},{"$error":"#DIV/0!"},{"$error":"#DIV/0!"},0,0,{"$error":"#N/A"},{"$error":"#N/A"}]
[31,"2010-07-31",{"$error":"#DIV/0!"},{"$error":"#DIV/0!"},{"$error":"#DIV/0!"},{"$error":"#DIV/0!"},{"$error":"#DIV/0!"},{"$error":"#DIV/0!"},{"$error":"#DIV/0!"},{"$error":"#DIV/0!"},{"$error":"#DIV/0!"},{"$error":"#DIV/0!"},{"$error":"#DIV/0!"},{"$error":"#DIV/0!"},0,0,{"$error":"#N/A"},{"$error":"#N/A"}]
[1,"2010-08-01",{"$f":"C14","v":{"$error":"#DIV/0!"}},{"$f":"F14","v":{"$error":"#DIV/0!"}},{"$f":"D14","v":{"$error":"#DIV/0!"}},{"$f":"G14","v":{"$error":"#DIV/0!"}},{"$f":"E14","v":{"$error":"#DIV/0!"}},{"$f":"H14","v":{"$error":"#DIV/0!"}},{"$f":"I14","v":{"$error":"#DIV/0!"}},{"$f":"L14","v":{"$error":"#DIV/0!"}},{"$f":"J14","v":{"$error":"#DIV/0!"}},{"$f":"M14","v":{"$error":"#DIV/0!"}},{"$f":"K14","v":{"$error":"#DIV/0!"}},{"$f":"N14","v":{"$error":"#DIV/0!"}},{"$f":"+O14","v":0},{"$f":"+P14","v":0},{"$f":"+Q14","v":{"$error":"#N/A"}},{"$f":"+R14","v":{"$error":"#N/A"}}]
[2,"2010-08-02",{"$f":"C$237+((C$268-C$237)*($A238-1)/31)","v":{"$error":"#DIV/0!"}},{"$f":"D$237+((D$268-D$237)*($A238-1)/31)","v":{"$error":"#DIV/0!"}},{"$error":"#DIV/0!"},{"$error":"#DIV/0!"},{"$error":"#DIV/0!"},{"$error":"#DIV/0!"},{"$f":"I$237+((I$268-I$237)*($A238-1)/31)","v":{"$error":"#DIV/0!"}},{"$error":"#DIV/0!"},{"$error":"#DIV/0!"},{"$error":"#DIV/0!"},{"$error":"#DIV/0!"},{"$error":"#DIV/0!"},{"$f":"O$237+((O$268-O$237)*($A238-1)/31)","v":0},{"$f":"P$237+((P$268-P$237)*($A238-1)/31)","v":0},{"$f":"Q$237+((Q$268-Q$237)*($A238-1)/31)","v":{"$error":"#N/A"}},{"$f":"R$237+((R$268-R$237)*($A238-1)/31)","v":{"$error":"#N/A"}}]
[3,"2010-08-03",{"$f":"C$237+((C$268-C$237)*($A239-1)/31)","v":{"$error":"#DIV/0!"}},{"$error":"#DIV/0!"},{"$error":"#DIV/0!"},{"$error":"#DIV/0!"},{"$error":"#DIV/0!"},{"$error":"#DIV/0!"},{"$error":"#DIV/0!"},{"$error":"#DIV/0!"},{"$error":"#DIV/0!"},{"$error":"#DIV/0!"},{"$error":"#DIV/0!"},{"$error":"#DIV/0!"},0,0,{"$error":"#N/A"},{"$error":"#N/A"}]
[4,"2010-08-04",{"$error":"#DIV/0!"},{"$error":"#DIV/0!"},{"$error":"#DIV/0!"},{"$error":"#DIV/0!"},{"$error":"#DIV/0!"},{"$error":"#DIV/0!"},{"$error":"#DIV/0!"},{"$error":"#DIV/0!"},{"$error":"#DIV/0!"},{"$error":"#DIV/0!"},{"$error":"#DIV/0!"},{"$error":"#DIV/0!"},0,0,{"$error":"#N/A"},{"$error":"#N/A"}]
[5,"2010-08-05",{"$error":"#DIV/0!"},{"$error":"#DIV/0!"},{"$error":"#DIV/0!"},{"$error":"#DIV/0!"},{"$error":"#DIV/0!"},{"$error":"#DIV/0!"},{"$error":"#DIV/0!"},{"$error":"#DIV/0!"},{"$error":"#DIV/0!"},{"$error":"#DIV/0!"},{"$error":"#DIV/0!"},{"$error":"#DIV/0!"},0,0,{"$error":"#N/A"},{"$error":"#N/A"}]
[6,"2010-08-06",{"$error":"#DIV/0!"},{"$error":"#DIV/0!"},{"$error":"#DIV/0!"},{"$error":"#DIV/0!"},{"$error":"#DIV/0!"},{"$error":"#DIV/0!"},{"$error":"#DIV/0!"},{"$error":"#DIV/0!"},{"$error":"#DIV/0!"},{"$error":"#DIV/0!"},{"$error":"#DIV/0!"},{"$error":"#DIV/0!"},0,0,{"$error":"#N/A"},{"$error":"#N/A"}]
[7,"2010-08-07",{"$error":"#DIV/0!"},{"$error":"#DIV/0!"},{"$error":"#DIV/0!"},{"$error":"#DIV/0!"},{"$error":"#DIV/0!"},{"$error":"#DIV/0!"},{"$error":"#DIV/0!"},{"$error":"#DIV/0!"},{"$error":"#DIV/0!"},{"$error":"#DIV/0!"},{"$error":"#DIV/0!"},{"$error":"#DIV/0!"},0,0,{"$error":"#N/A"},{"$error":"#N/A"}]
[8,"2010-08-08",{"$error":"#DIV/0!"},{"$error":"#DIV/0!"},{"$error":"#DIV/0!"},{"$error":"#DIV/0!"},{"$error":"#DIV/0!"},{"$error":"#DIV/0!"},{"$error":"#DIV/0!"},{"$error":"#DIV/0!"},{"$error":"#DIV/0!"},{"$error":"#DIV/0!"},{"$error":"#DIV/0!"},{"$error":"#DIV/0!"},0,0,{"$error":"#N/A"},{"$error":"#N/A"}]
[9,"2010-08-09",{"$error":"#DIV/0!"},{"$error":"#DIV/0!"},{"$error":"#DIV/0!"},{"$error":"#DIV/0!"},{"$error":"#DIV/0!"},{"$error":"#DIV/0!"},{"$error":"#DIV/0!"},{"$error":"#DIV/0!"},{"$error":"#DIV/0!"},{"$error":"#DIV/0!"},{"$error":"#DIV/0!"},{"$error":"#DIV/0!"},0,0,{"$error":"#N/A"},{"$error":"#N/A"}]
[10,"2010-08-10",{"$error":"#DIV/0!"},{"$error":"#DIV/0!"},{"$error":"#DIV/0!"},{"$error":"#DIV/0!"},{"$error":"#DIV/0!"},{"$error":"#DIV/0!"},{"$error":"#DIV/0!"},{"$error":"#DIV/0!"},{"$error":"#DIV/0!"},{"$error":"#DIV/0!"},{"$error":"#DIV/0!"},{"$error":"#DIV/0!"},0,0,{"$error":"#N/A"},{"$error":"#N/A"}]
[11,"2010-08-11",{"$error":"#DIV/0!"},{"$error":"#DIV/0!"},{"$error":"#DIV/0!"},{"$error":"#DIV/0!"},{"$error":"#DIV/0!"},{"$error":"#DIV/0!"},{"$error":"#DIV/0!"},{"$error":"#DIV/0!"},{"$error":"#DIV/0!"},{"$error":"#DIV/0!"},{"$error":"#DIV/0!"},{"$error":"#DIV/0!"},0,0,{"$error":"#N/A"},{"$error":"#N/A"}]
[12,"2010-08-12",{"$error":"#DIV/0!"},{"$error":"#DIV/0!"},{"$error":"#DIV/0!"},{"$error":"#DIV/0!"},{"$error":"#DIV/0!"},{"$error":"#DIV/0!"},{"$error":"#DIV/0!"},{"$error":"#DIV/0!"},{"$error":"#DIV/0!"},{"$error":"#DIV/0!"},{"$error":"#DIV/0!"},{"$error":"#DIV/0!"},0,0,{"$error":"#N/A"},{"$error":"#N/A"}]
[13,"2010-08-13",{"$error":"#DIV/0!"},{"$error":"#DIV/0!"},{"$error":"#DIV/0!"},{"$error":"#DIV/0!"},{"$error":"#DIV/0!"},{"$error":"#DIV/0!"},{"$error":"#DIV/0!"},{"$error":"#DIV/0!"},{"$error":"#DIV/0!"},{"$error":"#DIV/0!"},{"$error":"#DIV/0!"},{"$error":"#DIV/0!"},0,0,{"$error":"#N/A"},{"$error":"#N/A"}]
[14,"2010-08-14",{"$error":"#DIV/0!"},{"$error":"#DIV/0!"},{"$error":"#DIV/0!"},{"$error":"#DIV/0!"},{"$error":"#DIV/0!"},{"$error":"#DIV/0!"},{"$error":"#DIV/0!"},{"$error":"#DIV/0!"},{"$error":"#DIV/0!"},{"$error":"#DIV/0!"},{"$error":"#DIV/0!"},{"$error":"#DIV/0!"},0,0,{"$error":"#N/A"},{"$error":"#N/A"}]
[15,"2010-08-15",{"$error":"#DIV/0!"},{"$error":"#DIV/0!"},{"$error":"#DIV/0!"},{"$error":"#DIV/0!"},{"$error":"#DIV/0!"},{"$error":"#DIV/0!"},{"$error":"#DIV/0!"},{"$error":"#DIV/0!"},{"$error":"#DIV/0!"},{"$error":"#DIV/0!"},{"$error":"#DIV/0!"},{"$error":"#DIV/0!"},0,0,{"$error":"#N/A"},{"$error":"#N/A"}]
[16,"2010-08-16",{"$error":"#DIV/0!"},{"$error":"#DIV/0!"},{"$error":"#DIV/0!"},{"$error":"#DIV/0!"},{"$error":"#DIV/0!"},{"$error":"#DIV/0!"},{"$error":"#DIV/0!"},{"$error":"#DIV/0!"},{"$error":"#DIV/0!"},{"$error":"#DIV/0!"},{"$error":"#DIV/0!"},{"$error":"#DIV/0!"},0,0,{"$error":"#N/A"},{"$error":"#N/A"}]
[17,"2010-08-17",{"$error":"#DIV/0!"},{"$error":"#DIV/0!"},{"$error":"#DIV/0!"},{"$error":"#DIV/0!"},{"$error":"#DIV/0!"},{"$error":"#DIV/0!"},{"$error":"#DIV/0!"},{"$error":"#DIV/0!"},{"$error":"#DIV/0!"},{"$error":"#DIV/0!"},{"$error":"#DIV/0!"},{"$error":"#DIV/0!"},0,0,{"$error":"#N/A"},{"$error":"#N/A"}]
[18,"2010-08-18",{"$error":"#DIV/0!"},{"$error":"#DIV/0!"},{"$error":"#DIV/0!"},{"$error":"#DIV/0!"},{"$error":"#DIV/0!"},{"$error":"#DIV/0!"},{"$error":"#DIV/0!"},{"$error":"#DIV/0!"},{"$error":"#DIV/0!"},{"$error":"#DIV/0!"},{"$error":"#DIV/0!"},{"$error":"#DIV/0!"},0,0,{"$error":"#N/A"},{"$error":"#N/A"}]
[19,"2010-08-19",{"$error":"#DIV/0!"},{"$error":"#DIV/0!"},{"$error":"#DIV/0!"},{"$error":"#DIV/0!"},{"$error":"#DIV/0!"},{"$error":"#DIV/0!"},{"$error":"#DIV/0!"},{"$error":"#DIV/0!"},{"$error":"#DIV/0!"},{"$error":"#DIV/0!"},{"$error":"#DIV/0!"},{"$error":"#DIV/0!"},0,0,{"$error":"#N/A"},{"$error":"#N/A"}]
[20,"2010-08-20",{"$error":"#DIV/0!"},{"$error":"#DIV/0!"},{"$error":"#DIV/0!"},{"$error":"#DIV/0!"},{"$error":"#DIV/0!"},{"$error":"#DIV/0!"},{"$error":"#DIV/0!"},{"$error":"#DIV/0!"},{"$error":"#DIV/0!"},{"$error":"#DIV/0!"},{"$error":"#DIV/0!"},{"$error":"#DIV/0!"},0,0,{"$error":"#N/A"},{"$error":"#N/A"}]
[21,"2010-08-21",{"$error":"#DIV/0!"},{"$error":"#DIV/0!"},{"$error":"#DIV/0!"},{"$error":"#DIV/0!"},{"$error":"#DIV/0!"},{"$error":"#DIV/0!"},{"$error":"#DIV/0!"},{"$error":"#DIV/0!"},{"$error":"#DIV/0!"},{"$error":"#DIV/0!"},{"$error":"#DIV/0!"},{"$error":"#DIV/0!"},0,0,{"$error":"#N/A"},{"$error":"#N/A"}]
[22,"2010-08-22",{"$error":"#DIV/0!"},{"$error":"#DIV/0!"},{"$error":"#DIV/0!"},{"$error":"#DIV/0!"},{"$error":"#DIV/0!"},{"$error":"#DIV/0!"},{"$error":"#DIV/0!"},{"$error":"#DIV/0!"},{"$error":"#DIV/0!"},{"$error":"#DIV/0!"},{"$error":"#DIV/0!"},{"$error":"#DIV/0!"},0,0,{"$error":"#N/A"},{"$error":"#N/A"}]
[23,"2010-08-23",{"$error":"#DIV/0!"},{"$error":"#DIV/0!"},{"$error":"#DIV/0!"},{"$error":"#DIV/0!"},{"$error":"#DIV/0!"},{"$error":"#DIV/0!"},{"$error":"#DIV/0!"},{"$error":"#DIV/0!"},{"$error":"#DIV/0!"},{"$error":"#DIV/0!"},{"$error":"#DIV/0!"},{"$error":"#DIV/0!"},0,0,{"$error":"#N/A"},{"$error":"#N/A"}]
[24,"2010-08-24",{"$error":"#DIV/0!"},{"$error":"#DIV/0!"},{"$error":"#DIV/0!"},{"$error":"#DIV/0!"},{"$error":"#DIV/0!"},{"$error":"#DIV/0!"},{"$error":"#DIV/0!"},{"$error":"#DIV/0!"},{"$error":"#DIV/0!"},{"$error":"#DIV/0!"},{"$error":"#DIV/0!"},{"$error":"#DIV/0!"},0,0,{"$error":"#N/A"},{"$error":"#N/A"}]
[25,"2010-08-25",{"$error":"#DIV/0!"},{"$error":"#DIV/0!"},{"$error":"#DIV/0!"},{"$error":"#DIV/0!"},{"$error":"#DIV/0!"},{"$error":"#DIV/0!"},{"$error":"#DIV/0!"},{"$error":"#DIV/0!"},{"$error":"#DIV/0!"},{"$error":"#DIV/0!"},{"$error":"#DIV/0!"},{"$error":"#DIV/0!"},0,0,{"$error":"#N/A"},{"$error":"#N/A"}]
[26,"2010-08-26",{"$error":"#DIV/0!"},{"$error":"#DIV/0!"},{"$error":"#DIV/0!"},{"$error":"#DIV/0!"},{"$error":"#DIV/0!"},{"$error":"#DIV/0!"},{"$error":"#DIV/0!"},{"$error":"#DIV/0!"},{"$error":"#DIV/0!"},{"$error":"#DIV/0!"},{"$error":"#DIV/0!"},{"$error":"#DIV/0!"},0,0,{"$error":"#N/A"},{"$error":"#N/A"}]
[27,"2010-08-27",{"$error":"#DIV/0!"},{"$error":"#DIV/0!"},{"$error":"#DIV/0!"},{"$error":"#DIV/0!"},{"$error":"#DIV/0!"},{"$error":"#DIV/0!"},{"$error":"#DIV/0!"},{"$error":"#DIV/0!"},{"$error":"#DIV/0!"},{"$error":"#DIV/0!"},{"$error":"#DIV/0!"},{"$error":"#DIV/0!"},0,0,{"$error":"#N/A"},{"$error":"#N/A"}]
[28,"2010-08-28",{"$error":"#DIV/0!"},{"$error":"#DIV/0!"},{"$error":"#DIV/0!"},{"$error":"#DIV/0!"},{"$error":"#DIV/0!"},{"$error":"#DIV/0!"},{"$error":"#DIV/0!"},{"$error":"#DIV/0!"},{"$error":"#DIV/0!"},{"$error":"#DIV/0!"},{"$error":"#DIV/0!"},{"$error":"#DIV/0!"},0,0,{"$error":"#N/A"},{"$error":"#N/A"}]
[29,"2010-08-29",{"$error":"#DIV/0!"},{"$error":"#DIV/0!"},{"$error":"#DIV/0!"},{"$error":"#DIV/0!"},{"$error":"#DIV/0!"},{"$error":"#DIV/0!"},{"$error":"#DIV/0!"},{"$error":"#DIV/0!"},{"$error":"#DIV/0!"},{"$error":"#DIV/0!"},{"$error":"#DIV/0!"},{"$error":"#DIV/0!"},0,0,{"$error":"#N/A"},{"$error":"#N/A"}]
[30,"2010-08-30",{"$error":"#DIV/0!"},{"$error":"#DIV/0!"},{"$error":"#DIV/0!"},{"$error":"#DIV/0!"},{"$error":"#DIV/0!"},{"$error":"#DIV/0!"},{"$error":"#DIV/0!"},{"$error":"#DIV/0!"},{"$error":"#DIV/0!"},{"$error":"#DIV/0!"},{"$error":"#DIV/0!"},{"$error":"#DIV/0!"},0,0,{"$error":"#N/A"},{"$error":"#N/A"}]
[31,"2010-08-31",{"$error":"#DIV/0!"},{"$error":"#DIV/0!"},{"$error":"#DIV/0!"},{"$error":"#DIV/0!"},{"$error":"#DIV/0!"},{"$error":"#DIV/0!"},{"$error":"#DIV/0!"},{"$error":"#DIV/0!"},{"$error":"#DIV/0!"},{"$error":"#DIV/0!"},{"$error":"#DIV/0!"},{"$error":"#DIV/0!"},0,0,{"$error":"#N/A"},{"$error":"#N/A"}]
[1,"2010-09-01",{"$f":"C15","v":{"$error":"#DIV/0!"}},{"$f":"F15","v":{"$error":"#DIV/0!"}},{"$f":"D15","v":{"$error":"#DIV/0!"}},{"$f":"G15","v":{"$error":"#DIV/0!"}},{"$f":"E15","v":{"$error":"#DIV/0!"}},{"$f":"H15","v":{"$error":"#DIV/0!"}},{"$f":"I15","v":{"$error":"#DIV/0!"}},{"$f":"L15","v":{"$error":"#DIV/0!"}},{"$f":"J15","v":{"$error":"#DIV/0!"}},{"$f":"M15","v":{"$error":"#DIV/0!"}},{"$f":"K15","v":{"$error":"#DIV/0!"}},{"$f":"N15","v":{"$error":"#DIV/0!"}},{"$f":"+O15","v":0},{"$f":"+P15","v":0},{"$f":"+Q15","v":{"$error":"#N/A"}},{"$f":"+R15","v":{"$error":"#N/A"}}]
[2,"2010-09-02",{"$f":"C$268+((C$298-C$268)*($A269-1)/30)","v":{"$error":"#DIV/0!"}},{"$f":"D$268+((D$298-D$268)*($A269-1)/30)","v":{"$error":"#DIV/0!"}},{"$error":"#DIV/0!"},{"$error":"#DIV/0!"},{"$error":"#DIV/0!"},{"$error":"#DIV/0!"},{"$error":"#DIV/0!"},{"$error":"#DIV/0!"},{"$error":"#DIV/0!"},{"$error":"#DIV/0!"},{"$error":"#DIV/0!"},{"$error":"#DIV/0!"},{"$f":"O$268+((O$298-O$268)*($A269-1)/30)","v":0},{"$f":"P$268+((P$298-P$268)*($A269-1)/30)","v":0},{"$f":"Q$268+((Q$298-Q$268)*($A269-1)/30)","v":{"$error":"#N/A"}},{"$f":"R$268+((R$298-R$268)*($A269-1)/30)","v":{"$error":"#N/A"}}]
[3,"2010-09-03",{"$error":"#DIV/0!"},{"$error":"#DIV/0!"},{"$error":"#DIV/0!"},{"$error":"#DIV/0!"},{"$error":"#DIV/0!"},{"$error":"#DIV/0!"},{"$error":"#DIV/0!"},{"$error":"#DIV/0!"},{"$error":"#DIV/0!"},{"$error":"#DIV/0!"},{"$error":"#DIV/0!"},{"$error":"#DIV/0!"},0,0,{"$error":"#N/A"},{"$error":"#N/A"}]
[4,"2010-09-04",{"$error":"#DIV/0!"},{"$error":"#DIV/0!"},{"$error":"#DIV/0!"},{"$error":"#DIV/0!"},{"$error":"#DIV/0!"},{"$error":"#DIV/0!"},{"$error":"#DIV/0!"},{"$error":"#DIV/0!"},{"$error":"#DIV/0!"},{"$error":"#DIV/0!"},{"$error":"#DIV/0!"},{"$error":"#DIV/0!"},0,0,{"$error":"#N/A"},{"$error":"#N/A"}]
[5,"2010-09-05",{"$error":"#DIV/0!"},{"$error":"#DIV/0!"},{"$error":"#DIV/0!"},{"$error":"#DIV/0!"},{"$error":"#DIV/0!"},{"$error":"#DIV/0!"},{"$error":"#DIV/0!"},{"$error":"#DIV/0!"},{"$error":"#DIV/0!"},{"$error":"#DIV/0!"},{"$error":"#DIV/0!"},{"$error":"#DIV/0!"},0,0,{"$error":"#N/A"},{"$error":"#N/A"}]
[6,"2010-09-06",{"$error":"#DIV/0!"},{"$error":"#DIV/0!"},{"$error":"#DIV/0!"},{"$error":"#DIV/0!"},{"$error":"#DIV/0!"},{"$error":"#DIV/0!"},{"$error":"#DIV/0!"},{"$error":"#DIV/0!"},{"$error":"#DIV/0!"},{"$error":"#DIV/0!"},{"$error":"#DIV/0!"},{"$error":"#DIV/0!"},0,0,{"$error":"#N/A"},{"$error":"#N/A"}]
[7,"2010-09-07",{"$error":"#DIV/0!"},{"$error":"#DIV/0!"},{"$error":"#DIV/0!"},{"$error":"#DIV/0!"},{"$error":"#DIV/0!"},{"$error":"#DIV/0!"},{"$error":"#DIV/0!"},{"$error":"#DIV/0!"},{"$error":"#DIV/0!"},{"$error":"#DIV/0!"},{"$error":"#DIV/0!"},{"$error":"#DIV/0!"},0,0,{"$error":"#N/A"},{"$error":"#N/A"}]
[8,"2010-09-08",{"$error":"#DIV/0!"},{"$error":"#DIV/0!"},{"$error":"#DIV/0!"},{"$error":"#DIV/0!"},{"$error":"#DIV/0!"},{"$error":"#DIV/0!"},{"$error":"#DIV/0!"},{"$error":"#DIV/0!"},{"$error":"#DIV/0!"},{"$error":"#DIV/0!"},{"$error":"#DIV/0!"},{"$error":"#DIV/0!"},0,0,{"$error":"#N/A"},{"$error":"#N/A"}]
[9,"2010-09-09",{"$error":"#DIV/0!"},{"$error":"#DIV/0!"},{"$error":"#DIV/0!"},{"$error":"#DIV/0!"},{"$error":"#DIV/0!"},{"$error":"#DIV/0!"},{"$error":"#DIV/0!"},{"$error":"#DIV/0!"},{"$error":"#DIV/0!"},{"$error":"#DIV/0!"},{"$error":"#DIV/0!"},{"$error":"#DIV/0!"},0,0,{"$error":"#N/A"},{"$error":"#N/A"}]
[10,"2010-09-10",{"$error":"#DIV/0!"},{"$error":"#DIV/0!"},{"$error":"#DIV/0!"},{"$error":"#DIV/0!"},{"$error":"#DIV/0!"},{"$error":"#DIV/0!"},{"$error":"#DIV/0!"},{"$error":"#DIV/0!"},{"$error":"#DIV/0!"},{"$error":"#DIV/0!"},{"$error":"#DIV/0!"},{"$error":"#DIV/0!"},0,0,{"$error":"#N/A"},{"$error":"#N/A"}]
[11,"2010-09-11",{"$error":"#DIV/0!"},{"$error":"#DIV/0!"},{"$error":"#DIV/0!"},{"$error":"#DIV/0!"},{"$error":"#DIV/0!"},{"$error":"#DIV/0!"},{"$error":"#DIV/0!"},{"$error":"#DIV/0!"},{"$error":"#DIV/0!"},{"$error":"#DIV/0!"},{"$error":"#DIV/0!"},{"$error":"#DIV/0!"},0,0,{"$error":"#N/A"},{"$error":"#N/A"}]
[12,"2010-09-12",{"$error":"#DIV/0!"},{"$error":"#DIV/0!"},{"$error":"#DIV/0!"},{"$error":"#DIV/0!"},{"$error":"#DIV/0!"},{"$error":"#DIV/0!"},{"$error":"#DIV/0!"},{"$error":"#DIV/0!"},{"$error":"#DIV/0!"},{"$error":"#DIV/0!"},{"$error":"#DIV/0!"},{"$error":"#DIV/0!"},0,0,{"$error":"#N/A"},{"$error":"#N/A"}]
[13,"2010-09-13",{"$error":"#DIV/0!"},{"$error":"#DIV/0!"},{"$error":"#DIV/0!"},{"$error":"#DIV/0!"},{"$error":"#DIV/0!"},{"$error":"#DIV/0!"},{"$error":"#DIV/0!"},{"$error":"#DIV/0!"},{"$error":"#DIV/0!"},{"$error":"#DIV/0!"},{"$error":"#DIV/0!"},{"$error":"#DIV/0!"},0,0,{"$error":"#N/A"},{"$error":"#N/A"}]
[14,"2010-09-14",{"$error":"#DIV/0!"},{"$error":"#DIV/0!"},{"$error":"#DIV/0!"},{"$error":"#DIV/0!"},{"$error":"#DIV/0!"},{"$error":"#DIV/0!"},{"$error":"#DIV/0!"},{"$error":"#DIV/0!"},{"$error":"#DIV/0!"},{"$error":"#DIV/0!"},{"$error":"#DIV/0!"},{"$error":"#DIV/0!"},0,0,{"$error":"#N/A"},{"$error":"#N/A"}]
[{"$f":"DAY(B282)","v":15},"2010-09-15",{"$error":"#DIV/0!"},{"$error":"#DIV/0!"},{"$error":"#DIV/0!"},{"$error":"#DIV/0!"},{"$error":"#DIV/0!"},{"$error":"#DIV/0!"},{"$error":"#DIV/0!"},{"$error":"#DIV/0!"},{"$error":"#DIV/0!"},{"$error":"#DIV/0!"},{"$error":"#DIV/0!"},{"$error":"#DIV/0!"},0,0,{"$error":"#N/A"},{"$error":"#N/A"}]
[16,"2010-09-16",{"$error":"#DIV/0!"},{"$error":"#DIV/0!"},{"$error":"#DIV/0!"},{"$error":"#DIV/0!"},{"$error":"#DIV/0!"},{"$error":"#DIV/0!"},{"$error":"#DIV/0!"},{"$error":"#DIV/0!"},{"$error":"#DIV/0!"},{"$error":"#DIV/0!"},{"$error":"#DIV/0!"},{"$error":"#DIV/0!"},0,0,{"$error":"#N/A"},{"$error":"#N/A"}]
[17,"2010-09-17",{"$error":"#DIV/0!"},{"$error":"#DIV/0!"},{"$error":"#DIV/0!"},{"$error":"#DIV/0!"},{"$error":"#DIV/0!"},{"$error":"#DIV/0!"},{"$error":"#DIV/0!"},{"$error":"#DIV/0!"},{"$error":"#DIV/0!"},{"$error":"#DIV/0!"},{"$error":"#DIV/0!"},{"$error":"#DIV/0!"},0,0,{"$error":"#N/A"},{"$error":"#N/A"}]
[18,"2010-09-18",{"$error":"#DIV/0!"},{"$f":"D$268+((D$298-D$268)*($A285-1)/30)","v":{"$error":"#DIV/0!"}},{"$error":"#DIV/0!"},{"$error":"#DIV/0!"},{"$error":"#DIV/0!"},{"$error":"#DIV/0!"},{"$error":"#DIV/0!"},{"$error":"#DIV/0!"},{"$error":"#DIV/0!"},{"$error":"#DIV/0!"},{"$error":"#DIV/0!"},{"$error":"#DIV/0!"},0,0,{"$error":"#N/A"},{"$error":"#N/A"}]
[19,"2010-09-19",{"$error":"#DIV/0!"},{"$error":"#DIV/0!"},{"$error":"#DIV/0!"},{"$error":"#DIV/0!"},{"$error":"#DIV/0!"},{"$error":"#DIV/0!"},{"$error":"#DIV/0!"},{"$error":"#DIV/0!"},{"$error":"#DIV/0!"},{"$error":"#DIV/0!"},{"$error":"#DIV/0!"},{"$error":"#DIV/0!"},0,0,{"$error":"#N/A"},{"$error":"#N/A"}]
[20,"2010-09-20",{"$error":"#DIV/0!"},{"$error":"#DIV/0!"},{"$error":"#DIV/0!"},{"$error":"#DIV/0!"},{"$error":"#DIV/0!"},{"$error":"#DIV/0!"},{"$error":"#DIV/0!"},{"$error":"#DIV/0!"},{"$error":"#DIV/0!"},{"$error":"#DIV/0!"},{"$error":"#DIV/0!"},{"$error":"#DIV/0!"},0,0,{"$error":"#N/A"},{"$error":"#N/A"}]
[21,"2010-09-21",{"$error":"#DIV/0!"},{"$error":"#DIV/0!"},{"$error":"#DIV/0!"},{"$error":"#DIV/0!"},{"$error":"#DIV/0!"},{"$error":"#DIV/0!"},{"$error":"#DIV/0!"},{"$error":"#DIV/0!"},{"$error":"#DIV/0!"},{"$error":"#DIV/0!"},{"$error":"#DIV/0!"},{"$error":"#DIV/0!"},0,0,{"$error":"#N/A"},{"$error":"#N/A"}]
[22,"2010-09-22",{"$error":"#DIV/0!"},{"$error":"#DIV/0!"},{"$error":"#DIV/0!"},{"$error":"#DIV/0!"},{"$error":"#DIV/0!"},{"$error":"#DIV/0!"},{"$error":"#DIV/0!"},{"$error":"#DIV/0!"},{"$error":"#DIV/0!"},{"$error":"#DIV/0!"},{"$error":"#DIV/0!"},{"$error":"#DIV/0!"},0,0,{"$error":"#N/A"},{"$error":"#N/A"}]
[23,"2010-09-23",{"$error":"#DIV/0!"},{"$error":"#DIV/0!"},{"$error":"#DIV/0!"},{"$error":"#DIV/0!"},{"$error":"#DIV/0!"},{"$error":"#DIV/0!"},{"$error":"#DIV/0!"},{"$error":"#DIV/0!"},{"$error":"#DIV/0!"},{"$error":"#DIV/0!"},{"$error":"#DIV/0!"},{"$error":"#DIV/0!"},0,0,{"$error":"#N/A"},{"$error":"#N/A"}]
[24,"2010-09-24",{"$error":"#DIV/0!"},{"$error":"#DIV/0!"},{"$error":"#DIV/0!"},{"$error":"#DIV/0!"},{"$error":"#DIV/0!"},{"$error":"#DIV/0!"},{"$error":"#DIV/0!"},{"$error":"#DIV/0!"},{"$error":"#DIV/0!"},{"$error":"#DIV/0!"},{"$error":"#DIV/0!"},{"$error":"#DIV/0!"},0,0,{"$error":"#N/A"},{"$error":"#N/A"}]
[25,"2010-09-25",{"$error":"#DIV/0!"},{"$error":"#DIV/0!"},{"$error":"#DIV/0!"},{"$error":"#DIV/0!"},{"$error":"#DIV/0!"},{"$error":"#DIV/0!"},{"$error":"#DIV/0!"},{"$error":"#DIV/0!"},{"$error":"#DIV/0!"},{"$error":"#DIV/0!"},{"$error":"#DIV/0!"},{"$error":"#DIV/0!"},0,0,{"$error":"#N/A"},{"$error":"#N/A"}]
[26,"2010-09-26",{"$error":"#DIV/0!"},{"$error":"#DIV/0!"},{"$error":"#DIV/0!"},{"$error":"#DIV/0!"},{"$error":"#DIV/0!"},{"$error":"#DIV/0!"},{"$error":"#DIV/0!"},{"$error":"#DIV/0!"},{"$error":"#DIV/0!"},{"$error":"#DIV/0!"},{"$error":"#DIV/0!"},{"$error":"#DIV/0!"},0,0,{"$error":"#N/A"},{"$error":"#N/A"}]
[27,"2010-09-27",{"$error":"#DIV/0!"},{"$error":"#DIV/0!"},{"$error":"#DIV/0!"},{"$error":"#DIV/0!"},{"$error":"#DIV/0!"},{"$error":"#DIV/0!"},{"$error":"#DIV/0!"},{"$error":"#DIV/0!"},{"$error":"#DIV/0!"},{"$error":"#DIV/0!"},{"$error":"#DIV/0!"},{"$error":"#DIV/0!"},0,0,{"$error":"#N/A"},{"$error":"#N/A"}]
[28,"2010-09-28",{"$error":"#DIV/0!"},{"$error":"#DIV/0!"},{"$error":"#DIV/0!"},{"$error":"#DIV/0!"},{"$error":"#DIV/0!"},{"$error":"#DIV/0!"},{"$error":"#DIV/0!"},{"$error":"#DIV/0!"},{"$error":"#DIV/0!"},{"$error":"#DIV/0!"},{"$error":"#DIV/0!"},{"$error":"#DIV/0!"},0,0,{"$error":"#N/A"},{"$error":"#N/A"}]
[29,"2010-09-29",{"$error":"#DIV/0!"},{"$error":"#DIV/0!"},{"$error":"#DIV/0!"},{"$error":"#DIV/0!"},{"$error":"#DIV/0!"},{"$error":"#DIV/0!"},{"$error":"#DIV/0!"},{"$error":"#DIV/0!"},{"$error":"#DIV/0!"},{"$error":"#DIV/0!"},{"$error":"#DIV/0!"},{"$error":"#DIV/0!"},0,0,{"$error":"#N/A"},{"$error":"#N/A"}]
[30,"2010-09-30",{"$error":"#DIV/0!"},{"$error":"#DIV/0!"},{"$error":"#DIV/0!"},{"$error":"#DIV/0!"},{"$error":"#DIV/0!"},{"$error":"#DIV/0!"},{"$error":"#DIV/0!"},{"$error":"#DIV/0!"},{"$error":"#DIV/0!"},{"$error":"#DIV/0!"},{"$error":"#DIV/0!"},{"$error":"#DIV/0!"},0,0,{"$error":"#N/A"},{"$error":"#N/A"}]
[1,"2010-10-01",{"$f":"C16","v":{"$error":"#DIV/0!"}},{"$f":"F16","v":{"$error":"#DIV/0!"}},{"$f":"D16","v":{"$error":"#DIV/0!"}},{"$f":"G16","v":{"$error":"#DIV/0!"}},{"$f":"E16","v":{"$error":"#DIV/0!"}},{"$f":"H16","v":{"$error":"#DIV/0!"}},{"$f":"I16","v":{"$error":"#DIV/0!"}},{"$f":"L16","v":{"$error":"#DIV/0!"}},{"$f":"J16","v":{"$error":"#DIV/0!"}},{"$f":"M16","v":{"$error":"#DIV/0!"}},{"$f":"K16","v":{"$error":"#DIV/0!"}},{"$f":"N16","v":{"$error":"#DIV/0!"}},{"$f":"+O16","v":0},{"$f":"+P16","v":0},{"$f":"+Q16","v":{"$error":"#N/A"}},{"$f":"+R16","v":{"$error":"#N/A"}}]
[2,"2010-10-02",{"$f":"C$298+((C$329-C$298)*($A299-1)/31)","v":{"$error":"#DIV/0!"}},{"$f":"D$298+((D$329-D$298)*($A299-1)/31)","v":{"$error":"#DIV/0!"}},{"$error":"#DIV/0!"},{"$error":"#DIV/0!"},{"$error":"#DIV/0!"},{"$error":"#DIV/0!"},{"$error":"#DIV/0!"},{"$error":"#DIV/0!"},{"$error":"#DIV/0!"},{"$error":"#DIV/0!"},{"$error":"#DIV/0!"},{"$error":"#DIV/0!"},{"$f":"O$298+((O$329-O$298)*($A299-1)/31)","v":0},{"$f":"P$298+((P$329-P$298)*($A299-1)/31)","v":0},{"$f":"Q$298+((Q$329-Q$298)*($A299-1)/31)","v":{"$error":"#N/A"}},{"$f":"R$298+((R$329-R$298)*($A299-1)/31)","v":{"$error":"#N/A"}}]
[3,"2010-10-03",{"$error":"#DIV/0!"},{"$error":"#DIV/0!"},{"$error":"#DIV/0!"},{"$error":"#DIV/0!"},{"$error":"#DIV/0!"},{"$error":"#DIV/0!"},{"$error":"#DIV/0!"},{"$error":"#DIV/0!"},{"$error":"#DIV/0!"},{"$error":"#DIV/0!"},{"$error":"#DIV/0!"},{"$error":"#DIV/0!"},0,0,{"$error":"#N/A"},{"$error":"#N/A"}]
[4,"2010-10-04",{"$error":"#DIV/0!"},{"$error":"#DIV/0!"},{"$error":"#DIV/0!"},{"$error":"#DIV/0!"},{"$error":"#DIV/0!"},{"$error":"#DIV/0!"},{"$error":"#DIV/0!"},{"$error":"#DIV/0!"},{"$error":"#DIV/0!"},{"$error":"#DIV/0!"},{"$error":"#DIV/0!"},{"$error":"#DIV/0!"},0,0,{"$error":"#N/A"},{"$error":"#N/A"}]
[5,"2010-10-05",{"$error":"#DIV/0!"},{"$error":"#DIV/0!"},{"$error":"#DIV/0!"},{"$error":"#DIV/0!"},{"$error":"#DIV/0!"},{"$error":"#DIV/0!"},{"$error":"#DIV/0!"},{"$error":"#DIV/0!"},{"$error":"#DIV/0!"},{"$error":"#DIV/0!"},{"$error":"#DIV/0!"},{"$error":"#DIV/0!"},0,0,{"$error":"#N/A"},{"$error":"#N/A"}]
[6,"2010-10-06",{"$error":"#DIV/0!"},{"$error":"#DIV/0!"},{"$error":"#DIV/0!"},{"$error":"#DIV/0!"},{"$error":"#DIV/0!"},{"$error":"#DIV/0!"},{"$error":"#DIV/0!"},{"$error":"#DIV/0!"},{"$error":"#DIV/0!"},{"$error":"#DIV/0!"},{"$error":"#DIV/0!"},{"$error":"#DIV/0!"},0,0,{"$error":"#N/A"},{"$error":"#N/A"}]
[7,"2010-10-07",{"$error":"#DIV/0!"},{"$error":"#DIV/0!"},{"$error":"#DIV/0!"},{"$error":"#DIV/0!"},{"$error":"#DIV/0!"},{"$error":"#DIV/0!"},{"$error":"#DIV/0!"},{"$error":"#DIV/0!"},{"$error":"#DIV/0!"},{"$error":"#DIV/0!"},{"$error":"#DIV/0!"},{"$error":"#DIV/0!"},0,0,{"$error":"#N/A"},{"$error":"#N/A"}]
[8,"2010-10-08",{"$error":"#DIV/0!"},{"$error":"#DIV/0!"},{"$error":"#DIV/0!"},{"$error":"#DIV/0!"},{"$error":"#DIV/0!"},{"$error":"#DIV/0!"},{"$error":"#DIV/0!"},{"$error":"#DIV/0!"},{"$error":"#DIV/0!"},{"$error":"#DIV/0!"},{"$error":"#DIV/0!"},{"$error":"#DIV/0!"},0,0,{"$error":"#N/A"},{"$error":"#N/A"}]
[9,"2010-10-09",{"$error":"#DIV/0!"},{"$error":"#DIV/0!"},{"$error":"#DIV/0!"},{"$error":"#DIV/0!"},{"$error":"#DIV/0!"},{"$error":"#DIV/0!"},{"$error":"#DIV/0!"},{"$error":"#DIV/0!"},{"$error":"#DIV/0!"},{"$error":"#DIV/0!"},{"$error":"#DIV/0!"},{"$error":"#DIV/0!"},0,0,{"$error":"#N/A"},{"$error":"#N/A"}]
[10,"2010-10-10",{"$error":"#DIV/0!"},{"$error":"#DIV/0!"},{"$error":"#DIV/0!"},{"$error":"#DIV/0!"},{"$error":"#DIV/0!"},{"$error":"#DIV/0!"},{"$error":"#DIV/0!"},{"$error":"#DIV/0!"},{"$error":"#DIV/0!"},{"$error":"#DIV/0!"},{"$error":"#DIV/0!"},{"$error":"#DIV/0!"},0,0,{"$error":"#N/A"},{"$error":"#N/A"}]
[11,"2010-10-11",{"$error":"#DIV/0!"},{"$error":"#DIV/0!"},{"$error":"#DIV/0!"},{"$error":"#DIV/0!"},{"$error":"#DIV/0!"},{"$error":"#DIV/0!"},{"$error":"#DIV/0!"},{"$error":"#DIV/0!"},{"$error":"#DIV/0!"},{"$error":"#DIV/0!"},{"$error":"#DIV/0!"},{"$error":"#DIV/0!"},0,0,{"$error":"#N/A"},{"$error":"#N/A"}]
[12,"2010-10-12",{"$error":"#DIV/0!"},{"$error":"#DIV/0!"},{"$error":"#DIV/0!"},{"$error":"#DIV/0!"},{"$error":"#DIV/0!"},{"$error":"#DIV/0!"},{"$error":"#DIV/0!"},{"$error":"#DIV/0!"},{"$error":"#DIV/0!"},{"$error":"#DIV/0!"},{"$error":"#DIV/0!"},{"$error":"#DIV/0!"},0,0,{"$error":"#N/A"},{"$error":"#N/A"}]
[13,"2010-10-13",{"$error":"#DIV/0!"},{"$error":"#DIV/0!"},{"$error":"#DIV/0!"},{"$error":"#DIV/0!"},{"$error":"#DIV/0!"},{"$error":"#DIV/0!"},{"$error":"#DIV/0!"},{"$error":"#DIV/0!"},{"$error":"#DIV/0!"},{"$error":"#DIV/0!"},{"$error":"#DIV/0!"},{"$error":"#DIV/0!"},0,0,{"$error":"#N/A"},{"$error":"#N/A"}]
[14,"2010-10-14",{"$error":"#DIV/0!"},{"$error":"#DIV/0!"},{"$error":"#DIV/0!"},{"$error":"#DIV/0!"},{"$error":"#DIV/0!"},{"$error":"#DIV/0!"},{"$error":"#DIV/0!"},{"$error":"#DIV/0!"},{"$error":"#DIV/0!"},{"$error":"#DIV/0!"},{"$error":"#DIV/0!"},{"$error":"#DIV/0!"},0,0,{"$error":"#N/A"},{"$error":"#N/A"}]
[15,"2010-10-15",{"$error":"#DIV/0!"},{"$error":"#DIV/0!"},{"$error":"#DIV/0!"},{"$error":"#DIV/0!"},{"$error":"#DIV/0!"},{"$error":"#DIV/0!"},{"$error":"#DIV/0!"},{"$error":"#DIV/0!"},{"$error":"#DIV/0!"},{"$error":"#DIV/0!"},{"$error":"#DIV/0!"},{"$error":"#DIV/0!"},0,0,{"$error":"#N/A"},{"$error":"#N/A"}]
[16,"2010-10-16",{"$error":"#DIV/0!"},{"$error":"#DIV/0!"},{"$error":"#DIV/0!"},{"$error":"#DIV/0!"},{"$error":"#DIV/0!"},{"$error":"#DIV/0!"},{"$error":"#DIV/0!"},{"$error":"#DIV/0!"},{"$error":"#DIV/0!"},{"$error":"#DIV/0!"},{"$error":"#DIV/0!"},{"$error":"#DIV/0!"},0,0,{"$error":"#N/A"},{"$error":"#N/A"}]
[17,"2010-10-17",{"$error":"#DIV/0!"},{"$error":"#DIV/0!"},{"$error":"#DIV/0!"},{"$error":"#DIV/0!"},{"$error":"#DIV/0!"},{"$error":"#DIV/0!"},{"$error":"#DIV/0!"},{"$error":"#DIV/0!"},{"$error":"#DIV/0!"},{"$error":"#DIV/0!"},{"$error":"#DIV/0!"},{"$error":"#DIV/0!"},0,0,{"$error":"#N/A"},{"$error":"#N/A"}]
[18,"2010-10-18",{"$error":"#DIV/0!"},{"$f":"D$298+((D$329-D$298)*($A315-1)/31)","v":{"$error":"#DIV/0!"}},{"$error":"#DIV/0!"},{"$error":"#DIV/0!"},{"$error":"#DIV/0!"},{"$error":"#DIV/0!"},{"$error":"#DIV/0!"},{"$error":"#DIV/0!"},{"$error":"#DIV/0!"},{"$error":"#DIV/0!"},{"$error":"#DIV/0!"},{"$error":"#DIV/0!"},0,0,{"$error":"#N/A"},{"$error":"#N/A"}]
[19,"2010-10-19",{"$error":"#DIV/0!"},{"$error":"#DIV/0!"},{"$error":"#DIV/0!"},{"$error":"#DIV/0!"},{"$error":"#DIV/0!"},{"$error":"#DIV/0!"},{"$error":"#DIV/0!"},{"$error":"#DIV/0!"},{"$error":"#DIV/0!"},{"$error":"#DIV/0!"},{"$error":"#DIV/0!"},{"$error":"#DIV/0!"},0,0,{"$error":"#N/A"},{"$error":"#N/A"}]
[20,"2010-10-20",{"$error":"#DIV/0!"},{"$error":"#DIV/0!"},{"$error":"#DIV/0!"},{"$error":"#DIV/0!"},{"$error":"#DIV/0!"},{"$error":"#DIV/0!"},{"$error":"#DIV/0!"},{"$error":"#DIV/0!"},{"$error":"#DIV/0!"},{"$error":"#DIV/0!"},{"$error":"#DIV/0!"},{"$error":"#DIV/0!"},0,0,{"$error":"#N/A"},{"$error":"#N/A"}]
[21,"2010-10-21",{"$error":"#DIV/0!"},{"$error":"#DIV/0!"},{"$error":"#DIV/0!"},{"$error":"#DIV/0!"},{"$error":"#DIV/0!"},{"$error":"#DIV/0!"},{"$error":"#DIV/0!"},{"$error":"#DIV/0!"},{"$error":"#DIV/0!"},{"$error":"#DIV/0!"},{"$error":"#DIV/0!"},{"$error":"#DIV/0!"},0,0,{"$error":"#N/A"},{"$error":"#N/A"}]
[22,"2010-10-22",{"$error":"#DIV/0!"},{"$error":"#DIV/0!"},{"$error":"#DIV/0!"},{"$error":"#DIV/0!"},{"$error":"#DIV/0!"},{"$error":"#DIV/0!"},{"$error":"#DIV/0!"},{"$error":"#DIV/0!"},{"$error":"#DIV/0!"},{"$error":"#DIV/0!"},{"$error":"#DIV/0!"},{"$error":"#DIV/0!"},0,0,{"$error":"#N/A"},{"$error":"#N/A"}]
[23,"2010-10-23",{"$error":"#DIV/0!"},{"$error":"#DIV/0!"},{"$error":"#DIV/0!"},{"$error":"#DIV/0!"},{"$error":"#DIV/0!"},{"$error":"#DIV/0!"},{"$error":"#DIV/0!"},{"$error":"#DIV/0!"},{"$error":"#DIV/0!"},{"$error":"#DIV/0!"},{"$error":"#DIV/0!"},{"$error":"#DIV/0!"},0,0,{"$error":"#N/A"},{"$error":"#N/A"}]
[24,"2010-10-24",{"$error":"#DIV/0!"},{"$error":"#DIV/0!"},{"$error":"#DIV/0!"},{"$error":"#DIV/0!"},{"$error":"#DIV/0!"},{"$error":"#DIV/0!"},{"$error":"#DIV/0!"},{"$error":"#DIV/0!"},{"$error":"#DIV/0!"},{"$error":"#DIV/0!"},{"$error":"#DIV/0!"},{"$error":"#DIV/0!"},0,0,{"$error":"#N/A"},{"$error":"#N/A"}]
[25,"2010-10-25",{"$error":"#DIV/0!"},{"$error":"#DIV/0!"},{"$error":"#DIV/0!"},{"$error":"#DIV/0!"},{"$error":"#DIV/0!"},{"$error":"#DIV/0!"},{"$error":"#DIV/0!"},{"$error":"#DIV/0!"},{"$error":"#DIV/0!"},{"$error":"#DIV/0!"},{"$error":"#DIV/0!"},{"$error":"#DIV/0!"},0,0,{"$error":"#N/A"},{"$error":"#N/A"}]
[26,"2010-10-26",{"$error":"#DIV/0!"},{"$error":"#DIV/0!"},{"$error":"#DIV/0!"},{"$error":"#DIV/0!"},{"$error":"#DIV/0!"},{"$error":"#DIV/0!"},{"$error":"#DIV/0!"},{"$error":"#DIV/0!"},{"$error":"#DIV/0!"},{"$error":"#DIV/0!"},{"$error":"#DIV/0!"},{"$error":"#DIV/0!"},0,0,{"$error":"#N/A"},{"$error":"#N/A"}]
[27,"2010-10-27",{"$error":"#DIV/0!"},{"$error":"#DIV/0!"},{"$error":"#DIV/0!"},{"$error":"#DIV/0!"},{"$error":"#DIV/0!"},{"$error":"#DIV/0!"},{"$error":"#DIV/0!"},{"$error":"#DIV/0!"},{"$error":"#DIV/0!"},{"$error":"#DIV/0!"},{"$error":"#DIV/0!"},{"$error":"#DIV/0!"},0,0,{"$error":"#N/A"},{"$error":"#N/A"}]
[28,"2010-10-28",{"$error":"#DIV/0!"},{"$error":"#DIV/0!"},{"$error":"#DIV/0!"},{"$error":"#DIV/0!"},{"$error":"#DIV/0!"},{"$error":"#DIV/0!"},{"$error":"#DIV/0!"},{"$error":"#DIV/0!"},{"$error":"#DIV/0!"},{"$error":"#DIV/0!"},{"$error":"#DIV/0!"},{"$error":"#DIV/0!"},0,0,{"$error":"#N/A"},{"$error":"#N/A"}]
[29,"2010-10-29",{"$error":"#DIV/0!"},{"$error":"#DIV/0!"},{"$error":"#DIV/0!"},{"$error":"#DIV/0!"},{"$error":"#DIV/0!"},{"$error":"#DIV/0!"},{"$error":"#DIV/0!"},{"$error":"#DIV/0!"},{"$error":"#DIV/0!"},{"$error":"#DIV/0!"},{"$error":"#DIV/0!"},{"$error":"#DIV/0!"},0,0,{"$error":"#N/A"},{"$error":"#N/A"}]
[30,"2010-10-30",{"$error":"#DIV/0!"},{"$error":"#DIV/0!"},{"$error":"#DIV/0!"},{"$error":"#DIV/0!"},{"$error":"#DIV/0!"},{"$error":"#DIV/0!"},{"$error":"#DIV/0!"},{"$error":"#DIV/0!"},{"$error":"#DIV/0!"},{"$error":"#DIV/0!"},{"$error":"#DIV/0!"},{"$error":"#DIV/0!"},0,0,{"$error":"#N/A"},{"$error":"#N/A"}]
[31,"2010-10-31",{"$error":"#DIV/0!"},{"$error":"#DIV/0!"},{"$error":"#DIV/0!"},{"$error":"#DIV/0!"},{"$error":"#DIV/0!"},{"$error":"#DIV/0!"},{"$error":"#DIV/0!"},{"$error":"#DIV/0!"},{"$error":"#DIV/0!"},{"$error":"#DIV/0!"},{"$error":"#DIV/0!"},{"$error":"#DIV/0!"},0,0,{"$error":"#N/A"},{"$error":"#N/A"}]
[1,"2010-11-01",{"$f":"C17","v":{"$error":"#DIV/0!"}},{"$f":"F17","v":{"$error":"#DIV/0!"}},{"$f":"D17","v":{"$error":"#DIV/0!"}},{"$f":"G17","v":{"$error":"#DIV/0!"}},{"$f":"E17","v":{"$error":"#DIV/0!"}},{"$f":"H17","v":{"$error":"#DIV/0!"}},{"$f":"I17","v":{"$error":"#DIV/0!"}},{"$f":"L17","v":{"$error":"#DIV/0!"}},{"$f":"J17","v":{"$error":"#DIV/0!"}},{"$f":"M17","v":{"$error":"#DIV/0!"}},{"$f":"K17","v":{"$error":"#DIV/0!"}},{"$f":"N17","v":{"$error":"#DIV/0!"}},{"$f":"+O17","v":0},{"$f":"+P17","v":0},{"$f":"+Q17","v":{"$error":"#N/A"}},{"$f":"+R17","v":{"$error":"#N/A"}}]
[2,"2010-11-02",{"$f":"C$329+((C$359-C$329)*($A330-1)/30)","v":{"$error":"#DIV/0!"}},{"$f":"D$329+((D$359-D$329)*($A330-1)/30)","v":{"$error":"#DIV/0!"}},{"$error":"#DIV/0!"},{"$error":"#DIV/0!"},{"$error":"#DIV/0!"},{"$error":"#DIV/0!"},{"$error":"#DIV/0!"},{"$error":"#DIV/0!"},{"$error":"#DIV/0!"},{"$error":"#DIV/0!"},{"$error":"#DIV/0!"},{"$error":"#DIV/0!"},{"$f":"O$329+((O$359-O$329)*($A330-1)/30)","v":0},{"$f":"P$329+((P$359-P$329)*($A330-1)/30)","v":0},{"$f":"Q$329+((Q$359-Q$329)*($A330-1)/30)","v":{"$error":"#N/A"}},{"$f":"R$329+((R$359-R$329)*($A330-1)/30)","v":{"$error":"#N/A"}}]
[3,"2010-11-03",{"$error":"#DIV/0!"},{"$error":"#DIV/0!"},{"$error":"#DIV/0!"},{"$error":"#DIV/0!"},{"$error":"#DIV/0!"},{"$error":"#DIV/0!"},{"$error":"#DIV/0!"},{"$error":"#DIV/0!"},{"$error":"#DIV/0!"},{"$error":"#DIV/0!"},{"$error":"#DIV/0!"},{"$error":"#DIV/0!"},0,0,{"$error":"#N/A"},{"$error":"#N/A"}]
[4,"2010-11-04",{"$error":"#DIV/0!"},{"$error":"#DIV/0!"},{"$error":"#DIV/0!"},{"$error":"#DIV/0!"},{"$error":"#DIV/0!"},{"$error":"#DIV/0!"},{"$error":"#DIV/0!"},{"$error":"#DIV/0!"},{"$error":"#DIV/0!"},{"$error":"#DIV/0!"},{"$error":"#DIV/0!"},{"$error":"#DIV/0!"},0,0,{"$error":"#N/A"},{"$error":"#N/A"}]
[5,"2010-11-05",{"$error":"#DIV/0!"},{"$error":"#DIV/0!"},{"$error":"#DIV/0!"},{"$error":"#DIV/0!"},{"$error":"#DIV/0!"},{"$error":"#DIV/0!"},{"$error":"#DIV/0!"},{"$error":"#DIV/0!"},{"$error":"#DIV/0!"},{"$error":"#DIV/0!"},{"$error":"#DIV/0!"},{"$error":"#DIV/0!"},0,0,{"$error":"#N/A"},{"$error":"#N/A"}]
[6,"2010-11-06",{"$error":"#DIV/0!"},{"$error":"#DIV/0!"},{"$error":"#DIV/0!"},{"$error":"#DIV/0!"},{"$error":"#DIV/0!"},{"$error":"#DIV/0!"},{"$error":"#DIV/0!"},{"$error":"#DIV/0!"},{"$error":"#DIV/0!"},{"$error":"#DIV/0!"},{"$error":"#DIV/0!"},{"$error":"#DIV/0!"},0,0,{"$error":"#N/A"},{"$error":"#N/A"}]
[7,"2010-11-07",{"$error":"#DIV/0!"},{"$error":"#DIV/0!"},{"$error":"#DIV/0!"},{"$error":"#DIV/0!"},{"$error":"#DIV/0!"},{"$error":"#DIV/0!"},{"$error":"#DIV/0!"},{"$error":"#DIV/0!"},{"$error":"#DIV/0!"},{"$error":"#DIV/0!"},{"$error":"#DIV/0!"},{"$error":"#DIV/0!"},0,0,{"$error":"#N/A"},{"$error":"#N/A"}]
[8,"2010-11-08",{"$error":"#DIV/0!"},{"$error":"#DIV/0!"},{"$error":"#DIV/0!"},{"$error":"#DIV/0!"},{"$error":"#DIV/0!"},{"$error":"#DIV/0!"},{"$error":"#DIV/0!"},{"$error":"#DIV/0!"},{"$error":"#DIV/0!"},{"$error":"#DIV/0!"},{"$error":"#DIV/0!"},{"$error":"#DIV/0!"},0,0,{"$error":"#N/A"},{"$error":"#N/A"}]
[9,"2010-11-09",{"$error":"#DIV/0!"},{"$error":"#DIV/0!"},{"$error":"#DIV/0!"},{"$error":"#DIV/0!"},{"$error":"#DIV/0!"},{"$error":"#DIV/0!"},{"$error":"#DIV/0!"},{"$error":"#DIV/0!"},{"$error":"#DIV/0!"},{"$error":"#DIV/0!"},{"$error":"#DIV/0!"},{"$error":"#DIV/0!"},0,0,{"$error":"#N/A"},{"$error":"#N/A"}]
[10,"2010-11-10",{"$error":"#DIV/0!"},{"$error":"#DIV/0!"},{"$error":"#DIV/0!"},{"$error":"#DIV/0!"},{"$error":"#DIV/0!"},{"$error":"#DIV/0!"},{"$error":"#DIV/0!"},{"$error":"#DIV/0!"},{"$error":"#DIV/0!"},{"$error":"#DIV/0!"},{"$error":"#DIV/0!"},{"$error":"#DIV/0!"},0,0,{"$error":"#N/A"},{"$error":"#N/A"}]
[11,"2010-11-11",{"$error":"#DIV/0!"},{"$error":"#DIV/0!"},{"$error":"#DIV/0!"},{"$error":"#DIV/0!"},{"$error":"#DIV/0!"},{"$error":"#DIV/0!"},{"$error":"#DIV/0!"},{"$error":"#DIV/0!"},{"$error":"#DIV/0!"},{"$error":"#DIV/0!"},{"$error":"#DIV/0!"},{"$error":"#DIV/0!"},0,0,{"$error":"#N/A"},{"$error":"#N/A"}]
[12,"2010-11-12",{"$error":"#DIV/0!"},{"$error":"#DIV/0!"},{"$error":"#DIV/0!"},{"$error":"#DIV/0!"},{"$error":"#DIV/0!"},{"$error":"#DIV/0!"},{"$error":"#DIV/0!"},{"$error":"#DIV/0!"},{"$error":"#DIV/0!"},{"$error":"#DIV/0!"},{"$error":"#DIV/0!"},{"$error":"#DIV/0!"},0,0,{"$error":"#N/A"},{"$error":"#N/A"}]
[13,"2010-11-13",{"$error":"#DIV/0!"},{"$error":"#DIV/0!"},{"$error":"#DIV/0!"},{"$error":"#DIV/0!"},{"$error":"#DIV/0!"},{"$error":"#DIV/0!"},{"$error":"#DIV/0!"},{"$error":"#DIV/0!"},{"$error":"#DIV/0!"},{"$error":"#DIV/0!"},{"$error":"#DIV/0!"},{"$error":"#DIV/0!"},0,0,{"$error":"#N/A"},{"$error":"#N/A"}]
[14,"2010-11-14",{"$error":"#DIV/0!"},{"$error":"#DIV/0!"},{"$error":"#DIV/0!"},{"$error":"#DIV/0!"},{"$error":"#DIV/0!"},{"$error":"#DIV/0!"},{"$error":"#DIV/0!"},{"$error":"#DIV/0!"},{"$error":"#DIV/0!"},{"$error":"#DIV/0!"},{"$error":"#DIV/0!"},{"$error":"#DIV/0!"},0,0,{"$error":"#N/A"},{"$error":"#N/A"}]
[15,"2010-11-15",{"$error":"#DIV/0!"},{"$error":"#DIV/0!"},{"$error":"#DIV/0!"},{"$error":"#DIV/0!"},{"$error":"#DIV/0!"},{"$error":"#DIV/0!"},{"$error":"#DIV/0!"},{"$error":"#DIV/0!"},{"$error":"#DIV/0!"},{"$error":"#DIV/0!"},{"$error":"#DIV/0!"},{"$error":"#DIV/0!"},0,0,{"$error":"#N/A"},{"$error":"#N/A"}]
[16,"2010-11-16",{"$error":"#DIV/0!"},{"$error":"#DIV/0!"},{"$error":"#DIV/0!"},{"$error":"#DIV/0!"},{"$error":"#DIV/0!"},{"$error":"#DIV/0!"},{"$error":"#DIV/0!"},{"$error":"#DIV/0!"},{"$error":"#DIV/0!"},{"$error":"#DIV/0!"},{"$error":"#DIV/0!"},{"$error":"#DIV/0!"},0,0,{"$error":"#N/A"},{"$error":"#N/A"}]
[17,"2010-11-17",{"$error":"#DIV/0!"},{"$error":"#DIV/0!"},{"$error":"#DIV/0!"},{"$error":"#DIV/0!"},{"$error":"#DIV/0!"},{"$error":"#DIV/0!"},{"$error":"#DIV/0!"},{"$error":"#DIV/0!"},{"$error":"#DIV/0!"},{"$error":"#DIV/0!"},{"$error":"#DIV/0!"},{"$error":"#DIV/0!"},0,0,{"$error":"#N/A"},{"$error":"#N/A"}]
[{"$f":"DAY(B346)","v":18},"2010-11-18",{"$error":"#DIV/0!"},{"$f":"D$329+((D$359-D$329)*($A346-1)/30)","v":{"$error":"#DIV/0!"}},{"$error":"#DIV/0!"},{"$error":"#DIV/0!"},{"$error":"#DIV/0!"},{"$error":"#DIV/0!"},{"$error":"#DIV/0!"},{"$error":"#DIV/0!"},{"$error":"#DIV/0!"},{"$error":"#DIV/0!"},{"$error":"#DIV/0!"},{"$error":"#DIV/0!"},0,0,{"$error":"#N/A"},{"$error":"#N/A"}]
[19,"2010-11-19",{"$error":"#DIV/0!"},{"$error":"#DIV/0!"},{"$error":"#DIV/0!"},{"$error":"#DIV/0!"},{"$error":"#DIV/0!"},{"$error":"#DIV/0!"},{"$error":"#DIV/0!"},{"$error":"#DIV/0!"},{"$error":"#DIV/0!"},{"$error":"#DIV/0!"},{"$error":"#DIV/0!"},{"$error":"#DIV/0!"},0,0,{"$error":"#N/A"},{"$error":"#N/A"}]
[20,"2010-11-20",{"$error":"#DIV/0!"},{"$error":"#DIV/0!"},{"$error":"#DIV/0!"},{"$error":"#DIV/0!"},{"$error":"#DIV/0!"},{"$error":"#DIV/0!"},{"$error":"#DIV/0!"},{"$error":"#DIV/0!"},{"$error":"#DIV/0!"},{"$error":"#DIV/0!"},{"$error":"#DIV/0!"},{"$error":"#DIV/0!"},0,0,{"$error":"#N/A"},{"$error":"#N/A"}]
[21,"2010-11-21",{"$error":"#DIV/0!"},{"$error":"#DIV/0!"},{"$error":"#DIV/0!"},{"$error":"#DIV/0!"},{"$error":"#DIV/0!"},{"$error":"#DIV/0!"},{"$error":"#DIV/0!"},{"$error":"#DIV/0!"},{"$error":"#DIV/0!"},{"$error":"#DIV/0!"},{"$error":"#DIV/0!"},{"$error":"#DIV/0!"},0,0,{"$error":"#N/A"},{"$error":"#N/A"}]
[22,"2010-11-22",{"$error":"#DIV/0!"},{"$error":"#DIV/0!"},{"$error":"#DIV/0!"},{"$error":"#DIV/0!"},{"$error":"#DIV/0!"},{"$error":"#DIV/0!"},{"$error":"#DIV/0!"},{"$error":"#DIV/0!"},{"$error":"#DIV/0!"},{"$error":"#DIV/0!"},{"$error":"#DIV/0!"},{"$error":"#DIV/0!"},0,0,{"$error":"#N/A"},{"$error":"#N/A"}]
[23,"2010-11-23",{"$error":"#DIV/0!"},{"$error":"#DIV/0!"},{"$error":"#DIV/0!"},{"$error":"#DIV/0!"},{"$error":"#DIV/0!"},{"$error":"#DIV/0!"},{"$error":"#DIV/0!"},{"$error":"#DIV/0!"},{"$error":"#DIV/0!"},{"$error":"#DIV/0!"},{"$error":"#DIV/0!"},{"$error":"#DIV/0!"},0,0,{"$error":"#N/A"},{"$error":"#N/A"}]
[24,"2010-11-24",{"$error":"#DIV/0!"},{"$error":"#DIV/0!"},{"$error":"#DIV/0!"},{"$error":"#DIV/0!"},{"$error":"#DIV/0!"},{"$error":"#DIV/0!"},{"$error":"#DIV/0!"},{"$error":"#DIV/0!"},{"$error":"#DIV/0!"},{"$error":"#DIV/0!"},{"$error":"#DIV/0!"},{"$error":"#DIV/0!"},0,0,{"$error":"#N/A"},{"$error":"#N/A"}]
[25,"2010-11-25",{"$error":"#DIV/0!"},{"$error":"#DIV/0!"},{"$error":"#DIV/0!"},{"$error":"#DIV/0!"},{"$error":"#DIV/0!"},{"$error":"#DIV/0!"},{"$error":"#DIV/0!"},{"$error":"#DIV/0!"},{"$error":"#DIV/0!"},{"$error":"#DIV/0!"},{"$error":"#DIV/0!"},{"$error":"#DIV/0!"},0,0,{"$error":"#N/A"},{"$error":"#N/A"}]
[26,"2010-11-26",{"$error":"#DIV/0!"},{"$error":"#DIV/0!"},{"$error":"#DIV/0!"},{"$error":"#DIV/0!"},{"$error":"#DIV/0!"},{"$error":"#DIV/0!"},{"$error":"#DIV/0!"},{"$error":"#DIV/0!"},{"$error":"#DIV/0!"},{"$error":"#DIV/0!"},{"$error":"#DIV/0!"},{"$error":"#DIV/0!"},0,0,{"$error":"#N/A"},{"$error":"#N/A"}]
[27,"2010-11-27",{"$error":"#DIV/0!"},{"$error":"#DIV/0!"},{"$error":"#DIV/0!"},{"$error":"#DIV/0!"},{"$error":"#DIV/0!"},{"$error":"#DIV/0!"},{"$error":"#DIV/0!"},{"$error":"#DIV/0!"},{"$error":"#DIV/0!"},{"$error":"#DIV/0!"},{"$error":"#DIV/0!"},{"$error":"#DIV/0!"},0,0,{"$error":"#N/A"},{"$error":"#N/A"}]
[28,"2010-11-28",{"$error":"#DIV/0!"},{"$error":"#DIV/0!"},{"$error":"#DIV/0!"},{"$error":"#DIV/0!"},{"$error":"#DIV/0!"},{"$error":"#DIV/0!"},{"$error":"#DIV/0!"},{"$error":"#DIV/0!"},{"$error":"#DIV/0!"},{"$error":"#DIV/0!"},{"$error":"#DIV/0!"},{"$error":"#DIV/0!"},0,0,{"$error":"#N/A"},{"$error":"#N/A"}]
[29,"2010-11-29",{"$error":"#DIV/0!"},{"$error":"#DIV/0!"},{"$error":"#DIV/0!"},{"$error":"#DIV/0!"},{"$error":"#DIV/0!"},{"$error":"#DIV/0!"},{"$error":"#DIV/0!"},{"$error":"#DIV/0!"},{"$error":"#DIV/0!"},{"$error":"#DIV/0!"},{"$error":"#DIV/0!"},{"$error":"#DIV/0!"},0,0,{"$error":"#N/A"},{"$error":"#N/A"}]
[30,"2010-11-30",{"$error":"#DIV/0!"},{"$error":"#DIV/0!"},{"$error":"#DIV/0!"},{"$error":"#DIV/0!"},{"$error":"#DIV/0!"},{"$error":"#DIV/0!"},{"$error":"#DIV/0!"},{"$error":"#DIV/0!"},{"$error":"#DIV/0!"},{"$error":"#DIV/0!"},{"$error":"#DIV/0!"},{"$error":"#DIV/0!"},0,0,{"$error":"#N/A"},{"$error":"#N/A"}]
[1,"2010-12-01",{"$f":"C18","v":{"$error":"#DIV/0!"}},{"$f":"F18","v":{"$error":"#DIV/0!"}},{"$f":"D18","v":{"$error":"#DIV/0!"}},{"$f":"G18","v":{"$error":"#DIV/0!"}},{"$f":"E18","v":{"$error":"#DIV/0!"}},{"$f":"H18","v":{"$error":"#DIV/0!"}},{"$f":"I18","v":{"$error":"#DIV/0!"}},{"$f":"L18","v":{"$error":"#DIV/0!"}},{"$f":"J18","v":{"$error":"#DIV/0!"}},{"$f":"M18","v":{"$error":"#DIV/0!"}},{"$f":"K18","v":{"$error":"#DIV/0!"}},{"$f":"N18","v":{"$error":"#DIV/0!"}},{"$f":"+O18","v":0},{"$f":"+P18","v":0},{"$f":"+Q18","v":{"$error":"#N/A"}},{"$f":"+R18","v":{"$error":"#N/A"}}]
[2,"2010-12-02",{"$f":"C$359+((C$25-C$359)*($A360-1)/31)","v":{"$error":"#DIV/0!"}},{"$error":"#DIV/0!"},{"$error":"#DIV/0!"},{"$error":"#DIV/0!"},{"$error":"#DIV/0!"},{"$error":"#DIV/0!"},{"$error":"#DIV/0!"},{"$error":"#DIV/0!"},{"$error":"#DIV/0!"},{"$error":"#DIV/0!"},{"$error":"#DIV/0!"},{"$error":"#DIV/0!"},{"$f":"O$359+((O$25-O$359)*($A360-1)/31)","v":0},{"$f":"P$359+((P$25-P$359)*($A360-1)/31)","v":0},{"$f":"Q$359+((Q$25-Q$359)*($A360-1)/31)","v":{"$error":"#N/A"}},{"$f":"R$359+((R$25-R$359)*($A360-1)/31)","v":{"$error":"#N/A"}}]
[3,"2010-12-03",{"$f":"C$359+((C$25-C$359)*($A361-1)/31)","v":{"$error":"#DIV/0!"}},{"$error":"#DIV/0!"},{"$error":"#DIV/0!"},{"$error":"#DIV/0!"},{"$error":"#DIV/0!"},{"$error":"#DIV/0!"},{"$error":"#DIV/0!"},{"$error":"#DIV/0!"},{"$error":"#DIV/0!"},{"$error":"#DIV/0!"},{"$error":"#DIV/0!"},{"$error":"#DIV/0!"},0,0,{"$error":"#N/A"},{"$error":"#N/A"}]
[4,"2010-12-04",{"$error":"#DIV/0!"},{"$error":"#DIV/0!"},{"$error":"#DIV/0!"},{"$error":"#DIV/0!"},{"$error":"#DIV/0!"},{"$error":"#DIV/0!"},{"$error":"#DIV/0!"},{"$error":"#DIV/0!"},{"$error":"#DIV/0!"},{"$error":"#DIV/0!"},{"$error":"#DIV/0!"},{"$error":"#DIV/0!"},0,0,{"$error":"#N/A"},{"$error":"#N/A"}]
[5,"2010-12-05",{"$error":"#DIV/0!"},{"$error":"#DIV/0!"},{"$error":"#DIV/0!"},{"$error":"#DIV/0!"},{"$error":"#DIV/0!"},{"$error":"#DIV/0!"},{"$error":"#DIV/0!"},{"$error":"#DIV/0!"},{"$error":"#DIV/0!"},{"$error":"#DIV/0!"},{"$error":"#DIV/0!"},{"$error":"#DIV/0!"},0,0,{"$error":"#N/A"},{"$error":"#N/A"}]
[6,"2010-12-06",{"$error":"#DIV/0!"},{"$error":"#DIV/0!"},{"$error":"#DIV/0!"},{"$error":"#DIV/0!"},{"$error":"#DIV/0!"},{"$error":"#DIV/0!"},{"$error":"#DIV/0!"},{"$error":"#DIV/0!"},{"$error":"#DIV/0!"},{"$error":"#DIV/0!"},{"$error":"#DIV/0!"},{"$error":"#DIV/0!"},0,0,{"$error":"#N/A"},{"$error":"#N/A"}]
[7,"2010-12-07",{"$error":"#DIV/0!"},{"$error":"#DIV/0!"},{"$error":"#DIV/0!"},{"$error":"#DIV/0!"},{"$error":"#DIV/0!"},{"$error":"#DIV/0!"},{"$error":"#DIV/0!"},{"$error":"#DIV/0!"},{"$error":"#DIV/0!"},{"$error":"#DIV/0!"},{"$error":"#DIV/0!"},{"$error":"#DIV/0!"},0,0,{"$error":"#N/A"},{"$error":"#N/A"}]
[8,"2010-12-08",{"$error":"#DIV/0!"},{"$error":"#DIV/0!"},{"$error":"#DIV/0!"},{"$error":"#DIV/0!"},{"$error":"#DIV/0!"},{"$error":"#DIV/0!"},{"$error":"#DIV/0!"},{"$error":"#DIV/0!"},{"$error":"#DIV/0!"},{"$error":"#DIV/0!"},{"$error":"#DIV/0!"},{"$error":"#DIV/0!"},0,0,{"$error":"#N/A"},{"$error":"#N/A"}]
[9,"2010-12-09",{"$error":"#DIV/0!"},{"$error":"#DIV/0!"},{"$error":"#DIV/0!"},{"$error":"#DIV/0!"},{"$error":"#DIV/0!"},{"$error":"#DIV/0!"},{"$error":"#DIV/0!"},{"$error":"#DIV/0!"},{"$error":"#DIV/0!"},{"$error":"#DIV/0!"},{"$error":"#DIV/0!"},{"$error":"#DIV/0!"},0,0,{"$error":"#N/A"},{"$error":"#N/A"}]
[10,"2010-12-10",{"$error":"#DIV/0!"},{"$error":"#DIV/0!"},{"$error":"#DIV/0!"},{"$error":"#DIV/0!"},{"$error":"#DIV/0!"},{"$error":"#DIV/0!"},{"$error":"#DIV/0!"},{"$error":"#DIV/0!"},{"$error":"#DIV/0!"},{"$error":"#DIV/0!"},{"$error":"#DIV/0!"},{"$error":"#DIV/0!"},0,0,{"$error":"#N/A"},{"$error":"#N/A"}]
[11,"2010-12-11",{"$error":"#DIV/0!"},{"$error":"#DIV/0!"},{"$error":"#DIV/0!"},{"$error":"#DIV/0!"},{"$error":"#DIV/0!"},{"$error":"#DIV/0!"},{"$error":"#DIV/0!"},{"$error":"#DIV/0!"},{"$error":"#DIV/0!"},{"$error":"#DIV/0!"},{"$error":"#DIV/0!"},{"$error":"#DIV/0!"},0,0,{"$error":"#N/A"},{"$error":"#N/A"}]
[12,"2010-12-12",{"$error":"#DIV/0!"},{"$error":"#DIV/0!"},{"$error":"#DIV/0!"},{"$error":"#DIV/0!"},{"$error":"#DIV/0!"},{"$error":"#DIV/0!"},{"$error":"#DIV/0!"},{"$error":"#DIV/0!"},{"$error":"#DIV/0!"},{"$error":"#DIV/0!"},{"$error":"#DIV/0!"},{"$error":"#DIV/0!"},0,0,{"$error":"#N/A"},{"$error":"#N/A"}]
[13,"2010-12-13",{"$error":"#DIV/0!"},{"$error":"#DIV/0!"},{"$error":"#DIV/0!"},{"$error":"#DIV/0!"},{"$error":"#DIV/0!"},{"$error":"#DIV/0!"},{"$error":"#DIV/0!"},{"$error":"#DIV/0!"},{"$error":"#DIV/0!"},{"$error":"#DIV/0!"},{"$error":"#DIV/0!"},{"$error":"#DIV/0!"},0,0,{"$error":"#N/A"},{"$error":"#N/A"}]
[14,"2010-12-14",{"$error":"#DIV/0!"},{"$error":"#DIV/0!"},{"$error":"#DIV/0!"},{"$error":"#DIV/0!"},{"$error":"#DIV/0!"},{"$error":"#DIV/0!"},{"$error":"#DIV/0!"},{"$error":"#DIV/0!"},{"$error":"#DIV/0!"},{"$error":"#DIV/0!"},{"$error":"#DIV/0!"},{"$error":"#DIV/0!"},0,0,{"$error":"#N/A"},{"$error":"#N/A"}]
[15,"2010-12-15",{"$error":"#DIV/0!"},{"$error":"#DIV/0!"},{"$error":"#DIV/0!"},{"$error":"#DIV/0!"},{"$error":"#DIV/0!"},{"$error":"#DIV/0!"},{"$error":"#DIV/0!"},{"$error":"#DIV/0!"},{"$error":"#DIV/0!"},{"$error":"#DIV/0!"},{"$error":"#DIV/0!"},{"$error":"#DIV/0!"},0,0,{"$error":"#N/A"},{"$error":"#N/A"}]
[16,"2010-12-16",{"$error":"#DIV/0!"},{"$error":"#DIV/0!"},{"$error":"#DIV/0!"},{"$error":"#DIV/0!"},{"$error":"#DIV/0!"},{"$error":"#DIV/0!"},{"$error":"#DIV/0!"},{"$error":"#DIV/0!"},{"$error":"#DIV/0!"},{"$error":"#DIV/0!"},{"$error":"#DIV/0!"},{"$error":"#DIV/0!"},0,0,{"$error":"#N/A"},{"$error":"#N/A"}]
[17,"2010-12-17",{"$error":"#DIV/0!"},{"$error":"#DIV/0!"},{"$error":"#DIV/0!"},{"$error":"#DIV/0!"},{"$error":"#DIV/0!"},{"$error":"#DIV/0!"},{"$error":"#DIV/0!"},{"$error":"#DIV/0!"},{"$error":"#DIV/0!"},{"$error":"#DIV/0!"},{"$error":"#DIV/0!"},{"$error":"#DIV/0!"},0,0,{"$error":"#N/A"},{"$error":"#N/A"}]
[18,"2010-12-18",{"$error":"#DIV/0!"},{"$error":"#DIV/0!"},{"$error":"#DIV/0!"},{"$error":"#DIV/0!"},{"$error":"#DIV/0!"},{"$error":"#DIV/0!"},{"$f":"I$359+((I$25-I$359)*($A376-1)/31)","v":{"$error":"#DIV/0!"}},{"$error":"#DIV/0!"},{"$error":"#DIV/0!"},{"$error":"#DIV/0!"},{"$error":"#DIV/0!"},{"$error":"#DIV/0!"},0,0,{"$error":"#N/A"},{"$error":"#N/A"}]
[19,"2010-12-19",{"$error":"#DIV/0!"},{"$error":"#DIV/0!"},{"$error":"#DIV/0!"},{"$error":"#DIV/0!"},{"$error":"#DIV/0!"},{"$error":"#DIV/0!"},{"$error":"#DIV/0!"},{"$error":"#DIV/0!"},{"$error":"#DIV/0!"},{"$error":"#DIV/0!"},{"$error":"#DIV/0!"},{"$error":"#DIV/0!"},0,0,{"$error":"#N/A"},{"$error":"#N/A"}]
[20,"2010-12-20",{"$error":"#DIV/0!"},{"$error":"#DIV/0!"},{"$error":"#DIV/0!"},{"$error":"#DIV/0!"},{"$error":"#DIV/0!"},{"$error":"#DIV/0!"},{"$error":"#DIV/0!"},{"$error":"#DIV/0!"},{"$error":"#DIV/0!"},{"$error":"#DIV/0!"},{"$error":"#DIV/0!"},{"$error":"#DIV/0!"},0,0,{"$error":"#N/A"},{"$error":"#N/A"}]
[21,"2010-12-21",{"$error":"#DIV/0!"},{"$error":"#DIV/0!"},{"$error":"#DIV/0!"},{"$error":"#DIV/0!"},{"$error":"#DIV/0!"},{"$error":"#DIV/0!"},{"$error":"#DIV/0!"},{"$error":"#DIV/0!"},{"$error":"#DIV/0!"},{"$error":"#DIV/0!"},{"$error":"#DIV/0!"},{"$error":"#DIV/0!"},0,0,{"$error":"#N/A"},{"$error":"#N/A"}]
[22,"2010-12-22",{"$error":"#DIV/0!"},{"$error":"#DIV/0!"},{"$error":"#DIV/0!"},{"$error":"#DIV/0!"},{"$error":"#DIV/0!"},{"$error":"#DIV/0!"},{"$error":"#DIV/0!"},{"$error":"#DIV/0!"},{"$error":"#DIV/0!"},{"$error":"#DIV/0!"},{"$error":"#DIV/0!"},{"$error":"#DIV/0!"},0,0,{"$error":"#N/A"},{"$error":"#N/A"}]
[23,"2010-12-23",{"$error":"#DIV/0!"},{"$error":"#DIV/0!"},{"$error":"#DIV/0!"},{"$error":"#DIV/0!"},{"$error":"#DIV/0!"},{"$error":"#DIV/0!"},{"$error":"#DIV/0!"},{"$error":"#DIV/0!"},{"$error":"#DIV/0!"},{"$error":"#DIV/0!"},{"$error":"#DIV/0!"},{"$error":"#DIV/0!"},0,0,{"$error":"#N/A"},{"$error":"#N/A"}]
[24,"2010-12-24",{"$error":"#DIV/0!"},{"$error":"#DIV/0!"},{"$error":"#DIV/0!"},{"$error":"#DIV/0!"},{"$error":"#DIV/0!"},{"$error":"#DIV/0!"},{"$error":"#DIV/0!"},{"$error":"#DIV/0!"},{"$error":"#DIV/0!"},{"$error":"#DIV/0!"},{"$error":"#DIV/0!"},{"$error":"#DIV/0!"},0,0,{"$error":"#N/A"},{"$error":"#N/A"}]
[25,"2010-12-25",{"$error":"#DIV/0!"},{"$error":"#DIV/0!"},{"$error":"#DIV/0!"},{"$error":"#DIV/0!"},{"$error":"#DIV/0!"},{"$error":"#DIV/0!"},{"$error":"#DIV/0!"},{"$error":"#DIV/0!"},{"$error":"#DIV/0!"},{"$error":"#DIV/0!"},{"$error":"#DIV/0!"},{"$error":"#DIV/0!"},0,0,{"$error":"#N/A"},{"$error":"#N/A"}]
[26,"2010-12-26",{"$error":"#DIV/0!"},{"$error":"#DIV/0!"},{"$error":"#DIV/0!"},{"$error":"#DIV/0!"},{"$error":"#DIV/0!"},{"$error":"#DIV/0!"},{"$error":"#DIV/0!"},{"$error":"#DIV/0!"},{"$error":"#DIV/0!"},{"$error":"#DIV/0!"},{"$error":"#DIV/0!"},{"$error":"#DIV/0!"},0,0,{"$error":"#N/A"},{"$error":"#N/A"}]
[27,"2010-12-27",{"$error":"#DIV/0!"},{"$error":"#DIV/0!"},{"$error":"#DIV/0!"},{"$error":"#DIV/0!"},{"$error":"#DIV/0!"},{"$error":"#DIV/0!"},{"$error":"#DIV/0!"},{"$error":"#DIV/0!"},{"$error":"#DIV/0!"},{"$error":"#DIV/0!"},{"$error":"#DIV/0!"},{"$error":"#DIV/0!"},0,0,{"$error":"#N/A"},{"$error":"#N/A"}]
[28,"2010-12-28",{"$error":"#DIV/0!"},{"$error":"#DIV/0!"},{"$error":"#DIV/0!"},{"$error":"#DIV/0!"},{"$error":"#DIV/0!"},{"$error":"#DIV/0!"},{"$error":"#DIV/0!"},{"$error":"#DIV/0!"},{"$error":"#DIV/0!"},{"$error":"#DIV/0!"},{"$error":"#DIV/0!"},{"$error":"#DIV/0!"},0,0,{"$error":"#N/A"},{"$error":"#N/A"}]
[29,"2010-12-29",{"$error":"#DIV/0!"},{"$error":"#DIV/0!"},{"$error":"#DIV/0!"},{"$error":"#DIV/0!"},{"$error":"#DIV/0!"},{"$error":"#DIV/0!"},{"$error":"#DIV/0!"},{"$error":"#DIV/0!"},{"$error":"#DIV/0!"},{"$error":"#DIV/0!"},{"$error":"#DIV/0!"},{"$error":"#DIV/0!"},0,0,{"$error":"#N/A"},{"$error":"#N/A"}]
[30,"2010-12-30",{"$error":"#DIV/0!"},{"$error":"#DIV/0!"},{"$error":"#DIV/0!"},{"$error":"#DIV/0!"},{"$error":"#DIV/0!"},{"$error":"#DIV/0!"},{"$error":"#DIV/0!"},{"$error":"#DIV/0!"},{"$error":"#DIV/0!"},{"$error":"#DIV/0!"},{"$error":"#DIV/0!"},{"$error":"#DIV/0!"},0,0,{"$error":"#N/A"},{"$error":"#N/A"}]
[31,"2010-12-31",{"$error":"#DIV/0!"},{"$error":"#DIV/0!"},{"$error":"#DIV/0!"},{"$error":"#DIV/0!"},{"$error":"#DIV/0!"},{"$error":"#DIV/0!"},{"$error":"#DIV/0!"},{"$error":"#DIV/0!"},{"$error":"#DIV/0!"},{"$error":"#DIV/0!"},{"$error":"#DIV/0!"},{"$error":"#DIV/0!"},{"$f":"+O19","v":0},{"$f":"+P19","v":0},{"$f":"+Q19","v":{"$error":"#N/A"}},{"$f":"+R19","v":{"$error":"#N/A"}}]

{"sheet":"Hec3","index":24,"n_rows":40,"n_cols":176,"rows_kept":40,"cut":false,"hidden":false,"merged":[[11,88,12,88],[2,105,3,105],[3,88,4,88],[5,88,6,88],[7,88,8,88],[9,88,10,88],[1,88,2,88]]}
[null,null,null,null,null,null,null,null,null,null,null,null,null,null,null,null,null,null,null,null,null,null,null,null,null,null,null,null,null,null,null,null,null,null,null,null,null,null,null,null,null,null,null,null,null,null,null,null,null,null,null,null,null,null,null,null,null,null,null,null,null,null,null,null,null,null,null,null,null,null,null,null,null,null,null,null,null,null,null,null,null,null,null,null,null,null,null,null,null,null,"ม.ค.","ก.พ.","มี.ค.","เม.ย.","พ.ค.","มิ.ย.","ก.ค.","ส.ค.","ก.ย.","ต.ค.","พ.ย.","ธ.ค.",null,null,null,"ขั้นตอนที่ 3 ทำการป้อนค่าเกณฑ์การควบคุม",null,null,null,null,null,null,null,null,null,null,null,null,null,null,null,"ขั้นตอนที่  4 ตรวจสอบสภาพน้ำที่ระบายเมื่อเกินระดับเก็บกักปกติ",null,null,null,null,null,null,null,null,null,null,null,null,null,null,null,null,null,null,null,null,null,null,null,"ขั้นตอนที่  5  ตรวจสอบสภาพการขาดแคลนน้ำ"]
[null,null,null,null,null,null,null,null,null,null,null,null,null,null,null,null,null,null,null,null,null,null,null,null,null,null,null,null,null,null,null,null,null,null,null,null,null,null,null,null,null,null,null,null,null,null,null,null,null,null,null,null,null,null,null,null,null,null,null,null,null,null,null,null,null,null,null,null,null,null,null,null,null,null,null,null,null,null,null,null,null,null,null,null,null,null,null,null,"Case","NST.",{"$f":"+NRI!P2","v":0},{"$f":"+CM2","v":0},{"$f":"+CN2","v":0},0,0,0,0,0,0,0,0,0,null,null,null,null,null,"ม.ค.","ก.พ.","มี.ค.","เม.ย.","พ.ค.","มิ.ย.","ก.ค.","ส.ค.","ก.ย.","ต.ค.","พ.ย.","ธ.ค."]
[null,null,null,null,null,null,null,null,null,null,null,null,null,null,null,null,null,null,null,null,null,null,null,null,null,null,null,null,null,null,null,null,null,null,null,null,null,null,null,null,null,null,null,null,null,null,null,null,null,null,null,null,null,null,null,null,null,null,null,null,null,null,null,null,null,null,null,null,null,null,null,null,null,null,null,null,null,null,null,null,null,null,null,null,null,null,null,null,null,"DST",{"$f":"+NRI!P3","v":0},{"$f":"+CM3","v":0},0,0,0,0,0,0,0,0,0,0,null,null,null,5,"URC Adj"]
[null,null,null,null,null,null,null,null,null,null,null,null,null,null,null,null,null,null,null,null,null,null,null,null,null,null,null,null,null,null,null,null,null,null,null,null,null,null,null,null,null,null,null,null,null,null,null,null,null,null,null,null,null,null,null,null,null,null,null,null,null,null,null,null,null,null,null,null,null,null,null,null,null,null,null,null,null,null,null,null,null,null,null,null,null,null,null,null,1,"URC POP 5%",{"$f":"OFFSET('Rule Curve'!$C$6,COLUMNS($A:A),0,1,1)","v":{"$error":"#DIV/0!"}},{"$f":"OFFSET('Rule Curve'!$C$6,COLUMNS($A:B),0,1,1)","v":{"$error":"#DIV/0!"}},{"$f":"OFFSET('Rule Curve'!$C$6,COLUMNS($A:C),0,1,1)","v":{"$error":"#DIV/0!"}},{"$f":"OFFSET('Rule Curve'!$C$6,COLUMNS($A:D),0,1,1)","v":{"$error":"#DIV/0!"}},{"$f":"OFFSET('Rule Curve'!$C$6,COLUMNS($A:E),0,1,1)","v":{"$error":"#DIV/0!"}},{"$f":"OFFSET('Rule Curve'!$C$6,COLUMNS($A:F),0,1,1)","v":{"$error":"#DIV/0!"}},{"$f":"OFFSET('Rule Curve'!$C$6,COLUMNS($A:G),0,1,1)","v":{"$error":"#DIV/0!"}},{"$f":"OFFSET('Rule Curve'!$C$6,COLUMNS($A:H),0,1,1)","v":{"$error":"#DIV/0!"}},{"$f":"OFFSET('Rule Curve'!$C$6,COLUMNS($A:I),0,1,1)","v":{"$error":"#DIV/0!"}},{"$f":"OFFSET('Rule Curve'!$C$6,COLUMNS($A:J),0,1,1)","v":{"$error":"#DIV/0!"}},{"$f":"OFFSET('Rule Curve'!$C$6,COLUMNS($A:K),0,1,1)","v":{"$error":"#DIV/0!"}},{"$f":"OFFSET('Rule Curve'!$C$6,COLUMNS($A:L),0,1,1)","v":{"$error":"#DIV/0!"}},null,null,null,null,"LRC Adj",null,null,null,null,null,null,null,null,null,null,null,null,null,null,{"$f":"175-12","v":163}]
["ขั้นตอนที่ 1 ป้อนข้อมูลน้ำไหลลงอ่างรายเดือน",null,null,null,null,null,null,null,null,null,null,null,null,null,null,null,null,null,null,null,null,null,null,null,null,null,null,null,null,null,null,null,null,null,null,null,null,null,null,null,null,null,null,null,null,null,null,null,null,null,null,"ขั้นตอนที่ 2 ป้อนข้อมูลความต้องการใช้น้ำจากอ่าง",null,null,null,null,null,null,null,null,null,null,null,null,null,null,null,null,null,null,null,null,null,null,null,null,null,null,null,null,null,null,null,null,null,null,null,null,null,"LRC POP 5%",{"$f":"OFFSET('Rule Curve'!$F$6,COLUMNS($A:A),0,1,1)","v":{"$error":"#DIV/0!"}},{"$f":"OFFSET('Rule Curve'!$F$6,COLUMNS($A:B),0,1,1)","v":{"$error":"#DIV/0!"}},{"$f":"OFFSET('Rule Curve'!$F$6,COLUMNS($A:C),0,1,1)","v":{"$error":"#DIV/0!"}},{"$f":"OFFSET('Rule Curve'!$F$6,COLUMNS($A:D),0,1,1)","v":{"$error":"#DIV/0!"}},{"$f":"OFFSET('Rule Curve'!$F$6,COLUMNS($A:E),0,1,1)","v":{"$error":"#DIV/0!"}},{"$f":"OFFSET('Rule Curve'!$F$6,COLUMNS($A:F),0,1,1)","v":{"$error":"#DIV/0!"}},{"$f":"OFFSET('Rule Curve'!$F$6,COLUMNS($A:G),0,1,1)","v":{"$error":"#DIV/0!"}},{"$f":"OFFSET('Rule Curve'!$F$6,COLUMNS($A:H),0,1,1)","v":{"$error":"#DIV/0!"}},{"$f":"OFFSET('Rule Curve'!$F$6,COLUMNS($A:I),0,1,1)","v":{"$error":"#DIV/0!"}},{"$f":"OFFSET('Rule Curve'!$F$6,COLUMNS($A:J),0,1,1)","v":{"$error":"#DIV/0!"}},{"$f":"OFFSET('Rule Curve'!$F$6,COLUMNS($A:K),0,1,1)","v":{"$error":"#DIV/0!"}},{"$f":"OFFSET('Rule Curve'!$F$6,COLUMNS($A:L),0,1,1)","v":{"$error":"#DIV/0!"}},null,null,null,"start",{"$f":"+CM2*0.95","v":0},null,null,"น้ำล้น",{"$f":"COUNTIF(EE8:EE44,\">0.01\")","v":0},"ปี","น้ำขาด",{"$f":"COUNTIF(FT8:FT44,\">0.1\")","v":0},"ปี","ขาดรวม",{"$f":"SUM(FT8:FT44)","v":0},"ล้าน"]
[null,null,null,null,null,null,null,null,null,null,null,null,null,"mcm",null,null,null,null,null,null,"evap(อ่างฯ)",null,null,null,null,null,null,null,null,null,null,null,null,"mcm",null,"rain",null,null,null,null,null,null,null,null,null,null,null,null,"mcm",null,null,"Sum Demand from WUSMO",null,null,null,null,null,null,null,null,null,null,null,null,"mcm",null,null,null,null,"sum",null,null,null,null,null,null,null,null,null,null,null,null,null,null,null,null,null,null,2,"URC POP 15%",{"$f":"OFFSET('Rule Curve'!$E$6,COLUMNS($A:A),0,1,1)","v":{"$error":"#DIV/0!"}},{"$f":"OFFSET('Rule Curve'!$E$6,COLUMNS($A:B),0,1,1)","v":{"$error":"#DIV/0!"}},{"$f":"OFFSET('Rule Curve'!$E$6,COLUMNS($A:C),0,1,1)","v":{"$error":"#DIV/0!"}},{"$f":"OFFSET('Rule Curve'!$E$6,COLUMNS($A:D),0,1,1)","v":{"$error":"#DIV/0!"}},{"$f":"OFFSET('Rule Curve'!$E$6,COLUMNS($A:E),0,1,1)","v":{"$error":"#DIV/0!"}},{"$f":"OFFSET('Rule Curve'!$E$6,COLUMNS($A:F),0,1,1)","v":{"$error":"#DIV/0!"}},{"$f":"OFFSET('Rule Curve'!$E$6,COLUMNS($A:G),0,1,1)","v":{"$error":"#DIV/0!"}},{"$f":"OFFSET('Rule Curve'!$E$6,COLUMNS($A:H),0,1,1)","v":{"$error":"#DIV/0!"}},{"$f":"OFFSET('Rule Curve'!$E$6,COLUMNS($A:I),0,1,1)","v":{"$error":"#DIV/0!"}},{"$f":"OFFSET('Rule Curve'!$E$6,COLUMNS($A:J),0,1,1)","v":{"$error":"#DIV/0!"}},{"$f":"OFFSET('Rule Curve'!$E$6,COLUMNS($A:K),0,1,1)","v":{"$error":"#DIV/0!"}},{"$f":"OFFSET('Rule Curve'!$E$6,COLUMNS($A:L),0,1,1)","v":{"$error":"#DIV/0!"}},null,null,null,"Case",1,{"$f":"CHOOSE(DC6,\"POP5%\",\"POP15%\",\"VAR\",\"RID\",\"Adj.\")","v":"POP5%"},null,null,{"$f":"DG5/COUNT(EE8:EE44)*100","v":{"$error":"#DIV/0!"}},"<10%",null,{"$f":"DJ5/COUNT(EE8:EE44)*100","v":{"$error":"#DIV/0!"}},"<20%",null,null,null,null,"mcm",null,null,"spill (น้ำส่วนที่เกินความจุที่ รนก.)",null,null,null,null,null,null,null,null,null,null,"mcm",null,null,null,null,null,null,null,null,null,null,null,null,"ปริมาณน้ำระบายจากอ่างเก็บน้ำ",null,null,null,null,null,null,null,null,null,null,null,null,null,null,null,null,"ปริมาณน้ำที่ขาดเมื่อเทียบกับความต้องการ( ต้องการ > ส่ง )  "]
[null,null,"ม.ค.","ก.พ.","มี.ค.","เม.ย.","พ.ค.","มิ.ย.","ก.ค.","ส.ค.","ก.ย.","ต.ค.","พ.ย.","ธ.ค.",null,null,"แล้ง","ฝน","SUM",null,null,null,"jan","feb","mar","apr","may","jun","jul","aug","sep","oct","nov","dec",null,null,null,"jan","feb","mar","apr","may","jun","jul","aug","sep","oct","nov","dec",null,null,null,null,"jan","feb","mar","apr","may","jun","jul","aug","sep","oct","nov","dec",null,null,"แล้ง","ฝน",null,null,null,"รวมความต้องการน้ำ","jan","feb","mar","apr","may","jun","jul","aug","sep","oct","nov","dec","sum","mcm",null,null,"LRC POP 15%",{"$f":"OFFSET('Rule Curve'!$H$6,COLUMNS($A:A),0,1,1)","v":{"$error":"#DIV/0!"}},{"$f":"OFFSET('Rule Curve'!$H$6,COLUMNS($A:B),0,1,1)","v":{"$error":"#DIV/0!"}},{"$f":"OFFSET('Rule Curve'!$H$6,COLUMNS($A:C),0,1,1)","v":{"$error":"#DIV/0!"}},{"$f":"OFFSET('Rule Curve'!$H$6,COLUMNS($A:D),0,1,1)","v":{"$error":"#DIV/0!"}},{"$f":"OFFSET('Rule Curve'!$H$6,COLUMNS($A:E),0,1,1)","v":{"$error":"#DIV/0!"}},{"$f":"OFFSET('Rule Curve'!$H$6,COLUMNS($A:F),0,1,1)","v":{"$error":"#DIV/0!"}},{"$f":"OFFSET('Rule Curve'!$H$6,COLUMNS($A:G),0,1,1)","v":{"$error":"#DIV/0!"}},{"$f":"OFFSET('Rule Curve'!$H$6,COLUMNS($A:H),0,1,1)","v":{"$error":"#DIV/0!"}},{"$f":"OFFSET('Rule Curve'!$H$6,COLUMNS($A:I),0,1,1)","v":{"$error":"#DIV/0!"}},{"$f":"OFFSET('Rule Curve'!$H$6,COLUMNS($A:J),0,1,1)","v":{"$error":"#DIV/0!"}},{"$f":"OFFSET('Rule Curve'!$H$6,COLUMNS($A:K),0,1,1)","v":{"$error":"#DIV/0!"}},{"$f":"OFFSET('Rule Curve'!$H$6,COLUMNS($A:L),0,1,1)","v":{"$error":"#DIV/0!"}},null,null,null,null,null,"ม.ค.","ก.พ.","มี.ค.","เม.ย.","พ.ค.","มิ.ย.","ก.ค.","ส.ค.","ก.ย.","ต.ค.","พ.ย.","ธ.ค.",null,null,null,"ม.ค.","ก.พ.","มี.ค.","เม.ย.","พ.ค.","มิ.ย.","ก.ค.","ส.ค.","ก.ย.","ต.ค.","พ.ย.","ธ.ค.","รวม",null,null,null,null,null,null,null,null,null,null,null,null,"ม.ค.","ก.พ.","มี.ค.","เม.ย.","พ.ค.","มิ.ย.","ก.ค.","ส.ค.","ก.ย.","ต.ค.","พ.ย.","ธ.ค.",null,null,null,null,"ม.ค.","ก.พ.","มี.ค.","เม.ย.","พ.ค.","มิ.ย.","ก.ค.","ส.ค.","ก.ย.","ต.ค.","พ.ย.","ธ.ค.","รวม"]
[2529,1986,null,null,null,null,null,null,null,null,null,null,null,null,null,null,{"$f":"SUM(C8:H8)","v":0},{"$f":"SUM(I8:N8)","v":0},{"$f":"SUM(C8:N8)","v":0},null,{"$f":"A8","v":2529},1986,null,null,null,null,null,null,null,null,null,null,null,null,null,{"$f":"U8","v":2529},1986,null,null,null,null,null,null,null,null,null,null,null,null,null,null,2529,1986,null,null,null,null,null,null,null,null,null,null,null,null,null,null,{"$f":"SUM(BB8:BG8)","v":0},{"$f":"SUM(BH8:BM8)","v":0},{"$f":"SUM(BB8:BM8)","v":0},null,{"$f":"543+BU8","v":2529},{"$f":"BA8","v":1986},{"$f":"W8+AL8+BB8","v":0},0,0,0,0,0,0,0,0,0,0,0,{"$f":"SUM(BV8:CG8)","v":0},null,null,3,"URC VAR",{"$f":"OFFSET('URC VAR'!$I$3,COLUMNS($A:A),0,1,1)","v":{"$error":"#DIV/0!"}},{"$f":"OFFSET('URC VAR'!$I$3,COLUMNS($A:B),0,1,1)","v":{"$error":"#DIV/0!"}},{"$f":"OFFSET('URC VAR'!$I$3,COLUMNS($A:C),0,1,1)","v":{"$error":"#DIV/0!"}},{"$f":"OFFSET('URC VAR'!$I$3,COLUMNS($A:D),0,1,1)","v":{"$error":"#DIV/0!"}},{"$f":"OFFSET('URC VAR'!$I$3,COLUMNS($A:E),0,1,1)","v":{"$error":"#DIV/0!"}},{"$f":"OFFSET('URC VAR'!$I$3,COLUMNS($A:F),0,1,1)","v":{"$error":"#DIV/0!"}},{"$f":"OFFSET('URC VAR'!$I$3,COLUMNS($A:G),0,1,1)","v":{"$error":"#DIV/0!"}},{"$f":"OFFSET('URC VAR'!$I$3,COLUMNS($A:H),0,1,1)","v":{"$error":"#DIV/0!"}},{"$f":"OFFSET('URC VAR'!$I$3,COLUMNS($A:I),0,1,1)","v":{"$error":"#DIV/0!"}},{"$f":"OFFSET('URC VAR'!$I$3,COLUMNS($A:J),0,1,1)","v":{"$error":"#DIV/0!"}},{"$f":"OFFSET('URC VAR'!$I$3,COLUMNS($A:K),0,1,1)","v":{"$error":"#DIV/0!"}},{"$f":"OFFSET('URC VAR'!$I$3,COLUMNS($A:L),0,1,1)","v":0},null,null,null,{"$f":"543+DC8","v":2529},{"$f":"BU8","v":1986},{"$f":"IF(IF(DC5+C8-BV8>CM$12,CM$12,DC5+C8-BV8)<CM$13,CM$13,IF(DC5+C8-BV8>CM$12,CM$12,DC5+C8-BV8))","v":{"$error":"#DIV/0!"}},{"$f":"IF(IF(DD8+D8-BW8>CN$12,CN$12,DD8+D8-BW8)<CN$13,CN$13,IF(DD8+D8-BW8>CN$12,CN$12,DD8+D8-BW8))","v":{"$error":"#DIV/0!"}},{"$f":"IF(IF(DE8+E8-BX8>CO$12,CO$12,DE8+E8-BX8)<CO$13,CO$13,IF(DE8+E8-BX8>CO$12,CO$12,DE8+E8-BX8))","v":{"$error":"#DIV/0!"}},{"$f":"IF(IF(DF8+F8-BY8>CP$12,CP$12,DF8+F8-BY8)<CP$13,CP$13,IF(DF8+F8-BY8>CP$12,CP$12,DF8+F8-BY8))","v":{"$error":"#DIV/0!"}},{"$f":"IF(IF(DG8+G8-BZ8>CQ$12,CQ$12,DG8+G8-BZ8)<CQ$13,CQ$13,IF(DG8+G8-BZ8>CQ$12,CQ$12,DG8+G8-BZ8))","v":{"$error":"#DIV/0!"}},{"$f":"IF(IF(DH8+H8-CA8>CR$12,CR$12,DH8+H8-CA8)<CR$13,CR$13,IF(DH8+H8-CA8>CR$12,CR$12,DH8+H8-CA8))","v":{"$error":"#DIV/0!"}},{"$f":"IF(IF(DI8+I8-CB8>CS$12,CS$12,DI8+I8-CB8)<CS$13,CS$13,IF(DI8+I8-CB8>CS$12,CS$12,DI8+I8-CB8))","v":{"$error":"#DIV/0!"}},{"$f":"IF(IF(DJ8+J8-CC8>CT$12,CT$12,DJ8+J8-CC8)<CT$13,CT$13,IF(DJ8+J8-CC8>CT$12,CT$12,DJ8+J8-CC8))","v":{"$error":"#DIV/0!"}},{"$f":"IF(IF(DK8+K8-CD8>CU$12,CU$12,DK8+K8-CD8)<CU$13,CU$13,IF(DK8+K8-CD8>CU$12,CU$12,DK8+K8-CD8))","v":{"$error":"#DIV/0!"}},{"$f":"IF(IF(DL8+L8-CE8>CV$12,CV$12,DL8+L8-CE8)<CV$13,CV$13,IF(DL8+L8-CE8>CV$12,CV$12,DL8+L8-CE8))","v":{"$error":"#DIV/0!"}},{"$f":"IF(IF(DM8+M8-CF8>CW$12,CW$12,DM8+M8-CF8)<CW$13,CW$13,IF(DM8+M8-CF8>CW$12,CW$12,DM8+M8-CF8))","v":{"$error":"#DIV/0!"}},{"$f":"IF(IF(DN8+N8-CG8>CX$12,CX$12,DN8+N8-CG8)<CX$13,CX$13,IF(DN8+N8-CG8>CX$12,CX$12,DN8+N8-CG8))","v":{"$error":"#DIV/0!"}},null,null,null,{"$f":"IF(DD8=CM$2,DC8+C8-BV8-CM$2,0)","v":{"$error":"#DIV/0!"}},{"$error":"#DIV/0!"},{"$error":"#DIV/0!"},{"$error":"#DIV/0!"},{"$error":"#DIV/0!"},{"$error":"#DIV/0!"},{"$error":"#DIV/0!"},{"$error":"#DIV/0!"},{"$error":"#DIV/0!"},{"$error":"#DIV/0!"},{"$error":"#DIV/0!"},{"$error":"#DIV/0!"},{"$f":"IF(C8=\"\",\"\",SUM(DS8:ED8))","v":""},null,null,null,null,null,null,null,null,null,null,{"$f":"543+EQ8","v":2529},{"$f":"DC8","v":1986},{"$f":"IF(DC5+C8-DD8<0,0,DC5+C8-DD8)","v":{"$error":"#DIV/0!"}},{"$f":"IF(DD8+D8-DE8<0,0,DD8+D8-DE8)","v":{"$error":"#DIV/0!"}},{"$f":"IF(DE8+E8-DF8<0,0,DE8+E8-DF8)","v":{"$error":"#DIV/0!"}},{"$f":"IF(DF8+F8-DG8<0,0,DF8+F8-DG8)","v":{"$error":"#DIV/0!"}},{"$f":"IF(DG8+G8-DH8<0,0,DG8+G8-DH8)","v":{"$error":"#DIV/0!"}},{"$f":"IF(DH8+H8-DI8<0,0,DH8+H8-DI8)","v":{"$error":"#DIV/0!"}},{"$f":"IF(DI8+I8-DJ8<0,0,DI8+I8-DJ8)","v":{"$error":"#DIV/0!"}},{"$f":"IF(DJ8+J8-DK8<0,0,DJ8+J8-DK8)","v":{"$error":"#DIV/0!"}},{"$f":"IF(DK8+K8-DL8<0,0,DK8+K8-DL8)","v":{"$error":"#DIV/0!"}},{"$f":"IF(DL8+L8-DM8<0,0,DL8+L8-DM8)","v":{"$error":"#DIV/0!"}},{"$f":"IF(DM8+M8-DN8<0,0,DM8+M8-DN8)","v":{"$error":"#DIV/0!"}},{"$f":"IF(DN8+N8-DO8<0,0,DN8+N8-DO8)","v":{"$error":"#DIV/0!"}},null,null,{"$f":"543+FG8","v":2529},{"$f":"EQ8","v":1986},{"$f":"ABS(IF(ER8-BV8>0,0,ER8-BV8))","v":{"$error":"#DIV/0!"}},{"$f":"ABS(IF(ES8-BW8>0,0,ES8-BW8))","v":{"$error":"#DIV/0!"}},{"$f":"ABS(IF(ET8-BX8>0,0,ET8-BX8))","v":{"$error":"#DIV/0!"}},{"$f":"ABS(IF(EU8-BY8>0,0,EU8-BY8))","v":{"$error":"#DIV/0!"}},{"$f":"ABS(IF(EV8-BZ8>0,0,EV8-BZ8))","v":{"$error":"#DIV/0!"}},{"$f":"ABS(IF(EW8-CA8>0,0,EW8-CA8))","v":{"$error":"#DIV/0!"}},{"$f":"ABS(IF(EX8-CB8>0,0,EX8-CB8))","v":{"$error":"#DIV/0!"}},{"$f":"ABS(IF(EY8-CC8>0,0,EY8-CC8))","v":{"$error":"#DIV/0!"}},{"$f":"ABS(IF(EZ8-CD8>0,0,EZ8-CD8))","v":{"$error":"#DIV/0!"}},{"$f":"ABS(IF(FA8-CE8>0,0,FA8-CE8))","v":{"$error":"#DIV/0!"}},{"$f":"ABS(IF(FB8-CF8>0,0,FB8-CF8))","v":{"$error":"#DIV/0!"}},{"$f":"ABS(IF(FC8-CG8>0,0,FC8-CG8))","v":{"$error":"#DIV/0!"}},{"$f":"IF(C8=\"\",\"\",SUM(FH8:FS8))","v":""}]
[2530,1987,null,null,null,null,null,null,null,null,null,null,null,null,null,null,{"$f":"SUM(C9:H9)","v":0},{"$f":"SUM(I9:N9)","v":0},0,null,2530,1987,null,null,null,null,null,null,null,null,null,null,null,null,null,2530,1987,null,null,null,null,null,null,null,null,null,null,null,null,null,null,2530,1987,null,null,null,null,null,null,null,null,null,null,null,null,null,null,{"$f":"SUM(BB9:BM9)","v":0},0,0,null,2530,1987,0,0,0,0,0,0,0,0,0,0,0,0,0,null,null,null,"LRC VAR",{"$f":"OFFSET('LRC VAR'!$H$3,COLUMNS($A:A),0,1,1)","v":{"$error":"#DIV/0!"}},{"$f":"OFFSET('LRC VAR'!$H$3,COLUMNS($A:B),0,1,1)","v":{"$error":"#DIV/0!"}},{"$f":"OFFSET('LRC VAR'!$H$3,COLUMNS($A:C),0,1,1)","v":{"$error":"#DIV/0!"}},{"$f":"OFFSET('LRC VAR'!$H$3,COLUMNS($A:D),0,1,1)","v":{"$error":"#DIV/0!"}},{"$f":"OFFSET('LRC VAR'!$H$3,COLUMNS($A:E),0,1,1)","v":{"$error":"#DIV/0!"}},{"$f":"OFFSET('LRC VAR'!$H$3,COLUMNS($A:F),0,1,1)","v":{"$error":"#DIV/0!"}},{"$f":"OFFSET('LRC VAR'!$H$3,COLUMNS($A:G),0,1,1)","v":{"$error":"#DIV/0!"}},{"$f":"OFFSET('LRC VAR'!$H$3,COLUMNS($A:H),0,1,1)","v":{"$error":"#DIV/0!"}},{"$f":"OFFSET('LRC VAR'!$H$3,COLUMNS($A:I),0,1,1)","v":{"$error":"#DIV/0!"}},{"$f":"OFFSET('LRC VAR'!$H$3,COLUMNS($A:J),0,1,1)","v":{"$error":"#DIV/0!"}},{"$f":"OFFSET('LRC VAR'!$H$3,COLUMNS($A:K),0,1,1)","v":{"$error":"#DIV/0!"}},{"$f":"OFFSET('LRC VAR'!$H$3,COLUMNS($A:L),0,1,1)","v":0},null,null,null,2530,1987,{"$f":"IF(IF(DO8+C9-BV9>CM$12,CM$12,DO8+C9-BV9)<CM$13,CM$13,IF(DO8+C9-BV9>CM$12,CM$12,DO8+C9-BV9))","v":{"$error":"#DIV/0!"}},{"$error":"#DIV/0!"},{"$error":"#DIV/0!"},{"$error":"#DIV/0!"},{"$error":"#DIV/0!"},{"$error":"#DIV/0!"},{"$error":"#DIV/0!"},{"$error":"#DIV/0!"},{"$error":"#DIV/0!"},{"$error":"#DIV/0!"},{"$error":"#DIV/0!"},{"$error":"#DIV/0!"},null,null,null,{"$f":"IF(DD9=CM$2,DO8+C9-BV9-CM$2,0)","v":{"$error":"#DIV/0!"}},{"$f":"IF(DE9=CN$2,DD9+D9-BW9-CN$2,0)","v":{"$error":"#DIV/0!"}},{"$f":"IF(DF9=CO$2,DE9+E9-BX9-CO$2,0)","v":{"$error":"#DIV/0!"}},{"$f":"IF(DG9=CP$2,DF9+F9-BY9-CP$2,0)","v":{"$error":"#DIV/0!"}},{"$f":"IF(DH9=CQ$2,DG9+G9-BZ9-CQ$2,0)","v":{"$error":"#DIV/0!"}},{"$f":"IF(DI9=CR$2,DH9+H9-CA9-CR$2,0)","v":{"$error":"#DIV/0!"}},{"$f":"IF(DJ9=CS$2,DI9+I9-CB9-CS$2,0)","v":{"$error":"#DIV/0!"}},{"$f":"IF(DK9=CT$2,DJ9+J9-CC9-CT$2,0)","v":{"$error":"#DIV/0!"}},{"$f":"IF(DL9=CU$2,DK9+K9-CD9-CU$2,0)","v":{"$error":"#DIV/0!"}},{"$f":"IF(DM9=CV$2,DL9+L9-CE9-CV$2,0)","v":{"$error":"#DIV/0!"}},{"$f":"IF(DN9=CW$2,DM9+M9-CF9-CW$2,0)","v":{"$error":"#DIV/0!"}},{"$f":"IF(DO9=CX$2,DN9+N9-CG9-CX$2,0)","v":{"$error":"#DIV/0!"}},"",null,null,null,null,null,null,null,null,null,null,2530,1987,{"$f":"IF(DO8+C9-DD9<0,0,DO8+C9-DD9)","v":{"$error":"#DIV/0!"}},{"$error":"#DIV/0!"},{"$error":"#DIV/0!"},{"$error":"#DIV/0!"},{"$error":"#DIV/0!"},{"$error":"#DIV/0!"},{"$error":"#DIV/0!"},{"$error":"#DIV/0!"},{"$error":"#DIV/0!"},{"$error":"#DIV/0!"},{"$error":"#DIV/0!"},{"$error":"#DIV/0!"},null,null,2530,1987,{"$error":"#DIV/0!"},{"$error":"#DIV/0!"},{"$error":"#DIV/0!"},{"$error":"#DIV/0!"},{"$error":"#DIV/0!"},{"$error":"#DIV/0!"},{"$error":"#DIV/0!"},{"$error":"#DIV/0!"},{"$error":"#DIV/0!"},{"$error":"#DIV/0!"},{"$error":"#DIV/0!"},{"$error":"#DIV/0!"},""]
[2531,1988,null,null,null,null,null,null,null,null,null,null,null,null,null,null,0,0,0,null,2531,1988,null,null,null,null,null,null,null,null,null,null,null,null,null,2531,1988,null,null,null,null,null,null,null,null,null,null,null,null,null,null,2531,1988,null,null,null,null,null,null,null,null,null,null,null,null,null,null,0,0,0,null,2531,1988,0,0,0,0,0,0,0,0,0,0,0,0,0,null,null,4,"RID U",null,null,null,null,null,null,null,null,null,null,null,null,null,null,null,2531,1988,{"$error":"#DIV/0!"},{"$error":"#DIV/0!"},{"$error":"#DIV/0!"},{"$error":"#DIV/0!"},{"$error":"#DIV/0!"},{"$error":"#DIV/0!"},{"$error":"#DIV/0!"},{"$error":"#DIV/0!"},{"$error":"#DIV/0!"},{"$error":"#DIV/0!"},{"$error":"#DIV/0!"},{"$error":"#DIV/0!"},null,null,null,{"$error":"#DIV/0!"},{"$error":"#DIV/0!"},{"$error":"#DIV/0!"},{"$error":"#DIV/0!"},{"$error":"#DIV/0!"},{"$error":"#DIV/0!"},{"$error":"#DIV/0!"},{"$error":"#DIV/0!"},{"$error":"#DIV/0!"},{"$error":"#DIV/0!"},{"$error":"#DIV/0!"},{"$error":"#DIV/0!"},"",null,null,null,null,null,null,null,null,null,null,2531,1988,{"$error":"#DIV/0!"},{"$error":"#DIV/0!"},{"$error":"#DIV/0!"},{"$error":"#DIV/0!"},{"$error":"#DIV/0!"},{"$error":"#DIV/0!"},{"$error":"#DIV/0!"},{"$error":"#DIV/0!"},{"$error":"#DIV/0!"},{"$error":"#DIV/0!"},{"$error":"#DIV/0!"},{"$error":"#DIV/0!"},null,null,2531,1988,{"$error":"#DIV/0!"},{"$error":"#DIV/0!"},{"$error":"#DIV/0!"},{"$error":"#DIV/0!"},{"$error":"#DIV/0!"},{"$error":"#DIV/0!"},{"$error":"#DIV/0!"},{"$error":"#DIV/0!"},{"$error":"#DIV/0!"},{"$error":"#DIV/0!"},{"$error":"#DIV/0!"},{"$error":"#DIV/0!"},""]
[2532,1989,null,null,null,null,null,null,null,null,null,null,null,null,null,null,0,0,0,null,2532,1989,null,null,null,null,null,null,null,null,null,null,null,null,null,2532,1989,null,null,null,null,null,null,null,null,null,null,null,null,null,null,2532,1989,null,null,null,null,null,null,null,null,null,null,null,null,null,null,0,0,0,null,2532,1989,0,0,0,0,0,0,0,0,0,0,0,0,0,null,null,null,"RID L",null,null,null,null,null,null,null,null,null,null,null,null,null,null,null,2532,1989,{"$error":"#DIV/0!"},{"$error":"#DIV/0!"},{"$error":"#DIV/0!"},{"$error":"#DIV/0!"},{"$error":"#DIV/0!"},{"$error":"#DIV/0!"},{"$error":"#DIV/0!"},{"$error":"#DIV/0!"},{"$error":"#DIV/0!"},{"$error":"#DIV/0!"},{"$error":"#DIV/0!"},{"$error":"#DIV/0!"},null,null,null,{"$error":"#DIV/0!"},{"$error":"#DIV/0!"},{"$error":"#DIV/0!"},{"$error":"#DIV/0!"},{"$error":"#DIV/0!"},{"$error":"#DIV/0!"},{"$error":"#DIV/0!"},{"$error":"#DIV/0!"},{"$error":"#DIV/0!"},{"$error":"#DIV/0!"},{"$error":"#DIV/0!"},{"$error":"#DIV/0!"},"",null,null,null,null,null,null,null,null,null,null,2532,1989,{"$error":"#DIV/0!"},{"$error":"#DIV/0!"},{"$error":"#DIV/0!"},{"$error":"#DIV/0!"},{"$error":"#DIV/0!"},{"$error":"#DIV/0!"},{"$error":"#DIV/0!"},{"$error":"#DIV/0!"},{"$error":"#DIV/0!"},{"$error":"#DIV/0!"},{"$error":"#DIV/0!"},{"$error":"#DIV/0!"},null,null,2532,1989,{"$error":"#DIV/0!"},{"$error":"#DIV/0!"},{"$error":"#DIV/0!"},{"$error":"#DIV/0!"},{"$error":"#DIV/0!"},{"$error":"#DIV/0!"},{"$error":"#DIV/0!"},{"$error":"#DIV/0!"},{"$error":"#DIV/0!"},{"$error":"#DIV/0!"},{"$error":"#DIV/0!"},{"$error":"#DIV/0!"},""]
[2533,1990,null,null,null,null,null,null,null,null,null,null,null,null,null,null,0,0,0,null,2533,1990,null,null,null,null,null,null,null,null,null,null,null,null,null,2533,1990,null,null,null,null,null,null,null,null,null,null,null,null,null,null,2533,1990,null,null,null,null,null,null,null,null,null,null,null,null,null,null,0,0,0,null,2533,1990,0,0,0,0,0,0,0,0,0,0,0,0,0,null,null,"Graph","URC G.",{"$f":"CHOOSE($DC$6,CM4,CM6,CM8,CM10,DD3)","v":{"$error":"#DIV/0!"}},{"$error":"#DIV/0!"},{"$error":"#DIV/0!"},{"$error":"#DIV/0!"},{"$error":"#DIV/0!"},{"$error":"#DIV/0!"},{"$error":"#DIV/0!"},{"$error":"#DIV/0!"},{"$error":"#DIV/0!"},{"$error":"#DIV/0!"},{"$error":"#DIV/0!"},{"$error":"#DIV/0!"},null,null,null,2533,1990,{"$error":"#DIV/0!"},{"$error":"#DIV/0!"},{"$error":"#DIV/0!"},{"$error":"#DIV/0!"},{"$error":"#DIV/0!"},{"$error":"#DIV/0!"},{"$error":"#DIV/0!"},{"$error":"#DIV/0!"},{"$error":"#DIV/0!"},{"$error":"#DIV/0!"},{"$error":"#DIV/0!"},{"$error":"#DIV/0!"},null,null,null,{"$error":"#DIV/0!"},{"$error":"#DIV/0!"},{"$error":"#DIV/0!"},{"$error":"#DIV/0!"},{"$error":"#DIV/0!"},{"$error":"#DIV/0!"},{"$error":"#DIV/0!"},{"$error":"#DIV/0!"},{"$error":"#DIV/0!"},{"$error":"#DIV/0!"},{"$error":"#DIV/0!"},{"$error":"#DIV/0!"},"",null,null,null,null,null,null,null,null,null,null,2533,1990,{"$error":"#DIV/0!"},{"$error":"#DIV/0!"},{"$error":"#DIV/0!"},{"$error":"#DIV/0!"},{"$error":"#DIV/0!"},{"$error":"#DIV/0!"},{"$error":"#DIV/0!"},{"$error":"#DIV/0!"},{"$error":"#DIV/0!"},{"$error":"#DIV/0!"},{"$error":"#DIV/0!"},{"$error":"#DIV/0!"},null,null,2533,1990,{"$error":"#DIV/0!"},{"$error":"#DIV/0!"},{"$error":"#DIV/0!"},{"$error":"#DIV/0!"},{"$error":"#DIV/0!"},{"$error":"#DIV/0!"},{"$error":"#DIV/0!"},{"$error":"#DIV/0!"},{"$error":"#DIV/0!"},{"$error":"#DIV/0!"},{"$error":"#DIV/0!"},{"$error":"#DIV/0!"},""]
[2534,1991,null,null,null,null,null,null,null,null,null,null,null,null,null,null,0,0,0,null,2534,1991,null,null,null,null,null,null,null,null,null,null,null,null,null,2534,1991,null,null,null,null,null,null,null,null,null,null,null,null,null,null,2534,1991,null,null,null,null,null,null,null,null,null,null,null,null,null,null,0,0,0,null,2534,1991,0,0,0,0,0,0,0,0,0,0,0,0,0,null,null,null,"LRC G.",{"$error":"#DIV/0!"},{"$error":"#DIV/0!"},{"$error":"#DIV/0!"},{"$error":"#DIV/0!"},{"$error":"#DIV/0!"},{"$error":"#DIV/0!"},{"$error":"#DIV/0!"},{"$error":"#DIV/0!"},{"$error":"#DIV/0!"},{"$error":"#DIV/0!"},{"$error":"#DIV/0!"},{"$error":"#DIV/0!"},null,null,null,2534,1991,{"$error":"#DIV/0!"},{"$error":"#DIV/0!"},{"$error":"#DIV/0!"},{"$error":"#DIV/0!"},{"$error":"#DIV/0!"},{"$error":"#DIV/0!"},{"$error":"#DIV/0!"},{"$error":"#DIV/0!"},{"$error":"#DIV/0!"},{"$error":"#DIV/0!"},{"$error":"#DIV/0!"},{"$error":"#DIV/0!"},null,null,null,{"$error":"#DIV/0!"},{"$error":"#DIV/0!"},{"$error":"#DIV/0!"},{"$error":"#DIV/0!"},{"$error":"#DIV/0!"},{"$error":"#DIV/0!"},{"$error":"#DIV/0!"},{"$error":"#DIV/0!"},{"$error":"#DIV/0!"},{"$error":"#DIV/0!"},{"$error":"#DIV/0!"},{"$error":"#DIV/0!"},"",null,null,null,null,null,null,null,null,null,null,2534,1991,{"$error":"#DIV/0!"},{"$error":"#DIV/0!"},{"$error":"#DIV/0!"},{"$error":"#DIV/0!"},{"$error":"#DIV/0!"},{"$error":"#DIV/0!"},{"$error":"#DIV/0!"},{"$error":"#DIV/0!"},{"$error":"#DIV/0!"},{"$error":"#DIV/0!"},{"$error":"#DIV/0!"},{"$error":"#DIV/0!"},null,null,2534,1991,{"$error":"#DIV/0!"},{"$error":"#DIV/0!"},{"$error":"#DIV/0!"},{"$error":"#DIV/0!"},{"$error":"#DIV/0!"},{"$error":"#DIV/0!"},{"$error":"#DIV/0!"},{"$error":"#DIV/0!"},{"$error":"#DIV/0!"},{"$error":"#DIV/0!"},{"$error":"#DIV/0!"},{"$error":"#DIV/0!"},""]
[2535,1992,null,null,null,null,null,null,null,null,null,null,null,null,null,null,0,0,0,null,2535,1992,null,null,null,null,null,null,null,null,null,null,null,null,null,2535,1992,null,null,null,null,null,null,null,null,null,null,null,null,null,null,2535,1992,null,null,null,null,null,null,null,null,null,null,null,null,null,null,0,0,0,null,2535,1992,0,0,0,0,0,0,0,0,0,0,0,0,0,null,null,null,null,null,null,null,null,null,null,null,null,null,null,null,null,null,null,null,2535,1992,{"$error":"#DIV/0!"},{"$error":"#DIV/0!"},{"$error":"#DIV/0!"},{"$error":"#DIV/0!"},{"$error":"#DIV/0!"},{"$error":"#DIV/0!"},{"$error":"#DIV/0!"},{"$error":"#DIV/0!"},{"$error":"#DIV/0!"},{"$error":"#DIV/0!"},{"$error":"#DIV/0!"},{"$error":"#DIV/0!"},null,null,null,{"$error":"#DIV/0!"},{"$error":"#DIV/0!"},{"$error":"#DIV/0!"},{"$error":"#DIV/0!"},{"$error":"#DIV/0!"},{"$error":"#DIV/0!"},{"$error":"#DIV/0!"},{"$error":"#DIV/0!"},{"$error":"#DIV/0!"},{"$error":"#DIV/0!"},{"$error":"#DIV/0!"},{"$error":"#DIV/0!"},"",null,null,null,null,null,null,null,null,null,null,2535,1992,{"$error":"#DIV/0!"},{"$error":"#DIV/0!"},{"$error":"#DIV/0!"},{"$error":"#DIV/0!"},{"$error":"#DIV/0!"},{"$error":"#DIV/0!"},{"$error":"#DIV/0!"},{"$error":"#DIV/0!"},{"$error":"#DIV/0!"},{"$error":"#DIV/0!"},{"$error":"#DIV/0!"},{"$error":"#DIV/0!"},null,null,2535,1992,{"$error":"#DIV/0!"},{"$error":"#DIV/0!"},{"$error":"#DIV/0!"},{"$error":"#DIV/0!"},{"$error":"#DIV/0!"},{"$error":"#DIV/0!"},{"$error":"#DIV/0!"},{"$error":"#DIV/0!"},{"$error":"#DIV/0!"},{"$error":"#DIV/0!"},{"$error":"#DIV/0!"},{"$error":"#DIV/0!"},""]
[2536,1993,null,null,null,null,null,null,null,null,null,null,null,null,null,null,0,0,0,null,2536,1993,null,null,null,null,null,null,null,null,null,null,null,null,null,2536,1993,null,null,null,null,null,null,null,null,null,null,null,null,null,null,2536,1993,null,null,null,null,null,null,null,null,null,null,null,null,null,null,0,0,0,null,2536,1993,0,0,0,0,0,0,0,0,0,0,0,0,0,null,null,null,{"$f":"\"Resule \"&DC6","v":"Resule 1"},1,2,3,4,5,null,null,"RID","POP 5%","POP 15%","VAR","Model",null,null,null,2536,1993,{"$error":"#DIV/0!"},{"$error":"#DIV/0!"},{"$error":"#DIV/0!"},{"$error":"#DIV/0!"},{"$error":"#DIV/0!"},{"$error":"#DIV/0!"},{"$error":"#DIV/0!"},{"$error":"#DIV/0!"},{"$error":"#DIV/0!"},{"$error":"#DIV/0!"},{"$error":"#DIV/0!"},{"$error":"#DIV/0!"},null,null,null,{"$error":"#DIV/0!"},{"$error":"#DIV/0!"},{"$error":"#DIV/0!"},{"$error":"#DIV/0!"},{"$error":"#DIV/0!"},{"$error":"#DIV/0!"},{"$error":"#DIV/0!"},{"$error":"#DIV/0!"},{"$error":"#DIV/0!"},{"$error":"#DIV/0!"},{"$error":"#DIV/0!"},{"$error":"#DIV/0!"},"",null,null,null,null,null,null,null,null,null,null,2536,1993,{"$error":"#DIV/0!"},{"$error":"#DIV/0!"},{"$error":"#DIV/0!"},{"$error":"#DIV/0!"},{"$error":"#DIV/0!"},{"$error":"#DIV/0!"},{"$error":"#DIV/0!"},{"$error":"#DIV/0!"},{"$error":"#DIV/0!"},{"$error":"#DIV/0!"},{"$error":"#DIV/0!"},{"$error":"#DIV/0!"},null,null,2536,1993,{"$error":"#DIV/0!"},{"$error":"#DIV/0!"},{"$error":"#DIV/0!"},{"$error":"#DIV/0!"},{"$error":"#DIV/0!"},{"$error":"#DIV/0!"},{"$error":"#DIV/0!"},{"$error":"#DIV/0!"},{"$error":"#DIV/0!"},{"$error":"#DIV/0!"},{"$error":"#DIV/0!"},{"$error":"#DIV/0!"},""]
[2537,1994,null,null,null,null,null,null,null,null,null,null,null,null,null,null,0,0,0,null,2537,1994,null,null,null,null,null,null,null,null,null,null,null,null,null,2537,1994,null,null,null,null,null,null,null,null,null,null,null,null,null,null,2537,1994,null,null,null,null,null,null,null,null,null,null,null,null,null,null,0,0,0,null,2537,1994,0,0,0,0,0,0,0,0,0,0,0,0,0,null,null,"ปีน้ำล้น",{"$f":"+DG5","v":0},0,1,1,0,0,null,null,{"$f":"+CP16","v":0},{"$f":"+CM16","v":0},1,1,{"$f":"+CQ16","v":0},null,null,null,2537,1994,{"$error":"#DIV/0!"},{"$error":"#DIV/0!"},{"$error":"#DIV/0!"},{"$error":"#DIV/0!"},{"$error":"#DIV/0!"},{"$error":"#DIV/0!"},{"$error":"#DIV/0!"},{"$error":"#DIV/0!"},{"$error":"#DIV/0!"},{"$error":"#DIV/0!"},{"$error":"#DIV/0!"},{"$error":"#DIV/0!"},null,null,null,{"$error":"#DIV/0!"},{"$error":"#DIV/0!"},{"$error":"#DIV/0!"},{"$error":"#DIV/0!"},{"$error":"#DIV/0!"},{"$error":"#DIV/0!"},{"$error":"#DIV/0!"},{"$error":"#DIV/0!"},{"$error":"#DIV/0!"},{"$error":"#DIV/0!"},{"$error":"#DIV/0!"},{"$error":"#DIV/0!"},"",null,null,null,null,null,null,null,null,null,null,2537,1994,{"$error":"#DIV/0!"},{"$error":"#DIV/0!"},{"$error":"#DIV/0!"},{"$error":"#DIV/0!"},{"$error":"#DIV/0!"},{"$error":"#DIV/0!"},{"$error":"#DIV/0!"},{"$error":"#DIV/0!"},{"$error":"#DIV/0!"},{"$error":"#DIV/0!"},{"$error":"#DIV/0!"},{"$error":"#DIV/0!"},null,null,2537,1994,{"$error":"#DIV/0!"},{"$error":"#DIV/0!"},{"$error":"#DIV/0!"},{"$error":"#DIV/0!"},{"$error":"#DIV/0!"},{"$error":"#DIV/0!"},{"$error":"#DIV/0!"},{"$error":"#DIV/0!"},{"$error":"#DIV/0!"},{"$error":"#DIV/0!"},{"$error":"#DIV/0!"},{"$error":"#DIV/0!"},""]
[2538,1995,null,null,null,null,null,null,null,null,null,null,null,null,null,null,0,0,0,null,2538,1995,null,null,null,null,null,null,null,null,null,null,null,null,null,2538,1995,null,null,null,null,null,null,null,null,null,null,null,null,null,null,2538,1995,null,null,null,null,null,null,null,null,null,null,null,null,null,null,0,0,0,null,2538,1995,0,0,0,0,0,0,0,0,0,0,0,0,0,null,null,"ปีน้ำขาด",{"$f":"+DJ5","v":0},27,6,4,9,4,null,null,{"$f":"+CP17","v":9},27,6,4,{"$f":"+CQ17","v":4},null,null,null,2538,1995,{"$error":"#DIV/0!"},{"$error":"#DIV/0!"},{"$error":"#DIV/0!"},{"$error":"#DIV/0!"},{"$error":"#DIV/0!"},{"$error":"#DIV/0!"},{"$error":"#DIV/0!"},{"$error":"#DIV/0!"},{"$error":"#DIV/0!"},{"$error":"#DIV/0!"},{"$error":"#DIV/0!"},{"$error":"#DIV/0!"},null,null,null,{"$error":"#DIV/0!"},{"$error":"#DIV/0!"},{"$error":"#DIV/0!"},{"$error":"#DIV/0!"},{"$error":"#DIV/0!"},{"$error":"#DIV/0!"},{"$error":"#DIV/0!"},{"$error":"#DIV/0!"},{"$error":"#DIV/0!"},{"$error":"#DIV/0!"},{"$error":"#DIV/0!"},{"$error":"#DIV/0!"},"",null,null,null,null,null,null,null,null,null,null,2538,1995,{"$error":"#DIV/0!"},{"$error":"#DIV/0!"},{"$error":"#DIV/0!"},{"$error":"#DIV/0!"},{"$error":"#DIV/0!"},{"$error":"#DIV/0!"},{"$error":"#DIV/0!"},{"$error":"#DIV/0!"},{"$error":"#DIV/0!"},{"$error":"#DIV/0!"},{"$error":"#DIV/0!"},{"$error":"#DIV/0!"},null,null,2538,1995,{"$error":"#DIV/0!"},{"$error":"#DIV/0!"},{"$error":"#DIV/0!"},{"$error":"#DIV/0!"},{"$error":"#DIV/0!"},{"$error":"#DIV/0!"},{"$error":"#DIV/0!"},{"$error":"#DIV/0!"},{"$error":"#DIV/0!"},{"$error":"#DIV/0!"},{"$error":"#DIV/0!"},{"$error":"#DIV/0!"},""]
[2539,1996,null,null,null,null,null,null,null,null,null,null,null,null,null,null,0,0,0,null,2539,1996,null,null,null,null,null,null,null,null,null,null,null,null,null,2539,1996,null,null,null,null,null,null,null,null,null,null,null,null,null,null,2539,1996,null,null,null,null,null,null,null,null,null,null,null,null,null,null,0,0,0,null,2539,1996,0,0,0,0,0,0,0,0,0,0,0,0,0,null,null,"ขาดรวม",{"$f":"SUM(FT8:FT44)","v":0},321.96948465539327,99.157030875298304,62.347848484849251,220.79788835294187,39.440000000000936,null,null,{"$f":"+CP18","v":220.79788835294187},321.96948465539327,99.157030875298304,62.347848484849251,{"$f":"+CQ18","v":39.440000000000936},null,null,null,2539,1996,{"$error":"#DIV/0!"},{"$error":"#DIV/0!"},{"$error":"#DIV/0!"},{"$error":"#DIV/0!"},{"$error":"#DIV/0!"},{"$error":"#DIV/0!"},{"$error":"#DIV/0!"},{"$error":"#DIV/0!"},{"$error":"#DIV/0!"},{"$error":"#DIV/0!"},{"$error":"#DIV/0!"},{"$error":"#DIV/0!"},null,null,null,{"$error":"#DIV/0!"},{"$error":"#DIV/0!"},{"$error":"#DIV/0!"},{"$error":"#DIV/0!"},{"$error":"#DIV/0!"},{"$error":"#DIV/0!"},{"$error":"#DIV/0!"},{"$error":"#DIV/0!"},{"$error":"#DIV/0!"},{"$error":"#DIV/0!"},{"$error":"#DIV/0!"},{"$error":"#DIV/0!"},"",null,null,null,null,null,null,null,null,null,null,2539,1996,{"$error":"#DIV/0!"},{"$error":"#DIV/0!"},{"$error":"#DIV/0!"},{"$error":"#DIV/0!"},{"$error":"#DIV/0!"},{"$error":"#DIV/0!"},{"$error":"#DIV/0!"},{"$error":"#DIV/0!"},{"$error":"#DIV/0!"},{"$error":"#DIV/0!"},{"$error":"#DIV/0!"},{"$error":"#DIV/0!"},null,null,2539,1996,{"$error":"#DIV/0!"},{"$error":"#DIV/0!"},{"$error":"#DIV/0!"},{"$error":"#DIV/0!"},{"$error":"#DIV/0!"},{"$error":"#DIV/0!"},{"$error":"#DIV/0!"},{"$error":"#DIV/0!"},{"$error":"#DIV/0!"},{"$error":"#DIV/0!"},{"$error":"#DIV/0!"},{"$error":"#DIV/0!"},""]
[2540,1997,null,null,null,null,null,null,null,null,null,null,null,null,null,null,0,0,0,null,2540,1997,null,null,null,null,null,null,null,null,null,null,null,null,null,2540,1997,null,null,null,null,null,null,null,null,null,null,null,null,null,null,2540,1997,null,null,null,null,null,null,null,null,null,null,null,null,null,null,0,0,0,null,2540,1997,0,0,0,0,0,0,0,0,0,0,0,0,0,null,null,"ล้นรวม",{"$f":"SUM(EE8:EE44)","v":0},0,4.5506244793912174,0.28287878787875798,0,0,null,null,{"$f":"+CP19","v":0},0,4.5506244793912174,0.28287878787875798,{"$f":"+CQ19","v":0},null,null,null,2540,1997,{"$error":"#DIV/0!"},{"$error":"#DIV/0!"},{"$error":"#DIV/0!"},{"$error":"#DIV/0!"},{"$error":"#DIV/0!"},{"$error":"#DIV/0!"},{"$error":"#DIV/0!"},{"$error":"#DIV/0!"},{"$error":"#DIV/0!"},{"$error":"#DIV/0!"},{"$error":"#DIV/0!"},{"$error":"#DIV/0!"},null,null,null,{"$error":"#DIV/0!"},{"$error":"#DIV/0!"},{"$error":"#DIV/0!"},{"$error":"#DIV/0!"},{"$error":"#DIV/0!"},{"$error":"#DIV/0!"},{"$error":"#DIV/0!"},{"$error":"#DIV/0!"},{"$error":"#DIV/0!"},{"$error":"#DIV/0!"},{"$error":"#DIV/0!"},{"$error":"#DIV/0!"},"",null,null,null,null,null,null,null,null,null,null,2540,1997,{"$error":"#DIV/0!"},{"$error":"#DIV/0!"},{"$error":"#DIV/0!"},{"$error":"#DIV/0!"},{"$error":"#DIV/0!"},{"$error":"#DIV/0!"},{"$error":"#DIV/0!"},{"$error":"#DIV/0!"},{"$error":"#DIV/0!"},{"$error":"#DIV/0!"},{"$error":"#DIV/0!"},{"$error":"#DIV/0!"},null,null,2540,1997,{"$error":"#DIV/0!"},{"$error":"#DIV/0!"},{"$error":"#DIV/0!"},{"$error":"#DIV/0!"},{"$error":"#DIV/0!"},{"$error":"#DIV/0!"},{"$error":"#DIV/0!"},{"$error":"#DIV/0!"},{"$error":"#DIV/0!"},{"$error":"#DIV/0!"},{"$error":"#DIV/0!"},{"$error":"#DIV/0!"},""]
[2541,1998,null,null,null,null,null,null,null,null,null,null,null,null,null,null,0,0,0,null,2541,1998,null,null,null,null,null,null,null,null,null,null,null,null,null,2541,1998,null,null,null,null,null,null,null,null,null,null,null,null,null,null,2541,1998,null,null,null,null,null,null,null,null,null,null,null,null,null,null,0,0,0,null,2541,1998,0,0,0,0,0,0,0,0,0,0,0,0,0,null,null,null,null,null,null,null,null,null,null,null,null,null,null,null,null,null,null,null,2541,1998,{"$error":"#DIV/0!"},{"$error":"#DIV/0!"},{"$error":"#DIV/0!"},{"$error":"#DIV/0!"},{"$error":"#DIV/0!"},{"$error":"#DIV/0!"},{"$error":"#DIV/0!"},{"$error":"#DIV/0!"},{"$error":"#DIV/0!"},{"$error":"#DIV/0!"},{"$error":"#DIV/0!"},{"$error":"#DIV/0!"},null,null,null,{"$error":"#DIV/0!"},{"$error":"#DIV/0!"},{"$error":"#DIV/0!"},{"$error":"#DIV/0!"},{"$error":"#DIV/0!"},{"$error":"#DIV/0!"},{"$error":"#DIV/0!"},{"$error":"#DIV/0!"},{"$error":"#DIV/0!"},{"$error":"#DIV/0!"},{"$error":"#DIV/0!"},{"$error":"#DIV/0!"},"",null,null,null,null,null,null,null,null,null,null,2541,1998,{"$error":"#DIV/0!"},{"$error":"#DIV/0!"},{"$error":"#DIV/0!"},{"$error":"#DIV/0!"},{"$error":"#DIV/0!"},{"$error":"#DIV/0!"},{"$error":"#DIV/0!"},{"$error":"#DIV/0!"},{"$error":"#DIV/0!"},{"$error":"#DIV/0!"},{"$error":"#DIV/0!"},{"$error":"#DIV/0!"},null,null,2541,1998,{"$error":"#DIV/0!"},{"$error":"#DIV/0!"},{"$error":"#DIV/0!"},{"$error":"#DIV/0!"},{"$error":"#DIV/0!"},{"$error":"#DIV/0!"},{"$error":"#DIV/0!"},{"$error":"#DIV/0!"},{"$error":"#DIV/0!"},{"$error":"#DIV/0!"},{"$error":"#DIV/0!"},{"$error":"#DIV/0!"},""]
[2542,1999,null,null,null,null,null,null,null,null,null,null,null,null,null,null,0,0,0,null,2542,1999,null,null,null,null,null,null,null,null,null,null,null,null,null,2542,1999,null,null,null,null,null,null,null,null,null,null,null,null,null,null,2542,1999,null,null,null,null,null,null,null,null,null,null,null,null,null,null,0,0,0,null,2542,1999,0,0,0,0,0,0,0,0,0,0,0,0,0,null,null,null,null,null,null,null,null,null,null,null,null,null,null,null,null,null,null,null,2542,1999,{"$error":"#DIV/0!"},{"$error":"#DIV/0!"},{"$error":"#DIV/0!"},{"$error":"#DIV/0!"},{"$error":"#DIV/0!"},{"$error":"#DIV/0!"},{"$error":"#DIV/0!"},{"$error":"#DIV/0!"},{"$error":"#DIV/0!"},{"$error":"#DIV/0!"},{"$error":"#DIV/0!"},{"$error":"#DIV/0!"},null,null,null,{"$error":"#DIV/0!"},{"$error":"#DIV/0!"},{"$error":"#DIV/0!"},{"$error":"#DIV/0!"},{"$error":"#DIV/0!"},{"$error":"#DIV/0!"},{"$error":"#DIV/0!"},{"$error":"#DIV/0!"},{"$error":"#DIV/0!"},{"$error":"#DIV/0!"},{"$error":"#DIV/0!"},{"$error":"#DIV/0!"},"",null,null,null,null,null,null,null,null,null,null,2542,1999,{"$error":"#DIV/0!"},{"$error":"#DIV/0!"},{"$error":"#DIV/0!"},{"$error":"#DIV/0!"},{"$error":"#DIV/0!"},{"$error":"#DIV/0!"},{"$error":"#DIV/0!"},{"$error":"#DIV/0!"},{"$error":"#DIV/0!"},{"$error":"#DIV/0!"},{"$error":"#DIV/0!"},{"$error":"#DIV/0!"},null,null,2542,1999,{"$error":"#DIV/0!"},{"$error":"#DIV/0!"},{"$error":"#DIV/0!"},{"$error":"#DIV/0!"},{"$error":"#DIV/0!"},{"$error":"#DIV/0!"},{"$error":"#DIV/0!"},{"$error":"#DIV/0!"},{"$error":"#DIV/0!"},{"$error":"#DIV/0!"},{"$error":"#DIV/0!"},{"$error":"#DIV/0!"},""]
[2543,2000,null,null,null,null,null,null,null,null,null,null,null,null,null,null,0,0,0,null,2543,2000,null,null,null,null,null,null,null,null,null,null,null,null,null,2543,2000,null,null,null,null,null,null,null,null,null,null,null,null,null,null,2543,2000,null,null,null,null,null,null,null,null,null,null,null,null,null,null,0,0,0,null,2543,2000,0,0,0,0,0,0,0,0,0,0,0,0,0,null,null,null,null,null,null,null,null,null,null,null,null,null,null,null,null,null,null,null,2543,2000,{"$error":"#DIV/0!"},{"$error":"#DIV/0!"},{"$error":"#DIV/0!"},{"$error":"#DIV/0!"},{"$error":"#DIV/0!"},{"$error":"#DIV/0!"},{"$error":"#DIV/0!"},{"$error":"#DIV/0!"},{"$error":"#DIV/0!"},{"$error":"#DIV/0!"},{"$error":"#DIV/0!"},{"$error":"#DIV/0!"},null,null,null,{"$error":"#DIV/0!"},{"$error":"#DIV/0!"},{"$error":"#DIV/0!"},{"$error":"#DIV/0!"},{"$error":"#DIV/0!"},{"$error":"#DIV/0!"},{"$error":"#DIV/0!"},{"$error":"#DIV/0!"},{"$error":"#DIV/0!"},{"$error":"#DIV/0!"},{"$error":"#DIV/0!"},{"$error":"#DIV/0!"},"",null,null,null,null,null,null,null,null,null,null,2543,2000,{"$error":"#DIV/0!"},{"$error":"#DIV/0!"},{"$error":"#DIV/0!"},{"$error":"#DIV/0!"},{"$error":"#DIV/0!"},{"$error":"#DIV/0!"},{"$error":"#DIV/0!"},{"$error":"#DIV/0!"},{"$error":"#DIV/0!"},{"$error":"#DIV/0!"},{"$error":"#DIV/0!"},{"$error":"#DIV/0!"},null,null,2543,2000,{"$error":"#DIV/0!"},{"$error":"#DIV/0!"},{"$error":"#DIV/0!"},{"$error":"#DIV/0!"},{"$error":"#DIV/0!"},{"$error":"#DIV/0!"},{"$error":"#DIV/0!"},{"$error":"#DIV/0!"},{"$error":"#DIV/0!"},{"$error":"#DIV/0!"},{"$error":"#DIV/0!"},{"$error":"#DIV/0!"},""]
[2544,2001,null,null,null,null,null,null,null,null,null,null,null,null,null,null,0,0,0,null,null,null,null,null,null,null,null,null,null,null,null,null,null,null,null,null,null,null,null,null,null,null,null,null,null,null,null,null,null,null,null,2544,2001,null,null,null,null,null,null,null,null,null,null,null,null,null,null,0,0,0,null,2544,2001,0,0,0,0,0,0,0,0,0,0,0,0,0,null,null,null,null,null,null,null,null,null,null,null,null,null,null,null,null,null,null,null,2544,2001,{"$error":"#DIV/0!"},{"$error":"#DIV/0!"},{"$error":"#DIV/0!"},{"$error":"#DIV/0!"},{"$error":"#DIV/0!"},{"$error":"#DIV/0!"},{"$error":"#DIV/0!"},{"$error":"#DIV/0!"},{"$error":"#DIV/0!"},{"$error":"#DIV/0!"},{"$error":"#DIV/0!"},{"$error":"#DIV/0!"},null,null,null,{"$error":"#DIV/0!"},{"$error":"#DIV/0!"},{"$error":"#DIV/0!"},{"$error":"#DIV/0!"},{"$error":"#DIV/0!"},{"$error":"#DIV/0!"},{"$error":"#DIV/0!"},{"$error":"#DIV/0!"},{"$error":"#DIV/0!"},{"$error":"#DIV/0!"},{"$error":"#DIV/0!"},{"$error":"#DIV/0!"},"",null,null,null,null,null,null,null,null,null,null,2544,2001,{"$error":"#DIV/0!"},{"$error":"#DIV/0!"},{"$error":"#DIV/0!"},{"$error":"#DIV/0!"},{"$error":"#DIV/0!"},{"$error":"#DIV/0!"},{"$error":"#DIV/0!"},{"$error":"#DIV/0!"},{"$error":"#DIV/0!"},{"$error":"#DIV/0!"},{"$error":"#DIV/0!"},{"$error":"#DIV/0!"},null,null,2544,2001,{"$error":"#DIV/0!"},{"$error":"#DIV/0!"},{"$error":"#DIV/0!"},{"$error":"#DIV/0!"},{"$error":"#DIV/0!"},{"$error":"#DIV/0!"},{"$error":"#DIV/0!"},{"$error":"#DIV/0!"},{"$error":"#DIV/0!"},{"$error":"#DIV/0!"},{"$error":"#DIV/0!"},{"$error":"#DIV/0!"},""]
[2545,2002,null,null,null,null,null,null,null,null,null,null,null,null,null,null,0,0,0,null,null,null,null,null,null,null,null,null,null,null,null,null,null,null,null,null,null,null,null,null,null,null,null,null,null,null,null,null,null,null,null,2545,2002,null,null,null,null,null,null,null,null,null,null,null,null,null,null,0,0,0,null,2545,2002,0,0,0,0,0,0,0,0,0,0,0,0,0,null,null,null,null,null,null,null,null,null,null,null,null,null,null,null,null,null,null,null,2545,2002,{"$error":"#DIV/0!"},{"$error":"#DIV/0!"},{"$error":"#DIV/0!"},{"$error":"#DIV/0!"},{"$error":"#DIV/0!"},{"$error":"#DIV/0!"},{"$error":"#DIV/0!"},{"$error":"#DIV/0!"},{"$error":"#DIV/0!"},{"$error":"#DIV/0!"},{"$error":"#DIV/0!"},{"$error":"#DIV/0!"},null,null,null,{"$error":"#DIV/0!"},{"$error":"#DIV/0!"},{"$error":"#DIV/0!"},{"$error":"#DIV/0!"},{"$error":"#DIV/0!"},{"$error":"#DIV/0!"},{"$error":"#DIV/0!"},{"$error":"#DIV/0!"},{"$error":"#DIV/0!"},{"$error":"#DIV/0!"},{"$error":"#DIV/0!"},{"$error":"#DIV/0!"},"",null,null,null,null,null,null,null,null,null,null,2545,2002,{"$error":"#DIV/0!"},{"$error":"#DIV/0!"},{"$error":"#DIV/0!"},{"$error":"#DIV/0!"},{"$error":"#DIV/0!"},{"$error":"#DIV/0!"},{"$error":"#DIV/0!"},{"$error":"#DIV/0!"},{"$error":"#DIV/0!"},{"$error":"#DIV/0!"},{"$error":"#DIV/0!"},{"$error":"#DIV/0!"},null,null,2545,2002,{"$error":"#DIV/0!"},{"$error":"#DIV/0!"},{"$error":"#DIV/0!"},{"$error":"#DIV/0!"},{"$error":"#DIV/0!"},{"$error":"#DIV/0!"},{"$error":"#DIV/0!"},{"$error":"#DIV/0!"},{"$error":"#DIV/0!"},{"$error":"#DIV/0!"},{"$error":"#DIV/0!"},{"$error":"#DIV/0!"},""]
[2546,2003,null,null,null,null,null,null,null,null,null,null,null,null,null,null,0,0,0,null,null,null,null,null,null,null,null,null,null,null,null,null,null,null,null,null,null,null,null,null,null,null,null,null,null,null,null,null,null,null,null,2546,2003,null,null,null,null,null,null,null,null,null,null,null,null,null,null,0,0,0,null,2546,2003,0,0,0,0,0,0,0,0,0,0,0,0,0,null,null,null,null,null,null,null,null,null,null,null,null,null,null,null,null,null,null,null,2546,2003,{"$error":"#DIV/0!"},{"$error":"#DIV/0!"},{"$error":"#DIV/0!"},{"$error":"#DIV/0!"},{"$error":"#DIV/0!"},{"$error":"#DIV/0!"},{"$error":"#DIV/0!"},{"$error":"#DIV/0!"},{"$error":"#DIV/0!"},{"$error":"#DIV/0!"},{"$error":"#DIV/0!"},{"$error":"#DIV/0!"},null,null,null,{"$error":"#DIV/0!"},{"$error":"#DIV/0!"},{"$error":"#DIV/0!"},{"$error":"#DIV/0!"},{"$error":"#DIV/0!"},{"$error":"#DIV/0!"},{"$error":"#DIV/0!"},{"$error":"#DIV/0!"},{"$error":"#DIV/0!"},{"$error":"#DIV/0!"},{"$error":"#DIV/0!"},{"$error":"#DIV/0!"},"",null,null,null,null,null,null,null,null,null,null,2546,2003,{"$error":"#DIV/0!"},{"$error":"#DIV/0!"},{"$error":"#DIV/0!"},{"$error":"#DIV/0!"},{"$error":"#DIV/0!"},{"$error":"#DIV/0!"},{"$error":"#DIV/0!"},{"$error":"#DIV/0!"},{"$error":"#DIV/0!"},{"$error":"#DIV/0!"},{"$error":"#DIV/0!"},{"$error":"#DIV/0!"},null,null,2546,2003,{"$error":"#DIV/0!"},{"$error":"#DIV/0!"},{"$error":"#DIV/0!"},{"$error":"#DIV/0!"},{"$error":"#DIV/0!"},{"$error":"#DIV/0!"},{"$error":"#DIV/0!"},{"$error":"#DIV/0!"},{"$error":"#DIV/0!"},{"$error":"#DIV/0!"},{"$error":"#DIV/0!"},{"$error":"#DIV/0!"},""]
[2547,2004,null,null,null,null,null,null,null,null,null,null,null,null,null,null,0,0,0,null,null,null,null,null,null,null,null,null,null,null,null,null,null,null,null,null,null,null,null,null,null,null,null,null,null,null,null,null,null,null,null,2547,2004,null,null,null,null,null,null,null,null,null,null,null,null,null,null,0,0,0,null,2547,2004,0,0,0,0,0,0,0,0,0,0,0,0,0,null,null,null,null,null,null,null,null,null,null,null,null,null,null,null,null,null,null,null,2547,2004,{"$error":"#DIV/0!"},{"$error":"#DIV/0!"},{"$error":"#DIV/0!"},{"$error":"#DIV/0!"},{"$error":"#DIV/0!"},{"$error":"#DIV/0!"},{"$error":"#DIV/0!"},{"$error":"#DIV/0!"},{"$error":"#DIV/0!"},{"$error":"#DIV/0!"},{"$error":"#DIV/0!"},{"$error":"#DIV/0!"},null,null,null,{"$error":"#DIV/0!"},{"$error":"#DIV/0!"},{"$error":"#DIV/0!"},{"$error":"#DIV/0!"},{"$error":"#DIV/0!"},{"$error":"#DIV/0!"},{"$error":"#DIV/0!"},{"$error":"#DIV/0!"},{"$error":"#DIV/0!"},{"$error":"#DIV/0!"},{"$error":"#DIV/0!"},{"$error":"#DIV/0!"},"",null,null,null,null,null,null,null,null,null,null,2547,2004,{"$error":"#DIV/0!"},{"$error":"#DIV/0!"},{"$error":"#DIV/0!"},{"$error":"#DIV/0!"},{"$error":"#DIV/0!"},{"$error":"#DIV/0!"},{"$error":"#DIV/0!"},{"$error":"#DIV/0!"},{"$error":"#DIV/0!"},{"$error":"#DIV/0!"},{"$error":"#DIV/0!"},{"$error":"#DIV/0!"},null,null,2547,2004,{"$error":"#DIV/0!"},{"$error":"#DIV/0!"},{"$error":"#DIV/0!"},{"$error":"#DIV/0!"},{"$error":"#DIV/0!"},{"$error":"#DIV/0!"},{"$error":"#DIV/0!"},{"$error":"#DIV/0!"},{"$error":"#DIV/0!"},{"$error":"#DIV/0!"},{"$error":"#DIV/0!"},{"$error":"#DIV/0!"},""]
[2548,2005,null,null,null,null,null,null,null,null,null,null,null,null,null,null,0,0,0,null,null,null,null,null,null,null,null,null,null,null,null,null,null,null,null,null,null,null,null,null,null,null,null,null,null,null,null,null,null,null,null,2548,2005,null,null,null,null,null,null,null,null,null,null,null,null,null,null,0,0,0,null,2548,2005,0,0,0,0,0,0,0,0,0,0,0,0,0,null,null,null,null,null,null,null,null,null,null,null,null,null,null,null,null,null,null,null,2548,2005,{"$error":"#DIV/0!"},{"$error":"#DIV/0!"},{"$error":"#DIV/0!"},{"$error":"#DIV/0!"},{"$error":"#DIV/0!"},{"$error":"#DIV/0!"},{"$error":"#DIV/0!"},{"$error":"#DIV/0!"},{"$error":"#DIV/0!"},{"$error":"#DIV/0!"},{"$error":"#DIV/0!"},{"$error":"#DIV/0!"},null,null,null,{"$error":"#DIV/0!"},{"$error":"#DIV/0!"},{"$error":"#DIV/0!"},{"$error":"#DIV/0!"},{"$error":"#DIV/0!"},{"$error":"#DIV/0!"},{"$error":"#DIV/0!"},{"$error":"#DIV/0!"},{"$error":"#DIV/0!"},{"$error":"#DIV/0!"},{"$error":"#DIV/0!"},{"$error":"#DIV/0!"},"",null,null,null,null,null,null,null,null,null,null,2548,2005,{"$error":"#DIV/0!"},{"$error":"#DIV/0!"},{"$error":"#DIV/0!"},{"$error":"#DIV/0!"},{"$error":"#DIV/0!"},{"$error":"#DIV/0!"},{"$error":"#DIV/0!"},{"$error":"#DIV/0!"},{"$error":"#DIV/0!"},{"$error":"#DIV/0!"},{"$error":"#DIV/0!"},{"$error":"#DIV/0!"},null,null,2548,2005,{"$error":"#DIV/0!"},{"$error":"#DIV/0!"},{"$error":"#DIV/0!"},{"$error":"#DIV/0!"},{"$error":"#DIV/0!"},{"$error":"#DIV/0!"},{"$error":"#DIV/0!"},{"$error":"#DIV/0!"},{"$error":"#DIV/0!"},{"$error":"#DIV/0!"},{"$error":"#DIV/0!"},{"$error":"#DIV/0!"},""]
[2549,2006,null,null,null,null,null,null,null,null,null,null,null,null,null,null,{"$f":"SUM(C28:H28)","v":0},{"$f":"SUM(I28:N28)","v":0},{"$f":"SUM(C28:N28)","v":0},null,null,null,null,null,null,null,null,null,null,null,null,null,null,null,null,null,null,null,null,null,null,null,null,null,null,null,null,null,null,null,null,2549,2006,null,null,null,null,null,null,null,null,null,null,null,null,null,null,{"$f":"SUM(BB28:BM28)","v":0},{"$f":"SUM(BH28:BM28)","v":0},{"$f":"SUM(BB28:BM28)","v":0},null,{"$f":"543+BU28","v":2549},{"$f":"BA28","v":2006},{"$f":"W28+AL28+BB28","v":0},{"$f":"X28+AM28+BC28","v":0},{"$f":"Y28+AN28+BD28","v":0},{"$f":"Z28+AO28+BE28","v":0},{"$f":"AA28+AP28+BF28","v":0},{"$f":"AB28+AQ28+BG28","v":0},{"$f":"AC28+AR28+BH28","v":0},{"$f":"AD28+AS28+BI28","v":0},{"$f":"AE28+AT28+BJ28","v":0},{"$f":"AF28+AU28+BK28","v":0},{"$f":"AG28+AV28+BL28","v":0},{"$f":"AH28+AW28+BM28","v":0},{"$f":"SUM(BV28:CG28)","v":0},null,null,null,null,null,null,null,null,null,null,null,null,null,null,null,null,null,null,null,{"$f":"543+DC28","v":2549},{"$f":"BU28","v":2006},{"$f":"IF(IF(DO27+C28-BV28>CM$12,CM$12,DO27+C28-BV28)<CM$13,CM$13,IF(DO27+C28-BV28>CM$12,CM$12,DO27+C28-BV28))","v":{"$error":"#DIV/0!"}},{"$f":"IF(IF(DD28+D28-BW28>CN$12,CN$12,DD28+D28-BW28)<CN$13,CN$13,IF(DD28+D28-BW28>CN$12,CN$12,DD28+D28-BW28))","v":{"$error":"#DIV/0!"}},{"$error":"#DIV/0!"},{"$error":"#DIV/0!"},{"$error":"#DIV/0!"},{"$error":"#DIV/0!"},{"$error":"#DIV/0!"},{"$error":"#DIV/0!"},{"$error":"#DIV/0!"},{"$error":"#DIV/0!"},{"$error":"#DIV/0!"},{"$error":"#DIV/0!"},null,null,null,{"$f":"IF(DD28=CM$2,DO27+C28-BV28-CM$2,0)","v":{"$error":"#DIV/0!"}},{"$f":"IF(DE28=CN$2,DD28+D28-BW28-CN$2,0)","v":{"$error":"#DIV/0!"}},{"$f":"IF(DF28=CO$2,DE28+E28-BX28-CO$2,0)","v":{"$error":"#DIV/0!"}},{"$f":"IF(DG28=CP$2,DF28+F28-BY28-CP$2,0)","v":{"$error":"#DIV/0!"}},{"$f":"IF(DH28=CQ$2,DG28+G28-BZ28-CQ$2,0)","v":{"$error":"#DIV/0!"}},{"$f":"IF(DI28=CR$2,DH28+H28-CA28-CR$2,0)","v":{"$error":"#DIV/0!"}},{"$f":"IF(DJ28=CS$2,DI28+I28-CB28-CS$2,0)","v":{"$error":"#DIV/0!"}},{"$f":"IF(DK28=CT$2,DJ28+J28-CC28-CT$2,0)","v":{"$error":"#DIV/0!"}},{"$f":"IF(DL28=CU$2,DK28+K28-CD28-CU$2,0)","v":{"$error":"#DIV/0!"}},{"$f":"IF(DM28=CV$2,DL28+L28-CE28-CV$2,0)","v":{"$error":"#DIV/0!"}},{"$f":"IF(DN28=CW$2,DM28+M28-CF28-CW$2,0)","v":{"$error":"#DIV/0!"}},{"$f":"IF(DO28=CX$2,DN28+N28-CG28-CX$2,0)","v":{"$error":"#DIV/0!"}},{"$f":"IF(C28=\"\",\"\",SUM(DS28:ED28))","v":""},null,null,null,null,null,null,null,null,null,null,{"$f":"543+EQ28","v":2549},{"$f":"DC28","v":2006},{"$f":"IF(DO27+C28-DD28<0,0,DO27+C28-DD28)","v":{"$error":"#DIV/0!"}},{"$f":"IF(DD28+D28-DE28<0,0,DD28+D28-DE28)","v":{"$error":"#DIV/0!"}},{"$f":"IF(DE28+E28-DF28<0,0,DE28+E28-DF28)","v":{"$error":"#DIV/0!"}},{"$f":"IF(DF28+F28-DG28<0,0,DF28+F28-DG28)","v":{"$error":"#DIV/0!"}},{"$f":"IF(DG28+G28-DH28<0,0,DG28+G28-DH28)","v":{"$error":"#DIV/0!"}},{"$f":"IF(DH28+H28-DI28<0,0,DH28+H28-DI28)","v":{"$error":"#DIV/0!"}},{"$f":"IF(DI28+I28-DJ28<0,0,DI28+I28-DJ28)","v":{"$error":"#DIV/0!"}},{"$f":"IF(DJ28+J28-DK28<0,0,DJ28+J28-DK28)","v":{"$error":"#DIV/0!"}},{"$f":"IF(DK28+K28-DL28<0,0,DK28+K28-DL28)","v":{"$error":"#DIV/0!"}},{"$f":"IF(DL28+L28-DM28<0,0,DL28+L28-DM28)","v":{"$error":"#DIV/0!"}},{"$f":"IF(DM28+M28-DN28<0,0,DM28+M28-DN28)","v":{"$error":"#DIV/0!"}},{"$f":"IF(DN28+N28-DO28<0,0,DN28+N28-DO28)","v":{"$error":"#DIV/0!"}},null,null,{"$f":"543+FG28","v":2549},{"$f":"EQ28","v":2006},{"$f":"ABS(IF(ER28-BV28>0,0,ER28-BV28))","v":{"$error":"#DIV/0!"}},{"$f":"ABS(IF(ES28-BW28>0,0,ES28-BW28))","v":{"$error":"#DIV/0!"}},{"$f":"ABS(IF(ET28-BX28>0,0,ET28-BX28))","v":{"$error":"#DIV/0!"}},{"$f":"ABS(IF(EU28-BY28>0,0,EU28-BY28))","v":{"$error":"#DIV/0!"}},{"$f":"ABS(IF(EV28-BZ28>0,0,EV28-BZ28))","v":{"$error":"#DIV/0!"}},{"$f":"ABS(IF(EW28-CA28>0,0,EW28-CA28))","v":{"$error":"#DIV/0!"}},{"$f":"ABS(IF(EX28-CB28>0,0,EX28-CB28))","v":{"$error":"#DIV/0!"}},{"$f":"ABS(IF(EY28-CC28>0,0,EY28-CC28))","v":{"$error":"#DIV/0!"}},{"$f":"ABS(IF(EZ28-CD28>0,0,EZ28-CD28))","v":{"$error":"#DIV/0!"}},{"$f":"ABS(IF(FA28-CE28>0,0,FA28-CE28))","v":{"$error":"#DIV/0!"}},{"$f":"ABS(IF(FB28-CF28>0,0,FB28-CF28))","v":{"$error":"#DIV/0!"}},{"$f":"ABS(IF(FC28-CG28>0,0,FC28-CG28))","v":{"$error":"#DIV/0!"}},{"$f":"IF(C28=\"\",\"\",SUM(FH28:FS28))","v":""}]
[2550,2007,null,null,null,null,null,null,null,null,null,null,null,null,null,null,0,0,0,null,null,null,null,null,null,null,null,null,null,null,null,null,null,null,null,null,null,null,null,null,null,null,null,null,null,null,null,null,null,null,null,2550,2007,null,null,null,null,null,null,null,null,null,null,null,null,null,null,0,0,0,null,2550,2007,0,0,0,0,0,0,0,0,0,0,0,0,0,null,null,null,null,null,null,null,null,null,null,null,null,null,null,null,null,null,null,null,2550,2007,{"$error":"#DIV/0!"},{"$f":"IF(IF(DD29+D29-BW29>CN$12,CN$12,DD29+D29-BW29)<CN$13,CN$13,IF(DD29+D29-BW29>CN$12,CN$12,DD29+D29-BW29))","v":{"$error":"#DIV/0!"}},{"$error":"#DIV/0!"},{"$error":"#DIV/0!"},{"$error":"#DIV/0!"},{"$error":"#DIV/0!"},{"$error":"#DIV/0!"},{"$error":"#DIV/0!"},{"$error":"#DIV/0!"},{"$error":"#DIV/0!"},{"$error":"#DIV/0!"},{"$error":"#DIV/0!"},null,null,null,{"$error":"#DIV/0!"},{"$error":"#DIV/0!"},{"$error":"#DIV/0!"},{"$error":"#DIV/0!"},{"$error":"#DIV/0!"},{"$error":"#DIV/0!"},{"$error":"#DIV/0!"},{"$error":"#DIV/0!"},{"$error":"#DIV/0!"},{"$error":"#DIV/0!"},{"$error":"#DIV/0!"},{"$error":"#DIV/0!"},"",null,null,null,null,null,null,null,null,null,null,2550,2007,{"$error":"#DIV/0!"},{"$error":"#DIV/0!"},{"$error":"#DIV/0!"},{"$error":"#DIV/0!"},{"$error":"#DIV/0!"},{"$error":"#DIV/0!"},{"$error":"#DIV/0!"},{"$error":"#DIV/0!"},{"$error":"#DIV/0!"},{"$error":"#DIV/0!"},{"$error":"#DIV/0!"},{"$error":"#DIV/0!"},null,null,2550,2007,{"$error":"#DIV/0!"},{"$error":"#DIV/0!"},{"$error":"#DIV/0!"},{"$error":"#DIV/0!"},{"$error":"#DIV/0!"},{"$error":"#DIV/0!"},{"$error":"#DIV/0!"},{"$error":"#DIV/0!"},{"$error":"#DIV/0!"},{"$error":"#DIV/0!"},{"$error":"#DIV/0!"},{"$error":"#DIV/0!"},""]
[2551,2008,null,null,null,null,null,null,null,null,null,null,null,null,null,null,0,0,0,null,null,null,null,null,null,null,null,null,null,null,null,null,null,null,null,null,null,null,null,null,null,null,null,null,null,null,null,null,null,null,null,2551,2008,null,null,null,null,null,null,null,null,null,null,null,null,null,null,0,0,0,null,2551,2008,0,0,0,0,0,0,0,0,0,0,0,0,0,null,null,null,null,null,null,null,null,null,null,null,null,null,null,null,null,null,null,null,2551,2008,{"$error":"#DIV/0!"},{"$f":"IF(IF(DD30+D30-BW30>CN$12,CN$12,DD30+D30-BW30)<CN$13,CN$13,IF(DD30+D30-BW30>CN$12,CN$12,DD30+D30-BW30))","v":{"$error":"#DIV/0!"}},{"$error":"#DIV/0!"},{"$error":"#DIV/0!"},{"$error":"#DIV/0!"},{"$error":"#DIV/0!"},{"$error":"#DIV/0!"},{"$error":"#DIV/0!"},{"$error":"#DIV/0!"},{"$error":"#DIV/0!"},{"$error":"#DIV/0!"},{"$error":"#DIV/0!"},null,null,null,{"$error":"#DIV/0!"},{"$error":"#DIV/0!"},{"$error":"#DIV/0!"},{"$error":"#DIV/0!"},{"$error":"#DIV/0!"},{"$error":"#DIV/0!"},{"$error":"#DIV/0!"},{"$error":"#DIV/0!"},{"$error":"#DIV/0!"},{"$error":"#DIV/0!"},{"$error":"#DIV/0!"},{"$error":"#DIV/0!"},"",null,null,null,null,null,null,null,null,null,null,2551,2008,{"$error":"#DIV/0!"},{"$error":"#DIV/0!"},{"$error":"#DIV/0!"},{"$error":"#DIV/0!"},{"$error":"#DIV/0!"},{"$error":"#DIV/0!"},{"$error":"#DIV/0!"},{"$error":"#DIV/0!"},{"$error":"#DIV/0!"},{"$error":"#DIV/0!"},{"$error":"#DIV/0!"},{"$error":"#DIV/0!"},null,null,2551,2008,{"$error":"#DIV/0!"},{"$error":"#DIV/0!"},{"$error":"#DIV/0!"},{"$error":"#DIV/0!"},{"$error":"#DIV/0!"},{"$error":"#DIV/0!"},{"$error":"#DIV/0!"},{"$error":"#DIV/0!"},{"$error":"#DIV/0!"},{"$error":"#DIV/0!"},{"$error":"#DIV/0!"},{"$error":"#DIV/0!"},""]
[2552,2009,null,null,null,null,null,null,null,null,null,null,null,null,null,null,0,0,0,null,null,null,null,null,null,null,null,null,null,null,null,null,null,null,null,null,null,null,null,null,null,null,null,null,null,null,null,null,null,null,null,2552,2009,null,null,null,null,null,null,null,null,null,null,null,null,null,null,0,0,0,null,2552,2009,0,0,0,0,0,0,0,0,0,0,0,0,0,null,null,null,null,null,null,null,null,null,null,null,null,null,null,null,null,null,null,null,2552,2009,{"$error":"#DIV/0!"},{"$f":"IF(IF(DD31+D31-BW31>CN$12,CN$12,DD31+D31-BW31)<CN$13,CN$13,IF(DD31+D31-BW31>CN$12,CN$12,DD31+D31-BW31))","v":{"$error":"#DIV/0!"}},{"$error":"#DIV/0!"},{"$error":"#DIV/0!"},{"$error":"#DIV/0!"},{"$error":"#DIV/0!"},{"$error":"#DIV/0!"},{"$error":"#DIV/0!"},{"$error":"#DIV/0!"},{"$error":"#DIV/0!"},{"$error":"#DIV/0!"},{"$error":"#DIV/0!"},null,null,null,{"$error":"#DIV/0!"},{"$error":"#DIV/0!"},{"$error":"#DIV/0!"},{"$error":"#DIV/0!"},{"$error":"#DIV/0!"},{"$error":"#DIV/0!"},{"$error":"#DIV/0!"},{"$error":"#DIV/0!"},{"$error":"#DIV/0!"},{"$error":"#DIV/0!"},{"$error":"#DIV/0!"},{"$error":"#DIV/0!"},"",null,null,null,null,null,null,null,null,null,null,2552,2009,{"$error":"#DIV/0!"},{"$error":"#DIV/0!"},{"$error":"#DIV/0!"},{"$error":"#DIV/0!"},{"$error":"#DIV/0!"},{"$error":"#DIV/0!"},{"$error":"#DIV/0!"},{"$error":"#DIV/0!"},{"$error":"#DIV/0!"},{"$error":"#DIV/0!"},{"$error":"#DIV/0!"},{"$error":"#DIV/0!"},null,null,2552,2009,{"$error":"#DIV/0!"},{"$error":"#DIV/0!"},{"$error":"#DIV/0!"},{"$error":"#DIV/0!"},{"$error":"#DIV/0!"},{"$error":"#DIV/0!"},{"$error":"#DIV/0!"},{"$error":"#DIV/0!"},{"$error":"#DIV/0!"},{"$error":"#DIV/0!"},{"$error":"#DIV/0!"},{"$error":"#DIV/0!"},""]
[2553,2010,null,null,null,null,null,null,null,null,null,null,null,null,null,null,0,0,0,null,null,null,null,null,null,null,null,null,null,null,null,null,null,null,null,null,null,null,null,null,null,null,null,null,null,null,null,null,null,null,null,2553,2010,null,null,null,null,null,null,null,null,null,null,null,null,null,null,0,0,0,null,2553,2010,0,0,0,0,0,0,0,0,0,0,0,0,0,null,null,null,null,null,null,null,null,null,null,null,null,null,null,null,null,null,null,null,2553,2010,{"$error":"#DIV/0!"},{"$f":"IF(IF(DD32+D32-BW32>CN$12,CN$12,DD32+D32-BW32)<CN$13,CN$13,IF(DD32+D32-BW32>CN$12,CN$12,DD32+D32-BW32))","v":{"$error":"#DIV/0!"}},{"$error":"#DIV/0!"},{"$error":"#DIV/0!"},{"$error":"#DIV/0!"},{"$error":"#DIV/0!"},{"$error":"#DIV/0!"},{"$error":"#DIV/0!"},{"$error":"#DIV/0!"},{"$error":"#DIV/0!"},{"$error":"#DIV/0!"},{"$error":"#DIV/0!"},null,null,null,{"$error":"#DIV/0!"},{"$error":"#DIV/0!"},{"$error":"#DIV/0!"},{"$error":"#DIV/0!"},{"$error":"#DIV/0!"},{"$error":"#DIV/0!"},{"$error":"#DIV/0!"},{"$error":"#DIV/0!"},{"$error":"#DIV/0!"},{"$error":"#DIV/0!"},{"$error":"#DIV/0!"},{"$error":"#DIV/0!"},"",null,null,null,null,null,null,null,null,null,null,2553,2010,{"$error":"#DIV/0!"},{"$error":"#DIV/0!"},{"$error":"#DIV/0!"},{"$error":"#DIV/0!"},{"$error":"#DIV/0!"},{"$error":"#DIV/0!"},{"$error":"#DIV/0!"},{"$error":"#DIV/0!"},{"$error":"#DIV/0!"},{"$error":"#DIV/0!"},{"$error":"#DIV/0!"},{"$error":"#DIV/0!"},null,null,2553,2010,{"$error":"#DIV/0!"},{"$error":"#DIV/0!"},{"$error":"#DIV/0!"},{"$error":"#DIV/0!"},{"$error":"#DIV/0!"},{"$error":"#DIV/0!"},{"$error":"#DIV/0!"},{"$error":"#DIV/0!"},{"$error":"#DIV/0!"},{"$error":"#DIV/0!"},{"$error":"#DIV/0!"},{"$error":"#DIV/0!"},""]
[2554,2011,null,null,null,null,null,null,null,null,null,null,null,null,null,null,0,0,0,null,null,null,null,null,null,null,null,null,null,null,null,null,null,null,null,null,null,null,null,null,null,null,null,null,null,null,null,null,null,null,null,2554,2011,null,null,null,null,null,null,null,null,null,null,null,null,null,null,0,0,0,null,2554,2011,0,0,0,0,0,0,0,0,0,0,0,0,0,null,null,null,null,null,null,null,null,null,null,null,null,null,null,null,null,null,null,null,2554,2011,{"$error":"#DIV/0!"},{"$f":"IF(IF(DD33+D33-BW33>CN$12,CN$12,DD33+D33-BW33)<CN$13,CN$13,IF(DD33+D33-BW33>CN$12,CN$12,DD33+D33-BW33))","v":{"$error":"#DIV/0!"}},{"$error":"#DIV/0!"},{"$error":"#DIV/0!"},{"$error":"#DIV/0!"},{"$error":"#DIV/0!"},{"$error":"#DIV/0!"},{"$error":"#DIV/0!"},{"$error":"#DIV/0!"},{"$error":"#DIV/0!"},{"$error":"#DIV/0!"},{"$error":"#DIV/0!"},null,null,null,{"$error":"#DIV/0!"},{"$error":"#DIV/0!"},{"$error":"#DIV/0!"},{"$error":"#DIV/0!"},{"$error":"#DIV/0!"},{"$error":"#DIV/0!"},{"$error":"#DIV/0!"},{"$error":"#DIV/0!"},{"$error":"#DIV/0!"},{"$error":"#DIV/0!"},{"$error":"#DIV/0!"},{"$error":"#DIV/0!"},"",null,null,null,null,null,null,null,null,null,null,2554,2011,{"$error":"#DIV/0!"},{"$error":"#DIV/0!"},{"$error":"#DIV/0!"},{"$error":"#DIV/0!"},{"$error":"#DIV/0!"},{"$error":"#DIV/0!"},{"$error":"#DIV/0!"},{"$error":"#DIV/0!"},{"$error":"#DIV/0!"},{"$error":"#DIV/0!"},{"$error":"#DIV/0!"},{"$error":"#DIV/0!"},null,null,2554,2011,{"$error":"#DIV/0!"},{"$error":"#DIV/0!"},{"$error":"#DIV/0!"},{"$error":"#DIV/0!"},{"$error":"#DIV/0!"},{"$error":"#DIV/0!"},{"$error":"#DIV/0!"},{"$error":"#DIV/0!"},{"$error":"#DIV/0!"},{"$error":"#DIV/0!"},{"$error":"#DIV/0!"},{"$error":"#DIV/0!"},""]
[2555,2012,null,null,null,null,null,null,null,null,null,null,null,null,null,null,0,0,0,null,null,null,null,null,null,null,null,null,null,null,null,null,null,null,null,null,null,null,null,null,null,null,null,null,null,null,null,null,null,null,null,2555,2012,null,null,null,null,null,null,null,null,null,null,null,null,null,null,0,0,0,null,2555,2012,0,0,0,0,0,0,0,0,0,0,0,0,0,null,null,null,null,null,null,null,null,null,null,null,null,null,null,null,null,null,null,null,2555,2012,{"$error":"#DIV/0!"},{"$f":"IF(IF(DD34+D34-BW34>CN$12,CN$12,DD34+D34-BW34)<CN$13,CN$13,IF(DD34+D34-BW34>CN$12,CN$12,DD34+D34-BW34))","v":{"$error":"#DIV/0!"}},{"$error":"#DIV/0!"},{"$error":"#DIV/0!"},{"$error":"#DIV/0!"},{"$error":"#DIV/0!"},{"$error":"#DIV/0!"},{"$error":"#DIV/0!"},{"$error":"#DIV/0!"},{"$error":"#DIV/0!"},{"$error":"#DIV/0!"},{"$error":"#DIV/0!"},null,null,null,{"$error":"#DIV/0!"},{"$error":"#DIV/0!"},{"$error":"#DIV/0!"},{"$error":"#DIV/0!"},{"$error":"#DIV/0!"},{"$error":"#DIV/0!"},{"$error":"#DIV/0!"},{"$error":"#DIV/0!"},{"$error":"#DIV/0!"},{"$error":"#DIV/0!"},{"$error":"#DIV/0!"},{"$error":"#DIV/0!"},"",null,null,null,null,null,null,null,null,null,null,2555,2012,{"$error":"#DIV/0!"},{"$error":"#DIV/0!"},{"$error":"#DIV/0!"},{"$error":"#DIV/0!"},{"$error":"#DIV/0!"},{"$error":"#DIV/0!"},{"$error":"#DIV/0!"},{"$error":"#DIV/0!"},{"$error":"#DIV/0!"},{"$error":"#DIV/0!"},{"$error":"#DIV/0!"},{"$error":"#DIV/0!"},null,null,2555,2012,{"$error":"#DIV/0!"},{"$error":"#DIV/0!"},{"$error":"#DIV/0!"},{"$error":"#DIV/0!"},{"$error":"#DIV/0!"},{"$error":"#DIV/0!"},{"$error":"#DIV/0!"},{"$error":"#DIV/0!"},{"$error":"#DIV/0!"},{"$error":"#DIV/0!"},{"$error":"#DIV/0!"},{"$error":"#DIV/0!"},""]
[2556,2013,null,null,null,null,null,null,null,null,null,null,null,null,null,null,0,0,0,null,null,null,null,null,null,null,null,null,null,null,null,null,null,null,null,null,null,null,null,null,null,null,null,null,null,null,null,null,null,null,null,2556,2013,null,null,null,null,null,null,null,null,null,null,null,null,null,null,0,0,0,null,2556,2013,0,0,0,0,0,0,0,0,0,0,0,0,0,null,null,null,null,null,null,null,null,null,null,null,null,null,null,null,null,null,null,null,2556,2013,{"$error":"#DIV/0!"},{"$f":"IF(IF(DD35+D35-BW35>CN$12,CN$12,DD35+D35-BW35)<CN$13,CN$13,IF(DD35+D35-BW35>CN$12,CN$12,DD35+D35-BW35))","v":{"$error":"#DIV/0!"}},{"$error":"#DIV/0!"},{"$error":"#DIV/0!"},{"$error":"#DIV/0!"},{"$error":"#DIV/0!"},{"$error":"#DIV/0!"},{"$error":"#DIV/0!"},{"$error":"#DIV/0!"},{"$error":"#DIV/0!"},{"$error":"#DIV/0!"},{"$error":"#DIV/0!"},null,null,null,{"$error":"#DIV/0!"},{"$error":"#DIV/0!"},{"$error":"#DIV/0!"},{"$error":"#DIV/0!"},{"$error":"#DIV/0!"},{"$error":"#DIV/0!"},{"$error":"#DIV/0!"},{"$error":"#DIV/0!"},{"$error":"#DIV/0!"},{"$error":"#DIV/0!"},{"$error":"#DIV/0!"},{"$error":"#DIV/0!"},"",null,null,null,null,null,null,null,null,null,null,2556,2013,{"$error":"#DIV/0!"},{"$error":"#DIV/0!"},{"$error":"#DIV/0!"},{"$error":"#DIV/0!"},{"$error":"#DIV/0!"},{"$error":"#DIV/0!"},{"$error":"#DIV/0!"},{"$error":"#DIV/0!"},{"$error":"#DIV/0!"},{"$error":"#DIV/0!"},{"$error":"#DIV/0!"},{"$error":"#DIV/0!"},null,null,2556,2013,{"$error":"#DIV/0!"},{"$error":"#DIV/0!"},{"$error":"#DIV/0!"},{"$error":"#DIV/0!"},{"$error":"#DIV/0!"},{"$error":"#DIV/0!"},{"$error":"#DIV/0!"},{"$error":"#DIV/0!"},{"$error":"#DIV/0!"},{"$error":"#DIV/0!"},{"$error":"#DIV/0!"},{"$error":"#DIV/0!"},""]
[2557,2014,null,null,null,null,null,null,null,null,null,null,null,null,null,null,0,0,0,null,null,null,null,null,null,null,null,null,null,null,null,null,null,null,null,null,null,null,null,null,null,null,null,null,null,null,null,null,null,null,null,2557,2014,null,null,null,null,null,null,null,null,null,null,null,null,null,null,0,0,0,null,2557,2014,0,0,0,0,0,0,0,0,0,0,0,0,0,null,null,null,null,null,null,null,null,null,null,null,null,null,null,null,null,null,null,null,2557,2014,{"$error":"#DIV/0!"},{"$f":"IF(IF(DD36+D36-BW36>CN$12,CN$12,DD36+D36-BW36)<CN$13,CN$13,IF(DD36+D36-BW36>CN$12,CN$12,DD36+D36-BW36))","v":{"$error":"#DIV/0!"}},{"$error":"#DIV/0!"},{"$error":"#DIV/0!"},{"$error":"#DIV/0!"},{"$error":"#DIV/0!"},{"$error":"#DIV/0!"},{"$error":"#DIV/0!"},{"$error":"#DIV/0!"},{"$error":"#DIV/0!"},{"$error":"#DIV/0!"},{"$error":"#DIV/0!"},null,null,null,{"$error":"#DIV/0!"},{"$error":"#DIV/0!"},{"$error":"#DIV/0!"},{"$error":"#DIV/0!"},{"$error":"#DIV/0!"},{"$error":"#DIV/0!"},{"$error":"#DIV/0!"},{"$error":"#DIV/0!"},{"$error":"#DIV/0!"},{"$error":"#DIV/0!"},{"$error":"#DIV/0!"},{"$error":"#DIV/0!"},"",null,null,null,null,null,null,null,null,null,null,2557,2014,{"$error":"#DIV/0!"},{"$error":"#DIV/0!"},{"$error":"#DIV/0!"},{"$error":"#DIV/0!"},{"$error":"#DIV/0!"},{"$error":"#DIV/0!"},{"$error":"#DIV/0!"},{"$error":"#DIV/0!"},{"$error":"#DIV/0!"},{"$error":"#DIV/0!"},{"$error":"#DIV/0!"},{"$error":"#DIV/0!"},null,null,2557,2014,{"$error":"#DIV/0!"},{"$error":"#DIV/0!"},{"$error":"#DIV/0!"},{"$error":"#DIV/0!"},{"$error":"#DIV/0!"},{"$error":"#DIV/0!"},{"$error":"#DIV/0!"},{"$error":"#DIV/0!"},{"$error":"#DIV/0!"},{"$error":"#DIV/0!"},{"$error":"#DIV/0!"},{"$error":"#DIV/0!"},""]
[2558,2015,null,null,null,null,null,null,null,null,null,null,null,null,null,null,0,0,0,null,null,null,null,null,null,null,null,null,null,null,null,null,null,null,null,null,null,null,null,null,null,null,null,null,null,null,null,null,null,null,null,2558,2015,null,null,null,null,null,null,null,null,null,null,null,null,null,null,{"$f":"SUM(BB37:BM37)","v":0},{"$f":"SUM(BH37:BM37)","v":0},{"$f":"SUM(BB37:BM37)","v":0},null,{"$f":"543+BU37","v":2558},{"$f":"BA37","v":2015},{"$f":"W37+AL37+BB37","v":0},{"$f":"X37+AM37+BC37","v":0},{"$f":"Y37+AN37+BD37","v":0},{"$f":"Z37+AO37+BE37","v":0},{"$f":"AA37+AP37+BF37","v":0},{"$f":"AB37+AQ37+BG37","v":0},{"$f":"AC37+AR37+BH37","v":0},{"$f":"AD37+AS37+BI37","v":0},{"$f":"AE37+AT37+BJ37","v":0},{"$f":"AF37+AU37+BK37","v":0},{"$f":"AG37+AV37+BL37","v":0},{"$f":"AH37+AW37+BM37","v":0},{"$f":"SUM(BV37:CG37)","v":0},null,null,null,null,null,null,null,null,null,null,null,null,null,null,null,null,null,null,null,{"$f":"543+DC37","v":2558},{"$f":"BU37","v":2015},{"$f":"IF(IF(DO36+C37-BV37>CM$12,CM$12,DO36+C37-BV37)<CM$13,CM$13,IF(DO36+C37-BV37>CM$12,CM$12,DO36+C37-BV37))","v":{"$error":"#DIV/0!"}},{"$error":"#DIV/0!"},{"$error":"#DIV/0!"},{"$error":"#DIV/0!"},{"$error":"#DIV/0!"},{"$error":"#DIV/0!"},{"$error":"#DIV/0!"},{"$error":"#DIV/0!"},{"$error":"#DIV/0!"},{"$error":"#DIV/0!"},{"$error":"#DIV/0!"},{"$error":"#DIV/0!"},null,null,null,{"$f":"IF(DD37=CM$2,DO36+C37-BV37-CM$2,0)","v":{"$error":"#DIV/0!"}},{"$f":"IF(DE37=CN$2,DD37+D37-BW37-CN$2,0)","v":{"$error":"#DIV/0!"}},{"$f":"IF(DF37=CO$2,DE37+E37-BX37-CO$2,0)","v":{"$error":"#DIV/0!"}},{"$f":"IF(DG37=CP$2,DF37+F37-BY37-CP$2,0)","v":{"$error":"#DIV/0!"}},{"$f":"IF(DH37=CQ$2,DG37+G37-BZ37-CQ$2,0)","v":{"$error":"#DIV/0!"}},{"$f":"IF(DI37=CR$2,DH37+H37-CA37-CR$2,0)","v":{"$error":"#DIV/0!"}},{"$f":"IF(DJ37=CS$2,DI37+I37-CB37-CS$2,0)","v":{"$error":"#DIV/0!"}},{"$f":"IF(DK37=CT$2,DJ37+J37-CC37-CT$2,0)","v":{"$error":"#DIV/0!"}},{"$f":"IF(DL37=CU$2,DK37+K37-CD37-CU$2,0)","v":{"$error":"#DIV/0!"}},{"$f":"IF(DM37=CV$2,DL37+L37-CE37-CV$2,0)","v":{"$error":"#DIV/0!"}},{"$f":"IF(DN37=CW$2,DM37+M37-CF37-CW$2,0)","v":{"$error":"#DIV/0!"}},{"$f":"IF(DO37=CX$2,DN37+N37-CG37-CX$2,0)","v":{"$error":"#DIV/0!"}},{"$f":"IF(C37=\"\",\"\",SUM(DS37:ED37))","v":""},null,null,null,null,null,null,null,null,null,null,{"$f":"543+EQ37","v":2558},{"$f":"DC37","v":2015},{"$f":"IF(DO36+C37-DD37<0,0,DO36+C37-DD37)","v":{"$error":"#DIV/0!"}},{"$f":"IF(DD37+D37-DE37<0,0,DD37+D37-DE37)","v":{"$error":"#DIV/0!"}},{"$f":"IF(DE37+E37-DF37<0,0,DE37+E37-DF37)","v":{"$error":"#DIV/0!"}},{"$f":"IF(DF37+F37-DG37<0,0,DF37+F37-DG37)","v":{"$error":"#DIV/0!"}},{"$f":"IF(DG37+G37-DH37<0,0,DG37+G37-DH37)","v":{"$error":"#DIV/0!"}},{"$f":"IF(DH37+H37-DI37<0,0,DH37+H37-DI37)","v":{"$error":"#DIV/0!"}},{"$f":"IF(DI37+I37-DJ37<0,0,DI37+I37-DJ37)","v":{"$error":"#DIV/0!"}},{"$f":"IF(DJ37+J37-DK37<0,0,DJ37+J37-DK37)","v":{"$error":"#DIV/0!"}},{"$f":"IF(DK37+K37-DL37<0,0,DK37+K37-DL37)","v":{"$error":"#DIV/0!"}},{"$f":"IF(DL37+L37-DM37<0,0,DL37+L37-DM37)","v":{"$error":"#DIV/0!"}},{"$f":"IF(DM37+M37-DN37<0,0,DM37+M37-DN37)","v":{"$error":"#DIV/0!"}},{"$f":"IF(DN37+N37-DO37<0,0,DN37+N37-DO37)","v":{"$error":"#DIV/0!"}},null,null,{"$f":"543+FG37","v":2558},{"$f":"EQ37","v":2015},{"$f":"ABS(IF(ER37-BV37>0,0,ER37-BV37))","v":{"$error":"#DIV/0!"}},{"$f":"ABS(IF(ES37-BW37>0,0,ES37-BW37))","v":{"$error":"#DIV/0!"}},{"$f":"ABS(IF(ET37-BX37>0,0,ET37-BX37))","v":{"$error":"#DIV/0!"}},{"$f":"ABS(IF(EU37-BY37>0,0,EU37-BY37))","v":{"$error":"#DIV/0!"}},{"$f":"ABS(IF(EV37-BZ37>0,0,EV37-BZ37))","v":{"$error":"#DIV/0!"}},{"$f":"ABS(IF(EW37-CA37>0,0,EW37-CA37))","v":{"$error":"#DIV/0!"}},{"$f":"ABS(IF(EX37-CB37>0,0,EX37-CB37))","v":{"$error":"#DIV/0!"}},{"$f":"ABS(IF(EY37-CC37>0,0,EY37-CC37))","v":{"$error":"#DIV/0!"}},{"$f":"ABS(IF(EZ37-CD37>0,0,EZ37-CD37))","v":{"$error":"#DIV/0!"}},{"$f":"ABS(IF(FA37-CE37>0,0,FA37-CE37))","v":{"$error":"#DIV/0!"}},{"$f":"ABS(IF(FB37-CF37>0,0,FB37-CF37))","v":{"$error":"#DIV/0!"}},{"$f":"ABS(IF(FC37-CG37>0,0,FC37-CG37))","v":{"$error":"#DIV/0!"}},{"$f":"IF(C37=\"\",\"\",SUM(FH37:FS37))","v":""}]
[2559,2016,null,null,null,null,null,null,null,null,null,null,null,null,null,null,0,0,0,null,null,null,null,null,null,null,null,null,null,null,null,null,null,null,null,null,null,null,null,null,null,null,null,null,null,null,null,null,null,null,null,2559,2016,null,null,null,null,null,null,null,null,null,null,null,null,null,null,0,0,0,null,2559,2016,0,0,0,0,0,0,0,0,0,0,0,0,0,null,null,null,null,null,null,null,null,null,null,null,null,null,null,null,null,null,null,null,2559,2016,{"$error":"#DIV/0!"},{"$f":"IF(IF(DD38+D38-BW38>CN$12,CN$12,DD38+D38-BW38)<CN$13,CN$13,IF(DD38+D38-BW38>CN$12,CN$12,DD38+D38-BW38))","v":{"$error":"#DIV/0!"}},{"$f":"IF(IF(DE38+E38-BX38>CO$12,CO$12,DE38+E38-BX38)<CO$13,CO$13,IF(DE38+E38-BX38>CO$12,CO$12,DE38+E38-BX38))","v":{"$error":"#DIV/0!"}},{"$f":"IF(IF(DF38+F38-BY38>CP$12,CP$12,DF38+F38-BY38)<CP$13,CP$13,IF(DF38+F38-BY38>CP$12,CP$12,DF38+F38-BY38))","v":{"$error":"#DIV/0!"}},{"$f":"IF(IF(DG38+G38-BZ38>CQ$12,CQ$12,DG38+G38-BZ38)<CQ$13,CQ$13,IF(DG38+G38-BZ38>CQ$12,CQ$12,DG38+G38-BZ38))","v":{"$error":"#DIV/0!"}},{"$f":"IF(IF(DH38+H38-CA38>CR$12,CR$12,DH38+H38-CA38)<CR$13,CR$13,IF(DH38+H38-CA38>CR$12,CR$12,DH38+H38-CA38))","v":{"$error":"#DIV/0!"}},{"$f":"IF(IF(DI38+I38-CB38>CS$12,CS$12,DI38+I38-CB38)<CS$13,CS$13,IF(DI38+I38-CB38>CS$12,CS$12,DI38+I38-CB38))","v":{"$error":"#DIV/0!"}},{"$f":"IF(IF(DJ38+J38-CC38>CT$12,CT$12,DJ38+J38-CC38)<CT$13,CT$13,IF(DJ38+J38-CC38>CT$12,CT$12,DJ38+J38-CC38))","v":{"$error":"#DIV/0!"}},{"$f":"IF(IF(DK38+K38-CD38>CU$12,CU$12,DK38+K38-CD38)<CU$13,CU$13,IF(DK38+K38-CD38>CU$12,CU$12,DK38+K38-CD38))","v":{"$error":"#DIV/0!"}},{"$f":"IF(IF(DL38+L38-CE38>CV$12,CV$12,DL38+L38-CE38)<CV$13,CV$13,IF(DL38+L38-CE38>CV$12,CV$12,DL38+L38-CE38))","v":{"$error":"#DIV/0!"}},{"$f":"IF(IF(DM38+M38-CF38>CW$12,CW$12,DM38+M38-CF38)<CW$13,CW$13,IF(DM38+M38-CF38>CW$12,CW$12,DM38+M38-CF38))","v":{"$error":"#DIV/0!"}},{"$f":"IF(IF(DN38+N38-CG38>CX$12,CX$12,DN38+N38-CG38)<CX$13,CX$13,IF(DN38+N38-CG38>CX$12,CX$12,DN38+N38-CG38))","v":{"$error":"#DIV/0!"}},null,null,null,{"$error":"#DIV/0!"},{"$error":"#DIV/0!"},{"$error":"#DIV/0!"},{"$error":"#DIV/0!"},{"$error":"#DIV/0!"},{"$error":"#DIV/0!"},{"$error":"#DIV/0!"},{"$error":"#DIV/0!"},{"$error":"#DIV/0!"},{"$error":"#DIV/0!"},{"$error":"#DIV/0!"},{"$error":"#DIV/0!"},"",null,null,null,null,null,null,null,null,null,null,2559,2016,{"$error":"#DIV/0!"},{"$error":"#DIV/0!"},{"$error":"#DIV/0!"},{"$error":"#DIV/0!"},{"$error":"#DIV/0!"},{"$error":"#DIV/0!"},{"$error":"#DIV/0!"},{"$error":"#DIV/0!"},{"$error":"#DIV/0!"},{"$error":"#DIV/0!"},{"$error":"#DIV/0!"},{"$error":"#DIV/0!"},null,null,2559,2016,{"$error":"#DIV/0!"},{"$error":"#DIV/0!"},{"$error":"#DIV/0!"},{"$error":"#DIV/0!"},{"$error":"#DIV/0!"},{"$error":"#DIV/0!"},{"$error":"#DIV/0!"},{"$error":"#DIV/0!"},{"$error":"#DIV/0!"},{"$error":"#DIV/0!"},{"$error":"#DIV/0!"},{"$error":"#DIV/0!"},""]
[2560,2017,null,null,null,null,null,null,null,null,null,null,null,null,null,null,0,0,0,null,null,null,null,null,null,null,null,null,null,null,null,null,null,null,null,null,null,null,null,null,null,null,null,null,null,null,null,null,null,null,null,2560,2017,null,null,null,null,null,null,null,null,null,null,null,null,null,null,0,0,0,null,2560,2017,0,0,0,0,0,0,0,0,0,0,0,0,0,null,null,null,null,null,null,null,null,null,null,null,null,null,null,null,null,null,null,null,2560,2017,{"$error":"#DIV/0!"},{"$error":"#DIV/0!"},{"$error":"#DIV/0!"},{"$error":"#DIV/0!"},{"$error":"#DIV/0!"},{"$error":"#DIV/0!"},{"$error":"#DIV/0!"},{"$error":"#DIV/0!"},{"$error":"#DIV/0!"},{"$error":"#DIV/0!"},{"$error":"#DIV/0!"},{"$error":"#DIV/0!"},null,null,null,{"$error":"#DIV/0!"},{"$error":"#DIV/0!"},{"$error":"#DIV/0!"},{"$error":"#DIV/0!"},{"$error":"#DIV/0!"},{"$error":"#DIV/0!"},{"$error":"#DIV/0!"},{"$error":"#DIV/0!"},{"$error":"#DIV/0!"},{"$error":"#DIV/0!"},{"$error":"#DIV/0!"},{"$error":"#DIV/0!"},"",null,null,null,null,null,null,null,null,null,null,2560,2017,{"$error":"#DIV/0!"},{"$error":"#DIV/0!"},{"$error":"#DIV/0!"},{"$error":"#DIV/0!"},{"$error":"#DIV/0!"},{"$error":"#DIV/0!"},{"$error":"#DIV/0!"},{"$error":"#DIV/0!"},{"$error":"#DIV/0!"},{"$error":"#DIV/0!"},{"$error":"#DIV/0!"},{"$error":"#DIV/0!"},null,null,2560,2017,{"$error":"#DIV/0!"},{"$error":"#DIV/0!"},{"$error":"#DIV/0!"},{"$error":"#DIV/0!"},{"$error":"#DIV/0!"},{"$error":"#DIV/0!"},{"$error":"#DIV/0!"},{"$error":"#DIV/0!"},{"$error":"#DIV/0!"},{"$error":"#DIV/0!"},{"$error":"#DIV/0!"},{"$error":"#DIV/0!"},""]
[2561,2018,null,null,null,null,null,null,null,null,null,null,null,null,null,null,0,0,0,null,null,null,null,null,null,null,null,null,null,null,null,null,null,null,null,null,null,null,null,null,null,null,null,null,null,null,null,null,null,null,null,2561,2018,null,null,null,null,null,null,null,null,null,null,null,null,null,null,0,0,0,null,2561,2018,0,0,0,0,0,0,0,0,0,0,0,0,0,null,null,null,null,null,null,null,null,null,null,null,null,null,null,null,null,null,null,null,2561,2018,{"$error":"#DIV/0!"},{"$error":"#DIV/0!"},{"$error":"#DIV/0!"},{"$error":"#DIV/0!"},{"$error":"#DIV/0!"},{"$error":"#DIV/0!"},{"$error":"#DIV/0!"},{"$error":"#DIV/0!"},{"$error":"#DIV/0!"},{"$error":"#DIV/0!"},{"$error":"#DIV/0!"},{"$error":"#DIV/0!"},null,null,null,{"$error":"#DIV/0!"},{"$error":"#DIV/0!"},{"$error":"#DIV/0!"},{"$error":"#DIV/0!"},{"$error":"#DIV/0!"},{"$error":"#DIV/0!"},{"$error":"#DIV/0!"},{"$error":"#DIV/0!"},{"$error":"#DIV/0!"},{"$error":"#DIV/0!"},{"$error":"#DIV/0!"},{"$error":"#DIV/0!"},"",null,null,null,null,null,null,null,null,null,null,2561,2018,{"$error":"#DIV/0!"},{"$error":"#DIV/0!"},{"$error":"#DIV/0!"},{"$error":"#DIV/0!"},{"$error":"#DIV/0!"},{"$error":"#DIV/0!"},{"$error":"#DIV/0!"},{"$error":"#DIV/0!"},{"$error":"#DIV/0!"},{"$error":"#DIV/0!"},{"$error":"#DIV/0!"},{"$error":"#DIV/0!"},null,null,2561,2018,{"$error":"#DIV/0!"},{"$error":"#DIV/0!"},{"$error":"#DIV/0!"},{"$error":"#DIV/0!"},{"$error":"#DIV/0!"},{"$error":"#DIV/0!"},{"$error":"#DIV/0!"},{"$error":"#DIV/0!"},{"$error":"#DIV/0!"},{"$error":"#DIV/0!"},{"$error":"#DIV/0!"},{"$error":"#DIV/0!"},""]

{"sheet":"REPORT","index":25,"n_rows":14,"n_cols":20,"rows_kept":14,"cut":false,"hidden":false,"merged":[]}
[{"$f":"NRI!O1","v":0},null,null,null,null,null,null,null,null,null,null,null,null,null,null,null,null,null,null,"."]
["ปริมาณน้ำที่ระดับ","ม.ค.","ก.พ.","มี.ค.","เม.ย.","พ.ค.","มิ.ย.","ก.ค.","ส.ค.","ก.ย.","ต.ค.","พ.ย.","ธ.ค.",null,"รายการ","RID","POP. 5%","POP. 15%","VAR.","Mod."]
["NST.",{"$f":"'Hec3'!CM2","v":0},{"$f":"'Hec3'!CN2","v":0},{"$f":"'Hec3'!CO2","v":0},{"$f":"'Hec3'!CP2","v":0},{"$f":"'Hec3'!CQ2","v":0},{"$f":"'Hec3'!CR2","v":0},{"$f":"'Hec3'!CS2","v":0},{"$f":"'Hec3'!CT2","v":0},{"$f":"'Hec3'!CU2","v":0},{"$f":"'Hec3'!CV2","v":0},{"$f":"'Hec3'!CW2","v":0},{"$f":"'Hec3'!CX2","v":0},null,"จำนวนปีน้ำล้น",{"$f":"'Hec3'!CT16","v":0},{"$f":"'Hec3'!CU16","v":0},{"$f":"'Hec3'!CV16","v":1},{"$f":"'Hec3'!CW16","v":1},{"$f":"'Hec3'!CX16","v":0}]
["DST.",{"$f":"'Hec3'!CM3","v":0},{"$f":"'Hec3'!CN3","v":0},{"$f":"'Hec3'!CO3","v":0},{"$f":"'Hec3'!CP3","v":0},{"$f":"'Hec3'!CQ3","v":0},{"$f":"'Hec3'!CR3","v":0},{"$f":"'Hec3'!CS3","v":0},{"$f":"'Hec3'!CT3","v":0},{"$f":"'Hec3'!CU3","v":0},{"$f":"'Hec3'!CV3","v":0},{"$f":"'Hec3'!CW3","v":0},{"$f":"'Hec3'!CX3","v":0},null,"จำนวนปีน้ำแล้ง",{"$f":"'Hec3'!CT17","v":9},{"$f":"'Hec3'!CU17","v":27},{"$f":"'Hec3'!CV17","v":6},{"$f":"'Hec3'!CW17","v":4},{"$f":"'Hec3'!CX17","v":4}]
["URC RID",{"$f":"'Hec3'!CM10","v":0},{"$f":"'Hec3'!CN10","v":0},{"$f":"'Hec3'!CO10","v":0},{"$f":"'Hec3'!CP10","v":0},{"$f":"'Hec3'!CQ10","v":0},{"$f":"'Hec3'!CR10","v":0},{"$f":"'Hec3'!CS10","v":0},{"$f":"'Hec3'!CT10","v":0},{"$f":"'Hec3'!CU10","v":0},{"$f":"'Hec3'!CV10","v":0},{"$f":"'Hec3'!CW10","v":0},{"$f":"'Hec3'!CX10","v":0},null,"รวมปริมาณน้ำแล้ง (ล้าน ลบ.ม.)",{"$f":"'Hec3'!CT18","v":220.79788835294187},{"$f":"'Hec3'!CU18","v":321.96948465539327},{"$f":"'Hec3'!CV18","v":99.157030875298304},{"$f":"'Hec3'!CW18","v":62.347848484849251},{"$f":"'Hec3'!CX18","v":39.440000000000936}]
["LRC RID",{"$f":"'Hec3'!CM11","v":0},{"$f":"'Hec3'!CN11","v":0},{"$f":"'Hec3'!CO11","v":0},{"$f":"'Hec3'!CP11","v":0},{"$f":"'Hec3'!CQ11","v":0},{"$f":"'Hec3'!CR11","v":0},{"$f":"'Hec3'!CS11","v":0},{"$f":"'Hec3'!CT11","v":0},{"$f":"'Hec3'!CU11","v":0},{"$f":"'Hec3'!CV11","v":0},{"$f":"'Hec3'!CW11","v":0},{"$f":"'Hec3'!CX11","v":0},null,"รวมปริมาณน้ำล้น (ล้าน ลบ.ม.)",{"$f":"'Hec3'!CT19","v":0},{"$f":"'Hec3'!CU19","v":0},{"$f":"'Hec3'!CV19","v":4.5506244793912174},{"$f":"'Hec3'!CW19","v":0.28287878787875798},{"$f":"'Hec3'!CX19","v":0}]
["URC POP. 5%",{"$f":"'Hec3'!CM4","v":{"$error":"#DIV/0!"}},{"$f":"'Hec3'!CN4","v":{"$error":"#DIV/0!"}},{"$f":"'Hec3'!CO4","v":{"$error":"#DIV/0!"}},{"$f":"'Hec3'!CP4","v":{"$error":"#DIV/0!"}},{"$f":"'Hec3'!CQ4","v":{"$error":"#DIV/0!"}},{"$f":"'Hec3'!CR4","v":{"$error":"#DIV/0!"}},{"$f":"'Hec3'!CS4","v":{"$error":"#DIV/0!"}},{"$f":"'Hec3'!CT4","v":{"$error":"#DIV/0!"}},{"$f":"'Hec3'!CU4","v":{"$error":"#DIV/0!"}},{"$f":"'Hec3'!CV4","v":{"$error":"#DIV/0!"}},{"$f":"'Hec3'!CW4","v":{"$error":"#DIV/0!"}},{"$f":"'Hec3'!CX4","v":{"$error":"#DIV/0!"}}]
["LRC POP. 5%",{"$f":"'Hec3'!CM5","v":{"$error":"#DIV/0!"}},{"$f":"'Hec3'!CN5","v":{"$error":"#DIV/0!"}},{"$f":"'Hec3'!CO5","v":{"$error":"#DIV/0!"}},{"$f":"'Hec3'!CP5","v":{"$error":"#DIV/0!"}},{"$f":"'Hec3'!CQ5","v":{"$error":"#DIV/0!"}},{"$f":"'Hec3'!CR5","v":{"$error":"#DIV/0!"}},{"$f":"'Hec3'!CS5","v":{"$error":"#DIV/0!"}},{"$f":"'Hec3'!CT5","v":{"$error":"#DIV/0!"}},{"$f":"'Hec3'!CU5","v":{"$error":"#DIV/0!"}},{"$f":"'Hec3'!CV5","v":{"$error":"#DIV/0!"}},{"$f":"'Hec3'!CW5","v":{"$error":"#DIV/0!"}},{"$f":"'Hec3'!CX5","v":{"$error":"#DIV/0!"}}]
["URC POP. 15%",{"$f":"'Hec3'!CM6","v":{"$error":"#DIV/0!"}},{"$f":"'Hec3'!CN6","v":{"$error":"#DIV/0!"}},{"$f":"'Hec3'!CO6","v":{"$error":"#DIV/0!"}},{"$f":"'Hec3'!CP6","v":{"$error":"#DIV/0!"}},{"$f":"'Hec3'!CQ6","v":{"$error":"#DIV/0!"}},{"$f":"'Hec3'!CR6","v":{"$error":"#DIV/0!"}},{"$f":"'Hec3'!CS6","v":{"$error":"#DIV/0!"}},{"$f":"'Hec3'!CT6","v":{"$error":"#DIV/0!"}},{"$f":"'Hec3'!CU6","v":{"$error":"#DIV/0!"}},{"$f":"'Hec3'!CV6","v":{"$error":"#DIV/0!"}},{"$f":"'Hec3'!CW6","v":{"$error":"#DIV/0!"}},{"$f":"'Hec3'!CX6","v":{"$error":"#DIV/0!"}}]
["LRC POP. 15%",{"$f":"'Hec3'!CM7","v":{"$error":"#DIV/0!"}},{"$f":"'Hec3'!CN7","v":{"$error":"#DIV/0!"}},{"$f":"'Hec3'!CO7","v":{"$error":"#DIV/0!"}},{"$f":"'Hec3'!CP7","v":{"$error":"#DIV/0!"}},{"$f":"'Hec3'!CQ7","v":{"$error":"#DIV/0!"}},{"$f":"'Hec3'!CR7","v":{"$error":"#DIV/0!"}},{"$f":"'Hec3'!CS7","v":{"$error":"#DIV/0!"}},{"$f":"'Hec3'!CT7","v":{"$error":"#DIV/0!"}},{"$f":"'Hec3'!CU7","v":{"$error":"#DIV/0!"}},{"$f":"'Hec3'!CV7","v":{"$error":"#DIV/0!"}},{"$f":"'Hec3'!CW7","v":{"$error":"#DIV/0!"}},{"$f":"'Hec3'!CX7","v":{"$error":"#DIV/0!"}}]
["URC VAR.",{"$f":"'Hec3'!CM8","v":{"$error":"#DIV/0!"}},{"$f":"'Hec3'!CN8","v":{"$error":"#DIV/0!"}},{"$f":"'Hec3'!CO8","v":{"$error":"#DIV/0!"}},{"$f":"'Hec3'!CP8","v":{"$error":"#DIV/0!"}},{"$f":"'Hec3'!CQ8","v":{"$error":"#DIV/0!"}},{"$f":"'Hec3'!CR8","v":{"$error":"#DIV/0!"}},{"$f":"'Hec3'!CS8","v":{"$error":"#DIV/0!"}},{"$f":"'Hec3'!CT8","v":{"$error":"#DIV/0!"}},{"$f":"'Hec3'!CU8","v":{"$error":"#DIV/0!"}},{"$f":"'Hec3'!CV8","v":{"$error":"#DIV/0!"}},{"$f":"'Hec3'!CW8","v":{"$error":"#DIV/0!"}},{"$f":"'Hec3'!CX8","v":0}]
["LRC VAR.",{"$f":"'Hec3'!CM9","v":{"$error":"#DIV/0!"}},{"$f":"'Hec3'!CN9","v":{"$error":"#DIV/0!"}},{"$f":"'Hec3'!CO9","v":{"$error":"#DIV/0!"}},{"$f":"'Hec3'!CP9","v":{"$error":"#DIV/0!"}},{"$f":"'Hec3'!CQ9","v":{"$error":"#DIV/0!"}},{"$f":"'Hec3'!CR9","v":{"$error":"#DIV/0!"}},{"$f":"'Hec3'!CS9","v":{"$error":"#DIV/0!"}},{"$f":"'Hec3'!CT9","v":{"$error":"#DIV/0!"}},{"$f":"'Hec3'!CU9","v":{"$error":"#DIV/0!"}},{"$f":"'Hec3'!CV9","v":{"$error":"#DIV/0!"}},{"$f":"'Hec3'!CW9","v":{"$error":"#DIV/0!"}},{"$f":"'Hec3'!CX9","v":0}]
["URC Mod.",{"$f":"'Hec3'!DD3","v":0},{"$f":"'Hec3'!DE3","v":0},{"$f":"'Hec3'!DF3","v":0},{"$f":"'Hec3'!DG3","v":0},{"$f":"'Hec3'!DH3","v":0},{"$f":"'Hec3'!DI3","v":0},{"$f":"'Hec3'!DJ3","v":0},{"$f":"'Hec3'!DK3","v":0},{"$f":"'Hec3'!DL3","v":0},{"$f":"'Hec3'!DM3","v":0},{"$f":"'Hec3'!DN3","v":0},{"$f":"'Hec3'!DO3","v":0}]
["LRC Mod.",{"$f":"'Hec3'!DD4","v":0},{"$f":"'Hec3'!DE4","v":0},{"$f":"'Hec3'!DF4","v":0},{"$f":"'Hec3'!DG4","v":0},{"$f":"'Hec3'!DH4","v":0},{"$f":"'Hec3'!DI4","v":0},{"$f":"'Hec3'!DJ4","v":0},{"$f":"'Hec3'!DK4","v":0},{"$f":"'Hec3'!DL4","v":0},{"$f":"'Hec3'!DM4","v":0},{"$f":"'Hec3'!DN4","v":0},{"$f":"'Hec3'!DO4","v":0}]