{"text_format":"1","workbook":"xlsx","n_sheets":69,"sheets":["input ข้าว","input อ้อย","input พืชไร่","input พืชผัก","input ไม้ผล","input ไม้ยืนต้น","input พืชอื่น","input บ่อปลา","input บ่อกุ้ง","input อุปโภค","รายงาน","ETO","Evap","ฝนใช้การ","Kc","List","ข้าว","อ้อย","พืชไร่","พืชผัก","ไม้ผล","ไม้ยืนต้น","บ่อปลา","บ่อกุ้ง","อื่นๆ","อุปโภค","ETO-From","Total","R1","R2","R3","R4","R5","R6","R7","R8","R9","R10","R11","R12","R13","R14","R15","R16","R17","R18","R19","R20","R21","R22","R23","R24","R25","R26","R27","R28","R29","R30","R31","R32","R33","R34","R35","R36","R37","R38","R39","R40","R41"],"not_rendered":{"charts":0,"images":2,"macros":1,"external_links":0,"defined_names":6,"comments":2,"pivot_tables":0},"unopened":[],"bounds":{"document_bytes":16777216,"sheet_cells":100000,"rows_first":2000,"rows_last":500,"rows_between":2000,"halvings":0,"cell_chars":16384,"cell_head_chars":4096},"cells_cut":0,"cells_raw":0,"read":"whole","date_system":"1900"}

{"sheet":"input ข้าว","index":0,"n_rows":73,"n_cols":43,"rows_kept":73,"cut":false,"hidden":false,"merged":[[7,2,7,42]]}
["ปี พ.ศ.",2560,null,"ฤดูแล้ง",{"$f":"RIGHT(B1,2)&\"/\"&RIGHT(B1+1,2)","v":"60/61"},"ฤดูฝน",{"$f":"RIGHT(B1+1,2)","v":"61"},null,"ชนิดข้าว","ข้าว กข.(นาดำ)"]
["โครงการชลประทาน",null,"พลเทพ","ทุ่งวัดสิงห์","ท่าโบสถ์","สามชุก","ดอนเจดีย์","โพธิ์พระยา","ชลประทานสุพรรณบุรี","บรมธาตุ","ชัณสูตร","ยางมณี","ผักไห่","บางบาล","เจ้าเจ็ดบางยี่หน","พระยาบรรลือ","พระพิมล","ภาษีเจริญ","มโนรมย์","ช่องแค","โคกกะเทียม","เริงราง","มหาราช","ป่าสักใต้","นครหลวง","ชลประทานลพบุรี","คลองเพรียว-เสาไห้","เขื่อนป่าสักชลสิทธิ์","รังสิตเหนือ","รังสิตใต้","ชลหารพิจิตร","พระองค์ไชยานุชิต","เขื่อนนเรศวร","เขื่อนแควน้อย","ยมน่าน","พลายชุมพล","ดงเศรษฐี","ท่าบัว","ท่อทองแดง","ชลประทานกำแพงเพชร","ชลประทานนครสวรรค์","ชลประทานตาก","ชลประทานอุตรดิตถ์"]
["จังหวัด",null,"ชัยนาท","ชัยนาท","ชัยนาท","สุพรรณบุรี","สุพรรณบุรี","สุพรรณบุรี","สุพรรณบุรี","ชัยนาท","สิงห์บุรี","อ่างทอง","พระนครศรีอยุธยา","พระนครศรีอยุธยา","พระนครศรีอยุธยา","นนทบุรี","นครปฐม","สมุทรสาคร","ชัยนาท","ชัยนาท","ลพบุรี","สระบุรี","สิงห์บุรี","พระนครศรีอยุธยา","พระนครศรีอยุธยา","ลพบุรี","สระบุรี","สระบุรี","พระนครศรีอยุธยา","พระนครศรีอยุธยา","สมุทรปราการ","ฉะเชิงเทรา","พิษณุโลก","พิษณุโลก","พิษณุโลก","พิษณุโลก","พิจิตร","พิจิตร","กำแพงเพชร","กำแพงเพชร","นครสวรรค์","ตาก","อุตรดิตถ์"]
["รั่วซึม มม./สัปดาห์",null,7,7,7,7,7,7,7,7,7,7,7,7,7,7,7,7,7,7,7,7,7,7,7,7,7,7,7,7,7,7,7,7,7,7,7,7,7,7,7,7,7]
["น้ำเตรียมแปลงฤดูแล้ง มม./สัปดาห์",null,0,0,0,0,0,0,0,0,0,0,0,0,0,0,0,0,0,0,0,0,0,0,0,0,0,0,0,0,0,0,0,0,0,0,0,0,0,0,0,0,0]
["น้ำเตรียมแปลงฤดูฝน มม./สัปดาห์",null,100,100,100,100,100,100,100,100,100,100,100,100,100,100,100,100,100,100,100,100,100,100,100,100,100,100,100,100,100,100,100,100,100,100,100,100,100,100,100,100,100]
["ประสิทธิ์ภาพโครงการ (%)",null,90,90,90,90,90,90,90,90,90,90,90,77,77,77,77,77,85,85,85,85,85,85,85,85,100,100,100,100,100,100,77,77,77,77,77,77,65,65,85,85,85]
["เริ่มต้น","สิ้นสุด","จำนวนพื้นที่เพาะปลูกข้าวรายสัปดาห์ (ไร่)"]
[{"$f":"+A10-7","v":"2017-08-02"},{"$f":"+A10-1","v":"2017-08-08"},542,0,0,0,0,0,0,0,0,0,0,0,0,2050,0,0,0,6583,0,0,0,0,0,0,0,0,0,5285,0,0,0,0,0,1415,0,0,0,0,0,3620,7450]
["2017-08-09","2017-08-15",0,0,0,0,0,0,0,0,2618,0,0,0,0,0,0,0,0,0,0,0,0,0,0,0,0,0,0,7714,0,0,45991,737,0,0,0,0,0,0,0,2100,0]
["2017-08-16","2017-08-22",0,0,0,3418,3179,0,0,37114,0,0,0,0,0,900,0,0,0,3570,0,0,0,0,55732,0,0,0,0,2783,0,7,0,0,0,533,0,0,0,0,0,1400,0]
["2017-08-23","2017-08-29",0,0,4053,7088,2539,0,0,28079,0,0,0,0,569,0,0,0,140,0,0,0,0,0,0,0,0,0,0,3173,0,0,0,0,0,6381,0,0,0,0,0,2000,0]
["2017-08-30","2017-09-05",0,0,3334,16594,13221,4591,0,0,0,0,0,0,0,0,0,0,0,0,0,0,500,0,0,0,0,0,0,28919,0,0,0,0,0,14569,0,0,0,0,0,0,0]
["2017-09-06","2017-09-12",9524,0,953,25287,10038,8442,0,4746,0,0,0,0,0,0,0,0,20,0,0,0,0,0,0,0,0,0,0,12397,0,0,0,0,0,12068,0,1207,0,0,0,1200,0]
["2017-09-13","2017-09-19",30591,0,8655,39925,17570,1923,0,2982,0,0,0,0,0,0,0,0,0,0,0,0,0,0,0,0,0,0,0,14005,0,0,0,0,0,29241,0,0,0,177823,0,0,0]
["2017-09-20","2017-09-26",20864,0,5182,21126,19872,1363,0,84976,51016,15515,0,0,0,0,0,0,0,0,0,0,0,0,0,0,0,0,0,22781,0,89368,0,0,0,4170,0,8159,0,78846,0,2000,0]
["2017-09-27","2017-10-03",13375,0,89,54960,10724,1955,0,48935,50679,13979,0,0,0,3311,0,2141,0,0,0,0,0,0,0,0,0,0,0,27938,0,9232,0,0,0,6952,0,5117,0,22327,0,0,0]
["2017-10-04","2017-10-10",7795,0,3948,8099,14454,1248,0,18117,15738,1580,0,0,0,3932,0,0,0,0,0,0,0,0,0,0,0,0,0,15982,0,6660,0,0,0,8841,0,9030,0,10860,0,0,0]
["2017-10-11","2017-10-17",6553,0,3025,44496,10169,0,0,7208,0,0,0,0,0,1690,0,1522,0,0,0,0,0,0,0,0,0,0,0,21744,0,0,0,0,0,0,0,30350,0,0,0,0,2096]
["2017-10-18","2017-10-24",0,0,0,2195,3686,0,0,2480,16137,0,0,0,0,2570,0,0,0,0,0,0,0,0,0,0,0,0,0,17117,0,14740,0,0,0,2376,0,0,0,77082,0,0,0]
[{"$f":"+A22-7","v":"2017-10-25"},{"$f":"+A22-1","v":"2017-10-31"},1761,0,324,0,2282,0,0,1400,0,0,0,0,0,0,0,0,0,0,0,0,0,0,0,0,0,0,0,146981,0,0,0,0,0,0,0,0,0,0,0,0,0]
["2017-11-01",{"$f":"+A22+6","v":"2017-11-07"},0,0,0,0,0,0,0,0,0,0,0,0,0,5121,0,0,0,0,0,0,0,0,0,0,0,0,12550,18623,0,95349,0,0,0,0,0,0,0,0,0,0,0]
[{"$f":"+A22+7","v":"2017-11-08"},"2017-11-14",927,0,21117,0,10083,869,0,2245,0,0,0,0,0,5640,250,0,0,0,0,0,0,0,0,0,0,0,0,16364,69746,0,0,0,0,0,0,0,6785,0,0,0,0]
[{"$f":"+A23+7","v":"2017-11-15"},"2017-11-21",2151,0,46165,2790,0,3400,0,4638,85150,0,0,0,0,23590,270,0,0,0,0,13750,0,0,0,0,0,0,0,9442,0,18241,0,0,0,0,0,0,3425,0,0,0,0]
["2017-11-22","2017-11-28",0,0,45604,0,428,5672,0,8033,45661,0,0,0,0,29931,230,0,0,0,0,0,0,0,0,0,0,0,0,20260,0,0,0,0,0,0,0,0,825,0,0,0,0]
["2017-11-29","2017-12-05",0,0,8616,0,0,6643,0,16163,5079,20905,0,0,0,24326,0,0,0,0,0,3500,69039,46885,0,0,0,0,0,11766,0,0,0,0,0,3102,1640,3430,7105,0,0,0,190]
["2017-12-06","2017-12-12",2713,0,2800,0,0,8298,0,22247,31843,0,0,0,6710,41781,39050,0,0,0,0,9850,28268,0,0,0,0,0,28318,4684,0,0,0,0,0,2986,5285,23870,9665,0,0,300,0]
["2017-12-13","2017-12-19",0,0,1498,6085,3372,11157,0,0,20412,0,0,0,96301,43237,3825,0,7791,5300,0,6000,7513,0,39773,50716,0,0,17143,2962,0,0,0,0,0,34906,18928,8336,40723,0,60040,530,0]
["2017-12-20","2017-12-26",10656,0,1713,1720,7166,16106,0,40056,5106,26048,65523,29073,107602,35549,2135,0,0,78183,0,10100,27938,7730,0,0,0,0,0,3569,0,0,23270,0,64424,50886,25929,13945,40630,78732,13410,1320,170]
["2017-12-27","2018-01-02",0,0,0,0,4249,7642,0,25262,0,320,0,0,0,0,0,0,54836,0,0,0,13488,0,0,0,0,0,0,0,0,0,0,0,25659,0,0,28843,0,0,0,0,933]
["2018-01-03","2018-01-09",19480,0,1903,4105,6056,16659,0,8143,0,29570,65287,55395,116056,43146,19125,0,24407,84956,169411,14550,7510,0,11190,14947,19142,6000,0,13060,0,0,62010,86155,88702,80028,55142,11211,34429,90827,50400,5050,1680]
["2018-01-10","2018-01-16",19444,0,1157,32318,12848,25147,0,15731,18939,17410,11846,9730,5353,920,530,4233,19078,18045,4776,13245,30300,37085,7264,1100,7018,0,34226,3890,0,0,0,58305,58806,26110,25612,44107,145483,127311,10185,0,4950]
["2018-01-17","2018-01-23",13514,0,2335,14737,9545,22473,0,22443,42,13043,1373,1979,532,5142,270,205,22848,19370,3303,2300,2445,0,3653,0,0,0,9210,320,0,0,2220,2457,45497,0,7012,12484,25051,30508,13120,1500,14495]
["2018-01-24","2018-01-30",12835,0,221,77074,4777,37651,0,24593,38989,18642,1373,1979,0,2255,785,0,12486,150,5229,0,13187,0,14365,0,26708,0,0,24743,0,0,0,2691,5919,0,4748,11319,23809,0,8396,2100,11131]
["2018-01-31","2018-02-06",425,0,0,80,5987,20156,0,7246,0,0,550,0,0,1535,0,251,3277,0,8052,0,13505,0,5450,0,3521,0,0,0,0,0,0,1979,3300,0,3173,1484,7018,8561,3449,1000,0]
["2018-02-07","2018-02-13",1044,0,0,0,419,52690,0,13449,0,0,465,0,0,0,3331,62.5,1180,0,6186,0,2607,0,5170,0,29341,14000,0,23275,0,0,0,0,2100,0,0,942,0,912,0,100,497]
["2018-02-14","2018-02-20",0,0,0,929,261,7344,0,0,123,0,0,90,0,0,3514,62.5,2740,0,50,0,0,0,0,0,0,500,0,22271,0,0,0,0,700,0,0,0,0,0,0,0,400]
["2018-02-21","2018-02-27",3334,0,0,0,0,6324,0,0,0,0,0,0,0,0,80,0,0,0,1310,0,0,0,1000,0,0,0,0,9260,0,0,0,0,0,0,0,0,0,17264,0,0,0]
["2018-02-28","2018-03-06",0,0,0,0,0,2928,0,0,0,0,0,0,0,0,215,0,0,0,0,0,400,0,0,0,0,0,0,17954,0,22000,0,0,528,0,0,0,0,0,0,0,0]
["2018-03-07","2018-03-13",2761,0,1029,0,0,0,0,0,0,0,0,0,0,0,415,0,0,0,1030,0,400,0,0,0,0,2000,0,4800,0,0,0,0,0,0,0,0,0,436,0,0,0]
["2018-03-14","2018-03-20",0,0,1447,0,0,0,0,0,0,0,0,0,0,5442,611,0,0,0,0,0,1630,0,0,0,0,0,0,0,0,0,0,0,0,0,0,0,0,0,0,0,0]
["2018-03-21","2018-03-27",0,0,4096,0,0,0,0,0,0,0,0,0,0,570,259,0,0,0,0,0,2250,0,0,0,0,0,0,0,0,0,0,0,0,0,0,0,0,0,0,0,0]
["2018-03-28","2018-04-03",0,0,605,0,0,0,0,2044,0,0,0,0,0,5330,165,0,0,0,0,0,12270,0,0,0,0,0,0,0,0,0,0,0,0,0,0,0,0,0,0,0,0]
["2018-04-04","2018-04-10",0,0,454,12580,0,0,0,0,0,0,0,0,35090,4900,700,0,0,0,0,0,2550,0,0,0,0,0,0,0,0,0,0,0,14586,8920,0,0,0,0,0,0,0]
["2018-04-11","2018-04-17",0,0,0,0,0,0,0,0,0,0,0,0,23820,10900,735,0,0,0,0,0,0,0,0,0,0,0,0,0,0,0,0,0,0,27436,0,0,0,0,0,0,0]
["2018-04-18","2018-04-24",0,0,10133,0,0,0,0,0,0,0,0,0,35302,14960,0,0,0,0,0,0,0,0,0,0,0,0,0,0,0,0,6702,0,73607,12805,0,0,0,0,0,0,0]
["2018-04-25","2018-05-01",0,0,6474,0,0,0,0,0,0,0,0,0,83437,6369,4300,1460,0,0,0,0,51419,0,0,0,0,0,0,0,0,0,21228,0,65589,8861,0,0,0,0,0,0,0]
["2018-05-02","2018-05-08",10656,0,0,88046,0,36381,0,36935,54013,15000,60325,0,63123,24770,0,0,16876,10760,32528,0,56737,0,0,29100,0,0,0,0,0,0,19538,0,80807,30801,0,14797,0,0,0,0,0]
["2018-05-09","2018-05-15",33459,0,0,50447,29552,40466,0,64226,143653,23363,62036,0,70588,31467,14300,5640,34506,8543,39254,45150,30571,0,0,16500,0,0,7707,0,45702,0,0,0,56105,22180,0,0,6125,0,161500,0,0]
["2018-05-16","2018-05-22",21918,0,60142,34531,41119,52925,0,66108,70515,50480,19186,0,6908,99733,27300,0,16206,1437,26643,47696,123024,0,0,12400,0,0,0,0,266,0,27905,0,0,54679,0,37462,23895,87639,0,0,0]
["2018-05-23","2018-05-29",26330,0,15117,26070,7543,28154,0,78972,70076,6546,1226,82677,9,24251,0,0,42135,0,33812,4650,48508,0,0,6640,0,0,0,0,1017,0,0,0,0,2759,0,40027,0,1204,0,0,0]
["2018-05-30","2018-06-05",0,21264,31374,11690,33564,37064,0,28709,49081,21128,131,11561,0,12029,910,0,57025,119646,36529,16740,10861,0,0,0,0,0,0,303701,892,182330,10617,0,0,16681,41118,47139,36790,129938,0,0,0]
["2018-06-06","2018-06-12",442,1003,2662,18805,2080,16426,0,34090,4062,7521,0,1704,0,9695,1395,0,49068,21688,17235,2710,10255,26780,58928,0,6040,8641,0,10050,313,0,3077,20973,0,9007,16022,4810,87401,155879,0,0,0]
["2018-06-13","2018-06-19",1080,30551,6111,10988,3098,18462,0,4965,8148,1198,9,0,0,6544,4535,0,18824,12150,5891,0,14109,0,1447,0,4947,1738,42196,11102,0,51477,0,10480,0,586,48138,11875,45089,67986,0,0,0]
["2018-06-20","2018-06-26",0,0,4746,4117,0,2000,0,0,0,702,0,0,0,7692,30135,0,11080,24436,3491,20299,6190,22006,1038,0,5099,0,8406,14099,2990,0,0,0,0,2170,32145,3232,51350,15862,0,1000,0]
["2018-06-27","2018-07-03",0,0,8072,5505,2790,0,0,3525,0,0,0,0,0,5141,1220,0,543,18159,965,240,6544,11222,23322,0,5341,0,0,10169,1140,0,0,75066,0,4265,6783,0,35568,0,1000,0,0]
["2018-07-04","2018-07-10",0,0,4969,0,1260,44041,0,0,0,0,0,0,0,5575,37705,0,0,7958,1900,0,0,8224,1197,0,9450,0,28822,16522,8180,0,0,5183,0,0,1169,0,60939,0,0,1030,0]
["2018-07-11","2018-07-17",0,0,0,0,0,4428,0,52,0,0,0,169,0,8862,0,0,0,2720,1683,0,0,13181,660,0,0,42433,0,1680,9246,0,0,11221,0,0,0,0,0,0,0,2250,0]
["2018-07-18","2018-07-24",2370,0,634,0,0,0,0,0,0,0,0,0,0,14950,0,0,0,3000,500,0,0,8490,90,0,24609,15987,0,0,0,0,0,12791,0,0,0,0,20350,0,0,3600,0]
["2018-07-25","2018-07-31",0,0,0,0,0,0,0,0,0,0,0,0,0,12525,0,0,0,1015,0,0,0,0,0,0,79814,5681,0,0,0,0,0,9623,0,0,0,0,8000,0,0,3850,34446]
["2018-08-01","2018-08-07",0,0,2590,975,1089,0,0,1297,0,0,0,0,0,3641,0,0,0,0,1416,0,0,0,0,0,0,0,0,0,0,0,0,6742,0,15388,0,0,0,0,0,5720,0]
["2018-08-08","2018-08-14",0,0,4202,0,431,0,0,0,0,0,0,0,0,400,0,0,0,0,0,0,59,0,0,0,0,0,0,0,0,0,0,2224,0,6437,0,0,0,0,0,1450,0]
["2018-08-15","2018-08-21",8232,0,2430,0,0,0,0,0,19972,0,0,0,0,0,0,1730,0,0,0,0,0,0,0,0,0,0,0,17030,0,0,0,0,0,5943,0,0,0,0,0,0,0]
["2018-08-22","2018-08-28",12106,0,1380,10369,47946,0,0,0,4811,0,0,0,0,0,3600,1308,0,0,0,0,0,400,0,0,0,0,0,23342,0,0,0,0,0,6752,0,0,0,0,0,8200,0]
["2018-08-29","2018-09-04",43842,0,2236,35349,11123,0,0,48334,109750,0,0,0,0,0,0,0,0,0,0,0,109,0,0,0,0,0,0,7893,0,18000,0,0,0,0,0,0,0,0,0,0,0]
["2018-09-05","2018-09-11",17428,0,3537,44822,24894,0,0,14224,58704,0,0,0,0,0,0,350,0,0,0,0,0,0,0,0,0,0,0,0,0,0,0,0,0,1630,0,0,0,0,16150,0,0]
["2018-09-12","2018-09-18",10546,0,12808,49889,2900,0,0,0,9043,0,0,0,0,0,0,0,0,0,0,0,0,0,0,0,0,0,0,0,0,0,0,0,0,2010,25570,0,0,101706,33100,0,0]
["2018-09-19","2018-09-25",1694,0,3321,19458,21190,0,0,6020,26239,0,0,0,0,61010,0,250,0,0,0,0,0,0,0,0,0,0,0,0,0,66306,0,0,0,0,9500,0,0,110191,0,0,0]
["2018-09-26","2018-10-02",2407,0,13413,37777,2246,0,0,0,0,0,0,0,0,7950,0,0,0,0,0,0,0,0,0,0,0,0,0,15500,0,76786,0,0,0,1020,18355,0,0,62396,0,0,0]
["2018-10-03","2018-10-09",0,0,1357,24398,5092,0,0,90720,15038,7915,0,0,0,14780,0,346,0,0,0,0,0,0,0,0,0,0,0,26575,0,0,0,0,0,0,2764,0,0,8400,0,0,0]
["2018-10-10","2018-10-16",0,0,40,5173,1172,0,0,16788,0,0,0,0,0,9560,0,1310,0,0,0,0,0,0,0,0,0,0,0,0,0,52762,0,0,0,0,0,0,0,0,0,0,0]
["2018-10-17","2018-10-23",0,0,0,0,838,0,0,98,0,0,0,0,0,8580,0,0,0,0,0,0,0,0,0,0,0,0,0,103822,0,0,0,0,0,0,0,0,0,2824,0,0,0]
["2018-10-24","2018-10-30",0,0,0,25874,742,0,0,285,0,0,0,0,0,4933,0,0,0,0,0,0,0,0,0,0,0,0,0,18467,0,0,0,0,0,0,0,0,0,0,0,0,0]

{"sheet":"input อ้อย","index":1,"n_rows":60,"n_cols":43,"rows_kept":60,"cut":false,"hidden":false,"merged":[]}
["ปี พ.ศ.",{"$f":"+'input ข้าว'!B1","v":2560},null,"ฤดูแล้ง",{"$f":"RIGHT(B1,2)&\"/\"&RIGHT(B1+1,2)","v":"60/61"},"ฤดูฝน",{"$f":"RIGHT(B1+1,2)","v":"61"}]
["โครงการชลประทาน",null,{"$f":"'input ข้าว'!C2","v":"พลเทพ"},{"$f":"'input ข้าว'!D2","v":"ทุ่งวัดสิงห์"},{"$f":"'input ข้าว'!E2","v":"ท่าโบสถ์"},{"$f":"'input ข้าว'!F2","v":"สามชุก"},{"$f":"'input ข้าว'!G2","v":"ดอนเจดีย์"},{"$f":"'input ข้าว'!H2","v":"โพธิ์พระยา"},{"$f":"'input ข้าว'!I2","v":"ชลประทานสุพรรณบุรี"},{"$f":"'input ข้าว'!J2","v":"บรมธาตุ"},{"$f":"'input ข้าว'!K2","v":"ชัณสูตร"},{"$f":"'input ข้าว'!L2","v":"ยางมณี"},{"$f":"'input ข้าว'!M2","v":"ผักไห่"},{"$f":"'input ข้าว'!N2","v":"บางบาล"},{"$f":"'input ข้าว'!O2","v":"เจ้าเจ็ดบางยี่หน"},{"$f":"'input ข้าว'!P2","v":"พระยาบรรลือ"},{"$f":"'input ข้าว'!Q2","v":"พระพิมล"},{"$f":"'input ข้าว'!R2","v":"ภาษีเจริญ"},{"$f":"'input ข้าว'!S2","v":"มโนรมย์"},{"$f":"'input ข้าว'!T2","v":"ช่องแค"},{"$f":"'input ข้าว'!U2","v":"โคกกะเทียม"},{"$f":"'input ข้าว'!V2","v":"เริงราง"},{"$f":"'input ข้าว'!W2","v":"มหาราช"},{"$f":"'input ข้าว'!X2","v":"ป่าสักใต้"},{"$f":"'input ข้าว'!Y2","v":"นครหลวง"},{"$f":"'input ข้าว'!Z2","v":"ชลประทานลพบุรี"},{"$f":"'input ข้าว'!AA2","v":"คลองเพรียว-เสาไห้"},{"$f":"'input ข้าว'!AB2","v":"เขื่อนป่าสักชลสิทธิ์"},{"$f":"'input ข้าว'!AC2","v":"รังสิตเหนือ"},{"$f":"'input ข้าว'!AD2","v":"รังสิตใต้"},{"$f":"'input ข้าว'!AE2","v":"ชลหารพิจิตร"},{"$f":"'input ข้าว'!AF2","v":"พระองค์ไชยานุชิต"},{"$f":"'input ข้าว'!AG2","v":"เขื่อนนเรศวร"},{"$f":"'input ข้าว'!AH2","v":"เขื่อนแควน้อย"},{"$f":"'input ข้าว'!AI2","v":"ยมน่าน"},{"$f":"'input ข้าว'!AJ2","v":"พลายชุมพล"},{"$f":"'input ข้าว'!AK2","v":"ดงเศรษฐี"},{"$f":"'input ข้าว'!AL2","v":"ท่าบัว"},{"$f":"'input ข้าว'!AM2","v":"ท่อทองแดง"},{"$f":"'input ข้าว'!AN2","v":"ชลประทานกำแพงเพชร"},{"$f":"'input ข้าว'!AO2","v":"ชลประทานนครสวรรค์"},{"$f":"'input ข้าว'!AP2","v":"ชลประทานตาก"},{"$f":"'input ข้าว'!AQ2","v":"ชลประทานอุตรดิตถ์"}]
["จังหวัด",null,{"$f":"+'input ข้าว'!C3","v":"ชัยนาท"},{"$f":"+'input ข้าว'!D3","v":"ชัยนาท"},{"$f":"+'input ข้าว'!E3","v":"ชัยนาท"},{"$f":"+'input ข้าว'!F3","v":"สุพรรณบุรี"},{"$f":"+'input ข้าว'!G3","v":"สุพรรณบุรี"},{"$f":"+'input ข้าว'!H3","v":"สุพรรณบุรี"},{"$f":"+'input ข้าว'!I3","v":"สุพรรณบุรี"},{"$f":"+'input ข้าว'!J3","v":"ชัยนาท"},{"$f":"+'input ข้าว'!K3","v":"สิงห์บุรี"},{"$f":"+'input ข้าว'!L3","v":"อ่างทอง"},{"$f":"+'input ข้าว'!M3","v":"พระนครศรีอยุธยา"},{"$f":"+'input ข้าว'!N3","v":"พระนครศรีอยุธยา"},{"$f":"+'input ข้าว'!O3","v":"พระนครศรีอยุธยา"},{"$f":"+'input ข้าว'!P3","v":"นนทบุรี"},{"$f":"+'input ข้าว'!Q3","v":"นครปฐม"},{"$f":"+'input ข้าว'!R3","v":"สมุทรสาคร"},{"$f":"+'input ข้าว'!S3","v":"ชัยนาท"},{"$f":"+'input ข้าว'!T3","v":"ชัยนาท"},{"$f":"+'input ข้าว'!U3","v":"ลพบุรี"},{"$f":"+'input ข้าว'!V3","v":"สระบุรี"},{"$f":"+'input ข้าว'!W3","v":"สิงห์บุรี"},{"$f":"+'input ข้าว'!X3","v":"พระนครศรีอยุธยา"},{"$f":"+'input ข้าว'!Y3","v":"พระนครศรีอยุธยา"},{"$f":"+'input ข้าว'!Z3","v":"ลพบุรี"},{"$f":"+'input ข้าว'!AA3","v":"สระบุรี"},{"$f":"+'input ข้าว'!AB3","v":"สระบุรี"},{"$f":"+'input ข้าว'!AC3","v":"พระนครศรีอยุธยา"},{"$f":"+'input ข้าว'!AD3","v":"พระนครศรีอยุธยา"},{"$f":"+'input ข้าว'!AE3","v":"สมุทรปราการ"},{"$f":"+'input ข้าว'!AF3","v":"ฉะเชิงเทรา"},{"$f":"+'input ข้าว'!AG3","v":"พิษณุโลก"},{"$f":"+'input ข้าว'!AH3","v":"พิษณุโลก"},{"$f":"+'input ข้าว'!AI3","v":"พิษณุโลก"},{"$f":"+'input ข้าว'!AJ3","v":"พิษณุโลก"},{"$f":"+'input ข้าว'!AK3","v":"พิจิตร"},{"$f":"+'input ข้าว'!AL3","v":"พิจิตร"},{"$f":"+'input ข้าว'!AM3","v":"กำแพงเพชร"},{"$f":"+'input ข้าว'!AN3","v":"กำแพงเพชร"},{"$f":"+'input ข้าว'!AO3","v":"นครสวรรค์"},{"$f":"+'input ข้าว'!AP3","v":"ตาก"},{"$f":"+'input ข้าว'!AQ3","v":"อุตรดิตถ์"}]
["รั่วซึม มม./สัปดาห์",null,{"$f":"'input ข้าว'!C4","v":7},{"$f":"'input ข้าว'!D4","v":7},{"$f":"'input ข้าว'!E4","v":7},{"$f":"'input ข้าว'!F4","v":7},{"$f":"'input ข้าว'!G4","v":7},{"$f":"'input ข้าว'!H4","v":7},{"$f":"'input ข้าว'!I4","v":7},{"$f":"'input ข้าว'!J4","v":7},{"$f":"'input ข้าว'!K4","v":7},{"$f":"'input ข้าว'!L4","v":7},{"$f":"'input ข้าว'!M4","v":7},{"$f":"'input ข้าว'!N4","v":7},{"$f":"'input ข้าว'!O4","v":7},{"$f":"'input ข้าว'!P4","v":7},{"$f":"'input ข้าว'!Q4","v":7},{"$f":"'input ข้าว'!R4","v":7},{"$f":"'input ข้าว'!S4","v":7},{"$f":"'input ข้าว'!T4","v":7},{"$f":"'input ข้าว'!U4","v":7},{"$f":"'input ข้าว'!V4","v":7},{"$f":"'input ข้าว'!W4","v":7},{"$f":"'input ข้าว'!X4","v":7},{"$f":"'input ข้าว'!Y4","v":7},{"$f":"'input ข้าว'!Z4","v":7},{"$f":"'input ข้าว'!AA4","v":7},{"$f":"'input ข้าว'!AB4","v":7},{"$f":"'input ข้าว'!AC4","v":7},{"$f":"'input ข้าว'!AD4","v":7},{"$f":"'input ข้าว'!AE4","v":7},{"$f":"'input ข้าว'!AF4","v":7},{"$f":"'input ข้าว'!AG4","v":7},{"$f":"'input ข้าว'!AH4","v":7},{"$f":"'input ข้าว'!AI4","v":7},{"$f":"'input ข้าว'!AJ4","v":7},{"$f":"'input ข้าว'!AK4","v":7},{"$f":"'input ข้าว'!AL4","v":7},{"$f":"'input ข้าว'!AM4","v":7},{"$f":"'input ข้าว'!AN4","v":7},{"$f":"'input ข้าว'!AO4","v":7},{"$f":"'input ข้าว'!AP4","v":7},{"$f":"'input ข้าว'!AQ4","v":7}]
["น้ำเตรียมแปลงฤดูแล้ง มม./สัปดาห์",null,30,{"$f":"C5","v":30},{"$f":"D5","v":30},30,30,30,30,30,30,30,30,30,30,30,30,30,30,30,30,30,30,30,30,30,30,30,30,30,30,30,30,30,30,30,30,30,30,30,30,30,30]
["น้ำเตรียมแปลงฤดูฝน มม./สัปดาห์",null,15,{"$f":"C6","v":15},{"$f":"D6","v":15},15,15,15,15,15,15,15,15,15,15,15,15,15,15,15,15,15,15,15,15,15,15,15,15,15,15,15,15,15,15,15,15,15,15,15,15,15,15]
["ประสิทธิ์ภาพโครงการ (%)",null,{"$f":"'input ข้าว'!C7","v":90},{"$f":"'input ข้าว'!D7","v":90},{"$f":"'input ข้าว'!E7","v":90},{"$f":"'input ข้าว'!F7","v":90},{"$f":"'input ข้าว'!G7","v":90},{"$f":"'input ข้าว'!H7","v":90},{"$f":"'input ข้าว'!I7","v":90},{"$f":"'input ข้าว'!J7","v":90},{"$f":"'input ข้าว'!K7","v":90},{"$f":"'input ข้าว'!L7","v":90},{"$f":"'input ข้าว'!M7","v":90},{"$f":"'input ข้าว'!N7","v":77},{"$f":"'input ข้าว'!O7","v":77},{"$f":"'input ข้าว'!P7","v":77},{"$f":"'input ข้าว'!Q7","v":77},{"$f":"'input ข้าว'!R7","v":77},{"$f":"'input ข้าว'!S7","v":85},{"$f":"'input ข้าว'!T7","v":85},{"$f":"'input ข้าว'!U7","v":85},{"$f":"'input ข้าว'!V7","v":85},{"$f":"'input ข้าว'!W7","v":85},{"$f":"'input ข้าว'!X7","v":85},{"$f":"'input ข้าว'!Y7","v":85},{"$f":"'input ข้าว'!Z7","v":85},{"$f":"'input ข้าว'!AA7","v":100},{"$f":"'input ข้าว'!AB7","v":100},{"$f":"'input ข้าว'!AC7","v":100},{"$f":"'input ข้าว'!AD7","v":100},{"$f":"'input ข้าว'!AE7","v":100},{"$f":"'input ข้าว'!AF7","v":100},{"$f":"'input ข้าว'!AG7","v":77},{"$f":"'input ข้าว'!AH7","v":77},{"$f":"'input ข้าว'!AI7","v":77},{"$f":"'input ข้าว'!AJ7","v":77},{"$f":"'input ข้าว'!AK7","v":77},{"$f":"'input ข้าว'!AL7","v":77},{"$f":"'input ข้าว'!AM7","v":65},{"$f":"'input ข้าว'!AN7","v":65},{"$f":"'input ข้าว'!AO7","v":85},{"$f":"'input ข้าว'!AP7","v":85},{"$f":"'input ข้าว'!AQ7","v":85}]
["เริ่มต้น","สิ้นสุด","จำนวนพื้นที่เพาะปลูกอ้อยรายสัปดาห์ (ไร่)"]
[{"$f":"'input ข้าว'!A22","v":"2017-11-01"},{"$f":"+A9+6","v":"2017-11-07"},27,null,1630,22852,3658,null,null,3888,32536,410,null,null,null,null,null,null,10651,370,null,null,118,null,null,null,null,13439,null,null,null,null,null,null,null,32,null,null,86421,204522,4000]
[{"$f":"+A9+7","v":"2017-11-08"},"2017-11-14"]
[{"$f":"+A10+7","v":"2017-11-15"},"2017-11-21"]
["2017-11-22","2017-11-28"]
["2017-11-29","2017-12-05",null,null,null,null,null,null,null,null,null,3571]
["2017-12-06","2017-12-12",null,null,null,null,null,null,null,null,null,null,null,null,null,null,null,null,null,null,null,null,null,null,null,null,null,null,null,null,null,null,null,null,null,null,null,255]
["2017-12-13","2017-12-19",null,null,null,null,null,null,null,null,null,null,null,null,null,null,null,null,null,null,null,null,null,null,null,570,null,null,null,null,null,null,null,null,null,null,null,null,null,null,3000]
["2017-12-20","2017-12-26"]
["2017-12-27","2018-01-02"]
["2018-01-03","2018-01-09"]
["2018-01-10","2018-01-16",null,null,null,{"$f":"22904-F9","v":52},null,null,null,null,null,null,null,null,null,null,null,null,null,null,null,null,null,null,null,null,null,null,null,null,null,null,null,null,null,{"$f":"899-32","v":867},null,{"$f":"83-55","v":28}]
["2018-01-17","2018-01-23",null,null,null,null,null,null,null,null,null,null,null,null,null,null,null,null,null,null,null,null,null,null,null,null,null,null,null,null,null,null,null,null,null,null,null,null,null,8639]
["2018-01-24","2018-01-30"]
["2018-01-31","2018-02-06"]
["2018-02-07","2018-02-13"]
["2018-02-14","2018-02-20"]
["2018-02-21","2018-02-27"]
["2018-02-28","2018-03-06"]
["2018-03-07","2018-03-13",null,null,null,null,null,null,null,null,null,null,null,null,null,null,null,null,null,null,null,null,null,null,null,{"$f":"2000-570","v":1430}]
["2018-03-14","2018-03-20"]
["2018-03-21","2018-03-27"]
["2018-03-28","2018-04-03"]
["2018-04-04","2018-04-10"]
["2018-04-11","2018-04-17"]
["2018-04-18","2018-04-24"]
["2018-04-25","2018-05-01"]
["2018-05-02","2018-05-08",null,null,null,null,1690,null,null,null,null,null,null,null,null,null,null,null,null,150,null,null,null,null,null,null,null,null,null,null,null,null,null,null,null,null,null,null,{"$f":"101391-86421","v":14970}]
["2018-05-09","2018-05-15"]
["2018-05-16","2018-05-22"]
["2018-05-23","2018-05-29"]
["2018-05-30","2018-06-05"]
["2018-06-06","2018-06-12"]
["2018-06-13","2018-06-19"]
["2018-06-20","2018-06-26"]
["2018-06-27","2018-07-03"]
["2018-07-04","2018-07-10"]
["2018-07-11","2018-07-17"]
["2018-07-18","2018-07-24",null,null,null,null,null,null,null,null,null,null,null,null,null,null,null,null,null,null,null,null,null,null,null,null,null,70]
["2018-07-25","2018-07-31"]
["2018-08-01","2018-08-07"]
["2018-08-08","2018-08-14"]
["2018-08-15","2018-08-21"]
["2018-08-22","2018-08-28"]
["2018-08-29","2018-09-04"]
["2018-09-05","2018-09-11"]
["2018-09-12","2018-09-18"]
["2018-09-19","2018-09-25"]
["2018-09-26","2018-10-02"]
["2018-10-03","2018-10-09"]
["2018-10-10","2018-10-16"]
["2018-10-17","2018-10-23"]
["2018-10-24","2018-10-30"]

{"sheet":"input พืชไร่","index":2,"n_rows":60,"n_cols":43,"rows_kept":60,"cut":false,"hidden":true,"merged":[[7,0,7,1],[7,2,7,40]]}
["ปี พ.ศ.",{"$f":"'input ข้าว'!B1","v":2560},null,"ฤดูแล้ง",{"$f":"RIGHT(B1,2)&\"/\"&RIGHT(B1+1,2)","v":"60/61"},"ฤดูฝน",{"$f":"RIGHT(B1+1,2)","v":"61"}]
["โครงการชลประทาน",null,{"$f":"'input ข้าว'!C2","v":"พลเทพ"},{"$f":"'input ข้าว'!D2","v":"ทุ่งวัดสิงห์"},{"$f":"'input ข้าว'!E2","v":"ท่าโบสถ์"},{"$f":"'input ข้าว'!F2","v":"สามชุก"},{"$f":"'input ข้าว'!G2","v":"ดอนเจดีย์"},{"$f":"'input ข้าว'!H2","v":"โพธิ์พระยา"},{"$f":"'input ข้าว'!I2","v":"ชลประทานสุพรรณบุรี"},{"$f":"'input ข้าว'!J2","v":"บรมธาตุ"},{"$f":"'input ข้าว'!K2","v":"ชัณสูตร"},{"$f":"'input ข้าว'!L2","v":"ยางมณี"},{"$f":"'input ข้าว'!M2","v":"ผักไห่"},{"$f":"'input ข้าว'!N2","v":"บางบาล"},{"$f":"'input ข้าว'!O2","v":"เจ้าเจ็ดบางยี่หน"},{"$f":"'input ข้าว'!P2","v":"พระยาบรรลือ"},{"$f":"'input ข้าว'!Q2","v":"พระพิมล"},{"$f":"'input ข้าว'!R2","v":"ภาษีเจริญ"},{"$f":"'input ข้าว'!S2","v":"มโนรมย์"},{"$f":"'input ข้าว'!T2","v":"ช่องแค"},{"$f":"'input ข้าว'!U2","v":"โคกกะเทียม"},{"$f":"'input ข้าว'!V2","v":"เริงราง"},{"$f":"'input ข้าว'!W2","v":"มหาราช"},{"$f":"'input ข้าว'!X2","v":"ป่าสักใต้"},{"$f":"'input ข้าว'!Y2","v":"นครหลวง"},{"$f":"'input ข้าว'!Z2","v":"ชลประทานลพบุรี"},{"$f":"'input ข้าว'!AA2","v":"คลองเพรียว-เสาไห้"},{"$f":"'input ข้าว'!AB2","v":"เขื่อนป่าสักชลสิทธิ์"},{"$f":"'input ข้าว'!AC2","v":"รังสิตเหนือ"},{"$f":"'input ข้าว'!AD2","v":"รังสิตใต้"},{"$f":"'input ข้าว'!AE2","v":"ชลหารพิจิตร"},{"$f":"'input ข้าว'!AF2","v":"พระองค์ไชยานุชิต"},{"$f":"'input ข้าว'!AG2","v":"เขื่อนนเรศวร"},{"$f":"'input ข้าว'!AH2","v":"เขื่อนแควน้อย"},{"$f":"'input ข้าว'!AI2","v":"ยมน่าน"},{"$f":"'input ข้าว'!AJ2","v":"พลายชุมพล"},{"$f":"'input ข้าว'!AK2","v":"ดงเศรษฐี"},{"$f":"'input ข้าว'!AL2","v":"ท่าบัว"},{"$f":"'input ข้าว'!AM2","v":"ท่อทองแดง"},{"$f":"'input ข้าว'!AN2","v":"ชลประทานกำแพงเพชร"},{"$f":"'input ข้าว'!AO2","v":"ชลประทานนครสวรรค์"},{"$f":"'input ข้าว'!AP2","v":"ชลประทานตาก"},{"$f":"'input ข้าว'!AQ2","v":"ชลประทานอุตรดิตถ์"}]
["จังหวัด",null,{"$f":"'input ข้าว'!C3","v":"ชัยนาท"},{"$f":"'input ข้าว'!D3","v":"ชัยนาท"},{"$f":"'input ข้าว'!E3","v":"ชัยนาท"},{"$f":"'input ข้าว'!F3","v":"สุพรรณบุรี"},{"$f":"'input ข้าว'!G3","v":"สุพรรณบุรี"},{"$f":"'input ข้าว'!H3","v":"สุพรรณบุรี"},{"$f":"'input ข้าว'!I3","v":"สุพรรณบุรี"},{"$f":"'input ข้าว'!J3","v":"ชัยนาท"},{"$f":"'input ข้าว'!K3","v":"สิงห์บุรี"},{"$f":"'input ข้าว'!L3","v":"อ่างทอง"},{"$f":"'input ข้าว'!M3","v":"พระนครศรีอยุธยา"},{"$f":"'input ข้าว'!N3","v":"พระนครศรีอยุธยา"},{"$f":"'input ข้าว'!O3","v":"พระนครศรีอยุธยา"},{"$f":"'input ข้าว'!P3","v":"นนทบุรี"},{"$f":"'input ข้าว'!Q3","v":"นครปฐม"},{"$f":"'input ข้าว'!R3","v":"สมุทรสาคร"},{"$f":"'input ข้าว'!S3","v":"ชัยนาท"},{"$f":"'input ข้าว'!T3","v":"ชัยนาท"},{"$f":"'input ข้าว'!U3","v":"ลพบุรี"},{"$f":"'input ข้าว'!V3","v":"สระบุรี"},{"$f":"'input ข้าว'!W3","v":"สิงห์บุรี"},{"$f":"'input ข้าว'!X3","v":"พระนครศรีอยุธยา"},{"$f":"'input ข้าว'!Y3","v":"พระนครศรีอยุธยา"},{"$f":"'input ข้าว'!Z3","v":"ลพบุรี"},{"$f":"'input ข้าว'!AA3","v":"สระบุรี"},{"$f":"'input ข้าว'!AB3","v":"สระบุรี"},{"$f":"'input ข้าว'!AC3","v":"พระนครศรีอยุธยา"},{"$f":"'input ข้าว'!AD3","v":"พระนครศรีอยุธยา"},{"$f":"'input ข้าว'!AE3","v":"สมุทรปราการ"},{"$f":"'input ข้าว'!AF3","v":"ฉะเชิงเทรา"},{"$f":"'input ข้าว'!AG3","v":"พิษณุโลก"},{"$f":"'input ข้าว'!AH3","v":"พิษณุโลก"},{"$f":"'input ข้าว'!AI3","v":"พิษณุโลก"},{"$f":"'input ข้าว'!AJ3","v":"พิษณุโลก"},{"$f":"'input ข้าว'!AK3","v":"พิจิตร"},{"$f":"'input ข้าว'!AL3","v":"พิจิตร"},{"$f":"'input ข้าว'!AM3","v":"กำแพงเพชร"},{"$f":"'input ข้าว'!AN3","v":"กำแพงเพชร"},{"$f":"'input ข้าว'!AO3","v":"นครสวรรค์"},{"$f":"'input ข้าว'!AP3","v":"ตาก"},{"$f":"'input ข้าว'!AQ3","v":"อุตรดิตถ์"}]
["รั่วซึม มม./สัปดาห์",null,{"$f":"'input ข้าว'!C4","v":7},{"$f":"'input ข้าว'!D4","v":7},{"$f":"'input ข้าว'!E4","v":7},{"$f":"'input ข้าว'!F4","v":7},{"$f":"'input ข้าว'!G4","v":7},{"$f":"'input ข้าว'!H4","v":7},{"$f":"'input ข้าว'!I4","v":7},{"$f":"'input ข้าว'!J4","v":7},{"$f":"'input ข้าว'!K4","v":7},{"$f":"'input ข้าว'!L4","v":7},{"$f":"'input ข้าว'!M4","v":7},{"$f":"'input ข้าว'!N4","v":7},{"$f":"'input ข้าว'!O4","v":7},{"$f":"'input ข้าว'!P4","v":7},{"$f":"'input ข้าว'!Q4","v":7},{"$f":"'input ข้าว'!R4","v":7},{"$f":"'input ข้าว'!S4","v":7},{"$f":"'input ข้าว'!T4","v":7},{"$f":"'input ข้าว'!U4","v":7},{"$f":"'input ข้าว'!V4","v":7},{"$f":"'input ข้าว'!W4","v":7},{"$f":"'input ข้าว'!X4","v":7},{"$f":"'input ข้าว'!Y4","v":7},{"$f":"'input ข้าว'!Z4","v":7},{"$f":"'input ข้าว'!AA4","v":7},{"$f":"'input ข้าว'!AB4","v":7},{"$f":"'input ข้าว'!AC4","v":7},{"$f":"'input ข้าว'!AD4","v":7},{"$f":"'input ข้าว'!AE4","v":7},{"$f":"'input ข้าว'!AF4","v":7},{"$f":"'input ข้าว'!AG4","v":7},{"$f":"'input ข้าว'!AH4","v":7},{"$f":"'input ข้าว'!AI4","v":7},{"$f":"'input ข้าว'!AJ4","v":7},{"$f":"'input ข้าว'!AK4","v":7},{"$f":"'input ข้าว'!AL4","v":7},{"$f":"'input ข้าว'!AM4","v":7},{"$f":"'input ข้าว'!AN4","v":7},{"$f":"'input ข้าว'!AO4","v":7},{"$f":"'input ข้าว'!AP4","v":7},{"$f":"'input ข้าว'!AQ4","v":7}]
["น้ำเตรียมแปลง มม./สัปดาห์",null,30,30,30,30,30,30,30,30,30,30,30,30,30,30,30,30,30,30,30,30,30,30,30,30,30,30,30,30,30,30,30,30,30,30,30,30,30,30,30,31,32]
["ประสิทธิ์ภาพโครงการ (%)",null,{"$f":"'input ข้าว'!C7","v":90},{"$f":"'input ข้าว'!D7","v":90},{"$f":"'input ข้าว'!E7","v":90},{"$f":"'input ข้าว'!F7","v":90},{"$f":"'input ข้าว'!G7","v":90},{"$f":"'input ข้าว'!H7","v":90},{"$f":"'input ข้าว'!I7","v":90},{"$f":"'input ข้าว'!J7","v":90},{"$f":"'input ข้าว'!K7","v":90},{"$f":"'input ข้าว'!L7","v":90},{"$f":"'input ข้าว'!M7","v":90},{"$f":"'input ข้าว'!N7","v":77},{"$f":"'input ข้าว'!O7","v":77},{"$f":"'input ข้าว'!P7","v":77},{"$f":"'input ข้าว'!Q7","v":77},{"$f":"'input ข้าว'!R7","v":77},{"$f":"'input ข้าว'!S7","v":85},{"$f":"'input ข้าว'!T7","v":85},{"$f":"'input ข้าว'!U7","v":85},{"$f":"'input ข้าว'!V7","v":85},{"$f":"'input ข้าว'!W7","v":85},{"$f":"'input ข้าว'!X7","v":85},{"$f":"'input ข้าว'!Y7","v":85},{"$f":"'input ข้าว'!Z7","v":85},{"$f":"'input ข้าว'!AA7","v":100},{"$f":"'input ข้าว'!AB7","v":100},{"$f":"'input ข้าว'!AC7","v":100},{"$f":"'input ข้าว'!AD7","v":100},{"$f":"'input ข้าว'!AE7","v":100},{"$f":"'input ข้าว'!AF7","v":100},{"$f":"'input ข้าว'!AG7","v":77},{"$f":"'input ข้าว'!AH7","v":77},{"$f":"'input ข้าว'!AI7","v":77},{"$f":"'input ข้าว'!AJ7","v":77},{"$f":"'input ข้าว'!AK7","v":77},{"$f":"'input ข้าว'!AL7","v":77},{"$f":"'input ข้าว'!AM7","v":65},{"$f":"'input ข้าว'!AN7","v":65},{"$f":"'input ข้าว'!AO7","v":85},{"$f":"'input ข้าว'!AP7","v":85},{"$f":"'input ข้าว'!AQ7","v":85}]
["ชนิดพืชไร่",null,"กล้วยหอม","กล้วยหอม","กล้วยหอม","กล้วยหอม","กล้วยหอม","กล้วยหอม","กล้วยหอม","กล้วยหอม","กล้วยหอม","กล้วยหอม","กล้วยหอม","กล้วยหอม","กล้วยหอม","กล้วยหอม","กล้วยหอม","กล้วยหอม","กล้วยหอม","กล้วยหอม","กล้วยหอม","กล้วยหอม","กล้วยหอม","กล้วยหอม","กล้วยหอม","กล้วยหอม","กล้วยหอม","กล้วยหอม","กล้วยหอม","กล้วยหอม","กล้วยหอม","กล้วยหอม","กล้วยหอม","กล้วยหอม","กล้วยหอม","กล้วยหอม","กล้วยหอม","กล้วยหอม","กล้วยหอม","กล้วยหอม","กล้วยหอม","กล้วยหอม","กล้วยหอม"]
["วัน",null,"พืชไร่ (ไร่ พื้นที่สะสมรายสัปดาห์)"]
[{"$f":"DATE(($B$1-543),11,1)","v":"2017-11-01"},{"$f":"+A9+6","v":"2017-11-07"},101,201,301,401,501,601,701,801,901,1001,1101,1201,1301,1401,1501,1601,1701,1801,1901,2001,2101,2201,2301,2401,2501,2601,2701,2801,2901,3001,3101,3201,3301,3401,3501,3601,3701,3801,3901,3902,3903]
[{"$f":"+A9+7","v":"2017-11-08"},"2017-11-14"]
[{"$f":"+A10+7","v":"2017-11-15"},"2017-11-21"]
["2017-11-22","2017-11-28"]
["2017-11-29","2017-12-05"]
["2017-12-06","2017-12-12"]
["2017-12-13","2017-12-19"]
["2017-12-20","2017-12-26"]
["2017-12-27","2018-01-02"]
["2018-01-03","2018-01-09"]
["2018-01-10","2018-01-16"]
["2018-01-17","2018-01-23"]
["2018-01-24","2018-01-30"]
["2018-01-31","2018-02-06"]
["2018-02-07","2018-02-13"]
["2018-02-14","2018-02-20"]
["2018-02-21","2018-02-27"]
["2018-02-28","2018-03-06"]
["2018-03-07","2018-03-13"]
["2018-03-14","2018-03-20"]
["2018-03-21","2018-03-27"]
["2018-03-28","2018-04-03"]
["2018-04-04","2018-04-10"]
["2018-04-11","2018-04-17"]
["2018-04-18","2018-04-24"]
["2018-04-25","2018-05-01"]
["2018-05-02","2018-05-08"]
["2018-05-09","2018-05-15"]
["2018-05-16","2018-05-22"]
["2018-05-23","2018-05-29"]
["2018-05-30","2018-06-05"]
["2018-06-06","2018-06-12"]
["2018-06-13","2018-06-19"]
["2018-06-20","2018-06-26"]
["2018-06-27","2018-07-03"]
["2018-07-04","2018-07-10"]
["2018-07-11","2018-07-17"]
["2018-07-18","2018-07-24"]
["2018-07-25","2018-07-31"]
["2018-08-01","2018-08-07"]
["2018-08-08","2018-08-14"]
["2018-08-15","2018-08-21"]
["2018-08-22","2018-08-28"]
["2018-08-29","2018-09-04"]
["2018-09-05","2018-09-11"]
["2018-09-12","2018-09-18"]
["2018-09-19","2018-09-25"]
["2018-09-26","2018-10-02"]
["2018-10-03","2018-10-09"]
["2018-10-10","2018-10-16"]
["2018-10-17","2018-10-23"]
["2018-10-24","2018-10-30"]

{"sheet":"input พืชผัก","index":3,"n_rows":73,"n_cols":43,"rows_kept":73,"cut":false,"hidden":false,"merged":[]}
["ปี พ.ศ.",{"$f":"'input ข้าว'!B1","v":2560},null,"ฤดูแล้ง",{"$f":"RIGHT(B1,2)&\"/\"&RIGHT(B1+1,2)","v":"60/61"},"ฤดูฝน",{"$f":"RIGHT(B1+1,2)","v":"61"}]
["โครงการชลประทาน",null,{"$f":"'input ข้าว'!C2","v":"พลเทพ"},{"$f":"'input ข้าว'!D2","v":"ทุ่งวัดสิงห์"},{"$f":"'input ข้าว'!E2","v":"ท่าโบสถ์"},{"$f":"'input ข้าว'!F2","v":"สามชุก"},{"$f":"'input ข้าว'!G2","v":"ดอนเจดีย์"},{"$f":"'input ข้าว'!H2","v":"โพธิ์พระยา"},{"$f":"'input ข้าว'!I2","v":"ชลประทานสุพรรณบุรี"},{"$f":"'input ข้าว'!J2","v":"บรมธาตุ"},{"$f":"'input ข้าว'!K2","v":"ชัณสูตร"},{"$f":"'input ข้าว'!L2","v":"ยางมณี"},{"$f":"'input ข้าว'!M2","v":"ผักไห่"},{"$f":"'input ข้าว'!N2","v":"บางบาล"},{"$f":"'input ข้าว'!O2","v":"เจ้าเจ็ดบางยี่หน"},{"$f":"'input ข้าว'!P2","v":"พระยาบรรลือ"},{"$f":"'input ข้าว'!Q2","v":"พระพิมล"},{"$f":"'input ข้าว'!R2","v":"ภาษีเจริญ"},{"$f":"'input ข้าว'!S2","v":"มโนรมย์"},{"$f":"'input ข้าว'!T2","v":"ช่องแค"},{"$f":"'input ข้าว'!U2","v":"โคกกะเทียม"},{"$f":"'input ข้าว'!V2","v":"เริงราง"},{"$f":"'input ข้าว'!W2","v":"มหาราช"},{"$f":"'input ข้าว'!X2","v":"ป่าสักใต้"},{"$f":"'input ข้าว'!Y2","v":"นครหลวง"},{"$f":"'input ข้าว'!Z2","v":"ชลประทานลพบุรี"},{"$f":"'input ข้าว'!AA2","v":"คลองเพรียว-เสาไห้"},{"$f":"'input ข้าว'!AB2","v":"เขื่อนป่าสักชลสิทธิ์"},{"$f":"'input ข้าว'!AC2","v":"รังสิตเหนือ"},{"$f":"'input ข้าว'!AD2","v":"รังสิตใต้"},{"$f":"'input ข้าว'!AE2","v":"ชลหารพิจิตร"},{"$f":"'input ข้าว'!AF2","v":"พระองค์ไชยานุชิต"},{"$f":"'input ข้าว'!AG2","v":"เขื่อนนเรศวร"},{"$f":"'input ข้าว'!AH2","v":"เขื่อนแควน้อย"},{"$f":"'input ข้าว'!AI2","v":"ยมน่าน"},{"$f":"'input ข้าว'!AJ2","v":"พลายชุมพล"},{"$f":"'input ข้าว'!AK2","v":"ดงเศรษฐี"},{"$f":"'input ข้าว'!AL2","v":"ท่าบัว"},{"$f":"'input ข้าว'!AM2","v":"ท่อทองแดง"},{"$f":"'input ข้าว'!AN2","v":"ชลประทานกำแพงเพชร"},{"$f":"'input ข้าว'!AO2","v":"ชลประทานนครสวรรค์"},{"$f":"'input ข้าว'!AP2","v":"ชลประทานตาก"},{"$f":"'input ข้าว'!AQ2","v":"ชลประทานอุตรดิตถ์"}]
["จังหวัด",null,{"$f":"'input ข้าว'!C3","v":"ชัยนาท"},{"$f":"'input ข้าว'!D3","v":"ชัยนาท"},{"$f":"'input ข้าว'!E3","v":"ชัยนาท"},{"$f":"'input ข้าว'!F3","v":"สุพรรณบุรี"},{"$f":"'input ข้าว'!G3","v":"สุพรรณบุรี"},{"$f":"'input ข้าว'!H3","v":"สุพรรณบุรี"},{"$f":"'input ข้าว'!I3","v":"สุพรรณบุรี"},{"$f":"'input ข้าว'!J3","v":"ชัยนาท"},{"$f":"'input ข้าว'!K3","v":"สิงห์บุรี"},{"$f":"'input ข้าว'!L3","v":"อ่างทอง"},{"$f":"'input ข้าว'!M3","v":"พระนครศรีอยุธยา"},{"$f":"'input ข้าว'!N3","v":"พระนครศรีอยุธยา"},{"$f":"'input ข้าว'!O3","v":"พระนครศรีอยุธยา"},{"$f":"'input ข้าว'!P3","v":"นนทบุรี"},{"$f":"'input ข้าว'!Q3","v":"นครปฐม"},{"$f":"'input ข้าว'!R3","v":"สมุทรสาคร"},{"$f":"'input ข้าว'!S3","v":"ชัยนาท"},{"$f":"'input ข้าว'!T3","v":"ชัยนาท"},{"$f":"'input ข้าว'!U3","v":"ลพบุรี"},{"$f":"'input ข้าว'!V3","v":"สระบุรี"},{"$f":"'input ข้าว'!W3","v":"สิงห์บุรี"},{"$f":"'input ข้าว'!X3","v":"พระนครศรีอยุธยา"},{"$f":"'input ข้าว'!Y3","v":"พระนครศรีอยุธยา"},{"$f":"'input ข้าว'!Z3","v":"ลพบุรี"},{"$f":"'input ข้าว'!AA3","v":"สระบุรี"},{"$f":"'input ข้าว'!AB3","v":"สระบุรี"},{"$f":"'input ข้าว'!AC3","v":"พระนครศรีอยุธยา"},{"$f":"'input ข้าว'!AD3","v":"พระนครศรีอยุธยา"},{"$f":"'input ข้าว'!AE3","v":"สมุทรปราการ"},{"$f":"'input ข้าว'!AF3","v":"ฉะเชิงเทรา"},{"$f":"'input ข้าว'!AG3","v":"พิษณุโลก"},{"$f":"'input ข้าว'!AH3","v":"พิษณุโลก"},{"$f":"'input ข้าว'!AI3","v":"พิษณุโลก"},{"$f":"'input ข้าว'!AJ3","v":"พิษณุโลก"},{"$f":"'input ข้าว'!AK3","v":"พิจิตร"},{"$f":"'input ข้าว'!AL3","v":"พิจิตร"},{"$f":"'input ข้าว'!AM3","v":"กำแพงเพชร"},{"$f":"'input ข้าว'!AN3","v":"กำแพงเพชร"},{"$f":"'input ข้าว'!AO3","v":"นครสวรรค์"},{"$f":"'input ข้าว'!AP3","v":"ตาก"},{"$f":"'input ข้าว'!AQ3","v":"อุตรดิตถ์"}]
["รั่วซึม มม./สัปดาห์",null,{"$f":"'input ข้าว'!C4","v":7},{"$f":"'input ข้าว'!D4","v":7},{"$f":"'input ข้าว'!E4","v":7},{"$f":"'input ข้าว'!F4","v":7},{"$f":"'input ข้าว'!G4","v":7},{"$f":"'input ข้าว'!H4","v":7},{"$f":"'input ข้าว'!I4","v":7},{"$f":"'input ข้าว'!J4","v":7},{"$f":"'input ข้าว'!K4","v":7},{"$f":"'input ข้าว'!L4","v":7},{"$f":"'input ข้าว'!M4","v":7},{"$f":"'input ข้าว'!N4","v":7},{"$f":"'input ข้าว'!O4","v":7},{"$f":"'input ข้าว'!P4","v":7},{"$f":"'input ข้าว'!Q4","v":7},{"$f":"'input ข้าว'!R4","v":7},{"$f":"'input ข้าว'!S4","v":7},{"$f":"'input ข้าว'!T4","v":7},{"$f":"'input ข้าว'!U4","v":7},{"$f":"'input ข้าว'!V4","v":7},{"$f":"'input ข้าว'!W4","v":7},{"$f":"'input ข้าว'!X4","v":7},{"$f":"'input ข้าว'!Y4","v":7},{"$f":"'input ข้าว'!Z4","v":7},{"$f":"'input ข้าว'!AA4","v":7},{"$f":"'input ข้าว'!AB4","v":7},{"$f":"'input ข้าว'!AC4","v":7},{"$f":"'input ข้าว'!AD4","v":7},{"$f":"'input ข้าว'!AE4","v":7},{"$f":"'input ข้าว'!AF4","v":7},{"$f":"'input ข้าว'!AG4","v":7},{"$f":"'input ข้าว'!AH4","v":7},{"$f":"'input ข้าว'!AI4","v":7},{"$f":"'input ข้าว'!AJ4","v":7},{"$f":"'input ข้าว'!AK4","v":7},{"$f":"'input ข้าว'!AL4","v":7},{"$f":"'input ข้าว'!AM4","v":7},{"$f":"'input ข้าว'!AN4","v":7},{"$f":"'input ข้าว'!AO4","v":7},{"$f":"'input ข้าว'!AP4","v":7},{"$f":"'input ข้าว'!AQ4","v":7}]
["น้ำเตรียมแปลงฤดูแล้ง มม./สัปดาห์",null,20,20,20,20,20,20,20,20,20,20,20,20,20,20,20,20,20,20,20,20,20,20,20,20,20,20,20,20,20,20,20,20,20,20,20,20,20,20,20,20,20]
["น้ำเตรียมแปลงฤดูฝน มม./สัปดาห์",null,10,10,10,10,10,10,10,10,10,10,10,10,10,10,10,10,10,10,10,10,10,10,10,10,10,10,10,10,10,10,10,10,10,10,10,10,10,10,10,10,10]
["ประสิทธิ์ภาพโครงการ (%)",null,{"$f":"'input ข้าว'!C7","v":90},{"$f":"'input ข้าว'!D7","v":90},{"$f":"'input ข้าว'!E7","v":90},{"$f":"'input ข้าว'!F7","v":90},{"$f":"'input ข้าว'!G7","v":90},{"$f":"'input ข้าว'!H7","v":90},{"$f":"'input ข้าว'!I7","v":90},{"$f":"'input ข้าว'!J7","v":90},{"$f":"'input ข้าว'!K7","v":90},{"$f":"'input ข้าว'!L7","v":90},{"$f":"'input ข้าว'!M7","v":90},{"$f":"'input ข้าว'!N7","v":77},{"$f":"'input ข้าว'!O7","v":77},{"$f":"'input ข้าว'!P7","v":77},{"$f":"'input ข้าว'!Q7","v":77},{"$f":"'input ข้าว'!R7","v":77},{"$f":"'input ข้าว'!S7","v":85},{"$f":"'input ข้าว'!T7","v":85},{"$f":"'input ข้าว'!U7","v":85},{"$f":"'input ข้าว'!V7","v":85},{"$f":"'input ข้าว'!W7","v":85},{"$f":"'input ข้าว'!X7","v":85},{"$f":"'input ข้าว'!Y7","v":85},{"$f":"'input ข้าว'!Z7","v":85},{"$f":"'input ข้าว'!AA7","v":100},{"$f":"'input ข้าว'!AB7","v":100},{"$f":"'input ข้าว'!AC7","v":100},{"$f":"'input ข้าว'!AD7","v":100},{"$f":"'input ข้าว'!AE7","v":100},{"$f":"'input ข้าว'!AF7","v":100},{"$f":"'input ข้าว'!AG7","v":77},{"$f":"'input ข้าว'!AH7","v":77},{"$f":"'input ข้าว'!AI7","v":77},{"$f":"'input ข้าว'!AJ7","v":77},{"$f":"'input ข้าว'!AK7","v":77},{"$f":"'input ข้าว'!AL7","v":77},{"$f":"'input ข้าว'!AM7","v":65},{"$f":"'input ข้าว'!AN7","v":65},{"$f":"'input ข้าว'!AO7","v":85},{"$f":"'input ข้าว'!AP7","v":85},{"$f":"'input ข้าว'!AQ7","v":85}]
["วัน","ชนิดพืช","กะหล่ำดอก","กะหล่ำดอก","กะหล่ำดอก","กะหล่ำดอก","กะหล่ำดอก","กะหล่ำดอก","กะหล่ำดอก","กะหล่ำดอก","กะหล่ำดอก","กะหล่ำดอก","กะหล่ำดอก","กะหล่ำดอก","กะหล่ำดอก","กะหล่ำดอก","กะหล่ำดอก","กะหล่ำดอก","กะหล่ำดอก","กะหล่ำดอก","กะหล่ำดอก","กะหล่ำดอก","กะหล่ำดอก","กะหล่ำดอก","กะหล่ำดอก","กะหล่ำดอก","กะหล่ำดอก","กะหล่ำดอก","กะหล่ำดอก","กะหล่ำดอก","กะหล่ำดอก","กะหล่ำดอก","กะหล่ำดอก","กะหล่ำดอก","กะหล่ำดอก","กะหล่ำดอก","กะหล่ำดอก","กะหล่ำดอก","กะหล่ำดอก","กะหล่ำดอก","กะหล่ำดอก","กะหล่ำดอก","กะหล่ำดอก"]
[{"$f":"+A10-7","v":"2017-08-02"},{"$f":"+A9+6","v":"2017-08-08"}]
["2017-08-09",{"$f":"+A10+6","v":"2017-08-15"}]
["2017-08-16","2017-08-22"]
["2017-08-23","2017-08-29"]
["2017-08-30","2017-09-05"]
["2017-09-06","2017-09-12"]
["2017-09-13","2017-09-19"]
["2017-09-20","2017-09-26"]
["2017-09-27","2017-10-03"]
["2017-10-04","2017-10-10"]
["2017-10-11","2017-10-17"]
["2017-10-18","2017-10-24"]
[{"$f":"+A22-7","v":"2017-10-25"},"2017-10-31"]
[{"$f":"'input ข้าว'!A22","v":"2017-11-01"},"2017-11-07",null,null,null,null,null,null,null,null,null,null,null,null,null,null,null,null,null,null,null,null,null,null,null,null,null,null,null,null,null,null,null,null,null,null,null,null,348]
[{"$f":"+A22+7","v":"2017-11-08"},"2017-11-14",null,null,null,null,null,null,null,202,null,null,null,null,null,null,1530,null,null,null,null,null,null,null,null,null,null,null,1163,null,null,null,null,null,null,null,null,null,{"$f":"695-348","v":347}]
[{"$f":"+A23+7","v":"2017-11-15"},"2017-11-21",null,null,null,null,null,null,null,null,null,null,null,null,null,null,null,null,null,null,null,1220,null,null,null,null,null,null,null,null,null,null,null,null,null,null,null,null,{"$f":"1205-695","v":510}]
["2017-11-22","2017-11-28",null,null,null,null,null,null,null,null,null,null,null,null,null,null,null,null,null,null,null,null,null,null,null,null,null,null,null,null,null,null,null,null,null,null,null,null,{"$f":"1843-1205","v":638}]
["2017-11-29","2017-12-05",null,null,null,null,null,null,null,null,null,null,null,null,null,null,null,null,null,null,null,{"$f":"1450-1220","v":230},3800,null,null,null,null,null,null,null,null,null,null,null,null,null,null,37,{"$f":"2720-1843","v":877}]
["2017-12-06","2017-12-12",null,null,null,null,null,null,null,null,null,null,null,null,2624,null,{"$f":"2960-1530","v":1430},null,null,null,null,100,null,null,null,null,null,null,null,null,null,null,null,null,null,null,null,{"$f":"241-37","v":204},{"$f":"3667-2720","v":947},null,null,200]
["2017-12-13","2017-12-19",null,null,null,null,null,null,null,null,null,null,null,null,null,null,null,null,null,null,null,450,null,null,null,null,null,null,null,null,null,null,null,null,null,null,null,null,{"$f":"4590-3667","v":923},null,null,{"$f":"4300-200","v":4100}]
["2017-12-20","2017-12-26",null,null,null,null,null,null,null,null,null,null,327,null,null,null,null,null,null,null,null,800,null,1074,null,null,null,null,null,null,null,null,null,null,null,null,null,null,{"$f":"5967-4590","v":1377},null,null,{"$f":"6000-4300","v":1700}]
["2017-12-27","2018-01-02",null,null,null,null,null,null,null,null,null,null,null,null,null,null,null,null,null,null,null,0]
["2018-01-03","2018-01-09",null,null,null,null,null,null,null,null,null,null,null,null,null,null,null,null,null,null,539,{"$f":"4200-2800","v":1400},null,null,null,null,null,null,null,null,9822,null,null,null,null,null,null,{"$f":"840-241","v":599},{"$f":"6820-5967","v":853}]
["2018-01-10","2018-01-16",null,null,null,1171,null,null,null,null,null,null,null,null,null,null,null,null,null,null,null,null,null,null,null,null,null,null,null,null,null,null,1741,null,null,15,null,{"$f":"1221-840","v":381},{"$f":"7854-6820","v":1034},3243]
["2018-01-17","2018-01-23",null,null,null,null,null,null,null,null,null,null,null,null,null,null,null,1671,null,null,null,null,null,null,null,null,null,null,null,null,null,null,null,null,null,null,null,null,null,{"$f":"6282-3243","v":3039},null,{"$f":"6500-6000","v":500}]
["2018-01-24","2018-01-30"]
["2018-01-31","2018-02-06"]
["2018-02-07","2018-02-13"]
["2018-02-14","2018-02-20",null,null,null,null,null,null,null,null,null,null,null,null,null,null,null,null,null,null,null,null,null,null,null,null,null,1100]
["2018-02-21","2018-02-27"]
["2018-02-28","2018-03-06",null,null,null,null,null,811]
["2018-03-07","2018-03-13"]
["2018-03-14","2018-03-20"]
["2018-03-21","2018-03-27"]
["2018-03-28","2018-04-03"]
["2018-04-04","2018-04-10"]
["2018-04-11","2018-04-17"]
["2018-04-18","2018-04-24"]
["2018-04-25","2018-05-01",null,null,null,null,null,null,null,null,null,null,null,null,null,null,null,null,null,null,null,null,null,null,null,null,null,null,null,null,null,null,null,1774]
["2018-05-02","2018-05-08",null,null,null,null,null,null,null,null,null,null,{"$f":"654-327","v":327},null,null,{"$f":"14597-7316","v":7281}]
["2018-05-09","2018-05-15",null,null,null,{"$f":"2686-1714","v":972},null,null,null,null,null,null,{"$f":"846-654","v":192},null,null,null,{"$f":"7080-2960","v":4120},{"$f":"3342-1671","v":1671},null,null,539,null,null,null,null,null,null,null,{"$f":"2026-1163","v":863},null,{"$f":"16842-9822","v":7020},null,null,null,null,null,null,null,{"$f":"8489-7854","v":635}]
["2018-05-16","2018-05-22",null,null,null,null,null,null,null,null,null,null,null,null,null,null,{"$f":"7770-7080","v":690},null,null,null,null,{"$f":"7450-4200","v":3250},null,null,null,30,null,null,null,null,null,null,null,null,null,null,null,null,{"$f":"9164-8489","v":675}]
["2018-05-23","2018-05-29",null,null,null,null,null,null,null,null,null,null,null,null,null,{"$f":"14632-14597","v":35},null,null,null,null,null,null,null,null,null,null,null,null,null,null,{"$f":"17362-16842","v":520}]
["2018-05-30","2018-06-05",null,null,null,null,null,null,null,null,null,null,null,null,null,null,null,null,null,null,null,null,null,null,null,null,null,null,null,null,null,null,null,null,null,null,null,null,{"$f":"9964-9164","v":800}]
["2018-06-06","2018-06-12",null,null,null,{"$f":"2806-2686","v":120},null,null,null,null,null,null,null,null,null,null,null,null,null,null,null,{"$f":"8610-7450","v":1160},null,1074,null,null,null,null,null,null,null,null,1741,null,null,null,null,null,{"$f":"12615-9964","v":2651}]
["2018-06-13","2018-06-19",null,null,null,null,null,null,null,null,null,null,null,null,null,null,null,null,null,null,null,null,null,null,null,null,null,{"$f":"3127-1100","v":2027},null,null,null,null,null,null,null,null,null,null,{"$f":"13079-12615","v":464}]
["2018-06-20","2018-06-26",null,null,null,null,null,null,null,null,null,null,null,null,null,null,null,null,null,null,null,null,null,null,null,null,null,{"$f":"4927-3127","v":1800},null,null,null,null,null,null,null,null,null,null,{"$f":"13543-13079","v":464},null,1000,{"$f":"7500-6500","v":1000}]
["2018-06-27","2018-07-03",null,null,null,null,null,null,null,null,null,null,null,null,null,null,null,null,null,null,null,null,null,null,null,null,null,{"$f":"7993-4927","v":3066},null,null,{"$f":"18782-17947","v":835}]
["2018-07-04","2018-07-10",null,null,null,null,null,null,null,null,null,null,null,null,null,null,{"$f":"7980-7770","v":210},null,null,null,null,null,null,null,null,null,null,{"$f":"9793-7993","v":1800},null,null,{"$f":"19644-18782","v":862}]
["2018-07-11","2018-07-17",null,null,null,null,null,null,null,null,null,null,null,null,null,null,null,null,null,null,null,null,null,null,null,null,null,{"$f":"12162-9793","v":2369},null,null,null,null,null,null,null,null,null,null,null,null,null,{"$f":"9000-7500","v":1500}]
["2018-07-18","2018-07-24",null,null,null,null,null,null,null,null,null,null,null,null,null,null,null,null,null,null,null,null,null,null,null,null,null,{"$f":"13480-12162","v":1318}]
["2018-07-25","2018-07-31"]
["2018-08-01","2018-08-07"]
["2018-08-08","2018-08-14"]
["2018-08-15","2018-08-21"]
["2018-08-22","2018-08-28",null,null,null,null,null,null,null,null,null,null,null,null,null,null,null,null,null,null,null,null,null,null,null,null,null,null,null,null,null,null,null,null,null,null,null,null,null,null,null,{"$f":"11500-9000","v":2500}]
["2018-08-29","2018-09-04"]
["2018-09-05","2018-09-11"]
["2018-09-12","2018-09-18"]
["2018-09-19","2018-09-25"]
["2018-09-26","2018-10-02"]
["2018-10-03","2018-10-09"]
["2018-10-10","2018-10-16"]
["2018-10-17","2018-10-23"]
["2018-10-24","2018-10-30"]

{"sheet":"input ไม้ผล","index":4,"n_rows":60,"n_cols":43,"rows_kept":60,"cut":false,"hidden":false,"merged":[[7,0,7,1]]}
["ปี พ.ศ.",{"$f":"'input ข้าว'!B1","v":2560},null,"ฤดูแล้ง",{"$f":"RIGHT(B1,2)&\"/\"&RIGHT(B1+1,2)","v":"60/61"},"ฤดูฝน",{"$f":"RIGHT(B1+1,2)","v":"61"}]
["โครงการชลประทาน",null,{"$f":"'input ข้าว'!C2","v":"พลเทพ"},{"$f":"'input ข้าว'!D2","v":"ทุ่งวัดสิงห์"},{"$f":"'input ข้าว'!E2","v":"ท่าโบสถ์"},{"$f":"'input ข้าว'!F2","v":"สามชุก"},{"$f":"'input ข้าว'!G2","v":"ดอนเจดีย์"},{"$f":"'input ข้าว'!H2","v":"โพธิ์พระยา"},{"$f":"'input ข้าว'!I2","v":"ชลประทานสุพรรณบุรี"},{"$f":"'input ข้าว'!J2","v":"บรมธาตุ"},{"$f":"'input ข้าว'!K2","v":"ชัณสูตร"},{"$f":"'input ข้าว'!L2","v":"ยางมณี"},{"$f":"'input ข้าว'!M2","v":"ผักไห่"},{"$f":"'input ข้าว'!N2","v":"บางบาล"},{"$f":"'input ข้าว'!O2","v":"เจ้าเจ็ดบางยี่หน"},{"$f":"'input ข้าว'!P2","v":"พระยาบรรลือ"},{"$f":"'input ข้าว'!Q2","v":"พระพิมล"},{"$f":"'input ข้าว'!R2","v":"ภาษีเจริญ"},{"$f":"'input ข้าว'!S2","v":"มโนรมย์"},{"$f":"'input ข้าว'!T2","v":"ช่องแค"},{"$f":"'input ข้าว'!U2","v":"โคกกะเทียม"},{"$f":"'input ข้าว'!V2","v":"เริงราง"},{"$f":"'input ข้าว'!W2","v":"มหาราช"},{"$f":"'input ข้าว'!X2","v":"ป่าสักใต้"},{"$f":"'input ข้าว'!Y2","v":"นครหลวง"},{"$f":"'input ข้าว'!Z2","v":"ชลประทานลพบุรี"},{"$f":"'input ข้าว'!AA2","v":"คลองเพรียว-เสาไห้"},{"$f":"'input ข้าว'!AB2","v":"เขื่อนป่าสักชลสิทธิ์"},{"$f":"'input ข้าว'!AC2","v":"รังสิตเหนือ"},{"$f":"'input ข้าว'!AD2","v":"รังสิตใต้"},{"$f":"'input ข้าว'!AE2","v":"ชลหารพิจิตร"},{"$f":"'input ข้าว'!AF2","v":"พระองค์ไชยานุชิต"},{"$f":"'input ข้าว'!AG2","v":"เขื่อนนเรศวร"},{"$f":"'input ข้าว'!AH2","v":"เขื่อนแควน้อย"},{"$f":"'input ข้าว'!AI2","v":"ยมน่าน"},{"$f":"'input ข้าว'!AJ2","v":"พลายชุมพล"},{"$f":"'input ข้าว'!AK2","v":"ดงเศรษฐี"},{"$f":"'input ข้าว'!AL2","v":"ท่าบัว"},{"$f":"'input ข้าว'!AM2","v":"ท่อทองแดง"},{"$f":"'input ข้าว'!AN2","v":"ชลประทานกำแพงเพชร"},{"$f":"'input ข้าว'!AO2","v":"ชลประทานนครสวรรค์"},{"$f":"'input ข้าว'!AP2","v":"ชลประทานตาก"},{"$f":"'input ข้าว'!AQ2","v":"ชลประทานอุตรดิตถ์"}]
["จังหวัด",null,{"$f":"'input ข้าว'!C3","v":"ชัยนาท"},{"$f":"'input ข้าว'!D3","v":"ชัยนาท"},{"$f":"'input ข้าว'!E3","v":"ชัยนาท"},{"$f":"'input ข้าว'!F3","v":"สุพรรณบุรี"},{"$f":"'input ข้าว'!G3","v":"สุพรรณบุรี"},{"$f":"'input ข้าว'!H3","v":"สุพรรณบุรี"},{"$f":"'input ข้าว'!I3","v":"สุพรรณบุรี"},{"$f":"'input ข้าว'!J3","v":"ชัยนาท"},{"$f":"'input ข้าว'!K3","v":"สิงห์บุรี"},{"$f":"'input ข้าว'!L3","v":"อ่างทอง"},{"$f":"'input ข้าว'!M3","v":"พระนครศรีอยุธยา"},{"$f":"'input ข้าว'!N3","v":"พระนครศรีอยุธยา"},{"$f":"'input ข้าว'!O3","v":"พระนครศรีอยุธยา"},{"$f":"'input ข้าว'!P3","v":"นนทบุรี"},{"$f":"'input ข้าว'!Q3","v":"นครปฐม"},{"$f":"'input ข้าว'!R3","v":"สมุทรสาคร"},{"$f":"'input ข้าว'!S3","v":"ชัยนาท"},{"$f":"'input ข้าว'!T3","v":"ชัยนาท"},{"$f":"'input ข้าว'!U3","v":"ลพบุรี"},{"$f":"'input ข้าว'!V3","v":"สระบุรี"},{"$f":"'input ข้าว'!W3","v":"สิงห์บุรี"},{"$f":"'input ข้าว'!X3","v":"พระนครศรีอยุธยา"},{"$f":"'input ข้าว'!Y3","v":"พระนครศรีอยุธยา"},{"$f":"'input ข้าว'!Z3","v":"ลพบุรี"},{"$f":"'input ข้าว'!AA3","v":"สระบุรี"},{"$f":"'input ข้าว'!AB3","v":"สระบุรี"},{"$f":"'input ข้าว'!AC3","v":"พระนครศรีอยุธยา"},{"$f":"'input ข้าว'!AD3","v":"พระนครศรีอยุธยา"},{"$f":"'input ข้าว'!AE3","v":"สมุทรปราการ"},{"$f":"'input ข้าว'!AF3","v":"ฉะเชิงเทรา"},{"$f":"'input ข้าว'!AG3","v":"พิษณุโลก"},{"$f":"'input ข้าว'!AH3","v":"พิษณุโลก"},{"$f":"'input ข้าว'!AI3","v":"พิษณุโลก"},{"$f":"'input ข้าว'!AJ3","v":"พิษณุโลก"},{"$f":"'input ข้าว'!AK3","v":"พิจิตร"},{"$f":"'input ข้าว'!AL3","v":"พิจิตร"},{"$f":"'input ข้าว'!AM3","v":"กำแพงเพชร"},{"$f":"'input ข้าว'!AN3","v":"กำแพงเพชร"},{"$f":"'input ข้าว'!AO3","v":"นครสวรรค์"},{"$f":"'input ข้าว'!AP3","v":"ตาก"},{"$f":"'input ข้าว'!AQ3","v":"อุตรดิตถ์"}]
["รั่วซึม มม./สัปดาห์",null,{"$f":"'input ข้าว'!C4","v":7},{"$f":"C4","v":7},{"$f":"D4","v":7},7,7,7,7,7,7,7,7,7,7,7,7,7,7,7,7,7,7,7,7,7,7,7,7,7,7,7,7,7,7,7,7,7,7,7,7,7,7]
["น้ำเตรียมแปลง มม./สัปดาห์",null,30,30,30,30,30,30,30,30,30,30,30,30,30,30,30,30,30,30,30,30,30,30,30,30,30,30,30,30,30,30,30,30,30,30,30,30,30,30,30,30,30]
["ประสิทธิ์ภาพโครงการ (%)",null,{"$f":"'input ข้าว'!C7","v":90},{"$f":"'input ข้าว'!D7","v":90},{"$f":"'input ข้าว'!E7","v":90},{"$f":"'input ข้าว'!F7","v":90},{"$f":"'input ข้าว'!G7","v":90},{"$f":"'input ข้าว'!H7","v":90},{"$f":"'input ข้าว'!I7","v":90},{"$f":"'input ข้าว'!J7","v":90},{"$f":"'input ข้าว'!K7","v":90},{"$f":"'input ข้าว'!L7","v":90},{"$f":"'input ข้าว'!M7","v":90},{"$f":"'input ข้าว'!N7","v":77},{"$f":"'input ข้าว'!O7","v":77},{"$f":"'input ข้าว'!P7","v":77},{"$f":"'input ข้าว'!Q7","v":77},{"$f":"'input ข้าว'!R7","v":77},{"$f":"'input ข้าว'!S7","v":85},{"$f":"'input ข้าว'!T7","v":85},{"$f":"'input ข้าว'!U7","v":85},{"$f":"'input ข้าว'!V7","v":85},{"$f":"'input ข้าว'!W7","v":85},{"$f":"'input ข้าว'!X7","v":85},{"$f":"'input ข้าว'!Y7","v":85},{"$f":"'input ข้าว'!Z7","v":85},{"$f":"'input ข้าว'!AA7","v":100},{"$f":"'input ข้าว'!AB7","v":100},{"$f":"'input ข้าว'!AC7","v":100},{"$f":"'input ข้าว'!AD7","v":100},{"$f":"'input ข้าว'!AE7","v":100},{"$f":"'input ข้าว'!AF7","v":100},{"$f":"'input ข้าว'!AG7","v":77},{"$f":"'input ข้าว'!AH7","v":77},{"$f":"'input ข้าว'!AI7","v":77},{"$f":"'input ข้าว'!AJ7","v":77},{"$f":"'input ข้าว'!AK7","v":77},{"$f":"'input ข้าว'!AL7","v":77},{"$f":"'input ข้าว'!AM7","v":65},{"$f":"'input ข้าว'!AN7","v":65},{"$f":"'input ข้าว'!AO7","v":85},{"$f":"'input ข้าว'!AP7","v":85},{"$f":"'input ข้าว'!AQ7","v":85}]
["ชนิดไม้ผล",null,"มะม่วง","มะม่วง","มะม่วง","มะม่วง","มะม่วง","มะม่วง","มะม่วง","มะม่วง","มะม่วง","มะม่วง","มะม่วง","มะม่วง","มะม่วง","มะม่วง","มะม่วง","มะม่วง","มะม่วง","มะม่วง","มะม่วง","มะม่วง","มะม่วง","มะม่วง","มะม่วง","มะม่วง","มะม่วง","มะม่วง","มะม่วง","มะม่วง","มะม่วง","มะม่วง","มะม่วง","มะม่วง","มะม่วง","มะม่วง","มะม่วง","มะม่วง","มะม่วง","มะม่วง","มะม่วง","มะม่วง","มะม่วง"]
["วัน",null,"ไม้ยืนต้น (ไร่ พื้นที่สะสมรายสัปดาห์)"]
[{"$f":"+'input ข้าว'!A22","v":"2017-11-01"},{"$f":"+A9+6","v":"2017-11-07"},1197,1275,0,13408,10007,15805,0,1873,7832,9395,0,0,7439,16349,4850,13000,2315,2294,1293,1362,6008,30002,0,969,0,2850,53273,11163,0,8531,0,0,0,0,0,5684,8491,0,0,3900,0]
[{"$f":"+A9+7","v":"2017-11-08"},"2017-11-14",1197,1275,0,13408,10007,15805,0,1873,7832,9395,0,0,7439,16349,4850,13000,2315,2294,1293,1362,6008,30002,0,969,0,2850,53273,11163,0,8531,0,0,0,0,0,5684,8491,0,0,3900,0]
[{"$f":"+A10+7","v":"2017-11-15"},"2017-11-21",1197,1275,0,13408,10007,15805,0,1873,7832,9395,0,0,7439,16349,4850,13000,2315,2294,1293,1362,6008,30002,0,969,0,2850,53273,11163,0,8531,0,0,0,0,0,5684,8491,0,0,3900,0]
["2017-11-22","2017-11-28",1197,1275,0,13408,10007,15805,0,1873,7832,9395,0,0,7439,16349,4850,13000,2315,2294,1293,1362,6008,30002,0,969,0,2850,53273,11163,0,8531,0,0,0,0,0,5684,8491,0,0,0,0]
["2017-11-29","2017-12-05",1197,1275,0,13408,10007,15805,0,1873,7832,7320,0,0,7439,16349,4850,13000,2315,2294,1293,1362,6008,30002,0,969,0,2850,53273,11163,0,8531,0,0,0,0,0,733,8491,0,0,0,0]
["2017-12-06","2017-12-12",1197,1275,0,13408,10007,15805,0,1873,7832,7320,0,0,7439,16349,4850,13000,2315,2294,1293,1362,6008,30002,0,969,0,2850,53273,11163,0,8531,0,0,0,0,0,6604,8491,0,0,0,0]
["2017-12-13","2017-12-19",1197,1275,0,13408,10007,15805,0,1873,7832,7320,0,0,7439,16349,4850,13000,2719,2294,1293,1362,6008,30002,0,0,0,2850,53273,11163,0,8531,0,0,0,0,0,6604,8491,0,0,0,0]
["2017-12-20","2017-12-26",1197,1275,0,13408,10007,15805,0,1873,7832,7320,0,0,7439,16349,4850,13000,2719,2294,1293,1362,6008,25098,0,0,0,2850,53273,11163,0,8531,0,0,0,0,0,6604,8491,0,0,0,0]
["2017-12-27","2018-01-02",1197,1275,0,13408,10007,15805,0,1873,7832,7320,0,0,7439,16349,4850,13000,2315,2294,1293,1362,6008,25098,0,0,0,2850,53273,11163,0,8531,0,0,0,0,0,6604,8491,0,0,0,0]
["2018-01-03","2018-01-09",1197,1275,0,13408,10007,15805,0,1873,7832,7320,0,0,7439,16349,4850,13000,2315,2294,1293,1362,6008,25098,0,0,0,2850,53273,11163,0,8531,0,0,0,0,0,6604,8491,0,0,0,0]
["2018-01-10","2018-01-16",1197,1275,0,14043,10007,15805,0,1873,7832,7320,0,0,7439,16349,4850,13000,2315,2294,1293,1362,6008,25098,0,0,0,2850,53273,11163,0,8531,0,0,0,11,0,6604,8491,0,0,0,0]
["2018-01-17","2018-01-23",1197,1275,0,14043,10007,15805,0,1054,7832,7320,0,0,7439,16349,4850,13000,2315,2294,1293,1362,6008,25098,0,0,0,2850,59673,11163,0,8531,0,0,0,11,0,6604,8491,0,0,0,0]
["2018-01-24","2018-01-30",1197,1275,0,14043,10007,15805,0,1054,7832,7320,0,0,7439,16349,4850,13000,2315,2294,1293,1362,6008,25098,0,0,0,2850,59673,11163,0,8531,0,0,0,11,0,6604,8491,0,0,0,0]
["2018-01-31","2018-02-06",1197,1275,0,14043,10007,15805,0,1054,7832,7320,0,0,7439,16349,4850,13000,2315,2294,1293,1362,6008,25098,0,0,0,2850,59673,11163,0,8531,0,0,0,11,0,6604,8491,0,0,0,0]
["2018-02-07","2018-02-13",1197,1275,0,14043,10007,15805,0,1054,7832,7320,0,0,7439,16349,4850,13000,2315,2294,1293,1362,6008,25098,0,0,0,2850,59673,11163,0,8531,0,0,0,11,0,6604,8491,0,0,0,0]
["2018-02-14","2018-02-20",1197,1275,0,14043,10007,15805,0,1054,7832,4846,0,0,7439,16349,4850,13000,2315,2294,1293,1362,6008,25098,0,0,0,2850,59673,11163,0,8531,0,0,0,11,0,6604,8491,0,0,0,0]
["2018-02-21","2018-02-27",1197,1275,0,14043,10007,15805,0,1054,7832,4846,0,0,7439,16349,4850,13000,2315,2294,1293,1362,6008,25098,0,0,0,2850,59673,11163,0,8531,0,0,0,11,0,6604,8491,0,0,0,0]
["2018-02-28","2018-03-06",1197,1275,0,14043,10007,15805,0,1054,7832,4846,0,0,7439,16349,4150,13000,2315,2294,1293,1362,6008,25098,0,0,0,2850,59673,11163,0,8531,0,0,0,11,0,6604,8491,0,0,0,0]
["2018-03-07","2018-03-13",1197,1275,0,14043,10007,15805,0,1054,7832,4846,0,0,7439,16349,3160,13000,2315,2294,1293,1362,6008,25098,0,0,0,2850,59673,11163,0,8531,0,0,0,11,0,6604,8491,0,0,0,0]
["2018-03-14","2018-03-20",1197,1275,0,14043,10007,15805,0,1054,7832,7320,0,0,7439,16349,4850,13000,2315,2294,1293,1362,6008,25098,0,0,0,2850,59673,11163,0,8531,0,0,0,11,0,6604,8491,0,0,0,0]
["2018-03-21","2018-03-27",1197,1275,0,14043,10007,15805,0,1054,7832,7320,0,0,7439,16349,4850,13000,2315,2294,1293,1362,6008,25098,0,0,0,2850,59673,11163,0,8531,0,0,0,11,0,6604,8491,0,0,0,0]
["2018-03-28","2018-04-03",1197,1275,0,14043,10007,15805,0,1054,7832,7320,0,0,7439,16349,4850,13000,2315,2294,1293,1362,6008,25098,0,0,0,2850,59673,11163,0,8531,0,0,0,11,0,6604,8491,0,0,0,0]
["2018-04-04","2018-04-10",1197,1275,0,14043,10007,15805,0,1054,7832,7320,0,0,7439,16349,4850,13000,2315,2294,1293,1362,6008,25098,0,0,0,2850,59673,11163,0,8531,0,0,0,11,0,6604,8491,0,0,0,0]
["2018-04-11","2018-04-17",1197,1275,0,14043,10007,15805,0,1054,7832,7320,0,0,7439,16349,4850,13000,2315,2294,1293,1362,6008,25098,0,0,0,2850,59673,11163,0,8531,0,0,0,11,0,6604,8491,0,0,0,0]
["2018-04-18","2018-04-24",1197,1275,0,14043,10007,15805,0,1054,7832,7320,0,0,7439,16349,4850,13000,2315,2294,1293,1362,6008,25098,0,0,0,2850,59673,11163,0,8531,0,0,0,11,0,6604,8491,0,0,0,0]
["2018-04-25","2018-05-01",1197,1275,0,14043,10007,15805,0,1054,7832,7320,0,0,7439,16349,4850,13000,2315,2294,1293,1362,6011,25098,0,0,0,2850,59673,11163,0,8531,0,0,0,11,0,6604,8491,0,0,0,0]
["2018-05-02","2018-05-08",1197,1275,0,14043,10007,15805,0,1054,7832,7320,0,0,7439,16349,4850,13000,2315,2294,1293,1362,6011,25098,0,0,0,2850,59673,11163,0,8531,0,0,0,11,0,6604,8491,0,0,0,0]
["2018-05-09","2018-05-15",1197,1275,0,14043,7999,15805,0,1054,7832,7320,0,0,7439,16349,4850,13000,2315,2294,1293,1362,6011,25098,0,0,0,2850,59673,11163,0,8531,0,0,0,11,0,6604,7925,0,0,0,0]
["2018-05-16","2018-05-22",1197,1275,0,14043,7999,15805,0,1054,7832,7320,0,0,7439,16349,4850,13000,2315,2294,1293,1362,6011,25098,0,0,0,2850,53273,11163,0,8531,0,0,0,11,0,6604,7925,0,0,0,0]
["2018-05-23","2018-05-29",1197,1275,0,14043,7999,15805,0,1054,7832,7320,0,0,7439,16349,4850,13000,2315,2294,1293,1362,6011,25098,0,0,0,2850,53273,11163,0,8531,0,0,0,11,0,6597,7925,0,0,0,0]
["2018-05-30","2018-06-05",1197,1275,0,14043,7999,15805,0,1054,7832,7320,0,0,7439,16349,4850,13000,2315,2294,1293,1362,6011,25098,0,0,0,2850,53273,11163,0,8531,0,0,0,11,0,6597,7925,0,0,0,0]
["2018-06-06","2018-06-12",1197,5328,0,14043,7999,15805,0,1054,7832,7320,0,0,7439,16349,4850,13000,2315,2294,1293,1362,6011,25098,0,0,0,2850,53273,11163,0,8531,0,0,0,11,0,6597,7925,0,0,0,0]
["2018-06-13","2018-06-19",1197,5328,0,14043,7999,15805,0,1054,7832,7320,0,0,7439,16349,4850,13000,2315,2294,1293,1362,6011,25098,0,0,0,530,53273,11163,0,11054,0,0,0,11,0,6597,7925,0,0,0,0]
["2018-06-20","2018-06-26",1197,5328,0,14043,7999,15805,0,1054,7832,7320,0,0,7439,16349,4850,13000,2315,2294,1293,1362,6011,25098,0,0,0,1140,53273,11163,0,11054,0,0,0,532,0,6597,7925,0,0,2900,0]
["2018-06-27","2018-07-03",1197,5328,0,14043,7999,15805,0,1054,7832,7320,451,0,7439,16349,4850,13000,2315,2294,1293,1362,6011,25098,0,0,0,1710,53273,11163,0,11054,0,0,0,532,0,6597,7925,0,0,2900,0]
["2018-07-04","2018-07-10",1197,5328,0,14043,7999,15805,0,1054,7832,7320,451,0,7439,16349,4850,13000,2315,2334,1293,1362,6011,25098,0,0,0,2280,53273,11163,0,11054,0,0,0,532,0,6597,7925,0,0,2900,0]
["2018-07-11","2018-07-17",1197,5328,0,14043,7999,15805,0,1054,7832,7320,451,0,7439,16349,4850,13000,2719,2334,1293,1362,6011,25098,0,0,0,2850,53273,7580,0,11054,0,0,0,532,0,6597,7925,0,0,2900,0]
["2018-07-18","2018-07-24",1197,1275,0,14043,7999,15805,0,1054,7832,7320,451,0,7439,16349,4850,13000,2719,2294,1293,1362,6011,25098,0,0,0,2850,53273,7580,0,11054,0,0,0,532,0,6597,7925,0,0,2900,0]
["2018-07-25","2018-07-31",1197,5328,0,14043,7999,15805,0,1054,7832,7320,451,0,7439,16349,4850,13000,2719,2294,1293,1362,6008,25098,0,0,0,2850,53273,7580,0,11054,0,0,0,532,0,6597,7925,0,0,2900,0]
["2018-08-01","2018-08-07",1197,5328,0,14043,7999,15805,0,1054,7832,7320,451,0,7439,16349,4850,13000,2719,2294,1293,1362,6008,25098,0,0,0,2850,53273,7580,0,10961,0,0,0,532,0,6597,7925,0,0,2900,0]
["2018-08-08","2018-08-14",1197,5328,0,14043,7999,15805,0,1054,7832,7320,451,0,7439,16349,4850,13000,2719,2294,1293,1362,6008,25098,0,0,0,2850,53273,7580,0,10961,0,0,0,532,0,6597,7925,0,0,2900,0]
["2018-08-15","2018-08-21",1197,5328,0,14043,7999,15805,0,1054,7832,7320,451,0,7439,16349,4850,13000,2719,2294,1293,1362,6008,25098,0,0,0,2850,53273,7580,0,10961,0,0,0,532,0,6597,7925,0,0,2900,0]
["2018-08-22","2018-08-28",1197,5328,0,14043,7999,15805,0,1054,7832,7320,451,0,7439,16349,4850,13000,2719,2294,1293,1362,6008,25098,0,0,0,2850,53273,11163,0,10961,0,0,0,532,0,6597,7925,0,0,2900,0]
["2018-08-29","2018-09-04",1197,5328,0,14043,7999,15805,0,1054,7832,7320,451,0,7439,16349,4850,13000,2719,2294,1293,1362,6008,25098,0,0,0,2850,53273,11163,0,10961,0,0,0,532,0,6597,7925,0,0,2900,0]
["2018-09-05","2018-09-11",1197,5328,0,14043,7999,15805,0,1054,7832,7320,451,0,7439,16349,4850,13000,2719,2294,1293,1362,6008,25098,0,0,0,2850,53273,11163,0,10961,0,0,0,532,0,6597,7925,0,0,2900,0]
["2018-09-12","2018-09-18",1197,5328,0,14043,7999,15805,0,1054,7832,7320,451,0,7439,16349,4850,13000,2719,2294,1293,1362,6008,25098,0,0,0,2850,53273,11163,0,10961,0,0,0,532,0,6597,7925,0,0,2900,0]
["2018-09-19","2018-09-25",1197,5328,0,14043,7999,15805,0,1054,7832,7320,451,0,7439,16349,4850,13000,2719,2294,1293,1362,6008,25098,0,0,0,2850,53273,11163,0,10961,0,0,0,532,0,6597,7925,0,0,2900,0]
["2018-09-26","2018-10-02",1197,5328,0,14043,7999,15805,0,1054,7832,7320,451,0,7439,16349,4850,13000,2719,2294,1293,1362,6008,25098,0,0,0,2850,53273,11163,0,10961,0,0,0,532,0,6597,7925,0,0,2900,0]
["2018-10-03","2018-10-09",1197,5328,0,14043,7999,15805,0,1054,7832,7320,451,0,7439,16349,4850,13000,2719,2294,1293,1362,6008,25098,0,0,0,2850,53273,11163,0,10961,0,0,0,532,0,6597,7925,0,0,2900,0]
["2018-10-10","2018-10-16",1197,5328,0,14043,7999,15805,0,1054,7832,7320,451,0,7439,16349,4850,13000,2719,2294,1293,1362,6008,25098,0,0,0,2850,53273,11163,0,10961,0,0,0,532,0,6597,7925,0,0,2900,0]
["2018-10-17","2018-10-23",1197,5328,0,14043,7999,15805,0,1054,7832,7320,451,0,7439,16349,4850,13000,2719,2294,1293,1362,6008,25098,0,0,0,2850,53273,11163,0,10961,0,0,0,532,0,6597,7925,0,0,2900,0]
["2018-10-24","2018-10-30",1197,5328,0,14043,7999,15805,0,1054,7832,7320,451,0,7439,16349,4850,13000,2719,2294,1293,1362,6008,25098,0,0,0,2850,53273,11163,0,10961,0,0,0,532,0,6597,7925,0,0,2900,0]

{"sheet":"input ไม้ยืนต้น","index":5,"n_rows":60,"n_cols":43,"rows_kept":60,"cut":false,"hidden":false,"merged":[[7,0,7,1]]}
["ปี พ.ศ.",{"$f":"'input ข้าว'!B1","v":2560},null,"ฤดูแล้ง",{"$f":"RIGHT(B1,2)&\"/\"&RIGHT(B1+1,2)","v":"60/61"},"ฤดูฝน",{"$f":"RIGHT(B1+1,2)","v":"61"}]
["โครงการชลประทาน",null,{"$f":"'input ข้าว'!C2","v":"พลเทพ"},{"$f":"'input ข้าว'!D2","v":"ทุ่งวัดสิงห์"},{"$f":"'input ข้าว'!E2","v":"ท่าโบสถ์"},{"$f":"'input ข้าว'!F2","v":"สามชุก"},{"$f":"'input ข้าว'!G2","v":"ดอนเจดีย์"},{"$f":"'input ข้าว'!H2","v":"โพธิ์พระยา"},{"$f":"'input ข้าว'!I2","v":"ชลประทานสุพรรณบุรี"},{"$f":"'input ข้าว'!J2","v":"บรมธาตุ"},{"$f":"'input ข้าว'!K2","v":"ชัณสูตร"},{"$f":"'input ข้าว'!L2","v":"ยางมณี"},{"$f":"'input ข้าว'!M2","v":"ผักไห่"},{"$f":"'input ข้าว'!N2","v":"บางบาล"},{"$f":"'input ข้าว'!O2","v":"เจ้าเจ็ดบางยี่หน"},{"$f":"'input ข้าว'!P2","v":"พระยาบรรลือ"},{"$f":"'input ข้าว'!Q2","v":"พระพิมล"},{"$f":"'input ข้าว'!R2","v":"ภาษีเจริญ"},{"$f":"'input ข้าว'!S2","v":"มโนรมย์"},{"$f":"'input ข้าว'!T2","v":"ช่องแค"},{"$f":"'input ข้าว'!U2","v":"โคกกะเทียม"},{"$f":"'input ข้าว'!V2","v":"เริงราง"},{"$f":"'input ข้าว'!W2","v":"มหาราช"},{"$f":"'input ข้าว'!X2","v":"ป่าสักใต้"},{"$f":"'input ข้าว'!Y2","v":"นครหลวง"},{"$f":"'input ข้าว'!Z2","v":"ชลประทานลพบุรี"},{"$f":"'input ข้าว'!AA2","v":"คลองเพรียว-เสาไห้"},{"$f":"'input ข้าว'!AB2","v":"เขื่อนป่าสักชลสิทธิ์"},{"$f":"'input ข้าว'!AC2","v":"รังสิตเหนือ"},{"$f":"'input ข้าว'!AD2","v":"รังสิตใต้"},{"$f":"'input ข้าว'!AE2","v":"ชลหารพิจิตร"},{"$f":"'input ข้าว'!AF2","v":"พระองค์ไชยานุชิต"},{"$f":"'input ข้าว'!AG2","v":"เขื่อนนเรศวร"},{"$f":"'input ข้าว'!AH2","v":"เขื่อนแควน้อย"},{"$f":"'input ข้าว'!AI2","v":"ยมน่าน"},{"$f":"'input ข้าว'!AJ2","v":"พลายชุมพล"},{"$f":"'input ข้าว'!AK2","v":"ดงเศรษฐี"},{"$f":"'input ข้าว'!AL2","v":"ท่าบัว"},{"$f":"'input ข้าว'!AM2","v":"ท่อทองแดง"},{"$f":"'input ข้าว'!AN2","v":"ชลประทานกำแพงเพชร"},{"$f":"'input ข้าว'!AO2","v":"ชลประทานนครสวรรค์"},{"$f":"'input ข้าว'!AP2","v":"ชลประทานตาก"},{"$f":"'input ข้าว'!AQ2","v":"ชลประทานอุตรดิตถ์"}]
["จังหวัด",null,{"$f":"'input ข้าว'!C3","v":"ชัยนาท"},{"$f":"'input ข้าว'!D3","v":"ชัยนาท"},{"$f":"'input ข้าว'!E3","v":"ชัยนาท"},{"$f":"'input ข้าว'!F3","v":"สุพรรณบุรี"},{"$f":"'input ข้าว'!G3","v":"สุพรรณบุรี"},{"$f":"'input ข้าว'!H3","v":"สุพรรณบุรี"},{"$f":"'input ข้าว'!I3","v":"สุพรรณบุรี"},{"$f":"'input ข้าว'!J3","v":"ชัยนาท"},{"$f":"'input ข้าว'!K3","v":"สิงห์บุรี"},{"$f":"'input ข้าว'!L3","v":"อ่างทอง"},{"$f":"'input ข้าว'!M3","v":"พระนครศรีอยุธยา"},{"$f":"'input ข้าว'!N3","v":"พระนครศรีอยุธยา"},{"$f":"'input ข้าว'!O3","v":"พระนครศรีอยุธยา"},{"$f":"'input ข้าว'!P3","v":"นนทบุรี"},{"$f":"'input ข้าว'!Q3","v":"นครปฐม"},{"$f":"'input ข้าว'!R3","v":"สมุทรสาคร"},{"$f":"'input ข้าว'!S3","v":"ชัยนาท"},{"$f":"'input ข้าว'!T3","v":"ชัยนาท"},{"$f":"'input ข้าว'!U3","v":"ลพบุรี"},{"$f":"'input ข้าว'!V3","v":"สระบุรี"},{"$f":"'input ข้าว'!W3","v":"สิงห์บุรี"},{"$f":"'input ข้าว'!X3","v":"พระนครศรีอยุธยา"},{"$f":"'input ข้าว'!Y3","v":"พระนครศรีอยุธยา"},{"$f":"'input ข้าว'!Z3","v":"ลพบุรี"},{"$f":"'input ข้าว'!AA3","v":"สระบุรี"},{"$f":"'input ข้าว'!AB3","v":"สระบุรี"},{"$f":"'input ข้าว'!AC3","v":"พระนครศรีอยุธยา"},{"$f":"'input ข้าว'!AD3","v":"พระนครศรีอยุธยา"},{"$f":"'input ข้าว'!AE3","v":"สมุทรปราการ"},{"$f":"'input ข้าว'!AF3","v":"ฉะเชิงเทรา"},{"$f":"'input ข้าว'!AG3","v":"พิษณุโลก"},{"$f":"'input ข้าว'!AH3","v":"พิษณุโลก"},{"$f":"'input ข้าว'!AI3","v":"พิษณุโลก"},{"$f":"'input ข้าว'!AJ3","v":"พิษณุโลก"},{"$f":"'input ข้าว'!AK3","v":"พิจิตร"},{"$f":"'input ข้าว'!AL3","v":"พิจิตร"},{"$f":"'input ข้าว'!AM3","v":"กำแพงเพชร"},{"$f":"'input ข้าว'!AN3","v":"กำแพงเพชร"},{"$f":"'input ข้าว'!AO3","v":"นครสวรรค์"},{"$f":"'input ข้าว'!AP3","v":"ตาก"},{"$f":"'input ข้าว'!AQ3","v":"อุตรดิตถ์"}]
["รั่วซึม มม./สัปดาห์",null,{"$f":"'input ข้าว'!C4","v":7},{"$f":"'input ข้าว'!D4","v":7},{"$f":"'input ข้าว'!E4","v":7},{"$f":"'input ข้าว'!F4","v":7},{"$f":"'input ข้าว'!G4","v":7},{"$f":"'input ข้าว'!H4","v":7},{"$f":"'input ข้าว'!I4","v":7},{"$f":"'input ข้าว'!J4","v":7},{"$f":"'input ข้าว'!K4","v":7},{"$f":"'input ข้าว'!L4","v":7},{"$f":"'input ข้าว'!M4","v":7},{"$f":"'input ข้าว'!N4","v":7},{"$f":"'input ข้าว'!O4","v":7},{"$f":"'input ข้าว'!P4","v":7},{"$f":"'input ข้าว'!Q4","v":7},{"$f":"'input ข้าว'!R4","v":7},{"$f":"'input ข้าว'!S4","v":7},{"$f":"'input ข้าว'!T4","v":7},{"$f":"'input ข้าว'!U4","v":7},{"$f":"'input ข้าว'!V4","v":7},{"$f":"'input ข้าว'!W4","v":7},{"$f":"'input ข้าว'!X4","v":7},{"$f":"'input ข้าว'!Y4","v":7},{"$f":"'input ข้าว'!Z4","v":7},{"$f":"'input ข้าว'!AA4","v":7},{"$f":"'input ข้าว'!AB4","v":7},{"$f":"'input ข้าว'!AC4","v":7},{"$f":"'input ข้าว'!AD4","v":7},{"$f":"'input ข้าว'!AE4","v":7},{"$f":"'input ข้าว'!AF4","v":7},{"$f":"'input ข้าว'!AG4","v":7},{"$f":"'input ข้าว'!AH4","v":7},{"$f":"'input ข้าว'!AI4","v":7},{"$f":"'input ข้าว'!AJ4","v":7},{"$f":"'input ข้าว'!AK4","v":7},{"$f":"'input ข้าว'!AL4","v":7},{"$f":"'input ข้าว'!AM4","v":7},{"$f":"'input ข้าว'!AN4","v":7},{"$f":"'input ข้าว'!AO4","v":7},{"$f":"'input ข้าว'!AP4","v":7},{"$f":"'input ข้าว'!AQ4","v":7}]
["น้ำเตรียมแปลง มม./สัปดาห์",null,30,30,30,30,30,30,30,30,30,30,30,30,30,30,30,30,30,30,30,30,30,30,30,30,30,30,30,30,30,30,30,30,30,30,30,30,30,30,30,31,32]
["ประสิทธิ์ภาพโครงการ (%)",null,{"$f":"'input ข้าว'!C7","v":90},{"$f":"'input ข้าว'!D7","v":90},{"$f":"'input ข้าว'!E7","v":90},{"$f":"'input ข้าว'!F7","v":90},{"$f":"'input ข้าว'!G7","v":90},{"$f":"'input ข้าว'!H7","v":90},{"$f":"'input ข้าว'!I7","v":90},{"$f":"'input ข้าว'!J7","v":90},{"$f":"'input ข้าว'!K7","v":90},{"$f":"'input ข้าว'!L7","v":90},{"$f":"'input ข้าว'!M7","v":90},{"$f":"'input ข้าว'!N7","v":77},{"$f":"'input ข้าว'!O7","v":77},{"$f":"'input ข้าว'!P7","v":77},{"$f":"'input ข้าว'!Q7","v":77},{"$f":"'input ข้าว'!R7","v":77},{"$f":"'input ข้าว'!S7","v":85},{"$f":"'input ข้าว'!T7","v":85},{"$f":"'input ข้าว'!U7","v":85},{"$f":"'input ข้าว'!V7","v":85},{"$f":"'input ข้าว'!W7","v":85},{"$f":"'input ข้าว'!X7","v":85},{"$f":"'input ข้าว'!Y7","v":85},{"$f":"'input ข้าว'!Z7","v":85},{"$f":"'input ข้าว'!AA7","v":100},{"$f":"'input ข้าว'!AB7","v":100},{"$f":"'input ข้าว'!AC7","v":100},{"$f":"'input ข้าว'!AD7","v":100},{"$f":"'input ข้าว'!AE7","v":100},{"$f":"'input ข้าว'!AF7","v":100},{"$f":"'input ข้าว'!AG7","v":77},{"$f":"'input ข้าว'!AH7","v":77},{"$f":"'input ข้าว'!AI7","v":77},{"$f":"'input ข้าว'!AJ7","v":77},{"$f":"'input ข้าว'!AK7","v":77},{"$f":"'input ข้าว'!AL7","v":77},{"$f":"'input ข้าว'!AM7","v":65},{"$f":"'input ข้าว'!AN7","v":65},{"$f":"'input ข้าว'!AO7","v":85},{"$f":"'input ข้าว'!AP7","v":85},{"$f":"'input ข้าว'!AQ7","v":85}]
["ชนิดไม้ยืนต้น",null,"มะม่วง","มะม่วง","มะม่วง","มะม่วง","มะม่วง","มะม่วง","มะม่วง","มะม่วง","มะม่วง","มะม่วง","มะม่วง","มะม่วง","มะม่วง","มะม่วง","มะม่วง","มะม่วง","มะม่วง","มะม่วง","มะม่วง","มะม่วง","มะม่วง","มะม่วง","มะม่วง","มะม่วง","มะม่วง","มะม่วง","มะม่วง","มะม่วง","มะม่วง","มะม่วง","มะม่วง","มะม่วง","มะม่วง","มะม่วง","มะม่วง","มะม่วง","มะม่วง","มะม่วง","มะม่วง","มะม่วง","มะม่วง"]
["วัน",null,"ไม้ยืนต้น (ไร่ พื้นที่สะสมรายสัปดาห์)"]
[{"$f":"+'input ข้าว'!A22","v":"2017-11-01"},{"$f":"+A9+6","v":"2017-11-07"},0,0,4208,3458,0,0,0,0,0,0,0,0,107,3118,0,0,7,120,0,100,0,0,0,0,0,4151,20009,0,0,0,0,0,0,14,0,115,0,0,0,3719,0]
[{"$f":"+A9+7","v":"2017-11-08"},"2017-11-14",0,0,4208,3458,0,0,0,0,0,0,0,0,107,3118,0,0,7,120,0,100,0,0,0,0,0,4151,20509,0,0,0,0,0,0,14,0,115,0,0,0,3719,0]
[{"$f":"+A10+7","v":"2017-11-15"},"2017-11-21",0,0,4208,3458,0,0,0,0,0,0,0,0,107,3118,0,0,7,120,0,100,0,0,0,0,0,4151,20509,0,0,0,0,0,0,14,0,115,0,0,0,3719,0]
["2017-11-22","2017-11-28",0,0,4208,3458,0,0,0,0,0,0,0,0,107,3118,0,0,7,120,0,100,0,0,0,0,0,4151,20509,0,0,0,0,0,0,14,0,115,0,0,0,3719,0]
["2017-11-29","2017-12-05",0,0,4208,3458,0,0,0,0,0,0,0,0,107,3118,0,0,7,120,0,100,0,0,0,0,0,4151,20509,0,0,0,0,0,0,14,0,38,0,0,0,3719,0]
["2017-12-06","2017-12-12",0,0,4208,3458,0,0,0,0,0,0,0,0,107,3118,0,0,7,120,0,100,0,0,0,0,0,4151,20509,0,0,0,0,0,0,14,0,63,0,0,0,3719,0]
["2017-12-13","2017-12-19",0,0,4208,3458,0,0,0,0,0,0,0,0,107,3118,0,0,7,120,0,100,0,0,0,0,0,4151,20509,0,0,0,0,0,0,14,0,63,0,0,0,3719,0]
["2017-12-20","2017-12-26",0,0,4208,3458,0,0,0,0,0,0,0,0,107,3118,0,0,7,120,0,100,0,0,0,0,0,4151,20509,0,0,0,0,0,0,14,0,140,0,0,0,3719,0]
["2017-12-27","2018-01-02",0,0,4208,3458,0,0,0,0,0,0,0,0,107,3118,0,0,7,120,0,100,0,0,0,0,0,4151,20509,0,0,0,0,0,0,14,0,140,0,0,0,3719,0]
["2018-01-03","2018-01-09",0,0,4208,3458,0,0,0,0,0,0,0,0,107,5625,0,0,7,120,0,100,0,0,0,0,0,4151,20509,0,0,0,0,0,0,14,0,140,0,0,0,3719,0]
["2018-01-10","2018-01-16",0,0,4208,3061,0,0,0,0,0,0,0,0,107,5625,0,0,7,120,0,100,0,0,0,0,0,4151,20509,0,0,0,0,0,0,538,0,140,0,0,0,3719,0]
["2018-01-17","2018-01-23",0,0,4208,3061,0,0,0,0,0,0,0,0,107,5625,0,0,7,120,0,100,0,0,0,0,0,4151,20509,0,0,0,0,0,0,538,0,140,0,6007,0,3719,0]
["2018-01-24","2018-01-30",0,0,4208,3061,0,0,0,0,0,0,0,0,107,5625,0,0,7,120,0,100,0,0,0,0,0,4151,20509,0,0,0,0,0,0,538,0,140,0,6007,0,3719,0]
["2018-01-31","2018-02-06",0,0,4208,3061,0,0,0,0,0,0,0,0,107,5625,0,0,7,120,0,100,0,0,0,0,0,4151,20509,0,0,0,0,0,0,538,0,140,0,6007,0,3719,0]
["2018-02-07","2018-02-13",0,0,4208,3061,0,0,0,0,0,0,0,0,107,5625,0,0,7,120,0,100,0,0,0,0,0,4151,20509,0,0,0,0,0,0,538,0,140,0,6007,0,3719,0]
["2018-02-14","2018-02-20",0,0,4208,3061,0,0,0,0,0,0,0,0,107,5625,0,0,7,120,0,100,0,0,0,0,0,4125,20509,0,0,0,0,0,0,538,0,140,0,6007,0,3719,0]
["2018-02-21","2018-02-27",0,0,4208,3061,0,0,0,0,0,0,0,0,107,5625,0,0,7,120,0,100,0,0,0,0,0,4125,20509,0,0,0,0,0,0,538,0,140,0,6007,0,3719,0]
["2018-02-28","2018-03-06",0,0,4208,3061,0,0,0,0,0,0,0,0,107,5625,0,0,7,120,0,100,0,0,0,0,0,4125,20509,0,0,0,0,0,0,538,0,140,0,6007,0,3719,0]
["2018-03-07","2018-03-13",0,0,4208,3061,0,0,0,0,0,0,0,0,107,5625,0,0,7,120,0,100,0,0,0,0,0,4125,20509,0,0,0,0,0,0,538,0,140,0,6007,0,3719,0]
["2018-03-14","2018-03-20",0,0,4208,3061,0,0,0,0,0,0,0,0,107,5625,0,0,7,120,0,100,0,0,0,0,0,4125,20509,0,0,0,0,0,0,538,0,140,0,6007,0,3719,0]
["2018-03-21","2018-03-27",0,0,4208,3061,0,0,0,0,0,0,0,0,107,5625,0,0,64,120,0,100,0,0,0,0,0,4125,20509,0,0,0,0,0,0,538,0,140,0,6007,0,3719,0]
["2018-03-28","2018-04-03",0,0,4208,3061,0,0,0,0,0,0,0,0,107,5625,0,0,64,120,0,100,0,0,0,0,0,4125,20509,0,0,0,0,0,0,538,0,140,0,6007,0,3719,0]
["2018-04-04","2018-04-10",0,0,4208,3061,0,0,0,0,0,0,0,0,107,5625,0,0,64,120,0,100,0,0,0,0,0,4125,20509,0,0,0,0,0,0,538,0,140,0,6007,0,3719,0]
["2018-04-11","2018-04-17",0,0,4208,3061,0,0,0,0,0,0,0,0,107,5625,0,0,64,120,0,100,0,0,0,0,0,4125,20509,0,0,0,0,0,0,538,0,140,0,6007,0,3719,0]
["2018-04-18","2018-04-24",0,0,4208,3061,0,0,0,0,0,0,0,0,107,5625,0,0,64,120,0,100,0,0,0,0,0,4125,20509,0,0,0,0,0,0,538,0,140,0,6007,0,3719,0]
["2018-04-25","2018-05-01",0,0,4208,3061,0,0,0,0,0,0,0,0,107,5625,0,0,64,120,0,100,0,0,0,0,0,4125,20509,0,0,0,0,0,0,538,0,140,0,6007,0,3719,0]
["2018-05-02","2018-05-08",0,0,4208,3061,0,0,0,0,0,0,0,0,107,5625,0,0,64,120,0,100,0,0,0,0,0,4125,20509,0,0,0,0,0,0,538,0,140,0,6007,0,3719,0]
["2018-05-09","2018-05-15",0,0,4208,3061,0,0,0,0,0,0,0,0,107,5625,0,0,64,120,0,100,0,0,0,0,0,4125,20509,0,0,0,0,0,0,538,0,140,0,6007,0,3719,0]
["2018-05-16","2018-05-22",0,0,4208,3061,0,0,0,0,0,0,0,0,107,5625,0,0,64,120,0,100,0,0,0,0,0,4125,20509,0,0,0,0,0,0,538,0,140,0,6007,0,3719,0]
["2018-05-23","2018-05-29",0,0,4208,3061,0,0,0,0,0,0,0,0,107,5625,0,0,64,120,0,100,0,0,0,0,0,4125,20509,0,0,0,0,0,0,538,0,140,0,6007,0,3719,0]
["2018-05-30","2018-06-05",0,0,4208,3061,0,0,0,0,0,0,0,0,107,5625,0,0,64,120,0,100,0,0,0,0,0,4125,20509,0,0,0,0,0,0,538,0,140,0,6007,0,3719,0]
["2018-06-06","2018-06-12",0,0,4208,3061,0,0,0,0,0,0,0,0,107,5625,0,0,64,120,0,100,0,0,0,0,0,4125,20509,0,0,0,0,0,0,538,0,140,0,6007,0,3719,0]
["2018-06-13","2018-06-19",0,0,4208,3061,0,0,0,0,0,0,0,0,107,5625,0,0,64,120,0,100,0,0,0,0,0,738,19009,0,0,8181,0,0,0,538,0,140,0,6007,0,3719,0]
["2018-06-20","2018-06-26",0,0,4208,3061,0,0,0,0,0,0,0,0,107,5625,0,0,64,120,0,100,0,0,0,0,0,1476,19009,0,0,8181,0,0,0,14,0,140,0,6007,0,3719,0]
["2018-06-27","2018-07-03",0,0,4208,3061,0,0,0,0,0,0,0,0,107,5625,0,0,64,120,0,100,0,0,0,0,0,2213,19009,0,0,8181,0,0,0,14,0,140,0,6007,0,3719,0]
["2018-07-04","2018-07-10",0,0,4208,3061,0,0,0,0,0,0,0,0,107,5625,0,0,64,120,0,100,0,0,0,0,0,2951,19009,0,0,8181,0,0,0,14,0,140,0,6007,0,3719,0]
["2018-07-11","2018-07-17",0,0,4208,3061,0,0,0,0,0,0,0,0,107,5625,0,0,7,120,0,100,0,0,0,0,0,3689,19009,0,0,8181,0,0,0,14,0,140,0,6007,0,3719,0]
["2018-07-18","2018-07-24",0,0,4208,3061,0,0,0,0,0,0,0,0,107,5625,0,0,7,120,0,100,0,0,0,0,0,4151,19009,0,0,8181,0,0,0,14,0,140,0,6007,0,3719,0]
["2018-07-25","2018-07-31",0,0,4208,3061,0,0,0,0,0,0,0,0,107,5625,0,0,7,120,0,100,0,0,0,0,0,4151,19009,0,0,8181,0,0,0,14,0,140,0,6007,0,3719,0]
["2018-08-01","2018-08-07",0,0,4208,3061,0,0,0,0,0,0,0,0,107,5625,0,0,7,120,0,100,0,0,0,0,0,4151,19009,0,0,8181,0,0,0,14,0,140,0,6007,0,3719,0]
["2018-08-08","2018-08-14",0,0,4208,3061,0,0,0,0,0,0,0,0,107,5625,0,0,7,120,0,100,0,0,0,0,0,4151,19009,0,0,8181,0,0,0,14,0,140,0,6007,0,3719,0]
["2018-08-15","2018-08-21",0,0,4208,3061,0,0,0,0,0,0,0,0,107,5625,0,0,7,120,0,100,0,0,0,0,0,4151,19009,0,0,8181,0,0,0,14,0,140,0,6007,0,3719,0]
["2018-08-22","2018-08-28",0,0,4208,3061,0,0,0,0,0,0,0,0,107,5625,0,0,7,120,0,100,0,0,0,0,0,4151,19009,0,0,8181,0,0,0,14,0,140,0,6007,0,3719,0]
["2018-08-29","2018-09-04",0,0,4208,3061,0,0,0,0,0,0,0,0,107,5625,0,0,7,120,0,100,0,0,0,0,0,4151,19009,0,0,8181,0,0,0,14,0,140,0,6007,0,3719,0]
["2018-09-05","2018-09-11",0,0,4208,3061,0,0,0,0,0,0,0,0,107,5625,0,0,7,120,0,100,0,0,0,0,0,4151,19009,0,0,8181,0,0,0,14,0,140,0,6007,0,3719,0]
["2018-09-12","2018-09-18",0,0,4208,3061,0,0,0,0,0,0,0,0,107,5625,0,0,7,120,0,100,0,0,0,0,0,4151,19009,0,0,8181,0,0,0,14,0,140,0,6007,0,3719,0]
["2018-09-19","2018-09-25",0,0,4208,3061,0,0,0,0,0,0,0,0,107,5625,0,0,7,120,0,100,0,0,0,0,0,4151,19009,0,0,8181,0,0,0,14,0,140,0,6007,0,3719,0]
["2018-09-26","2018-10-02",0,0,4208,3061,0,0,0,0,0,0,0,0,107,5625,0,0,7,120,0,100,0,0,0,0,0,4151,19009,0,0,8181,0,0,0,14,0,140,0,6007,0,3719,0]
["2018-10-03","2018-10-09",0,0,4208,3061,0,0,0,0,0,0,0,0,107,5625,0,0,7,120,0,100,0,0,0,0,0,4151,19009,0,0,8181,0,0,0,14,0,140,0,6007,0,3719,0]
["2018-10-10","2018-10-16",0,0,4208,3061,0,0,0,0,0,0,0,0,107,5625,0,0,7,120,0,100,0,0,0,0,0,4151,19009,0,0,8181,0,0,0,14,0,140,0,6007,0,3719,0]
["2018-10-17","2018-10-23",0,0,4208,3061,0,0,0,0,0,0,0,0,107,5625,0,0,7,120,0,100,0,0,0,0,0,4151,19009,0,0,8181,0,0,0,14,0,140,0,6007,0,3719,0]
["2018-10-24","2018-10-30",0,0,4208,3061,0,0,0,0,0,0,0,0,107,5625,0,0,7,120,0,100,0,0,0,0,0,4151,19009,0,0,8181,0,0,0,14,0,140,0,6007,0,3719,0]

{"sheet":"input พืชอื่น","index":6,"n_rows":73,"n_cols":43,"rows_kept":73,"cut":false,"hidden":false,"merged":[]}
["ปี พ.ศ.",{"$f":"'input ข้าว'!B1","v":2560},null,"ฤดูแล้ง",{"$f":"RIGHT(B1,2)&\"/\"&RIGHT(B1+1,2)","v":"60/61"},"ฤดูฝน",{"$f":"RIGHT(B1+1,2)","v":"61"}]
["โครงการชลประทาน",null,{"$f":"'input ข้าว'!C2","v":"พลเทพ"},{"$f":"'input ข้าว'!D2","v":"ทุ่งวัดสิงห์"},{"$f":"'input ข้าว'!E2","v":"ท่าโบสถ์"},{"$f":"'input ข้าว'!F2","v":"สามชุก"},{"$f":"'input ข้าว'!G2","v":"ดอนเจดีย์"},{"$f":"'input ข้าว'!H2","v":"โพธิ์พระยา"},{"$f":"'input ข้าว'!I2","v":"ชลประทานสุพรรณบุรี"},{"$f":"'input ข้าว'!J2","v":"บรมธาตุ"},{"$f":"'input ข้าว'!K2","v":"ชัณสูตร"},{"$f":"'input ข้าว'!L2","v":"ยางมณี"},{"$f":"'input ข้าว'!M2","v":"ผักไห่"},{"$f":"'input ข้าว'!N2","v":"บางบาล"},{"$f":"'input ข้าว'!O2","v":"เจ้าเจ็ดบางยี่หน"},{"$f":"'input ข้าว'!P2","v":"พระยาบรรลือ"},{"$f":"'input ข้าว'!Q2","v":"พระพิมล"},{"$f":"'input ข้าว'!R2","v":"ภาษีเจริญ"},{"$f":"'input ข้าว'!S2","v":"มโนรมย์"},{"$f":"'input ข้าว'!T2","v":"ช่องแค"},{"$f":"'input ข้าว'!U2","v":"โคกกะเทียม"},{"$f":"'input ข้าว'!V2","v":"เริงราง"},{"$f":"'input ข้าว'!W2","v":"มหาราช"},{"$f":"'input ข้าว'!X2","v":"ป่าสักใต้"},{"$f":"'input ข้าว'!Y2","v":"นครหลวง"},{"$f":"'input ข้าว'!Z2","v":"ชลประทานลพบุรี"},{"$f":"'input ข้าว'!AA2","v":"คลองเพรียว-เสาไห้"},{"$f":"'input ข้าว'!AB2","v":"เขื่อนป่าสักชลสิทธิ์"},{"$f":"'input ข้าว'!AC2","v":"รังสิตเหนือ"},{"$f":"'input ข้าว'!AD2","v":"รังสิตใต้"},{"$f":"'input ข้าว'!AE2","v":"ชลหารพิจิตร"},{"$f":"'input ข้าว'!AF2","v":"พระองค์ไชยานุชิต"},{"$f":"'input ข้าว'!AG2","v":"เขื่อนนเรศวร"},{"$f":"'input ข้าว'!AH2","v":"เขื่อนแควน้อย"},{"$f":"'input ข้าว'!AI2","v":"ยมน่าน"},{"$f":"'input ข้าว'!AJ2","v":"พลายชุมพล"},{"$f":"'input ข้าว'!AK2","v":"ดงเศรษฐี"},{"$f":"'input ข้าว'!AL2","v":"ท่าบัว"},{"$f":"'input ข้าว'!AM2","v":"ท่อทองแดง"},{"$f":"'input ข้าว'!AN2","v":"ชลประทานกำแพงเพชร"},{"$f":"'input ข้าว'!AO2","v":"ชลประทานนครสวรรค์"},{"$f":"'input ข้าว'!AP2","v":"ชลประทานตาก"},{"$f":"'input ข้าว'!AQ2","v":"ชลประทานอุตรดิตถ์"}]
["จังหวัด",null,{"$f":"'input ข้าว'!C3","v":"ชัยนาท"},{"$f":"'input ข้าว'!D3","v":"ชัยนาท"},{"$f":"'input ข้าว'!E3","v":"ชัยนาท"},{"$f":"'input ข้าว'!F3","v":"สุพรรณบุรี"},{"$f":"'input ข้าว'!G3","v":"สุพรรณบุรี"},{"$f":"'input ข้าว'!H3","v":"สุพรรณบุรี"},{"$f":"'input ข้าว'!I3","v":"สุพรรณบุรี"},{"$f":"'input ข้าว'!J3","v":"ชัยนาท"},{"$f":"'input ข้าว'!K3","v":"สิงห์บุรี"},{"$f":"'input ข้าว'!L3","v":"อ่างทอง"},{"$f":"'input ข้าว'!M3","v":"พระนครศรีอยุธยา"},{"$f":"'input ข้าว'!N3","v":"พระนครศรีอยุธยา"},{"$f":"'input ข้าว'!O3","v":"พระนครศรีอยุธยา"},{"$f":"'input ข้าว'!P3","v":"นนทบุรี"},{"$f":"'input ข้าว'!Q3","v":"นครปฐม"},{"$f":"'input ข้าว'!R3","v":"สมุทรสาคร"},{"$f":"'input ข้าว'!S3","v":"ชัยนาท"},{"$f":"'input ข้าว'!T3","v":"ชัยนาท"},{"$f":"'input ข้าว'!U3","v":"ลพบุรี"},{"$f":"'input ข้าว'!V3","v":"สระบุรี"},{"$f":"'input ข้าว'!W3","v":"สิงห์บุรี"},{"$f":"'input ข้าว'!X3","v":"พระนครศรีอยุธยา"},{"$f":"'input ข้าว'!Y3","v":"พระนครศรีอยุธยา"},{"$f":"'input ข้าว'!Z3","v":"ลพบุรี"},{"$f":"'input ข้าว'!AA3","v":"สระบุรี"},{"$f":"'input ข้าว'!AB3","v":"สระบุรี"},{"$f":"'input ข้าว'!AC3","v":"พระนครศรีอยุธยา"},{"$f":"'input ข้าว'!AD3","v":"พระนครศรีอยุธยา"},{"$f":"'input ข้าว'!AE3","v":"สมุทรปราการ"},{"$f":"'input ข้าว'!AF3","v":"ฉะเชิงเทรา"},{"$f":"'input ข้าว'!AG3","v":"พิษณุโลก"},{"$f":"'input ข้าว'!AH3","v":"พิษณุโลก"},{"$f":"'input ข้าว'!AI3","v":"พิษณุโลก"},{"$f":"'input ข้าว'!AJ3","v":"พิษณุโลก"},{"$f":"'input ข้าว'!AK3","v":"พิจิตร"},{"$f":"'input ข้าว'!AL3","v":"พิจิตร"},{"$f":"'input ข้าว'!AM3","v":"กำแพงเพชร"},{"$f":"'input ข้าว'!AN3","v":"กำแพงเพชร"},{"$f":"'input ข้าว'!AO3","v":"นครสวรรค์"},{"$f":"'input ข้าว'!AP3","v":"ตาก"},{"$f":"'input ข้าว'!AQ3","v":"อุตรดิตถ์"}]
["รั่วซึม มม./สัปดาห์",null,{"$f":"'input ข้าว'!C4","v":7},{"$f":"'input ข้าว'!D4","v":7},{"$f":"'input ข้าว'!E4","v":7},{"$f":"'input ข้าว'!F4","v":7},{"$f":"'input ข้าว'!G4","v":7},{"$f":"'input ข้าว'!H4","v":7},{"$f":"'input ข้าว'!I4","v":7},{"$f":"'input ข้าว'!J4","v":7},{"$f":"'input ข้าว'!K4","v":7},{"$f":"'input ข้าว'!L4","v":7},{"$f":"'input ข้าว'!M4","v":7},{"$f":"'input ข้าว'!N4","v":7},{"$f":"'input ข้าว'!O4","v":7},{"$f":"'input ข้าว'!P4","v":7},{"$f":"'input ข้าว'!Q4","v":7},{"$f":"'input ข้าว'!R4","v":7},{"$f":"'input ข้าว'!S4","v":7},{"$f":"'input ข้าว'!T4","v":7},{"$f":"'input ข้าว'!U4","v":7},{"$f":"'input ข้าว'!V4","v":7},{"$f":"'input ข้าว'!W4","v":7},{"$f":"'input ข้าว'!X4","v":7},{"$f":"'input ข้าว'!Y4","v":7},{"$f":"'input ข้าว'!Z4","v":7},{"$f":"'input ข้าว'!AA4","v":7},{"$f":"'input ข้าว'!AB4","v":7},{"$f":"'input ข้าว'!AC4","v":7},{"$f":"'input ข้าว'!AD4","v":7},{"$f":"'input ข้าว'!AE4","v":7},{"$f":"'input ข้าว'!AF4","v":7},{"$f":"'input ข้าว'!AG4","v":7},{"$f":"'input ข้าว'!AH4","v":7},{"$f":"'input ข้าว'!AI4","v":7},{"$f":"'input ข้าว'!AJ4","v":7},{"$f":"'input ข้าว'!AK4","v":7},{"$f":"'input ข้าว'!AL4","v":7},{"$f":"'input ข้าว'!AM4","v":7},{"$f":"'input ข้าว'!AN4","v":7},{"$f":"'input ข้าว'!AO4","v":7},{"$f":"'input ข้าว'!AP4","v":7},{"$f":"'input ข้าว'!AQ4","v":7}]
["น้ำเตรียมแปลงฤดูแล้ง มม./สัปดาห์",null,20,20,20,20,20,20,20,20,20,20,20,20,20,20,20,20,20,20,20,20,20,20,20,20,20,20,20,20,20,20,20,20,20,20,20,20,20,20,20,20,20]
["น้ำเตรียมแปลงฤดูฝน มม./สัปดาห์",null,10,10,10,10,10,10,10,10,10,10,10,10,10,10,10,10,10,10,10,10,10,10,10,10,10,10,10,10,10,10,10,10,10,10,10,10,10,10,10,10,10]
["ประสิทธิ์ภาพโครงการ (%)",null,{"$f":"'input ข้าว'!C7","v":90},{"$f":"'input ข้าว'!D7","v":90},{"$f":"'input ข้าว'!E7","v":90},{"$f":"'input ข้าว'!F7","v":90},{"$f":"'input ข้าว'!G7","v":90},{"$f":"'input ข้าว'!H7","v":90},{"$f":"'input ข้าว'!I7","v":90},{"$f":"'input ข้าว'!J7","v":90},{"$f":"'input ข้าว'!K7","v":90},{"$f":"'input ข้าว'!L7","v":90},{"$f":"'input ข้าว'!M7","v":90},{"$f":"'input ข้าว'!N7","v":77},{"$f":"'input ข้าว'!O7","v":77},{"$f":"'input ข้าว'!P7","v":77},{"$f":"'input ข้าว'!Q7","v":77},{"$f":"'input ข้าว'!R7","v":77},{"$f":"'input ข้าว'!S7","v":85},{"$f":"'input ข้าว'!T7","v":85},{"$f":"'input ข้าว'!U7","v":85},{"$f":"'input ข้าว'!V7","v":85},{"$f":"'input ข้าว'!W7","v":85},{"$f":"'input ข้าว'!X7","v":85},{"$f":"'input ข้าว'!Y7","v":85},{"$f":"'input ข้าว'!Z7","v":85},{"$f":"'input ข้าว'!AA7","v":100},{"$f":"'input ข้าว'!AB7","v":100},{"$f":"'input ข้าว'!AC7","v":100},{"$f":"'input ข้าว'!AD7","v":100},{"$f":"'input ข้าว'!AE7","v":100},{"$f":"'input ข้าว'!AF7","v":100},{"$f":"'input ข้าว'!AG7","v":77},{"$f":"'input ข้าว'!AH7","v":77},{"$f":"'input ข้าว'!AI7","v":77},{"$f":"'input ข้าว'!AJ7","v":77},{"$f":"'input ข้าว'!AK7","v":77},{"$f":"'input ข้าว'!AL7","v":77},{"$f":"'input ข้าว'!AM7","v":65},{"$f":"'input ข้าว'!AN7","v":65},{"$f":"'input ข้าว'!AO7","v":85},{"$f":"'input ข้าว'!AP7","v":85},{"$f":"'input ข้าว'!AQ7","v":85}]
["วัน","ชนิดพืช","ไม้ดอก (บานชื่น)","ไม้ดอก (บานชื่น)","ไม้ดอก (บานชื่น)","ไม้ดอก (บานชื่น)","ไม้ดอก (บานชื่น)","ไม้ดอก (บานชื่น)","ไม้ดอก (บานชื่น)","ไม้ดอก (บานชื่น)","ไม้ดอก (บานชื่น)","ไม้ดอก (บานชื่น)","ไม้ดอก (บานชื่น)","ไม้ดอก (บานชื่น)","ไม้ดอก (บานชื่น)","ไม้ดอก (บานชื่น)","ไม้ดอก (บานชื่น)","ไม้ดอก (บานชื่น)","ไม้ดอก (บานชื่น)","ไม้ดอก (บานชื่น)","ไม้ดอก (บานชื่น)","ไม้ดอก (บานชื่น)","ไม้ดอก (บานชื่น)","ไม้ดอก (บานชื่น)","ไม้ดอก (บานชื่น)","ไม้ดอก (บานชื่น)","ไม้ดอก (บานชื่น)","ไม้ดอก (บานชื่น)","ไม้ดอก (บานชื่น)","ไม้ดอก (บานชื่น)","ไม้ดอก (บานชื่น)","ไม้ดอก (บานชื่น)","ไม้ดอก (บานชื่น)","ไม้ดอก (บานชื่น)","ไม้ดอก (บานชื่น)","ไม้ดอก (บานชื่น)","ไม้ดอก (บานชื่น)","ไม้ดอก (บานชื่น)","ไม้ดอก (บานชื่น)","ไม้ดอก (บานชื่น)","ไม้ดอก (บานชื่น)","ไม้ดอก (บานชื่น)","ไม้ดอก (บานชื่น)"]
[{"$f":"+A10-7","v":"2017-08-02"},{"$f":"+A9+6","v":"2017-08-08"}]
["2017-08-09",{"$f":"+A10+6","v":"2017-08-15"}]
["2017-08-16","2017-08-22"]
["2017-08-23","2017-08-29"]
["2017-08-30","2017-09-05"]
["2017-09-06","2017-09-12"]
["2017-09-13","2017-09-19"]
["2017-09-20","2017-09-26"]
["2017-09-27","2017-10-03"]
["2017-10-04","2017-10-10"]
["2017-10-11","2017-10-17"]
["2017-10-18","2017-10-24"]
[{"$f":"+A22-7","v":"2017-10-25"},"2017-10-31"]
[{"$f":"+'input ข้าว'!A22","v":"2017-11-01"},"2017-11-07",null,null,null,null,null,null,null,null,null,null,null,null,1398,1628,6270,3043,1536,475,null,5480,null,null,null,null,null,58,null,4001,1435,8241,null,null,null,null,null,null,639,2902,2500]
[{"$f":"+A22+7","v":"2017-11-08"},"2017-11-14"]
[{"$f":"+A23+7","v":"2017-11-15"},"2017-11-21",null,null,null,null,null,null,null,null,null,null,null,null,null,null,null,null,null,null,null,null,null,null,null,null,null,null,null,null,null,null,null,null,null,null,null,null,{"$f":"1464-639","v":825}]
["2017-11-22","2017-11-28"]
["2017-11-29","2017-12-05"]
["2017-12-06","2017-12-12"]
["2017-12-13","2017-12-19"]
["2017-12-20","2017-12-26"]
["2017-12-27","2018-01-02"]
["2018-01-03","2018-01-09",null,null,null,null,null,null,null,null,null,null,null,null,null,null,null,null,null,null,null,null,null,null,null,null,null,null,null,null,null,null,null,null,null,null,null,194]
["2018-01-10","2018-01-16",null,null,null,42380]
["2018-01-17","2018-01-23"]
["2018-01-24","2018-01-30"]
["2018-01-31","2018-02-06"]
["2018-02-07","2018-02-13"]
["2018-02-14","2018-02-20"]
["2018-02-21","2018-02-27"]
["2018-02-28","2018-03-06"]
["2018-03-07","2018-03-13"]
["2018-03-14","2018-03-20"]
["2018-03-21","2018-03-27"]
["2018-03-28","2018-04-03"]
["2018-04-04","2018-04-10"]
["2018-04-11","2018-04-17"]
["2018-04-18","2018-04-24"]
["2018-04-25","2018-05-01"]
["2018-05-02","2018-05-08"]
["2018-05-09","2018-05-15"]
["2018-05-16","2018-05-22"]
["2018-05-23","2018-05-29"]
["2018-05-30","2018-06-05"]
["2018-06-06","2018-06-12"]
["2018-06-13","2018-06-19"]
["2018-06-20","2018-06-26"]
["2018-06-27","2018-07-03"]
["2018-07-04","2018-07-10"]
["2018-07-11","2018-07-17",null,null,null,null,null,null,null,null,null,null,null,null,null,null,null,null,1536]
["2018-07-18","2018-07-24"]
["2018-07-25","2018-07-31",null,null,null,null,null,null,null,null,null,null,null,null,null,null,null,null,null,null,null,5480]
["2018-08-01","2018-08-07"]
["2018-08-08","2018-08-14"]
["2018-08-15","2018-08-21"]
["2018-08-22","2018-08-28",null,null,null,null,null,null,null,null,null,null,null,null,null,null,null,null,null,null,null,null,null,null,null,null,null,29,0,4001,1435]
["2018-08-29","2018-09-04"]
["2018-09-05","2018-09-11"]
["2018-09-12","2018-09-18"]
["2018-09-19","2018-09-25"]
["2018-09-26","2018-10-02"]
["2018-10-03","2018-10-09"]
["2018-10-10","2018-10-16"]
["2018-10-17","2018-10-23"]
["2018-10-24","2018-10-30"]

{"sheet":"input บ่อปลา","index":7,"n_rows":58,"n_cols":43,"rows_kept":58,"cut":false,"hidden":false,"merged":[[5,0,5,1]]}
["ปี พ.ศ.",{"$f":"'input ข้าว'!B1","v":2560},null,"ฤดูแล้ง",{"$f":"RIGHT(B1,2)&\"/\"&RIGHT(B1+1,2)","v":"60/61"},"ฤดูฝน",{"$f":"RIGHT(B1+1,2)","v":"61"}]
["โครงการชลประทาน",null,{"$f":"'input ข้าว'!C2","v":"พลเทพ"},{"$f":"'input ข้าว'!D2","v":"ทุ่งวัดสิงห์"},{"$f":"'input ข้าว'!E2","v":"ท่าโบสถ์"},{"$f":"'input ข้าว'!F2","v":"สามชุก"},{"$f":"'input ข้าว'!G2","v":"ดอนเจดีย์"},{"$f":"'input ข้าว'!H2","v":"โพธิ์พระยา"},{"$f":"'input ข้าว'!I2","v":"ชลประทานสุพรรณบุรี"},{"$f":"'input ข้าว'!J2","v":"บรมธาตุ"},{"$f":"'input ข้าว'!K2","v":"ชัณสูตร"},{"$f":"'input ข้าว'!L2","v":"ยางมณี"},{"$f":"'input ข้าว'!M2","v":"ผักไห่"},{"$f":"'input ข้าว'!N2","v":"บางบาล"},{"$f":"'input ข้าว'!O2","v":"เจ้าเจ็ดบางยี่หน"},{"$f":"'input ข้าว'!P2","v":"พระยาบรรลือ"},{"$f":"'input ข้าว'!Q2","v":"พระพิมล"},{"$f":"'input ข้าว'!R2","v":"ภาษีเจริญ"},{"$f":"'input ข้าว'!S2","v":"มโนรมย์"},{"$f":"'input ข้าว'!T2","v":"ช่องแค"},{"$f":"'input ข้าว'!U2","v":"โคกกะเทียม"},{"$f":"'input ข้าว'!V2","v":"เริงราง"},{"$f":"'input ข้าว'!W2","v":"มหาราช"},{"$f":"'input ข้าว'!X2","v":"ป่าสักใต้"},{"$f":"'input ข้าว'!Y2","v":"นครหลวง"},{"$f":"'input ข้าว'!Z2","v":"ชลประทานลพบุรี"},{"$f":"'input ข้าว'!AA2","v":"คลองเพรียว-เสาไห้"},{"$f":"'input ข้าว'!AB2","v":"เขื่อนป่าสักชลสิทธิ์"},{"$f":"'input ข้าว'!AC2","v":"รังสิตเหนือ"},{"$f":"'input ข้าว'!AD2","v":"รังสิตใต้"},{"$f":"'input ข้าว'!AE2","v":"ชลหารพิจิตร"},{"$f":"'input ข้าว'!AF2","v":"พระองค์ไชยานุชิต"},{"$f":"'input ข้าว'!AG2","v":"เขื่อนนเรศวร"},{"$f":"'input ข้าว'!AH2","v":"เขื่อนแควน้อย"},{"$f":"'input ข้าว'!AI2","v":"ยมน่าน"},{"$f":"'input ข้าว'!AJ2","v":"พลายชุมพล"},{"$f":"'input ข้าว'!AK2","v":"ดงเศรษฐี"},{"$f":"'input ข้าว'!AL2","v":"ท่าบัว"},{"$f":"'input ข้าว'!AM2","v":"ท่อทองแดง"},{"$f":"'input ข้าว'!AN2","v":"ชลประทานกำแพงเพชร"},{"$f":"'input ข้าว'!AO2","v":"ชลประทานนครสวรรค์"},{"$f":"'input ข้าว'!AP2","v":"ชลประทานตาก"},{"$f":"'input ข้าว'!AQ2","v":"ชลประทานอุตรดิตถ์"}]
["จังหวัด",null,{"$f":"'input ข้าว'!C3","v":"ชัยนาท"},{"$f":"'input ข้าว'!D3","v":"ชัยนาท"},{"$f":"'input ข้าว'!E3","v":"ชัยนาท"},{"$f":"'input ข้าว'!F3","v":"สุพรรณบุรี"},{"$f":"'input ข้าว'!G3","v":"สุพรรณบุรี"},{"$f":"'input ข้าว'!H3","v":"สุพรรณบุรี"},{"$f":"'input ข้าว'!I3","v":"สุพรรณบุรี"},{"$f":"'input ข้าว'!J3","v":"ชัยนาท"},{"$f":"'input ข้าว'!K3","v":"สิงห์บุรี"},{"$f":"'input ข้าว'!L3","v":"อ่างทอง"},{"$f":"'input ข้าว'!M3","v":"พระนครศรีอยุธยา"},{"$f":"'input ข้าว'!N3","v":"พระนครศรีอยุธยา"},{"$f":"'input ข้าว'!O3","v":"พระนครศรีอยุธยา"},{"$f":"'input ข้าว'!P3","v":"นนทบุรี"},{"$f":"'input ข้าว'!Q3","v":"นครปฐม"},{"$f":"'input ข้าว'!R3","v":"สมุทรสาคร"},{"$f":"'input ข้าว'!S3","v":"ชัยนาท"},{"$f":"'input ข้าว'!T3","v":"ชัยนาท"},{"$f":"'input ข้าว'!U3","v":"ลพบุรี"},{"$f":"'input ข้าว'!V3","v":"สระบุรี"},{"$f":"'input ข้าว'!W3","v":"สิงห์บุรี"},{"$f":"'input ข้าว'!X3","v":"พระนครศรีอยุธยา"},{"$f":"'input ข้าว'!Y3","v":"พระนครศรีอยุธยา"},{"$f":"'input ข้าว'!Z3","v":"ลพบุรี"},{"$f":"'input ข้าว'!AA3","v":"สระบุรี"},{"$f":"'input ข้าว'!AB3","v":"สระบุรี"},{"$f":"'input ข้าว'!AC3","v":"พระนครศรีอยุธยา"},{"$f":"'input ข้าว'!AD3","v":"พระนครศรีอยุธยา"},{"$f":"'input ข้าว'!AE3","v":"สมุทรปราการ"},{"$f":"'input ข้าว'!AF3","v":"ฉะเชิงเทรา"},{"$f":"'input ข้าว'!AG3","v":"พิษณุโลก"},{"$f":"'input ข้าว'!AH3","v":"พิษณุโลก"},{"$f":"'input ข้าว'!AI3","v":"พิษณุโลก"},{"$f":"'input ข้าว'!AJ3","v":"พิษณุโลก"},{"$f":"'input ข้าว'!AK3","v":"พิจิตร"},{"$f":"'input ข้าว'!AL3","v":"พิจิตร"},{"$f":"'input ข้าว'!AM3","v":"กำแพงเพชร"},{"$f":"'input ข้าว'!AN3","v":"กำแพงเพชร"},{"$f":"'input ข้าว'!AO3","v":"นครสวรรค์"},{"$f":"'input ข้าว'!AP3","v":"ตาก"},{"$f":"'input ข้าว'!AQ3","v":"อุตรดิตถ์"}]
["รั่วซึม มม./สัปดาห์",null,{"$f":"'input ข้าว'!C4","v":7},{"$f":"'input ข้าว'!D4","v":7},{"$f":"'input ข้าว'!E4","v":7},{"$f":"'input ข้าว'!F4","v":7},{"$f":"'input ข้าว'!G4","v":7},{"$f":"'input ข้าว'!H4","v":7},{"$f":"'input ข้าว'!I4","v":7},{"$f":"'input ข้าว'!J4","v":7},{"$f":"'input ข้าว'!K4","v":7},{"$f":"'input ข้าว'!L4","v":7},{"$f":"'input ข้าว'!M4","v":7},{"$f":"'input ข้าว'!N4","v":7},{"$f":"'input ข้าว'!O4","v":7},{"$f":"'input ข้าว'!P4","v":7},{"$f":"'input ข้าว'!Q4","v":7},{"$f":"'input ข้าว'!R4","v":7},{"$f":"'input ข้าว'!S4","v":7},{"$f":"'input ข้าว'!T4","v":7},{"$f":"'input ข้าว'!U4","v":7},{"$f":"'input ข้าว'!V4","v":7},{"$f":"'input ข้าว'!W4","v":7},{"$f":"'input ข้าว'!X4","v":7},{"$f":"'input ข้าว'!Y4","v":7},{"$f":"'input ข้าว'!Z4","v":7},{"$f":"'input ข้าว'!AA4","v":7},{"$f":"'input ข้าว'!AB4","v":7},{"$f":"'input ข้าว'!AC4","v":7},{"$f":"'input ข้าว'!AD4","v":7},{"$f":"'input ข้าว'!AE4","v":7},{"$f":"'input ข้าว'!AF4","v":7},{"$f":"'input ข้าว'!AG4","v":7},{"$f":"'input ข้าว'!AH4","v":7},{"$f":"'input ข้าว'!AI4","v":7},{"$f":"'input ข้าว'!AJ4","v":7},{"$f":"'input ข้าว'!AK4","v":7},{"$f":"'input ข้าว'!AL4","v":7},{"$f":"'input ข้าว'!AM4","v":7},{"$f":"'input ข้าว'!AN4","v":7},{"$f":"'input ข้าว'!AO4","v":7},{"$f":"'input ข้าว'!AP4","v":7},{"$f":"'input ข้าว'!AQ4","v":7}]
["ประสิทธิ์ภาพโครงการ (%)",null,{"$f":"'input ข้าว'!C7","v":90},{"$f":"'input ข้าว'!D7","v":90},{"$f":"'input ข้าว'!E7","v":90},{"$f":"'input ข้าว'!F7","v":90},{"$f":"'input ข้าว'!G7","v":90},{"$f":"'input ข้าว'!H7","v":90},{"$f":"'input ข้าว'!I7","v":90},{"$f":"'input ข้าว'!J7","v":90},{"$f":"'input ข้าว'!K7","v":90},{"$f":"'input ข้าว'!L7","v":90},{"$f":"'input ข้าว'!M7","v":90},{"$f":"'input ข้าว'!N7","v":77},{"$f":"'input ข้าว'!O7","v":77},{"$f":"'input ข้าว'!P7","v":77},{"$f":"'input ข้าว'!Q7","v":77},{"$f":"'input ข้าว'!R7","v":77},{"$f":"'input ข้าว'!S7","v":85},{"$f":"'input ข้าว'!T7","v":85},{"$f":"'input ข้าว'!U7","v":85},{"$f":"'input ข้าว'!V7","v":85},{"$f":"'input ข้าว'!W7","v":85},{"$f":"'input ข้าว'!X7","v":85},{"$f":"'input ข้าว'!Y7","v":85},{"$f":"'input ข้าว'!Z7","v":85},{"$f":"'input ข้าว'!AA7","v":100},{"$f":"'input ข้าว'!AB7","v":100},{"$f":"'input ข้าว'!AC7","v":100},{"$f":"'input ข้าว'!AD7","v":100},{"$f":"'input ข้าว'!AE7","v":100},{"$f":"'input ข้าว'!AF7","v":100},{"$f":"'input ข้าว'!AG7","v":77},{"$f":"'input ข้าว'!AH7","v":77},{"$f":"'input ข้าว'!AI7","v":77},{"$f":"'input ข้าว'!AJ7","v":77},{"$f":"'input ข้าว'!AK7","v":77},{"$f":"'input ข้าว'!AL7","v":77},{"$f":"'input ข้าว'!AM7","v":65},{"$f":"'input ข้าว'!AN7","v":65},{"$f":"'input ข้าว'!AO7","v":85},{"$f":"'input ข้าว'!AP7","v":85},{"$f":"'input ข้าว'!AQ7","v":85}]
["วัน",null,"บ่อปลา (ไร่ พื้นที่สะสมรายสัปดาห์)"]
[{"$f":"+'input ข้าว'!A22","v":"2017-11-01"},{"$f":"+A7+6","v":"2017-11-07"},0,294,119,6008,150,18704,0,0,2072,2052,0,0,5762,4194,3070,3343,245,1299,1163,1712,1159,1785,0,70,0,891,2857,10873,99635,57600,0,0,0,99,0,149,0,0,0,0,0]
[{"$f":"+A7+7","v":"2017-11-08"},"2017-11-14",0,294,119,6008,150,18704,0,97,2072,2052,0,0,5762,4194,3070,3343,245,1299,1163,1712,1159,1785,0,70,0,891,2856,10873,99635,57600,0,0,0,99,0,149,0,0,0,0,0]
[{"$f":"+A8+7","v":"2017-11-15"},"2017-11-21",0,294,119,6008,150,18704,0,97,2072,2052,0,0,5762,4194,3070,3343,245,1299,1163,1712,1159,1785,0,70,0,891,2856,10873,99635,57600,0,0,0,99,0,149,0,0,0,0,0]
["2017-11-22","2017-11-28",0,294,119,6008,150,18704,0,97,2072,2052,0,0,5762,4194,3070,3343,245,1299,1163,1712,1159,1785,0,70,0,891,2856,10873,99635,57600,0,0,0,99,0,149,0,0,0,0,0]
["2017-11-29","2017-12-05",0,294,119,6008,150,18704,0,97,2072,2052,0,0,5762,4194,3070,3343,245,1299,1163,1712,1159,1785,0,70,0,891,2856,10873,99635,57600,0,0,0,99,0,99,0,0,0,0,0]
["2017-12-06","2017-12-12",0,294,119,6008,150,18704,0,97,2072,2052,0,0,5762,4194,3070,3343,245,1299,1163,1712,1159,1785,0,70,0,891,2856,10873,99635,57600,0,0,0,99,0,149,0,0,0,0,0]
["2017-12-13","2017-12-19",0,294,119,6008,150,18704,0,97,2072,2052,0,0,5762,4194,3070,3343,245,1299,1163,1712,1159,1785,0,0,0,891,2856,10873,99635,57600,0,0,0,99,0,149,0,0,0,0,0]
["2017-12-20","2017-12-26",0,294,119,6008,150,18704,0,97,2072,2052,0,0,5762,4194,3230,3343,245,1299,1163,1712,1159,5432,0,0,0,891,2856,10873,99635,57600,0,0,0,99,0,149,0,0,0,0,0]
["2017-12-27","2018-01-02",0,294,119,6008,150,18704,0,97,2072,2052,0,0,5762,4194,3230,3343,245,1299,1163,1712,1159,5432,0,0,0,891,2856,10873,99635,57600,0,0,0,99,0,149,0,0,0,0,0]
["2018-01-03","2018-01-09",0,294,119,6008,150,18704,0,97,2072,2052,0,0,5762,4649,3230,3343,245,1299,1163,1712,1159,5432,0,0,0,891,2856,10873,99635,57600,0,0,0,99,0,149,0,0,0,0,0]
["2018-01-10","2018-01-16",0,294,119,6011,150,18704,0,97,2072,2052,0,0,5762,4649,3230,3343,245,1299,1163,1712,1159,5432,0,0,0,891,2856,10873,99635,0,0,0,0,629,0,149,0,0,0,0,0]
["2018-01-17","2018-01-23",0,294,119,6011,150,18704,0,97,2072,2052,0,0,5762,4649,3230,3273,245,1299,1163,1712,1159,5432,0,0,0,891,2856,10873,99635,0,0,0,0,629,0,149,0,0,0,0,0]
["2018-01-24","2018-01-30",0,294,119,6011,150,18704,0,97,2072,2052,0,0,5762,4649,3230,3273,245,1299,1163,1712,1159,5432,0,0,0,891,2856,10873,99635,0,0,0,0,629,0,149,0,0,0,0,0]
["2018-01-31","2018-02-06",0,294,119,6011,150,18704,0,97,2072,2052,0,0,5762,4649,3230,3273,245,1299,1163,1712,1159,5432,0,0,0,891,2856,10873,99635,0,0,0,0,629,0,149,0,0,0,0,0]
["2018-02-07","2018-02-13",0,294,119,6011,150,18704,0,97,2072,2052,0,0,5762,4649,3230,3273,245,1299,1163,1712,1159,5432,0,0,0,891,2856,10873,99635,0,0,0,0,629,0,149,0,0,0,0,0]
["2018-02-14","2018-02-20",0,294,119,6011,150,18704,0,97,2072,1982,0,0,5762,4649,3230,3273,245,1299,1163,1712,1159,5432,0,0,0,686,2856,10873,99635,0,0,0,0,629,0,149,0,0,0,0,0]
["2018-02-21","2018-02-27",0,294,119,6011,150,18704,0,97,2072,1982,0,0,5762,4649,3230,3273,245,1299,1163,1712,1159,5432,0,0,0,686,2856,10873,99635,0,0,0,0,629,0,149,0,0,0,0,0]
["2018-02-28","2018-03-06",0,294,119,6011,150,18704,0,97,2072,1982,0,0,5762,4649,3230,3273,245,1299,1163,1712,1159,5432,0,0,0,686,2856,10873,99635,0,0,0,0,629,0,149,0,0,0,0,0]
["2018-03-07","2018-03-13",0,294,119,6011,150,18704,0,97,2072,1982,0,0,5762,4649,2210,3273,245,1299,1163,1712,1159,5432,0,0,0,686,2856,10873,99635,0,0,0,0,629,0,149,0,0,0,0,0]
["2018-03-14","2018-03-20",0,294,119,6011,150,18704,0,97,2072,2052,0,0,5762,4649,3230,3273,245,1299,1163,1712,1159,5432,0,0,0,686,2856,10873,99635,0,0,0,0,629,0,149,0,0,0,0,0]
["2018-03-21","2018-03-27",0,294,119,6011,150,18704,0,97,2072,2052,0,0,5762,4649,3230,3273,245,1299,1163,1712,1159,5432,0,0,0,686,2856,10873,99635,0,0,0,0,629,0,149,0,0,0,0,0]
["2018-03-28","2018-04-03",0,294,119,6011,150,18704,0,97,2072,2052,0,0,5762,4649,3230,3273,245,1299,1163,1712,1159,5432,0,0,0,686,2856,10873,99635,0,0,0,0,629,0,149,0,0,0,0,0]
["2018-04-04","2018-04-10",0,294,119,6011,150,18704,0,97,2072,2052,0,0,5762,4649,3230,3273,245,1299,1163,1712,1159,5432,0,0,0,686,2856,10873,99635,0,0,0,0,629,0,149,0,0,0,0,0]
["2018-04-11","2018-04-17",0,294,119,6011,150,18704,0,97,2072,2052,0,0,5762,4649,3230,3273,245,1299,1163,1712,1159,5432,0,0,0,686,2856,10873,99635,0,0,0,0,629,0,149,0,0,0,0,0]
["2018-04-18","2018-04-24",0,294,119,6011,150,18704,0,97,2072,2052,0,0,5762,4649,3230,3273,245,1299,1163,1712,1159,5432,0,0,0,686,2856,10873,99635,0,0,0,0,629,0,149,0,0,0,0,0]
["2018-04-25","2018-05-01",0,294,119,6011,150,18704,0,97,2072,2052,0,0,5762,4649,3230,3273,245,1299,1163,1712,1159,5432,0,0,0,686,2856,10873,99635,0,0,0,0,629,0,149,0,0,0,0,0]
["2018-05-02","2018-05-08",0,294,119,6011,150,18704,0,97,2072,2052,0,0,5762,4649,3230,3273,245,1299,1163,1712,1159,5432,0,0,0,686,2856,10873,99635,0,0,0,0,629,0,149,0,0,0,0,0]
["2018-05-09","2018-05-15",0,294,119,6011,194,18704,0,97,2072,2052,0,0,5762,4649,3230,3273,245,1299,1163,1712,1159,5432,0,0,0,686,2857,10873,99635,0,0,0,0,629,0,149,0,0,0,0,0]
["2018-05-16","2018-05-22",0,294,119,6011,194,18704,0,97,2072,2052,0,0,5762,4318,3070,3273,245,1299,1163,1712,1159,5432,0,0,0,686,2857,10873,99635,0,0,0,0,629,0,149,0,0,0,0,0]
["2018-05-23","2018-05-29",0,294,119,6011,194,18704,0,97,2072,2052,0,0,5762,4318,3070,3273,245,1299,1163,1712,1159,5432,0,0,0,686,2857,10873,99635,0,0,0,0,629,0,149,0,0,0,0,0]
["2018-05-30","2018-06-05",0,294,119,6011,194,18704,0,97,2072,2052,0,0,5762,4318,3070,3273,245,1299,1163,1712,1159,5432,0,0,0,686,2857,10873,99635,0,0,0,0,629,0,149,0,0,0,0,0]
["2018-06-06","2018-06-12",0,326,119,6011,194,18704,0,97,2072,2052,0,0,5762,4318,3070,3273,245,1299,1163,1712,1159,5432,0,0,0,686,2857,10873,99635,0,0,0,0,629,0,149,0,0,0,0,0]
["2018-06-13","2018-06-19",0,326,119,6011,194,18704,0,97,2072,2052,0,0,5762,4318,3070,3273,245,1299,1163,1712,1159,5432,0,0,0,3,2857,10873,99635,127940,0,0,0,629,0,149,0,0,0,0,0]
["2018-06-20","2018-06-26",0,326,119,6011,194,18704,0,97,2072,2052,0,0,5762,4318,3070,3273,245,1299,1163,1712,1159,5432,0,0,0,15,2857,10873,99635,127940,0,0,0,533,0,149,0,0,0,0,0]
["2018-06-27","2018-07-03",0,326,119,6011,194,18704,0,97,2072,2052,0,0,5762,4318,3070,3273,245,1299,1163,1712,1159,5432,0,0,0,15,2857,10873,99635,127940,0,0,0,533,0,149,0,0,0,0,0]
["2018-07-04","2018-07-10",0,326,119,6011,194,18704,0,97,2072,2052,0,0,5762,4318,3070,3273,245,1299,1163,1712,1159,5432,0,0,0,69,2857,10873,99635,127940,0,0,0,533,0,149,0,0,0,0,0]
["2018-07-11","2018-07-17",0,326,119,6011,194,18704,0,97,2072,2052,0,0,5762,4318,3070,3273,245,1299,1163,1712,1159,5432,0,0,0,90,2857,5990,99635,127940,0,0,0,533,0,149,0,0,0,0,0]
["2018-07-18","2018-07-24",0,294,119,6011,194,18704,0,97,2072,2052,0,0,5762,4318,3070,3273,245,1299,1163,6742,1159,5432,0,0,0,891,2857,5990,99635,127940,0,0,0,533,0,149,0,0,0,0,0]
["2018-07-25","2018-07-31",0,326,119,6011,194,18704,0,97,2072,2052,0,0,5762,4318,3070,3273,245,1299,1163,6742,1159,5432,0,0,0,891,2857,5990,99635,127940,0,0,0,533,0,149,0,0,0,0,0]
["2018-08-01","2018-08-07",0,326,119,6011,194,18704,0,97,2072,2052,0,0,5762,4318,3070,3273,245,1299,1163,6742,1159,5432,0,0,0,891,2857,5990,99635,127940,0,0,0,533,0,149,0,0,0,0,0]
["2018-08-08","2018-08-14",0,326,119,6011,194,18704,0,97,2072,2052,0,0,5762,4318,3070,3273,245,1299,1163,6742,1159,5432,0,0,0,891,2857,5990,99635,127940,0,0,0,533,0,149,0,0,0,0,0]
["2018-08-15","2018-08-21",0,326,119,6011,194,18704,0,97,2072,2052,0,0,5762,4318,3070,3273,245,1299,1163,6742,1159,5432,0,0,0,891,2857,5990,99635,127940,0,0,0,533,0,149,0,0,0,0,0]
["2018-08-22","2018-08-28",0,326,119,6011,194,18704,0,97,2072,2052,0,0,5762,4318,3070,3273,245,1299,1163,6742,1159,5432,0,0,0,891,2857,10873,99635,127940,0,0,0,533,0,149,0,0,0,0,0]
["2018-08-29","2018-09-04",0,326,119,6011,194,18704,0,97,2072,2052,0,0,5762,4318,3070,3273,245,1299,1163,6742,1159,5432,0,0,0,891,2857,10873,99635,127940,0,0,0,533,0,149,0,0,0,0,0]
["2018-09-05","2018-09-11",0,326,119,6011,194,18704,0,97,2072,2052,0,0,5762,4318,3070,3273,245,1299,1163,6742,1159,5432,0,0,0,891,2857,10873,99635,127940,0,0,0,533,0,149,0,0,0,0,0]
["2018-09-12","2018-09-18",0,326,119,6011,194,18704,0,97,2072,2052,0,0,5762,4318,3070,3273,245,1299,1163,6742,1159,5432,0,0,0,891,2857,10873,99635,127940,0,0,0,533,0,149,0,0,0,0,0]
["2018-09-19","2018-09-25",0,326,119,6011,194,18704,0,97,2072,2052,0,0,5762,4318,3070,3273,245,1299,1163,6742,1159,5432,0,0,0,891,2857,10873,99635,127940,0,0,0,533,0,149,0,0,0,0,0]
["2018-09-26","2018-10-02",0,326,119,6011,194,18704,0,97,2072,2052,0,0,5762,4318,3070,3273,245,1299,1163,6742,1159,5432,0,0,0,891,2857,10873,99635,127940,0,0,0,533,0,149,0,0,0,0,0]
["2018-10-03","2018-10-09",0,326,119,6011,194,18704,0,97,2072,2052,0,0,5762,4318,3070,3273,245,1299,1163,6742,1159,5432,0,0,0,891,2857,10873,99635,127940,0,0,0,533,0,149,0,0,0,0,0]
["2018-10-10","2018-10-16",0,326,119,6011,194,18704,0,97,2072,2052,0,0,5762,4318,3070,3273,245,1299,1163,6742,1159,5432,0,0,0,891,2857,10873,99635,127940,0,0,0,533,0,149,0,0,0,0,0]
["2018-10-17","2018-10-23",0,326,119,6011,194,18704,0,97,2072,2052,0,0,5762,4318,3070,3273,245,1299,1163,6742,1159,5432,0,0,0,891,2857,10873,99635,127940,0,0,0,533,0,149,0,0,0,0,0]
["2018-10-24","2018-10-30",0,326,119,6011,194,18704,0,97,2072,2052,0,0,5762,4318,3070,3273,245,1299,1163,6742,1159,5432,0,0,0,891,2857,10873,99635,127940,0,0,0,533,0,149,0,0,0,0,0]

{"sheet":"input บ่อกุ้ง","index":8,"n_rows":58,"n_cols":43,"rows_kept":58,"cut":false,"hidden":false,"merged":[[5,0,5,1]]}
["ปี พ.ศ.",{"$f":"'input ข้าว'!B1","v":2560},null,"ฤดูแล้ง",{"$f":"RIGHT(B1,2)&\"/\"&RIGHT(B1+1,2)","v":"60/61"},"ฤดูฝน",{"$f":"RIGHT(B1+1,2)","v":"61"}]
["โครงการชลประทาน",null,{"$f":"'input ข้าว'!C2","v":"พลเทพ"},{"$f":"'input ข้าว'!D2","v":"ทุ่งวัดสิงห์"},{"$f":"'input ข้าว'!E2","v":"ท่าโบสถ์"},{"$f":"'input ข้าว'!F2","v":"สามชุก"},{"$f":"'input ข้าว'!G2","v":"ดอนเจดีย์"},{"$f":"'input ข้าว'!H2","v":"โพธิ์พระยา"},{"$f":"'input ข้าว'!I2","v":"ชลประทานสุพรรณบุรี"},{"$f":"'input ข้าว'!J2","v":"บรมธาตุ"},{"$f":"'input ข้าว'!K2","v":"ชัณสูตร"},{"$f":"'input ข้าว'!L2","v":"ยางมณี"},{"$f":"'input ข้าว'!M2","v":"ผักไห่"},{"$f":"'input ข้าว'!N2","v":"บางบาล"},{"$f":"'input ข้าว'!O2","v":"เจ้าเจ็ดบางยี่หน"},{"$f":"'input ข้าว'!P2","v":"พระยาบรรลือ"},{"$f":"'input ข้าว'!Q2","v":"พระพิมล"},{"$f":"'input ข้าว'!R2","v":"ภาษีเจริญ"},{"$f":"'input ข้าว'!S2","v":"มโนรมย์"},{"$f":"'input ข้าว'!T2","v":"ช่องแค"},{"$f":"'input ข้าว'!U2","v":"โคกกะเทียม"},{"$f":"'input ข้าว'!V2","v":"เริงราง"},{"$f":"'input ข้าว'!W2","v":"มหาราช"},{"$f":"'input ข้าว'!X2","v":"ป่าสักใต้"},{"$f":"'input ข้าว'!Y2","v":"นครหลวง"},{"$f":"'input ข้าว'!Z2","v":"ชลประทานลพบุรี"},{"$f":"'input ข้าว'!AA2","v":"คลองเพรียว-เสาไห้"},{"$f":"'input ข้าว'!AB2","v":"เขื่อนป่าสักชลสิทธิ์"},{"$f":"'input ข้าว'!AC2","v":"รังสิตเหนือ"},{"$f":"'input ข้าว'!AD2","v":"รังสิตใต้"},{"$f":"'input ข้าว'!AE2","v":"ชลหารพิจิตร"},{"$f":"'input ข้าว'!AF2","v":"พระองค์ไชยานุชิต"},{"$f":"'input ข้าว'!AG2","v":"เขื่อนนเรศวร"},{"$f":"'input ข้าว'!AH2","v":"เขื่อนแควน้อย"},{"$f":"'input ข้าว'!AI2","v":"ยมน่าน"},{"$f":"'input ข้าว'!AJ2","v":"พลายชุมพล"},{"$f":"'input ข้าว'!AK2","v":"ดงเศรษฐี"},{"$f":"'input ข้าว'!AL2","v":"ท่าบัว"},{"$f":"'input ข้าว'!AM2","v":"ท่อทองแดง"},{"$f":"'input ข้าว'!AN2","v":"ชลประทานกำแพงเพชร"},{"$f":"'input ข้าว'!AO2","v":"ชลประทานนครสวรรค์"},{"$f":"'input ข้าว'!AP2","v":"ชลประทานตาก"},{"$f":"'input ข้าว'!AQ2","v":"ชลประทานอุตรดิตถ์"}]
["จังหวัด",null,{"$f":"'input ข้าว'!C3","v":"ชัยนาท"},{"$f":"'input ข้าว'!D3","v":"ชัยนาท"},{"$f":"'input ข้าว'!E3","v":"ชัยนาท"},{"$f":"'input ข้าว'!F3","v":"สุพรรณบุรี"},{"$f":"'input ข้าว'!G3","v":"สุพรรณบุรี"},{"$f":"'input ข้าว'!H3","v":"สุพรรณบุรี"},{"$f":"'input ข้าว'!I3","v":"สุพรรณบุรี"},{"$f":"'input ข้าว'!J3","v":"ชัยนาท"},{"$f":"'input ข้าว'!K3","v":"สิงห์บุรี"},{"$f":"'input ข้าว'!L3","v":"อ่างทอง"},{"$f":"'input ข้าว'!M3","v":"พระนครศรีอยุธยา"},{"$f":"'input ข้าว'!N3","v":"พระนครศรีอยุธยา"},{"$f":"'input ข้าว'!O3","v":"พระนครศรีอยุธยา"},{"$f":"'input ข้าว'!P3","v":"นนทบุรี"},{"$f":"'input ข้าว'!Q3","v":"นครปฐม"},{"$f":"'input ข้าว'!R3","v":"สมุทรสาคร"},{"$f":"'input ข้าว'!S3","v":"ชัยนาท"},{"$f":"'input ข้าว'!T3","v":"ชัยนาท"},{"$f":"'input ข้าว'!U3","v":"ลพบุรี"},{"$f":"'input ข้าว'!V3","v":"สระบุรี"},{"$f":"'input ข้าว'!W3","v":"สิงห์บุรี"},{"$f":"'input ข้าว'!X3","v":"พระนครศรีอยุธยา"},{"$f":"'input ข้าว'!Y3","v":"พระนครศรีอยุธยา"},{"$f":"'input ข้าว'!Z3","v":"ลพบุรี"},{"$f":"'input ข้าว'!AA3","v":"สระบุรี"},{"$f":"'input ข้าว'!AB3","v":"สระบุรี"},{"$f":"'input ข้าว'!AC3","v":"พระนครศรีอยุธยา"},{"$f":"'input ข้าว'!AD3","v":"พระนครศรีอยุธยา"},{"$f":"'input ข้าว'!AE3","v":"สมุทรปราการ"},{"$f":"'input ข้าว'!AF3","v":"ฉะเชิงเทรา"},{"$f":"'input ข้าว'!AG3","v":"พิษณุโลก"},{"$f":"'input ข้าว'!AH3","v":"พิษณุโลก"},{"$f":"'input ข้าว'!AI3","v":"พิษณุโลก"},{"$f":"'input ข้าว'!AJ3","v":"พิษณุโลก"},{"$f":"'input ข้าว'!AK3","v":"พิจิตร"},{"$f":"'input ข้าว'!AL3","v":"พิจิตร"},{"$f":"'input ข้าว'!AM3","v":"กำแพงเพชร"},{"$f":"'input ข้าว'!AN3","v":"กำแพงเพชร"},{"$f":"'input ข้าว'!AO3","v":"นครสวรรค์"},{"$f":"'input ข้าว'!AP3","v":"ตาก"},{"$f":"'input ข้าว'!AQ3","v":"อุตรดิตถ์"}]
["รั่วซึม มม./สัปดาห์",null,{"$f":"'input ข้าว'!C4","v":7},{"$f":"'input ข้าว'!D4","v":7},{"$f":"'input ข้าว'!E4","v":7},{"$f":"'input ข้าว'!F4","v":7},{"$f":"'input ข้าว'!G4","v":7},{"$f":"'input ข้าว'!H4","v":7},{"$f":"'input ข้าว'!I4","v":7},{"$f":"'input ข้าว'!J4","v":7},{"$f":"'input ข้าว'!K4","v":7},{"$f":"'input ข้าว'!L4","v":7},{"$f":"'input ข้าว'!M4","v":7},{"$f":"'input ข้าว'!N4","v":7},{"$f":"'input ข้าว'!O4","v":7},{"$f":"'input ข้าว'!P4","v":7},{"$f":"'input ข้าว'!Q4","v":7},{"$f":"'input ข้าว'!R4","v":7},{"$f":"'input ข้าว'!S4","v":7},{"$f":"'input ข้าว'!T4","v":7},{"$f":"'input ข้าว'!U4","v":7},{"$f":"'input ข้าว'!V4","v":7},{"$f":"'input ข้าว'!W4","v":7},{"$f":"'input ข้าว'!X4","v":7},{"$f":"'input ข้าว'!Y4","v":7},{"$f":"'input ข้าว'!Z4","v":7},{"$f":"'input ข้าว'!AA4","v":7},{"$f":"'input ข้าว'!AB4","v":7},{"$f":"'input ข้าว'!AC4","v":7},{"$f":"'input ข้าว'!AD4","v":7},{"$f":"'input ข้าว'!AE4","v":7},{"$f":"'input ข้าว'!AF4","v":7},{"$f":"'input ข้าว'!AG4","v":7},{"$f":"'input ข้าว'!AH4","v":7},{"$f":"'input ข้าว'!AI4","v":7},{"$f":"'input ข้าว'!AJ4","v":7},{"$f":"'input ข้าว'!AK4","v":7},{"$f":"'input ข้าว'!AL4","v":7},{"$f":"'input ข้าว'!AM4","v":7},{"$f":"'input ข้าว'!AN4","v":7},{"$f":"'input ข้าว'!AO4","v":7},{"$f":"'input ข้าว'!AP4","v":7},{"$f":"'input ข้าว'!AQ4","v":7}]
["ประสิทธิ์ภาพโครงการ (%)",null,{"$f":"'input ข้าว'!C7","v":90},{"$f":"'input ข้าว'!D7","v":90},{"$f":"'input ข้าว'!E7","v":90},{"$f":"'input ข้าว'!F7","v":90},{"$f":"'input ข้าว'!G7","v":90},{"$f":"'input ข้าว'!H7","v":90},{"$f":"'input ข้าว'!I7","v":90},{"$f":"'input ข้าว'!J7","v":90},{"$f":"'input ข้าว'!K7","v":90},{"$f":"'input ข้าว'!L7","v":90},{"$f":"'input ข้าว'!M7","v":90},{"$f":"'input ข้าว'!N7","v":77},{"$f":"'input ข้าว'!O7","v":77},{"$f":"'input ข้าว'!P7","v":77},{"$f":"'input ข้าว'!Q7","v":77},{"$f":"'input ข้าว'!R7","v":77},{"$f":"'input ข้าว'!S7","v":85},{"$f":"'input ข้าว'!T7","v":85},{"$f":"'input ข้าว'!U7","v":85},{"$f":"'input ข้าว'!V7","v":85},{"$f":"'input ข้าว'!W7","v":85},{"$f":"'input ข้าว'!X7","v":85},{"$f":"'input ข้าว'!Y7","v":85},{"$f":"'input ข้าว'!Z7","v":85},{"$f":"'input ข้าว'!AA7","v":100},{"$f":"'input ข้าว'!AB7","v":100},{"$f":"'input ข้าว'!AC7","v":100},{"$f":"'input ข้าว'!AD7","v":100},{"$f":"'input ข้าว'!AE7","v":100},{"$f":"'input ข้าว'!AF7","v":100},{"$f":"'input ข้าว'!AG7","v":77},{"$f":"'input ข้าว'!AH7","v":77},{"$f":"'input ข้าว'!AI7","v":77},{"$f":"'input ข้าว'!AJ7","v":77},{"$f":"'input ข้าว'!AK7","v":77},{"$f":"'input ข้าว'!AL7","v":77},{"$f":"'input ข้าว'!AM7","v":65},{"$f":"'input ข้าว'!AN7","v":65},{"$f":"'input ข้าว'!AO7","v":85},{"$f":"'input ข้าว'!AP7","v":85},{"$f":"'input ข้าว'!AQ7","v":85}]
["วัน",null,"บ่อกุ้ง (ไร่ พื้นที่สะสมรายสัปดาห์)"]
[{"$f":"+'input ข้าว'!A22","v":"2017-11-01"},{"$f":"+A7+6","v":"2017-11-07"},0,0,152,497,1215,2136,0,0,0,0,6615,0,4993,1420,490,188,0,0,0,0,0,0,0,0,0,0,0,155,4700,22350,0,0,0,0,0,0,0,0,0,0,0]
[{"$f":"+A7+7","v":"2017-11-08"},"2017-11-14",0,0,152,497,1215,2136,0,0,0,0,6615,0,4993,1420,110,188,0,0,0,0,0,0,0,0,0,0,0,155,4700,22350,0,0,0,0,0,0,0,0,0,0,0]
[{"$f":"+A8+7","v":"2017-11-15"},"2017-11-21",0,0,152,497,1215,2136,0,0,0,0,6615,0,4993,1420,110,188,0,0,0,0,0,0,0,0,0,0,0,155,4700,22350,0,0,0,0,0,0,0,0,0,0,0]
["2017-11-22","2017-11-28",0,0,152,497,1215,2136,0,0,0,0,6615,0,4993,1420,110,188,0,0,0,0,0,0,0,0,0,0,0,155,4700,22350,0,0,0,0,0,0,0,0,0,0,0]
["2017-11-29","2017-12-05",0,0,152,497,1215,2136,0,0,0,0,6615,0,4993,1420,110,188,0,0,0,0,0,0,0,0,0,0,0,155,4700,22350,0,0,0,0,0,0,0,0,0,0,0]
["2017-12-06","2017-12-12",0,0,152,497,1215,2136,0,0,0,0,6615,0,4993,1420,110,188,0,0,0,0,0,0,0,0,0,0,0,155,4700,22350,0,0,0,0,0,0,0,0,0,0,0]
["2017-12-13","2017-12-19",0,0,152,497,1215,2136,0,0,0,0,6615,0,4993,1420,110,188,0,0,0,0,0,0,0,0,0,0,0,155,4700,22350,0,0,0,0,0,0,0,0,0,0,0]
["2017-12-20","2017-12-26",0,0,152,497,1215,2136,0,0,0,0,6676,0,4993,1420,110,188,0,0,0,0,0,0,0,0,0,0,0,155,4700,22350,0,0,0,0,0,0,0,0,0,0,0]
["2017-12-27","2018-01-02",0,0,152,497,1215,2136,0,0,0,0,6676,0,4993,1420,110,188,0,0,0,0,0,0,0,0,0,0,0,155,4700,22350,0,0,0,0,0,0,0,0,0,0,0]
["2018-01-03","2018-01-09",0,0,152,497,1215,2136,0,0,0,0,6676,0,4993,1420,110,188,0,0,0,0,0,0,0,0,0,0,0,155,4700,22350,0,0,0,0,0,0,0,0,0,0,0]
["2018-01-10","2018-01-16",0,0,152,491,1215,2136,0,0,0,0,6676,0,4993,1420,110,188,0,0,0,0,0,0,0,0,0,0,0,155,4700,0,0,0,0,0,0,0,0,0,0,0,0]
["2018-01-17","2018-01-23",0,0,152,491,1215,2136,0,0,0,0,6676,0,4993,1420,110,188,0,0,0,0,0,0,0,0,0,0,0,155,4700,0,0,0,0,0,0,0,0,0,0,0,0]
["2018-01-24","2018-01-30",0,0,152,491,1215,2136,0,0,0,0,6676,0,4993,1420,110,188,0,0,0,0,0,0,0,0,0,0,0,155,4700,0,0,0,0,0,0,0,0,0,0,0,0]
["2018-01-31","2018-02-06",0,0,152,491,1215,2136,0,0,0,0,6676,0,4993,1420,110,188,0,0,0,0,0,0,0,0,0,0,0,155,4700,0,0,0,0,0,0,0,0,0,0,0,0]
["2018-02-07","2018-02-13",0,0,152,491,1215,2136,0,0,0,0,6676,0,4993,1420,110,188,0,0,0,0,0,0,0,0,0,0,0,155,4700,0,0,0,0,0,0,0,0,0,0,0,0]
["2018-02-14","2018-02-20",0,0,152,491,1215,2136,0,0,0,0,6676,0,4993,1420,110,188,0,0,0,0,0,0,0,0,0,0,0,155,4700,0,0,0,0,0,0,0,0,0,0,0,0]
["2018-02-21","2018-02-27",0,0,152,491,1215,2136,0,0,0,0,6676,0,4993,1420,110,188,0,0,0,0,0,0,0,0,0,0,0,155,4700,0,0,0,0,0,0,0,0,0,0,0,0]
["2018-02-28","2018-03-06",0,0,152,491,1215,2136,0,0,0,0,6676,0,4993,1420,110,188,0,0,0,0,0,0,0,0,0,0,0,155,4700,0,0,0,0,0,0,0,0,0,0,0,0]
["2018-03-07","2018-03-13",0,0,152,491,1215,2136,0,0,0,0,6676,0,4993,1420,110,188,0,0,0,0,0,0,0,0,0,0,0,155,4700,0,0,0,0,0,0,0,0,0,0,0,0]
["2018-03-14","2018-03-20",0,0,152,491,1215,2136,0,0,0,0,6676,0,4993,1420,110,188,0,0,0,0,0,0,0,0,0,0,0,155,4700,0,0,0,0,0,0,0,0,0,0,0,0]
["2018-03-21","2018-03-27",0,0,152,491,1215,2136,0,0,0,0,6676,0,4993,1420,110,188,0,0,0,0,0,0,0,0,0,0,0,155,4700,0,0,0,0,0,0,0,0,0,0,0,0]
["2018-03-28","2018-04-03",0,0,152,491,1215,2136,0,0,0,0,6676,0,4993,1420,110,188,0,0,0,0,0,0,0,0,0,0,0,155,4700,0,0,0,0,0,0,0,0,0,0,0,0]
["2018-04-04","2018-04-10",0,0,152,491,1215,2136,0,0,0,0,6676,0,4993,1420,110,188,0,0,0,0,0,0,0,0,0,0,0,155,4700,0,0,0,0,0,0,0,0,0,0,0,0]
["2018-04-11","2018-04-17",0,0,152,491,1215,2136,0,0,0,0,6676,0,4993,1420,110,188,0,0,0,0,0,0,0,0,0,0,0,155,4700,0,0,0,0,0,0,0,0,0,0,0,0]
["2018-04-18","2018-04-24",0,0,152,491,1215,2136,0,0,0,0,6676,0,4993,1420,110,188,0,0,0,0,0,0,0,0,0,0,0,155,4700,0,0,0,0,0,0,0,0,0,0,0,0]
["2018-04-25","2018-05-01",0,0,152,491,1215,2136,0,0,0,0,6676,0,4993,1420,110,188,0,0,0,0,0,0,0,0,0,0,0,155,4700,0,0,0,0,0,0,0,0,0,0,0,0]
["2018-05-02","2018-05-08",0,0,152,491,1215,2136,0,0,0,0,6676,0,4993,1420,110,188,0,0,0,0,0,0,0,0,0,0,0,155,4700,0,0,0,0,0,0,0,0,0,0,0,0]
["2018-05-09","2018-05-15",0,0,152,491,1067,2136,0,0,0,0,7764,0,4993,1420,110,188,0,0,0,0,0,0,0,0,0,0,0,155,4700,0,0,0,0,0,0,0,0,0,0,0,0]
["2018-05-16","2018-05-22",0,0,152,491,1067,2136,0,0,0,0,7764,0,4993,1420,370,188,0,0,0,0,0,0,0,0,0,0,0,155,4700,0,0,0,0,0,0,0,0,0,0,0,0]
["2018-05-23","2018-05-29",0,0,152,491,1067,2136,0,0,0,0,7764,0,4993,1420,370,188,0,0,0,0,0,0,0,0,0,0,0,155,4700,0,0,0,0,0,0,0,0,0,0,0,0]
["2018-05-30","2018-06-05",0,0,152,491,1067,2136,0,0,0,0,7764,0,4993,1420,370,188,0,0,0,0,0,0,0,0,0,0,0,155,4700,0,0,0,0,0,0,0,0,0,0,0,0]
["2018-06-06","2018-06-12",0,0,152,491,1067,2136,0,0,0,0,7764,0,4993,1420,740,188,0,0,0,0,0,0,0,0,0,0,0,155,4700,0,0,0,0,0,0,0,0,0,0,0,0]
["2018-06-13","2018-06-19",0,0,152,491,1067,2136,0,0,0,0,7764,0,4993,1420,740,188,0,0,0,0,0,0,0,0,0,0,0,155,4700,52260,0,0,0,0,0,0,0,0,0,0,0]
["2018-06-20","2018-06-26",0,0,152,491,1067,2136,0,0,0,0,7764,0,4993,1420,740,188,0,0,0,0,0,0,0,0,0,0,0,155,4700,52260,0,0,0,0,0,0,0,0,0,0,0]
["2018-06-27","2018-07-03",0,0,152,491,1067,2136,0,0,0,0,7764,0,4993,1420,740,188,0,0,0,0,0,0,0,0,0,0,0,155,4700,52260,0,0,0,0,0,0,0,0,0,0,0]
["2018-07-04","2018-07-10",0,0,152,491,1067,2136,0,0,0,0,7764,0,4993,1420,490,188,0,0,0,0,0,0,0,0,0,0,0,155,4700,52260,0,0,0,0,0,0,0,0,0,0,0]
["2018-07-11","2018-07-17",0,0,152,491,1067,2136,0,0,0,0,7764,0,4993,1420,490,188,0,0,0,0,0,0,0,0,0,0,0,0,4700,52260,0,0,0,0,0,0,0,0,0,0,0]
["2018-07-18","2018-07-24",0,0,152,491,1067,2136,0,0,0,0,7764,0,4993,1420,490,188,0,0,0,0,0,0,0,0,0,0,0,0,4700,52260,0,0,0,0,0,0,0,0,0,0,0]
["2018-07-25","2018-07-31",0,0,152,491,1067,2136,0,0,0,0,7764,0,4993,1420,490,188,0,0,0,0,0,0,0,0,0,0,0,0,4700,52260,0,0,0,0,0,0,0,0,0,0,0]
["2018-08-01","2018-08-07",0,0,152,491,1067,2136,0,0,0,0,7764,0,4993,1420,490,188,0,0,0,0,0,0,0,0,0,0,0,0,4700,52260,0,0,0,0,0,0,0,0,0,0,0]
["2018-08-08","2018-08-14",0,0,152,491,1067,2136,0,0,0,0,7764,0,4993,1420,490,188,0,0,0,0,0,0,0,0,0,0,0,0,4700,52260,0,0,0,0,0,0,0,0,0,0,0]
["2018-08-15","2018-08-21",0,0,152,491,1067,2136,0,0,0,0,7764,0,4993,1420,490,188,0,0,0,0,0,0,0,0,0,0,0,0,4700,52260,0,0,0,0,0,0,0,0,0,0,0]
["2018-08-22","2018-08-28",0,0,152,491,1067,2136,0,0,0,0,7764,0,4993,1420,490,188,0,0,0,0,0,0,0,0,0,0,0,155,4700,52260,0,0,0,0,0,0,0,0,0,0,0]
["2018-08-29","2018-09-04",0,0,152,491,1067,2136,0,0,0,0,7764,0,4993,1420,490,188,0,0,0,0,0,0,0,0,0,0,0,155,4700,52260,0,0,0,0,0,0,0,0,0,0,0]
["2018-09-05","2018-09-11",0,0,152,491,1067,2136,0,0,0,0,7764,0,4993,1420,490,188,0,0,0,0,0,0,0,0,0,0,0,155,4700,52260,0,0,0,0,0,0,0,0,0,0,0]
["2018-09-12","2018-09-18",0,0,152,491,1067,2136,0,0,0,0,7764,0,4993,1420,490,188,0,0,0,0,0,0,0,0,0,0,0,155,4700,52260,0,0,0,0,0,0,0,0,0,0,0]
["2018-09-19","2018-09-25",0,0,152,491,1067,2136,0,0,0,0,7764,0,4993,1420,490,188,0,0,0,0,0,0,0,0,0,0,0,155,4700,52260,0,0,0,0,0,0,0,0,0,0,0]
["2018-09-26","2018-10-02",0,0,152,491,1067,2136,0,0,0,0,7764,0,4993,1420,490,188,0,0,0,0,0,0,0,0,0,0,0,155,4700,52260,0,0,0,0,0,0,0,0,0,0,0]
["2018-10-03","2018-10-09",0,0,152,491,1067,2136,0,0,0,0,7764,0,4993,1420,490,188,0,0,0,0,0,0,0,0,0,0,0,155,4700,52260,0,0,0,0,0,0,0,0,0,0,0]
["2018-10-10","2018-10-16",0,0,152,491,1067,2136,0,0,0,0,7764,0,4993,1420,490,188,0,0,0,0,0,0,0,0,0,0,0,155,4700,52260,0,0,0,0,0,0,0,0,0,0,0]
["2018-10-17","2018-10-23",0,0,152,491,1067,2136,0,0,0,0,7764,0,4993,1420,490,188,0,0,0,0,0,0,0,0,0,0,0,155,4700,52260,0,0,0,0,0,0,0,0,0,0,0]
["2018-10-24","2018-10-30",0,0,152,491,1067,2136,0,0,0,0,7764,0,4993,1420,490,188,0,0,0,0,0,0,0,0,0,0,0,155,4700,52260,0,0,0,0,0,0,0,0,0,0,0]

{"sheet":"input อุปโภค","index":9,"n_rows":58,"n_cols":43,"rows_kept":58,"cut":false,"hidden":false,"merged":[[5,0,5,1],[5,2,5,40]]}
["ปี พ.ศ.",{"$f":"'input ข้าว'!B1","v":2560},null,"ฤดูแล้ง",{"$f":"RIGHT(B1,2)&\"/\"&RIGHT(B1+1,2)","v":"60/61"},"ฤดูฝน",{"$f":"RIGHT(B1+1,2)","v":"61"}]
["โครงการชลประทาน",null,{"$f":"'input ข้าว'!C2","v":"พลเทพ"},{"$f":"'input ข้าว'!D2","v":"ทุ่งวัดสิงห์"},{"$f":"'input ข้าว'!E2","v":"ท่าโบสถ์"},{"$f":"'input ข้าว'!F2","v":"สามชุก"},{"$f":"'input ข้าว'!G2","v":"ดอนเจดีย์"},{"$f":"'input ข้าว'!H2","v":"โพธิ์พระยา"},{"$f":"'input ข้าว'!I2","v":"ชลประทานสุพรรณบุรี"},{"$f":"'input ข้าว'!J2","v":"บรมธาตุ"},{"$f":"'input ข้าว'!K2","v":"ชัณสูตร"},{"$f":"'input ข้าว'!L2","v":"ยางมณี"},{"$f":"'input ข้าว'!M2","v":"ผักไห่"},{"$f":"'input ข้าว'!N2","v":"บางบาล"},{"$f":"'input ข้าว'!O2","v":"เจ้าเจ็ดบางยี่หน"},{"$f":"'input ข้าว'!P2","v":"พระยาบรรลือ"},{"$f":"'input ข้าว'!Q2","v":"พระพิมล"},{"$f":"'input ข้าว'!R2","v":"ภาษีเจริญ"},{"$f":"'input ข้าว'!S2","v":"มโนรมย์"},{"$f":"'input ข้าว'!T2","v":"ช่องแค"},{"$f":"'input ข้าว'!U2","v":"โคกกะเทียม"},{"$f":"'input ข้าว'!V2","v":"เริงราง"},{"$f":"'input ข้าว'!W2","v":"มหาราช"},{"$f":"'input ข้าว'!X2","v":"ป่าสักใต้"},{"$f":"'input ข้าว'!Y2","v":"นครหลวง"},{"$f":"'input ข้าว'!Z2","v":"ชลประทานลพบุรี"},{"$f":"'input ข้าว'!AA2","v":"คลองเพรียว-เสาไห้"},{"$f":"'input ข้าว'!AB2","v":"เขื่อนป่าสักชลสิทธิ์"},{"$f":"'input ข้าว'!AC2","v":"รังสิตเหนือ"},{"$f":"'input ข้าว'!AD2","v":"รังสิตใต้"},{"$f":"'input ข้าว'!AE2","v":"ชลหารพิจิตร"},{"$f":"'input ข้าว'!AF2","v":"พระองค์ไชยานุชิต"},{"$f":"'input ข้าว'!AG2","v":"เขื่อนนเรศวร"},{"$f":"'input ข้าว'!AH2","v":"เขื่อนแควน้อย"},{"$f":"'input ข้าว'!AI2","v":"ยมน่าน"},{"$f":"'input ข้าว'!AJ2","v":"พลายชุมพล"},{"$f":"'input ข้าว'!AK2","v":"ดงเศรษฐี"},{"$f":"'input ข้าว'!AL2","v":"ท่าบัว"},{"$f":"'input ข้าว'!AM2","v":"ท่อทองแดง"},{"$f":"'input ข้าว'!AN2","v":"ชลประทานกำแพงเพชร"},{"$f":"'input ข้าว'!AO2","v":"ชลประทานนครสวรรค์"},{"$f":"'input ข้าว'!AP2","v":"ชลประทานตาก"},{"$f":"'input ข้าว'!AQ2","v":"ชลประทานอุตรดิตถ์"}]
["จังหวัด",null,{"$f":"'input ข้าว'!C3","v":"ชัยนาท"},{"$f":"'input ข้าว'!D3","v":"ชัยนาท"},{"$f":"'input ข้าว'!E3","v":"ชัยนาท"},{"$f":"'input ข้าว'!F3","v":"สุพรรณบุรี"},{"$f":"'input ข้าว'!G3","v":"สุพรรณบุรี"},{"$f":"'input ข้าว'!H3","v":"สุพรรณบุรี"},{"$f":"'input ข้าว'!I3","v":"สุพรรณบุรี"},{"$f":"'input ข้าว'!J3","v":"ชัยนาท"},{"$f":"'input ข้าว'!K3","v":"สิงห์บุรี"},{"$f":"'input ข้าว'!L3","v":"อ่างทอง"},{"$f":"'input ข้าว'!M3","v":"พระนครศรีอยุธยา"},{"$f":"'input ข้าว'!N3","v":"พระนครศรีอยุธยา"},{"$f":"'input ข้าว'!O3","v":"พระนครศรีอยุธยา"},{"$f":"'input ข้าว'!P3","v":"นนทบุรี"},{"$f":"'input ข้าว'!Q3","v":"นครปฐม"},{"$f":"'input ข้าว'!R3","v":"สมุทรสาคร"},{"$f":"'input ข้าว'!S3","v":"ชัยนาท"},{"$f":"'input ข้าว'!T3","v":"ชัยนาท"},{"$f":"'input ข้าว'!U3","v":"ลพบุรี"},{"$f":"'input ข้าว'!V3","v":"สระบุรี"},{"$f":"'input ข้าว'!W3","v":"สิงห์บุรี"},{"$f":"'input ข้าว'!X3","v":"พระนครศรีอยุธยา"},{"$f":"'input ข้าว'!Y3","v":"พระนครศรีอยุธยา"},{"$f":"'input ข้าว'!Z3","v":"ลพบุรี"},{"$f":"'input ข้าว'!AA3","v":"สระบุรี"},{"$f":"'input ข้าว'!AB3","v":"สระบุรี"},{"$f":"'input ข้าว'!AC3","v":"พระนครศรีอยุธยา"},{"$f":"'input ข้าว'!AD3","v":"พระนครศรีอยุธยา"},{"$f":"'input ข้าว'!AE3","v":"สมุทรปราการ"},{"$f":"'input ข้าว'!AF3","v":"ฉะเชิงเทรา"},{"$f":"'input ข้าว'!AG3","v":"พิษณุโลก"},{"$f":"'input ข้าว'!AH3","v":"พิษณุโลก"},{"$f":"'input ข้าว'!AI3","v":"พิษณุโลก"},{"$f":"'input ข้าว'!AJ3","v":"พิษณุโลก"},{"$f":"'input ข้าว'!AK3","v":"พิจิตร"},{"$f":"'input ข้าว'!AL3","v":"พิจิตร"},{"$f":"'input ข้าว'!AM3","v":"กำแพงเพชร"},{"$f":"'input ข้าว'!AN3","v":"กำแพงเพชร"},{"$f":"'input ข้าว'!AO3","v":"นครสวรรค์"},{"$f":"'input ข้าว'!AP3","v":"ตาก"},{"$f":"'input ข้าว'!AQ3","v":"อุตรดิตถ์"}]
["รั่วซึม มม./สัปดาห์",null,{"$f":"'input ข้าว'!C4","v":7},{"$f":"'input ข้าว'!D4","v":7},{"$f":"'input ข้าว'!E4","v":7},{"$f":"'input ข้าว'!F4","v":7},{"$f":"'input ข้าว'!G4","v":7},{"$f":"'input ข้าว'!H4","v":7},{"$f":"'input ข้าว'!I4","v":7},{"$f":"'input ข้าว'!J4","v":7},{"$f":"'input ข้าว'!K4","v":7},{"$f":"'input ข้าว'!L4","v":7},{"$f":"'input ข้าว'!M4","v":7},{"$f":"'input ข้าว'!N4","v":7},{"$f":"'input ข้าว'!O4","v":7},{"$f":"'input ข้าว'!P4","v":7},{"$f":"'input ข้าว'!Q4","v":7},{"$f":"'input ข้าว'!R4","v":7},{"$f":"'input ข้าว'!S4","v":7},{"$f":"'input ข้าว'!T4","v":7},{"$f":"'input ข้าว'!U4","v":7},{"$f":"'input ข้าว'!V4","v":7},{"$f":"'input ข้าว'!W4","v":7},{"$f":"'input ข้าว'!X4","v":7},{"$f":"'input ข้าว'!Y4","v":7},{"$f":"'input ข้าว'!Z4","v":7},{"$f":"'input ข้าว'!AA4","v":7},{"$f":"'input ข้าว'!AB4","v":7},{"$f":"'input ข้าว'!AC4","v":7},{"$f":"'input ข้าว'!AD4","v":7},{"$f":"'input ข้าว'!AE4","v":7},{"$f":"'input ข้าว'!AF4","v":7},{"$f":"'input ข้าว'!AG4","v":7},{"$f":"'input ข้าว'!AH4","v":7},{"$f":"'input ข้าว'!AI4","v":7},{"$f":"'input ข้าว'!AJ4","v":7},{"$f":"'input ข้าว'!AK4","v":7},{"$f":"'input ข้าว'!AL4","v":7},{"$f":"'input ข้าว'!AM4","v":7},{"$f":"'input ข้าว'!AN4","v":7},{"$f":"'input ข้าว'!AO4","v":7},{"$f":"'input ข้าว'!AP4","v":7},{"$f":"'input ข้าว'!AQ4","v":7}]
["ประสิทธิ์ภาพโครงการ (%)",null,{"$f":"'input ข้าว'!C7","v":90},{"$f":"'input ข้าว'!D7","v":90},{"$f":"'input ข้าว'!E7","v":90},{"$f":"'input ข้าว'!F7","v":90},{"$f":"'input ข้าว'!G7","v":90},{"$f":"'input ข้าว'!H7","v":90},{"$f":"'input ข้าว'!I7","v":90},{"$f":"'input ข้าว'!J7","v":90},{"$f":"'input ข้าว'!K7","v":90},{"$f":"'input ข้าว'!L7","v":90},{"$f":"'input ข้าว'!M7","v":90},{"$f":"'input ข้าว'!N7","v":77},{"$f":"'input ข้าว'!O7","v":77},{"$f":"'input ข้าว'!P7","v":77},{"$f":"'input ข้าว'!Q7","v":77},{"$f":"'input ข้าว'!R7","v":77},{"$f":"'input ข้าว'!S7","v":85},{"$f":"'input ข้าว'!T7","v":85},{"$f":"'input ข้าว'!U7","v":85},{"$f":"'input ข้าว'!V7","v":85},{"$f":"'input ข้าว'!W7","v":85},{"$f":"'input ข้าว'!X7","v":85},{"$f":"'input ข้าว'!Y7","v":85},{"$f":"'input ข้าว'!Z7","v":85},{"$f":"'input ข้าว'!AA7","v":100},{"$f":"'input ข้าว'!AB7","v":100},{"$f":"'input ข้าว'!AC7","v":100},{"$f":"'input ข้าว'!AD7","v":100},{"$f":"'input ข้าว'!AE7","v":100},{"$f":"'input ข้าว'!AF7","v":100},{"$f":"'input ข้าว'!AG7","v":77},{"$f":"'input ข้าว'!AH7","v":77},{"$f":"'input ข้าว'!AI7","v":77},{"$f":"'input ข้าว'!AJ7","v":77},{"$f":"'input ข้าว'!AK7","v":77},{"$f":"'input ข้าว'!AL7","v":77},{"$f":"'input ข้าว'!AM7","v":65},{"$f":"'input ข้าว'!AN7","v":65},{"$f":"'input ข้าว'!AO7","v":85},{"$f":"'input ข้าว'!AP7","v":85},{"$f":"'input ข้าว'!AQ7","v":85}]
["วัน",null,"อุปโภค-บริโภค อุตสาหกรรม รักษาระบบนิเวศน์ และอื่น ๆ (ลบ.ม.)"]
[{"$f":"+'input ข้าว'!A22","v":"2017-11-01"},{"$f":"+A7+6","v":"2017-11-07"},1E-3,1E-3,1E-3,1E-3,1E-3]
[{"$f":"+A7+7","v":"2017-11-08"},"2017-11-14",1E-3,1E-3,1E-3,1E-3,1E-3]
[{"$f":"+A8+7","v":"2017-11-15"},"2017-11-21",1E-3,1E-3,1E-3,1E-3,1E-3]
["2017-11-22","2017-11-28",1E-3,1E-3,1E-3,1E-3,1E-3]
["2017-11-29","2017-12-05",1E-3,1E-3,1E-3,1E-3,1E-3]
["2017-12-06","2017-12-12",1E-3,1E-3,1E-3,1E-3,1E-3]
["2017-12-13","2017-12-19",1E-3,1E-3,1E-3,1E-3,1E-3]
["2017-12-20","2017-12-26",1E-3,1E-3,1E-3,1E-3,1E-3]
["2017-12-27","2018-01-02",1E-3,1E-3,1E-3,1E-3,1E-3]
["2018-01-03","2018-01-09",1E-3,1E-3,1E-3,1E-3,1E-3]
["2018-01-10","2018-01-16",1E-3,1E-3,1E-3,1E-3,1E-3]
["2018-01-17","2018-01-23",1E-3,1E-3,1E-3,1E-3,1E-3]
["2018-01-24","2018-01-30",1E-3,1E-3,1E-3,1E-3,1E-3]
["2018-01-31","2018-02-06",1E-3,1E-3,1E-3,1E-3,1E-3]
["2018-02-07","2018-02-13",1E-3,1E-3,1E-3,1E-3,1E-3]
["2018-02-14","2018-02-20",1E-3,1E-3,1E-3,1E-3,1E-3]
["2018-02-21","2018-02-27",1E-3,1E-3,1E-3,1E-3,1E-3]
["2018-02-28","2018-03-06",1E-3,1E-3,1E-3,1E-3,1E-3]
["2018-03-07","2018-03-13",1E-3,1E-3,1E-3,1E-3,1E-3]
["2018-03-14","2018-03-20",1E-3,1E-3,1E-3,1E-3,1E-3]
["2018-03-21","2018-03-27",1E-3,1E-3,1E-3,1E-3,1E-3]
["2018-03-28","2018-04-03",1E-3,1E-3,1E-3,1E-3,1E-3]
["2018-04-04","2018-04-10",1E-3,1E-3,1E-3,1E-3,1E-3]
["2018-04-11","2018-04-17",1E-3,1E-3,1E-3,1E-3,1E-3]
["2018-04-18","2018-04-24",1E-3,1E-3,1E-3,1E-3,1E-3]
["2018-04-25","2018-05-01",1E-3,1E-3,1E-3,1E-3,1E-3]
["2018-05-02","2018-05-08",1E-3,1E-3,1E-3,1E-3,1E-3]
["2018-05-09","2018-05-15",1E-3,1E-3,1E-3,1E-3,1E-3]
["2018-05-16","2018-05-22",1E-3,1E-3,1E-3,1E-3,1E-3]
["2018-05-23","2018-05-29",1E-3,1E-3,1E-3,1E-3,1E-3]
["2018-05-30","2018-06-05",1E-3,1E-3,1E-3,1E-3,1E-3]
["2018-06-06","2018-06-12",1E-3,1E-3,1E-3,1E-3,1E-3]
["2018-06-13","2018-06-19",1E-3,1E-3,1E-3,1E-3,1E-3]
["2018-06-20","2018-06-26",1E-3,1E-3,1E-3,1E-3,1E-3]
["2018-06-27","2018-07-03",1E-3,1E-3,1E-3,1E-3,1E-3]
["2018-07-04","2018-07-10",1E-3,1E-3,1E-3,1E-3,1E-3]
["2018-07-11","2018-07-17",1E-3,1E-3,1E-3,1E-3,1E-3]
["2018-07-18","2018-07-24",1E-3,1E-3,1E-3,1E-3,1E-3]
["2018-07-25","2018-07-31",1E-3,1E-3,1E-3,1E-3,1E-3]
["2018-08-01","2018-08-07",1E-3,1E-3,1E-3,1E-3,1E-3]
["2018-08-08","2018-08-14",1E-3,1E-3,1E-3,1E-3,1E-3]
["2018-08-15","2018-08-21",1E-3,1E-3,1E-3,1E-3,1E-3]
["2018-08-22","2018-08-28",1E-3,1E-3,1E-3,1E-3,1E-3]
["2018-08-29","2018-09-04",1E-3,1E-3,1E-3,1E-3,1E-3]
["2018-09-05","2018-09-11",1E-3,1E-3,1E-3,1E-3,1E-3]
["2018-09-12","2018-09-18",1E-3,1E-3,1E-3,1E-3,1E-3]
["2018-09-19","2018-09-25",1E-3,1E-3,1E-3,1E-3,1E-3]
["2018-09-26","2018-10-02",1E-3,1E-3,1E-3,1E-3,1E-3]
["2018-10-03","2018-10-09",1E-3,1E-3,1E-3,1E-3,1E-3]
["2018-10-10","2018-10-16",1E-3,1E-3,1E-3,1E-3,1E-3]
["2018-10-17","2018-10-23",1E-3,1E-3,1E-3,1E-3,1E-3]
["2018-10-24","2018-10-30",1E-3,1E-3,1E-3,1E-3,1E-3]

{"sheet":"รายงาน","index":10,"n_rows":61,"n_cols":16,"rows_kept":61,"cut":false,"hidden":false,"merged":[]}
[{"$f":"'input ข้าว'!A1","v":"ปี พ.ศ."},{"$f":"'input ข้าว'!B1","v":2560},{"$f":"'input ข้าว'!D1","v":"ฤดูแล้ง"},{"$f":"'input ข้าว'!E1","v":"60/61"},{"$f":"'input ข้าว'!F1","v":"ฤดูฝน"},{"$f":"'input ข้าว'!G1","v":"61"},null,null,null,null,{"$f":"A2&B2&\" \"&C1&D1&\" \"&E1&F1","v":"โครงการชลประทานพลเทพ ฤดูแล้ง60/61 ฤดูฝน61"},null,null,null,1,42]
["โครงการชลประทาน",{"$f":"OFFSET('input ข้าว'!B2,0,$O$1,1,1)","v":"พลเทพ"}]
["จังหวัด",{"$f":"OFFSET('input ข้าว'!B3,0,$O$1,1,1)","v":"ชัยนาท"}]
["รั่วซึม มม./สัปดาห์",{"$f":"OFFSET('input ข้าว'!B4,0,$O$1,1,1)","v":7}]
["น้ำเตรียมแปลงฤดูแล้ง มม./สัปดาห์",null,{"$f":"OFFSET('input ข้าว'!B5,0,$O$1,1,1)","v":0},{"$f":"OFFSET('input อ้อย'!B5,0,$O$1,1,1)","v":30},{"$f":"OFFSET('input พืชผัก'!$B$5,0,$O$1,1,1)","v":20},{"$f":"OFFSET('input ไม้ผล'!$B$5,0,$O$1,1,1)","v":30},{"$f":"+D5","v":30},null,null,{"$f":"OFFSET('input พืชอื่น'!$B$5,0,$O$1,1,1)","v":20},null,"รวมฤดูแล้ง (ลบ.ม.)",{"$f":"SUM(L9:L34)","v":110291191.5157778}]
["น้ำเตรียมแปลงฤดูฝน มม./สัปดาห์",null,{"$f":"OFFSET('input ข้าว'!B6,0,$O$1,1,1)","v":100},{"$f":"OFFSET('input อ้อย'!B6,0,$O$1,1,1)","v":15},{"$f":"OFFSET('input พืชผัก'!$B$5,1,$O$1,1,1)","v":10},{"$f":"OFFSET('input ไม้ผล'!$B$6,0,$O$1,1,1)","v":90},{"$f":"+D6","v":15},null,null,{"$f":"OFFSET('input พืชอื่น'!$B$5,1,$O$1,1,1)","v":10},null,"รวมฤดูฝน (ลบ.ม.)",{"$f":"SUM(L35:L60)","v":67228010.510333329}]
["ประสิทธิ์ภาพโครงการ (%)",{"$f":"OFFSET('input ข้าว'!B7,0,$O$1,1,1)","v":90},{"$f":"'input ข้าว'!J1","v":"ข้าว กข.(นาดำ)"},"อ้อย",{"$f":"OFFSET('input พืชผัก'!$B$8,0,$O$1,1,1)","v":"กะหล่ำดอก"},{"$f":"OFFSET('input ไม้ผล'!B7,0,$O$1,1,1)","v":"มะม่วง"},{"$f":"OFFSET('input ไม้ยืนต้น'!$B$7,0,$O$1,1,1)","v":"มะม่วง"},null,null,{"$f":"OFFSET('input พืชอื่น'!$B$8,0,$O$1,1,1)","v":"ไม้ดอก (บานชื่น)"},null,"รวมทั้งปี (ลบ.ม.)",{"$f":"SUM(M5:M6)","v":177519202.02611113}]
["เริ่มต้น","สิ้นสุด","ข้าว","อ้อย","พืชผัก","ไม้ผล","ไม้ยืนต้น","บ่อปลา","บ่อกุ้ง","อื่นๆ","อุปโภค-บริโภค อุตสาหกรรม รักษาระบบนิเวศน์ และอื่น ๆ ","รวม (ลบ.ม.)"]
[{"$f":"'input ข้าว'!A22","v":"2017-11-01"},{"$f":"+A9+6","v":"2017-11-07"},{"$f":"ข้าว!HN16","v":5330622.222222222},{"$f":"อ้อย!HN3","v":2256.9777777777781},{"$f":"พืชผัก!HN16","v":0},{"$f":"ไม้ผล!HN3","v":132724.68777777778},{"$f":"ไม้ยืนต้น!HN3","v":0},{"$f":"บ่อปลา!HN3","v":0},{"$f":"บ่อกุ้ง!HN3","v":0},{"$f":"อื่นๆ!HN16","v":0},{"$f":"อุปโภค!HN3","v":1.1111111111111111E-3},{"$f":"SUM(C9:K9)","v":5465603.888888889}]
[{"$f":"+A9+7","v":"2017-11-08"},"2017-11-14",{"$f":"ข้าว!HN17","v":5323222.9777777763},{"$f":"อ้อย!HN4","v":816.97777777777776},{"$f":"พืชผัก!HN17","v":0},{"$f":"ไม้ผล!HN4","v":68884.68777777777},{"$f":"ไม้ยืนต้น!HN4","v":0},{"$f":"บ่อปลา!HN4","v":0},{"$f":"บ่อกุ้ง!HN4","v":0},{"$f":"อื่นๆ!HN17","v":0},{"$f":"อุปโภค!HN4","v":1.1111111111111111E-3},{"$f":"SUM(C10:K10)","v":5392924.6444444433}]
[{"$f":"+A10+7","v":"2017-11-15"},"2017-11-21",{"$f":"ข้าว!HN18","v":5255600.7333333334},{"$f":"อ้อย!HN5","v":816.97777777777776},{"$f":"พืชผัก!HN18","v":0},{"$f":"ไม้ผล!HN5","v":68884.68777777777},{"$f":"ไม้ยืนต้น!HN5","v":0},{"$f":"บ่อปลา!HN5","v":0},{"$f":"บ่อกุ้ง!HN5","v":0},{"$f":"อื่นๆ!HN18","v":0},{"$f":"อุปโภค!HN5","v":1.1111111111111111E-3},5325302.4000000004]
["2017-11-22","2017-11-28",{"$f":"ข้าว!HN19","v":4920471.4777777782},{"$f":"อ้อย!HN6","v":816.97777777777776},{"$f":"พืชผัก!HN19","v":0},{"$f":"ไม้ผล!HN6","v":68884.68777777777},{"$f":"ไม้ยืนต้น!HN6","v":0},{"$f":"บ่อปลา!HN6","v":0},{"$f":"บ่อกุ้ง!HN6","v":0},{"$f":"อื่นๆ!HN19","v":0},{"$f":"อุปโภค!HN6","v":1.1111111111111111E-3},4990173.1444444451]
["2017-11-29","2017-12-05",{"$f":"ข้าว!HN20","v":5268706.833333333},{"$f":"อ้อย!HN7","v":1209.3222222222223},{"$f":"พืชผัก!HN20","v":0},{"$f":"ไม้ผล!HN7","v":79978.483777777772},{"$f":"ไม้ยืนต้น!HN7","v":0},{"$f":"บ่อปลา!HN7","v":0},{"$f":"บ่อกุ้ง!HN7","v":0},{"$f":"อื่นๆ!HN20","v":0},{"$f":"อุปโภค!HN7","v":1.1111111111111111E-3},5349894.6404444445]
["2017-12-06","2017-12-12",{"$f":"ข้าว!HN21","v":4564676.5666666664},{"$f":"อ้อย!HN8","v":1209.3222222222223},{"$f":"พืชผัก!HN21","v":0},{"$f":"ไม้ผล!HN8","v":86008.701555555555},{"$f":"ไม้ยืนต้น!HN8","v":0},{"$f":"บ่อปลา!HN8","v":0},{"$f":"บ่อกุ้ง!HN8","v":0},{"$f":"อื่นๆ!HN21","v":0},{"$f":"อุปโภค!HN8","v":1.1111111111111111E-3},4651894.5915555554]
["2017-12-13","2017-12-19",{"$f":"ข้าว!HN22","v":2930955.8555555558},{"$f":"อ้อย!HN9","v":1209.3222222222223},{"$f":"พืชผัก!HN22","v":0},{"$f":"ไม้ผล!HN9","v":86008.701555555555},{"$f":"ไม้ยืนต้น!HN9","v":0},{"$f":"บ่อปลา!HN9","v":0},{"$f":"บ่อกุ้ง!HN9","v":0},{"$f":"อื่นๆ!HN22","v":0},{"$f":"อุปโภค!HN9","v":1.1111111111111111E-3},3018173.8804444447]
["2017-12-20","2017-12-26",{"$f":"ข้าว!HN23","v":2393332.0777777778},{"$f":"อ้อย!HN10","v":1209.3222222222223},{"$f":"พืชผัก!HN23","v":0},{"$f":"ไม้ผล!HN10","v":86008.701555555555},{"$f":"ไม้ยืนต้น!HN10","v":0},{"$f":"บ่อปลา!HN10","v":0},{"$f":"บ่อกุ้ง!HN10","v":0},{"$f":"อื่นๆ!HN23","v":0},{"$f":"อุปโภค!HN10","v":1.1111111111111111E-3},2480550.1026666667]
["2017-12-27","2018-01-02",{"$f":"ข้าว!HN24","v":1756454.2777777778},{"$f":"อ้อย!HN11","v":1227.6444444444446},{"$f":"พืชผัก!HN24","v":0},{"$f":"ไม้ผล!HN11","v":86008.701555555555},{"$f":"ไม้ยืนต้น!HN11","v":0},{"$f":"บ่อปลา!HN11","v":0},{"$f":"บ่อกุ้ง!HN11","v":0},{"$f":"อื่นๆ!HN24","v":0},{"$f":"อุปโภค!HN11","v":1.1111111111111111E-3},1843690.6248888888]
["2018-01-03","2018-01-09",{"$f":"ข้าว!HN25","v":2422122.3666666672},{"$f":"อ้อย!HN12","v":1527.0222222222226},{"$f":"พืชผัก!HN25","v":0},{"$f":"ไม้ผล!HN12","v":89880.06777777776},{"$f":"ไม้ยืนต้น!HN12","v":0},{"$f":"บ่อปลา!HN12","v":0},{"$f":"บ่อกุ้ง!HN12","v":0},{"$f":"อื่นๆ!HN25","v":0},{"$f":"อุปโภค!HN12","v":1.1111111111111111E-3},2513529.4577777782]
["2018-01-10","2018-01-16",{"$f":"ข้าว!HN26","v":3228874.4333333331},{"$f":"อ้อย!HN13","v":1527.0222222222226},{"$f":"พืชผัก!HN26","v":0},{"$f":"ไม้ผล!HN13","v":89880.06777777776},{"$f":"ไม้ยืนต้น!HN13","v":0},{"$f":"บ่อปลา!HN13","v":0},{"$f":"บ่อกุ้ง!HN13","v":0},{"$f":"อื่นๆ!HN26","v":0},{"$f":"อุปโภค!HN13","v":1.1111111111111111E-3},3320281.5244444441]
["2018-01-17","2018-01-23",{"$f":"ข้าว!HN27","v":4037535.1555555561},{"$f":"อ้อย!HN14","v":1527.0222222222226},{"$f":"พืชผัก!HN27","v":0},{"$f":"ไม้ผล!HN14","v":89880.06777777776},{"$f":"ไม้ยืนต้น!HN14","v":0},{"$f":"บ่อปลา!HN14","v":0},{"$f":"บ่อกุ้ง!HN14","v":0},{"$f":"อื่นๆ!HN27","v":0},{"$f":"อุปโภค!HN14","v":1.1111111111111111E-3},4128942.2466666671]
["2018-01-24","2018-01-30",{"$f":"ข้าว!HN28","v":4836425.9222222222},{"$f":"อ้อย!HN15","v":1527.0222222222226},{"$f":"พืชผัก!HN28","v":0},{"$f":"ไม้ผล!HN15","v":89880.06777777776},{"$f":"ไม้ยืนต้น!HN15","v":0},{"$f":"บ่อปลา!HN15","v":0},{"$f":"บ่อกุ้ง!HN15","v":0},{"$f":"อื่นๆ!HN28","v":0},{"$f":"อุปโภค!HN15","v":1.1111111111111111E-3},4927833.0133333327]
["2018-01-31","2018-02-06",{"$f":"ข้าว!HN29","v":5387377.8222222226},{"$f":"อ้อย!HN16","v":1875.6444444444442},{"$f":"พืชผัก!HN29","v":0},{"$f":"ไม้ผล!HN16","v":82199.31777777776},{"$f":"ไม้ยืนต้น!HN16","v":0},{"$f":"บ่อปลา!HN16","v":0},{"$f":"บ่อกุ้ง!HN16","v":0},{"$f":"อื่นๆ!HN29","v":0},{"$f":"อุปโภค!HN16","v":1.1111111111111111E-3},5471452.7855555555]
["2018-02-07","2018-02-13",{"$f":"ข้าว!HN30","v":5651392.8777777785},{"$f":"อ้อย!HN17","v":1875.6444444444442},{"$f":"พืชผัก!HN30","v":0},{"$f":"ไม้ผล!HN17","v":87265.02399999999},{"$f":"ไม้ยืนต้น!HN17","v":0},{"$f":"บ่อปลา!HN17","v":0},{"$f":"บ่อกุ้ง!HN17","v":0},{"$f":"อื่นๆ!HN30","v":0},{"$f":"อุปโภค!HN17","v":1.1111111111111111E-3},5740533.5473333336]
["2018-02-14","2018-02-20",{"$f":"ข้าว!HN31","v":5772732.4666666677},{"$f":"อ้อย!HN18","v":1875.6444444444442},{"$f":"พืชผัก!HN31","v":0},{"$f":"ไม้ผล!HN18","v":87265.02399999999},{"$f":"ไม้ยืนต้น!HN18","v":0},{"$f":"บ่อปลา!HN18","v":0},{"$f":"บ่อกุ้ง!HN18","v":0},{"$f":"อื่นๆ!HN31","v":0},{"$f":"อุปโภค!HN18","v":1.1111111111111111E-3},5861873.1362222228]
["2018-02-21","2018-02-27",{"$f":"ข้าว!HN32","v":6009013.7000000002},{"$f":"อ้อย!HN19","v":1875.6444444444442},{"$f":"พืชผัก!HN32","v":0},{"$f":"ไม้ผล!HN19","v":87265.02399999999},{"$f":"ไม้ยืนต้น!HN19","v":0},{"$f":"บ่อปลา!HN19","v":0},{"$f":"บ่อกุ้ง!HN19","v":0},{"$f":"อื่นๆ!HN32","v":0},{"$f":"อุปโภค!HN19","v":1.1111111111111111E-3},6098154.3695555553]
["2018-02-28","2018-03-06",{"$f":"ข้าว!HN33","v":6362210.7444444429},{"$f":"อ้อย!HN20","v":2404.9333333333334},{"$f":"พืชผัก!HN33","v":0},{"$f":"ไม้ผล!HN20","v":87607.631999999998},{"$f":"ไม้ยืนต้น!HN20","v":0},{"$f":"บ่อปลา!HN20","v":0},{"$f":"บ่อกุ้ง!HN20","v":0},{"$f":"อื่นๆ!HN33","v":0},{"$f":"อุปโภค!HN20","v":1.1111111111111111E-3},6452223.3108888874]
["2018-03-07","2018-03-13",{"$f":"ข้าว!HN34","v":6111508.777777778},{"$f":"อ้อย!HN21","v":2404.9333333333334},{"$f":"พืชผัก!HN34","v":0},{"$f":"ไม้ผล!HN21","v":98295.243777777767},{"$f":"ไม้ยืนต้น!HN21","v":0},{"$f":"บ่อปลา!HN21","v":0},{"$f":"บ่อกุ้ง!HN21","v":0},{"$f":"อื่นๆ!HN34","v":0},{"$f":"อุปโภค!HN21","v":1.1111111111111111E-3},6212208.9560000002]
["2018-03-14","2018-03-20",{"$f":"ข้าว!HN35","v":5849739.0333333332},{"$f":"อ้อย!HN22","v":2404.9333333333334},{"$f":"พืชผัก!HN35","v":0},{"$f":"ไม้ผล!HN22","v":98295.243777777767},{"$f":"ไม้ยืนต้น!HN22","v":0},{"$f":"บ่อปลา!HN22","v":0},{"$f":"บ่อกุ้ง!HN22","v":0},{"$f":"อื่นๆ!HN35","v":0},{"$f":"อุปโภค!HN22","v":1.1111111111111111E-3},5950439.2115555555]
["2018-03-21","2018-03-27",{"$f":"ข้าว!HN36","v":4849600.5888888892},{"$f":"อ้อย!HN23","v":2404.9333333333334},{"$f":"พืชผัก!HN36","v":0},{"$f":"ไม้ผล!HN23","v":98295.243777777767},{"$f":"ไม้ยืนต้น!HN23","v":0},{"$f":"บ่อปลา!HN23","v":0},{"$f":"บ่อกุ้ง!HN23","v":0},{"$f":"อื่นๆ!HN36","v":0},{"$f":"อุปโภค!HN23","v":1.1111111111111111E-3},4950300.7671111114]
["2018-03-28","2018-04-03",{"$f":"ข้าว!HN37","v":3891678.9777777791},{"$f":"อ้อย!HN24","v":2342.166666666667},{"$f":"พืชผัก!HN37","v":0},{"$f":"ไม้ผล!HN24","v":98295.243777777767},{"$f":"ไม้ยืนต้น!HN24","v":0},{"$f":"บ่อปลา!HN24","v":0},{"$f":"บ่อกุ้ง!HN24","v":0},{"$f":"อื่นๆ!HN37","v":0},{"$f":"อุปโภค!HN24","v":1.1111111111111111E-3},3992316.3893333343]
["2018-04-04","2018-04-10",{"$f":"ข้าว!HN38","v":2732459.5888888887},{"$f":"อ้อย!HN25","v":1928.4888888888888},{"$f":"พืชผัก!HN38","v":0},{"$f":"ไม้ผล!HN25","v":104005.99999999999},{"$f":"ไม้ยืนต้น!HN25","v":0},{"$f":"บ่อปลา!HN25","v":0},{"$f":"บ่อกุ้ง!HN25","v":0},{"$f":"อื่นๆ!HN38","v":0},{"$f":"อุปโภค!HN25","v":1.1111111111111111E-3},2838394.0788888889]
["2018-04-11","2018-04-17",{"$f":"ข้าว!HN39","v":1674620.6444444442},{"$f":"อ้อย!HN26","v":1928.4888888888888},{"$f":"พืชผัก!HN39","v":0},{"$f":"ไม้ผล!HN26","v":104005.99999999999},{"$f":"ไม้ยืนต้น!HN26","v":0},{"$f":"บ่อปลา!HN26","v":0},{"$f":"บ่อกุ้ง!HN26","v":0},{"$f":"อื่นๆ!HN39","v":0},{"$f":"อุปโภค!HN26","v":1.1111111111111111E-3},1780555.1344444442]
["2018-04-18","2018-04-24",{"$f":"ข้าว!HN40","v":1053690.5555555555},{"$f":"อ้อย!HN27","v":1928.4888888888888},{"$f":"พืชผัก!HN40","v":0},{"$f":"ไม้ผล!HN27","v":104005.99999999999},{"$f":"ไม้ยืนต้น!HN27","v":0},{"$f":"บ่อปลา!HN27","v":0},{"$f":"บ่อกุ้ง!HN27","v":0},{"$f":"อื่นๆ!HN40","v":0},{"$f":"อุปโภค!HN27","v":1.1111111111111111E-3},1159625.0455555555]
["2018-04-25","2018-05-01",{"$f":"ข้าว!HN41","v":268676.42222222226},{"$f":"อ้อย!HN28","v":1638.2},{"$f":"พืชผัก!HN41","v":0},{"$f":"ไม้ผล!HN28","v":104005.99999999999},{"$f":"ไม้ยืนต้น!HN28","v":0},{"$f":"บ่อปลา!HN28","v":0},{"$f":"บ่อกุ้ง!HN28","v":0},{"$f":"อื่นๆ!HN41","v":0},{"$f":"อุปโภค!HN28","v":1.1111111111111111E-3},374320.62333333341]
["2018-05-02","2018-05-08",{"$f":"ข้าว!HN42","v":2344267.5333333337},{"$f":"อ้อย!HN29","v":1507.8666666666666},{"$f":"พืชผัก!HN42","v":0},{"$f":"ไม้ผล!HN29","v":66046.467777777769},{"$f":"ไม้ยืนต้น!HN29","v":0},{"$f":"บ่อปลา!HN29","v":0},{"$f":"บ่อกุ้ง!HN29","v":0},{"$f":"อื่นๆ!HN42","v":0},{"$f":"อุปโภค!HN29","v":1.1111111111111111E-3},2411821.8688888894]
["2018-05-09","2018-05-15",{"$f":"ข้าว!HN43","v":7033268.1333333338},{"$f":"อ้อย!HN30","v":1507.8666666666666},{"$f":"พืชผัก!HN43","v":0},{"$f":"ไม้ผล!HN30","v":66046.467777777769},{"$f":"ไม้ยืนต้น!HN30","v":0},{"$f":"บ่อปลา!HN30","v":0},{"$f":"บ่อกุ้ง!HN30","v":0},{"$f":"อื่นๆ!HN43","v":0},{"$f":"อุปโภค!HN30","v":1.1111111111111111E-3},7100822.4688888881]
["2018-05-16","2018-05-22",{"$f":"ข้าว!HN44","v":5501938.1555555565},{"$f":"อ้อย!HN31","v":1507.8666666666666},{"$f":"พืชผัก!HN44","v":0},{"$f":"ไม้ผล!HN31","v":66046.467777777769},{"$f":"ไม้ยืนต้น!HN31","v":0},{"$f":"บ่อปลา!HN31","v":0},{"$f":"บ่อกุ้ง!HN31","v":0},{"$f":"อื่นๆ!HN44","v":0},{"$f":"อุปโภค!HN31","v":1.1111111111111111E-3},5569492.4911111109]
["2018-05-23","2018-05-29",{"$f":"ข้าว!HN45","v":6980464.5111111114},{"$f":"อ้อย!HN32","v":1507.8666666666666},{"$f":"พืชผัก!HN45","v":0},{"$f":"ไม้ผล!HN32","v":66046.467777777769},{"$f":"ไม้ยืนต้น!HN32","v":0},{"$f":"บ่อปลา!HN32","v":0},{"$f":"บ่อกุ้ง!HN32","v":0},{"$f":"อื่นๆ!HN45","v":0},{"$f":"อุปโภค!HN32","v":1.1111111111111111E-3},7048018.8466666657]
["2018-05-30","2018-06-05",{"$f":"ข้าว!HN46","v":3623240.3111111112},{"$f":"อ้อย!HN33","v":1220.5333333333331},{"$f":"พืชผัก!HN46","v":0},{"$f":"ไม้ผล!HN33","v":57619.986777777776},{"$f":"ไม้ยืนต้น!HN33","v":0},{"$f":"บ่อปลา!HN33","v":0},{"$f":"บ่อกุ้ง!HN33","v":0},{"$f":"อื่นๆ!HN46","v":0},{"$f":"อุปโภค!HN33","v":1.1111111111111111E-3},3682080.8323333333]
["2018-06-06","2018-06-12",{"$f":"ข้าว!HN47","v":4125443.2777777771},{"$f":"อ้อย!HN34","v":1220.5333333333331},{"$f":"พืชผัก!HN47","v":0},{"$f":"ไม้ผล!HN34","v":62140.397444444439},{"$f":"ไม้ยืนต้น!HN34","v":0},{"$f":"บ่อปลา!HN34","v":0},{"$f":"บ่อกุ้ง!HN34","v":0},{"$f":"อื่นๆ!HN47","v":0},{"$f":"อุปโภค!HN34","v":1.1111111111111111E-3},4188804.2096666656]
["2018-06-13","2018-06-19",{"$f":"ข้าว!HN48","v":4767339.0888888873},{"$f":"อ้อย!HN35","v":1220.5333333333331},{"$f":"พืชผัก!HN48","v":0},{"$f":"ไม้ผล!HN35","v":62140.397444444439},{"$f":"ไม้ยืนต้น!HN35","v":0},{"$f":"บ่อปลา!HN35","v":0},{"$f":"บ่อกุ้ง!HN35","v":0},{"$f":"อื่นๆ!HN48","v":0},{"$f":"อุปโภค!HN35","v":1.1111111111111111E-3},4830700.0207777759]
["2018-06-20","2018-06-26",{"$f":"ข้าว!HN49","v":4863828.8555555558},{"$f":"อ้อย!HN36","v":1220.5333333333331},{"$f":"พืชผัก!HN49","v":0},{"$f":"ไม้ผล!HN36","v":62140.397444444439},{"$f":"ไม้ยืนต้น!HN36","v":0},{"$f":"บ่อปลา!HN36","v":0},{"$f":"บ่อกุ้ง!HN36","v":0},{"$f":"อื่นๆ!HN49","v":0},{"$f":"อุปโภค!HN36","v":1.1111111111111111E-3},4927189.7874444444]
["2018-06-27","2018-07-03",{"$f":"ข้าว!HN50","v":3098344.722222222},{"$f":"อ้อย!HN37","v":738.16666666666652},{"$f":"พืชผัก!HN50","v":0},{"$f":"ไม้ผล!HN37","v":62140.397444444439},{"$f":"ไม้ยืนต้น!HN37","v":0},{"$f":"บ่อปลา!HN37","v":0},{"$f":"บ่อกุ้ง!HN37","v":0},{"$f":"อื่นๆ!HN50","v":0},{"$f":"อุปโภค!HN37","v":1.1111111111111111E-3},3161223.2874444439]
["2018-07-04","2018-07-10",{"$f":"ข้าว!HN51","v":3014311.8666666672},{"$f":"อ้อย!HN38","v":351.1},{"$f":"พืชผัก!HN51","v":0},{"$f":"ไม้ผล!HN38","v":37086.788444444457},{"$f":"ไม้ยืนต้น!HN38","v":0},{"$f":"บ่อปลา!HN38","v":0},{"$f":"บ่อกุ้ง!HN38","v":0},{"$f":"อื่นๆ!HN51","v":0},{"$f":"อุปโภค!HN38","v":1.1111111111111111E-3},3051749.7562222229]
["2018-07-11","2018-07-17",{"$f":"ข้าว!HN52","v":2748502.3666666676},{"$f":"อ้อย!HN39","v":351.1},{"$f":"พืชผัก!HN52","v":0},{"$f":"ไม้ผล!HN39","v":37086.788444444457},{"$f":"ไม้ยืนต้น!HN39","v":0},{"$f":"บ่อปลา!HN39","v":0},{"$f":"บ่อกุ้ง!HN39","v":0},{"$f":"อื่นๆ!HN52","v":0},{"$f":"อุปโภค!HN39","v":1.1111111111111111E-3},2785940.2562222234]
["2018-07-18","2018-07-24",{"$f":"ข้าว!HN53","v":2720684.0999999992},{"$f":"อ้อย!HN40","v":351.1},{"$f":"พืชผัก!HN53","v":0},{"$f":"ไม้ผล!HN40","v":37086.788444444457},{"$f":"ไม้ยืนต้น!HN40","v":0},{"$f":"บ่อปลา!HN40","v":0},{"$f":"บ่อกุ้ง!HN40","v":0},{"$f":"อื่นๆ!HN53","v":0},{"$f":"อุปโภค!HN40","v":1.1111111111111111E-3},2758121.9895555549]
["2018-07-25","2018-07-31",{"$f":"ข้าว!HN54","v":1585751.9888888889},{"$f":"อ้อย!HN41","v":351.1},{"$f":"พืชผัก!HN54","v":0},{"$f":"ไม้ผล!HN41","v":37086.788444444457},{"$f":"ไม้ยืนต้น!HN41","v":0},{"$f":"บ่อปลา!HN41","v":0},{"$f":"บ่อกุ้ง!HN41","v":0},{"$f":"อื่นๆ!HN54","v":0},{"$f":"อุปโภค!HN41","v":1.1111111111111111E-3},1623189.8784444446]
["2018-08-01","2018-08-07",{"$f":"ข้าว!HN55","v":0},{"$f":"อ้อย!HN42","v":0},{"$f":"พืชผัก!HN55","v":0},{"$f":"ไม้ผล!HN42","v":9065.6834444444557},{"$f":"ไม้ยืนต้น!HN42","v":0},{"$f":"บ่อปลา!HN42","v":0},{"$f":"บ่อกุ้ง!HN42","v":0},{"$f":"อื่นๆ!HN55","v":0},{"$f":"อุปโภค!HN42","v":1.1111111111111111E-3},9065.6845555555665]
["2018-08-08","2018-08-14",{"$f":"ข้าว!HN56","v":0},{"$f":"อ้อย!HN43","v":0},{"$f":"พืชผัก!HN56","v":0},{"$f":"ไม้ผล!HN43","v":9065.6834444444557},{"$f":"ไม้ยืนต้น!HN43","v":0},{"$f":"บ่อปลา!HN43","v":0},{"$f":"บ่อกุ้ง!HN43","v":0},{"$f":"อื่นๆ!HN56","v":0},{"$f":"อุปโภค!HN43","v":1.1111111111111111E-3},9065.6845555555665]
["2018-08-15","2018-08-21",{"$f":"ข้าว!HN57","v":1245567.1444444447},{"$f":"อ้อย!HN44","v":0},{"$f":"พืชผัก!HN57","v":0},{"$f":"ไม้ผล!HN44","v":9065.6834444444557},{"$f":"ไม้ยืนต้น!HN44","v":0},{"$f":"บ่อปลา!HN44","v":0},{"$f":"บ่อกุ้ง!HN44","v":0},{"$f":"อื่นๆ!HN57","v":0},{"$f":"อุปโภค!HN44","v":1.1111111111111111E-3},1254632.8290000004]
["2018-08-22","2018-08-28",{"$f":"ข้าว!HN58","v":2167397.0888888887},{"$f":"อ้อย!HN45","v":0},{"$f":"พืชผัก!HN58","v":0},{"$f":"ไม้ผล!HN45","v":9065.6834444444557},{"$f":"ไม้ยืนต้น!HN45","v":0},{"$f":"บ่อปลา!HN45","v":0},{"$f":"บ่อกุ้ง!HN45","v":0},{"$f":"อื่นๆ!HN58","v":0},{"$f":"อุปโภค!HN45","v":1.1111111111111111E-3},2176462.7734444444]
["2018-08-29","2018-09-04",{"$f":"ข้าว!HN59","v":4722747.9333333327},{"$f":"อ้อย!HN46","v":0},{"$f":"พืชผัก!HN59","v":0},{"$f":"ไม้ผล!HN46","v":8096.5124444444518},{"$f":"ไม้ยืนต้น!HN46","v":0},{"$f":"บ่อปลา!HN46","v":0},{"$f":"บ่อกุ้ง!HN46","v":0},{"$f":"อื่นๆ!HN59","v":0},{"$f":"อุปโภค!HN46","v":1.1111111111111111E-3},4730844.4468888873]
["2018-09-05","2018-09-11",{"$f":"ข้าว!HN60","v":0},{"$f":"อ้อย!HN47","v":0},{"$f":"พืชผัก!HN60","v":0},{"$f":"ไม้ผล!HN47","v":0},{"$f":"ไม้ยืนต้น!HN47","v":0},{"$f":"บ่อปลา!HN47","v":0},{"$f":"บ่อกุ้ง!HN47","v":0},{"$f":"อื่นๆ!HN60","v":0},{"$f":"อุปโภค!HN47","v":1.1111111111111111E-3},1.1111111111111111E-3]
["2018-09-12","2018-09-18",{"$f":"ข้าว!HN61","v":0},{"$f":"อ้อย!HN48","v":0},{"$f":"พืชผัก!HN61","v":0},{"$f":"ไม้ผล!HN48","v":0},{"$f":"ไม้ยืนต้น!HN48","v":0},{"$f":"บ่อปลา!HN48","v":0},{"$f":"บ่อกุ้ง!HN48","v":0},{"$f":"อื่นๆ!HN61","v":0},{"$f":"อุปโภค!HN48","v":1.1111111111111111E-3},1.1111111111111111E-3]
["2018-09-19","2018-09-25",{"$f":"ข้าว!HN62","v":0},{"$f":"อ้อย!HN49","v":0},{"$f":"พืชผัก!HN62","v":0},{"$f":"ไม้ผล!HN49","v":0},{"$f":"ไม้ยืนต้น!HN49","v":0},{"$f":"บ่อปลา!HN49","v":0},{"$f":"บ่อกุ้ง!HN49","v":0},{"$f":"อื่นๆ!HN62","v":0},{"$f":"อุปโภค!HN49","v":1.1111111111111111E-3},1.1111111111111111E-3]
["2018-09-26","2018-10-02",{"$f":"ข้าว!HN63","v":1234477.5444444444},{"$f":"อ้อย!HN50","v":89.277777777777672},{"$f":"พืชผัก!HN63","v":0},{"$f":"ไม้ผล!HN50","v":0},{"$f":"ไม้ยืนต้น!HN50","v":0},{"$f":"บ่อปลา!HN50","v":0},{"$f":"บ่อกุ้ง!HN50","v":0},{"$f":"อื่นๆ!HN63","v":0},{"$f":"อุปโภค!HN50","v":1.1111111111111111E-3},1234566.8233333332]
["2018-10-03","2018-10-09",{"$f":"ข้าว!HN64","v":1064771.9888888898},{"$f":"อ้อย!HN51","v":78.322222222222237},{"$f":"พืชผัก!HN64","v":0},{"$f":"ไม้ผล!HN51","v":15794.813999999997},{"$f":"ไม้ยืนต้น!HN51","v":0},{"$f":"บ่อปลา!HN51","v":0},{"$f":"บ่อกุ้ง!HN51","v":0},{"$f":"อื่นๆ!HN64","v":0},{"$f":"อุปโภค!HN51","v":1.1111111111111111E-3},1080645.126222223]
["2018-10-10","2018-10-16",{"$f":"ข้าว!HN65","v":1220714.3333333337},{"$f":"อ้อย!HN52","v":78.322222222222237},{"$f":"พืชผัก!HN65","v":0},{"$f":"ไม้ผล!HN52","v":15794.813999999997},{"$f":"ไม้ยืนต้น!HN52","v":0},{"$f":"บ่อปลา!HN52","v":0},{"$f":"บ่อกุ้ง!HN52","v":0},{"$f":"อื่นๆ!HN65","v":0},{"$f":"อุปโภค!HN52","v":1.1111111111111111E-3},1236587.470666667]
["2018-10-17","2018-10-23",{"$f":"ข้าว!HN66","v":1243565.3444444451},{"$f":"อ้อย!HN53","v":78.322222222222237},{"$f":"พืชผัก!HN66","v":0},{"$f":"ไม้ผล!HN53","v":15794.813999999997},{"$f":"ไม้ยืนต้น!HN53","v":0},{"$f":"บ่อปลา!HN53","v":0},{"$f":"บ่อกุ้ง!HN53","v":0},{"$f":"อื่นๆ!HN66","v":0},{"$f":"อุปโภค!HN53","v":1.1111111111111111E-3},1259438.4817777784]
["2018-10-24","2018-10-30",{"$f":"ข้าว!HN67","v":1081672.3555555558},{"$f":"อ้อย!HN54","v":78.322222222222237},{"$f":"พืชผัก!HN67","v":0},{"$f":"ไม้ผล!HN54","v":15794.813999999997},{"$f":"ไม้ยืนต้น!HN54","v":0},{"$f":"บ่อปลา!HN54","v":0},{"$f":"บ่อกุ้ง!HN54","v":0},{"$f":"อื่นๆ!HN67","v":0},{"$f":"อุปโภค!HN54","v":1.1111111111111111E-3},1097545.492888889]
["รวม (ลบ.ม.)",null,{"$f":"SUM(C9:C60)","v":174272001.74444446},{"$f":"SUM(D9:D60)","v":57227.811111111114},0,3189972.4127777773,0,0,0,0,5.7777777777777782E-2,177519202.02611116]

{"sheet":"ETO","index":11,"n_rows":131,"n_cols":21,"rows_kept":131,"cut":false,"hidden":true,"merged":[]}
["สรุป ETo ฝ่ายเผยแพร่การใช้น้ำชลประทาน ส่วนการใช้น้ำชลประทาน พฤษภาคม 2554",null,null,null,null,null,null,null,null,null,null,null,null,null,null,"****  มม./วัน"]
[null,null,null,1,2,3,4,5,6,7,8,9,10,11,12]
["ลำดับที่","สถานีตรวจอากาศ","จังหวัด","Jan","Feb","Mar","Apr","May","Jun","Jul","Aug","Sep","Oct","Nov","Dec","Annual",null,"no","prv_code","prv_name","ETo_sta"]
[1,"แม่ฮ่องสอน","แม่ฮ่องสอน",2.83,3.55,4.51,5.22,4.46,3.59,2.93,3.32,3.11,3.32,3.02,2.68,null,null,63,601,"กระบี่","กระบี่"]
[{"$f":"+A4+1","v":2},"แม่สะเรียง","แม่ฮ่องสอน",2.89,3.86,4.78,5.1100000000000003,4.3499999999999996,2.92,2.82,2.72,3.07,3.09,2.93,2.84,null,null,4,132,"กรุงเทพมหานคร","กรุงเทพมหานคร"]
[{"$f":"+A5+1","v":3},"เชียงราย","เชียงราย",2.83,3.5,4.4000000000000004,5.05,4.3499999999999996,4,3.53,3.38,3.45,3.43,3.17,2.63,null,null,19,302,"กาญจนบุรี","กาญจนบุรี"]
[4,"สถานีฯเกษตร เชียงราย","เชียงราย",2.79,3.42,4.26,4.7699999999999996,4.13,3.85,3.4,3.27,3.71,3.38,3.14,2.64,null,null,44,503,"กาฬสินธุ์","กาฬสินธุ์"]
[5,"พะเยา","พะเยา",2.83,3.53,4.45,4.91,4.4000000000000004,3.69,3.58,3.38,3.4,3.23,2.92,2.58,null,null,27,404,"กำแพงเพชร","กำแพงเพชร"]
[6,"เชียงใหม่","เชียงใหม่",3.21,4.09,5.26,6.12,4.97,4.3,3.8,3.62,3.67,3.74,3.35,3.03,null,null,45,505,"ขอนแก่น","ขอนแก่น"]
[7,"ดอยอ่างขาง","เชียงใหม่",3.16,4.3600000000000003,5.3,5.18,3.95,3.5,3.27,3.06,3.23,2.92,2.98,2.65,null,null,10,206,"จันทบุรี","จันทบุรี"]
[8,"สถานีฯเกษตร แม่โจ้","เชียงใหม่",3.07,3.71,4.59,4.8499999999999996,3.86,3.92,2.94,3.37,3.09,3.68,3.38,3.03,null,null,11,207,"ฉะเชิงเทรา","ฉะเชิงเทรา"]
[9,"ลำปาง","ลำปาง",3.07,3.73,4.6900000000000004,4.9800000000000004,4.4400000000000004,4.0599999999999996,3.61,3.46,3.51,3.42,3.13,2.84,null,null,12,208,"ชลบุรี","ชลบุรี"]
[10,"เถิน","ลำปาง",3.64,4.54,5.6,5.77,4.3899999999999997,4.2699999999999996,3.86,3.67,3.73,3.64,3.77,3.45,null,null,1,109,"ชัยนาท","สถานีฯเกษตร ชัยนาท"]
[11,"สถานีฯเกษตร ลำปาง","ลำปาง",2.77,3.26,4.0599999999999996,4.22,3.78,3.45,3.37,3.28,3.06,3.29,3.11,2.7,null,null,46,510,"ชัยภูมิ","ชัยภูมิ"]
[12,"ลำพูน","ลำพูน",2.94,3.79,4.7300000000000004,5.46,4.5599999999999996,3.78,3.68,3.47,3.47,3.35,3.06,2.74,null,null,64,611,"ชุมพร","ชุมพร"]
[13,"แพร่","แพร่",2.98,3.7,4.4800000000000004,4.91,4.57,3.73,3.59,3.44,3.5,3.41,3.17,2.68,null,null,28,412,"เชียงราย","เชียงราย"]
[14,"น่าน","น่าน",2.88,3.49,4.3899999999999997,4.63,4.25,3.88,3.43,3.33,3.43,3.47,3.04,2.7,null,null,29,413,"เชียงใหม่","เชียงใหม่"]
[15,"สถานีฯเกษตร น่าน","น่าน",2.88,3.54,4.37,4.83,4.1399999999999997,3.78,3.37,3.27,3.72,3.74,3.32,2.81,null,null,65,614,"ตรัง","ท่าอากาศยานตรัง"]
[16,"ท่าวังผา","น่าน",2.88,3.56,4.55,4.67,4.28,3.56,3.46,2.78,3.41,3.4,3.11,2.65,null,null,13,215,"ตราด","จันทบุรี"]
[17,"ทุ่งช้าง","น่าน",3.14,3.81,4.76,4.91,4.3899999999999997,4.22,3.76,3.29,3.73,3.92,3.29,2.9,null,null,30,416,"ตาก","ตาก"]
[18,"อุตรดิตถ์","อุตรดิตถ์",3.25,3.88,4.7699999999999996,4.91,4.43,3.59,3.5,3.4,3.52,3.59,3.48,2.99,null,null,14,218,"นครนายก","ปราจีนบุรี"]
[19,"ตาก","ตาก",3.2,4.16,5.25,5.8,4.9400000000000004,3.86,3.93,3.84,3.33,3.39,3.21,2.94,null,null,20,319,"นครปฐม","นครปฐม"]
[20,"แม่สอด","ตาก",3.32,4.08,4.96,5.41,4.21,3,2.88,2.79,3.15,3.52,3.48,3.31,null,null,48,520,"นครพนม","นครพนม"]
[21,"เขื่อนภูมิพล","ตาก",3.23,4.12,5.14,5.67,4.59,3.81,3.8,3.74,3.26,3.41,3.16,3.01,null,null,49,521,"นครราชสีมา","นครราชสีมา"]
[22,"อุ้มผาง","ตาก",3.12,3.71,4.3,4.51,3.7,2.75,2.69,2.64,2.52,2.99,3.33,2.98,null,null,66,622,"นครศรีธรรมราช","นครศรีธรรมราช"]
[23,"สถานีฯเกษตร ดอยมูเซอ","ตาก",4.1399999999999997,3.87,4.88,5.76,4.46,3.61,2.84,2.59,2.91,2.9,3.15,2.93,null,null,31,423,"นครสวรรค์","นครสวรรค์"]
[24,"พิษณุโลก","พิษณุโลก",3.27,4.01,4.99,5.32,4.71,3.78,3.65,3.51,3.27,3.55,3.42,3.19,null,null,2,124,"นนทบุรี","ท่าอากาศยานดอนเมือง"]
[25,"เพชรบูรณ์","เพชรบูรณ์",3.33,4.05,4.96,5.18,4.16,3.69,3.58,3.43,3.22,3.69,3.73,3.41,null,null,67,625,"นราธิวาส","นราธิวาส"]
[26,"หล่มสัก","เพชรบูรณ์",3.15,3.83,4.34,4.53,4.04,3.66,3.59,2.93,3.18,3.57,3.48,3.12,null,null,32,426,"น่าน","น่าน"]
[27,"วิเชียรบุรี","เพชรบูรณ์",3.31,4.07,4.5599999999999996,4.7300000000000004,4.08,3.64,3.58,2.93,3.22,3.53,3.49,3.26,null,null,77,null,"บึงกาฬ","หนองคาย"]
[28,"กำแพงเพชร","กำแพงเพชร",3.26,3.91,4.3499999999999996,5.01,4.45,3.92,3.5,3.41,3.55,3.48,3.34,3.11,null,null,50,527,"บุรีรัมย์","บุรีรัมย์"]
[29,"สุโขทัย","สุโขทัย",3.36,4.03,4.66,5.72,4.4400000000000004,4.32,3.94,3.78,3.66,3.66,3.51,3.26,null,null,3,128,"ปทุมธานี","ปทุมธานี"]
[30,"สถานีฯเกษตร ศรีสาโรง","สุโขทัย",3.04,3.49,4.47,4.96,3.95,3.93,3.54,3.43,3.49,3.44,3.45,3,null,null,21,329,"ประจวบคีรีขันธ์","ประจวบคีรีขันธ์"]
[31,"พิจิตร","พิจิตร",".'-",".'-",".'-",".'-",".'-",".'-",".'-",".'-",".'-",".'-",".'-",".'-",null,null,15,230,"ปราจีนบุรี","ปราจีนบุรี"]
[32,"สถานีฯเกษตร พิจิตร","พิจิตร",3.28,3.89,4.3499999999999996,4.5999999999999996,4.05,3.98,3.5,3.4,3.19,3.47,3.58,3.24,null,null,68,631,"ปัตตานี","ท่าอากาศยานปัตตานี"]
[33,"หนองคาย","หนองคาย",3.11,3.78,4.62,4.62,4.03,3.56,3.51,3.41,3.51,3.63,3.31,3.04,null,null,5,133,"พระนครศรีอยุธยา","สุพรรณบุรี"]
[34,"เลย","เลย",3.28,4.0599999999999996,4.8099999999999996,5.0599999999999996,4.43,4.07,3.66,3.55,3.55,3.55,3.23,3.04,null,null,43,472,"พะเยา","พะเยา"]
[35,"สถานีฯเกษตร เลย","เลย",3.19,3.95,4.7300000000000004,4.76,4.2,3.89,3.87,3.39,3.84,3.5,3.42,3,null,null,69,634,"พังงา","ท่าอากาศยานภูเก็ต"]
[36,"อุดรธานี","อุดรธานี",3.32,4.07,4.8499999999999996,5.21,4.5599999999999996,4.08,3.71,3.55,3.61,3.73,3.7,3.22,null,null,70,635,"พัทลุง","พัทลุง"]
[37,"สกลนคร","สกลนคร",3.44,4.09,4.87,5.0199999999999996,4.4000000000000004,3.99,3.57,3.44,3.86,3.9,3.64,3.25,null,null,33,436,"พิจิตร","สถานีฯเกษตร พิจิตร"]
[38,"สถานีฯเกษตร สกลนคร","สกลนคร",3.14,3.75,4.4800000000000004,5,4.3600000000000003,4.26,3.86,3.69,3.98,3.77,3.38,3.09,null,null,34,437,"พิษณุโลก","พิษณุโลก"]
[39,"นครพนม","นครพนม",3.33,3.86,4.3,4.5,3.95,3.47,3.42,3.33,3.48,3.6,3.6,3.16,null,null,22,338,"เพชรบุรี","เพชรบุรี"]
[40,"สถานีฯเกษตร นครพนม","นครพนม",3.52,4.03,4.4800000000000004,4.96,4.28,4.25,3.81,3.32,3.83,3.57,3.59,3.25,null,null,35,439,"เพชรบูรณ์","เพชรบูรณ์"]
[41,"ขอนแก่น","ขอนแก่น",3.65,4.18,5.09,4.97,4.67,4.29,3.88,3.68,3.61,3.79,3.83,3.63,null,null,36,440,"แพร่","แพร่"]
[42,"สถานีฯเกษตร ท่าพระ","ขอนแก่น",3.2,3.81,4.4800000000000004,4.76,4.25,3.91,3.88,3.36,3.48,3.59,3.48,3.18,null,null,71,641,"ภูเก็ต","ภูเก็ต"]
[43,"มุกดาหาร","มุกดาหาร",3.65,4.18,5,5.15,4.1100000000000003,3.64,3.56,3.43,3.57,3.8,3.95,3.53,null,null,51,542,"มหาสารคาม","มหาสารคาม"]
[44,"มหาสารคาม","มหาสารคาม",3.57,4.1900000000000004,4.71,5.22,4.62,4.22,3.84,3.64,3.62,3.76,3.83,3.58,null,null,60,573,"มุกดาหาร","มุกดาหาร"]
[45,"กาฬสินธุ์","กาฬสินธุ์",4.1500000000000004,4.8899999999999997,5.4,5.45,4.8,4.32,4.22,3.65,3.71,4.0599999999999996,4.3,4.0999999999999996,null,null,37,443,"แม่ฮ่องสอน","แม่ฮ่องสอน"]
[46,"ชัยภูมิ","ชัยภูมิ",3.6,4.2,5,5.12,4.47,4.13,3.77,3.61,3.6,3.78,3.89,3.51,null,null,47,517,"ยโสธร","ร้อยเอ็ด"]
[47,"ร้อยเอ็ด","ร้อยเอ็ด",3.49,4.13,4.66,4.83,4.22,3.9,3.84,3.64,3.61,3.63,3.68,3.51,null,null,72,644,"ยะลา","สถานีฯเกษตร ยะลา"]
[48,"สถานีฯเกษตร ร้อยเอ็ด","ร้อยเอ็ด",4.04,4.4400000000000004,4.92,5.25,4.59,4.62,4.21,3.9,3.6,3.78,4.0999999999999996,3.9,null,null,52,545,"ร้อยเอ็ด","ร้อยเอ็ด"]
[49,"อุบลราชธานี","อุบลราชธานี",4,4.53,4.93,5.03,4.45,3.96,3.87,3.71,3.43,3.71,4.2300000000000004,4.22,null,null,73,646,"ระนอง","ระนอง"]
[50,"สถานีฯเกษตรอุบลราชธานี","อุบลราชธานี",3.63,3.68,4.2300000000000004,4.13,3.65,3.64,3.56,2.87,3.22,3.34,3.64,3.42,null,null,16,247,"ระยอง","ระยอง"]
[51,"ศรีสะเกษ","ศรีสะเกษ",".'-",".'-",".'-",".'-",".'-",".'-",".'-",".'-",".'-",".'-",".'-",".'-",null,null,23,348,"ราชบุรี","ราชบุรี"]
[52,"สถานีฯเกษตร ศรีสะเกษ","ศรีสะเกษ",3.4,3.92,4.5599999999999996,4.75,4.42,4.43,4.1900000000000004,3.71,3.85,3.62,3.79,3.45,null,null,6,149,"ลพบุรี","ลพบุรี"]
[53,"นครราชสีมา","นครราชสีมา",3.37,3.95,4.3899999999999997,4.6399999999999997,4.2,3.95,3.89,3.79,3.36,3.42,3.51,3.41,null,null,38,450,"ลำปาง","ลำปาง"]
[54,"สถานีฯเกษตร ปากช่อง","นครราชสีมา",4.71,4.71,5.01,4.8099999999999996,4.2,4.54,4.26,4.04,3.38,3.5,4.4400000000000004,4.5199999999999996,null,null,39,451,"ลำพูน","ลำพูน"]
[55,"โชคชัย","นครราชสีมา",3.47,4.21,4.68,4.74,4.09,4.18,3.82,3.72,3.31,3.6,3.57,3.42,null,null,53,552,"เลย","เลย"]
[56,"สุรินทร์","สุรินทร์",3.76,4.3600000000000003,4.83,4.87,4.21,4.12,3.71,3.61,3.62,3.7,3.84,3.8,null,null,54,553,"ศรีสะเกษ","สถานีฯเกษตร ศรีสะเกษ"]
[57,"สถานีฯเกษตร สุรินทร์","สุรินทร์",3.52,3.97,4.38,4.5599999999999996,3.96,3.98,3.53,3.45,3.58,3.6,3.67,3.43,null,null,55,554,"สกลนคร","สกลนคร"]
[58,"ท่าตูม","สุรินทร์",3.54,4.2,4.78,4.99,4.43,4.03,3.96,3.52,3.55,3.72,3.89,3.62,null,null,74,655,"สงขลา","สงขลา"]
[59,"บุรีรัมย์","บุรีรัมย์",4.17,4.8099999999999996,5.27,5.49,4.74,4.66,4.1399999999999997,3.67,3.64,3.86,4.12,3.98,null,null,75,656,"สตูล","สตูล"]
[60,"นางรอง","บุรีรัมย์",3.62,4.16,4.8099999999999996,4.9400000000000004,4.38,4,3.94,3.55,3.6,3.75,3.92,3.57,null,null,17,257,"สมุทรปราการ","สถานีฯเกษตร บางนา"]
[61,"นครสวรรค์","นครสวรรค์",3.71,4.87,6.06,6.06,4.55,4.0999999999999996,3.92,3.71,3.32,3.57,3.51,3.37,null,null,24,358,"สมุทรสงคราม","ราชบุรี"]
[62,"สถานีฯเกษตร ตากฟ้า","นครสวรรค์",3.94,4.3499999999999996,4.88,4.93,4.46,4.0199999999999996,3.89,3.48,3.57,3.54,3.86,3.81,null,null,25,359,"สมุทรสาคร","ท่าเรือคลองเตย"]
[63,"ชัยนาท","ชัยนาท",".'-",".'-",".'-",".'-",".'-",".'-",".'-",".'-",".'-",".'-",".'-",".'-",null,null,18,274,"สระแก้ว","สระแก้ว"]
[64,"สถานีฯเกษตร ชัยนาท","ชัยนาท",3.3,3.68,4.34,4.5599999999999996,4.3099999999999996,4.2699999999999996,3.84,3.47,3.42,3.26,3.31,3.21,null,null,7,160,"สระบุรี","ลพบุรี"]
[65,"อยุธยา","อยุธยา",3.95,4.2,4.58,4.58,4.0199999999999996,4.0999999999999996,3.73,3.68,3.36,3.46,3.92,3.94,null,null,8,161,"สิงห์บุรี","ลพบุรี"]
[66,"ปทุมธานี","ปทุมธานี",3.54,3.85,4.4400000000000004,4.6399999999999997,4.05,4.1500000000000004,3.62,3.59,3.26,2.9,3.83,3.54,null,null,40,462,"สุโขทัย","สุโขทัย"]
[67,"ราชบุรี","ราชบุรี",4.04,4.6100000000000003,5.27,5.15,4,3.96,3.57,3.63,3.44,3.39,3.86,4.01,null,null,26,363,"สุพรรณบุรี","สุพรรณบุรี"]
[68,"สุพรรณบุรี","สุพรรณบุรี",3.45,4.1100000000000003,4.83,5.01,4.3600000000000003,3.99,3.89,3.32,3.45,3.45,3.58,3.5,null,null,76,664,"สุราษฎร์ธานี","สุราษฎร์ธานี"]
[69,"สถานีฯเกษตร อู่ทอง","สุพรรณบุรี",3.46,4.12,4.74,4.87,3.89,3.9,3.52,3.51,3.25,3.54,3.47,3.41,null,null,56,565,"สุรินทร์","สุรินทร์"]
[{"$f":"+A72+1","v":70},"ลพบุรี","ลพบุรี",3.76,4.32,4.78,5.09,4.1100000000000003,3.67,3.59,3.56,3.27,3.65,3.86,3.82,null,null,57,566,"หนองคาย","หนองคาย"]
[71,"บัวชุม","ลพบุรี",4.03,4.8899999999999997,5.48,5.03,4.22,3.82,3.73,3.05,3.25,3.65,3.85,3.93,null,null,61,575,"หนองบัวลำภู","อุดรธานี"]
[72,"กาญจนบุรี","กาญจนบุรี",3.6,4.3600000000000003,4.8,5.3,4.1900000000000004,3.72,3.71,3.72,3.44,3.33,3.42,3.51,null,null,9,167,"อ่างทอง","สุพรรณบุรี"]
[73,"ทองผาภูมิ","กาญจนบุรี",3.44,4.08,4.71,5.14,3.81,3.31,2.73,2.69,2.61,3.16,3.39,3.33,null,null,62,576,"อำนาจเจริญ","มุกดาหาร"]
[74,"กรุงเทพมหานคร","กรุงเทพมหานคร",3.52,4.17,4.78,4.6900000000000004,4.0999999999999996,4.07,3.98,3.46,3.07,3.23,3.62,3.49,null,null,58,568,"อุดรธานี","อุดรธานี"]
[75,"ท่าเรือคลองเตย","กรุงเทพมหานคร",4.51,4.57,5.18,5.04,4.5599999999999996,4.6100000000000003,4.47,4.46,4.2699999999999996,3.97,4.96,4.7699999999999996,null,null,41,469,"อุตรดิตถ์","อุตรดิตถ์"]
[76,"ท่าอากาศยานดอนเมือง","กรุงเทพมหานคร",4.1399999999999997,4.8,5.37,5.54,4.9400000000000004,4.63,4.5999999999999996,4.43,3.95,3.87,4.1100000000000003,4.04,null,null,42,470,"อุทัยธานี","นครสวรรค์"]
[77,"สมุทรปราการ","สมุทรปราการ",".'-",".'-",".'-",".'-",".'-",".'-",".'-",".'-",".'-",".'-",".'-",".'-",null,null,59,571,"อุบลราชธานี","อุบลราชธานี"]
[78,"สถานีฯเกษตร บางนา","สมุทรปราการ",1.1399999999999999,2.0299999999999998,3.25,3.75,3.74,3.96,3.74,3.36,2.6,1.79,1.46,0.99]
[79,"เพชรบุรี","เพชรบุรี",3.59,4.2300000000000004,4.87,4.8899999999999997,4.22,3.74,3.66,3.17,3.38,3.08,3.39,3.49]
[80,"ประจวบคีรีขันธ์","ประจวบคีรีขันธ์",3.82,4.1900000000000004,4.38,4.7699999999999996,4.22,3.93,3.9,3.89,3.68,3.49,3.84,4.18]
[81,"หัวหิน","ประจวบคีรีขันธ์",3.93,4.49,5.0599999999999996,5.07,4.51,4.18,3.79,3.81,3.49,3.45,3.74,4.0199999999999996]
[82,"สถานีฯเกษตร หนองพลับ","ประจวบคีรีขันธ์",3.77,4.25,4.49,4.6500000000000004,3.84,3.82,3.4,2.92,3.26,3.32,3.4,3.43]
[83,"นครปฐม","นครปฐม",3.7,4.3499999999999996,5.15,5.12,4.0199999999999996,4,3.63,3.16,3.44,3.69,3.92,3.66]
[84,"ฉะเชิงเทรา","ฉะเชิงเทรา",3.85,3.83,4.1900000000000004,4.3099999999999996,3.86,3.52,3.46,3.46,3.26,3.33,3.47,3.51]
[85,"ปราจีนบุรี","ปราจีนบุรี",3.87,4.04,4.3,4.62,3.98,3.5,3.45,3.43,3.27,3.79,4.0999999999999996,4.07]
[86,"กบินทร์บุรี","ปราจีนบุรี",3.75,4.08,4.33,4.67,3.98,3.5,3.43,2.87,3.22,3.36,3.93,3.94]
[87,"สระแก้ว","สระแก้ว",3.96,4.46,4.67,4.66,3.96,3.88,3.45,3.4,3.24,3.64,3.92,3.78]
[88,"อรัญประเทศ","สระแก้ว",3.89,4.3499999999999996,4.9800000000000004,4.91,4.1100000000000003,4.0599999999999996,3.99,3.6,3.35,3.42,3.61,3.64]
[89,"ชลบุรี","ชลบุรี",4.09,4.55,4.83,5.14,4.4800000000000004,4.13,4.12,3.74,3.43,3.49,4.09,4.16]
[90,"เกาะสีชัง","ชลบุรี",3.87,4.1900000000000004,4.46,4.7699999999999996,4.24,4.07,3.98,3.94,3.48,3.47,4,4.2699999999999996]
[91,"พัทยา","ชลบุรี",4.1399999999999997,4.37,4.83,4.8099999999999996,4.3099999999999996,4.1900000000000004,4.1399999999999997,4.1399999999999997,3.61,3.56,4.13,4.49]
[92,"สัตหีบ","ชลบุรี",3.99,4.3600000000000003,4.66,4.9800000000000004,4.2699999999999996,4.26,4.17,3.7,3.71,3.39,4.08,4.21]
[93,"แหลมฉบัง","ชลบุรี",4.83,4.71,5.28,5.3,4.6399999999999997,4.67,4.6900000000000004,4.5599999999999996,4.0999999999999996,3.7,4.74,4.84]
[94,"ระยอง","ระยอง",3.75,4.34,4.54,4.83,4.33,4.1500000000000004,4.08,4.03,3.55,3.51,3.77,3.78]
[95,"สถานีฯเกษตร ห้วยโป่ง","ระยอง",3.56,3.61,4.0999999999999996,4.24,3.83,3.79,3.42,3.44,3.29,3.35,3.64,3.59]
[96,"จันทบุรี","จันทบุรี",3.72,3.71,4.08,4.3499999999999996,3.44,2.85,2.85,2.84,2.69,3.34,3.83,3.95]
[97,"สถานีฯเกษตร พลิ้ว","จันทบุรี",3.94,3.73,3.98,4.2,3.42,3.36,3.34,2.84,3.2,3.31,3.78,3.86]
[98,"ตราด","ตราด",3.8,3.83,4.17,4.28,3.89,3.35,3.32,2.87,3.22,3.35,3.68,3.84]
[99,"ชุมพร","ชุมพร",3.45,4.0999999999999996,4.55,4.5,3.89,3.54,3.49,3.53,3.39,3.38,3.4,3.44]
[100,"สถานีฯเกษตร สวี","ชุมพร",3.34,3.61,4.13,4.1500000000000004,3.74,4.12,3.68,3.83,3.67,3.36,3.08,3.27]
[101,"ระนอง","ระนอง",3.84,4.21,4.29,4.2699999999999996,3.76,3.34,3.27,3.3,3.2,3.31,3.41,3.52]
[102,"สุราษฎร์ธานี","สุราษฎร์ธานี",3.55,4.24,4.34,4.28,3.8,3.47,3.42,3.49,3.36,3.07,3.1,3.27]
[103,"ท่าอากาศยาน สุราษฎร์ธานี","สุราษฎร์ธานี",3.65,4.0599999999999996,4.42,4.42,3.9,3.51,3.49,3.53,3.41,3.13,3.15,3.08]
[104,"เกาะสมุย","สุราษฎร์ธานี",3.65,4.24,4.5599999999999996,4.42,4.26,3.97,3.97,4.05,3.89,3.43,3.43,3.38]
[105,"สถานีฯเกษตร สุราษฎร์ธานี","สุราษฎร์ธานี",3.32,4.04,4.37,4.24,3.65,3.6,3.61,3.68,3.61,3.34,2.99,3.11]
[106,"พระแสง","สุราษฎร์ธานี",3.49,4,4.2,4.24,3.41,3.62,3.28,3.35,3.3,3.08,2.89,3.1]
[107,"นครศรีธรรมราช","นครศรีธรรมราช",3.19,3.79,4.1399999999999997,4.1500000000000004,3.77,3.75,3.76,3.55,3.35,3.09,2.83,2.95]
[108,"สถานีฯเกษตรนครศรีธรรมราช","นครศรีธรรมราช",3.31,3.72,4.04,4.21,3.67,3.67,3.68,3.8,3.7,3.44,3.08,2.94]
[109,"ฉวาง","นครศรีธรรมราช",3.45,3.81,4.1100000000000003,4.0999999999999996,3.64,3.52,3.16,3.57,3.54,3.01,3.07,2.93]
[110,"พัทลุง","พัทลุง",".'-",".'-",".'-",".'-",".'-",".'-",".'-",".'-",".'-",".'-",".'-",".'-"]
[111,"สถานีฯเกษตร พัทลุง","พัทลุง",3.46,4,4.1100000000000003,4.26,3.77,4.04,3.74,3.88,3.86,3.59,3.17,3.07]
[112,"ตะกั่วป่า","พัทลุง",3.83,4.17,4.1399999999999997,4.13,3.7,3.31,3.28,3.36,3.22,3.03,3.42,3.48]
[113,"ภูเก็ต","ภูเก็ต",4.29,4.62,4.55,4.34,3.84,3.81,3.78,3.98,3.43,3.53,3.65,3.83]
[114,"ท่าอากาศยานภูเก็ต","ภูเก็ต",4.04,4.37,4.58,4.3600000000000003,3.93,3.93,3.92,3.78,3.52,3.19,3.32,3.67]
[115,"เกาะลันตา","ภูเก็ต",4.2300000000000004,4.51,4.47,4.1100000000000003,3.61,3.58,3.58,3.72,3.58,3.34,3.06,3.68]
[116,"กระบี่","กระบี่",4.08,4.7300000000000004,4.42,4.21,3.73,3.58,3.54,3.63,3.57,3.07,3.27,3.5]
[117,"ตรัง","ตรัง",".'-",".'-",".'-",".'-",".'-",".'-",".'-",".'-",".'-",".'-",".'-",".'-"]
[118,"ท่าอากาศยานตรัง","ตรัง",4.21,4.8600000000000003,4.67,4.3,3.71,3.6,3.24,3.35,3.26,3.12,3.27,3.64]
[119,"สงขลา","สงขลา",3.94,4.34,4.4800000000000004,4.51,3.91,3.9,3.91,4.09,3.92,3.36,3.09,3.37]
[120,"สถานีฯเกษตร คอหงส์","สงขลา",3.71,4.24,4.24,4.26,3.75,3.67,3.68,3.83,3.49,3.58,2.97,3.26]
[121,"สะเดา","สงขลา",3.51,4.03,4.1399999999999997,4.1399999999999997,3.66,3.53,3.55,3.38,3.31,3.15,2.89,3.06]
[122,"ท่าอากาศยานหาดใหญ่","สงขลา",3.8,4.22,4.5,4.0599999999999996,3.57,3.56,3.62,3.75,3.56,3.28,2.99,2.94]
[123,"สตูล","สตูล",4.43,4.5999999999999996,4.4000000000000004,4.18,3.64,3.52,3.53,3.65,3.28,3.14,3.32,3.8]
[124,"ปัตตานี","ปัตตานี",".'-",".'-",".'-",".'-",".'-",".'-",".'-",".'-",".'-",".'-",".'-",".'-"]
[125,"ท่าอากาศยานปัตตานี","ปัตตานี",3.36,3.95,3.91,3.95,3.49,3.39,3.42,3.52,3.48,3.25,2.95,2.85]
[126,"ยะลา","ยะลา",".'-",".'-",".'-",".'-",".'-",".'-",".'-",".'-",".'-",".'-",".'-",".'-"]
[127,"สถานีฯเกษตร ยะลา","ยะลา",3.53,4.2,4.25,4.3099999999999996,3.77,3.66,3.66,3.8,3.75,3.59,2.94,3.1]
[128,"นราธิวาส","นราธิวาส",3.32,3.82,4.07,4.1900000000000004,3.75,3.63,3.61,3.72,3.4,3.25,2.94,2.92]

{"sheet":"Evap","index":12,"n_rows":88,"n_cols":21,"rows_kept":88,"cut":false,"hidden":true,"merged":[]}
["สรุปปริมาณการระเหย Evap ของสถานีภูมิอากาศต่าง ๆ (จากฐานข้อมมูลโปรแกรมเดิม)",null,null,null,null,null,null,null,null,null,null,null,null,null,null,"มม./เดือน"]
[null,null,0,1,2,3,4,5,6,7,8,9,10,11,12]
["ลำดับที่","สถานีตรวจอากาศ","จังหวัด","Jan","Feb","Mar","Apr","May","Jun","Jul","Aug","Sep","Oct","Nov","Dec","Annual",null,"no","prv_code","prv_name","ETo_sta"]
[1,"แม่ฮ่องสอน","แม่ฮ่องสอน",93.2,113.7,163.69999999999999,195.1,178.6,127.1,113.9,109.8,115.7,111.4,88.6,81.5,{"$f":"SUM(D4:O4)","v":1492.3000000000002},null,1,109,"ชัยนาท","ลพบุรี"]
[2,"แม่สะเรียง","แม่ฮ่องสอน",87,109.6,154.1,175,153.5,96.1,87.6,86.3,99.6,103.6,88.6,82.1,{"$f":"SUM(D5:O5)","v":1323.0999999999997},null,2,124,"นนทบุรี","กรุงเทพมหานคร"]
[3,"เชียงราย","เชียงราย",89.1,118.2,155.5,171.7,141.1,110,97,86,90,89.7,81.7,79.099999999999994,1309.0999999999999,null,3,128,"ปทุมธานี","กรุงเทพมหานคร"]
[4,"พะเยา","พะเยา",95.5,115.4,165.6,180.5,158.5,136.9,123.7,115.8,106,99.9,86.9,87.1,1471.8000000000002,null,4,132,"กรุงเทพมหานคร","กรุงเทพมหานคร"]
[5,"เชียงใหม่","เชียงใหม่",108.1,128.69999999999999,171.7,189.4,178.6,143.69999999999999,129.6,126.3,128.80000000000001,129,106.8,98.3,1638.9999999999998,null,5,133,"พระนครศรีอยุธยา","สุพรรณบุรี"]
[6,"ลำปาง","ลำปาง",89.8,112.1,159.30000000000001,179.2,164.2,136.69999999999999,127.2,117.5,107.7,100.1,87,81.3,1462.1,null,6,149,"ลพบุรี","ลพบุรี"]
[7,"ลำพูน","ลำพูน",109.5,142.19999999999999,205,216.8,197,162.1,149.30000000000001,136.69999999999999,118.1,107.5,94.4,95.8,1734.3999999999999,null,7,160,"สระบุรี","ลพบุรี"]
[8,"แพร่","แพร่",106.7,123.5,182.1,200.8,186.3,153.1,144.4,133.19999999999999,126.1,120.9,105,100.2,1682.3,null,8,161,"สิงห์บุรี","ลพบุรี"]
[9,"น่าน","น่าน",81.3,90.8,120.6,142.19999999999999,137.19999999999999,111.7,101.1,96,99.4,99.9,85.2,79.099999999999994,1244.5,null,9,167,"อ่างทอง","สุพรรณบุรี"]
[10,"ท่าวังผา","ตาก",92.9,110.4,148.80000000000001,167.2,162.30000000000001,132.6,118.5,116.7,121.9,114.2,93.9,85.1,1464.5,null,10,206,"จันทบุรี","จันทบุรี"]
[11,"ทุ่งช้าง","น่าน",119.7,102.3,115.1,127.2,115.3,87.4,98.9,99.1,92,101.5,101.8,89.6,1249.8999999999999,null,11,207,"ฉะเชิงเทรา","กบินทร์บุรี"]
[12,"อุตรดิตถ์","อุตรดิตถ์",111.7,120.9,163.1,182.2,172.6,137.19999999999999,123.6,121,121.9,124.5,114.9,113.4,1607.0000000000005,null,12,208,"ชลบุรี","ชลบุรี"]
[13,"สุโขทัย","สุโขทัย",108.6,104.3,167.1,168.3,161.1,149.1,170.6,148.1,110.6,118.3,119.5,113.3,1638.8999999999996,null,13,215,"ตราด","จันทบุรี"]
[14,"ตาก","ตาก",124.4,168.9,241,251.9,204.3,152.80000000000001,150.4,141.1,126.4,107.6,99.6,102.8,1871.1999999999998,null,14,218,"นครนายก","ปราจีนบุรี"]
[15,"แม่สอด","ตาก",119.8,144.80000000000001,196.9,212,164.9,103.6,95,88.1,103.8,122.3,121.4,118.3,1590.8999999999999,null,15,230,"ปราจีนบุรี","ปราจีนบุรี"]
[16,"เขื่อนภูมิพล","ตาก",110,142.1,188.3,199.7,166.8,136,137.9,129.6,120.9,107.7,96.7,97.3,1633,null,16,247,"ระยอง","ระยอง"]
[17,"อุ้มผาง","ตาก",107.4,123.1,157.6,158.30000000000001,127.3,90.9,84.5,73.900000000000006,87.6,96.5,95.9,98.9,1301.9000000000001,null,17,257,"สมุทรปราการ","กรุงเทพมหานคร"]
[18,"พิษณุโลก","พิษณุโลก",109.8,121.2,162.80000000000001,186.8,179.9,149.4,141.19999999999999,129.1,120,122.6,113.3,111.5,1647.5999999999997,null,18,274,"สระแก้ว","สระแก้ว"]
[19,"เพชรบูรณ์","เพชรบูรณ์",121.4,132.69999999999999,174,184.3,156.4,130.1,117.9,106.1,105.2,119,122.7,126.5,1596.3000000000002,null,19,302,"กาญจนบุรี","กาญจนบุรี"]
[20,"หล่มสัก","เพชรบูรณ์",124.3,131.6,164.7,171.2,165,143,134.30000000000001,126.2,122.7,128.6,124.2,124.3,1660.1,null,20,319,"นครปฐม","กาญจนบุรี"]
[21,"วิเชียรบุรี","เพชรบูรณ์",129,143.30000000000001,187.5,186.7,166.3,144.69999999999999,136.30000000000001,126.1,117.4,126.4,126.7,130.5,1720.9,null,21,329,"ประจวบคีรีขันธ์","ประจวบคีรีขันธ์"]
[22,"กำแพงเพชร","กำแพงเพชร",106.2,118.1,149.30000000000001,166.2,155.6,119.9,115.2,106.2,105.3,98.5,91.7,97.2,1429.4,null,22,338,"เพชรบุรี","เพชรบุรี"]
[23,"หนองคาย","หนองคาย",107.6,115.6,150.69999999999999,170.4,147.5,117.7,113.5,102.6,111,120,114.4,107.8,1478.8,null,23,348,"ราชบุรี","กาญจนบุรี"]
[24,"เลย","เลย",113.3,124.9,159,168,149.30000000000001,134.69999999999999,128,115.9,104.9,108.3,102.6,103.9,1512.8000000000002,null,24,358,"สมุทรสงคราม","เพชรบุรี"]
[25,"อุดรธานี","อุดรธานี",127.7,136.80000000000001,177.2,187.8,171.2,146.19999999999999,137.19999999999999,130.5,122.2,130.1,125.3,123.2,1715.4,null,25,359,"สมุทรสาคร","กรุงเทพมหานคร"]
[26,"สกลนคร","สกลนคร",151.4,154.19999999999999,198.2,195,157.69999999999999,132.5,132.1,122,120.4,142.19999999999999,142.30000000000001,140.30000000000001,1788.3,null,26,363,"สุพรรณบุรี","สุพรรณบุรี"]
[27,"นครพนม","นครพนม",114.9,116.5,147.4,152.9,135.6,102.1,101.2,96.1,104.4,116.8,113.8,109.3,1411,null,27,404,"กำแพงเพชร","กำแพงเพชร"]
[28,"ขอนแก่น","ขอนแก่น",134.80000000000001,143.69999999999999,192.1,196.5,178.4,154.69999999999999,150.6,131.69999999999999,121.8,131.19999999999999,132.69999999999999,133.69999999999999,1801.9,null,28,412,"เชียงราย","เชียงราย"]
[29,"มุกดาหาร","มุกดาหาร",125,128.6,172.2,170,151,124.9,121.3,110,113.1,122.1,122.2,118.6,1578.9999999999998,null,29,413,"เชียงใหม่","เชียงใหม่"]
[30,"โกสุมพิสัย","มหาสารคาม",129.19999999999999,139,182.3,189.1,166.8,147.30000000000001,143,130.30000000000001,122.1,129.30000000000001,124.9,126.1,1729.3999999999999,null,30,416,"ตาก","ตาก"]
[31,"กมลาไสย","กาฬสินธุ์",126.6,135.1,172.6,141.9,128.9,109.2,116.5,124.9,100.3,127.9,132,138.30000000000001,1554.2,null,31,423,"นครสวรรค์","นครสวรรค์"]
[32,"ชัยภูมิ","ชัยภูมิ",147,155.5,206.7,208.2,180.1,158.4,154.5,138.9,127.8,142.9,148.5,149.80000000000001,1918.3000000000002,null,32,426,"น่าน","น่าน"]
[33,"ร้อยเอ็ด","ร้อยเอ็ด",137.30000000000001,138.1,179.1,177.3,156.4,131.6,130.30000000000001,116.4,104.1,124.3,129.5,134.9,1659.3,null,33,436,"พิจิตร","พิษณุโลก"]
[34,"อุบลราชธานี","อุบลราชธานี",154.4,154.69999999999999,194.7,194.2,176.6,146.4,144.9,132.5,120,136.30000000000001,146.30000000000001,152.80000000000001,1853.8,null,34,437,"พิษณุโลก","พิษณุโลก"]
[35,"นครราชสีมา","นครราชสีมา",137.30000000000001,143.9,183.2,183.4,174.8,163.4,164.3,151,125.8,125.6,128.6,135.9,1817.2,null,35,439,"เพชรบูรณ์","เพชรบูรณ์"]
[36,"โชคชัย","นครราชสีมา",128.6,137.9,180.7,182.1,175.6,164.1,162.9,153.19999999999999,134.69999999999999,128.19999999999999,120.2,124.6,1792.8000000000002,null,36,440,"แพร่","แพร่"]
[37,"สุรินทร์","สุรินทร์",161.9,158.4,196.6,186.3,172.3,150.69999999999999,151.9,145.19999999999999,124.7,138.19999999999999,149.69999999999999,155.5,1891.4000000000003,null,37,443,"แม่ฮ่องสอน","แม่ฮ่องสอน"]
[38,"ท่าตูม","สุรินทร์",145.6,148.30000000000001,190.6,192,177.6,153.4,150.69999999999999,137.5,121.1,130.80000000000001,138.19999999999999,141.69999999999999,1827.5,null,38,450,"ลำปาง","ลำปาง"]
[39,"นางรอง","บุรีรัมย์",125.8,130.5,163.6,160.69999999999999,150.69999999999999,133.5,131.80000000000001,123.5,109.1,111.8,114.6,121.2,1576.7999999999997,null,39,451,"ลำพูน","ลำพูน"]
[40,"นครสวรรค์","นครสวรรค์",144,174.3,233.2,243.5,206.8,179.5,169.5,151,130.1,126.6,126.5,133,2017.9999999999998,null,40,462,"สุโขทัย","สุโขทัย"]
[41,"สุพรรณบุรี","สุพรรณบุรี",129.5,138.4,181.1,195.9,188.7,169,163.6,155.4,135.5,133,130,133.4,1853.5,null,41,469,"อุตรดิตถ์","อุตรดิตถ์"]
[42,"ลพบุรี","ลพบุรี",151.4,151.80000000000001,194.9,194.2,184.3,163.80000000000001,158,144.9,131.9,127.6,143.5,159.5,1905.8,null,42,470,"อุทัยธานี","นครสวรรค์"]
[43,"บัวชุม","บัวชุม",152.80000000000001,167.4,211.8,204.4,176.1,155.80000000000001,147.80000000000001,133.19999999999999,116.8,124.2,136.6,148.1,1874.9999999999998,null,43,472,"พะเยา","พะเยา"]
[44,"สถานีทดลองเกษตร",null,"NO OBSERVATION",0,0,0,0,0,0,0,0,0,0,0,0,null,44,503,"กาฬสินธุ์","กมลาไสย"]
[45,"กาญจนบุรี","กาญจนบุรี",140,150.4,205.8,215.7,190.4,157.5,160.4,154,138.1,122.6,128,142.19999999999999,1905.1,null,45,505,"ขอนแก่น","ขอนแก่น"]
[46,"ทองผาภูมิ","กาญจนบุรี",118.4,137.1,174.9,176.9,139.4,95.1,90.1,84.9,102.2,109.3,103,108.8,1440.1,null,46,510,"ชัยภูมิ","ชัยภูมิ"]
[47,"กรุงเทพมหานคร","กรุงเทพมหานคร",135.6,143.6,183.6,183.3,173.7,151.4,150.30000000000001,151.6,128.6,122.8,124.4,133.6,1782.4999999999998,null,47,517,"ยโสธร","ร้อยเอ็ด"]
[48,"คลองเตย","กรุงเทพมหานคร","-","-","-","-","-","-","-","-","-","-","-","-",0,null,48,520,"นครพนม","นครพนม"]
[49,"ท่าอากาศยานดอนเมือง","กรุงเทพมหานคร","NO OBSERVATION",0,0,0,0,0,0,0,0,0,0,0,0,null,49,521,"นครราชสีมา","นครราชสีมา"]
[50,"ปราจีนบุรี","ปราจีนบุรี",137.80000000000001,132.4,169,157.30000000000001,147,126.7,133,126,122.8,125.1,136.19999999999999,140.4,1653.7,null,50,527,"บุรีรัมย์","นางรอง"]
[51,"กบินทร์บุรี","ปราจีนบุรี",146.5,147.80000000000001,185.5,178.4,154.4,129.69999999999999,130.19999999999999,127.3,122.5,126.8,135.4,151.9,1736.4,null,51,542,"มหาสารคาม","โกสุมพิสัย"]
[52,"อรัญประเทศ","สระแก้ว",141.69999999999999,144.80000000000001,187.9,181,163.1,144.4,141.9,140,124.2,123.6,124.8,131.9,1749.3,null,52,545,"ร้อยเอ็ด","ร้อยเอ็ด"]
[53,"สระแก้ว","สระแก้ว",140.19999999999999,140.9,168.8,136.19999999999999,135.69999999999999,107.5,102.1,122.6,108.1,120.4,134.19999999999999,146.9,1563.6000000000001,null,53,552,"เลย","เลย"]
[54,"ชลบุรี","ชลบุรี",143.19999999999999,142.1,178.8,175.2,162.30000000000001,153.1,153.4,152.9,133.1,127.6,135.80000000000001,150.5,1807.9999999999998,null,54,553,"ศรีสะเกษ","อุบลราชธานี"]
[55,"เกาะสีชัง","ชลบุรี","NO OBSERVATION",0,0,0,0,0,0,0,0,0,0,0,0,null,55,554,"สกลนคร","สกลนคร"]
[56,"พัทยา","ชลบุรี",137.9,143.69999999999999,178.8,174.1,164.7,161.80000000000001,159.9,160.4,131.1,114.9,129.1,144.30000000000001,1800.7,null,56,565,"สุรินทร์","สุรินทร์"]
[57,"สัตหีบ","ชลบุรี","NO OBSERVATION",0,0,0,0,0,0,0,0,0,0,0,0,null,57,566,"หนองคาย","หนองคาย"]
[58,"แหลมฉบัง","ชลบุรี","-","-","-","-","-","-","-","-","-","-","-","-",0,null,58,568,"อุดรธานี","อุดรธานี"]
[59,"ระยอง","ระยอง",139.9,140.4,170.8,169.6,148.5,141.69999999999999,147.6,146.30000000000001,115.2,120,140.69999999999999,151.80000000000001,1732.5,null,59,571,"อุบลราชธานี","อุบลราชธานี"]
[60,"จันทบุรี","จันทบุรี",147.4,131.19999999999999,153.19999999999999,141.30000000000001,124,104.1,110.4,104.2,93.9,118.4,141.6,155.19999999999999,1524.9,null,60,573,"มุกดาหาร","มุกดาหาร"]
[61,"คลองใหญ่","จันทบุรี",142,132,155.9,149.1,136,99.7,103.6,99.5,101.5,110.6,129.4,144.30000000000001,1503.6000000000001,null,61,575,"หนองบัวลำภู","อุดรธานี"]
[62,"เพชรบุรี","เพชรบุรี",118,128.6,170.3,166.4,160,132.80000000000001,132.5,126.1,118.7,102.1,103.9,114,1573.3999999999999,null,62,576,"อำนาจเจริญ","มุกดาหาร"]
[63,"ประจวบคีรีขันธ์","ประจวบคีรีขันธ์",139,132.9,165.7,173.2,163.9,138.5,144.4,134,130.69999999999999,120.9,137.6,151.9,1732.7,null,63,601,"กระบี่","นครศรีธรรมราช"]
[64,"หัวหิน","ประจวบคีรีขันธ์",132.4,139.9,172.7,172.7,165.1,143.4,143.80000000000001,140.19999999999999,129.1,121.2,125.4,139.69999999999999,1725.6000000000001,null,64,611,"ชุมพร","ชุมพร"]
[65,"ชุมพร","ชุมพร",112.4,114.4,145.19999999999999,145.30000000000001,128.19999999999999,109.7,112.6,108.1,109,100.4,92.8,102.5,1380.6000000000001,null,65,614,"ตรัง","ท่าอากาศยานตรัง"]
[66,"สุราษฎร์ธานี","สุราษฎร์ธานี",125.5,134.80000000000001,171.4,159.9,143.80000000000001,136,136.9,131.69999999999999,121.1,113.2,96.8,101.4,{"$f":"SUM(D69:O69)","v":1572.5},null,66,622,"นครศรีธรรมราช","นครศรีธรรมราช"]
[67,"ท่าอากาศยานสุราษฎร์ธานี","สุราษฎร์ธานี",131.80000000000001,143.6,183.4,163.1,134.9,124,129,125.9,114.3,108.1,98.7,109.9,1566.7,null,67,625,"นราธิวาส","นราธิวาส"]
[68,"เกาะสมุย","สุราษฎร์ธานี",139.5,148.6,182.3,172.6,161,145.6,150.69999999999999,149.5,140.30000000000001,122.2,115.4,127,1754.7,null,68,631,"ปัตตานี","ท่าอากาศยานปัตตานี"]
[69,"พระแสง","สุราษฎร์ธานี",102.5,123.2,130.4,116.4,104.2,92,118.8,107.5,106.9,94.7,78.8,92.6,1267.9999999999998,null,69,634,"พังงา","ท่าอากาศยานภูเก็ต"]
[70,"นครศรีธรรมราช","นครศรีธรรมราช",108.5,111.5,140.4,135.9,130.80000000000001,126.6,132.1,131.69999999999999,116.2,105.4,84.4,89.3,1412.8000000000002,null,70,635,"พัทลุง","ท่าอากาศยานตรัง"]
[71,"ขนอม","นครศรีธรรมราช","-","-","-","-","-","-","-","-","-","-","-","-",0,null,71,641,"ภูเก็ต","ภูเก็ต"]
[72,"ฉวาง","นครศรีธรรมราช",102.7,123.6,126.3,107.5,111.9,92.6,111.7,111.8,105.7,92.6,53.7,84.3,1224.4000000000001,null,72,644,"ยะลา","นราธิวาส"]
[73,"สะเดา","สงขลา",122.4,108.5,145.1,107.9,130.9,103,124.2,126.2,128.9,98.3,69.7,81,1346.1000000000001,null,73,646,"ระนอง","ระนอง"]
[74,"สงขลา","สงขลา",156.69999999999999,162.9,188.7,177,158.6,140.69999999999999,145.19999999999999,151.1,140,127.6,102.8,119.9,1771.1999999999998,null,74,655,"สงขลา","สงขลา"]
[75,"ท่าอากาศยานหาดใหญ่","สงขลา","NO OBSERVATION",0,0,0,0,0,0,0,0,0,0,0,0,null,75,656,"สตูล","สตูล"]
[76,"ท่าอากาศยานปัตตานี","ปัตตานี",129.5,138.6,167.7,159.80000000000001,148.9,137.1,140.30000000000001,144.19999999999999,135.5,125,103.5,102,1632.1000000000001,null,76,664,"สุราษฎร์ธานี","สุราษฎร์ธานี"]
[77,"นราธิวาส","นราธิวาส",115.7,117.5,160.19999999999999,155.80000000000001,141.5,124.7,128.19999999999999,126.9,124.8,117,89.1,88.3,1489.7,null,77,null,"บึงกาฬ","หนองคาย"]
[78,"ระนอง","ระนอง",119.7,127.5,160.1,135.4,109,95.9,100.8,91.8,83.6,85,83.4,109,1301.1999999999998]
[79,"ตะกั่วป่า","ภูเก็ต",137.1,139.5,155.6,148.1,124.4,117.1,116.1,112.7,102,105.6,103.9,120.3,1482.4]
[80,"ภูเก็ต","ภูเก็ต",154.4,151.80000000000001,168.6,146.30000000000001,121.7,111.6,111.2,111.5,102.4,106.6,110,133.30000000000001,1529.4000000000003]
[81,"ท่าอากาศยานภูเก็ต","ภูเก็ต",160.19999999999999,157.30000000000001,188.4,160.9,138.30000000000001,128.19999999999999,133.4,136.9,118.9,117.6,118.8,137.9,1696.8000000000002]
[82,"เกาะลันตา","กระบี่","NO OBSERVATION",0,0,0,0,0,0,0,0,0,0,0,0]
[83,"กระบี่","กระบี่","-","-","-","-","-","-","-","-","-","-","-","-",0]
[84,"ท่าอากาศยานตรัง","ตรัง",159.30000000000001,161.30000000000001,176.3,146.9,120.8,109,111,111.7,100.9,100.6,94.4,118.8,1511]
[85,"สตูล","สตูล",178.3,167.3,182.6,150.80000000000001,135.30000000000001,123.8,128.1,128.9,115.7,114.8,108.3,133.9,1667.8]

{"sheet":"ฝนใช้การ","index":13,"n_rows":78,"n_cols":29,"rows_kept":78,"cut":false,"hidden":true,"merged":[[0,0,1,0],[0,1,0,13],[0,15,1,15],[0,16,0,28]]}
["จังหวัด","ปริมาณฝนใช้การของข้าว - มม./เดือน   (จากฐานข้อมูลโปรแกรมเดิม)",null,null,null,null,null,null,null,null,null,null,null,null,null,"จังหวัด","ปริมาณฝนใช้การของพืชไร่ - มม./เดือน   (จากฐานข้อมูลโปรแกรมเดิม)"]
[null,"มค.","กพ.","มีค.","เมย.","พค.","มิย.","กค.","สค.","กย.","ตค.","พย.","ธค.","รวม",null,null,"มค.","กพ.","มีค.","เมย.","พค.","มิย.","กค.","สค.","กย.","ตค.","พย.","ธค.","รวม"]
["กำแพงเพชร",0.8,14,18.100000000000001,41.3,200,170.1,148.4,155.69999999999999,252.3,208.9,66.5,2,1278.0999999999999,null,"กำแพงเพชร",0.8,11.5,12.5,29.1,88.918918918918905,75.625540540540527,65.8,98.1,106.9,61.4,45.925414364640879,2,{"$f":"SUM(Q3:AB3)","v":598.56987382410034}]
["เชียงราย",12.2,7.8,19.100000000000001,89.8,202.9,208.4,273.7,305,249.5,142.4,60.5,24.6,1595.9,null,"เชียงราย",12.2,7.8,15.5,56.8,90.208243243243231,92.653513513513502,56.7,102.8,92.1,52.8,41.781767955801101,24.6,645.94352471255786]
["เชียงใหม่",6.9,4.5999999999999996,13,50.1,158.4,131.6,160.80000000000001,227,220.7,121.9,52.8,19.8,1167.5999999999999,null,"เชียงใหม่",6.9,4.5999999999999996,13,34.200000000000003,70.423783783783776,58.508648648648638,75,136,121.8,69.900000000000006,36.46408839779005,19.8,646.5965208302224]
["ตาก",5.9,4.7,20.3,35.6,173.7,113.8,92.4,115.8,219.4,206.7,60.4,5.8,1054.5,null,"ตาก",5.9,4.7,17.7,24,77.226081081081063,50.59486486486486,58.1,80.599999999999994,130.69999999999999,75,41.712707182320436,5.8,572.03365312826622]
["น่าน",8.1,14.1,27.5,103.1,175,155.6,205.4,235.7,204,94.5,19.100000000000001,5.9,1248,null,"น่าน ",8.1,11,17.2,59.4,77.804054054054049,69.17891891891891,58.5,106.1,95,54.6,13.19060773480663,5.9,575.97358070777955]
["พะเยา",2.5,6.2,11.5,104.9,179.1,99.1,137.80000000000001,163.6,189.3,116.5,59.4,4.3,1074.2,null,"พะเยา",2.5,6.2,11.5,64.400000000000006,79.626891891891887,44.059324324324315,69.5,107.3,112.9,64.8,41.022099447513803,4.3,608.10831566372997]
["พิจิตร",6.8,15.4,22.3,57,151,148.9,167.5,206.9,247.3,119.9,24,2.7,1169.7,null,"พิจิตร",6.8,11.5,16.2,36.200000000000003,67.133783783783784,66.200135135135127,71.3,129.4,115.8,66.5,16.574585635359114,2.7,606.30850455427799]
["พิษณุโลก",6.6,11.9,29.1,51,188.5,183.3,189.8,242.1,231,157,30.7,5.5,1326.5,null,"พิษณุโลก",6.6,11.9,22.6,34.299999999999997,83.806081081081075,81.494189189189186,75,136,121.8,69.900000000000006,21.201657458563531,5.5,670.10192772883374]
["เพชรบูรณ์",7,17.399999999999999,34.5,70.3,157.4,153.1,168.5,189.3,208.9,98.3,13.2,3.8,1121.7,null,"เพชรบูรณ์ ",7,12.9,25,47.3,69.979189189189185,68.067432432432426,73.2,122.5,118.8,68.2,9.1160220994475125,3.8,625.86264372106905]
["แพร่",7,5.4,20.8,71.599999999999994,179.2,121.8,144.19999999999999,224.4,191.3,97.3,21.1,3.2,1087.3,null,"แพร่",7,5.4,16.3,47.2,79.671351351351333,54.151621621621615,84.1,152.6,122.4,59.4,14.571823204419889,3.2,645.9947961773928]
["แม่ฮ่องสอน",8.4,2,5.3,50.4,180.1,185,209.5,238.9,199.3,114.7,37.1,15.2,1245.9000000000001,null,"แม่ฮ่องสอน",8.4,2,5.3,34.200000000000003,80.071486486486478,82.25,71.3,129.4,115.8,66.5,25.621546961325965,15.2,636.04303344781249]
["ลำปาง",6.2,6.5,18.8,65.900000000000006,158.69999999999999,118.2,132.4,198.7,208.8,119.4,34.9,5.3,1073.8,null,"ลำปาง",6.2,6.5,12.1,40.299999999999997,70.557162162162143,52.55108108108108,67.7,122.7,109.9,63.1,24.102209944751376,5.3,581.01045318799459]
["ลำพูน",2.5,2,5.2,41.1,162.30000000000001,135.80000000000001,111.9,140.30000000000001,190.2,121.1,64.400000000000006,3.9,980.7,null,"ลำพูน",2.5,2,5.2,28.1,72.157702702702707,60.375945945945944,68.7,97.3,121,71.599999999999994,44.475138121546962,3.9,577.30878677019552]
["สุโขทัย",6.2,8.6,19.3,49.8,162,139.1,137.9,180.5,238.5,141.19999999999999,25,4.9000000000000004,1113,null,"สุโขทัย",6.2,8.6,16.399999999999999,34.4,72.024324324324311,61.843108108108098,76.8,118.9,124.7,71.599999999999994,17.265193370165743,4.9000000000000004,613.63262580259823]
["อุตรดิตถ์",11,12.6,29.2,108,204.7,201.8,233.1,271,175.6,80.400000000000006,22.7,5.9,1356,null,"อุตรดิตถ์",11,12.6,22.9,65.3,91.008513513513506,89.71918918918918,73.2,132.69999999999999,118.8,49.4,15.676795580110495,5.9,688.20449828281312]
["กรุงเทพมหานคร",9.1,29.9,28.6,64.7,215.3,149.30000000000001,154.5,196.7,289.2,231.2,48.1,9.6999999999999993,1426.3,null,"กรุงเทพฯ",5.9,12.7,14.1,35.1,95.721216216216206,66.37797297297297,82.3,116,133.6,76.7,33.218232044198892,9.6999999999999993,681.41742123338815]
["ชัยนาท",5.7,10.8,28.5,50.3,117.4,90.3,123.1,146.9,247.7,145.80000000000001,31.3,5,1002.8,null,"ชัยนาท",5.7,10.8,19,34.299999999999997,52.195405405405403,40.146891891891883,73.599999999999994,97.5,127.7,73.3,21.616022099447513,5,560.85831939674472]
["นครสวรรค์",9.8000000000000007,14.9,30,60.9,138.69999999999999,117.1,134.1,194.9,223.7,144.4,35.299999999999997,7.3,1111.0999999999999,null,"นครสวรรค์",9.8000000000000007,12.7,25.7,42.2,61.665270270270256,52.062027027027021,85.5,130,148.5,85.2,24.378453038674028,7.3,685.00575033597136]
["นนทบุรี",5.9,16.7,19.7,53.2,140,131.4,147.19999999999999,169.5,251.5,188.8,45.5,8.1999999999999993,1177.5999999999999,null,"นนทบุรี",5.9,12.7,14.1,35.1,62.243243243243235,58.419729729729724,82.3,116,133.6,76.7,31.422651933701651,8.1999999999999993,636.68562490667478]
["ปทุมธานี",5.5,17,21.2,65.900000000000006,147.69999999999999,156.6,178.9,200.5,270.2,190.5,41.5,8,1303.5,null,"ปทุมธานี",5.5,13.6,16.600000000000001,42.2,65.666621621621616,69.623513513513501,82.3,132,133.6,76.7,28.660220994475132,8,674.45035612961033]
["ลพบุรี",8.6999999999999993,16,25.8,72.3,163.30000000000001,136.1,147.5,172.2,248.8,157,37.5,8.1,1193.3,null,"ลพบุรี",8.6999999999999993,12.8,19.100000000000001,47.9,72.602297297297298,60.509324324324318,87.8,117.8,142.6,81.8,25.897790055248613,8.1,685.6094116768702]
["สมุทรปราการ",10.1,23.5,20.6,58.8,165.9,132.1,131.4,166.4,261.39999999999998,200.9,44.1,7.9,1223.0999999999999,null,"สมุทรปราการ",5.5,13.6,16.600000000000001,42.2,73.758243243243243,58.73094594594594,82.3,132,133.6,76.7,30.455801104972373,7.9,673.34499029416156]
["สมุทรสงคราม",5.3,8.9,13.5,22.7,119.9,110.4,110.7,133.4,210.6,225.4,92.9,6.1,1059.8,null,"สมุทรสงคราม",5.5,13.6,16.600000000000001,42.2,53.306891891891887,49.083243243243238,82.3,132,133.6,76.7,64.157458563535911,6.1,675.14759369867113]
["สมุทรสาคร",5.4,18.399999999999999,18.399999999999999,47.1,142,121.6,135.4,149,233.2,216,74,10.4,1170.9000000000001,null,"สมุทรสาคร",5.5,13.6,16.600000000000001,42.2,63.132432432432424,54.062702702702694,82.3,132,133.6,76.7,51.1049723756906,10.4,681.20010751082577]
["สระบุรี",4.5999999999999996,19.899999999999999,28.4,65.3,153.5,180.9,197.4,214,268.3,153.69999999999999,40.700000000000003,7.9,1334.6,null,"สระบุรี",4.5999999999999996,16.3,19.5,41.9,68.245270270270268,80.427162162162162,76.8,139.30000000000001,124.7,71.599999999999994,28.107734806629832,7.9,679.3801672390623]
["สิงห์บุรี",7,12.5,26.6,45.7,118.2,105.7,127.2,151.6,245.4,141.69999999999999,26.7,4,1012.3,null,"สิงห์บุรี ",7,12.5,18.600000000000001,29.5,52.55108108108108,46.993648648648644,74.599999999999994,105,133.6,76.7,18.439226519337012,4,579.48395624906675]
["พระนครศรีอยุธยา",5.6,14.7,21.6,58.1,148.4,146.69999999999999,160.4,165.2,253.5,169.7,37.299999999999997,7.1,1188.3,null,"อยุธยา",5.6,12,16.399999999999999,36.6,65.977837837837839,65.222027027027011,80.5,108.9,130.69999999999999,75,25.759668508287287,7.1,629.75953337315218]
["อ่างทอง",5.2,12.1,21.4,62.7,131.6,123,134.69999999999999,146.4,252.2,162.30000000000001,35.1,5.2,1091.9000000000001,null,"อ่างทอง",5.2,12.1,16.7,41.3,58.508648648648638,54.685135135135127,77.900000000000006,101.2,136.6,78.400000000000006,24.240331491712706,5.2,612.03411527549645]
["อุทัยธานี",8.6999999999999993,17.899999999999999,36.5,68.400000000000006,155.5,127.1,142.19999999999999,167.4,263.7,173.6,46.2,4.2,1211.4000000000001,null,"อุทัยธานี ",8.6999999999999993,12.5,25,42.8,69.13445945945945,56.507972972972965,67.7,102.5,109.9,63.1,31.906077348066297,4.2,593.94850978049885]
["กาญจนบุรี",5.0999999999999996,14.4,28.3,75.400000000000006,152.9,82.2,95.3,102.3,214.2,198.2,70.2,8.6,1047.0999999999999,null,"กาญจนบุรี ",5.0999999999999996,12,20,48.8,67.978513513513505,36.545675675675675,59.6,75.400000000000006,142.6,81.8,48.480662983425411,8.6,606.9048521726146]
["นครปฐม",3,8.9,14.6,44.6,123.2,119.2,126.2,138.80000000000001,234.4,205.3,52.2,6.3,1076.7,null,"นครปฐม ",3,8.9,12,29.1,54.774054054054048,52.99567567567567,74.099999999999994,92.7,127.7,73.3,36.049723756906076,6.3,570.9194534866358]
["ราชบุรี",4.3,8.1,13.3,40,143.5,110,122.3,132.9,210.4,209.2,76.8,5.9,1076.7,null,"ราชบุรี ",4.3,8.1,12,27.7,63.799324324324317,48.905405405405403,71.3,90.1,115.8,66.5,53.038674033149164,5.9,567.4434037628788]
["สุพรรณบุรี",6.7,8.9,18,65.099999999999994,143.4,101.4,113.9,136.1,254.1,192.8,39.799999999999997,11.2,1091.4000000000001,null,"สุพรรณบุรี ",6.7,8.9,13.2,42,63.754864864864864,45.081891891891892,70.2,95.2,142.6,81.8,27.48618784530386,11.2,608.12294460206067]
["จันทบุรี",12.3,45,55.1,111.1,294.5,326.3,317.89999999999998,326.39999999999998,322.5,256.7,61.2,12.4,2141.4,null,"จันทบุรี ",12.3,31.8,38.5,68.5,130.93310810810809,145.07121621621621,65.8,119.4,106.9,61.4,42.26519337016574,12.4,835.26951769448999]
["ฉะเชิงเทรา",6.8,16.7,28.7,71.2,146.6,143.5,158.6,196,253.2,176.9,39,7.2,1244.4000000000001,null,"ฉะเชิงเทรา",6.8,12,18.5,46.6,65.177567567567564,63.799324324324317,73.2,122.9,118.8,68.2,26.93370165745856,7.2,630.11059354935048]
["ชลบุรี",10.6,18.899999999999999,31.4,78.5,166.6,133.19999999999999,133.9,168.8,261.5,208.8,65.099999999999994,8.9,1286.2,null,"ชลบุรี ",10.6,13,23.5,48.9,74.069459459459452,59.22,84.1,113,136.6,78.400000000000006,44.958563535911594,8.9,695.248022995371]
["ตราด",22.8,44.9,76.400000000000006,137.6,283,338,334.9,344.1,331.8,269.60000000000002,72.900000000000006,13.5,2269.5,null,"ตราด ",16,34.4,55.4,82.5,125.82027027027026,150.27297297297295,73.2,132.69999999999999,118.8,68.2,50.34530386740331,13.5,921.13854711064664]
["นครนายก",6.1,20.3,25.7,77.7,177.1,213.8,246.9,271.8,290.7,174.7,39.299999999999997,7.1,1551.2,null,"นครยายก",6.1,15.4,17.2,48.3,78.737702702702691,95.054324324324327,67.7,122.7,109.9,63.1,27.140883977900547,7.1,658.43291100492763]
["ปราจีนบุรี",8.9,25.1,55.2,128.1,221.2,258,275.2,303.89999999999998,297.3,181.1,35.799999999999997,8.1,1797.9,null,"ปราจีนบุรี ",8.9,17.2,39.799999999999997,74.400000000000006,98.344324324324305,114.7054054054054,78.599999999999994,142.6,127.7,73.3,24.723756906077341,8.1,808.37348663580713]
["ระยอง",17.3,40.200000000000003,65.099999999999994,65.5,189.8,149.30000000000001,132.5,128.4,235.6,212.3,83.6,3.8,1323.4,null,"ระยอง ",11.3,31.3,47.5,42.1,84.384054054054047,66.37797297297297,86,89.1,139.6,80.099999999999994,57.734806629834239,3.8,739.29683365686128]
["สระแก้ว",7,22.6,43.6,87.9,194.1,215.2,218.9,247.6,263.60000000000002,169,43.8,7.2,1520.5,null,"สระแก้ว ",8.9,17.2,39.799999999999997,74.400000000000006,86.295810810810806,95.676756756756745,78.599999999999994,142.6,127.7,73.3,30.248618784530379,7.2,781.92118635209795]
["กาฬสินธุ์",3.8,15,27.5,64.599999999999994,175.7,208.2,210.4,242.5,247.4,69.7,6.9,2.4,1274.0999999999999,null,"กาฬสินธุ์ ",3.8,12,18.899999999999999,41.9,78.115270270270258,92.564594594594581,82.3,149.30000000000001,133.6,42.9,4.7651933701657452,2.4,662.54505823503052]
["ขอนแก่น",4.4000000000000004,14.7,34.700000000000003,66.400000000000006,173.6,179.5,165.8,196,234.6,107.3,15.8,3.3,1196.0999999999999,null,"ขอนแก่น ",4.4000000000000004,12,26.1,42.8,77.181621621621616,79.804729729729715,91.4,137,148.5,65.599999999999994,10.91160220994475,3.3,698.99795356129607]
["ชัยภูมิ",3.3,20.3,41.8,87.5,153.9,142.30000000000001,133.69999999999999,130.30000000000001,250.8,146.19999999999999,19.5,4.2,1133.8,null,"ชัยภูมิ ",3.3,17.2,33.200000000000003,60.2,68.42310810810811,63.265810810810812,82.7,95.8,148.5,85.2,13.46685082872928,4.2,675.45576974764833]
["นครพนม",2.7,21.3,46.8,106.5,229.9,322.5,320.60000000000002,335.9,256.39999999999998,77.599999999999994,8.4,1.3,1729.9,null,"นครพนม",2.7,15.6,32.200000000000003,68,102.21229729729728,143.38175675675674,67.7,122.7,109.9,45.7,5.8011049723756898,1.3,717.19515902642968]
["นครราชสีมา",4.5999999999999996,20.5,41.6,65.8,152.1,104.5,122.5,128,233.2,152.1,31,3.6,1059.5,null,"นครราชสีมา",4.5999999999999996,16.5,31.3,42.3,67.622837837837835,46.460135135135133,74.5,89.3,142.6,81.8,21.408839779005522,3.6,621.9918127519785]
["บุรีรัมย์",3,13.6,33.700000000000003,77.5,163.69999999999999,163.80000000000001,164.5,182,268,139.9,26.1,1.3,1237.0999999999999,null,"บุรีรัมย์ ",3,13.6,25.6,49.5,72.780135135135126,72.824594594594586,87.8,122.9,142.6,81.8,18.024861878453038,1.3,691.72959160818277]
["มหาสารคาม",4,13.8,28.6,65.599999999999994,163.1,165,163,194.3,251.5,80.599999999999994,9.8000000000000007,1.3,1140.5999999999999,null,"มหาสารคาม ",4,12,19.399999999999999,42.4,72.513378378378363,73.358108108108098,84.1,127.7,136.6,52.4,6.7679558011049723,1.3,632.53944228759133]
["มุกดาหาร",3.2,15.3,30.1,87.4,181.6,263.5,219.4,289.60000000000002,240.9,93.3,8.8000000000000007,1.2,1434.3,null,"มุกดาหาร ",3.2,12,23,54.2,80.738378378378371,117.15067567567566,75,136,121.8,57,6.0773480662983426,1.2,687.3664021203524]
["ยโสธร",3.4,9.8000000000000007,25.6,71.2,197.7,209.4,227.2,265.8,266.60000000000002,87.2,9.8000000000000007,0.2,1373.9,null,"ยโสธร ",3.4,9.8000000000000007,17.3,46.5,87.896351351351342,93.098108108108107,73.2,132.69999999999999,118.8,50.1,6.7679558011049723,0.2,639.76241526056447]
["ร้อยเอ็ด",3,21,31,87.7,200.1,206.2,195.9,244.6,265.10000000000002,101.6,11.7,1.2,1369.1,null,"ร้อยเอ็ด ",3,16.600000000000001,23.7,54.8,88.963378378378366,91.675405405405385,76.8,139.30000000000001,124.7,71.599999999999994,8.0801104972375679,1.2,700.41889428102138]
["เลย",6.4,17.600000000000001,37.6,95.9,209.8,164.8,159.5,177.5,220.1,117.4,17.600000000000001,3.9,1228.0999999999999,null,"เลย ",6.4,12.3,25.3,60.5,93.275945945945935,73.269189189189191,73.2,113.6,118.8,68.2,12.154696132596685,3.9,660.89983126773177]
["ศรีสะเกษ",1.3,7.2,26.6,74,171.9,182.8,186.6,225.6,247.4,127,22.4,1.3,1274.0999999999999,null,"ศรีสะเกษ ",1.3,7.2,17.5,48.4,76.425810810810802,81.271891891891883,80.5,145.9,130.69999999999999,75,15.469613259668504,1.3,680.967315962371]
["สกลนคร",4.4000000000000004,18.600000000000001,44.9,93.7,226.8,252.9,223.3,297.89999999999998,224.5,80.3,7.1,2.7,1477.1,null,"สกลนคร ",4.4000000000000004,13.4,34.700000000000003,63.2,100.83405405405405,112.43797297297296,87.8,159.19999999999999,142.6,52.8,4.9033149171270711,2.7,778.97534194415414]
["สุรินทร์",2.7,11,20.8,92.3,176,178.3,201.1,209.2,254.9,124.9,22.5,1.7,1295.4000000000001,null,"สุรินทร์ ",2.7,11,17.7,61.9,78.24864864864864,79.271216216216217,95.1,168,154.4,74.8,15.538674033149169,1.7,760.35853889801399]
["หนองคาย",7,10.5,30.7,89.5,230.2,256,237,286.5,254.1,76.599999999999994,12.2,3.3,1493.6,null,"หนองคาย ",7,10.5,22.5,57,102.34567567567566,113.8162162162162,71.3,129.4,115.8,45.6,8.4254143646408828,3.3,686.98730625653275]
["หนองบัวลำภู",5.5,19.399999999999999,36.5,82.7,214.8,223.2,216.3,254.5,239.8,84.2,8.8000000000000007,3.3,1389,null,"หนองบัวลำพู ",7,10.5,22.5,57,95.498918918918918,99.2335135135135,71.3,129.4,115.8,45.6,6.0773480662983426,3.3,663.20978049873065]
["อำนาจเจริญ",3.3,15.1,32.5,82,177.7,211.2,198.6,241.3,252.8,108.9,12.7,1.9,1338,null,"อำนาจเจริญ ",0.7,11.4,25.2,57.1,79.00445945945944,93.898378378378368,93.3,169.2,151.5,60.5,8.7707182320441976,1.9,752.47355606988197]
["อุดรธานี",5.5,19.399999999999999,36.5,82.7,214.8,223.2,216.3,254.5,239.8,84.2,8.8000000000000007,3.3,1389,null,"อุดรธานี ",5.5,16.399999999999999,25.8,53.3,95.498918918918918,99.2335135135135,80.599999999999994,145.69999999999999,129,53,6.0773480662983426,3.3,713.4097804987307]
["อุบลราชธานี",0.7,11.4,30.6,86.6,211,248.6,252.6,282.60000000000002,268.60000000000002,98.5,24,1.9,1517.1,null,"อุบลราชธานี ",0.7,11.4,25.2,57.1,93.809459459459447,110.5262162162162,93.3,169.2,151.5,60.5,16.574585635359114,1.9,791.71026131103474]
["กระบี่",31.3,25.7,56.3,127,241.3,238.1,247.1,254.7,282.10000000000002,253.5,175.2,59,1991.3,null,"กระบี่ ",16,40.799999999999997,86.7,85.2,107.28067567567567,105.85797297297296,69.5,122,116.6,62.7,120.99447513812152,59,992.63312378677017]
["ชุมพร",93.9,62.8,56.5,74.400000000000006,188.8,173.5,174.2,204.5,157.69999999999999,254.1,301.39999999999998,118.1,1859.9,null,"ชุมพร ",39.4,37.5,54.1,71.599999999999994,83.939459459459457,77.137162162162156,64,97.6,107.4,57.7,208.1491712707182,118.1,1016.6257928923399]
["ตรัง",51.8,23.5,42.7,177.4,227.7,217.7,241.9,237.5,273.10000000000002,263.8,228.6,130.19999999999999,2115.9,null,"ตรัง ",15.2,32.299999999999997,82.3,86.9,101.23418918918918,96.78824324324323,67.7,118.8,113.5,61,157.87292817679554,130.19999999999999,1063.7953606092278]
["นครศรีธรรมราช",173.5,42.5,44.6,94.4,169.6,95.1,108.1,97.3,160.80000000000001,287.2,339.3,312.8,1925.2,null,"นครศรีธรรมราช ",26.4,31.5,63.5,66.5,75.403243243243239,42.280945945945938,63,105.2,116.6,62.7,234.32320441988946,312.8,1200.2073936090785]
["นราธิวาส",134.1,45.3,71.7,68.8,145.5,116.7,150.6,146.5,188.8,250.4,335.4,327.3,1981.1,null,"นราธิวาส ",27.5,52,45.5,69.900000000000006,64.688513513513513,51.884189189189186,71.3,120.4,119.7,64.3,231.62983425414359,327.3,{"$f":"SUM(Q67:AB67)","v":1246.1025369568463}]
["ประจวบคีรีขันธ์",41.7,54.7,42.1,41,123.6,94.9,89,102.7,95.8,204,220,35.4,1144.9000000000001,null,"ประจวบคีรีขันธ์ ",35.6,32.1,31.4,74.5,54.951891891891883,42.192027027027024,64,67,127.8,72.599999999999994,151.93370165745853,35.4,789.47762057637738]
["ปัตตานี",85,13.8,26.9,44.2,108.3,94.5,102,104.2,129.80000000000001,208.6,316.7,282.7,1516.7,null,"ปัตตานี ",10.3,18.7,33.9,65.8,48.149594594594589,42.014189189189182,64.7,87.3,141.19999999999999,75.900000000000006,218.71546961325964,282.7,1089.3792533970434]
["พังงา",40.299999999999997,39.700000000000003,76.900000000000006,180,303.5,317.7,313,320.39999999999998,325.39999999999998,296.2,180,52,2445.1,null,"พังงา ",27.6,56,120.7,85.2,134.93445945945945,141.2477027027027,69.5,122,116.6,62.7,124.30939226519335,52,1112.7915544273555]
["พัทลุง",139.69999999999999,37.4,51.6,97.5,139.69999999999999,79.099999999999994,90.6,91.6,116,257.7,330.9,314.89999999999998,1746.7,null,"พัทลุง",23.2,38.799999999999997,68,80.099999999999994,62.109864864864853,35.167432432432427,57.5,79.7,132,70.900000000000006,228.52209944751377,314.89999999999998,1190.8993967448109]
["เพชรบุรี",12.1,2.8,12.5,43.5,94.4,84,80.099999999999994,106.5,130.30000000000001,246.5,198.4,15.7,1026.8,null,"เพชรบุรี ",10.6,2.8,12,28.4,41.969729729729728,37.345945945945942,52,73.900000000000006,88.2,69.900000000000006,137.01657458563534,15.7,569.83225026131106]
["ภูเก็ต",29.8,20.9,49.1,121.9,278.7,249.8,263.8,252.2,309.8,274.3,175.7,59.4,2085.4,null,"ภูเก็ต ",14,39.299999999999997,85.3,85.2,123.9085135135135,111.05972972972972,69.5,122,116.6,62.7,121.33977900552483,59.4,1010.3080222487681]
["ยะลา",89,35.700000000000003,58,96.9,168.1,109.8,125.5,136.5,170.5,234.8,267.3,250.2,1742.3,null,"ยะลา",22.6,45.6,69.8,90.4,74.736351351351345,48.816486486486482,84.1,113.3,141.19999999999999,75.900000000000006,184.59944751381212,250.2,1201.25228535165]
["ระนอง",18.600000000000001,12.6,33.799999999999997,139.69999999999999,326.2,348.4,340.4,355.8,342.5,307.5,164.8,37.9,2428.1999999999998,null,"ระนอง",10,23.7,94.2,69.900000000000006,145.02675675675673,154.89675675675673,54.9,96.3,92.1,49.5,113.81215469613259,37.9,942.23566820964595]
["สงขลา",81.900000000000006,25.5,36.700000000000003,70.2,120.4,101,94.9,99.8,129.6,259.3,333.8,310.8,1663.9,null,"สงขลา",17.8,26.8,53.8,76.400000000000006,53.529189189189189,44.90405405405405,64.2,91.3,138.1,74.2,230.52486187845301,310.8,1182.3581051216963]
["สตูล",10.4,32.6,79.599999999999994,202.6,243.5,183.4,239.8,223.8,290.8,273.2,226,62.9,2068.6,null,"สตูล ",22.2,66.3,140,100.6,108.25878378378377,81.538648648648646,76.8,134.80000000000001,128.9,69.3,156.07734806629833,62.9,1147.6747804987308]
["สุราษฎร์ธานี",50.2,10,19.600000000000001,55.6,174.7,135,145.19999999999999,141.30000000000001,193,236.8,284,130.69999999999999,1576.1,null,"สุราษฎร์ธานี",10,16.2,38.5,80.099999999999994,77.670675675675668,60.020270270270267,76.8,122.6,128.9,69.3,196.13259668508283,130.69999999999999,1006.9235426310288]

{"sheet":"Kc","index":14,"n_rows":63,"n_cols":64,"rows_kept":63,"cut":false,"hidden":false,"merged":[]}
["ค่าสัมประสิทธิ์พืช (Crop Coefficient, Kc) ด้วยวิธี Penman Monteith ส่วนการใช้น้ำชลประทาน มิถุนายน 2555"]
["อายุ",{"$f":"COUNT(B4:B55)","v":13},{"$f":"COUNT(C4:C55)","v":16},14,16,14,15,14,11,16,14,15,9,12,12,15,12,15,15,12,11,7,8,9,52,52,52,52,52,52,52,52,52,52,52,52,52,52,52,52,52,52,52,52,52,52,52,52,{"$f":"COUNT(AW4:AW55)","v":52}]
["สัปดาห์/เดือน","ข้าว กข.(นาดำ)","ข้าว กข.นาหว่านน้ำตม","ข้าวขาวดอกมะลิ 105 นาดำ","ข้าวเหนียวพันธ์สกลนคร","ข้าวบาสมาติ","ข้าวสาลี","ข้าวโพดเลี้ยงสัตว์","ข้าวโพดหวาน","ข้าว\nฟ่าง","ถั่วเหลือง","ถั่ว\nลิสง","ถั่ว\nเขียว","งา","ยาสูบ","ทาน\nตะวัน","แตงโม","มะเขือเทศ","หอมหัวใหญ่","หอม\nแดง","มะระ","กะหล่ำดอก","คะน้า","ไม้ดอก (บานชื่น)","ฝ้าย","อ้อย","ละหุ่ง","หน่อไม้ฝรั่ง","เผือก","ปทุมมา","ไม้ดอก (กุหลาบ)","หญ้ารูซี่","หญ้าเนเปียร์แคระ","ถั่วไมยรา","หญ้าแฝก","กล้วยหอม","กล้วยน้ำว้า","มะนาว (1-3 ปี)","มะนาว (3-5 ปี)","มะม่วง","ส้มโอ","สับปะรด","ขนุนเล็ก","ธูปฤาษี","มะลิ","สบู่ดำเล็ก","สบู่ดำใหญ่","มันสัมปะหลัง","ยางพารา"]
[1,1.03,9.9999999999999995E-8,0.66,1.05,1.22,0.5,0.63,0.65,0.54,0.64,0.6,0.57999999999999996,0.59,0.45,0.68,1.02,0.73,0.75,0.72,0.88,1.01,0.54,0.36,0.88,0.65,0.76,0.68,1,0.35,0.89,0.88,1.1200000000000001,1.29,0.91,1.94,0.76,1.1000000000000001,1.17,2.1,1.74,0.5,0.84,0.91,1.35,0.21,1.95,0.3,0.65,null,null,null,null,null,null,null,null,null,null,null,null,"พืช ","เซ็นติเมตร (ซม.) ","ลูกบาศก์เมตรต่อไร่ (ม.3/ไร่)"]
[2,1.07,1E-8,0.79,1.33,1.3,0.52,0.72,0.68,0.56999999999999995,0.69,0.72,0.87,0.7,0.56999999999999995,0.73,1.1399999999999999,0.82,0.76,0.82,1.0900000000000001,1.36,0.6,0.57999999999999996,0.88,0.65,0.76,0.68,1,0.35,0.89,0.88,1.1200000000000001,1.29,0.91,1.94,0.76,1.1000000000000001,1.17,2.1,1.74,0.5,0.84,0.91,1.35,0.21,1.95,0.3,0.65,null,null,null,null,null,null,null,null,null,null,null,null,"ข้าว",124,1984]
[3,1.1200000000000001,0.8,0.97,1.48,1.36,0.61,0.86,0.84,0.68,0.81,0.85,1.18,0.85,0.69,0.75,1.6,0.91,0.8,0.94,1.23,1.43,0.68,0.77,0.88,0.65,0.76,0.68,1,0.35,0.89,0.88,1.1200000000000001,1.29,0.91,1.94,0.76,1.1000000000000001,1.17,2.1,1.74,0.5,0.84,0.91,1.35,0.21,1.95,0.3,0.65,null,null,null,null,null,null,null,null,null,null,null,null,"ข้าวโพดเลี้ยงสัตว์",41.87,670]
[4,1.29,1.05,1.18,1.61,1.45,0.76,1.1299999999999999,0.99,0.84,1.01,0.94,1.4,1.1100000000000001,0.88,0.78,1.9,1.01,0.88,1.05,1.35,1.47,0.72,0.93,0.88,0.65,0.76,0.68,1,0.35,0.89,0.88,1.1200000000000001,1.29,0.91,1.94,0.76,1.1000000000000001,1.17,2.1,1.74,0.5,0.84,0.91,1.35,0.21,1.95,0.3,0.65,null,null,null,null,null,null,null,null,null,null,null,null,"ข้าวฟ่าง ","30.00 – 40.00 ","480 – 640 "]
[5,1.38,1.25,1.35,1.66,1.47,1.1100000000000001,1.35,1.1599999999999999,1.05,1.23,1.17,1.28,1.23,1.01,0.81,2.1,1.1200000000000001,1.01,1.1499999999999999,1.43,1.49,0.78,1.07,1.19,0.86,0.86,1.1000000000000001,1.23,0.61,0.95,1.23,0.76,1.02,0.79,1.74,1.1000000000000001,1.38,1.47,2.46,1.62,0.50000100000000003,0.65,0.8,1.49,0.77,2.21,0.30000100000000002,0.86,null,null,null,null,null,null,null,null,null,null,null,null,"งาขาว ","29.74 – 45.00 ","476 – 720 "]
[6,1.45,1.4,1.51,1.8,1.49,1.26,1.52,1.22,1.21,1.32,1.24,1.19,1.28,1.36,0.85,1.9,1.21,1.1200000000000001,1.2,1.48,1.19,0.83,1.18,1.19,0.86,0.86,1.1000000000000001,1.23,0.61,0.95,1.23,0.76,1.02,0.79,1.74,1.1000000000000001,1.38,1.47,2.46,1.62,0.50000100000000003,0.65,0.8,1.49,0.77,2.21,0.30000100000000002,0.86,null,null,null,null,null,null,null,null,null,null,null,null,"งาดํา ","27.00 – 35.00 ","432 – 560 "]
[7,1.5,1.5,1.61,1.8000001000000001,1.49,1.33,1.61,1.21,1.23,1.35,1.28,0.66,1.24,1.61,0.9,1.73,1.3,1.21,1.2,1.47,1.17,0.73,1.27,1.19,0.86,0.86,1.1000000000000001,1.23,0.61,0.95,1.23,0.76,1.02,0.79,1.74,1.1000000000000001,1.38,1.47,2.46,1.62,0.50000100000000003,0.65,0.8,1.49,0.77,2.21,0.30000100000000002,0.86,null,null,null,null,null,null,null,null,null,null,null,null,"ถั่วเขียว",27.5,440]
[8,1.48,1.55,1.64,1.85,1.48,1.38,1.63,1.1499999999999999,1.26,1.34,1.36,0.44,1.21,1.48,0.95,1.44,1.36,1.32,1.1499999999999999,1.46,null,0.67,1.33,1.19,0.86,0.86,1.1000000000000001,1.23,0.61,0.95,1.23,0.76,1.02,0.79,1.74,1.1000000000000001,1.38,1.47,2.46,1.62,0.50000100000000003,0.65,0.8,1.49,0.77,2.21,0.30000100000000002,0.86,null,null,null,null,null,null,null,null,null,null,null,null,"ถั่วดํา ",21.87,350]
[9,1.42,1.6,1.62,1.83,1.46,1.37,1.58,0.96,1.25,1.27,1.04,0.34,1.1299999999999999,1.44,0.97,1.03,1.41,1.38,1.08,1.41,null,null,1.38,1.19,0.86,0.86,1.1000000000000001,1.23,0.61,0.95,1.23,0.76,1.02,0.79,1.74,1.1000000000000001,1.38,1.47,2.46,1.62,0.50000100000000003,0.65,0.8,1.49,0.77,2.21,0.30000100000000002,0.86,null,null,null,null,null,null,null,null,null,null,null,null,"ถั่วทอง"," 18 .75 ",300]
[10,1.34,1.63,1.6,1.80000001,1.44,1.32,1.5,0.72,1.2,1.0900000000000001,0.99,null,0.98,1.3,1.06,0.75,1.41,1.41,0.92,1.36,null,null,null,1.34,1.1299999999999999,1.01,1.42,2.14,0.65,1.46,1.03,1.77,1.61,0.87,1.78,1.45,1.44,1.51,2.5299999999999998,1.45,0.50000199999999995,1.27,0.88,1.08,0.64,2.16,0.30000199999999999,1.1299999999999999,null,null,null,null,null,null,null,null,null,null,null,null,"ถั่วลิสง ","40.0 – 50.0 ","640 – 800 "]
[11,1.23,1.68,1.55,1.69,1.36,1.1399999999999999,1.38,0.61,1.1200000000000001,0.85,0.91,null,0.71,1.21,1.1000000000000001,0.65,1.37,1.4,0.77,1.29,null,null,null,1.34,1.1299999999999999,1.01,1.42,2.14,0.65,1.46,1.03,1.77,1.61,0.87,1.78,1.45,1.44,1.51,2.5299999999999998,1.45,0.50000199999999995,1.27,0.88,1.08,0.64,2.16,0.30000199999999999,1.1299999999999999,null,null,null,null,null,null,null,null,null,null,null,null,"ถั่วเหลือง ","20.0 – 31.25 ","320 – 500 "]
[12,0.94,1.6000000999999999,1.46,1.55,1.23,0.83,1.1499999999999999,null,0.94,0.74,0.77,null,0.55000000000000004,1,1.03,0.52,1.31,1.37,0.67,null,null,null,null,1.34,1.1299999999999999,1.01,1.42,2.14,0.65,1.46,1.03,1.77,1.61,0.87,1.78,1.45,1.44,1.51,2.5299999999999998,1.45,0.50000199999999995,1.27,0.88,1.08,0.64,2.16,0.30000199999999999,1.1299999999999999,null,null,null,null,null,null,null,null,null,null,null,null,"ปอกระเจา ",71.25,1140]
[13,0.86,1.5000001000000001,1.28,1.36,1.1100000000000001,0.62,0.9,null,0.78,0.74,0.6,null,null,null,0.92,null,1.22,1.33,null,null,null,null,null,1.34,1.1299999999999999,1.01,1.42,2.14,0.65,1.46,1.03,1.77,1.61,0.87,1.78,1.45,1.44,1.51,2.5299999999999998,1.45,0.50000199999999995,1.27,0.88,1.08,0.64,2.16,0.30000199999999999,1.1299999999999999,null,null,null,null,null,null,null,null,null,null,null,null,"ปอแก้ว ",44.37,710]
[14,null,1.36,1.08,1.1200000000000001,0.93,0.46,0.67,null,0.69,0.72,0.5,null,null,null,0.8,null,1.08,1.29,null,null,null,null,null,1.1499999999999999,1.35,1.02,1.48,2.27,0.62,1.49,0.98,2.11,1.4,0.83,1.96,1.64,1.5,1.59,2.2799999999999998,1.1200000000000001,0.3,1.29,1.01,1.84,0.74,2.17,0.8,1.35,null,null,null,null,null,null,null,null,null,null,null,null,"ฝ้าย ","50.0 – 90.0 ","800 – 1,440 "]
[15,null,1.08,null,0.82,null,0.39,null,null,0.65,null,0.45,null,null,null,0.72,null,0.92,1.22,null,null,null,null,null,1.1499999999999999,1.35,1.02,1.48,2.27,0.62,1.49,0.98,2.11,1.4,0.83,1.96,1.64,1.5,1.59,2.2799999999999998,1.1200000000000001,0.3,1.29,1.01,1.84,0.74,2.17,0.8,1.35,null,null,null,null,null,null,null,null,null,null,null,null,"ละหุ่ง ","60.0 – 75.0 ","960 – 1,200 "]
[16,null,0.65,null,0.55000000000000004,null,null,null,null,0.62,null,null,null,null,null,null,null,null,null,null,null,null,null,null,1.1499999999999999,1.35,1.02,1.48,2.27,0.62,1.49,0.98,2.11,1.4,0.83,1.96,1.64,1.5,1.59,2.2799999999999998,1.1200000000000001,0.3,1.29,1.01,1.84,0.74,2.17,0.8,1.35,null,null,null,null,null,null,null,null,null,null,null,null,"สับปะรด ",87.5,1400]
[17,null,null,null,null,null,null,null,null,null,null,null,null,null,null,null,null,null,null,null,null,null,null,null,1.1499999999999999,1.35,1.02,1.48,2.27,0.62,1.49,0.98,2.11,1.4,0.83,1.96,1.64,1.5,1.59,2.2799999999999998,1.1200000000000001,0.3,1.29,1.01,1.84,0.74,2.17,0.8,1.35,null,null,null,null,null,null,null,null,null,null,null,null,"อ้อย ",88.74,"1,420 – 3,136 "]
[18,null,null,null,null,null,null,null,null,null,null,null,null,null,null,null,null,null,null,null,null,null,null,null,0.85,1.56,1.0100000010000001,1.29,1.66,1.1399999999999999,1.1599999999999999,0.77,1.81,1.27,1.03,2.0699999999999998,2.2999999999999998,1.29,1.35,2.29,1.02,0.30000100000000002,1.01,1.27,1.46,0.93,2.08,1.1000000000000001,1.56,null,null,null,null,null,null,null,null,null,null,null,null,"มันสำปะหลัง ","75.00 – 100.00 ","1,200 – 1,600 "]
[19,null,null,null,null,null,null,null,null,null,null,null,null,null,null,null,null,null,null,null,null,null,null,null,0.85,1.56,1.0100000010000001,1.29,1.66,1.1399999999999999,1.1599999999999999,0.77,1.81,1.27,1.03,2.0699999999999998,2.2999999999999998,1.29,1.35,2.29,1.02,0.30000100000000002,1.01,1.27,1.46,0.93,2.08,1.1000000000000001,1.56,null,null,null,null,null,null,null,null,null,null,null,null,"หญ้าเลี้ยงสัตว","70.00 – 80.00 ","1,120 – 1,280 "]
[20,null,null,null,null,null,null,null,null,null,null,null,null,null,null,null,null,null,null,null,null,null,null,null,0.85,1.56,1.0100000010000001,1.29,1.66,1.1399999999999999,1.1599999999999999,0.77,1.81,1.27,1.03,2.0699999999999998,2.2999999999999998,1.29,1.35,2.29,1.02,0.30000100000000002,1.01,1.27,1.46,0.93,2.08,1.1000000000000001,1.56,null,null,null,null,null,null,null,null,null,null,null,null,"ถั่วอาหารสัตว์","88.00 – 125.00 ","1,408 – 2,000 "]
[21,null,null,null,null,null,null,null,null,null,null,null,null,null,null,null,null,null,null,null,null,null,null,null,0.85,1.56,1.0100000010000001,1.29,1.66,1.1399999999999999,1.1599999999999999,0.77,1.81,1.27,1.03,2.0699999999999998,2.2999999999999998,1.29,1.35,2.29,1.02,0.30000100000000002,1.01,1.27,1.46,0.93,2.08,1.1000000000000001,1.56,null,null,null,null,null,null,null,null,null,null,null,null,"กะหล่ำดอก",28.12,450]
[22,null,null,null,null,null,null,null,null,null,null,null,null,null,null,null,null,null,null,null,null,null,null,null,0.85,1.56,1.0100000010000001,1.29,1.66,1.1399999999999999,1.1599999999999999,0.77,1.81,1.27,1.03,2.0699999999999998,2.2999999999999998,1.29,1.35,2.29,1.02,0.30000100000000002,1.01,1.27,1.46,0.93,2.08,1.1000000000000001,1.56,null,null,null,null,null,null,null,null,null,null,null,null,"กะหล่ำปลี",28.12,450]
[23,null,null,null,null,null,null,null,null,null,null,null,null,null,null,null,null,null,null,null,null,null,null,null,0.62,1.29,0.89,1.08,1.5,0.67,1.33,1.0900000000000001,1.9,1.34,1.37,2.1800000000000002,2.11,1.08,1.1399999999999999,2.5,1.1299999999999999,0.30000199999999999,1.290001,1.48,0.9,0.71,1.76,1.100001,1.29,null,null,null,null,null,null,null,null,null,null,null,null,"กระเทียม",33.44,535]
[24,null,null,null,null,null,null,null,null,null,null,null,null,null,null,null,null,null,null,null,null,null,null,null,0.62,1.29,0.89,1.08,1.5,0.67,1.33,1.0900000000000001,1.9,1.34,1.37,2.1800000000000002,2.11,1.08,1.1399999999999999,2.5,1.1299999999999999,0.30000199999999999,1.290001,1.48,0.9,0.71,1.76,1.100001,1.29,null,null,null,null,null,null,null,null,null,null,null,null,"ข้าวโพดหวาน",40,640]
[25,null,null,null,null,null,null,null,null,null,null,null,null,null,null,null,null,null,null,null,null,null,null,null,0.62,1.29,0.89,1.08,1.5,0.67,1.33,1.0900000000000001,1.9,1.34,1.37,2.1800000000000002,2.11,1.08,1.1399999999999999,2.5,1.1299999999999999,0.30000199999999999,1.290001,1.48,0.9,0.71,1.76,1.100001,1.29,null,null,null,null,null,null,null,null,null,null,null,null,"คะน้า",23.12,370]
[26,null,null,null,null,null,null,null,null,null,null,null,null,null,null,null,null,null,null,null,null,null,null,null,0.62,1.29,0.89,1.08,1.5,0.67,1.33,1.0900000000000001,1.9,1.34,1.37,2.1800000000000002,2.11,1.08,1.1399999999999999,2.5,1.1299999999999999,0.30000199999999999,1.290001,1.48,0.9,0.71,1.76,1.100001,1.29,null,null,null,null,null,null,null,null,null,null,null,null,"ถั่วข้าว",25,400]
[27,null,null,null,null,null,null,null,null,null,null,null,null,null,null,null,null,null,null,null,null,null,null,null,0.88000100000000003,1.2,0.7,0.83,1.0000009999999999,0.52,2.0699999999999998,0.57999999999999996,1.95,1.04,1.3700000999999999,2.1800000100000001,2.38,1.3,1.33,1.9,1.97,0.30000300000000002,1.59,1.53,1.74,1.0900000000000001,1.43,1.1000019999999999,1.2,null,null,null,null,null,null,null,null,null,null,null,null,"ถั่วแขก",18.739999999999998,300]
[28,null,null,null,null,null,null,null,null,null,null,null,null,null,null,null,null,null,null,null,null,null,null,null,0.88000100000000003,1.2,0.7,0.83,1.0000009999999999,0.52,2.0699999999999998,0.57999999999999996,1.95,1.04,1.3700000999999999,2.1800000100000001,2.38,1.3,1.33,1.9,1.97,0.30000300000000002,1.59,1.53,1.74,1.0900000000000001,1.43,1.1000019999999999,1.2,null,null,null,null,null,null,null,null,null,null,null,null,"ถั่วพุ่ม",25,400]
[29,null,null,null,null,null,null,null,null,null,null,null,null,null,null,null,null,null,null,null,null,null,null,null,0.88000100000000003,1.2,0.7,0.83,1.0000009999999999,0.52,2.0699999999999998,0.57999999999999996,1.95,1.04,1.3700000999999999,2.1800000100000001,2.38,1.3,1.33,1.9,1.97,0.30000300000000002,1.59,1.53,1.74,1.0900000000000001,1.43,1.1000019999999999,1.2,null,null,null,null,null,null,null,null,null,null,null,null,"ถั่วลันเตา",18.75,300]
[30,null,null,null,null,null,null,null,null,null,null,null,null,null,null,null,null,null,null,null,null,null,null,null,0.88000100000000003,1.2,0.7,0.83,1.0000009999999999,0.52,2.0699999999999998,0.57999999999999996,1.95,1.04,1.3700000999999999,2.1800000100000001,2.38,1.3,1.33,1.9,1.97,0.30000300000000002,1.59,1.53,1.74,1.0900000000000001,1.43,1.1000019999999999,1.2,null,null,null,null,null,null,null,null,null,null,null,null,"ถั่วฝักยาว",25,400]
[31,null,null,null,null,null,null,null,null,null,null,null,null,null,null,null,null,null,null,null,null,null,null,null,1.1900009999999999,0.93,0.47,0.66,1.2300009999999999,0.74,1.79,1.24,2.2799999999999998,0.85,1.53,1.88,2.29,1.4,1.42,1.69,2.44,0.30000399999999999,1.73,1.49,2.1800000000000002,1.58,1.62,0.5,0.93,null,null,null,null,null,null,null,null,null,null,null,null,"บวบต่าง ๆ",19.37,310]
[32,null,null,null,null,null,null,null,null,null,null,null,null,null,null,null,null,null,null,null,null,null,null,null,1.1900009999999999,0.93,0.47,0.66,1.2300009999999999,0.74,1.79,1.24,2.2799999999999998,0.85,1.53,1.88,2.29,1.4,1.42,1.69,2.44,0.30000399999999999,1.73,1.49,2.1800000000000002,1.58,1.62,0.5,0.93,null,null,null,null,null,null,null,null,null,null,null,null,"ผักกาดขาว",28.12,450]
[33,null,null,null,null,null,null,null,null,null,null,null,null,null,null,null,null,null,null,null,null,null,null,null,1.1900009999999999,0.93,0.47,0.66,1.2300009999999999,0.74,1.79,1.24,2.2799999999999998,0.85,1.53,1.88,2.29,1.4,1.42,1.69,2.44,0.30000399999999999,1.73,1.49,2.1800000000000002,1.58,1.62,0.5,0.93,null,null,null,null,null,null,null,null,null,null,null,null,"ผักกาดเขียว",21.87,350]
[34,null,null,null,null,null,null,null,null,null,null,null,null,null,null,null,null,null,null,null,null,null,null,null,1.1900009999999999,0.93,0.47,0.66,1.2300009999999999,0.74,1.79,1.24,2.2799999999999998,0.85,1.53,1.88,2.29,1.4,1.42,1.69,2.44,0.30000399999999999,1.73,1.49,2.1800000000000002,1.58,1.62,0.5,0.93,null,null,null,null,null,null,null,null,null,null,null,null,"ผักกาดหอม",21.87,350]
[35,null,null,null,null,null,null,null,null,null,null,null,null,null,null,null,null,null,null,null,null,null,null,null,1.1900009999999999,0.93,0.47,0.66,1.2300009999999999,0.74,1.79,1.24,2.2799999999999998,0.85,1.53,1.88,2.29,1.4,1.42,1.69,2.44,0.30000399999999999,1.73,1.49,2.1800000000000002,1.58,1.62,0.5,0.93,null,null,null,null,null,null,null,null,null,null,null,null,"ผักกาดหัว",31.25,500]
[36,null,null,null,null,null,null,null,null,null,null,null,null,null,null,null,null,null,null,null,null,null,null,null,1.340001,0.63,0.84,0.55000000000000004,2.1400010000000003,0.66000020000000004,2.17,0.85,2.25,0.85000999999999993,1.33,1.86,3.28,1.18,1.21,1.61,2.36,0.30000500000000002,1.77,1.54,2.3199999999999998,1.52,2.02,0.50000100000000003,0.63,null,null,null,null,null,null,null,null,null,null,null,null,"ผักชี",21.87,350]
[37,null,null,null,null,null,null,null,null,null,null,null,null,null,null,null,null,null,null,null,null,null,null,null,1.340001,0.63,0.84,0.55000000000000004,2.1400010000000003,0.66000020000000004,2.17,0.85,2.25,0.85000999999999993,1.33,1.86,3.28,1.18,1.21,1.61,2.36,0.30000500000000002,1.77,1.54,2.3199999999999998,1.52,2.02,0.50000100000000003,0.63,null,null,null,null,null,null,null,null,null,null,null,null,"ผักบุ้งจีน",12.5,200]
[38,null,null,null,null,null,null,null,null,null,null,null,null,null,null,null,null,null,null,null,null,null,null,null,1.340001,0.63,0.84,0.55000000000000004,2.1400010000000003,0.66000020000000004,2.17,0.85,2.25,0.85000999999999993,1.33,1.86,3.28,1.18,1.21,1.61,2.36,0.30000500000000002,1.77,1.54,2.3199999999999998,1.52,2.02,0.50000100000000003,0.63,null,null,null,null,null,null,null,null,null,null,null,null,"พริกต่างๆ"," 31.25 – 50.00 ","500 – 800 "]
[39,null,null,null,null,null,null,null,null,null,null,null,null,null,null,null,null,null,null,null,null,null,null,null,1.340001,0.63,0.84,0.55000000000000004,2.1400010000000003,0.66000020000000004,2.17,0.85,2.25,0.85000999999999993,1.33,1.86,3.28,1.18,1.21,1.61,2.36,0.30000500000000002,1.77,1.54,2.3199999999999998,1.52,2.02,0.50000100000000003,0.63,null,null,null,null,null,null,null,null,null,null,null,null,"ฟักเขียว",21.87,350]
[40,null,null,null,null,null,null,null,null,null,null,null,null,null,null,null,null,null,null,null,null,null,null,null,1.1500009999999998,0.52,0.84,0.61,2.2700010000000002,0.66000009999999998,2.25,1.24,1.98,0.85001999999999989,1.24,2.21,3.19,1.19,1.28,1.27,1.97,0.30000599999999999,1.38,1.73,2.19,1.39,1.77,0.50000199999999995,0.52,null,null,null,null,null,null,null,null,null,null,null,null,"ฟักทอง",20.81,333]
[41,null,null,null,null,null,null,null,null,null,null,null,null,null,null,null,null,null,null,null,null,null,null,null,1.1500009999999998,0.52,0.84,0.61,2.2700010000000002,0.66000009999999998,2.25,1.24,1.98,0.85001999999999989,1.24,2.21,3.19,1.19,1.28,1.27,1.97,0.30000599999999999,1.38,1.73,2.19,1.39,1.77,0.50000199999999995,0.52,null,null,null,null,null,null,null,null,null,null,null,null,"มะเขือต่างๆ"," 31.25 – 37.50 ","500 – 600 "]
[42,null,null,null,null,null,null,null,null,null,null,null,null,null,null,null,null,null,null,null,null,null,null,null,1.1500009999999998,0.52,0.84,0.61,2.2700010000000002,0.66000009999999998,2.25,1.24,1.98,0.85001999999999989,1.24,2.21,3.19,1.19,1.28,1.27,1.97,0.30000599999999999,1.38,1.73,2.19,1.39,1.77,0.50000199999999995,0.52,null,null,null,null,null,null,null,null,null,null,null,null,"มะเขือเทศ"," 31.25 – 40.62 ","500 – 650 "]
[43,null,null,null,null,null,null,null,null,null,null,null,null,null,null,null,null,null,null,null,null,null,null,null,1.1500009999999998,0.52,0.84,0.61,2.2700010000000002,0.66000009999999998,2.25,1.24,1.98,0.85001999999999989,1.24,2.21,3.19,1.19,1.28,1.27,1.97,0.30000599999999999,1.38,1.73,2.19,1.39,1.77,0.50000199999999995,0.52,null,null,null,null,null,null,null,null,null,null,null,null,"ยาสูบ",31.25,500]
[44,null,null,null,null,null,null,null,null,null,null,null,null,null,null,null,null,null,null,null,null,null,null,null,0.85000100000000001,0.5,0.84,0.76,1.6600009999999998,0.66,1.73,0.56999999999999995,1.37,0.85002999999999984,1.26,2.02,3.39,1.06,1.1599999999999999,1.24,1.96,0.30000700000000002,1.58,1.75,2.56,1.1399999999999999,1.92,0.50000299999999998,0.52000100000000005,null,null,null,null,null,null,null,null,null,null,null,null,"แตงร้าน",25,400]
[45,null,null,null,null,null,null,null,null,null,null,null,null,null,null,null,null,null,null,null,null,null,null,null,0.85000100000000001,0.5,0.84,0.76,1.6600009999999998,0.66,1.73,0.56999999999999995,1.37,0.85002999999999984,1.26,2.02,3.39,1.06,1.1599999999999999,1.24,1.96,0.30000700000000002,1.58,1.75,2.56,1.1399999999999999,1.92,0.50000299999999998,0.52000100000000005,null,null,null,null,null,null,null,null,null,null,null,null,"มันเทศ"," 31.25 – 42.50 ","500 – 680 "]
[46,null,null,null,null,null,null,null,null,null,null,null,null,null,null,null,null,null,null,null,null,null,null,null,0.85000100000000001,0.5,0.84,0.76,1.6600009999999998,0.66,1.73,0.56999999999999995,1.37,0.85002999999999984,1.26,2.02,3.39,1.06,1.1599999999999999,1.24,1.96,0.30000700000000002,1.58,1.75,2.56,1.1399999999999999,1.92,0.50000299999999998,0.52000100000000005,null,null,null,null,null,null,null,null,null,null,null,null,"มันฝรั่ง"," 31.25 – 40.62 ","500 – 650 "]
[47,null,null,null,null,null,null,null,null,null,null,null,null,null,null,null,null,null,null,null,null,null,null,null,0.85000100000000001,0.5,0.84,0.76,1.6600009999999998,0.66,1.73,0.56999999999999995,1.37,0.85002999999999984,1.26,2.02,3.39,1.06,1.1599999999999999,1.24,1.96,0.30000700000000002,1.58,1.75,2.56,1.1399999999999999,1.92,0.50000299999999998,0.52000100000000005,null,null,null,null,null,null,null,null,null,null,null,null,"หอมหัวใหญ่"," 36.25 – 50.00 ","580 – 800 "]
[48,null,null,null,null,null,null,null,null,null,null,null,null,null,null,null,null,null,null,null,null,null,null,null,0.85000100000000001,0.5,0.84,0.76,1.6600009999999998,0.66,1.73,0.56999999999999995,1.37,0.85002999999999984,1.26,2.02,3.39,1.06,1.1599999999999999,1.24,1.96,0.30000700000000002,1.58,1.75,2.56,1.1399999999999999,1.92,0.50000299999999998,0.52000100000000005,null,null,null,null,null,null,null,null,null,null,null,null,"แตงโม",30.62,490]
[49,null,null,null,null,null,null,null,null,null,null,null,null,null,null,null,null,null,null,null,null,null,null,null,0.62000100000000002,0.49,0.84,0.74,1.5000009999999999,0.65999989999999997,1.9,1.05,1.25,0.8500399999999998,1.34,2.2200000000000002,3.3900000100000001,1.02,1.1100000000000001,1.19,1.9,0.300008,1.83,1.7,2.35,1.96,1.98,0.500004,0.52000199999999996,null,null,null,null,null,null,null,null,null,null,null,null,"พริกไทย","213.00 – 250.00","3,405 – 4,000 "]
[50,null,null,null,null,null,null,null,null,null,null,null,null,null,null,null,null,null,null,null,null,null,null,null,0.62000100000000002,0.49,0.84,0.74,1.5000009999999999,0.65999989999999997,1.9,1.05,1.25,0.8500399999999998,1.34,2.2200000000000002,3.3900000100000001,1.02,1.1100000000000001,1.19,1.9,0.300008,1.83,1.7,2.35,1.96,1.98,0.500004,0.52000199999999996,null,null,null,null,null,null,null,null,null,null,null,null,"กล้วย","113.00 – 250.00","1,808 – 4,000 "]
[51,null,null,null,null,null,null,null,null,null,null,null,null,null,null,null,null,null,null,null,null,null,null,null,0.62000100000000002,0.49,0.84,0.74,1.5000009999999999,0.65999989999999997,1.9,1.05,1.25,0.8500399999999998,1.34,2.2200000000000002,3.3900000100000001,1.02,1.1100000000000001,1.19,1.9,0.300008,1.83,1.7,2.35,1.96,1.98,0.500004,0.52000199999999996,null,null,null,null,null,null,null,null,null,null,null,null,"ยางพารา"," 150.00 – 250.00 ","2,400 – 4,000 "]
[52,null,null,null,null,null,null,null,null,null,null,null,null,null,null,null,null,null,null,null,null,null,null,null,0.62000100000000002,0.49,0.84,0.74,1.5000009999999999,0.65999989999999997,1.9,1.05,1.25,0.8500399999999998,1.34,2.2200000000000002,3.3900000100000001,1.02,1.1100000000000001,1.19,1.9,0.300008,1.83,1.7,2.35,1.96,1.98,0.500004,0.52000199999999996,null,null,null,null,null,null,null,null,null,null,null,null,"ส้ม (30 ต้น/ไร่) ","125.00 – 210.00 ","2,000 – 3,360 "]
[null,null,null,null,null,null,null,null,null,null,null,null,null,null,null,null,null,null,null,null,null,null,null,null,null,null,null,null,null,null,null,null,null,null,null,null,null,null,null,null,null,null,null,null,null,null,null,null,null,null,null,null,null,null,null,null,null,null,null,null,null,"มะม่วง (40 ต้น /ไร่) ","50.00 – 150.00 ","800 – 2,400 "]
[null,null,null,null,null,null,null,null,null,null,null,null,null,null,null,null,null,null,null,null,null,null,null,null,null,null,null,null,null,null,null,null,null,null,null,null,null,null,null,null,null,null,null,null,null,null,null,null,null,null,null,null,null,null,null,null,null,null,null,null,null,"มะนาว",110,1760]
[null,null,null,null,null,null,null,null,null,null,null,null,null,null,null,null,null,null,null,null,null,null,null,null,null,null,null,null,null,null,null,null,null,null,null,null,null,null,null,null,null,null,null,null,null,null,null,null,null,null,null,null,null,null,null,null,null,null,null,null,null,"อินทผลัม",120,1920]
[null,null,null,null,null,null,null,null,null,null,null,null,null,null,null,null,null,null,null,null,null,null,null,null,null,null,null,null,null,null,null,null,null,null,null,null,null,null,null,null,null,null,null,null,null,null,null,null,null,null,null,null,null,null,null,null,null,null,null,null,null,"กาแฟ"," 150.00 – 188.00 ","2,400 – 3,008 "]
[null,null,null,null,null,null,null,null,null,null,null,null,null,null,null,null,null,null,null,null,null,null,null,null,null,null,null,null,null,null,null,null,null,null,null,null,null,null,null,null,null,null,null,null,null,null,null,null,null,null,null,null,null,null,null,null,null,null,null,null,null,"ชา"," 150.00 – 250.00 ","2,400 – 4,000 "]
[null,null,null,null,null,null,null,null,null,null,null,null,null,null,null,null,null,null,null,null,null,null,null,null,null,null,null,null,null,null,null,null,null,null,null,null,null,null,null,null,null,null,null,null,null,null,null,null,null,null,null,null,null,null,null,null,null,null,null,null,null,"โกโก้"," 125.00 – 200.00 ","2,000 – 3,200 "]
[null,null,null,null,null,null,null,null,null,null,null,null,null,null,null,null,null,null,null,null,null,null,null,null,null,null,null,null,null,null,null,null,null,null,null,null,null,null,null,null,null,null,null,null,null,null,null,null,null,null,null,null,null,null,null,null,null,null,null,null,null,"ที่มา : ดิเรก ทองอร่าม และคณะ , 2545"]
[null,null,null,null,null,null,null,null,null,null,null,null,null,null,null,null,null,null,null,null,null,null,null,null,null,null,null,null,null,null,null,null,null,null,null,null,null,null,null,null,null,null,null,null,null,null,null,null,null,null,null,null,null,null,null,null,null,null,null,null,null,"หมายเหตุ การทำนา ตกกล้า 4 ซม. เตรียมแปลง 20 ซม. และใช้ในนาข้าว 100 ซม."]

{"sheet":"List","index":15,"n_rows":36,"n_cols":12,"rows_kept":36,"cut":false,"hidden":true,"merged":[]}
["Rice","Field Crop","Vegetable","Month",null,"list ต้องทำคุ่กับ KC ด้วย"]
["ข้าว กข.(นาดำ)","กล้วยน้ำว้า","กะหล่ำดอก","ม.ค.",null,"Rice","Field crop","vegetable","Flower_ETC","KC_ALL"]
["ข้าว กข.นาหว่านน้ำตม","กล้วยหอม","ข้าว\nฟ่าง","ก.พ.",null,"ข้าว กข.(นาดำ)","ฝ้าย","มะเขือเทศ","มะลิ","ยางพารา"]
["ข้าวขาวดอกมะลิ 105 นาดำ","ขนุนเล็ก","ข้าวโพดเลี้ยงสัตว์","มี.ค."]
["ข้าวเหนียวพันธ์สกลนคร","ถั่วไมยรา","ข้าวโพดหวาน","เม.ย.",null,"อ้อย แยกออกมาต่างหากเลยไม่ใส่รวมในlist"]
["ข้าวบาสมาติ","ธูปฤาษี","คะน้า","พ.ค."]
["ข้าวสาลี","ปทุมมา","งา","มิ.ย.",null,null,"เดือน"]
[null,"เผือก","แตงโม","ก.ค.",null,"ฝ้าย","กล้วยน้ำว้า",{"$f":"VLOOKUP(G8,$F$8:$F$32,1,FALSE)","v":"กล้วยน้ำว้า"},null,"ฝ้าย",null,"ข้าวโพดเลี้ยงสัตว์"]
[null,"ฝ้าย","ถั่ว\nเขียว","ส.ค.",null,"อ้อย","กล้วยหอม",{"$f":"VLOOKUP(G9,$F$8:$F$32,1,FALSE)","v":"กล้วยหอม"},null,"ละหุ่ง",null,"ข้าวโพดหวาน"]
[null,"มะนาว (1-3 ปี)","ถั่ว\nลิสง","ก.ย.",null,"ละหุ่ง","ขนุนเล็ก","ขนุนเล็ก",null,"หน่อไม้ฝรั่ง",null,"ข้าว\nฟ่าง"]
[null,"มะนาว (3-5 ปี)","ถั่วเหลือง","ต.ค.",null,"หน่อไม้ฝรั่ง","ข้าว\nฟ่าง",{"$error":"#N/A"},null,"เผือก",null,"ถั่วเหลือง"]
[null,"มะม่วง","ทาน\nตะวัน","พ.ย.",null,"เผือก","ข้าวโพดเลี้ยงสัตว์",{"$error":"#N/A"},null,"ปทุมมา",null,"ถั่ว\nลิสง"]
[null,"มะลิ","มะเขือเทศ","ธ.ค.",null,"ปทุมมา","ข้าวโพดหวาน",{"$error":"#N/A"},null,"ไม้ดอก (กุหลาบ)",null,"ถั่ว\nเขียว"]
[null,"มันสัมปะหลัง","มะระ",{"$f":"D2","v":"ม.ค."},null,"ไม้ดอก (กุหลาบ)","งา",{"$error":"#N/A"},null,"หญ้ารูซี่",null,"งา"]
[null,"ไม้ดอก (กุหลาบ)","ไม้ดอก (บานชื่น)",{"$f":"D3","v":"ก.พ."},null,"หญ้ารูซี่","แตงโม",{"$error":"#N/A"},null,"หญ้าเนเปียร์แคระ",null,"ยาสูบ"]
[null,"ยางพารา","ยาสูบ","มี.ค.",null,"หญ้าเนเปียร์แคระ","ถั่ว\nเขียว",{"$error":"#N/A"},null,"ถั่วไมยรา",null,"ทาน\nตะวัน"]
[null,"ละหุ่ง","หอม\nแดง","เม.ย.",null,"ถั่วไมยรา","ถั่ว\nลิสง",{"$error":"#N/A"},null,"หญ้าแฝก",null,"แตงโม"]
[null,"สบู่ดำเล็ก","หอมหัวใหญ่","พ.ค.",null,"หญ้าแฝก","ถั่วไมยรา","ถั่วไมยรา",null,"กล้วยหอม",null,"มะเขือเทศ"]
[null,"สบู่ดำใหญ่",null,"มิ.ย.",null,"กล้วยหอม","ถั่วเหลือง",{"$error":"#N/A"},null,"กล้วยน้ำว้า",null,"หอมหัวใหญ่"]
[null,"ส้มโอ",null,"ก.ค.",null,"กล้วยน้ำว้า","ทาน\nตะวัน",{"$error":"#N/A"},null,"มะนาว (1-3 ปี)",null,"หอม\nแดง"]
[null,"สับปะรด",null,"ส.ค.",null,"มะนาว (1-3 ปี)","ธูปฤาษี","ธูปฤาษี",null,"มะนาว (3-5 ปี)",null,"มะระ"]
[null,"หญ้าเนเปียร์แคระ",null,"ก.ย.",null,"มะนาว (3-5 ปี)","ปทุมมา","ปทุมมา",null,"มะม่วง",null,"กะหล่ำดอก"]
[null,"หญ้าแฝก",null,"ต.ค.",null,"มะม่วง","เผือก","เผือก",null,"ส้มโอ",null,"คะน้า"]
[null,"หญ้ารูซี่",null,"พ.ย.",null,"ส้มโอ","ฝ้าย","ฝ้าย",null,"สับปะรด",null,"ไม้ดอก (บานชื่น)"]
[null,"หน่อไม้ฝรั่ง",null,"ธ.ค.",null,"สับปะรด","มะนาว (1-3 ปี)","มะนาว (1-3 ปี)",null,"ขนุนเล็ก"]
[null,null,null,null,null,"ขนุนเล็ก","มะนาว (3-5 ปี)","มะนาว (3-5 ปี)",null,"ธูปฤาษี"]
[null,null,null,null,null,"ธูปฤาษี","มะม่วง","มะม่วง",null,"มะลิ"]
[null,null,null,null,null,"มะลิ","มันสัมปะหลัง","มันสัมปะหลัง",null,"สบู่ดำเล็ก"]
[null,null,null,null,null,"สบู่ดำเล็ก","ยางพารา","ยางพารา",null,"สบู่ดำใหญ่"]
[null,null,null,null,null,"สบู่ดำใหญ่","ยาสูบ",{"$error":"#N/A"},null,"มันสัมปะหลัง"]
[null,null,null,null,null,"มันสัมปะหลัง","ละหุ่ง","ละหุ่ง",null,"ยางพารา"]
[null,null,null,null,null,"ยางพารา","สบู่ดำเล็ก","สบู่ดำเล็ก"]
[null,null,null,null,null,null,"สบู่ดำใหญ่","สบู่ดำใหญ่"]
[null,null,null,null,null,null,"ส้มโอ","ส้มโอ"]
[null,null,null,null,null,null,"สับปะรด","สับปะรด"]
[null,null,null,null,null,null,"หน่อไม้ฝรั่ง","หน่อไม้ฝรั่ง"]

{"sheet":"ข้าว","index":16,"n_rows":82,"n_cols":223,"rows_kept":82,"cut":false,"hidden":false,"merged":[[0,5,0,69],[0,154,0,219],[0,147,0,148],[0,151,0,152],[0,73,0,137],[0,144,0,145]]}
[null,"ช่วงเวลาสัปดาห์",null,{"$f":"รายงาน!O1","v":1},{"$f":"OFFSET('input ข้าว'!$B$2,0,$D$1,1,1)","v":"พลเทพ"},"พื้นที่เพาะปลูกในแต่ละสัปดาห์ (ไร่)",null,null,null,null,null,null,null,null,null,null,null,null,null,null,null,null,null,null,null,null,null,null,null,null,null,null,null,null,null,null,null,null,null,null,null,null,null,null,null,null,null,null,null,null,null,null,null,null,null,null,null,null,null,null,null,null,null,null,null,null,null,null,null,null,null,{"$f":"OFFSET(Kc!$A$2,0,MATCH($BU$1,List_Kc_ALL,0),1,1)","v":13},{"$f":"'input ข้าว'!J1","v":"ข้าว กข.(นาดำ)"},"Kc",null,null,null,null,null,null,null,null,null,null,null,null,null,null,null,null,null,null,null,null,null,null,null,null,null,null,null,null,null,null,null,null,null,null,null,null,null,null,null,null,null,null,null,null,null,null,null,null,null,null,null,null,null,null,null,null,null,null,null,null,null,null,null,null,null,null,null,{"$f":"OFFSET('input ข้าว'!$B$3,0,D1,1,1)","v":"ชัยนาท"},"ETO/Week",null,"รั่วซึม",null,null,"น้ำเตรียมแปลง ",null,null,{"$f":"EL1","v":"ชัยนาท"},"ฝนใช้การ",null,null,"KC*Eto*ไร่ (ลบ.ม./สัปดาห์)",null,null,null,null,null,null,null,null,null,null,null,null,null,null,null,null,null,null,null,null,null,null,null,null,null,null,null,null,null,null,null,null,null,null,null,null,null,null,null,null,null,null,null,null,null,null,null,null,null,null,null,null,null,null,null,null,null,null,null,null,null,null,null,null,null,"ความต้องการน้ำ (ลบ.ม.)","ปริมาณน้ำที่ต้องส่ง","ประสิทธิภาพชลประทาน"]
[null,"เริ่มต้น","สิ้นสุด","เดือน","จำนวนไร่",1,2,3,4,5,6,7,8,9,10,11,12,13,14,15,16,17,18,19,20,21,22,23,24,25,26,27,28,29,30,31,32,33,34,35,36,37,38,39,40,41,42,43,44,45,46,47,48,49,50,51,52,53,54,55,56,57,58,59,60,61,62,63,64,65,"Sum","N.Week","KC/Week",1,2,3,4,5,6,7,8,9,10,11,12,13,14,15,16,17,18,19,20,21,22,23,24,25,26,27,28,29,30,31,32,33,34,35,36,37,38,39,40,41,42,43,44,45,46,47,48,49,50,51,52,53,54,55,56,57,58,59,60,61,62,63,64,65,null,"เดือน","จำนวนวัน",{"$f":"VLOOKUP(EL1,ETO!$T$4:$U$80,2,FALSE)","v":"สถานีฯเกษตร ชัยนาท"},{"$f":"MATCH($EL$2,ETO!$B$4:$B$131,0)","v":64},null,"มม./สัปดาห์","ลบ.ม.",null,"มม./สัปดาห์","ลบ.ม.",null,{"$f":"MATCH(EU1,ฝนใช้การ!$A$3:$A$78,0)","v":17},"มม./สัปดาห์","ลบ.ม.",null,1,2,3,4,5,6,7,8,9,10,11,12,13,14,15,16,17,18,19,20,21,22,23,24,25,26,27,28,29,30,31,32,33,34,35,36,37,38,39,40,41,42,43,44,45,46,47,48,49,50,51,52,53,54,55,56,57,58,59,60,61,62,63,64,65,"รวม","รวม","รวม (ลบ.ม.)",{"$f":"OFFSET('input ข้าว'!$B$7,0,$D$1,1,1)","v":90}]
[1,{"$f":"+'input ข้าว'!A9","v":"2017-08-02"},{"$f":"+'input ข้าว'!B9","v":"2017-08-08"},{"$f":"+C3","v":"2017-08-08"},{"$f":"OFFSET('input ข้าว'!$B$8,A3,$D$1,1,1)","v":542},{"$f":"IF($A3=F$2,$E3,0)","v":542},0,0,0,0,0,0,0,0,0,0,0,0,0,0,0,0,0,0,0,0,0,0,0,0,0,0,0,0,0,0,0,0,0,0,0,0,0,0,0,0,0,0,0,0,0,0,0,0,0,0,0,0,0,0,0,0,0,0,0,0,0,0,0,{"$f":"IF($A3=BR$2,$E3,0)","v":0},{"$f":"SUM(F3:BR3)","v":542},{"$f":"IF(A3<=$BT$1,A3,0)","v":1},{"$f":"IF(BT3=0,0,OFFSET(Kc!$A$2,1+BT3,MATCH($BU$1,List_Kc_ALL,0),1,1))","v":1.03},{"$f":"ROUND(IF($A3=BV$2,$BU$3,0),2)","v":1.03},{"$f":"IF($A3=BW$2,$BU3,0)","v":0},0,0,0,0,0,0,0,0,0,0,0,0,0,0,0,0,0,0,0,0,0,0,0,0,0,0,0,0,0,0,0,{"$f":"IF($A3=DC$2,$BU3,0)","v":0},0,0,0,0,0,0,0,0,0,0,0,0,0,0,0,0,0,0,0,0,0,0,0,0,0,0,0,0,0,0,0,null,1,31,{"$f":"MONTH(D3)","v":8},{"$f":"OFFSET(ETO!$C$3,$EM$2,$EL3,1,1)*7","v":24.290000000000003},null,{"$f":"OFFSET('input ข้าว'!$B$4,0,$D$1,1,1)","v":7},{"$f":"($EO3/1000)*$BS3*1600","v":6070.4},null,{"$f":"IF(OR(EL3=11,EL3=12,EL3<5),OFFSET('input ข้าว'!$B$5,0,$D$1,1,1),OFFSET('input ข้าว'!$B$6,0,$D$1,1,1))","v":100},{"$f":"($ER3/1000)*$E3*1600","v":86720},null,{"$f":"VLOOKUP(EL3,$EJ$3:$EK$14,2,TRUE)","v":31},{"$f":"ROUND(OFFSET(ฝนใช้การ!$A$2,$EU$2,$EL3,1,1)*7/$EU3,2)","v":33.17},{"$f":"ROUND((EV3/1000)*BS3*1600,2)","v":28765.02},null,{"$f":"ROUND(BV3*$EM3*F3*1.6,2)","v":21696.22},{"$f":"ROUND(BW3*$EM3*G3*1.6,2)","v":0},{"$f":"ROUND(BX3*$EM3*H3*1.6,2)","v":0},{"$f":"ROUND(BY3*$EM3*I3*1.6,2)","v":0},{"$f":"ROUND(BZ3*$EM3*J3*1.6,2)","v":0},{"$f":"ROUND(CA3*$EM3*K3*1.6,2)","v":0},{"$f":"ROUND(CB3*$EM3*L3*1.6,2)","v":0},{"$f":"ROUND(CC3*$EM3*M3*1.6,2)","v":0},{"$f":"ROUND(CD3*$EM3*N3*1.6,2)","v":0},{"$f":"ROUND(CE3*$EM3*O3*1.6,2)","v":0},{"$f":"ROUND(CF3*$EM3*P3*1.6,2)","v":0},{"$f":"ROUND(CG3*$EM3*Q3*1.6,2)","v":0},{"$f":"ROUND(CH3*$EM3*R3*1.6,2)","v":0},{"$f":"ROUND(CI3*$EM3*S3*1.6,2)","v":0},{"$f":"ROUND(CJ3*$EM3*T3*1.6,2)","v":0},{"$f":"ROUND(CK3*$EM3*U3*1.6,2)","v":0},{"$f":"ROUND(CL3*$EM3*V3*1.6,2)","v":0},{"$f":"ROUND(CM3*$EM3*W3*1.6,2)","v":0},{"$f":"ROUND(CN3*$EM3*X3*1.6,2)","v":0},{"$f":"ROUND(CO3*$EM3*Y3*1.6,2)","v":0},{"$f":"ROUND(CP3*$EM3*Z3*1.6,2)","v":0},{"$f":"ROUND(CQ3*$EM3*AA3*1.6,2)","v":0},{"$f":"ROUND(CR3*$EM3*AB3*1.6,2)","v":0},{"$f":"ROUND(CS3*$EM3*AC3*1.6,2)","v":0},{"$f":"ROUND(CT3*$EM3*AD3*1.6,2)","v":0},{"$f":"ROUND(CU3*$EM3*AE3*1.6,2)","v":0},{"$f":"ROUND(CV3*$EM3*AF3*1.6,2)","v":0},{"$f":"ROUND(CW3*$EM3*AG3*1.6,2)","v":0},{"$f":"ROUND(CX3*$EM3*AH3*1.6,2)","v":0},{"$f":"ROUND(CY3*$EM3*AI3*1.6,2)","v":0},{"$f":"ROUND(CZ3*$EM3*AJ3*1.6,2)","v":0},{"$f":"ROUND(DA3*$EM3*AK3*1.6,2)","v":0},{"$f":"ROUND(DB3*$EM3*AL3*1.6,2)","v":0},{"$f":"ROUND(DC3*$EM3*AM3*1.6,2)","v":0},{"$f":"ROUND(DD3*$EM3*AN3*1.6,2)","v":0},{"$f":"ROUND(DE3*$EM3*AO3*1.6,2)","v":0},{"$f":"ROUND(DF3*$EM3*AP3*1.6,2)","v":0},{"$f":"ROUND(DG3*$EM3*AQ3*1.6,2)","v":0},{"$f":"ROUND(DH3*$EM3*AR3*1.6,2)","v":0},{"$f":"ROUND(DI3*$EM3*AS3*1.6,2)","v":0},{"$f":"ROUND(DJ3*$EM3*AT3*1.6,2)","v":0},{"$f":"ROUND(DK3*$EM3*AU3*1.6,2)","v":0},{"$f":"ROUND(DL3*$EM3*AV3*1.6,2)","v":0},{"$f":"ROUND(DM3*$EM3*AW3*1.6,2)","v":0},{"$f":"ROUND(DN3*$EM3*AX3*1.6,2)","v":0},{"$f":"ROUND(DO3*$EM3*AY3*1.6,2)","v":0},{"$f":"ROUND(DP3*$EM3*AZ3*1.6,2)","v":0},{"$f":"ROUND(DQ3*$EM3*BA3*1.6,2)","v":0},{"$f":"ROUND(DR3*$EM3*BB3*1.6,2)","v":0},{"$f":"ROUND(DS3*$EM3*BC3*1.6,2)","v":0},{"$f":"ROUND(DT3*$EM3*BD3*1.6,2)","v":0},{"$f":"ROUND(DU3*$EM3*BE3*1.6,2)","v":0},{"$f":"ROUND(DV3*$EM3*BF3*1.6,2)","v":0},{"$f":"ROUND(DW3*$EM3*BG3*1.6,2)","v":0},{"$f":"ROUND(DX3*$EM3*BH3*1.6,2)","v":0},{"$f":"ROUND(DY3*$EM3*BI3*1.6,2)","v":0},{"$f":"ROUND(DZ3*$EM3*BJ3*1.6,2)","v":0},{"$f":"ROUND(EA3*$EM3*BK3*1.6,2)","v":0},{"$f":"ROUND(EB3*$EM3*BL3*1.6,2)","v":0},{"$f":"ROUND(EC3*$EM3*BM3*1.6,2)","v":0},{"$f":"ROUND(ED3*$EM3*BN3*1.6,2)","v":0},{"$f":"ROUND(EE3*$EM3*BO3*1.6,2)","v":0},{"$f":"ROUND(EF3*$EM3*BP3*1.6,2)","v":0},{"$f":"ROUND(EG3*$EM3*BQ3*1.6,2)","v":0},{"$f":"ROUND(EH3*$EM3*BR3*1.6,2)","v":0},{"$f":"SUM(EY3:HK3)","v":21696.22},{"$f":"IF(EP3+ES3+HL3-EW3>0,EP3+ES3+HL3-EW3,0)","v":85721.599999999991},{"$f":"HM3*100/$HO$2","v":95246.222222222219}]
[2,{"$f":"+'input ข้าว'!A10","v":"2017-08-09"},{"$f":"+'input ข้าว'!B10","v":"2017-08-15"},"2017-08-15",{"$f":"OFFSET('input ข้าว'!$B$8,A4,$D$1,1,1)","v":0},{"$f":"IF($A4=F$2,$E4,IF(F3=0,0,IF($A4<F$2+$BT$1,F3,0)))","v":542},{"$f":"IF($A4=G$2,$E4,IF(G3=0,0,IF($A4<G$2+$BT$1,G3,0)))","v":0},{"$f":"IF($A4=H$2,$E4,IF(H3=0,0,IF($A4<H$2+$BT$1,H3,0)))","v":0},{"$f":"IF($A4=I$2,$E4,IF(I3=0,0,IF($A4<I$2+$BT$1,I3,0)))","v":0},{"$f":"IF($A4=J$2,$E4,IF(J3=0,0,IF($A4<J$2+$BT$1,J3,0)))","v":0},{"$f":"IF($A4=K$2,$E4,IF(K3=0,0,IF($A4<K$2+$BT$1,K3,0)))","v":0},{"$f":"IF($A4=L$2,$E4,IF(L3=0,0,IF($A4<L$2+$BT$1,L3,0)))","v":0},{"$f":"IF($A4=M$2,$E4,IF(M3=0,0,IF($A4<M$2+$BT$1,M3,0)))","v":0},{"$f":"IF($A4=N$2,$E4,IF(N3=0,0,IF($A4<N$2+$BT$1,N3,0)))","v":0},{"$f":"IF($A4=O$2,$E4,IF(O3=0,0,IF($A4<O$2+$BT$1,O3,0)))","v":0},{"$f":"IF($A4=P$2,$E4,IF(P3=0,0,IF($A4<P$2+$BT$1,P3,0)))","v":0},{"$f":"IF($A4=Q$2,$E4,IF(Q3=0,0,IF($A4<Q$2+$BT$1,Q3,0)))","v":0},{"$f":"IF($A4=R$2,$E4,IF(R3=0,0,IF($A4<R$2+$BT$1,R3,0)))","v":0},{"$f":"IF($A4=S$2,$E4,IF(S3=0,0,IF($A4<S$2+$BT$1,S3,0)))","v":0},{"$f":"IF($A4=T$2,$E4,IF(T3=0,0,IF($A4<T$2+$BT$1,T3,0)))","v":0},{"$f":"IF($A4=U$2,$E4,IF(U3=0,0,IF($A4<U$2+$BT$1,U3,0)))","v":0},{"$f":"IF($A4=V$2,$E4,IF(V3=0,0,IF($A4<V$2+$BT$1,V3,0)))","v":0},{"$f":"IF($A4=W$2,$E4,IF(W3=0,0,IF($A4<W$2+$BT$1,W3,0)))","v":0},{"$f":"IF($A4=X$2,$E4,IF(X3=0,0,IF($A4<X$2+$BT$1,X3,0)))","v":0},{"$f":"IF($A4=Y$2,$E4,IF(Y3=0,0,IF($A4<Y$2+$BT$1,Y3,0)))","v":0},{"$f":"IF($A4=Z$2,$E4,IF(Z3=0,0,IF($A4<Z$2+$BT$1,Z3,0)))","v":0},{"$f":"IF($A4=AA$2,$E4,IF(AA3=0,0,IF($A4<AA$2+$BT$1,AA3,0)))","v":0},{"$f":"IF($A4=AB$2,$E4,IF(AB3=0,0,IF($A4<AB$2+$BT$1,AB3,0)))","v":0},{"$f":"IF($A4=AC$2,$E4,IF(AC3=0,0,IF($A4<AC$2+$BT$1,AC3,0)))","v":0},{"$f":"IF($A4=AD$2,$E4,IF(AD3=0,0,IF($A4<AD$2+$BT$1,AD3,0)))","v":0},{"$f":"IF($A4=AE$2,$E4,IF(AE3=0,0,IF($A4<AE$2+$BT$1,AE3,0)))","v":0},{"$f":"IF($A4=AF$2,$E4,IF(AF3=0,0,IF($A4<AF$2+$BT$1,AF3,0)))","v":0},{"$f":"IF($A4=AG$2,$E4,IF(AG3=0,0,IF($A4<AG$2+$BT$1,AG3,0)))","v":0},{"$f":"IF($A4=AH$2,$E4,IF(AH3=0,0,IF($A4<AH$2+$BT$1,AH3,0)))","v":0},{"$f":"IF($A4=AI$2,$E4,IF(AI3=0,0,IF($A4<AI$2+$BT$1,AI3,0)))","v":0},{"$f":"IF($A4=AJ$2,$E4,IF(AJ3=0,0,IF($A4<AJ$2+$BT$1,AJ3,0)))","v":0},{"$f":"IF($A4=AK$2,$E4,IF(AK3=0,0,IF($A4<AK$2+$BT$1,AK3,0)))","v":0},{"$f":"IF($A4=AL$2,$E4,IF(AL3=0,0,IF($A4<AL$2+$BT$1,AL3,0)))","v":0},{"$f":"IF($A4=AM$2,$E4,IF(AM3=0,0,IF($A4<AM$2+$BT$1,AM3,0)))","v":0},{"$f":"IF($A4=AN$2,$E4,IF(AN3=0,0,IF($A4<AN$2+$BT$1,AN3,0)))","v":0},{"$f":"IF($A4=AO$2,$E4,IF(AO3=0,0,IF($A4<AO$2+$BT$1,AO3,0)))","v":0},{"$f":"IF($A4=AP$2,$E4,IF(AP3=0,0,IF($A4<AP$2+$BT$1,AP3,0)))","v":0},{"$f":"IF($A4=AQ$2,$E4,IF(AQ3=0,0,IF($A4<AQ$2+$BT$1,AQ3,0)))","v":0},{"$f":"IF($A4=AR$2,$E4,IF(AR3=0,0,IF($A4<AR$2+$BT$1,AR3,0)))","v":0},{"$f":"IF($A4=AS$2,$E4,IF(AS3=0,0,IF($A4<AS$2+$BT$1,AS3,0)))","v":0},{"$f":"IF($A4=AT$2,$E4,IF(AT3=0,0,IF($A4<AT$2+$BT$1,AT3,0)))","v":0},{"$f":"IF($A4=AU$2,$E4,IF(AU3=0,0,IF($A4<AU$2+$BT$1,AU3,0)))","v":0},{"$f":"IF($A4=AV$2,$E4,IF(AV3=0,0,IF($A4<AV$2+$BT$1,AV3,0)))","v":0},{"$f":"IF($A4=AW$2,$E4,IF(AW3=0,0,IF($A4<AW$2+$BT$1,AW3,0)))","v":0},{"$f":"IF($A4=AX$2,$E4,IF(AX3=0,0,IF($A4<AX$2+$BT$1,AX3,0)))","v":0},{"$f":"IF($A4=AY$2,$E4,IF(AY3=0,0,IF($A4<AY$2+$BT$1,AY3,0)))","v":0},{"$f":"IF($A4=AZ$2,$E4,IF(AZ3=0,0,IF($A4<AZ$2+$BT$1,AZ3,0)))","v":0},{"$f":"IF($A4=BA$2,$E4,IF(BA3=0,0,IF($A4<BA$2+$BT$1,BA3,0)))","v":0},{"$f":"IF($A4=BB$2,$E4,IF(BB3=0,0,IF($A4<BB$2+$BT$1,BB3,0)))","v":0},{"$f":"IF($A4=BC$2,$E4,IF(BC3=0,0,IF($A4<BC$2+$BT$1,BC3,0)))","v":0},{"$f":"IF($A4=BD$2,$E4,IF(BD3=0,0,IF($A4<BD$2+$BT$1,BD3,0)))","v":0},{"$f":"IF($A4=BE$2,$E4,IF(BE3=0,0,IF($A4<BE$2+$BT$1,BE3,0)))","v":0},{"$f":"IF($A4=BF$2,$E4,IF(BF3=0,0,IF($A4<BF$2+$BT$1,BF3,0)))","v":0},{"$f":"IF($A4=BG$2,$E4,IF(BG3=0,0,IF($A4<BG$2+$BT$1,BG3,0)))","v":0},{"$f":"IF($A4=BH$2,$E4,IF(BH3=0,0,IF($A4<BH$2+$BT$1,BH3,0)))","v":0},{"$f":"IF($A4=BI$2,$E4,IF(BI3=0,0,IF($A4<BI$2+$BT$1,BI3,0)))","v":0},{"$f":"IF($A4=BJ$2,$E4,IF(BJ3=0,0,IF($A4<BJ$2+$BT$1,BJ3,0)))","v":0},{"$f":"IF($A4=BK$2,$E4,IF(BK3=0,0,IF($A4<BK$2+$BT$1,BK3,0)))","v":0},{"$f":"IF($A4=BL$2,$E4,IF(BL3=0,0,IF($A4<BL$2+$BT$1,BL3,0)))","v":0},{"$f":"IF($A4=BM$2,$E4,IF(BM3=0,0,IF($A4<BM$2+$BT$1,BM3,0)))","v":0},{"$f":"IF($A4=BN$2,$E4,IF(BN3=0,0,IF($A4<BN$2+$BT$1,BN3,0)))","v":0},{"$f":"IF($A4=BO$2,$E4,IF(BO3=0,0,IF($A4<BO$2+$BT$1,BO3,0)))","v":0},{"$f":"IF($A4=BP$2,$E4,IF(BP3=0,0,IF($A4<BP$2+$BT$1,BP3,0)))","v":0},{"$f":"IF($A4=BQ$2,$E4,IF(BQ3=0,0,IF($A4<BQ$2+$BT$1,BQ3,0)))","v":0},{"$f":"IF($A4=BR$2,$E4,IF(BR3=0,0,IF($A4<BR$2+$BT$1,BR3,0)))","v":0},{"$f":"SUM(F4:BR4)","v":542},2,{"$f":"IF(BT4=0,0,OFFSET(Kc!$A$2,1+BT4,MATCH($BU$1,List_Kc_ALL,0),1,1))","v":1.07},{"$f":"IF($A4=BV$2,$BU$3,IF(BV3=0,0,OFFSET($BU$2,MATCH(BV3,$BU$3:$BU$67,0)+1,0,1,1)))","v":1.07},{"$f":"IF($A4=BW$2,$BU$3,IF(BW3=0,0,OFFSET($BU$2,MATCH(BW3,$BU$3:$BU$67,0)+1,0,1,1)))","v":1.03},{"$f":"IF($A4=BX$2,$BU$3,IF(BX3=0,0,OFFSET($BU$2,MATCH(BX3,$BU$3:$BU$67,0)+1,0,1,1)))","v":0},{"$f":"IF($A4=BY$2,$BU$3,IF(BY3=0,0,OFFSET($BU$2,MATCH(BY3,$BU$3:$BU$67,0)+1,0,1,1)))","v":0},{"$f":"IF($A4=BZ$2,$BU$3,IF(BZ3=0,0,OFFSET($BU$2,MATCH(BZ3,$BU$3:$BU$67,0)+1,0,1,1)))","v":0},{"$f":"IF($A4=CA$2,$BU$3,IF(CA3=0,0,OFFSET($BU$2,MATCH(CA3,$BU$3:$BU$67,0)+1,0,1,1)))","v":0},{"$f":"IF($A4=CB$2,$BU$3,IF(CB3=0,0,OFFSET($BU$2,MATCH(CB3,$BU$3:$BU$67,0)+1,0,1,1)))","v":0},{"$f":"IF($A4=CC$2,$BU$3,IF(CC3=0,0,OFFSET($BU$2,MATCH(CC3,$BU$3:$BU$67,0)+1,0,1,1)))","v":0},{"$f":"IF($A4=CD$2,$BU$3,IF(CD3=0,0,OFFSET($BU$2,MATCH(CD3,$BU$3:$BU$67,0)+1,0,1,1)))","v":0},{"$f":"IF($A4=CE$2,$BU$3,IF(CE3=0,0,OFFSET($BU$2,MATCH(CE3,$BU$3:$BU$67,0)+1,0,1,1)))","v":0},{"$f":"IF($A4=CF$2,$BU$3,IF(CF3=0,0,OFFSET($BU$2,MATCH(CF3,$BU$3:$BU$67,0)+1,0,1,1)))","v":0},{"$f":"IF($A4=CG$2,$BU$3,IF(CG3=0,0,OFFSET($BU$2,MATCH(CG3,$BU$3:$BU$67,0)+1,0,1,1)))","v":0},{"$f":"IF($A4=CH$2,$BU$3,IF(CH3=0,0,OFFSET($BU$2,MATCH(CH3,$BU$3:$BU$67,0)+1,0,1,1)))","v":0},{"$f":"IF($A4=CI$2,$BU$3,IF(CI3=0,0,OFFSET($BU$2,MATCH(CI3,$BU$3:$BU$67,0)+1,0,1,1)))","v":0},{"$f":"IF($A4=CJ$2,$BU$3,IF(CJ3=0,0,OFFSET($BU$2,MATCH(CJ3,$BU$3:$BU$67,0)+1,0,1,1)))","v":0},{"$f":"IF($A4=CK$2,$BU$3,IF(CK3=0,0,OFFSET($BU$2,MATCH(CK3,$BU$3:$BU$67,0)+1,0,1,1)))","v":0},{"$f":"IF($A4=CL$2,$BU$3,IF(CL3=0,0,OFFSET($BU$2,MATCH(CL3,$BU$3:$BU$67,0)+1,0,1,1)))","v":0},{"$f":"IF($A4=CM$2,$BU$3,IF(CM3=0,0,OFFSET($BU$2,MATCH(CM3,$BU$3:$BU$67,0)+1,0,1,1)))","v":0},{"$f":"IF($A4=CN$2,$BU$3,IF(CN3=0,0,OFFSET($BU$2,MATCH(CN3,$BU$3:$BU$67,0)+1,0,1,1)))","v":0},{"$f":"IF($A4=CO$2,$BU$3,IF(CO3=0,0,OFFSET($BU$2,MATCH(CO3,$BU$3:$BU$67,0)+1,0,1,1)))","v":0},{"$f":"IF($A4=CP$2,$BU$3,IF(CP3=0,0,OFFSET($BU$2,MATCH(CP3,$BU$3:$BU$67,0)+1,0,1,1)))","v":0},{"$f":"IF($A4=CQ$2,$BU$3,IF(CQ3=0,0,OFFSET($BU$2,MATCH(CQ3,$BU$3:$BU$67,0)+1,0,1,1)))","v":0},{"$f":"IF($A4=CR$2,$BU$3,IF(CR3=0,0,OFFSET($BU$2,MATCH(CR3,$BU$3:$BU$67,0)+1,0,1,1)))","v":0},{"$f":"IF($A4=CS$2,$BU$3,IF(CS3=0,0,OFFSET($BU$2,MATCH(CS3,$BU$3:$BU$67,0)+1,0,1,1)))","v":0},{"$f":"IF($A4=CT$2,$BU$3,IF(CT3=0,0,OFFSET($BU$2,MATCH(CT3,$BU$3:$BU$67,0)+1,0,1,1)))","v":0},{"$f":"IF($A4=CU$2,$BU$3,IF(CU3=0,0,OFFSET($BU$2,MATCH(CU3,$BU$3:$BU$67,0)+1,0,1,1)))","v":0},{"$f":"IF($A4=CV$2,$BU$3,IF(CV3=0,0,OFFSET($BU$2,MATCH(CV3,$BU$3:$BU$67,0)+1,0,1,1)))","v":0},{"$f":"IF($A4=CW$2,$BU$3,IF(CW3=0,0,OFFSET($BU$2,MATCH(CW3,$BU$3:$BU$67,0)+1,0,1,1)))","v":0},{"$f":"IF($A4=CX$2,$BU$3,IF(CX3=0,0,OFFSET($BU$2,MATCH(CX3,$BU$3:$BU$67,0)+1,0,1,1)))","v":0},{"$f":"IF($A4=CY$2,$BU$3,IF(CY3=0,0,OFFSET($BU$2,MATCH(CY3,$BU$3:$BU$67,0)+1,0,1,1)))","v":0},{"$f":"IF($A4=CZ$2,$BU$3,IF(CZ3=0,0,OFFSET($BU$2,MATCH(CZ3,$BU$3:$BU$67,0)+1,0,1,1)))","v":0},{"$f":"IF($A4=DA$2,$BU$3,IF(DA3=0,0,OFFSET($BU$2,MATCH(DA3,$BU$3:$BU$67,0)+1,0,1,1)))","v":0},{"$f":"IF($A4=DB$2,$BU$3,IF(DB3=0,0,OFFSET($BU$2,MATCH(DB3,$BU$3:$BU$67,0)+1,0,1,1)))","v":0},{"$f":"IF($A4=DC$2,$BU$3,IF(DC3=0,0,OFFSET($BU$2,MATCH(DC3,$BU$3:$BU$67,0)+1,0,1,1)))","v":0},{"$f":"IF($A4=DD$2,$BU$3,IF(DD3=0,0,OFFSET($BU$2,MATCH(DD3,$BU$3:$BU$67,0)+1,0,1,1)))","v":0},{"$f":"IF($A4=DE$2,$BU$3,IF(DE3=0,0,OFFSET($BU$2,MATCH(DE3,$BU$3:$BU$67,0)+1,0,1,1)))","v":0},{"$f":"IF($A4=DF$2,$BU$3,IF(DF3=0,0,OFFSET($BU$2,MATCH(DF3,$BU$3:$BU$67,0)+1,0,1,1)))","v":0},{"$f":"IF($A4=DG$2,$BU$3,IF(DG3=0,0,OFFSET($BU$2,MATCH(DG3,$BU$3:$BU$67,0)+1,0,1,1)))","v":0},{"$f":"IF($A4=DH$2,$BU$3,IF(DH3=0,0,OFFSET($BU$2,MATCH(DH3,$BU$3:$BU$67,0)+1,0,1,1)))","v":0},{"$f":"IF($A4=DI$2,$BU$3,IF(DI3=0,0,OFFSET($BU$2,MATCH(DI3,$BU$3:$BU$67,0)+1,0,1,1)))","v":0},{"$f":"IF($A4=DJ$2,$BU$3,IF(DJ3=0,0,OFFSET($BU$2,MATCH(DJ3,$BU$3:$BU$67,0)+1,0,1,1)))","v":0},{"$f":"IF($A4=DK$2,$BU$3,IF(DK3=0,0,OFFSET($BU$2,MATCH(DK3,$BU$3:$BU$67,0)+1,0,1,1)))","v":0},{"$f":"IF($A4=DL$2,$BU$3,IF(DL3=0,0,OFFSET($BU$2,MATCH(DL3,$BU$3:$BU$67,0)+1,0,1,1)))","v":0},{"$f":"IF($A4=DM$2,$BU$3,IF(DM3=0,0,OFFSET($BU$2,MATCH(DM3,$BU$3:$BU$67,0)+1,0,1,1)))","v":0},{"$f":"IF($A4=DN$2,$BU$3,IF(DN3=0,0,OFFSET($BU$2,MATCH(DN3,$BU$3:$BU$67,0)+1,0,1,1)))","v":0},{"$f":"IF($A4=DO$2,$BU$3,IF(DO3=0,0,OFFSET($BU$2,MATCH(DO3,$BU$3:$BU$67,0)+1,0,1,1)))","v":0},{"$f":"IF($A4=DP$2,$BU$3,IF(DP3=0,0,OFFSET($BU$2,MATCH(DP3,$BU$3:$BU$67,0)+1,0,1,1)))","v":0},{"$f":"IF($A4=DQ$2,$BU$3,IF(DQ3=0,0,OFFSET($BU$2,MATCH(DQ3,$BU$3:$BU$67,0)+1,0,1,1)))","v":0},{"$f":"IF($A4=DR$2,$BU$3,IF(DR3=0,0,OFFSET($BU$2,MATCH(DR3,$BU$3:$BU$67,0)+1,0,1,1)))","v":0},{"$f":"IF($A4=DS$2,$BU$3,IF(DS3=0,0,OFFSET($BU$2,MATCH(DS3,$BU$3:$BU$67,0)+1,0,1,1)))","v":0},{"$f":"IF($A4=DT$2,$BU$3,IF(DT3=0,0,OFFSET($BU$2,MATCH(DT3,$BU$3:$BU$67,0)+1,0,1,1)))","v":0},{"$f":"IF($A4=DU$2,$BU$3,IF(DU3=0,0,OFFSET($BU$2,MATCH(DU3,$BU$3:$BU$67,0)+1,0,1,1)))","v":0},{"$f":"IF($A4=DV$2,$BU$3,IF(DV3=0,0,OFFSET($BU$2,MATCH(DV3,$BU$3:$BU$67,0)+1,0,1,1)))","v":0},{"$f":"IF($A4=DW$2,$BU$3,IF(DW3=0,0,OFFSET($BU$2,MATCH(DW3,$BU$3:$BU$67,0)+1,0,1,1)))","v":0},{"$f":"IF($A4=DX$2,$BU$3,IF(DX3=0,0,OFFSET($BU$2,MATCH(DX3,$BU$3:$BU$67,0)+1,0,1,1)))","v":0},{"$f":"IF($A4=DY$2,$BU$3,IF(DY3=0,0,OFFSET($BU$2,MATCH(DY3,$BU$3:$BU$67,0)+1,0,1,1)))","v":0},{"$f":"IF($A4=DZ$2,$BU$3,IF(DZ3=0,0,OFFSET($BU$2,MATCH(DZ3,$BU$3:$BU$67,0)+1,0,1,1)))","v":0},{"$f":"IF($A4=EA$2,$BU$3,IF(EA3=0,0,OFFSET($BU$2,MATCH(EA3,$BU$3:$BU$67,0)+1,0,1,1)))","v":0},{"$f":"IF($A4=EB$2,$BU$3,IF(EB3=0,0,OFFSET($BU$2,MATCH(EB3,$BU$3:$BU$67,0)+1,0,1,1)))","v":0},{"$f":"IF($A4=EC$2,$BU$3,IF(EC3=0,0,OFFSET($BU$2,MATCH(EC3,$BU$3:$BU$67,0)+1,0,1,1)))","v":0},{"$f":"IF($A4=ED$2,$BU$3,IF(ED3=0,0,OFFSET($BU$2,MATCH(ED3,$BU$3:$BU$67,0)+1,0,1,1)))","v":0},{"$f":"IF($A4=EE$2,$BU$3,IF(EE3=0,0,OFFSET($BU$2,MATCH(EE3,$BU$3:$BU$67,0)+1,0,1,1)))","v":0},{"$f":"IF($A4=EF$2,$BU$3,IF(EF3=0,0,OFFSET($BU$2,MATCH(EF3,$BU$3:$BU$67,0)+1,0,1,1)))","v":0},{"$f":"IF($A4=EG$2,$BU$3,IF(EG3=0,0,OFFSET($BU$2,MATCH(EG3,$BU$3:$BU$67,0)+1,0,1,1)))","v":0},{"$f":"IF($A4=EH$2,$BU$3,IF(EH3=0,0,OFFSET($BU$2,MATCH(EH3,$BU$3:$BU$67,0)+1,0,1,1)))","v":0},null,2,28,8,{"$f":"OFFSET(ETO!$C$3,$EM$2,$EL4,1,1)*7","v":24.290000000000003},null,{"$f":"OFFSET('input ข้าว'!$B$4,0,$D$1,1,1)","v":7},{"$f":"($EO4/1000)*$BS4*1600","v":6070.4},null,{"$f":"IF(OR(EL4=11,EL4=12,EL4<5),OFFSET('input ข้าว'!$B$5,0,$D$1,1,1),OFFSET('input ข้าว'!$B$6,0,$D$1,1,1))","v":100},{"$f":"($ER4/1000)*$E4*1600","v":0},null,31,{"$f":"ROUND(OFFSET(ฝนใช้การ!$A$2,$EU$2,$EL4,1,1)*7/$EU4,2)","v":33.17},{"$f":"ROUND((EV4/1000)*BS4*1600,2)","v":28765.02},null,22538.79,0,0,0,0,0,0,0,0,0,0,0,0,0,0,0,0,0,0,0,0,0,0,0,0,0,0,0,0,0,0,0,0,0,0,0,0,0,0,0,0,0,0,0,0,0,0,0,0,0,0,0,0,0,0,0,0,0,0,0,0,0,0,0,0,{"$f":"SUM(EY4:HK4)","v":22538.79},{"$f":"IF(EP4+ES4+HL4-EW4>0,EP4+ES4+HL4-EW4,0)","v":0},{"$f":"HM4*100/$HO$2","v":0}]
[3,{"$f":"+'input ข้าว'!A11","v":"2017-08-16"},{"$f":"+'input ข้าว'!B11","v":"2017-08-22"},"2017-08-22",{"$f":"OFFSET('input ข้าว'!$B$8,A5,$D$1,1,1)","v":0},542,0,0,0,0,0,0,0,0,0,0,0,0,0,0,0,0,0,0,0,0,0,0,0,0,0,0,0,0,0,0,0,0,0,0,0,0,0,0,0,0,0,0,0,0,0,0,0,0,0,0,0,0,0,0,0,0,0,0,0,0,0,0,0,0,542,3,{"$f":"IF(BT5=0,0,OFFSET(Kc!$A$2,1+BT5,MATCH($BU$1,List_Kc_ALL,0),1,1))","v":1.1200000000000001},1.1200000000000001,1.07,1.03,0,0,0,0,0,0,0,0,0,0,0,0,0,0,0,0,0,0,0,0,0,0,0,0,0,0,0,0,0,0,0,0,0,0,0,0,0,0,0,0,0,0,0,0,0,0,0,0,0,0,0,0,0,0,0,0,0,0,0,0,0,0,null,3,31,8,{"$f":"OFFSET(ETO!$C$3,$EM$2,$EL5,1,1)*7","v":24.290000000000003},null,{"$f":"OFFSET('input ข้าว'!$B$4,0,$D$1,1,1)","v":7},6070.4,null,{"$f":"IF(OR(EL5=11,EL5=12,EL5<5),OFFSET('input ข้าว'!$B$5,0,$D$1,1,1),OFFSET('input ข้าว'!$B$6,0,$D$1,1,1))","v":100},0,null,31,{"$f":"ROUND(OFFSET(ฝนใช้การ!$A$2,$EU$2,$EL5,1,1)*7/$EU5,2)","v":33.17},28765.02,null,23592,0,0,0,0,0,0,0,0,0,0,0,0,0,0,0,0,0,0,0,0,0,0,0,0,0,0,0,0,0,0,0,0,0,0,0,0,0,0,0,0,0,0,0,0,0,0,0,0,0,0,0,0,0,0,0,0,0,0,0,0,0,0,0,0,23592,897.38000000000102,997.08888888888998]
[4,{"$f":"+'input ข้าว'!A12","v":"2017-08-23"},{"$f":"+'input ข้าว'!B12","v":"2017-08-29"},"2017-08-29",{"$f":"OFFSET('input ข้าว'!$B$8,A6,$D$1,1,1)","v":0},542,0,0,0,0,0,0,0,0,0,0,0,0,0,0,0,0,0,0,0,0,0,0,0,0,0,0,0,0,0,0,0,0,0,0,0,0,0,0,0,0,0,0,0,0,0,0,0,0,0,0,0,0,0,0,0,0,0,0,0,0,0,0,0,0,542,4,{"$f":"IF(BT6=0,0,OFFSET(Kc!$A$2,1+BT6,MATCH($BU$1,List_Kc_ALL,0),1,1))","v":1.29},1.29,1.1200000000000001,1.07,1.03,0,0,0,0,0,0,0,0,0,0,0,0,0,0,0,0,0,0,0,0,0,0,0,0,0,0,0,0,0,0,0,0,0,0,0,0,0,0,0,0,0,0,0,0,0,0,0,0,0,0,0,0,0,0,0,0,0,0,0,0,0,null,4,30,8,{"$f":"OFFSET(ETO!$C$3,$EM$2,$EL6,1,1)*7","v":24.290000000000003},null,{"$f":"OFFSET('input ข้าว'!$B$4,0,$D$1,1,1)","v":7},6070.4,null,{"$f":"IF(OR(EL6=11,EL6=12,EL6<5),OFFSET('input ข้าว'!$B$5,0,$D$1,1,1),OFFSET('input ข้าว'!$B$6,0,$D$1,1,1))","v":100},0,null,31,{"$f":"ROUND(OFFSET(ฝนใช้การ!$A$2,$EU$2,$EL6,1,1)*7/$EU6,2)","v":33.17},28765.02,null,27172.93,0,0,0,0,0,0,0,0,0,0,0,0,0,0,0,0,0,0,0,0,0,0,0,0,0,0,0,0,0,0,0,0,0,0,0,0,0,0,0,0,0,0,0,0,0,0,0,0,0,0,0,0,0,0,0,0,0,0,0,0,0,0,0,0,27172.93,4478.3100000000013,4975.9000000000015]
[5,{"$f":"+'input ข้าว'!A13","v":"2017-08-30"},{"$f":"+'input ข้าว'!B13","v":"2017-09-05"},"2017-09-05",{"$f":"OFFSET('input ข้าว'!$B$8,A7,$D$1,1,1)","v":0},542,0,0,0,0,0,0,0,0,0,0,0,0,0,0,0,0,0,0,0,0,0,0,0,0,0,0,0,0,0,0,0,0,0,0,0,0,0,0,0,0,0,0,0,0,0,0,0,0,0,0,0,0,0,0,0,0,0,0,0,0,0,0,0,0,542,5,{"$f":"IF(BT7=0,0,OFFSET(Kc!$A$2,1+BT7,MATCH($BU$1,List_Kc_ALL,0),1,1))","v":1.38},1.38,1.29,1.1200000000000001,1.07,1.03,0,0,0,0,0,0,0,0,0,0,0,0,0,0,0,0,0,0,0,0,0,0,0,0,0,0,0,0,0,0,0,0,0,0,0,0,0,0,0,0,0,0,0,0,0,0,0,0,0,0,0,0,0,0,0,0,0,0,0,0,null,5,31,9,{"$f":"OFFSET(ETO!$C$3,$EM$2,$EL7,1,1)*7","v":23.939999999999998},null,{"$f":"OFFSET('input ข้าว'!$B$4,0,$D$1,1,1)","v":7},6070.4,null,{"$f":"IF(OR(EL7=11,EL7=12,EL7<5),OFFSET('input ข้าว'!$B$5,0,$D$1,1,1),OFFSET('input ข้าว'!$B$6,0,$D$1,1,1))","v":100},0,null,30,{"$f":"ROUND(OFFSET(ฝนใช้การ!$A$2,$EU$2,$EL7,1,1)*7/$EU7,2)","v":57.8},50124.160000000003,null,28649.86,0,0,0,0,0,0,0,0,0,0,0,0,0,0,0,0,0,0,0,0,0,0,0,0,0,0,0,0,0,0,0,0,0,0,0,0,0,0,0,0,0,0,0,0,0,0,0,0,0,0,0,0,0,0,0,0,0,0,0,0,0,0,0,0,28649.86,0,0]
[6,{"$f":"+'input ข้าว'!A14","v":"2017-09-06"},{"$f":"+'input ข้าว'!B14","v":"2017-09-12"},"2017-09-12",{"$f":"OFFSET('input ข้าว'!$B$8,A8,$D$1,1,1)","v":9524},542,0,0,0,0,9524,0,0,0,0,0,0,0,0,0,0,0,0,0,0,0,0,0,0,0,0,0,0,0,0,0,0,0,0,0,0,0,0,0,0,0,0,0,0,0,0,0,0,0,0,0,0,0,0,0,0,0,0,0,0,0,0,0,0,0,10066,6,{"$f":"IF(BT8=0,0,OFFSET(Kc!$A$2,1+BT8,MATCH($BU$1,List_Kc_ALL,0),1,1))","v":1.45},1.45,1.38,1.29,1.1200000000000001,1.07,1.03,0,0,0,0,0,0,0,0,0,0,0,0,0,0,0,0,0,0,0,0,0,0,0,0,0,0,0,0,0,0,0,0,0,0,0,0,0,0,0,0,0,0,0,0,0,0,0,0,0,0,0,0,0,0,0,0,0,0,0,null,6,30,9,{"$f":"OFFSET(ETO!$C$3,$EM$2,$EL8,1,1)*7","v":23.939999999999998},null,{"$f":"OFFSET('input ข้าว'!$B$4,0,$D$1,1,1)","v":7},112739.20000000001,null,{"$f":"IF(OR(EL8=11,EL8=12,EL8<5),OFFSET('input ข้าว'!$B$5,0,$D$1,1,1),OFFSET('input ข้าว'!$B$6,0,$D$1,1,1))","v":100},1523840.0000000002,null,30,{"$f":"ROUND(OFFSET(ฝนใช้การ!$A$2,$EU$2,$EL8,1,1)*7/$EU8,2)","v":57.8},930903.68,null,30103.11,0,0,0,0,375751.51,0,0,0,0,0,0,0,0,0,0,0,0,0,0,0,0,0,0,0,0,0,0,0,0,0,0,0,0,0,0,0,0,0,0,0,0,0,0,0,0,0,0,0,0,0,0,0,0,0,0,0,0,0,0,0,0,0,0,0,405854.62,1111530.1400000001,1235033.4888888891]
[7,{"$f":"+'input ข้าว'!A15","v":"2017-09-13"},{"$f":"+'input ข้าว'!B15","v":"2017-09-19"},"2017-09-19",{"$f":"OFFSET('input ข้าว'!$B$8,A9,$D$1,1,1)","v":30591},542,0,0,0,0,9524,30591,0,0,0,0,0,0,0,0,0,0,0,0,0,0,0,0,0,0,0,0,0,0,0,0,0,0,0,0,0,0,0,0,0,0,0,0,0,0,0,0,0,0,0,0,0,0,0,0,0,0,0,0,0,0,0,0,0,0,40657,7,{"$f":"IF(BT9=0,0,OFFSET(Kc!$A$2,1+BT9,MATCH($BU$1,List_Kc_ALL,0),1,1))","v":1.5},1.5,1.45,1.38,1.29,1.1200000000000001,1.07,1.03,0,0,0,0,0,0,0,0,0,0,0,0,0,0,0,0,0,0,0,0,0,0,0,0,0,0,0,0,0,0,0,0,0,0,0,0,0,0,0,0,0,0,0,0,0,0,0,0,0,0,0,0,0,0,0,0,0,0,null,7,31,9,{"$f":"OFFSET(ETO!$C$3,$EM$2,$EL9,1,1)*7","v":23.939999999999998},null,{"$f":"OFFSET('input ข้าว'!$B$4,0,$D$1,1,1)","v":7},455358.39999999997,null,{"$f":"IF(OR(EL9=11,EL9=12,EL9<5),OFFSET('input ข้าว'!$B$5,0,$D$1,1,1),OFFSET('input ข้าว'!$B$6,0,$D$1,1,1))","v":100},4894560.0000000009,null,30,{"$f":"ROUND(OFFSET(ฝนใช้การ!$A$2,$EU$2,$EL9,1,1)*7/$EU9,2)","v":57.8},3759959.36,null,31141.15,0,0,0,0,390343.81,1206910.3899999999,0,0,0,0,0,0,0,0,0,0,0,0,0,0,0,0,0,0,0,0,0,0,0,0,0,0,0,0,0,0,0,0,0,0,0,0,0,0,0,0,0,0,0,0,0,0,0,0,0,0,0,0,0,0,0,0,0,0,1628395.3499999999,3218354.3900000011,3575949.3222222235]
[8,{"$f":"+'input ข้าว'!A16","v":"2017-09-20"},{"$f":"+'input ข้าว'!B16","v":"2017-09-26"},"2017-09-26",{"$f":"OFFSET('input ข้าว'!$B$8,A10,$D$1,1,1)","v":20864},542,0,0,0,0,9524,30591,20864,0,0,0,0,0,0,0,0,0,0,0,0,0,0,0,0,0,0,0,0,0,0,0,0,0,0,0,0,0,0,0,0,0,0,0,0,0,0,0,0,0,0,0,0,0,0,0,0,0,0,0,0,0,0,0,0,0,61521,8,{"$f":"IF(BT10=0,0,OFFSET(Kc!$A$2,1+BT10,MATCH($BU$1,List_Kc_ALL,0),1,1))","v":1.48},1.48,1.5,1.45,1.38,1.29,1.1200000000000001,1.07,1.03,0,0,0,0,0,0,0,0,0,0,0,0,0,0,0,0,0,0,0,0,0,0,0,0,0,0,0,0,0,0,0,0,0,0,0,0,0,0,0,0,0,0,0,0,0,0,0,0,0,0,0,0,0,0,0,0,0,null,8,31,9,{"$f":"OFFSET(ETO!$C$3,$EM$2,$EL10,1,1)*7","v":23.939999999999998},null,{"$f":"OFFSET('input ข้าว'!$B$4,0,$D$1,1,1)","v":7},689035.2,null,{"$f":"IF(OR(EL10=11,EL10=12,EL10<5),OFFSET('input ข้าว'!$B$5,0,$D$1,1,1),OFFSET('input ข้าว'!$B$6,0,$D$1,1,1))","v":100},3338240,null,30,{"$f":"ROUND(OFFSET(ฝนใช้การ!$A$2,$EU$2,$EL10,1,1)*7/$EU10,2)","v":57.8},5689462.0800000001,null,30725.94,0,0,0,0,408584.17,1253780.7,823149.9,0,0,0,0,0,0,0,0,0,0,0,0,0,0,0,0,0,0,0,0,0,0,0,0,0,0,0,0,0,0,0,0,0,0,0,0,0,0,0,0,0,0,0,0,0,0,0,0,0,0,0,0,0,0,0,0,0,2516240.71,854053.83000000007,948948.7]
[9,{"$f":"+'input ข้าว'!A17","v":"2017-09-27"},{"$f":"+'input ข้าว'!B17","v":"2017-10-03"},"2017-10-03",{"$f":"OFFSET('input ข้าว'!$B$8,A11,$D$1,1,1)","v":13375},542,0,0,0,0,9524,30591,20864,13375,0,0,0,0,0,0,0,0,0,0,0,0,0,0,0,0,0,0,0,0,0,0,0,0,0,0,0,0,0,0,0,0,0,0,0,0,0,0,0,0,0,0,0,0,0,0,0,0,0,0,0,0,0,0,0,0,74896,9,{"$f":"IF(BT11=0,0,OFFSET(Kc!$A$2,1+BT11,MATCH($BU$1,List_Kc_ALL,0),1,1))","v":1.42},1.42,1.48,1.5,1.45,1.38,1.29,1.1200000000000001,1.07,1.03,0,0,0,0,0,0,0,0,0,0,0,0,0,0,0,0,0,0,0,0,0,0,0,0,0,0,0,0,0,0,0,0,0,0,0,0,0,0,0,0,0,0,0,0,0,0,0,0,0,0,0,0,0,0,0,0,null,9,30,10,{"$f":"OFFSET(ETO!$C$3,$EM$2,$EL11,1,1)*7","v":22.82},null,{"$f":"OFFSET('input ข้าว'!$B$4,0,$D$1,1,1)","v":7},838835.20000000007,null,{"$f":"IF(OR(EL11=11,EL11=12,EL11<5),OFFSET('input ข้าว'!$B$5,0,$D$1,1,1),OFFSET('input ข้าว'!$B$6,0,$D$1,1,1))","v":100},2140000,null,31,{"$f":"ROUND(OFFSET(ฝนใช้การ!$A$2,$EU$2,$EL11,1,1)*7/$EU11,2)","v":32.92},3944922.11,null,28101.1,0,0,0,0,448584.97,1250971.22,815111.41,502998.44,0,0,0,0,0,0,0,0,0,0,0,0,0,0,0,0,0,0,0,0,0,0,0,0,0,0,0,0,0,0,0,0,0,0,0,0,0,0,0,0,0,0,0,0,0,0,0,0,0,0,0,0,0,0,0,0,3045767.14,2079680.23,2310755.8111111112]
[10,{"$f":"+'input ข้าว'!A18","v":"2017-10-04"},{"$f":"+'input ข้าว'!B18","v":"2017-10-10"},"2017-10-10",{"$f":"OFFSET('input ข้าว'!$B$8,A12,$D$1,1,1)","v":7795},542,0,0,0,0,9524,30591,20864,13375,7795,0,0,0,0,0,0,0,0,0,0,0,0,0,0,0,0,0,0,0,0,0,0,0,0,0,0,0,0,0,0,0,0,0,0,0,0,0,0,0,0,0,0,0,0,0,0,0,0,0,0,0,0,0,0,0,82691,10,{"$f":"IF(BT12=0,0,OFFSET(Kc!$A$2,1+BT12,MATCH($BU$1,List_Kc_ALL,0),1,1))","v":1.34},1.34,1.42,1.48,1.5,1.45,1.38,1.29,1.1200000000000001,1.07,1.03,0,0,0,0,0,0,0,0,0,0,0,0,0,0,0,0,0,0,0,0,0,0,0,0,0,0,0,0,0,0,0,0,0,0,0,0,0,0,0,0,0,0,0,0,0,0,0,0,0,0,0,0,0,0,0,null,10,31,10,{"$f":"OFFSET(ETO!$C$3,$EM$2,$EL12,1,1)*7","v":22.82},null,{"$f":"OFFSET('input ข้าว'!$B$4,0,$D$1,1,1)","v":7},926139.2,null,{"$f":"IF(OR(EL12=11,EL12=12,EL12<5),OFFSET('input ข้าว'!$B$5,0,$D$1,1,1),OFFSET('input ข้าว'!$B$6,0,$D$1,1,1))","v":100},1247200,null,31,{"$f":"ROUND(OFFSET(ฝนใช้การ!$A$2,$EU$2,$EL12,1,1)*7/$EU12,2)","v":32.92},4355500.3499999996,null,26517.94,0,0,0,0,479881.6,1440850.78,853200.73,522532.36,293149.37,0,0,0,0,0,0,0,0,0,0,0,0,0,0,0,0,0,0,0,0,0,0,0,0,0,0,0,0,0,0,0,0,0,0,0,0,0,0,0,0,0,0,0,0,0,0,0,0,0,0,0,0,0,0,0,3616132.78,1433971.6300000008,1593301.8111111121]
[11,{"$f":"+'input ข้าว'!A19","v":"2017-10-11"},{"$f":"+'input ข้าว'!B19","v":"2017-10-17"},"2017-10-17",{"$f":"OFFSET('input ข้าว'!$B$8,A13,$D$1,1,1)","v":6553},542,0,0,0,0,9524,30591,20864,13375,7795,6553,0,0,0,0,0,0,0,0,0,0,0,0,0,0,0,0,0,0,0,0,0,0,0,0,0,0,0,0,0,0,0,0,0,0,0,0,0,0,0,0,0,0,0,0,0,0,0,0,0,0,0,0,0,0,89244,11,{"$f":"IF(BT13=0,0,OFFSET(Kc!$A$2,1+BT13,MATCH($BU$1,List_Kc_ALL,0),1,1))","v":1.23},1.23,1.34,1.42,1.48,1.5,1.45,1.38,1.29,1.1200000000000001,1.07,1.03,0,0,0,0,0,0,0,0,0,0,0,0,0,0,0,0,0,0,0,0,0,0,0,0,0,0,0,0,0,0,0,0,0,0,0,0,0,0,0,0,0,0,0,0,0,0,0,0,0,0,0,0,0,0,null,11,30,10,{"$f":"OFFSET(ETO!$C$3,$EM$2,$EL13,1,1)*7","v":22.82},null,{"$f":"OFFSET('input ข้าว'!$B$4,0,$D$1,1,1)","v":7},999532.79999999993,null,{"$f":"IF(OR(EL13=11,EL13=12,EL13<5),OFFSET('input ข้าว'!$B$5,0,$D$1,1,1),OFFSET('input ข้าว'!$B$6,0,$D$1,1,1))","v":100},1048480.0000000001,null,31,{"$f":"ROUND(OFFSET(ฝนใช้การ!$A$2,$EU$2,$EL13,1,1)*7/$EU13,2)","v":32.92},4700659.97,null,24341.09,0,0,0,0,504223.42,1541375.26,982704.41,546949.76,304533.81,246441.03,0,0,0,0,0,0,0,0,0,0,0,0,0,0,0,0,0,0,0,0,0,0,0,0,0,0,0,0,0,0,0,0,0,0,0,0,0,0,0,0,0,0,0,0,0,0,0,0,0,0,0,0,0,0,4150568.7800000003,1497921.6100000003,1664357.3444444449]
[12,{"$f":"+'input ข้าว'!A20","v":"2017-10-18"},{"$f":"+'input ข้าว'!B20","v":"2017-10-24"},"2017-10-24",{"$f":"OFFSET('input ข้าว'!$B$8,A14,$D$1,1,1)","v":0},542,0,0,0,0,9524,30591,20864,13375,7795,6553,0,0,0,0,0,0,0,0,0,0,0,0,0,0,0,0,0,0,0,0,0,0,0,0,0,0,0,0,0,0,0,0,0,0,0,0,0,0,0,0,0,0,0,0,0,0,0,0,0,0,0,0,0,0,89244,12,{"$f":"IF(BT14=0,0,OFFSET(Kc!$A$2,1+BT14,MATCH($BU$1,List_Kc_ALL,0),1,1))","v":0.94},0.94,1.23,1.34,1.42,1.48,1.5,1.45,1.38,1.29,1.1200000000000001,1.07,1.03,0,0,0,0,0,0,0,0,0,0,0,0,0,0,0,0,0,0,0,0,0,0,0,0,0,0,0,0,0,0,0,0,0,0,0,0,0,0,0,0,0,0,0,0,0,0,0,0,0,0,0,0,0,null,12,31,10,{"$f":"OFFSET(ETO!$C$3,$EM$2,$EL14,1,1)*7","v":22.82},null,{"$f":"OFFSET('input ข้าว'!$B$4,0,$D$1,1,1)","v":7},999532.79999999993,null,{"$f":"IF(OR(EL14=11,EL14=12,EL14<5),OFFSET('input ข้าว'!$B$5,0,$D$1,1,1),OFFSET('input ข้าว'!$B$6,0,$D$1,1,1))","v":100},0,null,31,{"$f":"ROUND(OFFSET(ฝนใช้การ!$A$2,$EU$2,$EL14,1,1)*7/$EU14,2)","v":32.92},4700659.97,null,18602.13,0,0,0,0,521610.43,1619560.96,1051265.19,629968.92000000004,318764.36,256011.56,0,0,0,0,0,0,0,0,0,0,0,0,0,0,0,0,0,0,0,0,0,0,0,0,0,0,0,0,0,0,0,0,0,0,0,0,0,0,0,0,0,0,0,0,0,0,0,0,0,0,0,0,0,0,4415783.55,714656.37999999989,794062.64444444433]
[13,{"$f":"+'input ข้าว'!A21","v":"2017-10-25"},{"$f":"+'input ข้าว'!B21","v":"2017-10-31"},"2017-10-31",{"$f":"OFFSET('input ข้าว'!$B$8,A15,$D$1,1,1)","v":1761},542,0,0,0,0,9524,30591,20864,13375,7795,6553,0,1761,0,0,0,0,0,0,0,0,0,0,0,0,0,0,0,0,0,0,0,0,0,0,0,0,0,0,0,0,0,0,0,0,0,0,0,0,0,0,0,0,0,0,0,0,0,0,0,0,0,0,0,0,91005,13,{"$f":"IF(BT15=0,0,OFFSET(Kc!$A$2,1+BT15,MATCH($BU$1,List_Kc_ALL,0),1,1))","v":0.86},0.86,0.94,1.23,1.34,1.42,1.48,1.5,1.45,1.38,1.29,1.1200000000000001,1.07,1.03,0,0,0,0,0,0,0,0,0,0,0,0,0,0,0,0,0,0,0,0,0,0,0,0,0,0,0,0,0,0,0,0,0,0,0,0,0,0,0,0,0,0,0,0,0,0,0,0,0,0,0,0,null,null,null,10,{"$f":"OFFSET(ETO!$C$3,$EM$2,$EL15,1,1)*7","v":22.82},null,{"$f":"OFFSET('input ข้าว'!$B$4,0,$D$1,1,1)","v":7},1019256,null,{"$f":"IF(OR(EL15=11,EL15=12,EL15<5),OFFSET('input ข้าว'!$B$5,0,$D$1,1,1),OFFSET('input ข้าว'!$B$6,0,$D$1,1,1))","v":100},281760.00000000006,null,31,{"$f":"ROUND(OFFSET(ฝนใช้การ!$A$2,$EU$2,$EL15,1,1)*7/$EU15,2)","v":32.92},4793415.3600000003,null,17018.97,0,0,0,0,514655.63,1675407.89,1104590.23,673920.24,367148.24,267974.71000000002,0,66226.559999999998,0,0,0,0,0,0,0,0,0,0,0,0,0,0,0,0,0,0,0,0,0,0,0,0,0,0,0,0,0,0,0,0,0,0,0,0,0,0,0,0,0,0,0,0,0,0,0,0,0,0,0,0,4686942.47,1194543.1099999994,1327270.1222222215]
[14,{"$f":"+'input ข้าว'!A22","v":"2017-11-01"},{"$f":"+'input ข้าว'!B22","v":"2017-11-07"},"2017-11-07",{"$f":"OFFSET('input ข้าว'!$B$8,A16,$D$1,1,1)","v":0},0,0,0,0,0,9524,30591,20864,13375,7795,6553,0,1761,0,0,0,0,0,0,0,0,0,0,0,0,0,0,0,0,0,0,0,0,0,0,0,0,0,0,0,0,0,0,0,0,0,0,0,0,0,0,0,0,0,0,0,0,0,0,0,0,0,0,0,0,90463,0,{"$f":"IF(BT16=0,0,OFFSET(Kc!$A$2,1+BT16,MATCH($BU$1,List_Kc_ALL,0),1,1))","v":0},0,0.86,0.94,1.23,1.34,1.42,1.48,1.5,1.45,1.38,1.29,1.1200000000000001,1.07,1.03,0,0,0,0,0,0,0,0,0,0,0,0,0,0,0,0,0,0,0,0,0,0,0,0,0,0,0,0,0,0,0,0,0,0,0,0,0,0,0,0,0,0,0,0,0,0,0,0,0,0,0,null,null,null,11,{"$f":"OFFSET(ETO!$C$3,$EM$2,$EL16,1,1)*7","v":23.17},null,{"$f":"OFFSET('input ข้าว'!$B$4,0,$D$1,1,1)","v":7},1013185.6,null,{"$f":"IF(OR(EL16=11,EL16=12,EL16<5),OFFSET('input ข้าว'!$B$5,0,$D$1,1,1),OFFSET('input ข้าว'!$B$6,0,$D$1,1,1))","v":0},0,null,30,{"$f":"ROUND(OFFSET(ฝนใช้การ!$A$2,$EU$2,$EL16,1,1)*7/$EU16,2)","v":7.3},1056607.8400000001,null,0,0,0,0,0,501364.69,1678422.94,1160205.31,718965.1,398787.21,313383.33,0,69853.66,0,0,0,0,0,0,0,0,0,0,0,0,0,0,0,0,0,0,0,0,0,0,0,0,0,0,0,0,0,0,0,0,0,0,0,0,0,0,0,0,0,0,0,0,0,0,0,0,0,0,0,0,4840982.24,4797560,5330622.222222222]
[15,{"$f":"+'input ข้าว'!A23","v":"2017-11-08"},{"$f":"+'input ข้าว'!B23","v":"2017-11-14"},"2017-11-14",{"$f":"OFFSET('input ข้าว'!$B$8,A17,$D$1,1,1)","v":927},0,0,0,0,0,9524,30591,20864,13375,7795,6553,0,1761,0,927,0,0,0,0,0,0,0,0,0,0,0,0,0,0,0,0,0,0,0,0,0,0,0,0,0,0,0,0,0,0,0,0,0,0,0,0,0,0,0,0,0,0,0,0,0,0,0,0,0,0,91390,0,{"$f":"IF(BT17=0,0,OFFSET(Kc!$A$2,1+BT17,MATCH($BU$1,List_Kc_ALL,0),1,1))","v":0},0,0,0.86,0.94,1.23,1.34,1.42,1.48,1.5,1.45,1.38,1.29,1.1200000000000001,1.07,1.03,0,0,0,0,0,0,0,0,0,0,0,0,0,0,0,0,0,0,0,0,0,0,0,0,0,0,0,0,0,0,0,0,0,0,0,0,0,0,0,0,0,0,0,0,0,0,0,0,0,0,null,null,null,11,{"$f":"OFFSET(ETO!$C$3,$EM$2,$EL17,1,1)*7","v":23.17},null,{"$f":"OFFSET('input ข้าว'!$B$4,0,$D$1,1,1)","v":7},1023568,null,{"$f":"IF(OR(EL17=11,EL17=12,EL17<5),OFFSET('input ข้าว'!$B$5,0,$D$1,1,1),OFFSET('input ข้าว'!$B$6,0,$D$1,1,1))","v":0},0,null,30,{"$f":"ROUND(OFFSET(ฝนใช้การ!$A$2,$EU$2,$EL17,1,1)*7/$EU17,2)","v":7.3},1067435.2,null,0,0,0,0,0,473118.8,1610378.76,1144735.9099999999,743757,419015.55,335247.28999999998,0,73117.850000000006,0,35396.720000000001,0,0,0,0,0,0,0,0,0,0,0,0,0,0,0,0,0,0,0,0,0,0,0,0,0,0,0,0,0,0,0,0,0,0,0,0,0,0,0,0,0,0,0,0,0,0,0,0,0,0,4834767.879999999,4790900.6799999988,5323222.9777777763]
[16,{"$f":"+'input ข้าว'!A24","v":"2017-11-15"},{"$f":"+'input ข้าว'!B24","v":"2017-11-21"},"2017-11-21",{"$f":"OFFSET('input ข้าว'!$B$8,A18,$D$1,1,1)","v":2151},0,0,0,0,0,9524,30591,20864,13375,7795,6553,0,1761,0,927,2151,0,0,0,0,0,0,0,0,0,0,0,0,0,0,0,0,0,0,0,0,0,0,0,0,0,0,0,0,0,0,0,0,0,0,0,0,0,0,0,0,0,0,0,0,0,0,0,0,0,93541,0,{"$f":"IF(BT18=0,0,OFFSET(Kc!$A$2,1+BT18,MATCH($BU$1,List_Kc_ALL,0),1,1))","v":0},0,0,0,0.86,0.94,1.23,1.34,1.42,1.48,1.5,1.45,1.38,1.29,1.1200000000000001,1.07,1.03,0,0,0,0,0,0,0,0,0,0,0,0,0,0,0,0,0,0,0,0,0,0,0,0,0,0,0,0,0,0,0,0,0,0,0,0,0,0,0,0,0,0,0,0,0,0,0,0,0,null,null,null,11,{"$f":"OFFSET(ETO!$C$3,$EM$2,$EL18,1,1)*7","v":23.17},null,{"$f":"OFFSET('input ข้าว'!$B$4,0,$D$1,1,1)","v":7},1047659.2000000001,null,{"$f":"IF(OR(EL18=11,EL18=12,EL18<5),OFFSET('input ข้าว'!$B$5,0,$D$1,1,1),OFFSET('input ข้าว'!$B$6,0,$D$1,1,1))","v":0},0,null,30,{"$f":"ROUND(OFFSET(ฝนใช้การ!$A$2,$EU$2,$EL18,1,1)*7/$EU18,2)","v":7.3},1092558.8799999999,null,0,0,0,0,0,434280.69,1519653.2,1098327.7,733840.24,433464.36,352252.58,0,84216.09,0,36771.35,82134.13,0,0,0,0,0,0,0,0,0,0,0,0,0,0,0,0,0,0,0,0,0,0,0,0,0,0,0,0,0,0,0,0,0,0,0,0,0,0,0,0,0,0,0,0,0,0,0,0,0,4774940.34,4730040.66,5255600.7333333334]
[17,{"$f":"+'input ข้าว'!A25","v":"2017-11-22"},{"$f":"+'input ข้าว'!B25","v":"2017-11-28"},"2017-11-28",{"$f":"OFFSET('input ข้าว'!$B$8,A19,$D$1,1,1)","v":0},0,0,0,0,0,9524,30591,20864,13375,7795,6553,0,1761,0,927,2151,0,0,0,0,0,0,0,0,0,0,0,0,0,0,0,0,0,0,0,0,0,0,0,0,0,0,0,0,0,0,0,0,0,0,0,0,0,0,0,0,0,0,0,0,0,0,0,0,0,93541,0,{"$f":"IF(BT19=0,0,OFFSET(Kc!$A$2,1+BT19,MATCH($BU$1,List_Kc_ALL,0),1,1))","v":0},0,0,0,0,0.86,0.94,1.23,1.34,1.42,1.48,1.5,1.45,1.38,1.29,1.1200000000000001,1.07,1.03,0,0,0,0,0,0,0,0,0,0,0,0,0,0,0,0,0,0,0,0,0,0,0,0,0,0,0,0,0,0,0,0,0,0,0,0,0,0,0,0,0,0,0,0,0,0,0,0,null,null,null,11,{"$f":"OFFSET(ETO!$C$3,$EM$2,$EL19,1,1)*7","v":23.17},null,{"$f":"OFFSET('input ข้าว'!$B$4,0,$D$1,1,1)","v":7},1047659.2000000001,null,{"$f":"IF(OR(EL19=11,EL19=12,EL19<5),OFFSET('input ข้าว'!$B$5,0,$D$1,1,1),OFFSET('input ข้าว'!$B$6,0,$D$1,1,1))","v":0},0,null,30,{"$f":"ROUND(OFFSET(ฝนใช้การ!$A$2,$EU$2,$EL19,1,1)*7/$EU19,2)","v":7.3},1092558.8799999999,null,0,0,0,0,0,331889.3,1394905.55,1036450.08,704089.96,427684.84,364399.22,0,90091.63,0,38489.629999999997,85323.8,0,0,0,0,0,0,0,0,0,0,0,0,0,0,0,0,0,0,0,0,0,0,0,0,0,0,0,0,0,0,0,0,0,0,0,0,0,0,0,0,0,0,0,0,0,0,0,0,0,4473324.01,4428424.33,4920471.4777777782]
[18,{"$f":"+'input ข้าว'!A26","v":"2017-11-29"},{"$f":"+'input ข้าว'!B26","v":"2017-12-05"},"2017-12-05",{"$f":"OFFSET('input ข้าว'!$B$8,A20,$D$1,1,1)","v":0},0,0,0,0,0,9524,30591,20864,13375,7795,6553,0,1761,0,927,2151,0,0,0,0,0,0,0,0,0,0,0,0,0,0,0,0,0,0,0,0,0,0,0,0,0,0,0,0,0,0,0,0,0,0,0,0,0,0,0,0,0,0,0,0,0,0,0,0,0,93541,0,{"$f":"IF(BT20=0,0,OFFSET(Kc!$A$2,1+BT20,MATCH($BU$1,List_Kc_ALL,0),1,1))","v":0},0,0,0,0,0,0.86,0.94,1.23,1.34,1.42,1.48,1.5,1.45,1.38,1.29,1.1200000000000001,1.07,1.03,0,0,0,0,0,0,0,0,0,0,0,0,0,0,0,0,0,0,0,0,0,0,0,0,0,0,0,0,0,0,0,0,0,0,0,0,0,0,0,0,0,0,0,0,0,0,0,null,null,null,12,{"$f":"OFFSET(ETO!$C$3,$EM$2,$EL20,1,1)*7","v":22.47},null,{"$f":"OFFSET('input ข้าว'!$B$4,0,$D$1,1,1)","v":7},1047659.2000000001,null,{"$f":"IF(OR(EL20=11,EL20=12,EL20<5),OFFSET('input ข้าว'!$B$5,0,$D$1,1,1),OFFSET('input ข้าว'!$B$6,0,$D$1,1,1))","v":0},0,null,31,{"$f":"ROUND(OFFSET(ฝนใช้การ!$A$2,$EU$2,$EL20,1,1)*7/$EU20,2)","v":1.1299999999999999},169122.13,null,0,0,0,0,0,294469.89,1033819.17,922626.11,644349.72,397949.09,348678.31,0,91801.63,0,42992.480000000003,86612.68,0,0,0,0,0,0,0,0,0,0,0,0,0,0,0,0,0,0,0,0,0,0,0,0,0,0,0,0,0,0,0,0,0,0,0,0,0,0,0,0,0,0,0,0,0,0,0,0,0,3863299.0799999996,4741836.1499999994,5268706.833333333]
[19,{"$f":"+'input ข้าว'!A27","v":"2017-12-06"},{"$f":"+'input ข้าว'!B27","v":"2017-12-12"},"2017-12-12",{"$f":"OFFSET('input ข้าว'!$B$8,A21,$D$1,1,1)","v":2713},0,0,0,0,0,0,30591,20864,13375,7795,6553,0,1761,0,927,2151,0,0,2713,0,0,0,0,0,0,0,0,0,0,0,0,0,0,0,0,0,0,0,0,0,0,0,0,0,0,0,0,0,0,0,0,0,0,0,0,0,0,0,0,0,0,0,0,0,0,86730,0,{"$f":"IF(BT21=0,0,OFFSET(Kc!$A$2,1+BT21,MATCH($BU$1,List_Kc_ALL,0),1,1))","v":0},0,0,0,0,0,0,0.86,0.94,1.23,1.34,1.42,1.48,1.5,1.45,1.38,1.29,1.1200000000000001,1.07,1.03,0,0,0,0,0,0,0,0,0,0,0,0,0,0,0,0,0,0,0,0,0,0,0,0,0,0,0,0,0,0,0,0,0,0,0,0,0,0,0,0,0,0,0,0,0,0,null,null,null,12,{"$f":"OFFSET(ETO!$C$3,$EM$2,$EL21,1,1)*7","v":22.47},null,{"$f":"OFFSET('input ข้าว'!$B$4,0,$D$1,1,1)","v":7},971376,null,{"$f":"IF(OR(EL21=11,EL21=12,EL21<5),OFFSET('input ข้าว'!$B$5,0,$D$1,1,1),OFFSET('input ข้าว'!$B$6,0,$D$1,1,1))","v":0},0,null,31,{"$f":"ROUND(OFFSET(ฝนใช้การ!$A$2,$EU$2,$EL21,1,1)*7/$EU21,2)","v":1.1299999999999999},156807.84,null,0,0,0,0,0,0,945834.56,705096.38,591455.34,375529.43,334542.71000000002,0,94967.21,0,45991.96,99759.25,0,0,100463.91,0,0,0,0,0,0,0,0,0,0,0,0,0,0,0,0,0,0,0,0,0,0,0,0,0,0,0,0,0,0,0,0,0,0,0,0,0,0,0,0,0,0,0,0,0,0,3293640.75,4108208.91,4564676.5666666664]
[20,{"$f":"+'input ข้าว'!A28","v":"2017-12-13"},{"$f":"+'input ข้าว'!B28","v":"2017-12-19"},"2017-12-19",{"$f":"OFFSET('input ข้าว'!$B$8,A22,$D$1,1,1)","v":0},0,0,0,0,0,0,0,20864,13375,7795,6553,0,1761,0,927,2151,0,0,2713,0,0,0,0,0,0,0,0,0,0,0,0,0,0,0,0,0,0,0,0,0,0,0,0,0,0,0,0,0,0,0,0,0,0,0,0,0,0,0,0,0,0,0,0,0,0,56139,0,{"$f":"IF(BT22=0,0,OFFSET(Kc!$A$2,1+BT22,MATCH($BU$1,List_Kc_ALL,0),1,1))","v":0},0,0,0,0,0,0,0,0.86,0.94,1.23,1.34,1.42,1.48,1.5,1.45,1.38,1.29,1.1200000000000001,1.07,1.03,0,0,0,0,0,0,0,0,0,0,0,0,0,0,0,0,0,0,0,0,0,0,0,0,0,0,0,0,0,0,0,0,0,0,0,0,0,0,0,0,0,0,0,0,0,null,null,null,12,{"$f":"OFFSET(ETO!$C$3,$EM$2,$EL22,1,1)*7","v":22.47},null,{"$f":"OFFSET('input ข้าว'!$B$4,0,$D$1,1,1)","v":7},628756.80000000005,null,{"$f":"IF(OR(EL22=11,EL22=12,EL22<5),OFFSET('input ข้าว'!$B$5,0,$D$1,1,1),OFFSET('input ข้าว'!$B$6,0,$D$1,1,1))","v":0},0,null,31,{"$f":"ROUND(OFFSET(ฝนใช้การ!$A$2,$EU$2,$EL22,1,1)*7/$EU22,2)","v":1.1299999999999999},101499.31,null,0,0,0,0,0,0,0,645088.17000000004,452006.52,344702.38,315695.23,0,93700.98,0,48324.88,106719.2,0,0,104365.42,0,0,0,0,0,0,0,0,0,0,0,0,0,0,0,0,0,0,0,0,0,0,0,0,0,0,0,0,0,0,0,0,0,0,0,0,0,0,0,0,0,0,0,0,0,0,2110602.7799999998,2637860.27,2930955.8555555558]
[21,{"$f":"+'input ข้าว'!A29","v":"2017-12-20"},{"$f":"+'input ข้าว'!B29","v":"2017-12-26"},"2017-12-26",{"$f":"OFFSET('input ข้าว'!$B$8,A23,$D$1,1,1)","v":10656},0,0,0,0,0,0,0,0,13375,7795,6553,0,1761,0,927,2151,0,0,2713,0,10656,0,0,0,0,0,0,0,0,0,0,0,0,0,0,0,0,0,0,0,0,0,0,0,0,0,0,0,0,0,0,0,0,0,0,0,0,0,0,0,0,0,0,0,0,45931,0,{"$f":"IF(BT23=0,0,OFFSET(Kc!$A$2,1+BT23,MATCH($BU$1,List_Kc_ALL,0),1,1))","v":0},0,0,0,0,0,0,0,0,0.86,0.94,1.23,1.34,1.42,1.48,1.5,1.45,1.38,1.29,1.1200000000000001,1.07,1.03,0,0,0,0,0,0,0,0,0,0,0,0,0,0,0,0,0,0,0,0,0,0,0,0,0,0,0,0,0,0,0,0,0,0,0,0,0,0,0,0,0,0,0,0,null,null,null,12,{"$f":"OFFSET(ETO!$C$3,$EM$2,$EL23,1,1)*7","v":22.47},null,{"$f":"OFFSET('input ข้าว'!$B$4,0,$D$1,1,1)","v":7},514427.2,null,{"$f":"IF(OR(EL23=11,EL23=12,EL23<5),OFFSET('input ข้าว'!$B$5,0,$D$1,1,1),OFFSET('input ข้าว'!$B$6,0,$D$1,1,1))","v":0},0,null,31,{"$f":"ROUND(OFFSET(ฝนใช้การ!$A$2,$EU$2,$EL23,1,1)*7/$EU23,2)","v":1.1299999999999999},83043.25,null,0,0,0,0,0,0,0,0,413537.88,263431.09000000003,289779.95,0,89902.29,0,49991.26,112132.49,0,0,109242.31,0,394597.65,0,0,0,0,0,0,0,0,0,0,0,0,0,0,0,0,0,0,0,0,0,0,0,0,0,0,0,0,0,0,0,0,0,0,0,0,0,0,0,0,0,0,0,0,1722614.92,2153998.87,2393332.0777777778]
[22,{"$f":"+'input ข้าว'!A30","v":"2017-12-27"},{"$f":"+'input ข้าว'!B30","v":"2018-01-02"},"2018-01-02",{"$f":"OFFSET('input ข้าว'!$B$8,A24,$D$1,1,1)","v":0},0,0,0,0,0,0,0,0,0,7795,6553,0,1761,0,927,2151,0,0,2713,0,10656,0,0,0,0,0,0,0,0,0,0,0,0,0,0,0,0,0,0,0,0,0,0,0,0,0,0,0,0,0,0,0,0,0,0,0,0,0,0,0,0,0,0,0,0,32556,0,{"$f":"IF(BT24=0,0,OFFSET(Kc!$A$2,1+BT24,MATCH($BU$1,List_Kc_ALL,0),1,1))","v":0},0,0,0,0,0,0,0,0,0,0.86,0.94,1.23,1.34,1.42,1.48,1.5,1.45,1.38,1.29,1.1200000000000001,1.07,1.03,0,0,0,0,0,0,0,0,0,0,0,0,0,0,0,0,0,0,0,0,0,0,0,0,0,0,0,0,0,0,0,0,0,0,0,0,0,0,0,0,0,0,0,null,null,null,1,{"$f":"OFFSET(ETO!$C$3,$EM$2,$EL24,1,1)*7","v":23.099999999999998},null,{"$f":"OFFSET('input ข้าว'!$B$4,0,$D$1,1,1)","v":7},364627.20000000001,null,{"$f":"IF(OR(EL24=11,EL24=12,EL24<5),OFFSET('input ข้าว'!$B$5,0,$D$1,1,1),OFFSET('input ข้าว'!$B$6,0,$D$1,1,1))","v":0},0,null,31,{"$f":"ROUND(OFFSET(ฝนใช้การ!$A$2,$EU$2,$EL24,1,1)*7/$EU24,2)","v":1.29},67195.58,null,0,0,0,0,0,0,0,0,0,247768.75,227666.95,0,87215.99,0,50707.64,119251.44,0,0,129351.5,0,421414.96,0,0,0,0,0,0,0,0,0,0,0,0,0,0,0,0,0,0,0,0,0,0,0,0,0,0,0,0,0,0,0,0,0,0,0,0,0,0,0,0,0,0,0,0,1283377.23,1580808.8499999999,1756454.2777777778]
[23,{"$f":"+'input ข้าว'!A31","v":"2018-01-03"},{"$f":"+'input ข้าว'!B31","v":"2018-01-09"},"2018-01-09",{"$f":"OFFSET('input ข้าว'!$B$8,A25,$D$1,1,1)","v":19480},0,0,0,0,0,0,0,0,0,0,6553,0,1761,0,927,2151,0,0,2713,0,10656,0,19480,0,0,0,0,0,0,0,0,0,0,0,0,0,0,0,0,0,0,0,0,0,0,0,0,0,0,0,0,0,0,0,0,0,0,0,0,0,0,0,0,0,0,44241,0,{"$f":"IF(BT25=0,0,OFFSET(Kc!$A$2,1+BT25,MATCH($BU$1,List_Kc_ALL,0),1,1))","v":0},0,0,0,0,0,0,0,0,0,0,0.86,0.94,1.23,1.34,1.42,1.48,1.5,1.45,1.38,1.29,1.1200000000000001,1.07,1.03,0,0,0,0,0,0,0,0,0,0,0,0,0,0,0,0,0,0,0,0,0,0,0,0,0,0,0,0,0,0,0,0,0,0,0,0,0,0,0,0,0,0,null,null,null,1,{"$f":"OFFSET(ETO!$C$3,$EM$2,$EL25,1,1)*7","v":23.099999999999998},null,{"$f":"OFFSET('input ข้าว'!$B$4,0,$D$1,1,1)","v":7},495499.2,null,{"$f":"IF(OR(EL25=11,EL25=12,EL25<5),OFFSET('input ข้าว'!$B$5,0,$D$1,1,1),OFFSET('input ข้าว'!$B$6,0,$D$1,1,1))","v":0},0,null,31,{"$f":"ROUND(OFFSET(ฝนใช้การ!$A$2,$EU$2,$EL25,1,1)*7/$EU25,2)","v":1.29},91313.42,null,0,0,0,0,0,0,0,0,0,0,208291.04,0,80056.47,0,48651.93,117661.42,0,0,138376.01999999999,0,441107.25,0,741580.22,0,0,0,0,0,0,0,0,0,0,0,0,0,0,0,0,0,0,0,0,0,0,0,0,0,0,0,0,0,0,0,0,0,0,0,0,0,0,0,0,0,0,1775724.35,2179910.1300000004,2422122.3666666672]
[24,{"$f":"+'input ข้าว'!A32","v":"2018-01-10"},{"$f":"+'input ข้าว'!B32","v":"2018-01-16"},"2018-01-16",{"$f":"OFFSET('input ข้าว'!$B$8,A26,$D$1,1,1)","v":19444},0,0,0,0,0,0,0,0,0,0,0,0,1761,0,927,2151,0,0,2713,0,10656,0,19480,19444,0,0,0,0,0,0,0,0,0,0,0,0,0,0,0,0,0,0,0,0,0,0,0,0,0,0,0,0,0,0,0,0,0,0,0,0,0,0,0,0,0,57132,0,{"$f":"IF(BT26=0,0,OFFSET(Kc!$A$2,1+BT26,MATCH($BU$1,List_Kc_ALL,0),1,1))","v":0},0,0,0,0,0,0,0,0,0,0,0,0.86,0.94,1.23,1.34,1.42,1.48,1.5,1.45,1.38,1.29,1.1200000000000001,1.07,1.03,0,0,0,0,0,0,0,0,0,0,0,0,0,0,0,0,0,0,0,0,0,0,0,0,0,0,0,0,0,0,0,0,0,0,0,0,0,0,0,0,0,null,null,null,1,{"$f":"OFFSET(ETO!$C$3,$EM$2,$EL26,1,1)*7","v":23.099999999999998},null,{"$f":"OFFSET('input ข้าว'!$B$4,0,$D$1,1,1)","v":7},639878.40000000002,null,{"$f":"IF(OR(EL26=11,EL26=12,EL26<5),OFFSET('input ข้าว'!$B$5,0,$D$1,1,1),OFFSET('input ข้าว'!$B$6,0,$D$1,1,1))","v":0},0,null,31,{"$f":"ROUND(OFFSET(ฝนใช้การ!$A$2,$EU$2,$EL26,1,1)*7/$EU26,2)","v":1.29},117920.45,null,0,0,0,0,0,0,0,0,0,0,0,0,61181.37,0,45910.97,112891.36,0,0,145395.1,0,508061.03,0,770379.46,740209.75,0,0,0,0,0,0,0,0,0,0,0,0,0,0,0,0,0,0,0,0,0,0,0,0,0,0,0,0,0,0,0,0,0,0,0,0,0,0,0,0,0,2384029.04,2905986.9899999998,3228874.4333333331]
[25,{"$f":"+'input ข้าว'!A33","v":"2018-01-17"},{"$f":"+'input ข้าว'!B33","v":"2018-01-23"},"2018-01-23",{"$f":"OFFSET('input ข้าว'!$B$8,A27,$D$1,1,1)","v":13514},0,0,0,0,0,0,0,0,0,0,0,0,1761,0,927,2151,0,0,2713,0,10656,0,19480,19444,13514,0,0,0,0,0,0,0,0,0,0,0,0,0,0,0,0,0,0,0,0,0,0,0,0,0,0,0,0,0,0,0,0,0,0,0,0,0,0,0,0,70646,0,{"$f":"IF(BT27=0,0,OFFSET(Kc!$A$2,1+BT27,MATCH($BU$1,List_Kc_ALL,0),1,1))","v":0},0,0,0,0,0,0,0,0,0,0,0,0,0.86,0.94,1.23,1.34,1.42,1.48,1.5,1.45,1.38,1.29,1.1200000000000001,1.07,1.03,0,0,0,0,0,0,0,0,0,0,0,0,0,0,0,0,0,0,0,0,0,0,0,0,0,0,0,0,0,0,0,0,0,0,0,0,0,0,0,0,null,null,null,1,{"$f":"OFFSET(ETO!$C$3,$EM$2,$EL27,1,1)*7","v":23.099999999999998},null,{"$f":"OFFSET('input ข้าว'!$B$4,0,$D$1,1,1)","v":7},791235.2,null,{"$f":"IF(OR(EL27=11,EL27=12,EL27<5),OFFSET('input ข้าว'!$B$5,0,$D$1,1,1),OFFSET('input ข้าว'!$B$6,0,$D$1,1,1))","v":0},0,null,31,{"$f":"ROUND(OFFSET(ฝนใช้การ!$A$2,$EU$2,$EL27,1,1)*7/$EU27,2)","v":1.29},145813.34,null,0,0,0,0,0,0,0,0,0,0,0,0,55974.44,0,42142.16,106531.29,0,0,150408.72,0,543507.15,0,806378.5,768955.76,514461.76,0,0,0,0,0,0,0,0,0,0,0,0,0,0,0,0,0,0,0,0,0,0,0,0,0,0,0,0,0,0,0,0,0,0,0,0,0,0,0,0,2988359.7800000003,3633781.6400000006,4037535.1555555561]
[26,{"$f":"+'input ข้าว'!A34","v":"2018-01-24"},{"$f":"+'input ข้าว'!B34","v":"2018-01-30"},"2018-01-30",{"$f":"OFFSET('input ข้าว'!$B$8,A28,$D$1,1,1)","v":12835},0,0,0,0,0,0,0,0,0,0,0,0,0,0,927,2151,0,0,2713,0,10656,0,19480,19444,13514,12835,0,0,0,0,0,0,0,0,0,0,0,0,0,0,0,0,0,0,0,0,0,0,0,0,0,0,0,0,0,0,0,0,0,0,0,0,0,0,0,81720,0,{"$f":"IF(BT28=0,0,OFFSET(Kc!$A$2,1+BT28,MATCH($BU$1,List_Kc_ALL,0),1,1))","v":0},0,0,0,0,0,0,0,0,0,0,0,0,0,0.86,0.94,1.23,1.34,1.42,1.48,1.5,1.45,1.38,1.29,1.1200000000000001,1.07,1.03,0,0,0,0,0,0,0,0,0,0,0,0,0,0,0,0,0,0,0,0,0,0,0,0,0,0,0,0,0,0,0,0,0,0,0,0,0,0,0,null,null,null,1,{"$f":"OFFSET(ETO!$C$3,$EM$2,$EL28,1,1)*7","v":23.099999999999998},null,{"$f":"OFFSET('input ข้าว'!$B$4,0,$D$1,1,1)","v":7},915264,null,{"$f":"IF(OR(EL28=11,EL28=12,EL28<5),OFFSET('input ข้าว'!$B$5,0,$D$1,1,1),OFFSET('input ข้าว'!$B$6,0,$D$1,1,1))","v":0},0,null,31,{"$f":"ROUND(OFFSET(ฝนใช้การ!$A$2,$EU$2,$EL28,1,1)*7/$EU28,2)","v":1.29},168670.07999999999,null,0,0,0,0,0,0,0,0,0,0,0,0,0,0,32206.2,97786.18,0,0,148403.26999999999,0,571076.35,0,928775.23,804888.27,534440.86,488613.05,0,0,0,0,0,0,0,0,0,0,0,0,0,0,0,0,0,0,0,0,0,0,0,0,0,0,0,0,0,0,0,0,0,0,0,0,0,0,0,3606189.4099999997,4352783.33,4836425.9222222222]
[27,{"$f":"+'input ข้าว'!A35","v":"2018-01-31"},{"$f":"+'input ข้าว'!B35","v":"2018-02-06"},"2018-02-06",{"$f":"OFFSET('input ข้าว'!$B$8,A29,$D$1,1,1)","v":425},0,0,0,0,0,0,0,0,0,0,0,0,0,0,927,2151,0,0,2713,0,10656,0,19480,19444,13514,12835,425,0,0,0,0,0,0,0,0,0,0,0,0,0,0,0,0,0,0,0,0,0,0,0,0,0,0,0,0,0,0,0,0,0,0,0,0,0,0,82145,0,{"$f":"IF(BT29=0,0,OFFSET(Kc!$A$2,1+BT29,MATCH($BU$1,List_Kc_ALL,0),1,1))","v":0},0,0,0,0,0,0,0,0,0,0,0,0,0,0,0.86,0.94,1.23,1.34,1.42,1.48,1.5,1.45,1.38,1.29,1.1200000000000001,1.07,1.03,0,0,0,0,0,0,0,0,0,0,0,0,0,0,0,0,0,0,0,0,0,0,0,0,0,0,0,0,0,0,0,0,0,0,0,0,0,0,null,null,null,2,{"$f":"OFFSET(ETO!$C$3,$EM$2,$EL29,1,1)*7","v":25.76},null,{"$f":"OFFSET('input ข้าว'!$B$4,0,$D$1,1,1)","v":7},920024,null,{"$f":"IF(OR(EL29=11,EL29=12,EL29<5),OFFSET('input ข้าว'!$B$5,0,$D$1,1,1),OFFSET('input ข้าว'!$B$6,0,$D$1,1,1))","v":0},0,null,28,{"$f":"ROUND(OFFSET(ฝนใช้การ!$A$2,$EU$2,$EL29,1,1)*7/$EU29,2)","v":2.7},354866.4,null,0,0,0,0,0,0,0,0,0,0,0,0,0,0,32858.22,83336.28,0,0,158782.99,0,658796.54,0,1107985,1033811.04,623832.18999999994,566037.88,18042.3,0,0,0,0,0,0,0,0,0,0,0,0,0,0,0,0,0,0,0,0,0,0,0,0,0,0,0,0,0,0,0,0,0,0,0,0,0,0,4283482.4400000004,4848640.04,5387377.8222222226]
[28,{"$f":"+'input ข้าว'!A36","v":"2018-02-07"},{"$f":"+'input ข้าว'!B36","v":"2018-02-13"},"2018-02-13",{"$f":"OFFSET('input ข้าว'!$B$8,A30,$D$1,1,1)","v":1044},0,0,0,0,0,0,0,0,0,0,0,0,0,0,0,2151,0,0,2713,0,10656,0,19480,19444,13514,12835,425,1044,0,0,0,0,0,0,0,0,0,0,0,0,0,0,0,0,0,0,0,0,0,0,0,0,0,0,0,0,0,0,0,0,0,0,0,0,0,82262,0,{"$f":"IF(BT30=0,0,OFFSET(Kc!$A$2,1+BT30,MATCH($BU$1,List_Kc_ALL,0),1,1))","v":0},0,0,0,0,0,0,0,0,0,0,0,0,0,0,0,0.86,0.94,1.23,1.34,1.42,1.48,1.5,1.45,1.38,1.29,1.1200000000000001,1.07,1.03,0,0,0,0,0,0,0,0,0,0,0,0,0,0,0,0,0,0,0,0,0,0,0,0,0,0,0,0,0,0,0,0,0,0,0,0,0,null,null,null,2,{"$f":"OFFSET(ETO!$C$3,$EM$2,$EL30,1,1)*7","v":25.76},null,{"$f":"OFFSET('input ข้าว'!$B$4,0,$D$1,1,1)","v":7},921334.40000000014,null,{"$f":"IF(OR(EL30=11,EL30=12,EL30<5),OFFSET('input ข้าว'!$B$5,0,$D$1,1,1),OFFSET('input ข้าว'!$B$6,0,$D$1,1,1))","v":0},0,null,28,{"$f":"ROUND(OFFSET(ฝนใช้การ!$A$2,$EU$2,$EL30,1,1)*7/$EU30,2)","v":2.7},355371.84,null,0,0,0,0,0,0,0,0,0,0,0,0,0,0,0,76243.83,0,0,149837.47,0,650012.59,0,1164187.1399999999,1105937.3899999999,718521,592488.24,18742.98,44320.39,0,0,0,0,0,0,0,0,0,0,0,0,0,0,0,0,0,0,0,0,0,0,0,0,0,0,0,0,0,0,0,0,0,0,0,0,0,4520291.03,5086253.5900000008,5651392.8777777785]
[29,{"$f":"+'input ข้าว'!A37","v":"2018-02-14"},{"$f":"+'input ข้าว'!B37","v":"2018-02-20"},"2018-02-20",{"$f":"OFFSET('input ข้าว'!$B$8,A31,$D$1,1,1)","v":0},0,0,0,0,0,0,0,0,0,0,0,0,0,0,0,0,0,0,2713,0,10656,0,19480,19444,13514,12835,425,1044,0,0,0,0,0,0,0,0,0,0,0,0,0,0,0,0,0,0,0,0,0,0,0,0,0,0,0,0,0,0,0,0,0,0,0,0,0,80111,0,{"$f":"IF(BT31=0,0,OFFSET(Kc!$A$2,1+BT31,MATCH($BU$1,List_Kc_ALL,0),1,1))","v":0},0,0,0,0,0,0,0,0,0,0,0,0,0,0,0,0,0.86,0.94,1.23,1.34,1.42,1.48,1.5,1.45,1.38,1.29,1.1200000000000001,1.07,1.03,0,0,0,0,0,0,0,0,0,0,0,0,0,0,0,0,0,0,0,0,0,0,0,0,0,0,0,0,0,0,0,0,0,0,0,0,null,null,null,2,{"$f":"OFFSET(ETO!$C$3,$EM$2,$EL31,1,1)*7","v":25.76},null,{"$f":"OFFSET('input ข้าว'!$B$4,0,$D$1,1,1)","v":7},897243.20000000007,null,{"$f":"IF(OR(EL31=11,EL31=12,EL31<5),OFFSET('input ข้าว'!$B$5,0,$D$1,1,1),OFFSET('input ข้าว'!$B$6,0,$D$1,1,1))","v":0},0,null,28,{"$f":"ROUND(OFFSET(ฝนใช้การ!$A$2,$EU$2,$EL31,1,1)*7/$EU31,2)","v":2.7},346079.52,null,0,0,0,0,0,0,0,0,0,0,0,0,0,0,0,0,0,0,137537.38,0,623660.73,0,1204331.52,1162035.6599999999,768650.37,682419.49,19618.82,46041.57,0,0,0,0,0,0,0,0,0,0,0,0,0,0,0,0,0,0,0,0,0,0,0,0,0,0,0,0,0,0,0,0,0,0,0,0,0,4644295.540000001,5195459.2200000007,5772732.4666666677]
[30,{"$f":"+'input ข้าว'!A38","v":"2018-02-21"},{"$f":"+'input ข้าว'!B38","v":"2018-02-27"},"2018-02-27",{"$f":"OFFSET('input ข้าว'!$B$8,A32,$D$1,1,1)","v":3334},0,0,0,0,0,0,0,0,0,0,0,0,0,0,0,0,0,0,2713,0,10656,0,19480,19444,13514,12835,425,1044,0,3334,0,0,0,0,0,0,0,0,0,0,0,0,0,0,0,0,0,0,0,0,0,0,0,0,0,0,0,0,0,0,0,0,0,0,0,83445,0,{"$f":"IF(BT32=0,0,OFFSET(Kc!$A$2,1+BT32,MATCH($BU$1,List_Kc_ALL,0),1,1))","v":0},0,0,0,0,0,0,0,0,0,0,0,0,0,0,0,0,0,0.86,0.94,1.23,1.34,1.42,1.48,1.5,1.45,1.38,1.29,1.1200000000000001,1.07,1.03,0,0,0,0,0,0,0,0,0,0,0,0,0,0,0,0,0,0,0,0,0,0,0,0,0,0,0,0,0,0,0,0,0,0,0,null,null,null,2,{"$f":"OFFSET(ETO!$C$3,$EM$2,$EL32,1,1)*7","v":25.76},null,{"$f":"OFFSET('input ข้าว'!$B$4,0,$D$1,1,1)","v":7},934584,null,{"$f":"IF(OR(EL32=11,EL32=12,EL32<5),OFFSET('input ข้าว'!$B$5,0,$D$1,1,1),OFFSET('input ข้าว'!$B$6,0,$D$1,1,1))","v":0},0,null,28,{"$f":"ROUND(OFFSET(ฝนใช้การ!$A$2,$EU$2,$EL32,1,1)*7/$EU32,2)","v":2.7},360482.4,null,0,0,0,0,0,0,0,0,0,0,0,0,0,0,0,0,0,0,105109.87,0,588524.91,0,1188273.77,1202105.8600000001,807639.88,730030.16,22596.67,48193.04,0,141536.57,0,0,0,0,0,0,0,0,0,0,0,0,0,0,0,0,0,0,0,0,0,0,0,0,0,0,0,0,0,0,0,0,0,0,0,4834010.7300000004,5408112.3300000001,6009013.7000000002]
[31,{"$f":"+'input ข้าว'!A39","v":"2018-02-28"},{"$f":"+'input ข้าว'!B39","v":"2018-03-06"},"2018-03-06",{"$f":"OFFSET('input ข้าว'!$B$8,A33,$D$1,1,1)","v":0},0,0,0,0,0,0,0,0,0,0,0,0,0,0,0,0,0,0,2713,0,10656,0,19480,19444,13514,12835,425,1044,0,3334,0,0,0,0,0,0,0,0,0,0,0,0,0,0,0,0,0,0,0,0,0,0,0,0,0,0,0,0,0,0,0,0,0,0,0,83445,0,{"$f":"IF(BT33=0,0,OFFSET(Kc!$A$2,1+BT33,MATCH($BU$1,List_Kc_ALL,0),1,1))","v":0},0,0,0,0,0,0,0,0,0,0,0,0,0,0,0,0,0,0,0.86,0.94,1.23,1.34,1.42,1.48,1.5,1.45,1.38,1.29,1.1200000000000001,1.07,1.03,0,0,0,0,0,0,0,0,0,0,0,0,0,0,0,0,0,0,0,0,0,0,0,0,0,0,0,0,0,0,0,0,0,0,null,null,null,3,{"$f":"OFFSET(ETO!$C$3,$EM$2,$EL33,1,1)*7","v":30.38},null,{"$f":"OFFSET('input ข้าว'!$B$4,0,$D$1,1,1)","v":7},934584,null,{"$f":"IF(OR(EL33=11,EL33=12,EL33<5),OFFSET('input ข้าว'!$B$5,0,$D$1,1,1),OFFSET('input ข้าว'!$B$6,0,$D$1,1,1))","v":0},0,null,31,{"$f":"ROUND(OFFSET(ฝนใช้การ!$A$2,$EU$2,$EL33,1,1)*7/$EU33,2)","v":6.44},859817.28,null,0,0,0,0,0,0,0,0,0,0,0,0,0,0,0,0,0,0,113411.21,0,637099.22,0,1344575.05,1398798.25,985332.77,904631.34,28508.59,65463.31,0,173403.21,0,0,0,0,0,0,0,0,0,0,0,0,0,0,0,0,0,0,0,0,0,0,0,0,0,0,0,0,0,0,0,0,0,0,0,5651222.9499999993,5725989.669999999,6362210.7444444429]
[32,{"$f":"+'input ข้าว'!A40","v":"2018-03-07"},{"$f":"+'input ข้าว'!B40","v":"2018-03-13"},"2018-03-13",{"$f":"OFFSET('input ข้าว'!$B$8,A34,$D$1,1,1)","v":2761},0,0,0,0,0,0,0,0,0,0,0,0,0,0,0,0,0,0,0,0,10656,0,19480,19444,13514,12835,425,1044,0,3334,0,2761,0,0,0,0,0,0,0,0,0,0,0,0,0,0,0,0,0,0,0,0,0,0,0,0,0,0,0,0,0,0,0,0,0,83493,0,{"$f":"IF(BT34=0,0,OFFSET(Kc!$A$2,1+BT34,MATCH($BU$1,List_Kc_ALL,0),1,1))","v":0},0,0,0,0,0,0,0,0,0,0,0,0,0,0,0,0,0,0,0,0.86,0.94,1.23,1.34,1.42,1.48,1.5,1.45,1.38,1.29,1.1200000000000001,1.07,1.03,0,0,0,0,0,0,0,0,0,0,0,0,0,0,0,0,0,0,0,0,0,0,0,0,0,0,0,0,0,0,0,0,0,null,null,null,3,{"$f":"OFFSET(ETO!$C$3,$EM$2,$EL34,1,1)*7","v":30.38},null,{"$f":"OFFSET('input ข้าว'!$B$4,0,$D$1,1,1)","v":7},935121.60000000009,null,{"$f":"IF(OR(EL34=11,EL34=12,EL34<5),OFFSET('input ข้าว'!$B$5,0,$D$1,1,1),OFFSET('input ข้าว'!$B$6,0,$D$1,1,1))","v":0},0,null,31,{"$f":"ROUND(OFFSET(ฝนใช้การ!$A$2,$EU$2,$EL34,1,1)*7/$EU34,2)","v":6.44},860311.87,null,0,0,0,0,0,0,0,0,0,0,0,0,0,0,0,0,0,0,0,0,486888.84,0,1268824.3500000001,1342090.21,972195,935825.52,29954.68,70030.52,0,181506.16,0,138232.89000000001,0,0,0,0,0,0,0,0,0,0,0,0,0,0,0,0,0,0,0,0,0,0,0,0,0,0,0,0,0,0,0,0,0,5425548.169999999,5500357.8999999994,6111508.777777778]
[33,{"$f":"+'input ข้าว'!A41","v":"2018-03-14"},{"$f":"+'input ข้าว'!B41","v":"2018-03-20"},"2018-03-20",{"$f":"OFFSET('input ข้าว'!$B$8,A35,$D$1,1,1)","v":0},0,0,0,0,0,0,0,0,0,0,0,0,0,0,0,0,0,0,0,0,10656,0,19480,19444,13514,12835,425,1044,0,3334,0,2761,0,0,0,0,0,0,0,0,0,0,0,0,0,0,0,0,0,0,0,0,0,0,0,0,0,0,0,0,0,0,0,0,0,83493,{"$f":"IF(A35<=$BT$1,A35,0)","v":0},{"$f":"IF(BT35=0,0,OFFSET(Kc!$A$2,1+BT35,MATCH($BU$1,List_Kc_ALL,0),1,1))","v":0},0,0,0,0,0,0,0,0,0,0,0,0,0,0,0,0,0,0,0,0,0.86,0.94,1.23,1.34,1.42,1.48,1.5,1.45,1.38,1.29,1.1200000000000001,1.07,1.03,0,0,0,0,0,0,0,0,0,0,0,0,0,0,0,0,0,0,0,0,0,0,0,0,0,0,0,0,0,0,0,0,null,null,null,{"$f":"MONTH(D35)","v":3},{"$f":"OFFSET(ETO!$C$3,$EM$2,$EL35,1,1)*7","v":30.38},null,{"$f":"OFFSET('input ข้าว'!$B$4,0,$D$1,1,1)","v":7},935121.60000000009,null,{"$f":"IF(OR(EL35=11,EL35=12,EL35<5),OFFSET('input ข้าว'!$B$5,0,$D$1,1,1),OFFSET('input ข้าว'!$B$6,0,$D$1,1,1))","v":0},0,null,{"$f":"VLOOKUP(EL35,$EJ$3:$EK$14,2,TRUE)","v":31},{"$f":"ROUND(OFFSET(ฝนใช้การ!$A$2,$EU$2,$EL35,1,1)*7/$EU35,2)","v":6.44},860311.87,null,{"$f":"ROUND(BV35*$EM35*F35*1.6,2)","v":0},{"$f":"ROUND(BW35*$EM35*G35*1.6,2)","v":0},{"$f":"ROUND(BX35*$EM35*H35*1.6,2)","v":0},{"$f":"ROUND(BY35*$EM35*I35*1.6,2)","v":0},{"$f":"ROUND(BZ35*$EM35*J35*1.6,2)","v":0},{"$f":"ROUND(CA35*$EM35*K35*1.6,2)","v":0},{"$f":"ROUND(CB35*$EM35*L35*1.6,2)","v":0},{"$f":"ROUND(CC35*$EM35*M35*1.6,2)","v":0},{"$f":"ROUND(CD35*$EM35*N35*1.6,2)","v":0},{"$f":"ROUND(CE35*$EM35*O35*1.6,2)","v":0},{"$f":"ROUND(CF35*$EM35*P35*1.6,2)","v":0},{"$f":"ROUND(CG35*$EM35*Q35*1.6,2)","v":0},{"$f":"ROUND(CH35*$EM35*R35*1.6,2)","v":0},{"$f":"ROUND(CI35*$EM35*S35*1.6,2)","v":0},{"$f":"ROUND(CJ35*$EM35*T35*1.6,2)","v":0},{"$f":"ROUND(CK35*$EM35*U35*1.6,2)","v":0},{"$f":"ROUND(CL35*$EM35*V35*1.6,2)","v":0},{"$f":"ROUND(CM35*$EM35*W35*1.6,2)","v":0},{"$f":"ROUND(CN35*$EM35*X35*1.6,2)","v":0},{"$f":"ROUND(CO35*$EM35*Y35*1.6,2)","v":0},{"$f":"ROUND(CP35*$EM35*Z35*1.6,2)","v":445451.49},{"$f":"ROUND(CQ35*$EM35*AA35*1.6,2)","v":0},{"$f":"ROUND(CR35*$EM35*AB35*1.6,2)","v":1164667.1200000001},{"$f":"ROUND(CS35*$EM35*AC35*1.6,2)","v":1266479.5},{"$f":"ROUND(CT35*$EM35*AD35*1.6,2)","v":932781.69},{"$f":"ROUND(CU35*$EM35*AE35*1.6,2)","v":923347.85},{"$f":"ROUND(CV35*$EM35*AF35*1.6,2)","v":30987.599999999999},{"$f":"ROUND(CW35*$EM35*AG35*1.6,2)","v":73582.789999999994},{"$f":"ROUND(CX35*$EM35*AH35*1.6,2)","v":0},{"$f":"ROUND(CY35*$EM35*AI35*1.6,2)","v":209056.2},{"$f":"ROUND(CZ35*$EM35*AJ35*1.6,2)","v":0},{"$f":"ROUND(DA35*$EM35*AK35*1.6,2)","v":143601.16},{"$f":"ROUND(DB35*$EM35*AL35*1.6,2)","v":0},{"$f":"ROUND(DC35*$EM35*AM35*1.6,2)","v":0},{"$f":"ROUND(DD35*$EM35*AN35*1.6,2)","v":0},{"$f":"ROUND(DE35*$EM35*AO35*1.6,2)","v":0},{"$f":"ROUND(DF35*$EM35*AP35*1.6,2)","v":0},{"$f":"ROUND(DG35*$EM35*AQ35*1.6,2)","v":0},{"$f":"ROUND(DH35*$EM35*AR35*1.6,2)","v":0},{"$f":"ROUND(DI35*$EM35*AS35*1.6,2)","v":0},{"$f":"ROUND(DJ35*$EM35*AT35*1.6,2)","v":0},{"$f":"ROUND(DK35*$EM35*AU35*1.6,2)","v":0},{"$f":"ROUND(DL35*$EM35*AV35*1.6,2)","v":0},{"$f":"ROUND(DM35*$EM35*AW35*1.6,2)","v":0},{"$f":"ROUND(DN35*$EM35*AX35*1.6,2)","v":0},{"$f":"ROUND(DO35*$EM35*AY35*1.6,2)","v":0},{"$f":"ROUND(DP35*$EM35*AZ35*1.6,2)","v":0},{"$f":"ROUND(DQ35*$EM35*BA35*1.6,2)","v":0},{"$f":"ROUND(DR35*$EM35*BB35*1.6,2)","v":0},{"$f":"ROUND(DS35*$EM35*BC35*1.6,2)","v":0},{"$f":"ROUND(DT35*$EM35*BD35*1.6,2)","v":0},{"$f":"ROUND(DU35*$EM35*BE35*1.6,2)","v":0},{"$f":"ROUND(DV35*$EM35*BF35*1.6,2)","v":0},{"$f":"ROUND(DW35*$EM35*BG35*1.6,2)","v":0},{"$f":"ROUND(DX35*$EM35*BH35*1.6,2)","v":0},{"$f":"ROUND(DY35*$EM35*BI35*1.6,2)","v":0},{"$f":"ROUND(DZ35*$EM35*BJ35*1.6,2)","v":0},{"$f":"ROUND(EA35*$EM35*BK35*1.6,2)","v":0},{"$f":"ROUND(EB35*$EM35*BL35*1.6,2)","v":0},{"$f":"ROUND(EC35*$EM35*BM35*1.6,2)","v":0},{"$f":"ROUND(ED35*$EM35*BN35*1.6,2)","v":0},{"$f":"ROUND(EE35*$EM35*BO35*1.6,2)","v":0},{"$f":"ROUND(EF35*$EM35*BP35*1.6,2)","v":0},{"$f":"ROUND(EG35*$EM35*BQ35*1.6,2)","v":0},{"$f":"ROUND(EH35*$EM35*BR35*1.6,2)","v":0},5189955.4000000004,5264765.13,5849739.0333333332]
[34,{"$f":"+'input ข้าว'!A42","v":"2018-03-21"},{"$f":"+'input ข้าว'!B42","v":"2018-03-27"},"2018-03-27",{"$f":"OFFSET('input ข้าว'!$B$8,A36,$D$1,1,1)","v":0},{"$f":"IF($A36=F$2,$E36,IF(F35=0,0,IF($A36<F$2+$BT$1,F35,0)))","v":0},{"$f":"IF($A36=G$2,$E36,IF(G35=0,0,IF($A36<G$2+$BT$1,G35,0)))","v":0},{"$f":"IF($A36=H$2,$E36,IF(H35=0,0,IF($A36<H$2+$BT$1,H35,0)))","v":0},{"$f":"IF($A36=I$2,$E36,IF(I35=0,0,IF($A36<I$2+$BT$1,I35,0)))","v":0},{"$f":"IF($A36=J$2,$E36,IF(J35=0,0,IF($A36<J$2+$BT$1,J35,0)))","v":0},{"$f":"IF($A36=K$2,$E36,IF(K35=0,0,IF($A36<K$2+$BT$1,K35,0)))","v":0},{"$f":"IF($A36=L$2,$E36,IF(L35=0,0,IF($A36<L$2+$BT$1,L35,0)))","v":0},{"$f":"IF($A36=M$2,$E36,IF(M35=0,0,IF($A36<M$2+$BT$1,M35,0)))","v":0},{"$f":"IF($A36=N$2,$E36,IF(N35=0,0,IF($A36<N$2+$BT$1,N35,0)))","v":0},{"$f":"IF($A36=O$2,$E36,IF(O35=0,0,IF($A36<O$2+$BT$1,O35,0)))","v":0},{"$f":"IF($A36=P$2,$E36,IF(P35=0,0,IF($A36<P$2+$BT$1,P35,0)))","v":0},{"$f":"IF($A36=Q$2,$E36,IF(Q35=0,0,IF($A36<Q$2+$BT$1,Q35,0)))","v":0},{"$f":"IF($A36=R$2,$E36,IF(R35=0,0,IF($A36<R$2+$BT$1,R35,0)))","v":0},{"$f":"IF($A36=S$2,$E36,IF(S35=0,0,IF($A36<S$2+$BT$1,S35,0)))","v":0},{"$f":"IF($A36=T$2,$E36,IF(T35=0,0,IF($A36<T$2+$BT$1,T35,0)))","v":0},{"$f":"IF($A36=U$2,$E36,IF(U35=0,0,IF($A36<U$2+$BT$1,U35,0)))","v":0},{"$f":"IF($A36=V$2,$E36,IF(V35=0,0,IF($A36<V$2+$BT$1,V35,0)))","v":0},{"$f":"IF($A36=W$2,$E36,IF(W35=0,0,IF($A36<W$2+$BT$1,W35,0)))","v":0},{"$f":"IF($A36=X$2,$E36,IF(X35=0,0,IF($A36<X$2+$BT$1,X35,0)))","v":0},{"$f":"IF($A36=Y$2,$E36,IF(Y35=0,0,IF($A36<Y$2+$BT$1,Y35,0)))","v":0},{"$f":"IF($A36=Z$2,$E36,IF(Z35=0,0,IF($A36<Z$2+$BT$1,Z35,0)))","v":0},{"$f":"IF($A36=AA$2,$E36,IF(AA35=0,0,IF($A36<AA$2+$BT$1,AA35,0)))","v":0},{"$f":"IF($A36=AB$2,$E36,IF(AB35=0,0,IF($A36<AB$2+$BT$1,AB35,0)))","v":19480},{"$f":"IF($A36=AC$2,$E36,IF(AC35=0,0,IF($A36<AC$2+$BT$1,AC35,0)))","v":19444},{"$f":"IF($A36=AD$2,$E36,IF(AD35=0,0,IF($A36<AD$2+$BT$1,AD35,0)))","v":13514},{"$f":"IF($A36=AE$2,$E36,IF(AE35=0,0,IF($A36<AE$2+$BT$1,AE35,0)))","v":12835},{"$f":"IF($A36=AF$2,$E36,IF(AF35=0,0,IF($A36<AF$2+$BT$1,AF35,0)))","v":425},{"$f":"IF($A36=AG$2,$E36,IF(AG35=0,0,IF($A36<AG$2+$BT$1,AG35,0)))","v":1044},{"$f":"IF($A36=AH$2,$E36,IF(AH35=0,0,IF($A36<AH$2+$BT$1,AH35,0)))","v":0},{"$f":"IF($A36=AI$2,$E36,IF(AI35=0,0,IF($A36<AI$2+$BT$1,AI35,0)))","v":3334},{"$f":"IF($A36=AJ$2,$E36,IF(AJ35=0,0,IF($A36<AJ$2+$BT$1,AJ35,0)))","v":0},{"$f":"IF($A36=AK$2,$E36,IF(AK35=0,0,IF($A36<AK$2+$BT$1,AK35,0)))","v":2761},{"$f":"IF($A36=AL$2,$E36,IF(AL35=0,0,IF($A36<AL$2+$BT$1,AL35,0)))","v":0},{"$f":"IF($A36=AM$2,$E36,IF(AM35=0,0,IF($A36<AM$2+$BT$1,AM35,0)))","v":0},{"$f":"IF($A36=AN$2,$E36,IF(AN35=0,0,IF($A36<AN$2+$BT$1,AN35,0)))","v":0},{"$f":"IF($A36=AO$2,$E36,IF(AO35=0,0,IF($A36<AO$2+$BT$1,AO35,0)))","v":0},{"$f":"IF($A36=AP$2,$E36,IF(AP35=0,0,IF($A36<AP$2+$BT$1,AP35,0)))","v":0},{"$f":"IF($A36=AQ$2,$E36,IF(AQ35=0,0,IF($A36<AQ$2+$BT$1,AQ35,0)))","v":0},{"$f":"IF($A36=AR$2,$E36,IF(AR35=0,0,IF($A36<AR$2+$BT$1,AR35,0)))","v":0},{"$f":"IF($A36=AS$2,$E36,IF(AS35=0,0,IF($A36<AS$2+$BT$1,AS35,0)))","v":0},{"$f":"IF($A36=AT$2,$E36,IF(AT35=0,0,IF($A36<AT$2+$BT$1,AT35,0)))","v":0},{"$f":"IF($A36=AU$2,$E36,IF(AU35=0,0,IF($A36<AU$2+$BT$1,AU35,0)))","v":0},{"$f":"IF($A36=AV$2,$E36,IF(AV35=0,0,IF($A36<AV$2+$BT$1,AV35,0)))","v":0},{"$f":"IF($A36=AW$2,$E36,IF(AW35=0,0,IF($A36<AW$2+$BT$1,AW35,0)))","v":0},{"$f":"IF($A36=AX$2,$E36,IF(AX35=0,0,IF($A36<AX$2+$BT$1,AX35,0)))","v":0},{"$f":"IF($A36=AY$2,$E36,IF(AY35=0,0,IF($A36<AY$2+$BT$1,AY35,0)))","v":0},{"$f":"IF($A36=AZ$2,$E36,IF(AZ35=0,0,IF($A36<AZ$2+$BT$1,AZ35,0)))","v":0},{"$f":"IF($A36=BA$2,$E36,IF(BA35=0,0,IF($A36<BA$2+$BT$1,BA35,0)))","v":0},{"$f":"IF($A36=BB$2,$E36,IF(BB35=0,0,IF($A36<BB$2+$BT$1,BB35,0)))","v":0},{"$f":"IF($A36=BC$2,$E36,IF(BC35=0,0,IF($A36<BC$2+$BT$1,BC35,0)))","v":0},{"$f":"IF($A36=BD$2,$E36,IF(BD35=0,0,IF($A36<BD$2+$BT$1,BD35,0)))","v":0},{"$f":"IF($A36=BE$2,$E36,IF(BE35=0,0,IF($A36<BE$2+$BT$1,BE35,0)))","v":0},{"$f":"IF($A36=BF$2,$E36,IF(BF35=0,0,IF($A36<BF$2+$BT$1,BF35,0)))","v":0},{"$f":"IF($A36=BG$2,$E36,IF(BG35=0,0,IF($A36<BG$2+$BT$1,BG35,0)))","v":0},{"$f":"IF($A36=BH$2,$E36,IF(BH35=0,0,IF($A36<BH$2+$BT$1,BH35,0)))","v":0},{"$f":"IF($A36=BI$2,$E36,IF(BI35=0,0,IF($A36<BI$2+$BT$1,BI35,0)))","v":0},{"$f":"IF($A36=BJ$2,$E36,IF(BJ35=0,0,IF($A36<BJ$2+$BT$1,BJ35,0)))","v":0},{"$f":"IF($A36=BK$2,$E36,IF(BK35=0,0,IF($A36<BK$2+$BT$1,BK35,0)))","v":0},{"$f":"IF($A36=BL$2,$E36,IF(BL35=0,0,IF($A36<BL$2+$BT$1,BL35,0)))","v":0},{"$f":"IF($A36=BM$2,$E36,IF(BM35=0,0,IF($A36<BM$2+$BT$1,BM35,0)))","v":0},{"$f":"IF($A36=BN$2,$E36,IF(BN35=0,0,IF($A36<BN$2+$BT$1,BN35,0)))","v":0},{"$f":"IF($A36=BO$2,$E36,IF(BO35=0,0,IF($A36<BO$2+$BT$1,BO35,0)))","v":0},{"$f":"IF($A36=BP$2,$E36,IF(BP35=0,0,IF($A36<BP$2+$BT$1,BP35,0)))","v":0},{"$f":"IF($A36=BQ$2,$E36,IF(BQ35=0,0,IF($A36<BQ$2+$BT$1,BQ35,0)))","v":0},{"$f":"IF($A36=BR$2,$E36,IF(BR35=0,0,IF($A36<BR$2+$BT$1,BR35,0)))","v":0},72837,0,{"$f":"IF(BT36=0,0,OFFSET(Kc!$A$2,1+BT36,MATCH($BU$1,List_Kc_ALL,0),1,1))","v":0},{"$f":"IF($A36=BV$2,$BU$3,IF(BV35=0,0,OFFSET($BU$2,MATCH(BV35,$BU$3:$BU$67,0)+1,0,1,1)))","v":0},{"$f":"IF($A36=BW$2,$BU$3,IF(BW35=0,0,OFFSET($BU$2,MATCH(BW35,$BU$3:$BU$67,0)+1,0,1,1)))","v":0},{"$f":"IF($A36=BX$2,$BU$3,IF(BX35=0,0,OFFSET($BU$2,MATCH(BX35,$BU$3:$BU$67,0)+1,0,1,1)))","v":0},{"$f":"IF($A36=BY$2,$BU$3,IF(BY35=0,0,OFFSET($BU$2,MATCH(BY35,$BU$3:$BU$67,0)+1,0,1,1)))","v":0},{"$f":"IF($A36=BZ$2,$BU$3,IF(BZ35=0,0,OFFSET($BU$2,MATCH(BZ35,$BU$3:$BU$67,0)+1,0,1,1)))","v":0},{"$f":"IF($A36=CA$2,$BU$3,IF(CA35=0,0,OFFSET($BU$2,MATCH(CA35,$BU$3:$BU$67,0)+1,0,1,1)))","v":0},{"$f":"IF($A36=CB$2,$BU$3,IF(CB35=0,0,OFFSET($BU$2,MATCH(CB35,$BU$3:$BU$67,0)+1,0,1,1)))","v":0},{"$f":"IF($A36=CC$2,$BU$3,IF(CC35=0,0,OFFSET($BU$2,MATCH(CC35,$BU$3:$BU$67,0)+1,0,1,1)))","v":0},{"$f":"IF($A36=CD$2,$BU$3,IF(CD35=0,0,OFFSET($BU$2,MATCH(CD35,$BU$3:$BU$67,0)+1,0,1,1)))","v":0},{"$f":"IF($A36=CE$2,$BU$3,IF(CE35=0,0,OFFSET($BU$2,MATCH(CE35,$BU$3:$BU$67,0)+1,0,1,1)))","v":0},{"$f":"IF($A36=CF$2,$BU$3,IF(CF35=0,0,OFFSET($BU$2,MATCH(CF35,$BU$3:$BU$67,0)+1,0,1,1)))","v":0},{"$f":"IF($A36=CG$2,$BU$3,IF(CG35=0,0,OFFSET($BU$2,MATCH(CG35,$BU$3:$BU$67,0)+1,0,1,1)))","v":0},{"$f":"IF($A36=CH$2,$BU$3,IF(CH35=0,0,OFFSET($BU$2,MATCH(CH35,$BU$3:$BU$67,0)+1,0,1,1)))","v":0},{"$f":"IF($A36=CI$2,$BU$3,IF(CI35=0,0,OFFSET($BU$2,MATCH(CI35,$BU$3:$BU$67,0)+1,0,1,1)))","v":0},{"$f":"IF($A36=CJ$2,$BU$3,IF(CJ35=0,0,OFFSET($BU$2,MATCH(CJ35,$BU$3:$BU$67,0)+1,0,1,1)))","v":0},{"$f":"IF($A36=CK$2,$BU$3,IF(CK35=0,0,OFFSET($BU$2,MATCH(CK35,$BU$3:$BU$67,0)+1,0,1,1)))","v":0},{"$f":"IF($A36=CL$2,$BU$3,IF(CL35=0,0,OFFSET($BU$2,MATCH(CL35,$BU$3:$BU$67,0)+1,0,1,1)))","v":0},{"$f":"IF($A36=CM$2,$BU$3,IF(CM35=0,0,OFFSET($BU$2,MATCH(CM35,$BU$3:$BU$67,0)+1,0,1,1)))","v":0},{"$f":"IF($A36=CN$2,$BU$3,IF(CN35=0,0,OFFSET($BU$2,MATCH(CN35,$BU$3:$BU$67,0)+1,0,1,1)))","v":0},{"$f":"IF($A36=CO$2,$BU$3,IF(CO35=0,0,OFFSET($BU$2,MATCH(CO35,$BU$3:$BU$67,0)+1,0,1,1)))","v":0},{"$f":"IF($A36=CP$2,$BU$3,IF(CP35=0,0,OFFSET($BU$2,MATCH(CP35,$BU$3:$BU$67,0)+1,0,1,1)))","v":0},{"$f":"IF($A36=CQ$2,$BU$3,IF(CQ35=0,0,OFFSET($BU$2,MATCH(CQ35,$BU$3:$BU$67,0)+1,0,1,1)))","v":0.86},{"$f":"IF($A36=CR$2,$BU$3,IF(CR35=0,0,OFFSET($BU$2,MATCH(CR35,$BU$3:$BU$67,0)+1,0,1,1)))","v":0.94},{"$f":"IF($A36=CS$2,$BU$3,IF(CS35=0,0,OFFSET($BU$2,MATCH(CS35,$BU$3:$BU$67,0)+1,0,1,1)))","v":1.23},{"$f":"IF($A36=CT$2,$BU$3,IF(CT35=0,0,OFFSET($BU$2,MATCH(CT35,$BU$3:$BU$67,0)+1,0,1,1)))","v":1.34},{"$f":"IF($A36=CU$2,$BU$3,IF(CU35=0,0,OFFSET($BU$2,MATCH(CU35,$BU$3:$BU$67,0)+1,0,1,1)))","v":1.42},{"$f":"IF($A36=CV$2,$BU$3,IF(CV35=0,0,OFFSET($BU$2,MATCH(CV35,$BU$3:$BU$67,0)+1,0,1,1)))","v":1.48},{"$f":"IF($A36=CW$2,$BU$3,IF(CW35=0,0,OFFSET($BU$2,MATCH(CW35,$BU$3:$BU$67,0)+1,0,1,1)))","v":1.5},{"$f":"IF($A36=CX$2,$BU$3,IF(CX35=0,0,OFFSET($BU$2,MATCH(CX35,$BU$3:$BU$67,0)+1,0,1,1)))","v":1.45},{"$f":"IF($A36=CY$2,$BU$3,IF(CY35=0,0,OFFSET($BU$2,MATCH(CY35,$BU$3:$BU$67,0)+1,0,1,1)))","v":1.38},{"$f":"IF($A36=CZ$2,$BU$3,IF(CZ35=0,0,OFFSET($BU$2,MATCH(CZ35,$BU$3:$BU$67,0)+1,0,1,1)))","v":1.29},{"$f":"IF($A36=DA$2,$BU$3,IF(DA35=0,0,OFFSET($BU$2,MATCH(DA35,$BU$3:$BU$67,0)+1,0,1,1)))","v":1.1200000000000001},{"$f":"IF($A36=DB$2,$BU$3,IF(DB35=0,0,OFFSET($BU$2,MATCH(DB35,$BU$3:$BU$67,0)+1,0,1,1)))","v":1.07},{"$f":"IF($A36=DC$2,$BU$3,IF(DC35=0,0,OFFSET($BU$2,MATCH(DC35,$BU$3:$BU$67,0)+1,0,1,1)))","v":1.03},{"$f":"IF($A36=DD$2,$BU$3,IF(DD35=0,0,OFFSET($BU$2,MATCH(DD35,$BU$3:$BU$67,0)+1,0,1,1)))","v":0},{"$f":"IF($A36=DE$2,$BU$3,IF(DE35=0,0,OFFSET($BU$2,MATCH(DE35,$BU$3:$BU$67,0)+1,0,1,1)))","v":0},{"$f":"IF($A36=DF$2,$BU$3,IF(DF35=0,0,OFFSET($BU$2,MATCH(DF35,$BU$3:$BU$67,0)+1,0,1,1)))","v":0},{"$f":"IF($A36=DG$2,$BU$3,IF(DG35=0,0,OFFSET($BU$2,MATCH(DG35,$BU$3:$BU$67,0)+1,0,1,1)))","v":0},{"$f":"IF($A36=DH$2,$BU$3,IF(DH35=0,0,OFFSET($BU$2,MATCH(DH35,$BU$3:$BU$67,0)+1,0,1,1)))","v":0},{"$f":"IF($A36=DI$2,$BU$3,IF(DI35=0,0,OFFSET($BU$2,MATCH(DI35,$BU$3:$BU$67,0)+1,0,1,1)))","v":0},{"$f":"IF($A36=DJ$2,$BU$3,IF(DJ35=0,0,OFFSET($BU$2,MATCH(DJ35,$BU$3:$BU$67,0)+1,0,1,1)))","v":0},{"$f":"IF($A36=DK$2,$BU$3,IF(DK35=0,0,OFFSET($BU$2,MATCH(DK35,$BU$3:$BU$67,0)+1,0,1,1)))","v":0},{"$f":"IF($A36=DL$2,$BU$3,IF(DL35=0,0,OFFSET($BU$2,MATCH(DL35,$BU$3:$BU$67,0)+1,0,1,1)))","v":0},{"$f":"IF($A36=DM$2,$BU$3,IF(DM35=0,0,OFFSET($BU$2,MATCH(DM35,$BU$3:$BU$67,0)+1,0,1,1)))","v":0},{"$f":"IF($A36=DN$2,$BU$3,IF(DN35=0,0,OFFSET($BU$2,MATCH(DN35,$BU$3:$BU$67,0)+1,0,1,1)))","v":0},{"$f":"IF($A36=DO$2,$BU$3,IF(DO35=0,0,OFFSET($BU$2,MATCH(DO35,$BU$3:$BU$67,0)+1,0,1,1)))","v":0},{"$f":"IF($A36=DP$2,$BU$3,IF(DP35=0,0,OFFSET($BU$2,MATCH(DP35,$BU$3:$BU$67,0)+1,0,1,1)))","v":0},{"$f":"IF($A36=DQ$2,$BU$3,IF(DQ35=0,0,OFFSET($BU$2,MATCH(DQ35,$BU$3:$BU$67,0)+1,0,1,1)))","v":0},{"$f":"IF($A36=DR$2,$BU$3,IF(DR35=0,0,OFFSET($BU$2,MATCH(DR35,$BU$3:$BU$67,0)+1,0,1,1)))","v":0},{"$f":"IF($A36=DS$2,$BU$3,IF(DS35=0,0,OFFSET($BU$2,MATCH(DS35,$BU$3:$BU$67,0)+1,0,1,1)))","v":0},{"$f":"IF($A36=DT$2,$BU$3,IF(DT35=0,0,OFFSET($BU$2,MATCH(DT35,$BU$3:$BU$67,0)+1,0,1,1)))","v":0},{"$f":"IF($A36=DU$2,$BU$3,IF(DU35=0,0,OFFSET($BU$2,MATCH(DU35,$BU$3:$BU$67,0)+1,0,1,1)))","v":0},{"$f":"IF($A36=DV$2,$BU$3,IF(DV35=0,0,OFFSET($BU$2,MATCH(DV35,$BU$3:$BU$67,0)+1,0,1,1)))","v":0},{"$f":"IF($A36=DW$2,$BU$3,IF(DW35=0,0,OFFSET($BU$2,MATCH(DW35,$BU$3:$BU$67,0)+1,0,1,1)))","v":0},{"$f":"IF($A36=DX$2,$BU$3,IF(DX35=0,0,OFFSET($BU$2,MATCH(DX35,$BU$3:$BU$67,0)+1,0,1,1)))","v":0},{"$f":"IF($A36=DY$2,$BU$3,IF(DY35=0,0,OFFSET($BU$2,MATCH(DY35,$BU$3:$BU$67,0)+1,0,1,1)))","v":0},{"$f":"IF($A36=DZ$2,$BU$3,IF(DZ35=0,0,OFFSET($BU$2,MATCH(DZ35,$BU$3:$BU$67,0)+1,0,1,1)))","v":0},{"$f":"IF($A36=EA$2,$BU$3,IF(EA35=0,0,OFFSET($BU$2,MATCH(EA35,$BU$3:$BU$67,0)+1,0,1,1)))","v":0},{"$f":"IF($A36=EB$2,$BU$3,IF(EB35=0,0,OFFSET($BU$2,MATCH(EB35,$BU$3:$BU$67,0)+1,0,1,1)))","v":0},{"$f":"IF($A36=EC$2,$BU$3,IF(EC35=0,0,OFFSET($BU$2,MATCH(EC35,$BU$3:$BU$67,0)+1,0,1,1)))","v":0},{"$f":"IF($A36=ED$2,$BU$3,IF(ED35=0,0,OFFSET($BU$2,MATCH(ED35,$BU$3:$BU$67,0)+1,0,1,1)))","v":0},{"$f":"IF($A36=EE$2,$BU$3,IF(EE35=0,0,OFFSET($BU$2,MATCH(EE35,$BU$3:$BU$67,0)+1,0,1,1)))","v":0},{"$f":"IF($A36=EF$2,$BU$3,IF(EF35=0,0,OFFSET($BU$2,MATCH(EF35,$BU$3:$BU$67,0)+1,0,1,1)))","v":0},{"$f":"IF($A36=EG$2,$BU$3,IF(EG35=0,0,OFFSET($BU$2,MATCH(EG35,$BU$3:$BU$67,0)+1,0,1,1)))","v":0},{"$f":"IF($A36=EH$2,$BU$3,IF(EH35=0,0,OFFSET($BU$2,MATCH(EH35,$BU$3:$BU$67,0)+1,0,1,1)))","v":0},null,null,null,3,{"$f":"OFFSET(ETO!$C$3,$EM$2,$EL36,1,1)*7","v":30.38},null,{"$f":"OFFSET('input ข้าว'!$B$4,0,$D$1,1,1)","v":7},815774.4,null,{"$f":"IF(OR(EL36=11,EL36=12,EL36<5),OFFSET('input ข้าว'!$B$5,0,$D$1,1,1),OFFSET('input ข้าว'!$B$6,0,$D$1,1,1))","v":0},0,null,31,{"$f":"ROUND(OFFSET(ฝนใช้การ!$A$2,$EU$2,$EL36,1,1)*7/$EU36,2)","v":6.44},750512.45,null,0,0,0,0,0,0,0,0,0,0,0,0,0,0,0,0,0,0,0,0,0,0,890070.81,1162514.76,880230.61,885914.83,30574.43,76120.13,0,223641.52,0,150311.49,0,0,0,0,0,0,0,0,0,0,0,0,0,0,0,0,0,0,0,0,0,0,0,0,0,0,0,0,0,0,0,0,0,4299378.58,4364640.53,4849600.5888888892]
[35,{"$f":"+'input ข้าว'!A43","v":"2018-03-28"},{"$f":"+'input ข้าว'!B43","v":"2018-04-03"},"2018-04-03",{"$f":"OFFSET('input ข้าว'!$B$8,A37,$D$1,1,1)","v":0},0,0,0,0,0,0,0,0,0,0,0,0,0,0,0,0,0,0,0,0,0,0,19480,19444,13514,12835,425,1044,0,3334,0,2761,0,0,0,0,0,0,0,0,0,0,0,0,0,0,0,0,0,0,0,0,0,0,0,0,0,0,0,0,0,0,0,0,0,72837,0,{"$f":"IF(BT37=0,0,OFFSET(Kc!$A$2,1+BT37,MATCH($BU$1,List_Kc_ALL,0),1,1))","v":0},0,0,0,0,0,0,0,0,0,0,0,0,0,0,0,0,0,0,0,0,0,0,0.86,0.94,1.23,1.34,1.42,1.48,1.5,1.45,1.38,1.29,1.1200000000000001,1.07,1.03,0,0,0,0,0,0,0,0,0,0,0,0,0,0,0,0,0,0,0,0,0,0,0,0,0,0,0,0,0,0,null,null,null,4,{"$f":"OFFSET(ETO!$C$3,$EM$2,$EL37,1,1)*7","v":31.919999999999998},null,{"$f":"OFFSET('input ข้าว'!$B$4,0,$D$1,1,1)","v":7},815774.4,null,{"$f":"IF(OR(EL37=11,EL37=12,EL37<5),OFFSET('input ข้าว'!$B$5,0,$D$1,1,1),OFFSET('input ข้าว'!$B$6,0,$D$1,1,1))","v":0},0,null,30,{"$f":"ROUND(OFFSET(ฝนใช้การ!$A$2,$EU$2,$EL37,1,1)*7/$EU37,2)","v":11.74},1368170.21,null,0,0,0,0,0,0,0,0,0,0,0,0,0,0,0,0,0,0,0,0,0,0,855599,933461.33,848930.02,878382.22,30821.95,78912.37,0,246897.37,0,181902.63,0,0,0,0,0,0,0,0,0,0,0,0,0,0,0,0,0,0,0,0,0,0,0,0,0,0,0,0,0,0,0,0,0,4054906.8900000006,3502511.080000001,3891678.9777777791]
[36,{"$f":"+'input ข้าว'!A44","v":"2018-04-04"},{"$f":"+'input ข้าว'!B44","v":"2018-04-10"},"2018-04-10",{"$f":"OFFSET('input ข้าว'!$B$8,A38,$D$1,1,1)","v":0},0,0,0,0,0,0,0,0,0,0,0,0,0,0,0,0,0,0,0,0,0,0,0,19444,13514,12835,425,1044,0,3334,0,2761,0,0,0,0,0,0,0,0,0,0,0,0,0,0,0,0,0,0,0,0,0,0,0,0,0,0,0,0,0,0,0,0,0,53357,0,{"$f":"IF(BT38=0,0,OFFSET(Kc!$A$2,1+BT38,MATCH($BU$1,List_Kc_ALL,0),1,1))","v":0},0,0,0,0,0,0,0,0,0,0,0,0,0,0,0,0,0,0,0,0,0,0,0,0.86,0.94,1.23,1.34,1.42,1.48,1.5,1.45,1.38,1.29,1.1200000000000001,1.07,1.03,0,0,0,0,0,0,0,0,0,0,0,0,0,0,0,0,0,0,0,0,0,0,0,0,0,0,0,0,0,null,null,null,4,{"$f":"OFFSET(ETO!$C$3,$EM$2,$EL38,1,1)*7","v":31.919999999999998},null,{"$f":"OFFSET('input ข้าว'!$B$4,0,$D$1,1,1)","v":7},597598.4,null,{"$f":"IF(OR(EL38=11,EL38=12,EL38<5),OFFSET('input ข้าว'!$B$5,0,$D$1,1,1),OFFSET('input ข้าว'!$B$6,0,$D$1,1,1))","v":0},0,null,30,{"$f":"ROUND(OFFSET(ฝนใช้การ!$A$2,$EU$2,$EL38,1,1)*7/$EU38,2)","v":11.74},1002257.89,null,0,0,0,0,0,0,0,0,0,0,0,0,0,0,0,0,0,0,0,0,0,0,0,854017.81,648775.79,806276.22,29085.5,75713.22,0,255411.07,0,194593.51,0,0,0,0,0,0,0,0,0,0,0,0,0,0,0,0,0,0,0,0,0,0,0,0,0,0,0,0,0,0,0,0,0,2863873.12,2459213.63,2732459.5888888887]
[37,{"$f":"+'input ข้าว'!A45","v":"2018-04-11"},{"$f":"+'input ข้าว'!B45","v":"2018-04-17"},"2018-04-17",{"$f":"OFFSET('input ข้าว'!$B$8,A39,$D$1,1,1)","v":0},0,0,0,0,0,0,0,0,0,0,0,0,0,0,0,0,0,0,0,0,0,0,0,0,13514,12835,425,1044,0,3334,0,2761,0,0,0,0,0,0,0,0,0,0,0,0,0,0,0,0,0,0,0,0,0,0,0,0,0,0,0,0,0,0,0,0,0,33913,0,{"$f":"IF(BT39=0,0,OFFSET(Kc!$A$2,1+BT39,MATCH($BU$1,List_Kc_ALL,0),1,1))","v":0},0,0,0,0,0,0,0,0,0,0,0,0,0,0,0,0,0,0,0,0,0,0,0,0,0.86,0.94,1.23,1.34,1.42,1.48,1.5,1.45,1.38,1.29,1.1200000000000001,1.07,1.03,0,0,0,0,0,0,0,0,0,0,0,0,0,0,0,0,0,0,0,0,0,0,0,0,0,0,0,0,null,null,null,4,{"$f":"OFFSET(ETO!$C$3,$EM$2,$EL39,1,1)*7","v":31.919999999999998},null,{"$f":"OFFSET('input ข้าว'!$B$4,0,$D$1,1,1)","v":7},379825.6,null,{"$f":"IF(OR(EL39=11,EL39=12,EL39<5),OFFSET('input ข้าว'!$B$5,0,$D$1,1,1),OFFSET('input ข้าว'!$B$6,0,$D$1,1,1))","v":0},0,null,30,{"$f":"ROUND(OFFSET(ฝนใช้การ!$A$2,$EU$2,$EL39,1,1)*7/$EU39,2)","v":11.74},637021.79,null,0,0,0,0,0,0,0,0,0,0,0,0,0,0,0,0,0,0,0,0,0,0,0,0,593560.82999999996,616178.56999999995,26697.89,71447.69,0,252005.59,0,204464.2,0,0,0,0,0,0,0,0,0,0,0,0,0,0,0,0,0,0,0,0,0,0,0,0,0,0,0,0,0,0,0,0,0,1764354.7699999998,1507158.5799999996,1674620.6444444442]
[38,{"$f":"+'input ข้าว'!A46","v":"2018-04-18"},{"$f":"+'input ข้าว'!B46","v":"2018-04-24"},"2018-04-24",{"$f":"OFFSET('input ข้าว'!$B$8,A40,$D$1,1,1)","v":0},0,0,0,0,0,0,0,0,0,0,0,0,0,0,0,0,0,0,0,0,0,0,0,0,0,12835,425,1044,0,3334,0,2761,0,0,0,0,0,0,0,0,0,0,0,0,0,0,0,0,0,0,0,0,0,0,0,0,0,0,0,0,0,0,0,0,0,20399,0,{"$f":"IF(BT40=0,0,OFFSET(Kc!$A$2,1+BT40,MATCH($BU$1,List_Kc_ALL,0),1,1))","v":0},0,0,0,0,0,0,0,0,0,0,0,0,0,0,0,0,0,0,0,0,0,0,0,0,0,0.86,0.94,1.23,1.34,1.42,1.48,1.5,1.45,1.38,1.29,1.1200000000000001,1.07,1.03,0,0,0,0,0,0,0,0,0,0,0,0,0,0,0,0,0,0,0,0,0,0,0,0,0,0,0,null,null,null,4,{"$f":"OFFSET(ETO!$C$3,$EM$2,$EL40,1,1)*7","v":31.919999999999998},null,{"$f":"OFFSET('input ข้าว'!$B$4,0,$D$1,1,1)","v":7},228468.80000000002,null,{"$f":"IF(OR(EL40=11,EL40=12,EL40<5),OFFSET('input ข้าว'!$B$5,0,$D$1,1,1),OFFSET('input ข้าว'!$B$6,0,$D$1,1,1))","v":0},0,null,30,{"$f":"ROUND(OFFSET(ฝนใช้การ!$A$2,$EU$2,$EL40,1,1)*7/$EU40,2)","v":11.74},383174.82,null,0,0,0,0,0,0,0,0,0,0,0,0,0,0,0,0,0,0,0,0,0,0,0,0,0,563737.84,20403.259999999998,65582.58,0,241789.15,0,211514.69,0,0,0,0,0,0,0,0,0,0,0,0,0,0,0,0,0,0,0,0,0,0,0,0,0,0,0,0,0,0,0,0,0,1103027.52,948321.5,1053690.5555555555]
[39,{"$f":"+'input ข้าว'!A47","v":"2018-04-25"},{"$f":"+'input ข้าว'!B47","v":"2018-05-01"},"2018-05-01",{"$f":"OFFSET('input ข้าว'!$B$8,A41,$D$1,1,1)","v":0},0,0,0,0,0,0,0,0,0,0,0,0,0,0,0,0,0,0,0,0,0,0,0,0,0,0,425,1044,0,3334,0,2761,0,0,0,0,0,0,0,0,0,0,0,0,0,0,0,0,0,0,0,0,0,0,0,0,0,0,0,0,0,0,0,0,0,7564,0,{"$f":"IF(BT41=0,0,OFFSET(Kc!$A$2,1+BT41,MATCH($BU$1,List_Kc_ALL,0),1,1))","v":0},0,0,0,0,0,0,0,0,0,0,0,0,0,0,0,0,0,0,0,0,0,0,0,0,0,0,0.86,0.94,1.23,1.34,1.42,1.48,1.5,1.45,1.38,1.29,1.1200000000000001,1.07,1.03,0,0,0,0,0,0,0,0,0,0,0,0,0,0,0,0,0,0,0,0,0,0,0,0,0,0,null,null,null,5,{"$f":"OFFSET(ETO!$C$3,$EM$2,$EL41,1,1)*7","v":30.169999999999998},null,{"$f":"OFFSET('input ข้าว'!$B$4,0,$D$1,1,1)","v":7},84716.800000000003,null,{"$f":"IF(OR(EL41=11,EL41=12,EL41<5),OFFSET('input ข้าว'!$B$5,0,$D$1,1,1),OFFSET('input ข้าว'!$B$6,0,$D$1,1,1))","v":100},0,null,31,{"$f":"ROUND(OFFSET(ฝนใช้การ!$A$2,$EU$2,$EL41,1,1)*7/$EU41,2)","v":26.51},320834.62,null,0,0,0,0,0,0,0,0,0,0,0,0,0,0,0,0,0,0,0,0,0,0,0,0,0,0,17643.419999999998,47372.21,0,215658.06,0,197252.91,0,0,0,0,0,0,0,0,0,0,0,0,0,0,0,0,0,0,0,0,0,0,0,0,0,0,0,0,0,0,0,0,0,477926.6,241808.78000000003,268676.42222222226]
[40,{"$f":"+'input ข้าว'!A48","v":"2018-05-02"},{"$f":"+'input ข้าว'!B48","v":"2018-05-08"},"2018-05-08",{"$f":"OFFSET('input ข้าว'!$B$8,A42,$D$1,1,1)","v":10656},0,0,0,0,0,0,0,0,0,0,0,0,0,0,0,0,0,0,0,0,0,0,0,0,0,0,0,1044,0,3334,0,2761,0,0,0,0,0,0,0,10656,0,0,0,0,0,0,0,0,0,0,0,0,0,0,0,0,0,0,0,0,0,0,0,0,0,17795,0,{"$f":"IF(BT42=0,0,OFFSET(Kc!$A$2,1+BT42,MATCH($BU$1,List_Kc_ALL,0),1,1))","v":0},0,0,0,0,0,0,0,0,0,0,0,0,0,0,0,0,0,0,0,0,0,0,0,0,0,0,0,0.86,0.94,1.23,1.34,1.42,1.48,1.5,1.45,1.38,1.29,1.1200000000000001,1.07,1.03,0,0,0,0,0,0,0,0,0,0,0,0,0,0,0,0,0,0,0,0,0,0,0,0,0,null,null,null,5,{"$f":"OFFSET(ETO!$C$3,$EM$2,$EL42,1,1)*7","v":30.169999999999998},null,{"$f":"OFFSET('input ข้าว'!$B$4,0,$D$1,1,1)","v":7},199304,null,{"$f":"IF(OR(EL42=11,EL42=12,EL42<5),OFFSET('input ข้าว'!$B$5,0,$D$1,1,1),OFFSET('input ข้าว'!$B$6,0,$D$1,1,1))","v":100},1704960.0000000002,null,31,{"$f":"ROUND(OFFSET(ฝนใช้การ!$A$2,$EU$2,$EL42,1,1)*7/$EU42,2)","v":26.51},754792.72,null,0,0,0,0,0,0,0,0,0,0,0,0,0,0,0,0,0,0,0,0,0,0,0,0,0,0,0,43340.53,0,197954.78,0,189256.17,0,0,0,0,0,0,0,529818.02,0,0,0,0,0,0,0,0,0,0,0,0,0,0,0,0,0,0,0,0,0,0,0,0,0,960369.5,2109840.7800000003,2344267.5333333337]
[41,{"$f":"+'input ข้าว'!A49","v":"2018-05-09"},{"$f":"+'input ข้าว'!B49","v":"2018-05-15"},"2018-05-15",{"$f":"OFFSET('input ข้าว'!$B$8,A43,$D$1,1,1)","v":33459},0,0,0,0,0,0,0,0,0,0,0,0,0,0,0,0,0,0,0,0,0,0,0,0,0,0,0,0,0,3334,0,2761,0,0,0,0,0,0,0,10656,33459,0,0,0,0,0,0,0,0,0,0,0,0,0,0,0,0,0,0,0,0,0,0,0,0,50210,0,{"$f":"IF(BT43=0,0,OFFSET(Kc!$A$2,1+BT43,MATCH($BU$1,List_Kc_ALL,0),1,1))","v":0},0,0,0,0,0,0,0,0,0,0,0,0,0,0,0,0,0,0,0,0,0,0,0,0,0,0,0,0,0.86,0.94,1.23,1.34,1.42,1.48,1.5,1.45,1.38,1.29,1.1200000000000001,1.07,1.03,0,0,0,0,0,0,0,0,0,0,0,0,0,0,0,0,0,0,0,0,0,0,0,0,null,null,null,5,{"$f":"OFFSET(ETO!$C$3,$EM$2,$EL43,1,1)*7","v":30.169999999999998},null,{"$f":"OFFSET('input ข้าว'!$B$4,0,$D$1,1,1)","v":7},562352,null,{"$f":"IF(OR(EL43=11,EL43=12,EL43<5),OFFSET('input ข้าว'!$B$5,0,$D$1,1,1),OFFSET('input ข้าว'!$B$6,0,$D$1,1,1))","v":100},5353440,null,31,{"$f":"ROUND(OFFSET(ฝนใช้การ!$A$2,$EU$2,$EL43,1,1)*7/$EU43,2)","v":26.51},2129707.36,null,0,0,0,0,0,0,0,0,0,0,0,0,0,0,0,0,0,0,0,0,0,0,0,0,0,0,0,0,0,151282.51999999999,0,178593.85,0,0,0,0,0,0,0,550393.48,1663586.83,0,0,0,0,0,0,0,0,0,0,0,0,0,0,0,0,0,0,0,0,0,0,0,0,2543856.6800000002,6329941.3200000003,7033268.1333333338]
[42,{"$f":"+'input ข้าว'!A50","v":"2018-05-16"},{"$f":"+'input ข้าว'!B50","v":"2018-05-22"},"2018-05-22",{"$f":"OFFSET('input ข้าว'!$B$8,A44,$D$1,1,1)","v":21918},0,0,0,0,0,0,0,0,0,0,0,0,0,0,0,0,0,0,0,0,0,0,0,0,0,0,0,0,0,3334,0,2761,0,0,0,0,0,0,0,10656,33459,21918,0,0,0,0,0,0,0,0,0,0,0,0,0,0,0,0,0,0,0,0,0,0,0,72128,0,{"$f":"IF(BT44=0,0,OFFSET(Kc!$A$2,1+BT44,MATCH($BU$1,List_Kc_ALL,0),1,1))","v":0},0,0,0,0,0,0,0,0,0,0,0,0,0,0,0,0,0,0,0,0,0,0,0,0,0,0,0,0,0,0.86,0.94,1.23,1.34,1.42,1.48,1.5,1.45,1.38,1.29,1.1200000000000001,1.07,1.03,0,0,0,0,0,0,0,0,0,0,0,0,0,0,0,0,0,0,0,0,0,0,0,null,null,null,5,{"$f":"OFFSET(ETO!$C$3,$EM$2,$EL44,1,1)*7","v":30.169999999999998},null,{"$f":"OFFSET('input ข้าว'!$B$4,0,$D$1,1,1)","v":7},807833.59999999998,null,{"$f":"IF(OR(EL44=11,EL44=12,EL44<5),OFFSET('input ข้าว'!$B$5,0,$D$1,1,1),OFFSET('input ข้าว'!$B$6,0,$D$1,1,1))","v":100},3506880.0000000005,null,31,{"$f":"ROUND(OFFSET(ฝนใช้การ!$A$2,$EU$2,$EL44,1,1)*7/$EU44,2)","v":26.51},3059381.25,null,0,0,0,0,0,0,0,0,0,0,0,0,0,0,0,0,0,0,0,0,0,0,0,0,0,0,0,0,0,138407.41,0,163933.16,0,0,0,0,0,0,0,576112.80000000005,1728192.15,1089766.47,0,0,0,0,0,0,0,0,0,0,0,0,0,0,0,0,0,0,0,0,0,0,0,3696411.99,4951744.3400000008,5501938.1555555565]
[43,{"$f":"+'input ข้าว'!A51","v":"2018-05-23"},{"$f":"+'input ข้าว'!B51","v":"2018-05-29"},"2018-05-29",{"$f":"OFFSET('input ข้าว'!$B$8,A45,$D$1,1,1)","v":26330},0,0,0,0,0,0,0,0,0,0,0,0,0,0,0,0,0,0,0,0,0,0,0,0,0,0,0,0,0,0,0,2761,0,0,0,0,0,0,0,10656,33459,21918,26330,0,0,0,0,0,0,0,0,0,0,0,0,0,0,0,0,0,0,0,0,0,0,95124,0,{"$f":"IF(BT45=0,0,OFFSET(Kc!$A$2,1+BT45,MATCH($BU$1,List_Kc_ALL,0),1,1))","v":0},0,0,0,0,0,0,0,0,0,0,0,0,0,0,0,0,0,0,0,0,0,0,0,0,0,0,0,0,0,0,0.86,0.94,1.23,1.34,1.42,1.48,1.5,1.45,1.38,1.29,1.1200000000000001,1.07,1.03,0,0,0,0,0,0,0,0,0,0,0,0,0,0,0,0,0,0,0,0,0,0,null,null,null,5,{"$f":"OFFSET(ETO!$C$3,$EM$2,$EL45,1,1)*7","v":30.169999999999998},null,{"$f":"OFFSET('input ข้าว'!$B$4,0,$D$1,1,1)","v":7},1065388.8,null,{"$f":"IF(OR(EL45=11,EL45=12,EL45<5),OFFSET('input ข้าว'!$B$5,0,$D$1,1,1),OFFSET('input ข้าว'!$B$6,0,$D$1,1,1))","v":100},4212800,null,31,{"$f":"ROUND(OFFSET(ฝนใช้การ!$A$2,$EU$2,$EL45,1,1)*7/$EU45,2)","v":26.51},4034779.58,null,0,0,0,0,0,0,0,0,0,0,0,0,0,0,0,0,0,0,0,0,0,0,0,0,0,0,0,0,0,0,0,125282.25,0,0,0,0,0,0,0,663558.5,1808948.79,1132087.49,1309131.81,0,0,0,0,0,0,0,0,0,0,0,0,0,0,0,0,0,0,0,0,0,0,5039008.84,6282418.0600000005,6980464.5111111114]
[44,{"$f":"+'input ข้าว'!A52","v":"2018-05-30"},{"$f":"+'input ข้าว'!B52","v":"2018-06-05"},"2018-06-05",{"$f":"OFFSET('input ข้าว'!$B$8,A46,$D$1,1,1)","v":0},0,0,0,0,0,0,0,0,0,0,0,0,0,0,0,0,0,0,0,0,0,0,0,0,0,0,0,0,0,0,0,2761,0,0,0,0,0,0,0,10656,33459,21918,26330,0,0,0,0,0,0,0,0,0,0,0,0,0,0,0,0,0,0,0,0,0,0,95124,0,{"$f":"IF(BT46=0,0,OFFSET(Kc!$A$2,1+BT46,MATCH($BU$1,List_Kc_ALL,0),1,1))","v":0},0,0,0,0,0,0,0,0,0,0,0,0,0,0,0,0,0,0,0,0,0,0,0,0,0,0,0,0,0,0,0,0.86,0.94,1.23,1.34,1.42,1.48,1.5,1.45,1.38,1.29,1.1200000000000001,1.07,1.03,0,0,0,0,0,0,0,0,0,0,0,0,0,0,0,0,0,0,0,0,0,null,null,null,6,{"$f":"OFFSET(ETO!$C$3,$EM$2,$EL46,1,1)*7","v":29.889999999999997},null,{"$f":"OFFSET('input ข้าว'!$B$4,0,$D$1,1,1)","v":7},1065388.8,null,{"$f":"IF(OR(EL46=11,EL46=12,EL46<5),OFFSET('input ข้าว'!$B$5,0,$D$1,1,1),OFFSET('input ข้าว'!$B$6,0,$D$1,1,1))","v":100},0,null,30,{"$f":"ROUND(OFFSET(ฝนใช้การ!$A$2,$EU$2,$EL46,1,1)*7/$EU46,2)","v":21.07},3206820.29,null,0,0,0,0,0,0,0,0,0,0,0,0,0,0,0,0,0,0,0,0,0,0,0,0,0,0,0,0,0,0,0,113556.18,0,0,0,0,0,0,0,703265.31,2064184.75,1173991.2,1347350.33,0,0,0,0,0,0,0,0,0,0,0,0,0,0,0,0,0,0,0,0,0,0,5402347.7700000005,3260916.2800000003,3623240.3111111112]
[45,{"$f":"+'input ข้าว'!A53","v":"2018-06-06"},{"$f":"+'input ข้าว'!B53","v":"2018-06-12"},"2018-06-12",{"$f":"OFFSET('input ข้าว'!$B$8,A47,$D$1,1,1)","v":442},0,0,0,0,0,0,0,0,0,0,0,0,0,0,0,0,0,0,0,0,0,0,0,0,0,0,0,0,0,0,0,0,0,0,0,0,0,0,0,10656,33459,21918,26330,0,442,0,0,0,0,0,0,0,0,0,0,0,0,0,0,0,0,0,0,0,0,92805,0,{"$f":"IF(BT47=0,0,OFFSET(Kc!$A$2,1+BT47,MATCH($BU$1,List_Kc_ALL,0),1,1))","v":0},0,0,0,0,0,0,0,0,0,0,0,0,0,0,0,0,0,0,0,0,0,0,0,0,0,0,0,0,0,0,0,0,0.86,0.94,1.23,1.34,1.42,1.48,1.5,1.45,1.38,1.29,1.1200000000000001,1.07,1.03,0,0,0,0,0,0,0,0,0,0,0,0,0,0,0,0,0,0,0,0,null,null,null,6,{"$f":"OFFSET(ETO!$C$3,$EM$2,$EL47,1,1)*7","v":29.889999999999997},null,{"$f":"OFFSET('input ข้าว'!$B$4,0,$D$1,1,1)","v":7},1039416,null,{"$f":"IF(OR(EL47=11,EL47=12,EL47<5),OFFSET('input ข้าว'!$B$5,0,$D$1,1,1),OFFSET('input ข้าว'!$B$6,0,$D$1,1,1))","v":100},70720,null,30,{"$f":"ROUND(OFFSET(ฝนใช้การ!$A$2,$EU$2,$EL47,1,1)*7/$EU47,2)","v":21.07},3128642.16,null,0,0,0,0,0,0,0,0,0,0,0,0,0,0,0,0,0,0,0,0,0,0,0,0,0,0,0,0,0,0,0,0,0,0,0,0,0,0,0,738938.19,2208197.64,1352186.3,1410310.63,0,21772.35,0,0,0,0,0,0,0,0,0,0,0,0,0,0,0,0,0,0,0,0,5731405.1099999994,3712898.9499999993,4125443.2777777771]
[46,{"$f":"+'input ข้าว'!A54","v":"2018-06-13"},{"$f":"+'input ข้าว'!B54","v":"2018-06-19"},"2018-06-19",{"$f":"OFFSET('input ข้าว'!$B$8,A48,$D$1,1,1)","v":1080},0,0,0,0,0,0,0,0,0,0,0,0,0,0,0,0,0,0,0,0,0,0,0,0,0,0,0,0,0,0,0,0,0,0,0,0,0,0,0,10656,33459,21918,26330,0,442,1080,0,0,0,0,0,0,0,0,0,0,0,0,0,0,0,0,0,0,0,93885,0,{"$f":"IF(BT48=0,0,OFFSET(Kc!$A$2,1+BT48,MATCH($BU$1,List_Kc_ALL,0),1,1))","v":0},0,0,0,0,0,0,0,0,0,0,0,0,0,0,0,0,0,0,0,0,0,0,0,0,0,0,0,0,0,0,0,0,0,0.86,0.94,1.23,1.34,1.42,1.48,1.5,1.45,1.38,1.29,1.1200000000000001,1.07,1.03,0,0,0,0,0,0,0,0,0,0,0,0,0,0,0,0,0,0,0,null,null,null,6,{"$f":"OFFSET(ETO!$C$3,$EM$2,$EL48,1,1)*7","v":29.889999999999997},null,{"$f":"OFFSET('input ข้าว'!$B$4,0,$D$1,1,1)","v":7},1051512,null,{"$f":"IF(OR(EL48=11,EL48=12,EL48<5),OFFSET('input ข้าว'!$B$5,0,$D$1,1,1),OFFSET('input ข้าว'!$B$6,0,$D$1,1,1))","v":100},172800,null,30,{"$f":"ROUND(OFFSET(ฝนใช้การ!$A$2,$EU$2,$EL48,1,1)*7/$EU48,2)","v":21.07},3165051.12,null,0,0,0,0,0,0,0,0,0,0,0,0,0,0,0,0,0,0,0,0,0,0,0,0,0,0,0,0,0,0,0,0,0,0,0,0,0,0,0,764418.82,2320207.66,1446524.88,1624375.64,0,22617.88,53199.42,0,0,0,0,0,0,0,0,0,0,0,0,0,0,0,0,0,0,0,6231344.2999999989,4290605.1799999988,4767339.0888888873]
[47,{"$f":"+'input ข้าว'!A55","v":"2018-06-20"},{"$f":"+'input ข้าว'!B55","v":"2018-06-26"},"2018-06-26",{"$f":"OFFSET('input ข้าว'!$B$8,A49,$D$1,1,1)","v":0},0,0,0,0,0,0,0,0,0,0,0,0,0,0,0,0,0,0,0,0,0,0,0,0,0,0,0,0,0,0,0,0,0,0,0,0,0,0,0,10656,33459,21918,26330,0,442,1080,0,0,0,0,0,0,0,0,0,0,0,0,0,0,0,0,0,0,0,93885,0,{"$f":"IF(BT49=0,0,OFFSET(Kc!$A$2,1+BT49,MATCH($BU$1,List_Kc_ALL,0),1,1))","v":0},0,0,0,0,0,0,0,0,0,0,0,0,0,0,0,0,0,0,0,0,0,0,0,0,0,0,0,0,0,0,0,0,0,0,0.86,0.94,1.23,1.34,1.42,1.48,1.5,1.45,1.38,1.29,1.1200000000000001,1.07,1.03,0,0,0,0,0,0,0,0,0,0,0,0,0,0,0,0,0,0,null,null,null,6,{"$f":"OFFSET(ETO!$C$3,$EM$2,$EL49,1,1)*7","v":29.889999999999997},null,{"$f":"OFFSET('input ข้าว'!$B$4,0,$D$1,1,1)","v":7},1051512,null,{"$f":"IF(OR(EL49=11,EL49=12,EL49<5),OFFSET('input ข้าว'!$B$5,0,$D$1,1,1),OFFSET('input ข้าว'!$B$6,0,$D$1,1,1))","v":100},0,null,30,{"$f":"ROUND(OFFSET(ฝนใช้การ!$A$2,$EU$2,$EL49,1,1)*7/$EU49,2)","v":21.07},3165051.12,null,0,0,0,0,0,0,0,0,0,0,0,0,0,0,0,0,0,0,0,0,0,0,0,0,0,0,0,0,0,0,0,0,0,0,0,0,0,0,0,754226.57,2400214.8199999998,1519899.33,1737704.17,0,23674.79,55265.41,0,0,0,0,0,0,0,0,0,0,0,0,0,0,0,0,0,0,0,6490985.0899999999,4377445.97,4863828.8555555558]
[48,{"$f":"+'input ข้าว'!A56","v":"2018-06-27"},{"$f":"+'input ข้าว'!B56","v":"2018-07-03"},"2018-07-03",{"$f":"OFFSET('input ข้าว'!$B$8,A50,$D$1,1,1)","v":0},0,0,0,0,0,0,0,0,0,0,0,0,0,0,0,0,0,0,0,0,0,0,0,0,0,0,0,0,0,0,0,0,0,0,0,0,0,0,0,10656,33459,21918,26330,0,442,1080,0,0,0,0,0,0,0,0,0,0,0,0,0,0,0,0,0,0,0,93885,0,{"$f":"IF(BT50=0,0,OFFSET(Kc!$A$2,1+BT50,MATCH($BU$1,List_Kc_ALL,0),1,1))","v":0},0,0,0,0,0,0,0,0,0,0,0,0,0,0,0,0,0,0,0,0,0,0,0,0,0,0,0,0,0,0,0,0,0,0,0,0.86,0.94,1.23,1.34,1.42,1.48,1.5,1.45,1.38,1.29,1.1200000000000001,1.07,1.03,0,0,0,0,0,0,0,0,0,0,0,0,0,0,0,0,0,null,null,null,7,{"$f":"OFFSET(ETO!$C$3,$EM$2,$EL50,1,1)*7","v":26.88},null,{"$f":"OFFSET('input ข้าว'!$B$4,0,$D$1,1,1)","v":7},1051512,null,{"$f":"IF(OR(EL50=11,EL50=12,EL50<5),OFFSET('input ข้าว'!$B$5,0,$D$1,1,1),OFFSET('input ข้าว'!$B$6,0,$D$1,1,1))","v":100},0,null,31,{"$f":"ROUND(OFFSET(ฝนใช้การ!$A$2,$EU$2,$EL50,1,1)*7/$EU50,2)","v":27.8},4176004.8,null,0,0,0,0,0,0,0,0,0,0,0,0,0,0,0,0,0,0,0,0,0,0,0,0,0,0,0,0,0,0,0,0,0,0,0,0,0,0,0,650776.41,2129726.91,1413974.02,1641980.93,0,24522.3,52022.48,0,0,0,0,0,0,0,0,0,0,0,0,0,0,0,0,0,0,0,5913003.0499999998,2788510.25,3098344.722222222]
[49,{"$f":"+'input ข้าว'!A57","v":"2018-07-04"},{"$f":"+'input ข้าว'!B57","v":"2018-07-10"},"2018-07-10",{"$f":"OFFSET('input ข้าว'!$B$8,A51,$D$1,1,1)","v":0},0,0,0,0,0,0,0,0,0,0,0,0,0,0,0,0,0,0,0,0,0,0,0,0,0,0,0,0,0,0,0,0,0,0,0,0,0,0,0,10656,33459,21918,26330,0,442,1080,0,0,0,0,0,0,0,0,0,0,0,0,0,0,0,0,0,0,0,93885,0,{"$f":"IF(BT51=0,0,OFFSET(Kc!$A$2,1+BT51,MATCH($BU$1,List_Kc_ALL,0),1,1))","v":0},0,0,0,0,0,0,0,0,0,0,0,0,0,0,0,0,0,0,0,0,0,0,0,0,0,0,0,0,0,0,0,0,0,0,0,0,0.86,0.94,1.23,1.34,1.42,1.48,1.5,1.45,1.38,1.29,1.1200000000000001,1.07,1.03,0,0,0,0,0,0,0,0,0,0,0,0,0,0,0,0,null,null,null,7,{"$f":"OFFSET(ETO!$C$3,$EM$2,$EL51,1,1)*7","v":26.88},null,{"$f":"OFFSET('input ข้าว'!$B$4,0,$D$1,1,1)","v":7},1051512,null,{"$f":"IF(OR(EL51=11,EL51=12,EL51<5),OFFSET('input ข้าว'!$B$5,0,$D$1,1,1),OFFSET('input ข้าว'!$B$6,0,$D$1,1,1))","v":100},0,null,31,{"$f":"ROUND(OFFSET(ฝนใช้การ!$A$2,$EU$2,$EL51,1,1)*7/$EU51,2)","v":27.8},4176004.8,null,0,0,0,0,0,0,0,0,0,0,0,0,0,0,0,0,0,0,0,0,0,0,0,0,0,0,0,0,0,0,0,0,0,0,0,0,0,0,0,614112.94999999995,2043386.63,1395121.03,1698600.96,0,26233.16,59918.75,0,0,0,0,0,0,0,0,0,0,0,0,0,0,0,0,0,0,0,5837373.4800000004,2712880.6800000006,3014311.8666666672]
[50,{"$f":"+'input ข้าว'!A58","v":"2018-07-11"},{"$f":"+'input ข้าว'!B58","v":"2018-07-17"},"2018-07-17",{"$f":"OFFSET('input ข้าว'!$B$8,A52,$D$1,1,1)","v":0},0,0,0,0,0,0,0,0,0,0,0,0,0,0,0,0,0,0,0,0,0,0,0,0,0,0,0,0,0,0,0,0,0,0,0,0,0,0,0,10656,33459,21918,26330,0,442,1080,0,0,0,0,0,0,0,0,0,0,0,0,0,0,0,0,0,0,0,93885,0,{"$f":"IF(BT52=0,0,OFFSET(Kc!$A$2,1+BT52,MATCH($BU$1,List_Kc_ALL,0),1,1))","v":0},0,0,0,0,0,0,0,0,0,0,0,0,0,0,0,0,0,0,0,0,0,0,0,0,0,0,0,0,0,0,0,0,0,0,0,0,0,0.86,0.94,1.23,1.34,1.42,1.48,1.5,1.45,1.38,1.29,1.1200000000000001,1.07,1.03,0,0,0,0,0,0,0,0,0,0,0,0,0,0,0,null,null,null,7,{"$f":"OFFSET(ETO!$C$3,$EM$2,$EL52,1,1)*7","v":26.88},null,{"$f":"OFFSET('input ข้าว'!$B$4,0,$D$1,1,1)","v":7},1051512,null,{"$f":"IF(OR(EL52=11,EL52=12,EL52<5),OFFSET('input ข้าว'!$B$5,0,$D$1,1,1),OFFSET('input ข้าว'!$B$6,0,$D$1,1,1))","v":100},0,null,31,{"$f":"ROUND(OFFSET(ฝนใช้การ!$A$2,$EU$2,$EL52,1,1)*7/$EU52,2)","v":27.8},4176004.8,null,0,0,0,0,0,0,0,0,0,0,0,0,0,0,0,0,0,0,0,0,0,0,0,0,0,0,0,0,0,0,0,0,0,0,0,0,0,0,0,563700.69999999995,1928266.26,1338562.07,1675952.95,0,27563.83,64099.12,0,0,0,0,0,0,0,0,0,0,0,0,0,0,0,0,0,0,0,5598144.9300000006,2473652.1300000008,2748502.3666666676]
[51,{"$f":"+'input ข้าว'!A59","v":"2018-07-18"},{"$f":"+'input ข้าว'!B59","v":"2018-07-24"},"2018-07-24",{"$f":"OFFSET('input ข้าว'!$B$8,A53,$D$1,1,1)","v":2370},0,0,0,0,0,0,0,0,0,0,0,0,0,0,0,0,0,0,0,0,0,0,0,0,0,0,0,0,0,0,0,0,0,0,0,0,0,0,0,10656,33459,21918,26330,0,442,1080,0,0,0,0,2370,0,0,0,0,0,0,0,0,0,0,0,0,0,0,96255,0,{"$f":"IF(BT53=0,0,OFFSET(Kc!$A$2,1+BT53,MATCH($BU$1,List_Kc_ALL,0),1,1))","v":0},0,0,0,0,0,0,0,0,0,0,0,0,0,0,0,0,0,0,0,0,0,0,0,0,0,0,0,0,0,0,0,0,0,0,0,0,0,0,0.86,0.94,1.23,1.34,1.42,1.48,1.5,1.45,1.38,1.29,1.1200000000000001,1.07,1.03,0,0,0,0,0,0,0,0,0,0,0,0,0,0,null,null,null,7,{"$f":"OFFSET(ETO!$C$3,$EM$2,$EL53,1,1)*7","v":26.88},null,{"$f":"OFFSET('input ข้าว'!$B$4,0,$D$1,1,1)","v":7},1078056,null,{"$f":"IF(OR(EL53=11,EL53=12,EL53<5),OFFSET('input ข้าว'!$B$5,0,$D$1,1,1),OFFSET('input ข้าว'!$B$6,0,$D$1,1,1))","v":100},379200,null,31,{"$f":"ROUND(OFFSET(ฝนใช้การ!$A$2,$EU$2,$EL53,1,1)*7/$EU53,2)","v":27.8},4281422.4000000004,null,0,0,0,0,0,0,0,0,0,0,0,0,0,0,0,0,0,0,0,0,0,0,0,0,0,0,0,0,0,0,0,0,0,0,0,0,0,0,0,430795.65,1769975.75,1263150.1200000001,1608008.91,0,28514.3,67350.53,0,0,0,0,104986.83,0,0,0,0,0,0,0,0,0,0,0,0,0,0,5272782.09,2448615.6899999995,2720684.0999999992]
[52,{"$f":"+'input ข้าว'!A60","v":"2018-07-25"},{"$f":"+'input ข้าว'!B60","v":"2018-07-31"},"2018-07-31",{"$f":"OFFSET('input ข้าว'!$B$8,A54,$D$1,1,1)","v":0},0,0,0,0,0,0,0,0,0,0,0,0,0,0,0,0,0,0,0,0,0,0,0,0,0,0,0,0,0,0,0,0,0,0,0,0,0,0,0,10656,33459,21918,26330,0,442,1080,0,0,0,0,2370,0,0,0,0,0,0,0,0,0,0,0,0,0,0,96255,0,{"$f":"IF(BT54=0,0,OFFSET(Kc!$A$2,1+BT54,MATCH($BU$1,List_Kc_ALL,0),1,1))","v":0},0,0,0,0,0,0,0,0,0,0,0,0,0,0,0,0,0,0,0,0,0,0,0,0,0,0,0,0,0,0,0,0,0,0,0,0,0,0,0,0.86,0.94,1.23,1.34,1.42,1.48,1.5,1.45,1.38,1.29,1.1200000000000001,1.07,1.03,0,0,0,0,0,0,0,0,0,0,0,0,0,null,null,null,7,{"$f":"OFFSET(ETO!$C$3,$EM$2,$EL54,1,1)*7","v":26.88},null,{"$f":"OFFSET('input ข้าว'!$B$4,0,$D$1,1,1)","v":7},1078056,null,{"$f":"IF(OR(EL54=11,EL54=12,EL54<5),OFFSET('input ข้าว'!$B$5,0,$D$1,1,1),OFFSET('input ข้าว'!$B$6,0,$D$1,1,1))","v":100},0,null,31,{"$f":"ROUND(OFFSET(ฝนใช้การ!$A$2,$EU$2,$EL54,1,1)*7/$EU54,2)","v":27.8},4281422.4000000004,null,0,0,0,0,0,0,0,0,0,0,0,0,0,0,0,0,0,0,0,0,0,0,0,0,0,0,0,0,0,0,0,0,0,0,0,0,0,0,0,394132.19,1352664.39,1159458.69,1517416.86,0,28134.11,69672.960000000006,0,0,0,0,109063.99,0,0,0,0,0,0,0,0,0,0,0,0,0,0,4630543.1900000004,1427176.79,1585751.9888888889]
[53,{"$f":"+'input ข้าว'!A61","v":"2018-08-01"},{"$f":"+'input ข้าว'!B61","v":"2018-08-07"},"2018-08-07",{"$f":"OFFSET('input ข้าว'!$B$8,A55,$D$1,1,1)","v":0},0,0,0,0,0,0,0,0,0,0,0,0,0,0,0,0,0,0,0,0,0,0,0,0,0,0,0,0,0,0,0,0,0,0,0,0,0,0,0,0,33459,21918,26330,0,442,1080,0,0,0,0,2370,0,0,0,0,0,0,0,0,0,0,0,0,0,0,85599,0,{"$f":"IF(BT55=0,0,OFFSET(Kc!$A$2,1+BT55,MATCH($BU$1,List_Kc_ALL,0),1,1))","v":0},0,0,0,0,0,0,0,0,0,0,0,0,0,0,0,0,0,0,0,0,0,0,0,0,0,0,0,0,0,0,0,0,0,0,0,0,0,0,0,0,0.86,0.94,1.23,1.34,1.42,1.48,1.5,1.45,1.38,1.29,1.1200000000000001,1.07,1.03,0,0,0,0,0,0,0,0,0,0,0,0,null,null,null,8,{"$f":"OFFSET(ETO!$C$3,$EM$2,$EL55,1,1)*7","v":24.290000000000003},null,{"$f":"OFFSET('input ข้าว'!$B$4,0,$D$1,1,1)","v":7},958708.79999999993,null,{"$f":"IF(OR(EL55=11,EL55=12,EL55<5),OFFSET('input ข้าว'!$B$5,0,$D$1,1,1),OFFSET('input ข้าว'!$B$6,0,$D$1,1,1))","v":100},0,null,31,{"$f":"ROUND(OFFSET(ฝนใช้การ!$A$2,$EU$2,$EL55,1,1)*7/$EU55,2)","v":33.17},4542910.13,null,0,0,0,0,0,0,0,0,0,0,0,0,0,0,0,0,0,0,0,0,0,0,0,0,0,0,0,0,0,0,0,0,0,0,0,0,0,0,0,0,1118301.5,800711.88,1258645.6200000001,0,24392.6,62120.22,0,0,0,0,103160.6,0,0,0,0,0,0,0,0,0,0,0,0,0,0,3367332.4200000004,0,0]
[54,{"$f":"+'input ข้าว'!A62","v":"2018-08-08"},{"$f":"+'input ข้าว'!B62","v":"2018-08-14"},"2018-08-14",{"$f":"OFFSET('input ข้าว'!$B$8,A56,$D$1,1,1)","v":0},0,0,0,0,0,0,0,0,0,0,0,0,0,0,0,0,0,0,0,0,0,0,0,0,0,0,0,0,0,0,0,0,0,0,0,0,0,0,0,0,0,21918,26330,0,442,1080,0,0,0,0,2370,0,0,0,0,0,0,0,0,0,0,0,0,0,0,52140,0,{"$f":"IF(BT56=0,0,OFFSET(Kc!$A$2,1+BT56,MATCH($BU$1,List_Kc_ALL,0),1,1))","v":0},0,0,0,0,0,0,0,0,0,0,0,0,0,0,0,0,0,0,0,0,0,0,0,0,0,0,0,0,0,0,0,0,0,0,0,0,0,0,0,0,0,0.86,0.94,1.23,1.34,1.42,1.48,1.5,1.45,1.38,1.29,1.1200000000000001,1.07,1.03,0,0,0,0,0,0,0,0,0,0,0,null,null,null,8,{"$f":"OFFSET(ETO!$C$3,$EM$2,$EL56,1,1)*7","v":24.290000000000003},null,{"$f":"OFFSET('input ข้าว'!$B$4,0,$D$1,1,1)","v":7},583968,null,{"$f":"IF(OR(EL56=11,EL56=12,EL56<5),OFFSET('input ข้าว'!$B$5,0,$D$1,1,1),OFFSET('input ข้าว'!$B$6,0,$D$1,1,1))","v":100},0,null,31,{"$f":"ROUND(OFFSET(ฝนใช้การ!$A$2,$EU$2,$EL56,1,1)*7/$EU56,2)","v":33.17},2767174.08,null,0,0,0,0,0,0,0,0,0,0,0,0,0,0,0,0,0,0,0,0,0,0,0,0,0,0,0,0,0,0,0,0,0,0,0,0,0,0,0,0,0,732566.19,961891.77,0,23018.37,59601.83,0,0,0,0,118818.91,0,0,0,0,0,0,0,0,0,0,0,0,0,0,1895897.07,0,0]
[55,{"$f":"+'input ข้าว'!A63","v":"2018-08-15"},{"$f":"+'input ข้าว'!B63","v":"2018-08-21"},"2018-08-21",{"$f":"OFFSET('input ข้าว'!$B$8,A57,$D$1,1,1)","v":8232},0,0,0,0,0,0,0,0,0,0,0,0,0,0,0,0,0,0,0,0,0,0,0,0,0,0,0,0,0,0,0,0,0,0,0,0,0,0,0,0,0,0,26330,0,442,1080,0,0,0,0,2370,0,0,0,8232,0,0,0,0,0,0,0,0,0,0,38454,0,{"$f":"IF(BT57=0,0,OFFSET(Kc!$A$2,1+BT57,MATCH($BU$1,List_Kc_ALL,0),1,1))","v":0},0,0,0,0,0,0,0,0,0,0,0,0,0,0,0,0,0,0,0,0,0,0,0,0,0,0,0,0,0,0,0,0,0,0,0,0,0,0,0,0,0,0,0.86,0.94,1.23,1.34,1.42,1.48,1.5,1.45,1.38,1.29,1.1200000000000001,1.07,1.03,0,0,0,0,0,0,0,0,0,0,null,null,null,8,{"$f":"OFFSET(ETO!$C$3,$EM$2,$EL57,1,1)*7","v":24.290000000000003},null,{"$f":"OFFSET('input ข้าว'!$B$4,0,$D$1,1,1)","v":7},430684.8,null,{"$f":"IF(OR(EL57=11,EL57=12,EL57<5),OFFSET('input ข้าว'!$B$5,0,$D$1,1,1),OFFSET('input ข้าว'!$B$6,0,$D$1,1,1))","v":100},1317120,null,31,{"$f":"ROUND(OFFSET(ฝนใช้การ!$A$2,$EU$2,$EL57,1,1)*7/$EU57,2)","v":33.17},2040830.69,null,0,0,0,0,0,0,0,0,0,0,0,0,0,0,0,0,0,0,0,0,0,0,0,0,0,0,0,0,0,0,0,0,0,0,0,0,0,0,0,0,0,0,880028.64,0,21128.799999999999,56243.98,0,0,0,0,127108.6,0,0,0,329526.3,0,0,0,0,0,0,0,0,0,0,1414036.32,1121010.4300000002,1245567.1444444447]
[56,{"$f":"+'input ข้าว'!A64","v":"2018-08-22"},{"$f":"+'input ข้าว'!B64","v":"2018-08-28"},"2018-08-28",{"$f":"OFFSET('input ข้าว'!$B$8,A58,$D$1,1,1)","v":12106},0,0,0,0,0,0,0,0,0,0,0,0,0,0,0,0,0,0,0,0,0,0,0,0,0,0,0,0,0,0,0,0,0,0,0,0,0,0,0,0,0,0,0,0,442,1080,0,0,0,0,2370,0,0,0,8232,12106,0,0,0,0,0,0,0,0,0,24230,0,{"$f":"IF(BT58=0,0,OFFSET(Kc!$A$2,1+BT58,MATCH($BU$1,List_Kc_ALL,0),1,1))","v":0},0,0,0,0,0,0,0,0,0,0,0,0,0,0,0,0,0,0,0,0,0,0,0,0,0,0,0,0,0,0,0,0,0,0,0,0,0,0,0,0,0,0,0,0.86,0.94,1.23,1.34,1.42,1.48,1.5,1.45,1.38,1.29,1.1200000000000001,1.07,1.03,0,0,0,0,0,0,0,0,0,null,null,null,8,{"$f":"OFFSET(ETO!$C$3,$EM$2,$EL58,1,1)*7","v":24.290000000000003},null,{"$f":"OFFSET('input ข้าว'!$B$4,0,$D$1,1,1)","v":7},271376,null,{"$f":"IF(OR(EL58=11,EL58=12,EL58<5),OFFSET('input ข้าว'!$B$5,0,$D$1,1,1),OFFSET('input ข้าว'!$B$6,0,$D$1,1,1))","v":100},1936960.0000000002,null,31,{"$f":"ROUND(OFFSET(ฝนใช้การ!$A$2,$EU$2,$EL58,1,1)*7/$EU58,2)","v":33.17},1285934.56,null,0,0,0,0,0,0,0,0,0,0,0,0,0,0,0,0,0,0,0,0,0,0,0,0,0,0,0,0,0,0,0,0,0,0,0,0,0,0,0,0,0,0,0,0,16147.21,51626.94,0,0,0,0,133556.14000000001,0,0,0,342323.44,484602.21,0,0,0,0,0,0,0,0,0,1028255.94,1950657.38,2167397.0888888887]
[57,{"$f":"+'input ข้าว'!A65","v":"2018-08-29"},{"$f":"+'input ข้าว'!B65","v":"2018-09-04"},"2018-09-04",{"$f":"OFFSET('input ข้าว'!$B$8,A59,$D$1,1,1)","v":43842},0,0,0,0,0,0,0,0,0,0,0,0,0,0,0,0,0,0,0,0,0,0,0,0,0,0,0,0,0,0,0,0,0,0,0,0,0,0,0,0,0,0,0,0,442,1080,0,0,0,0,2370,0,0,0,8232,12106,43842,0,0,0,0,0,0,0,0,68072,0,{"$f":"IF(BT59=0,0,OFFSET(Kc!$A$2,1+BT59,MATCH($BU$1,List_Kc_ALL,0),1,1))","v":0},0,0,0,0,0,0,0,0,0,0,0,0,0,0,0,0,0,0,0,0,0,0,0,0,0,0,0,0,0,0,0,0,0,0,0,0,0,0,0,0,0,0,0,0,0.86,0.94,1.23,1.34,1.42,1.48,1.5,1.45,1.38,1.29,1.1200000000000001,1.07,1.03,0,0,0,0,0,0,0,0,null,null,null,9,{"$f":"OFFSET(ETO!$C$3,$EM$2,$EL59,1,1)*7","v":23.939999999999998},null,{"$f":"OFFSET('input ข้าว'!$B$4,0,$D$1,1,1)","v":7},762406.40000000002,null,{"$f":"IF(OR(EL59=11,EL59=12,EL59<5),OFFSET('input ข้าว'!$B$5,0,$D$1,1,1),OFFSET('input ข้าว'!$B$6,0,$D$1,1,1))","v":100},7014720,null,30,{"$f":"ROUND(OFFSET(ฝนใช้การ!$A$2,$EU$2,$EL59,1,1)*7/$EU59,2)","v":57.8},6295298.5599999996,null,0,0,0,0,0,0,0,0,0,0,0,0,0,0,0,0,0,0,0,0,0,0,0,0,0,0,0,0,0,0,0,0,0,0,0,0,0,0,0,0,0,0,0,0,14560.12,38886.22,0,0,0,0,136170.72,0,0,0,353156.75,496167.8,1729703.69,0,0,0,0,0,0,0,0,2768645.3,4250473.1399999997,4722747.9333333327]
[58,{"$f":"+'input ข้าว'!A66","v":"2018-09-05"},{"$f":"+'input ข้าว'!B66","v":"2018-09-11"},"2018-09-11",{"$f":"OFFSET('input ข้าว'!$B$8,A60,$D$1,1,1)","v":17428},0,0,0,0,0,0,0,0,0,0,0,0,0,0,0,0,0,0,0,0,0,0,0,0,0,0,0,0,0,0,0,0,0,0,0,0,0,0,0,0,0,0,0,0,0,1080,0,0,0,0,2370,0,0,0,8232,12106,43842,17428,0,0,0,0,0,0,0,85058,0,{"$f":"IF(BT60=0,0,OFFSET(Kc!$A$2,1+BT60,MATCH($BU$1,List_Kc_ALL,0),1,1))","v":0},0,0,0,0,0,0,0,0,0,0,0,0,0,0,0,0,0,0,0,0,0,0,0,0,0,0,0,0,0,0,0,0,0,0,0,0,0,0,0,0,0,0,0,0,0,0.86,0.94,1.23,1.34,1.42,1.48,1.5,1.45,1.38,1.29,1.1200000000000001,1.07,1.03,0,0,0,0,0,0,0,null,null,null,9,{"$f":"OFFSET(ETO!$C$3,$EM$2,$EL60,1,1)*7","v":23.939999999999998},null,{"$f":"OFFSET('input ข้าว'!$B$4,0,$D$1,1,1)","v":7},952649.60000000009,null,{"$f":"IF(OR(EL60=11,EL60=12,EL60<5),OFFSET('input ข้าว'!$B$5,0,$D$1,1,1),OFFSET('input ข้าว'!$B$6,0,$D$1,1,1))","v":100},2788480.0000000005,null,30,{"$f":"ROUND(OFFSET(ฝนใช้การ!$A$2,$EU$2,$EL60,1,1)*7/$EU60,2)","v":57.8},7866163.8399999999,null,0,0,0,0,0,0,0,0,0,0,0,0,0,0,0,0,0,0,0,0,0,0,0,0,0,0,0,0,0,0,0,0,0,0,0,0,0,0,0,0,0,0,0,0,0,35576.76,0,0,0,0,134355.10999999999,0,0,0,406760.9,519353.21,1796876.65,687588.98,0,0,0,0,0,0,0,3580511.61,0,0]
[59,{"$f":"+'input ข้าว'!A67","v":"2018-09-12"},{"$f":"+'input ข้าว'!B67","v":"2018-09-18"},"2018-09-18",{"$f":"OFFSET('input ข้าว'!$B$8,A61,$D$1,1,1)","v":10546},0,0,0,0,0,0,0,0,0,0,0,0,0,0,0,0,0,0,0,0,0,0,0,0,0,0,0,0,0,0,0,0,0,0,0,0,0,0,0,0,0,0,0,0,0,0,0,0,0,0,2370,0,0,0,8232,12106,43842,17428,10546,0,0,0,0,0,0,94524,0,{"$f":"IF(BT61=0,0,OFFSET(Kc!$A$2,1+BT61,MATCH($BU$1,List_Kc_ALL,0),1,1))","v":0},0,0,0,0,0,0,0,0,0,0,0,0,0,0,0,0,0,0,0,0,0,0,0,0,0,0,0,0,0,0,0,0,0,0,0,0,0,0,0,0,0,0,0,0,0,0,0.86,0.94,1.23,1.34,1.42,1.48,1.5,1.45,1.38,1.29,1.1200000000000001,1.07,1.03,0,0,0,0,0,0,null,null,null,9,{"$f":"OFFSET(ETO!$C$3,$EM$2,$EL61,1,1)*7","v":23.939999999999998},null,{"$f":"OFFSET('input ข้าว'!$B$4,0,$D$1,1,1)","v":7},1058668.8,null,{"$f":"IF(OR(EL61=11,EL61=12,EL61<5),OFFSET('input ข้าว'!$B$5,0,$D$1,1,1),OFFSET('input ข้าว'!$B$6,0,$D$1,1,1))","v":100},1687360.0000000002,null,30,{"$f":"ROUND(OFFSET(ฝนใช้การ!$A$2,$EU$2,$EL61,1,1)*7/$EU61,2)","v":57.8},8741579.5199999996,null,0,0,0,0,0,0,0,0,0,0,0,0,0,0,0,0,0,0,0,0,0,0,0,0,0,0,0,0,0,0,0,0,0,0,0,0,0,0,0,0,0,0,0,0,0,0,0,0,0,0,128908.28,0,0,0,435139.57,598183.61,1880842.84,714291.46,416072.6,0,0,0,0,0,0,4173438.36,0,0]
[60,{"$f":"+'input ข้าว'!A68","v":"2018-09-19"},{"$f":"+'input ข้าว'!B68","v":"2018-09-25"},"2018-09-25",{"$f":"OFFSET('input ข้าว'!$B$8,A62,$D$1,1,1)","v":1694},0,0,0,0,0,0,0,0,0,0,0,0,0,0,0,0,0,0,0,0,0,0,0,0,0,0,0,0,0,0,0,0,0,0,0,0,0,0,0,0,0,0,0,0,0,0,0,0,0,0,2370,0,0,0,8232,12106,43842,17428,10546,1694,0,0,0,0,0,96218,0,{"$f":"IF(BT62=0,0,OFFSET(Kc!$A$2,1+BT62,MATCH($BU$1,List_Kc_ALL,0),1,1))","v":0},0,0,0,0,0,0,0,0,0,0,0,0,0,0,0,0,0,0,0,0,0,0,0,0,0,0,0,0,0,0,0,0,0,0,0,0,0,0,0,0,0,0,0,0,0,0,0,0.86,0.94,1.23,1.34,1.42,1.48,1.5,1.45,1.38,1.29,1.1200000000000001,1.07,1.03,0,0,0,0,0,null,null,null,9,{"$f":"OFFSET(ETO!$C$3,$EM$2,$EL62,1,1)*7","v":23.939999999999998},null,{"$f":"OFFSET('input ข้าว'!$B$4,0,$D$1,1,1)","v":7},1077641.6000000001,null,{"$f":"IF(OR(EL62=11,EL62=12,EL62<5),OFFSET('input ข้าว'!$B$5,0,$D$1,1,1),OFFSET('input ข้าว'!$B$6,0,$D$1,1,1))","v":100},271040,null,30,{"$f":"ROUND(OFFSET(ฝนใช้การ!$A$2,$EU$2,$EL62,1,1)*7/$EU62,2)","v":57.8},8898240.6400000006,null,0,0,0,0,0,0,0,0,0,0,0,0,0,0,0,0,0,0,0,0,0,0,0,0,0,0,0,0,0,0,0,0,0,0,0,0,0,0,0,0,0,0,0,0,0,0,0,0,0,0,121645.84,0,0,0,457211.87,639917.35,2166327.92,747669.57,432230.76,66833.59,0,0,0,0,0,4631836.8999999994,0,0]
[61,{"$f":"+'input ข้าว'!A69","v":"2018-09-26"},{"$f":"+'input ข้าว'!B69","v":"2018-10-02"},"2018-10-02",{"$f":"OFFSET('input ข้าว'!$B$8,A63,$D$1,1,1)","v":2407},0,0,0,0,0,0,0,0,0,0,0,0,0,0,0,0,0,0,0,0,0,0,0,0,0,0,0,0,0,0,0,0,0,0,0,0,0,0,0,0,0,0,0,0,0,0,0,0,0,0,2370,0,0,0,8232,12106,43842,17428,10546,1694,2407,0,0,0,0,98625,0,{"$f":"IF(BT63=0,0,OFFSET(Kc!$A$2,1+BT63,MATCH($BU$1,List_Kc_ALL,0),1,1))","v":0},0,0,0,0,0,0,0,0,0,0,0,0,0,0,0,0,0,0,0,0,0,0,0,0,0,0,0,0,0,0,0,0,0,0,0,0,0,0,0,0,0,0,0,0,0,0,0,0,0.86,0.94,1.23,1.34,1.42,1.48,1.5,1.45,1.38,1.29,1.1200000000000001,1.07,1.03,0,0,0,0,null,null,null,10,{"$f":"OFFSET(ETO!$C$3,$EM$2,$EL63,1,1)*7","v":22.82},null,{"$f":"OFFSET('input ข้าว'!$B$4,0,$D$1,1,1)","v":7},1104600,null,{"$f":"IF(OR(EL63=11,EL63=12,EL63<5),OFFSET('input ข้าว'!$B$5,0,$D$1,1,1),OFFSET('input ข้าว'!$B$6,0,$D$1,1,1))","v":100},385120,null,31,{"$f":"ROUND(OFFSET(ฝนใช้การ!$A$2,$EU$2,$EL63,1,1)*7/$EU63,2)","v":32.92},5194776,null,0,0,0,0,0,0,0,0,0,0,0,0,0,0,0,0,0,0,0,0,0,0,0,0,0,0,0,0,0,0,0,0,0,0,0,0,0,0,0,0,0,0,0,0,0,0,0,0,0,0,106436.13,0,0,0,450850.18,640920.68999999994,2209047.56,820867.17,431262.22,66180.92,90520.92,0,0,0,0,4816085.79,1111029.79,1234477.5444444444]
[62,{"$f":"+'input ข้าว'!A70","v":"2018-10-03"},{"$f":"+'input ข้าว'!B70","v":"2018-10-09"},"2018-10-09",{"$f":"OFFSET('input ข้าว'!$B$8,A64,$D$1,1,1)","v":0},0,0,0,0,0,0,0,0,0,0,0,0,0,0,0,0,0,0,0,0,0,0,0,0,0,0,0,0,0,0,0,0,0,0,0,0,0,0,0,0,0,0,0,0,0,0,0,0,0,0,2370,0,0,0,8232,12106,43842,17428,10546,1694,2407,0,0,0,0,98625,0,{"$f":"IF(BT64=0,0,OFFSET(Kc!$A$2,1+BT64,MATCH($BU$1,List_Kc_ALL,0),1,1))","v":0},0,0,0,0,0,0,0,0,0,0,0,0,0,0,0,0,0,0,0,0,0,0,0,0,0,0,0,0,0,0,0,0,0,0,0,0,0,0,0,0,0,0,0,0,0,0,0,0,0,0.86,0.94,1.23,1.34,1.42,1.48,1.5,1.45,1.38,1.29,1.1200000000000001,1.07,1.03,0,0,0,null,null,null,10,{"$f":"OFFSET(ETO!$C$3,$EM$2,$EL64,1,1)*7","v":22.82},null,{"$f":"OFFSET('input ข้าว'!$B$4,0,$D$1,1,1)","v":7},1104600,null,{"$f":"IF(OR(EL64=11,EL64=12,EL64<5),OFFSET('input ข้าว'!$B$5,0,$D$1,1,1),OFFSET('input ข้าว'!$B$6,0,$D$1,1,1))","v":100},0,null,31,{"$f":"ROUND(OFFSET(ฝนใช้การ!$A$2,$EU$2,$EL64,1,1)*7/$EU64,2)","v":32.92},5194776,null,0,0,0,0,0,0,0,0,0,0,0,0,0,0,0,0,0,0,0,0,0,0,0,0,0,0,0,0,0,0,0,0,0,0,0,0,0,0,0,0,0,0,0,0,0,0,0,0,0,0,81341.429999999993,0,0,0,444838.84,663021.41,2321100.7000000002,878136.97,496721.66,69273.490000000005,94036.29,0,0,0,0,5048470.790000001,958294.79000000097,1064771.9888888898]
[63,{"$f":"+'input ข้าว'!A71","v":"2018-10-10"},{"$f":"+'input ข้าว'!B71","v":"2018-10-16"},"2018-10-16",{"$f":"OFFSET('input ข้าว'!$B$8,A65,$D$1,1,1)","v":0},0,0,0,0,0,0,0,0,0,0,0,0,0,0,0,0,0,0,0,0,0,0,0,0,0,0,0,0,0,0,0,0,0,0,0,0,0,0,0,0,0,0,0,0,0,0,0,0,0,0,2370,0,0,0,8232,12106,43842,17428,10546,1694,2407,0,0,0,0,98625,0,{"$f":"IF(BT65=0,0,OFFSET(Kc!$A$2,1+BT65,MATCH($BU$1,List_Kc_ALL,0),1,1))","v":0},0,0,0,0,0,0,0,0,0,0,0,0,0,0,0,0,0,0,0,0,0,0,0,0,0,0,0,0,0,0,0,0,0,0,0,0,0,0,0,0,0,0,0,0,0,0,0,0,0,0,0.86,0.94,1.23,1.34,1.42,1.48,1.5,1.45,1.38,1.29,1.1200000000000001,1.07,1.03,0,0,null,null,null,10,{"$f":"OFFSET(ETO!$C$3,$EM$2,$EL65,1,1)*7","v":22.82},null,{"$f":"OFFSET('input ข้าว'!$B$4,0,$D$1,1,1)","v":7},1104600,null,{"$f":"IF(OR(EL65=11,EL65=12,EL65<5),OFFSET('input ข้าว'!$B$5,0,$D$1,1,1),OFFSET('input ข้าว'!$B$6,0,$D$1,1,1))","v":100},0,null,31,{"$f":"ROUND(OFFSET(ฝนใช้การ!$A$2,$EU$2,$EL65,1,1)*7/$EU65,2)","v":32.92},5194776,null,0,0,0,0,0,0,0,0,0,0,0,0,0,0,0,0,0,0,0,0,0,0,0,0,0,0,0,0,0,0,0,0,0,0,0,0,0,0,0,0,0,0,0,0,0,0,0,0,0,0,74418.759999999995,0,0,0,426804.83,654181.12,2401138.66,922680.15,531376.66,79788.210000000006,98430.51,0,0,0,0,5188818.9000000004,1098642.9000000004,1220714.3333333337]
[64,{"$f":"+'input ข้าว'!A72","v":"2018-10-17"},{"$f":"+'input ข้าว'!B72","v":"2018-10-23"},"2018-10-23",{"$f":"OFFSET('input ข้าว'!$B$8,A66,$D$1,1,1)","v":0},0,0,0,0,0,0,0,0,0,0,0,0,0,0,0,0,0,0,0,0,0,0,0,0,0,0,0,0,0,0,0,0,0,0,0,0,0,0,0,0,0,0,0,0,0,0,0,0,0,0,0,0,0,0,8232,12106,43842,17428,10546,1694,2407,0,0,0,0,96255,0,{"$f":"IF(BT66=0,0,OFFSET(Kc!$A$2,1+BT66,MATCH($BU$1,List_Kc_ALL,0),1,1))","v":0},0,0,0,0,0,0,0,0,0,0,0,0,0,0,0,0,0,0,0,0,0,0,0,0,0,0,0,0,0,0,0,0,0,0,0,0,0,0,0,0,0,0,0,0,0,0,0,0,0,0,0,0.86,0.94,1.23,1.34,1.42,1.48,1.5,1.45,1.38,1.29,1.1200000000000001,1.07,1.03,0,null,null,null,10,{"$f":"OFFSET(ETO!$C$3,$EM$2,$EL66,1,1)*7","v":22.82},null,{"$f":"OFFSET('input ข้าว'!$B$4,0,$D$1,1,1)","v":7},1078056,null,{"$f":"IF(OR(EL66=11,EL66=12,EL66<5),OFFSET('input ข้าว'!$B$5,0,$D$1,1,1),OFFSET('input ข้าว'!$B$6,0,$D$1,1,1))","v":100},0,null,31,{"$f":"ROUND(OFFSET(ฝนใช้การ!$A$2,$EU$2,$EL66,1,1)*7/$EU66,2)","v":32.92},5069943.3600000003,null,0,0,0,0,0,0,0,0,0,0,0,0,0,0,0,0,0,0,0,0,0,0,0,0,0,0,0,0,0,0,0,0,0,0,0,0,0,0,0,0,0,0,0,0,0,0,0,0,0,0,0,0,0,0,402759.49,627660.27,2369123.4700000002,954496.7,558330.55000000005,85354.83,113370.86,0,0,0,0,5111096.1700000009,1119208.8100000005,1243565.3444444451]
[65,{"$f":"+'input ข้าว'!A73","v":"2018-10-24"},{"$f":"+'input ข้าว'!B73","v":"2018-10-30"},{"$f":"+C67","v":"2018-10-30"},{"$f":"OFFSET('input ข้าว'!$B$8,A67,$D$1,1,1)","v":0},0,0,0,0,0,0,0,0,0,0,0,0,0,0,0,0,0,0,0,0,0,0,0,0,0,0,0,0,0,0,0,0,0,0,0,0,0,0,0,0,0,0,0,0,0,0,0,0,0,0,0,0,0,0,8232,12106,43842,17428,10546,1694,2407,0,0,0,0,96255,0,{"$f":"IF(BT67=0,0,OFFSET(Kc!$A$2,1+BT67,MATCH($BU$1,List_Kc_ALL,0),1,1))","v":0},0,0,0,0,0,0,0,0,0,0,0,0,0,0,0,0,0,0,0,0,0,0,0,0,0,0,0,0,0,0,0,0,0,0,0,0,0,0,0,0,0,0,0,0,0,0,0,0,0,0,0,0,0.86,0.94,1.23,1.34,1.42,1.48,1.5,1.45,1.38,1.29,1.1200000000000001,1.07,1.03,null,null,null,{"$f":"MONTH(D67)","v":10},{"$f":"OFFSET(ETO!$C$3,$EM$2,$EL67,1,1)*7","v":22.82},null,{"$f":"OFFSET('input ข้าว'!$B$4,0,$D$1,1,1)","v":7},1078056,null,{"$f":"IF(OR(EL67=11,EL67=12,EL67<5),OFFSET('input ข้าว'!$B$5,0,$D$1,1,1),OFFSET('input ข้าว'!$B$6,0,$D$1,1,1))","v":100},0,null,{"$f":"VLOOKUP(EL67,$EJ$3:$EK$14,2,TRUE)","v":31},{"$f":"ROUND(OFFSET(ฝนใช้การ!$A$2,$EU$2,$EL67,1,1)*7/$EU67,2)","v":32.92},5069943.3600000003,null,{"$f":"ROUND(BV67*$EM67*F67*1.6,2)","v":0},{"$f":"ROUND(BW67*$EM67*G67*1.6,2)","v":0},{"$f":"ROUND(BX67*$EM67*H67*1.6,2)","v":0},{"$f":"ROUND(BY67*$EM67*I67*1.6,2)","v":0},{"$f":"ROUND(BZ67*$EM67*J67*1.6,2)","v":0},{"$f":"ROUND(CA67*$EM67*K67*1.6,2)","v":0},{"$f":"ROUND(CB67*$EM67*L67*1.6,2)","v":0},{"$f":"ROUND(CC67*$EM67*M67*1.6,2)","v":0},{"$f":"ROUND(CD67*$EM67*N67*1.6,2)","v":0},{"$f":"ROUND(CE67*$EM67*O67*1.6,2)","v":0},{"$f":"ROUND(CF67*$EM67*P67*1.6,2)","v":0},{"$f":"ROUND(CG67*$EM67*Q67*1.6,2)","v":0},{"$f":"ROUND(CH67*$EM67*R67*1.6,2)","v":0},{"$f":"ROUND(CI67*$EM67*S67*1.6,2)","v":0},{"$f":"ROUND(CJ67*$EM67*T67*1.6,2)","v":0},{"$f":"ROUND(CK67*$EM67*U67*1.6,2)","v":0},{"$f":"ROUND(CL67*$EM67*V67*1.6,2)","v":0},{"$f":"ROUND(CM67*$EM67*W67*1.6,2)","v":0},{"$f":"ROUND(CN67*$EM67*X67*1.6,2)","v":0},{"$f":"ROUND(CO67*$EM67*Y67*1.6,2)","v":0},{"$f":"ROUND(CP67*$EM67*Z67*1.6,2)","v":0},{"$f":"ROUND(CQ67*$EM67*AA67*1.6,2)","v":0},{"$f":"ROUND(CR67*$EM67*AB67*1.6,2)","v":0},{"$f":"ROUND(CS67*$EM67*AC67*1.6,2)","v":0},{"$f":"ROUND(CT67*$EM67*AD67*1.6,2)","v":0},{"$f":"ROUND(CU67*$EM67*AE67*1.6,2)","v":0},{"$f":"ROUND(CV67*$EM67*AF67*1.6,2)","v":0},{"$f":"ROUND(CW67*$EM67*AG67*1.6,2)","v":0},{"$f":"ROUND(CX67*$EM67*AH67*1.6,2)","v":0},{"$f":"ROUND(CY67*$EM67*AI67*1.6,2)","v":0},{"$f":"ROUND(CZ67*$EM67*AJ67*1.6,2)","v":0},{"$f":"ROUND(DA67*$EM67*AK67*1.6,2)","v":0},{"$f":"ROUND(DB67*$EM67*AL67*1.6,2)","v":0},{"$f":"ROUND(DC67*$EM67*AM67*1.6,2)","v":0},{"$f":"ROUND(DD67*$EM67*AN67*1.6,2)","v":0},{"$f":"ROUND(DE67*$EM67*AO67*1.6,2)","v":0},{"$f":"ROUND(DF67*$EM67*AP67*1.6,2)","v":0},{"$f":"ROUND(DG67*$EM67*AQ67*1.6,2)","v":0},{"$f":"ROUND(DH67*$EM67*AR67*1.6,2)","v":0},{"$f":"ROUND(DI67*$EM67*AS67*1.6,2)","v":0},{"$f":"ROUND(DJ67*$EM67*AT67*1.6,2)","v":0},{"$f":"ROUND(DK67*$EM67*AU67*1.6,2)","v":0},{"$f":"ROUND(DL67*$EM67*AV67*1.6,2)","v":0},{"$f":"ROUND(DM67*$EM67*AW67*1.6,2)","v":0},{"$f":"ROUND(DN67*$EM67*AX67*1.6,2)","v":0},{"$f":"ROUND(DO67*$EM67*AY67*1.6,2)","v":0},{"$f":"ROUND(DP67*$EM67*AZ67*1.6,2)","v":0},{"$f":"ROUND(DQ67*$EM67*BA67*1.6,2)","v":0},{"$f":"ROUND(DR67*$EM67*BB67*1.6,2)","v":0},{"$f":"ROUND(DS67*$EM67*BC67*1.6,2)","v":0},{"$f":"ROUND(DT67*$EM67*BD67*1.6,2)","v":0},{"$f":"ROUND(DU67*$EM67*BE67*1.6,2)","v":0},{"$f":"ROUND(DV67*$EM67*BF67*1.6,2)","v":0},{"$f":"ROUND(DW67*$EM67*BG67*1.6,2)","v":0},{"$f":"ROUND(DX67*$EM67*BH67*1.6,2)","v":369697.14},{"$f":"ROUND(DY67*$EM67*BI67*1.6,2)","v":592299.12},{"$f":"ROUND(DZ67*$EM67*BJ67*1.6,2)","v":2273077.9300000002},{"$f":"ROUND(EA67*$EM67*BK67*1.6,2)","v":941770.08},{"$f":"ROUND(EB67*$EM67*BL67*1.6,2)","v":577583.32999999996},{"$f":"ROUND(EC67*$EM67*BM67*1.6,2)","v":89684.43},{"$f":"ROUND(ED67*$EM67*BN67*1.6,2)","v":121280.45},{"$f":"ROUND(EE67*$EM67*BO67*1.6,2)","v":0},{"$f":"ROUND(EF67*$EM67*BP67*1.6,2)","v":0},{"$f":"ROUND(EG67*$EM67*BQ67*1.6,2)","v":0},{"$f":"ROUND(EH67*$EM67*BR67*1.6,2)","v":0},4965392.4800000004,973505.12000000011,1081672.3555555558]
[66,{"$f":"+B67+7","v":"2018-10-31"},{"$f":"+C67+7","v":"2018-11-06"},"2018-11-06",{"$f":"OFFSET('input ข้าว'!$B$8,A68,$D$1,1,1)","v":0},{"$f":"IF($A68=F$2,$E68,IF(F67=0,0,IF($A68<F$2+$BT$1,F67,0)))","v":0},{"$f":"IF($A68=G$2,$E68,IF(G67=0,0,IF($A68<G$2+$BT$1,G67,0)))","v":0},{"$f":"IF($A68=H$2,$E68,IF(H67=0,0,IF($A68<H$2+$BT$1,H67,0)))","v":0},{"$f":"IF($A68=I$2,$E68,IF(I67=0,0,IF($A68<I$2+$BT$1,I67,0)))","v":0},{"$f":"IF($A68=J$2,$E68,IF(J67=0,0,IF($A68<J$2+$BT$1,J67,0)))","v":0},{"$f":"IF($A68=K$2,$E68,IF(K67=0,0,IF($A68<K$2+$BT$1,K67,0)))","v":0},{"$f":"IF($A68=L$2,$E68,IF(L67=0,0,IF($A68<L$2+$BT$1,L67,0)))","v":0},{"$f":"IF($A68=M$2,$E68,IF(M67=0,0,IF($A68<M$2+$BT$1,M67,0)))","v":0},{"$f":"IF($A68=N$2,$E68,IF(N67=0,0,IF($A68<N$2+$BT$1,N67,0)))","v":0},{"$f":"IF($A68=O$2,$E68,IF(O67=0,0,IF($A68<O$2+$BT$1,O67,0)))","v":0},{"$f":"IF($A68=P$2,$E68,IF(P67=0,0,IF($A68<P$2+$BT$1,P67,0)))","v":0},{"$f":"IF($A68=Q$2,$E68,IF(Q67=0,0,IF($A68<Q$2+$BT$1,Q67,0)))","v":0},{"$f":"IF($A68=R$2,$E68,IF(R67=0,0,IF($A68<R$2+$BT$1,R67,0)))","v":0},{"$f":"IF($A68=S$2,$E68,IF(S67=0,0,IF($A68<S$2+$BT$1,S67,0)))","v":0},{"$f":"IF($A68=T$2,$E68,IF(T67=0,0,IF($A68<T$2+$BT$1,T67,0)))","v":0},{"$f":"IF($A68=U$2,$E68,IF(U67=0,0,IF($A68<U$2+$BT$1,U67,0)))","v":0},{"$f":"IF($A68=V$2,$E68,IF(V67=0,0,IF($A68<V$2+$BT$1,V67,0)))","v":0},{"$f":"IF($A68=W$2,$E68,IF(W67=0,0,IF($A68<W$2+$BT$1,W67,0)))","v":0},{"$f":"IF($A68=X$2,$E68,IF(X67=0,0,IF($A68<X$2+$BT$1,X67,0)))","v":0},{"$f":"IF($A68=Y$2,$E68,IF(Y67=0,0,IF($A68<Y$2+$BT$1,Y67,0)))","v":0},{"$f":"IF($A68=Z$2,$E68,IF(Z67=0,0,IF($A68<Z$2+$BT$1,Z67,0)))","v":0},{"$f":"IF($A68=AA$2,$E68,IF(AA67=0,0,IF($A68<AA$2+$BT$1,AA67,0)))","v":0},{"$f":"IF($A68=AB$2,$E68,IF(AB67=0,0,IF($A68<AB$2+$BT$1,AB67,0)))","v":0},{"$f":"IF($A68=AC$2,$E68,IF(AC67=0,0,IF($A68<AC$2+$BT$1,AC67,0)))","v":0},{"$f":"IF($A68=AD$2,$E68,IF(AD67=0,0,IF($A68<AD$2+$BT$1,AD67,0)))","v":0},{"$f":"IF($A68=AE$2,$E68,IF(AE67=0,0,IF($A68<AE$2+$BT$1,AE67,0)))","v":0},{"$f":"IF($A68=AF$2,$E68,IF(AF67=0,0,IF($A68<AF$2+$BT$1,AF67,0)))","v":0},{"$f":"IF($A68=AG$2,$E68,IF(AG67=0,0,IF($A68<AG$2+$BT$1,AG67,0)))","v":0},{"$f":"IF($A68=AH$2,$E68,IF(AH67=0,0,IF($A68<AH$2+$BT$1,AH67,0)))","v":0},{"$f":"IF($A68=AI$2,$E68,IF(AI67=0,0,IF($A68<AI$2+$BT$1,AI67,0)))","v":0},{"$f":"IF($A68=AJ$2,$E68,IF(AJ67=0,0,IF($A68<AJ$2+$BT$1,AJ67,0)))","v":0},{"$f":"IF($A68=AK$2,$E68,IF(AK67=0,0,IF($A68<AK$2+$BT$1,AK67,0)))","v":0},{"$f":"IF($A68=AL$2,$E68,IF(AL67=0,0,IF($A68<AL$2+$BT$1,AL67,0)))","v":0},{"$f":"IF($A68=AM$2,$E68,IF(AM67=0,0,IF($A68<AM$2+$BT$1,AM67,0)))","v":0},{"$f":"IF($A68=AN$2,$E68,IF(AN67=0,0,IF($A68<AN$2+$BT$1,AN67,0)))","v":0},{"$f":"IF($A68=AO$2,$E68,IF(AO67=0,0,IF($A68<AO$2+$BT$1,AO67,0)))","v":0},{"$f":"IF($A68=AP$2,$E68,IF(AP67=0,0,IF($A68<AP$2+$BT$1,AP67,0)))","v":0},{"$f":"IF($A68=AQ$2,$E68,IF(AQ67=0,0,IF($A68<AQ$2+$BT$1,AQ67,0)))","v":0},{"$f":"IF($A68=AR$2,$E68,IF(AR67=0,0,IF($A68<AR$2+$BT$1,AR67,0)))","v":0},{"$f":"IF($A68=AS$2,$E68,IF(AS67=0,0,IF($A68<AS$2+$BT$1,AS67,0)))","v":0},{"$f":"IF($A68=AT$2,$E68,IF(AT67=0,0,IF($A68<AT$2+$BT$1,AT67,0)))","v":0},{"$f":"IF($A68=AU$2,$E68,IF(AU67=0,0,IF($A68<AU$2+$BT$1,AU67,0)))","v":0},{"$f":"IF($A68=AV$2,$E68,IF(AV67=0,0,IF($A68<AV$2+$BT$1,AV67,0)))","v":0},{"$f":"IF($A68=AW$2,$E68,IF(AW67=0,0,IF($A68<AW$2+$BT$1,AW67,0)))","v":0},{"$f":"IF($A68=AX$2,$E68,IF(AX67=0,0,IF($A68<AX$2+$BT$1,AX67,0)))","v":0},{"$f":"IF($A68=AY$2,$E68,IF(AY67=0,0,IF($A68<AY$2+$BT$1,AY67,0)))","v":0},{"$f":"IF($A68=AZ$2,$E68,IF(AZ67=0,0,IF($A68<AZ$2+$BT$1,AZ67,0)))","v":0},{"$f":"IF($A68=BA$2,$E68,IF(BA67=0,0,IF($A68<BA$2+$BT$1,BA67,0)))","v":0},{"$f":"IF($A68=BB$2,$E68,IF(BB67=0,0,IF($A68<BB$2+$BT$1,BB67,0)))","v":0},{"$f":"IF($A68=BC$2,$E68,IF(BC67=0,0,IF($A68<BC$2+$BT$1,BC67,0)))","v":0},{"$f":"IF($A68=BD$2,$E68,IF(BD67=0,0,IF($A68<BD$2+$BT$1,BD67,0)))","v":0},{"$f":"IF($A68=BE$2,$E68,IF(BE67=0,0,IF($A68<BE$2+$BT$1,BE67,0)))","v":0},{"$f":"IF($A68=BF$2,$E68,IF(BF67=0,0,IF($A68<BF$2+$BT$1,BF67,0)))","v":0},{"$f":"IF($A68=BG$2,$E68,IF(BG67=0,0,IF($A68<BG$2+$BT$1,BG67,0)))","v":0},{"$f":"IF($A68=BH$2,$E68,IF(BH67=0,0,IF($A68<BH$2+$BT$1,BH67,0)))","v":8232},{"$f":"IF($A68=BI$2,$E68,IF(BI67=0,0,IF($A68<BI$2+$BT$1,BI67,0)))","v":12106},{"$f":"IF($A68=BJ$2,$E68,IF(BJ67=0,0,IF($A68<BJ$2+$BT$1,BJ67,0)))","v":43842},{"$f":"IF($A68=BK$2,$E68,IF(BK67=0,0,IF($A68<BK$2+$BT$1,BK67,0)))","v":17428},{"$f":"IF($A68=BL$2,$E68,IF(BL67=0,0,IF($A68<BL$2+$BT$1,BL67,0)))","v":10546},{"$f":"IF($A68=BM$2,$E68,IF(BM67=0,0,IF($A68<BM$2+$BT$1,BM67,0)))","v":1694},{"$f":"IF($A68=BN$2,$E68,IF(BN67=0,0,IF($A68<BN$2+$BT$1,BN67,0)))","v":2407},{"$f":"IF($A68=BO$2,$E68,IF(BO67=0,0,IF($A68<BO$2+$BT$1,BO67,0)))","v":0},{"$f":"IF($A68=BP$2,$E68,IF(BP67=0,0,IF($A68<BP$2+$BT$1,BP67,0)))","v":0},{"$f":"IF($A68=BQ$2,$E68,IF(BQ67=0,0,IF($A68<BQ$2+$BT$1,BQ67,0)))","v":0},{"$f":"IF($A68=BR$2,$E68,IF(BR67=0,0,IF($A68<BR$2+$BT$1,BR67,0)))","v":0},{"$f":"SUM(F68:BR68)","v":96255},null,null,{"$f":"IF($A68=BV$2,$BU$3,IF(BV67=0,0,OFFSET($BU$2,MATCH(BV67,$BU$3:$BU$67,0)+1,0,1,1)))","v":0},{"$f":"IF($A68=BW$2,$BU$3,IF(BW67=0,0,OFFSET($BU$2,MATCH(BW67,$BU$3:$BU$67,0)+1,0,1,1)))","v":0},{"$f":"IF($A68=BX$2,$BU$3,IF(BX67=0,0,OFFSET($BU$2,MATCH(BX67,$BU$3:$BU$67,0)+1,0,1,1)))","v":0},{"$f":"IF($A68=BY$2,$BU$3,IF(BY67=0,0,OFFSET($BU$2,MATCH(BY67,$BU$3:$BU$67,0)+1,0,1,1)))","v":0},{"$f":"IF($A68=BZ$2,$BU$3,IF(BZ67=0,0,OFFSET($BU$2,MATCH(BZ67,$BU$3:$BU$67,0)+1,0,1,1)))","v":0},{"$f":"IF($A68=CA$2,$BU$3,IF(CA67=0,0,OFFSET($BU$2,MATCH(CA67,$BU$3:$BU$67,0)+1,0,1,1)))","v":0},{"$f":"IF($A68=CB$2,$BU$3,IF(CB67=0,0,OFFSET($BU$2,MATCH(CB67,$BU$3:$BU$67,0)+1,0,1,1)))","v":0},{"$f":"IF($A68=CC$2,$BU$3,IF(CC67=0,0,OFFSET($BU$2,MATCH(CC67,$BU$3:$BU$67,0)+1,0,1,1)))","v":0},{"$f":"IF($A68=CD$2,$BU$3,IF(CD67=0,0,OFFSET($BU$2,MATCH(CD67,$BU$3:$BU$67,0)+1,0,1,1)))","v":0},{"$f":"IF($A68=CE$2,$BU$3,IF(CE67=0,0,OFFSET($BU$2,MATCH(CE67,$BU$3:$BU$67,0)+1,0,1,1)))","v":0},{"$f":"IF($A68=CF$2,$BU$3,IF(CF67=0,0,OFFSET($BU$2,MATCH(CF67,$BU$3:$BU$67,0)+1,0,1,1)))","v":0},{"$f":"IF($A68=CG$2,$BU$3,IF(CG67=0,0,OFFSET($BU$2,MATCH(CG67,$BU$3:$BU$67,0)+1,0,1,1)))","v":0},{"$f":"IF($A68=CH$2,$BU$3,IF(CH67=0,0,OFFSET($BU$2,MATCH(CH67,$BU$3:$BU$67,0)+1,0,1,1)))","v":0},{"$f":"IF($A68=CI$2,$BU$3,IF(CI67=0,0,OFFSET($BU$2,MATCH(CI67,$BU$3:$BU$67,0)+1,0,1,1)))","v":0},{"$f":"IF($A68=CJ$2,$BU$3,IF(CJ67=0,0,OFFSET($BU$2,MATCH(CJ67,$BU$3:$BU$67,0)+1,0,1,1)))","v":0},{"$f":"IF($A68=CK$2,$BU$3,IF(CK67=0,0,OFFSET($BU$2,MATCH(CK67,$BU$3:$BU$67,0)+1,0,1,1)))","v":0},{"$f":"IF($A68=CL$2,$BU$3,IF(CL67=0,0,OFFSET($BU$2,MATCH(CL67,$BU$3:$BU$67,0)+1,0,1,1)))","v":0},{"$f":"IF($A68=CM$2,$BU$3,IF(CM67=0,0,OFFSET($BU$2,MATCH(CM67,$BU$3:$BU$67,0)+1,0,1,1)))","v":0},{"$f":"IF($A68=CN$2,$BU$3,IF(CN67=0,0,OFFSET($BU$2,MATCH(CN67,$BU$3:$BU$67,0)+1,0,1,1)))","v":0},{"$f":"IF($A68=CO$2,$BU$3,IF(CO67=0,0,OFFSET($BU$2,MATCH(CO67,$BU$3:$BU$67,0)+1,0,1,1)))","v":0},{"$f":"IF($A68=CP$2,$BU$3,IF(CP67=0,0,OFFSET($BU$2,MATCH(CP67,$BU$3:$BU$67,0)+1,0,1,1)))","v":0},{"$f":"IF($A68=CQ$2,$BU$3,IF(CQ67=0,0,OFFSET($BU$2,MATCH(CQ67,$BU$3:$BU$67,0)+1,0,1,1)))","v":0},{"$f":"IF($A68=CR$2,$BU$3,IF(CR67=0,0,OFFSET($BU$2,MATCH(CR67,$BU$3:$BU$67,0)+1,0,1,1)))","v":0},{"$f":"IF($A68=CS$2,$BU$3,IF(CS67=0,0,OFFSET($BU$2,MATCH(CS67,$BU$3:$BU$67,0)+1,0,1,1)))","v":0},{"$f":"IF($A68=CT$2,$BU$3,IF(CT67=0,0,OFFSET($BU$2,MATCH(CT67,$BU$3:$BU$67,0)+1,0,1,1)))","v":0},{"$f":"IF($A68=CU$2,$BU$3,IF(CU67=0,0,OFFSET($BU$2,MATCH(CU67,$BU$3:$BU$67,0)+1,0,1,1)))","v":0},{"$f":"IF($A68=CV$2,$BU$3,IF(CV67=0,0,OFFSET($BU$2,MATCH(CV67,$BU$3:$BU$67,0)+1,0,1,1)))","v":0},{"$f":"IF($A68=CW$2,$BU$3,IF(CW67=0,0,OFFSET($BU$2,MATCH(CW67,$BU$3:$BU$67,0)+1,0,1,1)))","v":0},{"$f":"IF($A68=CX$2,$BU$3,IF(CX67=0,0,OFFSET($BU$2,MATCH(CX67,$BU$3:$BU$67,0)+1,0,1,1)))","v":0},{"$f":"IF($A68=CY$2,$BU$3,IF(CY67=0,0,OFFSET($BU$2,MATCH(CY67,$BU$3:$BU$67,0)+1,0,1,1)))","v":0},{"$f":"IF($A68=CZ$2,$BU$3,IF(CZ67=0,0,OFFSET($BU$2,MATCH(CZ67,$BU$3:$BU$67,0)+1,0,1,1)))","v":0},{"$f":"IF($A68=DA$2,$BU$3,IF(DA67=0,0,OFFSET($BU$2,MATCH(DA67,$BU$3:$BU$67,0)+1,0,1,1)))","v":0},{"$f":"IF($A68=DB$2,$BU$3,IF(DB67=0,0,OFFSET($BU$2,MATCH(DB67,$BU$3:$BU$67,0)+1,0,1,1)))","v":0},{"$f":"IF($A68=DC$2,$BU$3,IF(DC67=0,0,OFFSET($BU$2,MATCH(DC67,$BU$3:$BU$67,0)+1,0,1,1)))","v":0},{"$f":"IF($A68=DD$2,$BU$3,IF(DD67=0,0,OFFSET($BU$2,MATCH(DD67,$BU$3:$BU$67,0)+1,0,1,1)))","v":0},{"$f":"IF($A68=DE$2,$BU$3,IF(DE67=0,0,OFFSET($BU$2,MATCH(DE67,$BU$3:$BU$67,0)+1,0,1,1)))","v":0},{"$f":"IF($A68=DF$2,$BU$3,IF(DF67=0,0,OFFSET($BU$2,MATCH(DF67,$BU$3:$BU$67,0)+1,0,1,1)))","v":0},{"$f":"IF($A68=DG$2,$BU$3,IF(DG67=0,0,OFFSET($BU$2,MATCH(DG67,$BU$3:$BU$67,0)+1,0,1,1)))","v":0},{"$f":"IF($A68=DH$2,$BU$3,IF(DH67=0,0,OFFSET($BU$2,MATCH(DH67,$BU$3:$BU$67,0)+1,0,1,1)))","v":0},{"$f":"IF($A68=DI$2,$BU$3,IF(DI67=0,0,OFFSET($BU$2,MATCH(DI67,$BU$3:$BU$67,0)+1,0,1,1)))","v":0},{"$f":"IF($A68=DJ$2,$BU$3,IF(DJ67=0,0,OFFSET($BU$2,MATCH(DJ67,$BU$3:$BU$67,0)+1,0,1,1)))","v":0},{"$f":"IF($A68=DK$2,$BU$3,IF(DK67=0,0,OFFSET($BU$2,MATCH(DK67,$BU$3:$BU$67,0)+1,0,1,1)))","v":0},{"$f":"IF($A68=DL$2,$BU$3,IF(DL67=0,0,OFFSET($BU$2,MATCH(DL67,$BU$3:$BU$67,0)+1,0,1,1)))","v":0},{"$f":"IF($A68=DM$2,$BU$3,IF(DM67=0,0,OFFSET($BU$2,MATCH(DM67,$BU$3:$BU$67,0)+1,0,1,1)))","v":0},{"$f":"IF($A68=DN$2,$BU$3,IF(DN67=0,0,OFFSET($BU$2,MATCH(DN67,$BU$3:$BU$67,0)+1,0,1,1)))","v":0},{"$f":"IF($A68=DO$2,$BU$3,IF(DO67=0,0,OFFSET($BU$2,MATCH(DO67,$BU$3:$BU$67,0)+1,0,1,1)))","v":0},{"$f":"IF($A68=DP$2,$BU$3,IF(DP67=0,0,OFFSET($BU$2,MATCH(DP67,$BU$3:$BU$67,0)+1,0,1,1)))","v":0},{"$f":"IF($A68=DQ$2,$BU$3,IF(DQ67=0,0,OFFSET($BU$2,MATCH(DQ67,$BU$3:$BU$67,0)+1,0,1,1)))","v":0},{"$f":"IF($A68=DR$2,$BU$3,IF(DR67=0,0,OFFSET($BU$2,MATCH(DR67,$BU$3:$BU$67,0)+1,0,1,1)))","v":0},{"$f":"IF($A68=DS$2,$BU$3,IF(DS67=0,0,OFFSET($BU$2,MATCH(DS67,$BU$3:$BU$67,0)+1,0,1,1)))","v":0},{"$f":"IF($A68=DT$2,$BU$3,IF(DT67=0,0,OFFSET($BU$2,MATCH(DT67,$BU$3:$BU$67,0)+1,0,1,1)))","v":0},{"$f":"IF($A68=DU$2,$BU$3,IF(DU67=0,0,OFFSET($BU$2,MATCH(DU67,$BU$3:$BU$67,0)+1,0,1,1)))","v":0},{"$f":"IF($A68=DV$2,$BU$3,IF(DV67=0,0,OFFSET($BU$2,MATCH(DV67,$BU$3:$BU$67,0)+1,0,1,1)))","v":0},{"$f":"IF($A68=DW$2,$BU$3,IF(DW67=0,0,OFFSET($BU$2,MATCH(DW67,$BU$3:$BU$67,0)+1,0,1,1)))","v":0.86},{"$f":"IF($A68=DX$2,$BU$3,IF(DX67=0,0,OFFSET($BU$2,MATCH(DX67,$BU$3:$BU$67,0)+1,0,1,1)))","v":0.94},{"$f":"IF($A68=DY$2,$BU$3,IF(DY67=0,0,OFFSET($BU$2,MATCH(DY67,$BU$3:$BU$67,0)+1,0,1,1)))","v":1.23},{"$f":"IF($A68=DZ$2,$BU$3,IF(DZ67=0,0,OFFSET($BU$2,MATCH(DZ67,$BU$3:$BU$67,0)+1,0,1,1)))","v":1.34},{"$f":"IF($A68=EA$2,$BU$3,IF(EA67=0,0,OFFSET($BU$2,MATCH(EA67,$BU$3:$BU$67,0)+1,0,1,1)))","v":1.42},{"$f":"IF($A68=EB$2,$BU$3,IF(EB67=0,0,OFFSET($BU$2,MATCH(EB67,$BU$3:$BU$67,0)+1,0,1,1)))","v":1.48},{"$f":"IF($A68=EC$2,$BU$3,IF(EC67=0,0,OFFSET($BU$2,MATCH(EC67,$BU$3:$BU$67,0)+1,0,1,1)))","v":1.5},{"$f":"IF($A68=ED$2,$BU$3,IF(ED67=0,0,OFFSET($BU$2,MATCH(ED67,$BU$3:$BU$67,0)+1,0,1,1)))","v":1.45},{"$f":"IF($A68=EE$2,$BU$3,IF(EE67=0,0,OFFSET($BU$2,MATCH(EE67,$BU$3:$BU$67,0)+1,0,1,1)))","v":1.38},{"$f":"IF($A68=EF$2,$BU$3,IF(EF67=0,0,OFFSET($BU$2,MATCH(EF67,$BU$3:$BU$67,0)+1,0,1,1)))","v":1.29},{"$f":"IF($A68=EG$2,$BU$3,IF(EG67=0,0,OFFSET($BU$2,MATCH(EG67,$BU$3:$BU$67,0)+1,0,1,1)))","v":1.1200000000000001},{"$f":"IF($A68=EH$2,$BU$3,IF(EH67=0,0,OFFSET($BU$2,MATCH(EH67,$BU$3:$BU$67,0)+1,0,1,1)))","v":1.07},null,null,null,11,{"$f":"OFFSET(ETO!$C$3,$EM$2,$EL68,1,1)*7","v":23.17},null,{"$f":"OFFSET('input ข้าว'!$B$4,0,$D$1,1,1)","v":7},{"$f":"($EO68/1000)*$BS68*1600","v":1078056},null,{"$f":"IF(OR(EL68=11,EL68=12,EL68<5),OFFSET('input ข้าว'!$B$5,0,$D$1,1,1),OFFSET('input ข้าว'!$B$6,0,$D$1,1,1))","v":0},{"$f":"($ER68/1000)*$E68*1600","v":0},null,30,{"$f":"ROUND(OFFSET(ฝนใช้การ!$A$2,$EU$2,$EL68,1,1)*7/$EU68,2)","v":7.3},{"$f":"ROUND((EV68/1000)*BS68*1600,2)","v":1124258.3999999999},null,0,0,0,0,0,0,0,0,0,0,0,0,0,0,0,0,0,0,0,0,0,0,0,0,0,0,0,0,0,0,0,0,0,0,0,0,0,0,0,0,0,0,0,0,0,0,0,0,0,0,0,0,0,0,286866.09999999998,552016.17000000004,2177916.2400000002,917448.96,578622.74,94199.95,129386.84,0,0,0,0,{"$f":"SUM(EY68:HK68)","v":4736457},{"$f":"IF(EP68+ES68+HL68-EW68>0,EP68+ES68+HL68-EW68,0)","v":4690254.5999999996},{"$f":"HM68*100/$HO$2","v":5211393.9999999991}]
[67,{"$f":"+B68+7","v":"2018-11-07"},{"$f":"+C68+7","v":"2018-11-13"},"2018-11-13",{"$f":"OFFSET('input ข้าว'!$B$8,A69,$D$1,1,1)","v":0},0,0,0,0,0,0,0,0,0,0,0,0,0,0,0,0,0,0,0,0,0,0,0,0,0,0,0,0,0,0,0,0,0,0,0,0,0,0,0,0,0,0,0,0,0,0,0,0,0,0,0,0,0,0,8232,12106,43842,17428,10546,1694,2407,0,0,0,0,96255,null,null,0,0,0,0,0,0,0,0,0,0,0,0,0,0,0,0,0,0,0,0,0,0,0,0,0,0,0,0,0,0,0,0,0,0,0,0,0,0,0,0,0,0,0,0,0,0,0,0,0,0,0,0,0,0,0.86,0.94,1.23,1.34,1.42,1.48,1.5,1.45,1.38,1.29,1.1200000000000001,null,null,null,11,{"$f":"OFFSET(ETO!$C$3,$EM$2,$EL69,1,1)*7","v":23.17},null,{"$f":"OFFSET('input ข้าว'!$B$4,0,$D$1,1,1)","v":7},1078056,null,{"$f":"IF(OR(EL69=11,EL69=12,EL69<5),OFFSET('input ข้าว'!$B$5,0,$D$1,1,1),OFFSET('input ข้าว'!$B$6,0,$D$1,1,1))","v":0},0,null,30,{"$f":"ROUND(OFFSET(ฝนใช้การ!$A$2,$EU$2,$EL69,1,1)*7/$EU69,2)","v":7.3},1124258.3999999999,null,0,0,0,0,0,0,0,0,0,0,0,0,0,0,0,0,0,0,0,0,0,0,0,0,0,0,0,0,0,0,0,0,0,0,0,0,0,0,0,0,0,0,0,0,0,0,0,0,0,0,0,0,0,0,262451.96999999997,421866.01,1999132.07,865761.69,555165.06000000006,92943.95,133848.46,0,0,0,0,4331169.21,4284966.8100000005,4761074.2333333343]
[68,"2018-11-14","2018-11-20","2018-11-20",{"$f":"OFFSET('input ข้าว'!$B$8,A70,$D$1,1,1)","v":0},0,0,0,0,0,0,0,0,0,0,0,0,0,0,0,0,0,0,0,0,0,0,0,0,0,0,0,0,0,0,0,0,0,0,0,0,0,0,0,0,0,0,0,0,0,0,0,0,0,0,0,0,0,0,0,12106,43842,17428,10546,1694,2407,0,0,0,0,88023,null,null,0,0,0,0,0,0,0,0,0,0,0,0,0,0,0,0,0,0,0,0,0,0,0,0,0,0,0,0,0,0,0,0,0,0,0,0,0,0,0,0,0,0,0,0,0,0,0,0,0,0,0,0,0,0,0,0.86,0.94,1.23,1.34,1.42,1.48,1.5,1.45,1.38,1.29,null,null,null,11,{"$f":"OFFSET(ETO!$C$3,$EM$2,$EL70,1,1)*7","v":23.17},null,{"$f":"OFFSET('input ข้าว'!$B$4,0,$D$1,1,1)","v":7},985857.60000000009,null,{"$f":"IF(OR(EL70=11,EL70=12,EL70<5),OFFSET('input ข้าว'!$B$5,0,$D$1,1,1),OFFSET('input ข้าว'!$B$6,0,$D$1,1,1))","v":0},0,null,30,{"$f":"ROUND(OFFSET(ฝนใช้การ!$A$2,$EU$2,$EL70,1,1)*7/$EU70,2)","v":7.3},1028108.64,null,0,0,0,0,0,0,0,0,0,0,0,0,0,0,0,0,0,0,0,0,0,0,0,0,0,0,0,0,0,0,0,0,0,0,0,0,0,0,0,0,0,0,0,0,0,0,0,0,0,0,0,0,0,0,0,385962.52,1527791.99,794691.7,523888.16,89175.95,132063.81,0,0,0,0,3453574.1300000004,3411323.0900000003,3790358.9888888896]
[69,"2018-11-21","2018-11-27","2018-11-27",{"$f":"OFFSET('input ข้าว'!$B$8,A71,$D$1,1,1)","v":0},0,0,0,0,0,0,0,0,0,0,0,0,0,0,0,0,0,0,0,0,0,0,0,0,0,0,0,0,0,0,0,0,0,0,0,0,0,0,0,0,0,0,0,0,0,0,0,0,0,0,0,0,0,0,0,0,43842,17428,10546,1694,2407,0,0,0,0,75917,null,null,0,0,0,0,0,0,0,0,0,0,0,0,0,0,0,0,0,0,0,0,0,0,0,0,0,0,0,0,0,0,0,0,0,0,0,0,0,0,0,0,0,0,0,0,0,0,0,0,0,0,0,0,0,0,0,0,0.86,0.94,1.23,1.34,1.42,1.48,1.5,1.45,1.38,null,null,null,11,{"$f":"OFFSET(ETO!$C$3,$EM$2,$EL71,1,1)*7","v":23.17},null,{"$f":"OFFSET('input ข้าว'!$B$4,0,$D$1,1,1)","v":7},850270.4,null,{"$f":"IF(OR(EL71=11,EL71=12,EL71<5),OFFSET('input ข้าว'!$B$5,0,$D$1,1,1),OFFSET('input ข้าว'!$B$6,0,$D$1,1,1))","v":0},0,null,30,{"$f":"ROUND(OFFSET(ฝนใช้การ!$A$2,$EU$2,$EL71,1,1)*7/$EU71,2)","v":7.3},886710.56,null,0,0,0,0,0,0,0,0,0,0,0,0,0,0,0,0,0,0,0,0,0,0,0,0,0,0,0,0,0,0,0,0,0,0,0,0,0,0,0,0,0,0,0,0,0,0,0,0,0,0,0,0,0,0,0,0,1397767.14,607325.37,480882.41,84151.96,126709.87,0,0,0,0,2696836.75,2660396.59,2955996.2111111111]
[70,"2018-11-28","2018-12-04","2018-12-04",{"$f":"OFFSET('input ข้าว'!$B$8,A72,$D$1,1,1)","v":0},0,0,0,0,0,0,0,0,0,0,0,0,0,0,0,0,0,0,0,0,0,0,0,0,0,0,0,0,0,0,0,0,0,0,0,0,0,0,0,0,0,0,0,0,0,0,0,0,0,0,0,0,0,0,0,0,0,17428,10546,1694,2407,0,0,0,0,32075,null,null,0,0,0,0,0,0,0,0,0,0,0,0,0,0,0,0,0,0,0,0,0,0,0,0,0,0,0,0,0,0,0,0,0,0,0,0,0,0,0,0,0,0,0,0,0,0,0,0,0,0,0,0,0,0,0,0,0,0.86,0.94,1.23,1.34,1.42,1.48,1.5,1.45,null,null,null,12,{"$f":"OFFSET(ETO!$C$3,$EM$2,$EL72,1,1)*7","v":22.47},null,{"$f":"OFFSET('input ข้าว'!$B$4,0,$D$1,1,1)","v":7},359240,null,{"$f":"IF(OR(EL72=11,EL72=12,EL72<5),OFFSET('input ข้าว'!$B$5,0,$D$1,1,1),OFFSET('input ข้าว'!$B$6,0,$D$1,1,1))","v":0},0,null,31,{"$f":"ROUND(OFFSET(ฝนใช้การ!$A$2,$EU$2,$EL72,1,1)*7/$EU72,2)","v":1.1299999999999999},57991.6,null,0,0,0,0,0,0,0,0,0,0,0,0,0,0,0,0,0,0,0,0,0,0,0,0,0,0,0,0,0,0,0,0,0,0,0,0,0,0,0,0,0,0,0,0,0,0,0,0,0,0,0,0,0,0,0,0,0,538851.44999999995,356400.8,74910.31,115958.86,0,0,0,0,1086121.4200000002,1387369.82,1541522.0222222223]
[71,"2018-12-05","2018-12-11","2018-12-11",{"$f":"OFFSET('input ข้าว'!$B$8,A73,$D$1,1,1)","v":0},0,0,0,0,0,0,0,0,0,0,0,0,0,0,0,0,0,0,0,0,0,0,0,0,0,0,0,0,0,0,0,0,0,0,0,0,0,0,0,0,0,0,0,0,0,0,0,0,0,0,0,0,0,0,0,0,0,0,10546,1694,2407,0,0,0,0,14647,null,null,0,0,0,0,0,0,0,0,0,0,0,0,0,0,0,0,0,0,0,0,0,0,0,0,0,0,0,0,0,0,0,0,0,0,0,0,0,0,0,0,0,0,0,0,0,0,0,0,0,0,0,0,0,0,0,0,0,0,0.86,0.94,1.23,1.34,1.42,1.48,1.5,null,null,null,12,{"$f":"OFFSET(ETO!$C$3,$EM$2,$EL73,1,1)*7","v":22.47},null,{"$f":"OFFSET('input ข้าว'!$B$4,0,$D$1,1,1)","v":7},164046.39999999999,null,{"$f":"IF(OR(EL73=11,EL73=12,EL73<5),OFFSET('input ข้าว'!$B$5,0,$D$1,1,1),OFFSET('input ข้าว'!$B$6,0,$D$1,1,1))","v":0},0,null,31,{"$f":"ROUND(OFFSET(ฝนใช้การ!$A$2,$EU$2,$EL73,1,1)*7/$EU73,2)","v":1.1299999999999999},26481.78,null,0,0,0,0,0,0,0,0,0,0,0,0,0,0,0,0,0,0,0,0,0,0,0,0,0,0,0,0,0,0,0,0,0,0,0,0,0,0,0,0,0,0,0,0,0,0,0,0,0,0,0,0,0,0,0,0,0,0,326068.82,57248.53,106439.85,0,0,0,0,489757.19999999995,627321.81999999995,697024.24444444431]
[72,"2018-12-12","2018-12-18","2018-12-18",{"$f":"OFFSET('input ข้าว'!$B$8,A74,$D$1,1,1)","v":0},0,0,0,0,0,0,0,0,0,0,0,0,0,0,0,0,0,0,0,0,0,0,0,0,0,0,0,0,0,0,0,0,0,0,0,0,0,0,0,0,0,0,0,0,0,0,0,0,0,0,0,0,0,0,0,0,0,0,0,1694,2407,0,0,0,0,4101,null,null,0,0,0,0,0,0,0,0,0,0,0,0,0,0,0,0,0,0,0,0,0,0,0,0,0,0,0,0,0,0,0,0,0,0,0,0,0,0,0,0,0,0,0,0,0,0,0,0,0,0,0,0,0,0,0,0,0,0,0,0.86,0.94,1.23,1.34,1.42,1.48,null,null,null,12,{"$f":"OFFSET(ETO!$C$3,$EM$2,$EL74,1,1)*7","v":22.47},null,{"$f":"OFFSET('input ข้าว'!$B$4,0,$D$1,1,1)","v":7},45931.200000000004,null,{"$f":"IF(OR(EL74=11,EL74=12,EL74<5),OFFSET('input ข้าว'!$B$5,0,$D$1,1,1),OFFSET('input ข้าว'!$B$6,0,$D$1,1,1))","v":0},0,null,31,{"$f":"ROUND(OFFSET(ฝนใช้การ!$A$2,$EU$2,$EL74,1,1)*7/$EU74,2)","v":1.1299999999999999},7414.61,null,0,0,0,0,0,0,0,0,0,0,0,0,0,0,0,0,0,0,0,0,0,0,0,0,0,0,0,0,0,0,0,0,0,0,0,0,0,0,0,0,0,0,0,0,0,0,0,0,0,0,0,0,0,0,0,0,0,0,0,52376.31,81344.28,0,0,0,0,133720.59,172237.18000000002,191374.64444444448]
[73,"2018-12-19","2018-12-25","2018-12-25",{"$f":"OFFSET('input ข้าว'!$B$8,A75,$D$1,1,1)","v":0},0,0,0,0,0,0,0,0,0,0,0,0,0,0,0,0,0,0,0,0,0,0,0,0,0,0,0,0,0,0,0,0,0,0,0,0,0,0,0,0,0,0,0,0,0,0,0,0,0,0,0,0,0,0,0,0,0,0,0,0,2407,0,0,0,0,2407,null,null,0,0,0,0,0,0,0,0,0,0,0,0,0,0,0,0,0,0,0,0,0,0,0,0,0,0,0,0,0,0,0,0,0,0,0,0,0,0,0,0,0,0,0,0,0,0,0,0,0,0,0,0,0,0,0,0,0,0,0,0,0.86,0.94,1.23,1.34,1.42,null,null,null,12,{"$f":"OFFSET(ETO!$C$3,$EM$2,$EL75,1,1)*7","v":22.47},null,{"$f":"OFFSET('input ข้าว'!$B$4,0,$D$1,1,1)","v":7},26958.400000000001,null,{"$f":"IF(OR(EL75=11,EL75=12,EL75<5),OFFSET('input ข้าว'!$B$5,0,$D$1,1,1),OFFSET('input ข้าว'!$B$6,0,$D$1,1,1))","v":0},0,null,31,{"$f":"ROUND(OFFSET(ฝนใช้การ!$A$2,$EU$2,$EL75,1,1)*7/$EU75,2)","v":1.1299999999999999},4351.8599999999997,null,0,0,0,0,0,0,0,0,0,0,0,0,0,0,0,0,0,0,0,0,0,0,0,0,0,0,0,0,0,0,0,0,0,0,0,0,0,0,0,0,0,0,0,0,0,0,0,0,0,0,0,0,0,0,0,0,0,0,0,0,74421.36,0,0,0,0,74421.36,97027.900000000009,107808.77777777778]
[74,"2018-12-26","2019-01-01","2019-01-01",{"$f":"OFFSET('input ข้าว'!$B$8,A76,$D$1,1,1)","v":0},0,0,0,0,0,0,0,0,0,0,0,0,0,0,0,0,0,0,0,0,0,0,0,0,0,0,0,0,0,0,0,0,0,0,0,0,0,0,0,0,0,0,0,0,0,0,0,0,0,0,0,0,0,0,0,0,0,0,0,0,0,0,0,0,0,0,null,null,0,0,0,0,0,0,0,0,0,0,0,0,0,0,0,0,0,0,0,0,0,0,0,0,0,0,0,0,0,0,0,0,0,0,0,0,0,0,0,0,0,0,0,0,0,0,0,0,0,0,0,0,0,0,0,0,0,0,0,0,0,0.86,0.94,1.23,1.34,null,null,null,1,{"$f":"OFFSET(ETO!$C$3,$EM$2,$EL76,1,1)*7","v":23.099999999999998},null,{"$f":"OFFSET('input ข้าว'!$B$4,0,$D$1,1,1)","v":7},0,null,{"$f":"IF(OR(EL76=11,EL76=12,EL76<5),OFFSET('input ข้าว'!$B$5,0,$D$1,1,1),OFFSET('input ข้าว'!$B$6,0,$D$1,1,1))","v":0},0,null,31,{"$f":"ROUND(OFFSET(ฝนใช้การ!$A$2,$EU$2,$EL76,1,1)*7/$EU76,2)","v":1.29},0,null,0,0,0,0,0,0,0,0,0,0,0,0,0,0,0,0,0,0,0,0,0,0,0,0,0,0,0,0,0,0,0,0,0,0,0,0,0,0,0,0,0,0,0,0,0,0,0,0,0,0,0,0,0,0,0,0,0,0,0,0,0,0,0,0,0,0,0,0]
[75,"2019-01-02","2019-01-08","2019-01-08",{"$f":"OFFSET('input ข้าว'!$B$8,A77,$D$1,1,1)","v":0},0,0,0,0,0,0,0,0,0,0,0,0,0,0,0,0,0,0,0,0,0,0,0,0,0,0,0,0,0,0,0,0,0,0,0,0,0,0,0,0,0,0,0,0,0,0,0,0,0,0,0,0,0,0,0,0,0,0,0,0,0,0,0,0,0,0,null,null,0,0,0,0,0,0,0,0,0,0,0,0,0,0,0,0,0,0,0,0,0,0,0,0,0,0,0,0,0,0,0,0,0,0,0,0,0,0,0,0,0,0,0,0,0,0,0,0,0,0,0,0,0,0,0,0,0,0,0,0,0,0,0.86,0.94,1.23,null,null,null,1,{"$f":"OFFSET(ETO!$C$3,$EM$2,$EL77,1,1)*7","v":23.099999999999998},null,{"$f":"OFFSET('input ข้าว'!$B$4,0,$D$1,1,1)","v":7},0,null,{"$f":"IF(OR(EL77=11,EL77=12,EL77<5),OFFSET('input ข้าว'!$B$5,0,$D$1,1,1),OFFSET('input ข้าว'!$B$6,0,$D$1,1,1))","v":0},0,null,31,{"$f":"ROUND(OFFSET(ฝนใช้การ!$A$2,$EU$2,$EL77,1,1)*7/$EU77,2)","v":1.29},0,null,0,0,0,0,0,0,0,0,0,0,0,0,0,0,0,0,0,0,0,0,0,0,0,0,0,0,0,0,0,0,0,0,0,0,0,0,0,0,0,0,0,0,0,0,0,0,0,0,0,0,0,0,0,0,0,0,0,0,0,0,0,0,0,0,0,0,0,0]
[76,"2019-01-09","2019-01-15","2019-01-15",{"$f":"OFFSET('input ข้าว'!$B$8,A78,$D$1,1,1)","v":0},0,0,0,0,0,0,0,0,0,0,0,0,0,0,0,0,0,0,0,0,0,0,0,0,0,0,0,0,0,0,0,0,0,0,0,0,0,0,0,0,0,0,0,0,0,0,0,0,0,0,0,0,0,0,0,0,0,0,0,0,0,0,0,0,0,0,null,null,0,0,0,0,0,0,0,0,0,0,0,0,0,0,0,0,0,0,0,0,0,0,0,0,0,0,0,0,0,0,0,0,0,0,0,0,0,0,0,0,0,0,0,0,0,0,0,0,0,0,0,0,0,0,0,0,0,0,0,0,0,0,0,0.86,0.94,null,null,null,1,{"$f":"OFFSET(ETO!$C$3,$EM$2,$EL78,1,1)*7","v":23.099999999999998},null,{"$f":"OFFSET('input ข้าว'!$B$4,0,$D$1,1,1)","v":7},0,null,{"$f":"IF(OR(EL78=11,EL78=12,EL78<5),OFFSET('input ข้าว'!$B$5,0,$D$1,1,1),OFFSET('input ข้าว'!$B$6,0,$D$1,1,1))","v":0},0,null,31,{"$f":"ROUND(OFFSET(ฝนใช้การ!$A$2,$EU$2,$EL78,1,1)*7/$EU78,2)","v":1.29},0,null,0,0,0,0,0,0,0,0,0,0,0,0,0,0,0,0,0,0,0,0,0,0,0,0,0,0,0,0,0,0,0,0,0,0,0,0,0,0,0,0,0,0,0,0,0,0,0,0,0,0,0,0,0,0,0,0,0,0,0,0,0,0,0,0,0,0,0,0]
[77,"2019-01-16","2019-01-22","2019-01-22",{"$f":"OFFSET('input ข้าว'!$B$8,A79,$D$1,1,1)","v":0},0,0,0,0,0,0,0,0,0,0,0,0,0,0,0,0,0,0,0,0,0,0,0,0,0,0,0,0,0,0,0,0,0,0,0,0,0,0,0,0,0,0,0,0,0,0,0,0,0,0,0,0,0,0,0,0,0,0,0,0,0,0,0,0,0,0,null,null,0,0,0,0,0,0,0,0,0,0,0,0,0,0,0,0,0,0,0,0,0,0,0,0,0,0,0,0,0,0,0,0,0,0,0,0,0,0,0,0,0,0,0,0,0,0,0,0,0,0,0,0,0,0,0,0,0,0,0,0,0,0,0,0,0.86,null,null,null,1,{"$f":"OFFSET(ETO!$C$3,$EM$2,$EL79,1,1)*7","v":23.099999999999998},null,{"$f":"OFFSET('input ข้าว'!$B$4,0,$D$1,1,1)","v":7},0,null,{"$f":"IF(OR(EL79=11,EL79=12,EL79<5),OFFSET('input ข้าว'!$B$5,0,$D$1,1,1),OFFSET('input ข้าว'!$B$6,0,$D$1,1,1))","v":0},0,null,31,{"$f":"ROUND(OFFSET(ฝนใช้การ!$A$2,$EU$2,$EL79,1,1)*7/$EU79,2)","v":1.29},0,null,0,0,0,0,0,0,0,0,0,0,0,0,0,0,0,0,0,0,0,0,0,0,0,0,0,0,0,0,0,0,0,0,0,0,0,0,0,0,0,0,0,0,0,0,0,0,0,0,0,0,0,0,0,0,0,0,0,0,0,0,0,0,0,0,0,0,0,0]
[78,"2019-01-23","2019-01-29","2019-01-29",{"$f":"OFFSET('input ข้าว'!$B$8,A80,$D$1,1,1)","v":0},0,0,0,0,0,0,0,0,0,0,0,0,0,0,0,0,0,0,0,0,0,0,0,0,0,0,0,0,0,0,0,0,0,0,0,0,0,0,0,0,0,0,0,0,0,0,0,0,0,0,0,0,0,0,0,0,0,0,0,0,0,0,0,0,0,0,null,null,0,0,0,0,0,0,0,0,0,0,0,0,0,0,0,0,0,0,0,0,0,0,0,0,0,0,0,0,0,0,0,0,0,0,0,0,0,0,0,0,0,0,0,0,0,0,0,0,0,0,0,0,0,0,0,0,0,0,0,0,0,0,0,0,0,null,null,null,1,{"$f":"OFFSET(ETO!$C$3,$EM$2,$EL80,1,1)*7","v":23.099999999999998},null,{"$f":"OFFSET('input ข้าว'!$B$4,0,$D$1,1,1)","v":7},0,null,{"$f":"IF(OR(EL80=11,EL80=12,EL80<5),OFFSET('input ข้าว'!$B$5,0,$D$1,1,1),OFFSET('input ข้าว'!$B$6,0,$D$1,1,1))","v":0},0,null,31,{"$f":"ROUND(OFFSET(ฝนใช้การ!$A$2,$EU$2,$EL80,1,1)*7/$EU80,2)","v":1.29},0,null,0,0,0,0,0,0,0,0,0,0,0,0,0,0,0,0,0,0,0,0,0,0,0,0,0,0,0,0,0,0,0,0,0,0,0,0,0,0,0,0,0,0,0,0,0,0,0,0,0,0,0,0,0,0,0,0,0,0,0,0,0,0,0,0,0,0,0,0]
[79,"2019-01-30","2019-02-05","2019-02-05",{"$f":"OFFSET('input ข้าว'!$B$8,A81,$D$1,1,1)","v":0},0,0,0,0,0,0,0,0,0,0,0,0,0,0,0,0,0,0,0,0,0,0,0,0,0,0,0,0,0,0,0,0,0,0,0,0,0,0,0,0,0,0,0,0,0,0,0,0,0,0,0,0,0,0,0,0,0,0,0,0,0,0,0,0,0,0,null,null,0,0,0,0,0,0,0,0,0,0,0,0,0,0,0,0,0,0,0,0,0,0,0,0,0,0,0,0,0,0,0,0,0,0,0,0,0,0,0,0,0,0,0,0,0,0,0,0,0,0,0,0,0,0,0,0,0,0,0,0,0,0,0,0,0,null,null,null,2,{"$f":"OFFSET(ETO!$C$3,$EM$2,$EL81,1,1)*7","v":25.76},null,{"$f":"OFFSET('input ข้าว'!$B$4,0,$D$1,1,1)","v":7},0,null,{"$f":"IF(OR(EL81=11,EL81=12,EL81<5),OFFSET('input ข้าว'!$B$5,0,$D$1,1,1),OFFSET('input ข้าว'!$B$6,0,$D$1,1,1))","v":0},0,null,28,{"$f":"ROUND(OFFSET(ฝนใช้การ!$A$2,$EU$2,$EL81,1,1)*7/$EU81,2)","v":2.7},0,null,0,0,0,0,0,0,0,0,0,0,0,0,0,0,0,0,0,0,0,0,0,0,0,0,0,0,0,0,0,0,0,0,0,0,0,0,0,0,0,0,0,0,0,0,0,0,0,0,0,0,0,0,0,0,0,0,0,0,0,0,0,0,0,0,0,0,0,0]
[80,"2019-02-06","2019-02-12","2019-02-12",{"$f":"OFFSET('input ข้าว'!$B$8,A82,$D$1,1,1)","v":0},0,0,0,0,0,0,0,0,0,0,0,0,0,0,0,0,0,0,0,0,0,0,0,0,0,0,0,0,0,0,0,0,0,0,0,0,0,0,0,0,0,0,0,0,0,0,0,0,0,0,0,0,0,0,0,0,0,0,0,0,0,0,0,0,0,0,null,null,0,0,0,0,0,0,0,0,0,0,0,0,0,0,0,0,0,0,0,0,0,0,0,0,0,0,0,0,0,0,0,0,0,0,0,0,0,0,0,0,0,0,0,0,0,0,0,0,0,0,0,0,0,0,0,0,0,0,0,0,0,0,0,0,0,null,null,null,2,{"$f":"OFFSET(ETO!$C$3,$EM$2,$EL82,1,1)*7","v":25.76},null,{"$f":"OFFSET('input ข้าว'!$B$4,0,$D$1,1,1)","v":7},0,null,{"$f":"IF(OR(EL82=11,EL82=12,EL82<5),OFFSET('input ข้าว'!$B$5,0,$D$1,1,1),OFFSET('input ข้าว'!$B$6,0,$D$1,1,1))","v":0},0,null,28,{"$f":"ROUND(OFFSET(ฝนใช้การ!$A$2,$EU$2,$EL82,1,1)*7/$EU82,2)","v":2.7},0,null,0,0,0,0,0,0,0,0,0,0,0,0,0,0,0,0,0,0,0,0,0,0,0,0,0,0,0,0,0,0,0,0,0,0,0,0,0,0,0,0,0,0,0,0,0,0,0,0,0,0,0,0,0,0,0,0,0,0,0,0,0,0,0,0,0,0,0,0]

{"sheet":"อ้อย","index":17,"n_rows":82,"n_cols":223,"rows_kept":82,"cut":false,"hidden":false,"merged":[[0,154,0,219],[0,5,0,69],[0,73,0,137],[0,144,0,145],[0,147,0,148],[0,151,0,152]]}
[null,"ช่วงเวลาสัปดาห์",null,{"$f":"รายงาน!O1","v":1},{"$f":"OFFSET('input ข้าว'!$B$2,0,$D$1,1,1)","v":"พลเทพ"},"พื้นที่เพาะปลูกในแต่ละสัปดาห์ (ไร่)",null,null,null,null,null,null,null,null,null,null,null,null,null,null,null,null,null,null,null,null,null,null,null,null,null,null,null,null,null,null,null,null,null,null,null,null,null,null,null,null,null,null,null,null,null,null,null,null,null,null,null,null,null,null,null,null,null,null,null,null,null,null,null,null,null,{"$f":"OFFSET(Kc!$A$2,0,MATCH($BU$1,List_Kc_ALL,0),1,1)","v":52},"อ้อย","Kc",null,null,null,null,null,null,null,null,null,null,null,null,null,null,null,null,null,null,null,null,null,null,null,null,null,null,null,null,null,null,null,null,null,null,null,null,null,null,null,null,null,null,null,null,null,null,null,null,null,null,null,null,null,null,null,null,null,null,null,null,null,null,null,null,null,null,null,{"$f":"OFFSET('input ข้าว'!$B$3,0,D1,1,1)","v":"ชัยนาท"},"ETO/Week",null,"รั่วซึม",null,null,"น้ำเตรียมแปลง ",null,null,{"$f":"EL1","v":"ชัยนาท"},"ฝนใช้การ",null,null,"KC*Eto*ไร่ (ลบ.ม./สัปดาห์)",null,null,null,null,null,null,null,null,null,null,null,null,null,null,null,null,null,null,null,null,null,null,null,null,null,null,null,null,null,null,null,null,null,null,null,null,null,null,null,null,null,null,null,null,null,null,null,null,null,null,null,null,null,null,null,null,null,null,null,null,null,null,null,null,null,"ความต้องการน้ำ (ลบ.ม.)","ปริมาณน้ำที่ต้องส่ง","ประสิทธิภาพชลประทาน"]
[null,"เริ่มต้น","สิ้นสุด","เดือน","จำนวนไร่",1,2,3,4,5,6,7,8,9,10,11,12,13,14,15,16,17,18,19,20,21,22,23,24,25,26,27,28,29,30,31,32,33,34,35,36,37,38,39,40,41,42,43,44,45,46,47,48,49,50,51,52,53,54,55,56,57,58,59,60,61,62,63,64,65,"Sum","N.Week","KC/Week",1,2,3,4,5,6,7,8,9,10,11,12,13,14,15,16,17,18,19,20,21,22,23,24,25,26,27,28,29,30,31,32,33,34,35,36,37,38,39,40,41,42,43,44,45,46,47,48,49,50,51,52,53,54,55,56,57,58,59,60,61,62,63,64,65,null,"เดือน","จำนวนวัน",{"$f":"VLOOKUP(EL1,ETO!$T$4:$U$80,2,FALSE)","v":"สถานีฯเกษตร ชัยนาท"},{"$f":"MATCH($EL$2,ETO!$B$4:$B$131,0)","v":64},null,"มม./สัปดาห์","ลบ.ม.",null,"มม./สัปดาห์","ลบ.ม.",null,{"$f":"MATCH(EU1,ฝนใช้การ!$A$3:$A$78,0)","v":17},"มม./สัปดาห์","ลบ.ม.",null,1,2,3,4,5,6,7,8,9,10,11,12,13,14,15,16,17,18,19,20,21,22,23,24,25,26,27,28,29,30,31,32,33,34,35,36,37,38,39,40,41,42,43,44,45,46,47,48,49,50,51,52,53,54,55,56,57,58,59,60,61,62,63,64,65,"รวม","รวม","รวม (ลบ.ม.)",{"$f":"OFFSET('input ข้าว'!$B$7,0,$D$1,1,1)","v":90}]
[1,{"$f":"+'input อ้อย'!A9","v":"2017-11-01"},{"$f":"+'input อ้อย'!B9","v":"2017-11-07"},{"$f":"+C3","v":"2017-11-07"},{"$f":"OFFSET('input อ้อย'!$B$8,A3,$D$1,1,1)","v":27},{"$f":"IF($A3=F$2,$E3,0)","v":27},0,0,0,0,0,0,0,0,0,0,0,0,0,0,0,0,0,0,0,0,0,0,0,0,0,0,0,0,0,0,0,0,0,0,0,0,0,0,0,0,0,0,0,0,0,0,0,0,0,0,0,0,0,0,0,0,0,0,0,0,0,0,0,{"$f":"IF($A3=BR$2,$E3,0)","v":0},{"$f":"SUM(F3:BR3)","v":27},{"$f":"IF(A3<=$BT$1,A3,0)","v":1},{"$f":"IF(BT3=0,0,OFFSET(Kc!$A$2,1+BT3,MATCH($BU$1,List_Kc_ALL,0),1,1))","v":0.65},{"$f":"ROUND(IF($A3=BV$2,$BU$3,0),2)","v":0.65},{"$f":"IF($A3=BW$2,$BU3,0)","v":0},0,0,0,0,0,0,0,0,0,0,0,0,0,0,0,0,0,0,0,0,0,0,0,0,0,0,0,0,0,0,0,0,0,0,0,0,0,0,0,0,0,0,0,0,0,0,0,0,0,0,0,0,0,0,0,0,0,0,0,0,0,0,0,null,1,31,{"$f":"MONTH(D3)","v":11},{"$f":"OFFSET(ETO!$C$3,$EM$2,$EL3,1,1)*7","v":23.17},null,{"$f":"OFFSET('input ข้าว'!$B$4,0,$D$1,1,1)","v":7},{"$f":"($EO3/1000)*$BS3*1600","v":302.39999999999998},null,{"$f":"IF(OR(EL3=11,EL3=12,EL3<5),OFFSET('input อ้อย'!$B$5,0,$D$1,1,1),OFFSET('input อ้อย'!$B$6,0,$D$1,1,1))","v":30},{"$f":"($ER3/1000)*$E3*1600","v":1296},null,{"$f":"VLOOKUP(EL3,$EJ$3:$EK$14,2,TRUE)","v":30},{"$f":"ROUND(OFFSET(ฝนใช้การ!$P$2,$EU$2,$EL3,1,1)*7/$EU3,2)","v":5.04},{"$f":"ROUND((EV3/1000)*BS3*1600,2)","v":217.73},null,{"$f":"ROUND(BV3*$EM3*F3*1.6,2)","v":650.61},0,0,0,0,0,0,0,0,0,0,0,0,0,0,0,{"$f":"ROUND(CL3*$EM3*V3*1.6,2)","v":0},0,0,0,0,0,0,0,0,0,0,0,0,0,0,0,{"$f":"ROUND(DB3*$EM3*AL3*1.6,2)","v":0},0,0,0,0,0,0,0,0,0,0,0,0,0,0,0,{"$f":"ROUND(DR3*$EM3*BB3*1.6,2)","v":0},0,0,0,0,0,0,0,0,0,0,0,0,0,0,0,{"$f":"ROUND(EH3*$EM3*BR3*1.6,2)","v":0},{"$f":"SUM(EY3:HK3)","v":650.61},{"$f":"IF(EP3+ES3+HL3-EW3>0,EP3+ES3+HL3-EW3,0)","v":2031.2800000000002},{"$f":"HM3*100/$HO$2","v":2256.9777777777781}]
[2,{"$f":"+'input อ้อย'!A10","v":"2017-11-08"},{"$f":"+'input อ้อย'!B10","v":"2017-11-14"},"2017-11-14",{"$f":"OFFSET('input อ้อย'!$B$8,A4,$D$1,1,1)","v":0},{"$f":"IF($A4=F$2,$E4,IF(F3=0,0,IF($A4<F$2+$BT$1,F3,0)))","v":27},0,0,0,0,0,0,0,0,0,0,0,0,0,0,0,0,0,0,0,0,0,0,0,0,0,0,0,0,0,0,0,0,0,0,0,0,0,0,0,0,0,0,0,0,0,0,0,0,0,0,0,0,0,0,0,0,0,0,0,0,0,0,0,{"$f":"IF($A4=BR$2,$E4,IF(BR3=0,0,IF($A4<BR$2+$BT$1,BR3,0)))","v":0},{"$f":"SUM(F4:BR4)","v":27},2,{"$f":"IF(BT4=0,0,OFFSET(Kc!$A$2,1+BT4,MATCH($BU$1,List_Kc_ALL,0),1,1))","v":0.65},{"$f":"IF($A4=BV$2,$BU$3,IF(BV3=0,0,OFFSET($BU$2,$A4-BV$2+1,0,1,1)))","v":0.65},{"$f":"IF($A4=BW$2,$BU$3,IF(BW3=0,0,OFFSET($BU$2,$A4-BW$2+1,0,1,1)))","v":0.65},0,0,0,0,0,0,0,0,0,0,0,0,0,0,0,0,0,0,0,0,0,0,0,0,0,0,0,0,0,0,0,0,0,0,0,0,0,0,0,0,0,0,0,0,0,0,0,0,0,0,0,0,0,0,0,0,0,0,0,0,0,0,0,null,2,28,11,{"$f":"OFFSET(ETO!$C$3,$EM$2,$EL4,1,1)*7","v":23.17},null,{"$f":"OFFSET('input ข้าว'!$B$4,0,$D$1,1,1)","v":7},{"$f":"($EO4/1000)*$BS4*1600","v":302.39999999999998},null,{"$f":"IF(OR(EL4=11,EL4=12,EL4<5),OFFSET('input อ้อย'!$B$5,0,$D$1,1,1),OFFSET('input อ้อย'!$B$6,0,$D$1,1,1))","v":30},{"$f":"($ER4/1000)*$E4*1600","v":0},null,30,{"$f":"ROUND(OFFSET(ฝนใช้การ!$P$2,$EU$2,$EL4,1,1)*7/$EU4,2)","v":5.04},{"$f":"ROUND((EV4/1000)*BS4*1600,2)","v":217.73},null,650.61,0,0,0,0,0,0,0,0,0,0,0,0,0,0,0,0,0,0,0,0,0,0,0,0,0,0,0,0,0,0,0,0,0,0,0,0,0,0,0,0,0,0,0,0,0,0,0,0,0,0,0,0,0,0,0,0,0,0,0,0,0,0,0,0,{"$f":"SUM(EY4:HK4)","v":650.61},{"$f":"IF(EP4+ES4+HL4-EW4>0,EP4+ES4+HL4-EW4,0)","v":735.28},{"$f":"HM4*100/$HO$2","v":816.97777777777776}]
[3,{"$f":"+'input อ้อย'!A11","v":"2017-11-15"},{"$f":"+'input อ้อย'!B11","v":"2017-11-21"},"2017-11-21",{"$f":"OFFSET('input อ้อย'!$B$8,A5,$D$1,1,1)","v":0},27,0,0,0,0,0,0,0,0,0,0,0,0,0,0,0,0,0,0,0,0,0,0,0,0,0,0,0,0,0,0,0,0,0,0,0,0,0,0,0,0,0,0,0,0,0,0,0,0,0,0,0,0,0,0,0,0,0,0,0,0,0,0,0,0,27,3,{"$f":"IF(BT5=0,0,OFFSET(Kc!$A$2,1+BT5,MATCH($BU$1,List_Kc_ALL,0),1,1))","v":0.65},{"$f":"IF($A5=BV$2,$BU$3,IF(BV4=0,0,OFFSET($BU$2,$A5-BV$2+1,0,1,1)))","v":0.65},{"$f":"IF($A5=BW$2,$BU$3,IF(BW4=0,0,OFFSET($BU$2,$A5-BW$2+1,0,1,1)))","v":0.65},{"$f":"IF($A5=BX$2,$BU$3,IF(BX4=0,0,OFFSET($BU$2,$A5-BX$2+1,0,1,1)))","v":0.65},{"$f":"IF($A5=BY$2,$BU$3,IF(BY4=0,0,OFFSET($BU$2,$A5-BY$2+1,0,1,1)))","v":0},{"$f":"IF($A5=BZ$2,$BU$3,IF(BZ4=0,0,OFFSET($BU$2,$A5-BZ$2+1,0,1,1)))","v":0},{"$f":"IF($A5=CA$2,$BU$3,IF(CA4=0,0,OFFSET($BU$2,$A5-CA$2+1,0,1,1)))","v":0},{"$f":"IF($A5=CB$2,$BU$3,IF(CB4=0,0,OFFSET($BU$2,$A5-CB$2+1,0,1,1)))","v":0},{"$f":"IF($A5=CC$2,$BU$3,IF(CC4=0,0,OFFSET($BU$2,$A5-CC$2+1,0,1,1)))","v":0},{"$f":"IF($A5=CD$2,$BU$3,IF(CD4=0,0,OFFSET($BU$2,$A5-CD$2+1,0,1,1)))","v":0},{"$f":"IF($A5=CE$2,$BU$3,IF(CE4=0,0,OFFSET($BU$2,$A5-CE$2+1,0,1,1)))","v":0},{"$f":"IF($A5=CF$2,$BU$3,IF(CF4=0,0,OFFSET($BU$2,$A5-CF$2+1,0,1,1)))","v":0},{"$f":"IF($A5=CG$2,$BU$3,IF(CG4=0,0,OFFSET($BU$2,$A5-CG$2+1,0,1,1)))","v":0},{"$f":"IF($A5=CH$2,$BU$3,IF(CH4=0,0,OFFSET($BU$2,$A5-CH$2+1,0,1,1)))","v":0},{"$f":"IF($A5=CI$2,$BU$3,IF(CI4=0,0,OFFSET($BU$2,$A5-CI$2+1,0,1,1)))","v":0},{"$f":"IF($A5=CJ$2,$BU$3,IF(CJ4=0,0,OFFSET($BU$2,$A5-CJ$2+1,0,1,1)))","v":0},{"$f":"IF($A5=CK$2,$BU$3,IF(CK4=0,0,OFFSET($BU$2,$A5-CK$2+1,0,1,1)))","v":0},{"$f":"IF($A5=CL$2,$BU$3,IF(CL4=0,0,OFFSET($BU$2,$A5-CL$2+1,0,1,1)))","v":0},{"$f":"IF($A5=CM$2,$BU$3,IF(CM4=0,0,OFFSET($BU$2,$A5-CM$2+1,0,1,1)))","v":0},{"$f":"IF($A5=CN$2,$BU$3,IF(CN4=0,0,OFFSET($BU$2,$A5-CN$2+1,0,1,1)))","v":0},{"$f":"IF($A5=CO$2,$BU$3,IF(CO4=0,0,OFFSET($BU$2,$A5-CO$2+1,0,1,1)))","v":0},{"$f":"IF($A5=CP$2,$BU$3,IF(CP4=0,0,OFFSET($BU$2,$A5-CP$2+1,0,1,1)))","v":0},{"$f":"IF($A5=CQ$2,$BU$3,IF(CQ4=0,0,OFFSET($BU$2,$A5-CQ$2+1,0,1,1)))","v":0},{"$f":"IF($A5=CR$2,$BU$3,IF(CR4=0,0,OFFSET($BU$2,$A5-CR$2+1,0,1,1)))","v":0},{"$f":"IF($A5=CS$2,$BU$3,IF(CS4=0,0,OFFSET($BU$2,$A5-CS$2+1,0,1,1)))","v":0},{"$f":"IF($A5=CT$2,$BU$3,IF(CT4=0,0,OFFSET($BU$2,$A5-CT$2+1,0,1,1)))","v":0},{"$f":"IF($A5=CU$2,$BU$3,IF(CU4=0,0,OFFSET($BU$2,$A5-CU$2+1,0,1,1)))","v":0},{"$f":"IF($A5=CV$2,$BU$3,IF(CV4=0,0,OFFSET($BU$2,$A5-CV$2+1,0,1,1)))","v":0},{"$f":"IF($A5=CW$2,$BU$3,IF(CW4=0,0,OFFSET($BU$2,$A5-CW$2+1,0,1,1)))","v":0},{"$f":"IF($A5=CX$2,$BU$3,IF(CX4=0,0,OFFSET($BU$2,$A5-CX$2+1,0,1,1)))","v":0},{"$f":"IF($A5=CY$2,$BU$3,IF(CY4=0,0,OFFSET($BU$2,$A5-CY$2+1,0,1,1)))","v":0},{"$f":"IF($A5=CZ$2,$BU$3,IF(CZ4=0,0,OFFSET($BU$2,$A5-CZ$2+1,0,1,1)))","v":0},{"$f":"IF($A5=DA$2,$BU$3,IF(DA4=0,0,OFFSET($BU$2,$A5-DA$2+1,0,1,1)))","v":0},{"$f":"IF($A5=DB$2,$BU$3,IF(DB4=0,0,OFFSET($BU$2,$A5-DB$2+1,0,1,1)))","v":0},{"$f":"IF($A5=DC$2,$BU$3,IF(DC4=0,0,OFFSET($BU$2,$A5-DC$2+1,0,1,1)))","v":0},{"$f":"IF($A5=DD$2,$BU$3,IF(DD4=0,0,OFFSET($BU$2,$A5-DD$2+1,0,1,1)))","v":0},{"$f":"IF($A5=DE$2,$BU$3,IF(DE4=0,0,OFFSET($BU$2,$A5-DE$2+1,0,1,1)))","v":0},{"$f":"IF($A5=DF$2,$BU$3,IF(DF4=0,0,OFFSET($BU$2,$A5-DF$2+1,0,1,1)))","v":0},{"$f":"IF($A5=DG$2,$BU$3,IF(DG4=0,0,OFFSET($BU$2,$A5-DG$2+1,0,1,1)))","v":0},{"$f":"IF($A5=DH$2,$BU$3,IF(DH4=0,0,OFFSET($BU$2,$A5-DH$2+1,0,1,1)))","v":0},{"$f":"IF($A5=DI$2,$BU$3,IF(DI4=0,0,OFFSET($BU$2,$A5-DI$2+1,0,1,1)))","v":0},{"$f":"IF($A5=DJ$2,$BU$3,IF(DJ4=0,0,OFFSET($BU$2,$A5-DJ$2+1,0,1,1)))","v":0},{"$f":"IF($A5=DK$2,$BU$3,IF(DK4=0,0,OFFSET($BU$2,$A5-DK$2+1,0,1,1)))","v":0},{"$f":"IF($A5=DL$2,$BU$3,IF(DL4=0,0,OFFSET($BU$2,$A5-DL$2+1,0,1,1)))","v":0},{"$f":"IF($A5=DM$2,$BU$3,IF(DM4=0,0,OFFSET($BU$2,$A5-DM$2+1,0,1,1)))","v":0},{"$f":"IF($A5=DN$2,$BU$3,IF(DN4=0,0,OFFSET($BU$2,$A5-DN$2+1,0,1,1)))","v":0},{"$f":"IF($A5=DO$2,$BU$3,IF(DO4=0,0,OFFSET($BU$2,$A5-DO$2+1,0,1,1)))","v":0},{"$f":"IF($A5=DP$2,$BU$3,IF(DP4=0,0,OFFSET($BU$2,$A5-DP$2+1,0,1,1)))","v":0},{"$f":"IF($A5=DQ$2,$BU$3,IF(DQ4=0,0,OFFSET($BU$2,$A5-DQ$2+1,0,1,1)))","v":0},{"$f":"IF($A5=DR$2,$BU$3,IF(DR4=0,0,OFFSET($BU$2,$A5-DR$2+1,0,1,1)))","v":0},{"$f":"IF($A5=DS$2,$BU$3,IF(DS4=0,0,OFFSET($BU$2,$A5-DS$2+1,0,1,1)))","v":0},{"$f":"IF($A5=DT$2,$BU$3,IF(DT4=0,0,OFFSET($BU$2,$A5-DT$2+1,0,1,1)))","v":0},{"$f":"IF($A5=DU$2,$BU$3,IF(DU4=0,0,OFFSET($BU$2,$A5-DU$2+1,0,1,1)))","v":0},{"$f":"IF($A5=DV$2,$BU$3,IF(DV4=0,0,OFFSET($BU$2,$A5-DV$2+1,0,1,1)))","v":0},{"$f":"IF($A5=DW$2,$BU$3,IF(DW4=0,0,OFFSET($BU$2,$A5-DW$2+1,0,1,1)))","v":0},{"$f":"IF($A5=DX$2,$BU$3,IF(DX4=0,0,OFFSET($BU$2,$A5-DX$2+1,0,1,1)))","v":0},{"$f":"IF($A5=DY$2,$BU$3,IF(DY4=0,0,OFFSET($BU$2,$A5-DY$2+1,0,1,1)))","v":0},{"$f":"IF($A5=DZ$2,$BU$3,IF(DZ4=0,0,OFFSET($BU$2,$A5-DZ$2+1,0,1,1)))","v":0},{"$f":"IF($A5=EA$2,$BU$3,IF(EA4=0,0,OFFSET($BU$2,$A5-EA$2+1,0,1,1)))","v":0},{"$f":"IF($A5=EB$2,$BU$3,IF(EB4=0,0,OFFSET($BU$2,$A5-EB$2+1,0,1,1)))","v":0},{"$f":"IF($A5=EC$2,$BU$3,IF(EC4=0,0,OFFSET($BU$2,$A5-EC$2+1,0,1,1)))","v":0},{"$f":"IF($A5=ED$2,$BU$3,IF(ED4=0,0,OFFSET($BU$2,$A5-ED$2+1,0,1,1)))","v":0},{"$f":"IF($A5=EE$2,$BU$3,IF(EE4=0,0,OFFSET($BU$2,$A5-EE$2+1,0,1,1)))","v":0},{"$f":"IF($A5=EF$2,$BU$3,IF(EF4=0,0,OFFSET($BU$2,$A5-EF$2+1,0,1,1)))","v":0},{"$f":"IF($A5=EG$2,$BU$3,IF(EG4=0,0,OFFSET($BU$2,$A5-EG$2+1,0,1,1)))","v":0},{"$f":"IF($A5=EH$2,$BU$3,IF(EH4=0,0,OFFSET($BU$2,$A5-EH$2+1,0,1,1)))","v":0},null,3,31,11,{"$f":"OFFSET(ETO!$C$3,$EM$2,$EL5,1,1)*7","v":23.17},null,{"$f":"OFFSET('input ข้าว'!$B$4,0,$D$1,1,1)","v":7},302.39999999999998,null,{"$f":"IF(OR(EL5=11,EL5=12,EL5<5),OFFSET('input อ้อย'!$B$5,0,$D$1,1,1),OFFSET('input อ้อย'!$B$6,0,$D$1,1,1))","v":30},0,null,30,{"$f":"ROUND(OFFSET(ฝนใช้การ!$P$2,$EU$2,$EL5,1,1)*7/$EU5,2)","v":5.04},217.73,null,650.61,0,0,0,0,0,0,0,0,0,0,0,0,0,0,0,0,0,0,0,0,0,0,0,0,0,0,0,0,0,0,0,0,0,0,0,0,0,0,0,0,0,0,0,0,0,0,0,0,0,0,0,0,0,0,0,0,0,0,0,0,0,0,0,0,650.61,735.28,816.97777777777776]
[4,{"$f":"+'input อ้อย'!A12","v":"2017-11-22"},{"$f":"+'input อ้อย'!B12","v":"2017-11-28"},"2017-11-28",{"$f":"OFFSET('input อ้อย'!$B$8,A6,$D$1,1,1)","v":0},27,0,0,0,0,0,0,0,0,0,0,0,0,0,0,0,0,0,0,0,0,0,0,0,0,0,0,0,0,0,0,0,0,0,0,0,0,0,0,0,0,0,0,0,0,0,0,0,0,0,0,0,0,0,0,0,0,0,0,0,0,0,0,0,0,27,4,{"$f":"IF(BT6=0,0,OFFSET(Kc!$A$2,1+BT6,MATCH($BU$1,List_Kc_ALL,0),1,1))","v":0.65},0.65,0.65,0.65,0.65,0,0,0,0,0,0,0,0,0,0,0,0,0,0,0,0,0,0,0,0,0,0,0,0,0,0,0,0,0,0,0,0,0,0,0,0,0,0,0,0,0,0,0,0,0,0,0,0,0,0,0,0,0,0,0,0,0,0,0,0,0,null,4,30,11,{"$f":"OFFSET(ETO!$C$3,$EM$2,$EL6,1,1)*7","v":23.17},null,{"$f":"OFFSET('input ข้าว'!$B$4,0,$D$1,1,1)","v":7},302.39999999999998,null,{"$f":"IF(OR(EL6=11,EL6=12,EL6<5),OFFSET('input อ้อย'!$B$5,0,$D$1,1,1),OFFSET('input อ้อย'!$B$6,0,$D$1,1,1))","v":30},0,null,30,{"$f":"ROUND(OFFSET(ฝนใช้การ!$P$2,$EU$2,$EL6,1,1)*7/$EU6,2)","v":5.04},217.73,null,650.61,0,0,0,0,0,0,0,0,0,0,0,0,0,0,0,0,0,0,0,0,0,0,0,0,0,0,0,0,0,0,0,0,0,0,0,0,0,0,0,0,0,0,0,0,0,0,0,0,0,0,0,0,0,0,0,0,0,0,0,0,0,0,0,0,650.61,735.28,816.97777777777776]
[5,{"$f":"+'input อ้อย'!A13","v":"2017-11-29"},{"$f":"+'input อ้อย'!B13","v":"2017-12-05"},"2017-12-05",{"$f":"OFFSET('input อ้อย'!$B$8,A7,$D$1,1,1)","v":0},27,0,0,0,0,0,0,0,0,0,0,0,0,0,0,0,0,0,0,0,0,0,0,0,0,0,0,0,0,0,0,0,0,0,0,0,0,0,0,0,0,0,0,0,0,0,0,0,0,0,0,0,0,0,0,0,0,0,0,0,0,0,0,{"$f":"IF($A7=BQ$2,$E7,IF(BQ6=0,0,IF($A7<BQ$2+$BT$1,BQ6,0)))","v":0},0,27,5,{"$f":"IF(BT7=0,0,OFFSET(Kc!$A$2,1+BT7,MATCH($BU$1,List_Kc_ALL,0),1,1))","v":0.86},0.86,0.65,0.65,0.65,0.65,0,0,0,0,0,0,0,0,0,0,0,0,0,0,0,0,0,0,0,0,0,0,0,0,0,0,0,0,0,0,0,0,0,0,0,0,0,0,0,0,0,0,0,0,0,0,0,0,0,0,0,0,0,0,0,0,0,0,0,0,null,5,31,12,{"$f":"OFFSET(ETO!$C$3,$EM$2,$EL7,1,1)*7","v":22.47},null,{"$f":"OFFSET('input ข้าว'!$B$4,0,$D$1,1,1)","v":7},302.39999999999998,null,{"$f":"IF(OR(EL7=11,EL7=12,EL7<5),OFFSET('input อ้อย'!$B$5,0,$D$1,1,1),OFFSET('input อ้อย'!$B$6,0,$D$1,1,1))","v":30},0,null,31,{"$f":"ROUND(OFFSET(ฝนใช้การ!$P$2,$EU$2,$EL7,1,1)*7/$EU7,2)","v":1.1299999999999999},48.82,null,834.81,0,0,0,0,0,0,0,0,0,0,0,0,0,0,0,0,0,0,0,0,0,0,0,0,0,0,0,0,0,0,0,0,0,0,0,0,0,0,0,0,0,0,0,0,0,0,0,0,0,0,0,0,0,0,0,0,0,0,0,0,0,0,0,0,834.81,1088.3900000000001,1209.3222222222223]
[6,{"$f":"+'input อ้อย'!A14","v":"2017-12-06"},{"$f":"+'input อ้อย'!B14","v":"2017-12-12"},"2017-12-12",{"$f":"OFFSET('input อ้อย'!$B$8,A8,$D$1,1,1)","v":0},{"$f":"IF($A8=F$2,$E8,IF(F7=0,0,IF($A8<F$2+$BT$1,F7,0)))","v":27},0,0,0,0,0,0,0,0,0,0,0,0,0,0,0,0,0,0,0,0,0,0,0,0,0,0,0,0,0,0,0,0,0,0,0,0,0,0,0,0,0,0,0,0,0,0,0,0,0,0,0,0,0,0,0,0,0,0,0,0,0,0,0,0,27,6,{"$f":"IF(BT8=0,0,OFFSET(Kc!$A$2,1+BT8,MATCH($BU$1,List_Kc_ALL,0),1,1))","v":0.86},0.86,0.86,0.65,0.65,0.65,0.65,0,0,0,0,0,0,0,0,0,0,0,0,0,0,0,0,0,0,0,0,0,0,0,0,0,0,0,0,0,0,0,0,0,0,0,0,0,0,0,0,0,0,0,0,0,0,0,0,0,0,0,0,0,0,0,0,0,0,0,null,6,30,12,{"$f":"OFFSET(ETO!$C$3,$EM$2,$EL8,1,1)*7","v":22.47},null,{"$f":"OFFSET('input ข้าว'!$B$4,0,$D$1,1,1)","v":7},302.39999999999998,null,{"$f":"IF(OR(EL8=11,EL8=12,EL8<5),OFFSET('input อ้อย'!$B$5,0,$D$1,1,1),OFFSET('input อ้อย'!$B$6,0,$D$1,1,1))","v":30},0,null,31,{"$f":"ROUND(OFFSET(ฝนใช้การ!$P$2,$EU$2,$EL8,1,1)*7/$EU8,2)","v":1.1299999999999999},48.82,null,834.81,0,0,0,0,0,0,0,0,0,0,0,0,0,0,0,0,0,0,0,0,0,0,0,0,0,0,0,0,0,0,0,0,0,0,0,0,0,0,0,0,0,0,0,0,0,0,0,0,0,0,0,0,0,0,0,0,0,0,0,0,0,0,0,0,834.81,1088.3900000000001,1209.3222222222223]
[7,{"$f":"+'input อ้อย'!A15","v":"2017-12-13"},{"$f":"+'input อ้อย'!B15","v":"2017-12-19"},"2017-12-19",{"$f":"OFFSET('input อ้อย'!$B$8,A9,$D$1,1,1)","v":0},27,0,0,0,0,0,0,0,0,0,0,0,0,0,0,0,0,0,0,0,0,0,0,0,0,0,0,0,0,0,0,0,0,0,0,0,0,0,0,0,0,0,0,0,0,0,0,0,0,0,0,0,0,0,0,0,0,0,0,0,0,0,0,0,0,27,7,{"$f":"IF(BT9=0,0,OFFSET(Kc!$A$2,1+BT9,MATCH($BU$1,List_Kc_ALL,0),1,1))","v":0.86},0.86,0.86,0.86,0.65,0.65,0.65,0.65,0,0,0,0,0,0,0,0,0,0,0,0,0,0,0,0,0,0,0,0,0,0,0,0,0,0,0,0,0,0,0,0,0,0,0,0,0,0,0,0,0,0,0,0,0,0,0,0,0,0,0,0,0,0,0,0,0,0,null,7,31,12,{"$f":"OFFSET(ETO!$C$3,$EM$2,$EL9,1,1)*7","v":22.47},null,{"$f":"OFFSET('input ข้าว'!$B$4,0,$D$1,1,1)","v":7},302.39999999999998,null,{"$f":"IF(OR(EL9=11,EL9=12,EL9<5),OFFSET('input อ้อย'!$B$5,0,$D$1,1,1),OFFSET('input อ้อย'!$B$6,0,$D$1,1,1))","v":30},0,null,31,{"$f":"ROUND(OFFSET(ฝนใช้การ!$P$2,$EU$2,$EL9,1,1)*7/$EU9,2)","v":1.1299999999999999},48.82,null,834.81,0,0,0,0,0,0,0,0,0,0,0,0,0,0,0,0,0,0,0,0,0,0,0,0,0,0,0,0,0,0,0,0,0,0,0,0,0,0,0,0,0,0,0,0,0,0,0,0,0,0,0,0,0,0,0,0,0,0,0,0,0,0,0,0,834.81,1088.3900000000001,1209.3222222222223]
[8,{"$f":"+'input อ้อย'!A16","v":"2017-12-20"},{"$f":"+'input อ้อย'!B16","v":"2017-12-26"},"2017-12-26",{"$f":"OFFSET('input อ้อย'!$B$8,A10,$D$1,1,1)","v":0},27,0,0,0,0,0,0,0,0,0,0,0,0,0,0,0,0,0,0,0,0,0,0,0,0,0,0,0,0,0,0,0,0,0,0,0,0,0,0,0,0,0,0,0,0,0,0,0,0,0,0,0,0,0,0,0,0,0,0,0,0,0,0,0,0,27,8,{"$f":"IF(BT10=0,0,OFFSET(Kc!$A$2,1+BT10,MATCH($BU$1,List_Kc_ALL,0),1,1))","v":0.86},0.86,0.86,0.86,0.86,0.65,0.65,0.65,0.65,0,0,0,0,0,0,0,0,0,0,0,0,0,0,0,0,0,0,0,0,0,0,0,0,0,0,0,0,0,0,0,0,0,0,0,0,0,0,0,0,0,0,0,0,0,0,0,0,0,0,0,0,0,0,0,0,0,null,8,31,12,{"$f":"OFFSET(ETO!$C$3,$EM$2,$EL10,1,1)*7","v":22.47},null,{"$f":"OFFSET('input ข้าว'!$B$4,0,$D$1,1,1)","v":7},302.39999999999998,null,{"$f":"IF(OR(EL10=11,EL10=12,EL10<5),OFFSET('input อ้อย'!$B$5,0,$D$1,1,1),OFFSET('input อ้อย'!$B$6,0,$D$1,1,1))","v":30},0,null,31,{"$f":"ROUND(OFFSET(ฝนใช้การ!$P$2,$EU$2,$EL10,1,1)*7/$EU10,2)","v":1.1299999999999999},48.82,null,834.81,0,0,0,0,0,0,0,0,0,0,0,0,0,0,0,0,0,0,0,0,0,0,0,0,0,0,0,0,0,0,0,0,0,0,0,0,0,0,0,0,0,0,0,0,0,0,0,0,0,0,0,0,0,0,0,0,0,0,0,0,0,0,0,0,834.81,1088.3900000000001,1209.3222222222223]
[9,{"$f":"+'input อ้อย'!A17","v":"2017-12-27"},{"$f":"+'input อ้อย'!B17","v":"2018-01-02"},"2018-01-02",{"$f":"OFFSET('input อ้อย'!$B$8,A11,$D$1,1,1)","v":0},27,0,0,0,0,0,0,0,0,0,0,0,0,0,0,0,0,0,0,0,0,0,0,0,0,0,0,0,0,0,0,0,0,0,0,0,0,0,0,0,0,0,0,0,0,0,0,0,0,0,0,0,0,0,0,0,0,0,0,0,0,0,0,0,0,27,9,{"$f":"IF(BT11=0,0,OFFSET(Kc!$A$2,1+BT11,MATCH($BU$1,List_Kc_ALL,0),1,1))","v":0.86},0.86,0.86,0.86,0.86,0.86,0.65,0.65,0.65,0.65,0,0,0,0,0,0,0,0,0,0,0,0,0,0,0,0,0,0,0,0,0,0,0,0,0,0,0,0,0,0,0,0,0,0,0,0,0,0,0,0,0,0,0,0,0,0,0,0,0,0,0,0,0,0,0,0,null,9,30,1,{"$f":"OFFSET(ETO!$C$3,$EM$2,$EL11,1,1)*7","v":23.099999999999998},null,{"$f":"OFFSET('input ข้าว'!$B$4,0,$D$1,1,1)","v":7},302.39999999999998,null,{"$f":"IF(OR(EL11=11,EL11=12,EL11<5),OFFSET('input อ้อย'!$B$5,0,$D$1,1,1),OFFSET('input อ้อย'!$B$6,0,$D$1,1,1))","v":30},0,null,31,{"$f":"ROUND(OFFSET(ฝนใช้การ!$P$2,$EU$2,$EL11,1,1)*7/$EU11,2)","v":1.29},55.73,null,858.21,0,0,0,0,0,0,0,0,0,0,0,0,0,0,0,0,0,0,0,0,0,0,0,0,0,0,0,0,0,0,0,0,0,0,0,0,0,0,0,0,0,0,0,0,0,0,0,0,0,0,0,0,0,0,0,0,0,0,0,0,0,0,0,0,858.21,1104.8800000000001,1227.6444444444446]
[10,{"$f":"+'input อ้อย'!A18","v":"2018-01-03"},{"$f":"+'input อ้อย'!B18","v":"2018-01-09"},"2018-01-09",{"$f":"OFFSET('input อ้อย'!$B$8,A12,$D$1,1,1)","v":0},27,0,0,{"$f":"IF($A12=I$2,$E12,IF(I11=0,0,IF($A12<I$2+$BT$1,I11,0)))","v":0},0,0,0,0,0,0,0,0,0,0,0,0,0,0,0,0,0,0,0,0,0,0,0,0,0,0,0,0,0,0,0,0,0,0,0,0,0,0,0,0,0,0,0,0,0,0,0,0,0,0,0,0,0,0,0,0,0,0,0,0,0,27,10,{"$f":"IF(BT12=0,0,OFFSET(Kc!$A$2,1+BT12,MATCH($BU$1,List_Kc_ALL,0),1,1))","v":1.1299999999999999},1.1299999999999999,0.86,0.86,0.86,0.86,0.86,0.65,0.65,0.65,0.65,0,0,0,0,0,0,0,0,0,0,0,0,0,0,0,0,0,0,0,0,0,0,0,0,0,0,0,0,0,0,0,0,0,0,0,0,0,0,0,0,0,0,0,0,0,0,0,0,0,0,0,0,0,0,0,null,10,31,1,{"$f":"OFFSET(ETO!$C$3,$EM$2,$EL12,1,1)*7","v":23.099999999999998},null,{"$f":"OFFSET('input ข้าว'!$B$4,0,$D$1,1,1)","v":7},302.39999999999998,null,{"$f":"IF(OR(EL12=11,EL12=12,EL12<5),OFFSET('input อ้อย'!$B$5,0,$D$1,1,1),OFFSET('input อ้อย'!$B$6,0,$D$1,1,1))","v":30},0,null,31,{"$f":"ROUND(OFFSET(ฝนใช้การ!$P$2,$EU$2,$EL12,1,1)*7/$EU12,2)","v":1.29},55.73,null,1127.6500000000001,0,0,0,0,0,0,0,0,0,0,0,0,0,0,0,0,0,0,0,0,0,0,0,0,0,0,0,0,0,0,0,0,0,0,0,0,0,0,0,0,0,0,0,0,0,0,0,0,0,0,0,0,0,0,0,0,0,0,0,0,0,0,0,0,1127.6500000000001,1374.3200000000002,1527.0222222222226]
[11,{"$f":"+'input อ้อย'!A19","v":"2018-01-10"},{"$f":"+'input อ้อย'!B19","v":"2018-01-16"},"2018-01-16",{"$f":"OFFSET('input อ้อย'!$B$8,A13,$D$1,1,1)","v":0},{"$f":"IF($A13=F$2,$E13,IF(F12=0,0,IF($A13<F$2+$BT$1,F12,0)))","v":27},0,0,0,0,0,0,0,0,0,0,0,0,0,0,0,0,0,0,0,0,0,0,0,0,0,0,0,0,0,0,0,0,0,0,0,0,0,0,0,0,0,0,0,0,0,0,0,0,0,0,0,0,0,0,0,0,0,0,0,0,0,0,0,0,27,11,{"$f":"IF(BT13=0,0,OFFSET(Kc!$A$2,1+BT13,MATCH($BU$1,List_Kc_ALL,0),1,1))","v":1.1299999999999999},1.1299999999999999,1.1299999999999999,0.86,0.86,0.86,0.86,0.86,0.65,0.65,0.65,0.65,0,0,0,0,0,0,0,0,0,0,0,0,0,0,0,0,0,0,0,0,0,0,0,0,0,0,0,0,0,0,0,0,0,0,0,0,0,0,0,0,0,0,0,0,0,0,0,0,0,0,0,0,0,0,null,11,30,1,{"$f":"OFFSET(ETO!$C$3,$EM$2,$EL13,1,1)*7","v":23.099999999999998},null,{"$f":"OFFSET('input ข้าว'!$B$4,0,$D$1,1,1)","v":7},302.39999999999998,null,{"$f":"IF(OR(EL13=11,EL13=12,EL13<5),OFFSET('input อ้อย'!$B$5,0,$D$1,1,1),OFFSET('input อ้อย'!$B$6,0,$D$1,1,1))","v":30},0,null,31,{"$f":"ROUND(OFFSET(ฝนใช้การ!$P$2,$EU$2,$EL13,1,1)*7/$EU13,2)","v":1.29},55.73,null,1127.6500000000001,0,0,0,0,0,0,0,0,0,0,0,0,0,0,0,0,0,0,0,0,0,0,0,0,0,0,0,0,0,0,0,0,0,0,0,0,0,0,0,0,0,0,0,0,0,0,0,0,0,0,0,0,0,0,0,0,0,0,0,0,0,0,0,0,1127.6500000000001,1374.3200000000002,1527.0222222222226]
[12,{"$f":"+'input อ้อย'!A20","v":"2018-01-17"},{"$f":"+'input อ้อย'!B20","v":"2018-01-23"},"2018-01-23",{"$f":"OFFSET('input อ้อย'!$B$8,A14,$D$1,1,1)","v":0},27,0,0,0,0,0,0,0,0,0,0,0,0,0,0,0,0,0,0,0,0,0,0,0,0,0,0,0,0,0,0,0,0,0,0,0,0,0,0,0,0,0,0,0,0,0,0,0,0,0,0,0,0,0,0,0,0,0,0,0,0,0,0,0,0,27,12,{"$f":"IF(BT14=0,0,OFFSET(Kc!$A$2,1+BT14,MATCH($BU$1,List_Kc_ALL,0),1,1))","v":1.1299999999999999},1.1299999999999999,1.1299999999999999,1.1299999999999999,0.86,0.86,0.86,0.86,0.86,0.65,0.65,0.65,0.65,0,0,0,0,0,0,0,0,0,0,0,0,0,0,0,0,0,0,0,0,0,0,0,0,0,0,0,0,0,0,0,0,0,0,0,0,0,0,0,0,0,0,0,0,0,0,0,0,0,0,0,0,0,null,12,31,1,{"$f":"OFFSET(ETO!$C$3,$EM$2,$EL14,1,1)*7","v":23.099999999999998},null,{"$f":"OFFSET('input ข้าว'!$B$4,0,$D$1,1,1)","v":7},302.39999999999998,null,{"$f":"IF(OR(EL14=11,EL14=12,EL14<5),OFFSET('input อ้อย'!$B$5,0,$D$1,1,1),OFFSET('input อ้อย'!$B$6,0,$D$1,1,1))","v":30},0,null,31,{"$f":"ROUND(OFFSET(ฝนใช้การ!$P$2,$EU$2,$EL14,1,1)*7/$EU14,2)","v":1.29},55.73,null,1127.6500000000001,0,0,0,0,0,0,0,0,0,0,0,0,0,0,0,0,0,0,0,0,0,0,0,0,0,0,0,0,0,0,0,0,0,0,0,0,0,0,0,0,0,0,0,0,0,0,0,0,0,0,0,0,0,0,0,0,0,0,0,0,0,0,0,0,1127.6500000000001,1374.3200000000002,1527.0222222222226]
[13,{"$f":"+'input อ้อย'!A21","v":"2018-01-24"},{"$f":"+'input อ้อย'!B21","v":"2018-01-30"},"2018-01-30",{"$f":"OFFSET('input อ้อย'!$B$8,A15,$D$1,1,1)","v":0},27,0,0,0,0,0,0,0,0,0,0,0,0,0,0,0,0,0,0,0,0,0,0,0,0,0,0,0,0,0,0,0,0,0,0,0,0,0,0,0,0,0,0,0,0,0,0,0,0,0,0,0,0,0,0,0,0,0,0,0,0,0,0,0,0,27,13,{"$f":"IF(BT15=0,0,OFFSET(Kc!$A$2,1+BT15,MATCH($BU$1,List_Kc_ALL,0),1,1))","v":1.1299999999999999},1.1299999999999999,1.1299999999999999,1.1299999999999999,1.1299999999999999,0.86,0.86,0.86,0.86,0.86,0.65,0.65,0.65,0.65,0,0,0,0,0,0,0,0,0,0,0,0,0,0,0,0,0,0,0,0,0,0,0,0,0,0,0,0,0,0,0,0,0,0,0,0,0,0,0,0,0,0,0,0,0,0,0,0,0,0,0,0,null,null,null,1,{"$f":"OFFSET(ETO!$C$3,$EM$2,$EL15,1,1)*7","v":23.099999999999998},null,{"$f":"OFFSET('input ข้าว'!$B$4,0,$D$1,1,1)","v":7},302.39999999999998,null,{"$f":"IF(OR(EL15=11,EL15=12,EL15<5),OFFSET('input อ้อย'!$B$5,0,$D$1,1,1),OFFSET('input อ้อย'!$B$6,0,$D$1,1,1))","v":30},0,null,31,{"$f":"ROUND(OFFSET(ฝนใช้การ!$P$2,$EU$2,$EL15,1,1)*7/$EU15,2)","v":1.29},55.73,null,1127.6500000000001,0,0,0,0,0,0,0,0,0,0,0,0,0,0,0,0,0,0,0,0,0,0,0,0,0,0,0,0,0,0,0,0,0,0,0,0,0,0,0,0,0,0,0,0,0,0,0,0,0,0,0,0,0,0,0,0,0,0,0,0,0,0,0,0,1127.6500000000001,1374.3200000000002,1527.0222222222226]
[14,{"$f":"+'input อ้อย'!A22","v":"2018-01-31"},{"$f":"+'input อ้อย'!B22","v":"2018-02-06"},"2018-02-06",{"$f":"OFFSET('input อ้อย'!$B$8,A16,$D$1,1,1)","v":0},27,0,0,0,0,0,0,0,0,0,0,0,0,0,0,0,0,0,{"$f":"IF($A16=X$2,$E16,IF(X15=0,0,IF($A16<X$2+$BT$1,X15,0)))","v":0},0,0,0,0,0,0,0,0,0,0,0,0,0,0,0,0,0,0,0,0,0,0,0,0,0,0,0,0,0,0,0,0,0,0,0,0,0,0,0,0,0,0,0,0,0,0,27,14,{"$f":"IF(BT16=0,0,OFFSET(Kc!$A$2,1+BT16,MATCH($BU$1,List_Kc_ALL,0),1,1))","v":1.35},1.35,1.1299999999999999,1.1299999999999999,1.1299999999999999,1.1299999999999999,0.86,0.86,0.86,0.86,0.86,0.65,0.65,0.65,0.65,0,0,0,0,0,0,0,0,0,0,0,0,0,0,0,0,0,0,0,0,0,0,0,0,0,0,0,0,0,0,0,0,0,0,0,0,0,0,0,0,0,0,0,0,0,0,0,0,0,0,0,null,null,null,2,{"$f":"OFFSET(ETO!$C$3,$EM$2,$EL16,1,1)*7","v":25.76},null,{"$f":"OFFSET('input ข้าว'!$B$4,0,$D$1,1,1)","v":7},302.39999999999998,null,{"$f":"IF(OR(EL16=11,EL16=12,EL16<5),OFFSET('input อ้อย'!$B$5,0,$D$1,1,1),OFFSET('input อ้อย'!$B$6,0,$D$1,1,1))","v":30},0,null,28,{"$f":"ROUND(OFFSET(ฝนใช้การ!$P$2,$EU$2,$EL16,1,1)*7/$EU16,2)","v":2.7},116.64,null,1502.32,0,0,0,0,0,0,0,0,0,0,0,0,0,0,0,0,0,0,0,0,0,0,0,0,0,0,0,0,0,0,0,0,0,0,0,0,0,0,0,0,0,0,0,0,0,0,0,0,0,0,0,0,0,0,0,0,0,0,0,0,0,0,0,0,1502.32,1688.0799999999997,1875.6444444444442]
[15,{"$f":"+'input อ้อย'!A23","v":"2018-02-07"},{"$f":"+'input อ้อย'!B23","v":"2018-02-13"},"2018-02-13",{"$f":"OFFSET('input อ้อย'!$B$8,A17,$D$1,1,1)","v":0},27,0,0,0,0,0,0,0,0,0,0,0,0,0,0,0,{"$f":"IF($A17=V$2,$E17,IF(V16=0,0,IF($A17<V$2+$BT$1,V16,0)))","v":0},0,0,0,0,0,0,0,0,0,0,0,0,0,0,0,0,0,0,0,0,0,0,0,0,0,0,0,0,0,0,0,0,0,0,0,0,0,0,0,0,0,0,0,0,0,0,0,0,27,15,{"$f":"IF(BT17=0,0,OFFSET(Kc!$A$2,1+BT17,MATCH($BU$1,List_Kc_ALL,0),1,1))","v":1.35},1.35,1.35,1.1299999999999999,1.1299999999999999,1.1299999999999999,1.1299999999999999,0.86,0.86,0.86,0.86,0.86,0.65,0.65,0.65,0.65,0,0,0,0,0,0,0,0,0,0,0,0,0,0,0,0,0,0,0,0,0,0,0,0,0,0,0,0,0,0,0,0,0,0,0,0,0,0,0,0,0,0,0,0,0,0,0,0,0,0,null,null,null,2,{"$f":"OFFSET(ETO!$C$3,$EM$2,$EL17,1,1)*7","v":25.76},null,{"$f":"OFFSET('input ข้าว'!$B$4,0,$D$1,1,1)","v":7},302.39999999999998,null,{"$f":"IF(OR(EL17=11,EL17=12,EL17<5),OFFSET('input อ้อย'!$B$5,0,$D$1,1,1),OFFSET('input อ้อย'!$B$6,0,$D$1,1,1))","v":30},0,null,28,{"$f":"ROUND(OFFSET(ฝนใช้การ!$P$2,$EU$2,$EL17,1,1)*7/$EU17,2)","v":2.7},116.64,null,1502.32,0,0,0,0,0,0,0,0,0,0,0,0,0,0,0,0,0,0,0,0,0,0,0,0,0,0,0,0,0,0,0,0,0,0,0,0,0,0,0,0,0,0,0,0,0,0,0,0,0,0,0,0,0,0,0,0,0,0,0,0,0,0,0,0,1502.32,1688.0799999999997,1875.6444444444442]
[16,{"$f":"+'input อ้อย'!A24","v":"2018-02-14"},{"$f":"+'input อ้อย'!B24","v":"2018-02-20"},"2018-02-20",{"$f":"OFFSET('input อ้อย'!$B$8,A18,$D$1,1,1)","v":0},27,0,0,0,0,0,0,0,0,0,0,0,0,0,0,0,0,0,0,0,0,0,0,0,0,0,0,0,0,0,0,0,0,0,0,0,0,0,0,0,0,0,0,0,0,0,0,0,0,0,0,0,0,0,0,0,0,0,0,0,0,0,0,0,0,27,16,{"$f":"IF(BT18=0,0,OFFSET(Kc!$A$2,1+BT18,MATCH($BU$1,List_Kc_ALL,0),1,1))","v":1.35},1.35,1.35,1.35,1.1299999999999999,1.1299999999999999,1.1299999999999999,1.1299999999999999,0.86,0.86,0.86,0.86,0.86,0.65,0.65,0.65,0.65,0,0,0,0,0,0,0,0,0,0,0,0,0,0,0,0,0,0,0,0,0,0,0,0,0,0,0,0,0,0,0,0,0,0,0,0,0,0,0,0,0,0,0,0,0,0,0,0,0,null,null,null,2,{"$f":"OFFSET(ETO!$C$3,$EM$2,$EL18,1,1)*7","v":25.76},null,{"$f":"OFFSET('input ข้าว'!$B$4,0,$D$1,1,1)","v":7},302.39999999999998,null,{"$f":"IF(OR(EL18=11,EL18=12,EL18<5),OFFSET('input อ้อย'!$B$5,0,$D$1,1,1),OFFSET('input อ้อย'!$B$6,0,$D$1,1,1))","v":30},0,null,28,{"$f":"ROUND(OFFSET(ฝนใช้การ!$P$2,$EU$2,$EL18,1,1)*7/$EU18,2)","v":2.7},116.64,null,1502.32,0,0,0,0,0,0,0,0,0,0,0,0,0,0,{"$f":"ROUND(CK18*$EM18*U18*1.6,2)","v":0},0,0,0,0,0,0,0,0,0,0,0,0,0,0,0,{"$f":"ROUND(DA18*$EM18*AK18*1.6,2)","v":0},0,0,0,0,0,0,0,0,0,0,0,0,0,0,0,{"$f":"ROUND(DQ18*$EM18*BA18*1.6,2)","v":0},0,0,0,0,0,0,0,0,0,0,0,0,0,0,0,{"$f":"ROUND(EG18*$EM18*BQ18*1.6,2)","v":0},0,1502.32,1688.0799999999997,1875.6444444444442]
[17,{"$f":"+'input อ้อย'!A25","v":"2018-02-21"},{"$f":"+'input อ้อย'!B25","v":"2018-02-27"},"2018-02-27",{"$f":"OFFSET('input อ้อย'!$B$8,A19,$D$1,1,1)","v":0},27,0,0,0,0,0,0,0,0,0,0,0,0,0,0,0,0,0,0,0,0,0,0,0,0,0,0,0,0,0,0,0,0,0,0,0,0,0,0,0,0,0,0,0,0,0,0,0,0,0,0,0,0,0,0,0,0,0,0,0,0,0,0,0,0,27,17,{"$f":"IF(BT19=0,0,OFFSET(Kc!$A$2,1+BT19,MATCH($BU$1,List_Kc_ALL,0),1,1))","v":1.35},1.35,1.35,1.35,1.35,1.1299999999999999,1.1299999999999999,1.1299999999999999,1.1299999999999999,0.86,0.86,0.86,0.86,0.86,0.65,0.65,0.65,0.65,0,0,0,0,0,0,0,0,0,0,0,0,0,0,0,0,0,0,0,0,0,0,0,0,0,0,0,0,0,0,0,0,0,0,0,0,0,0,0,0,0,0,0,0,0,0,0,0,null,null,null,2,{"$f":"OFFSET(ETO!$C$3,$EM$2,$EL19,1,1)*7","v":25.76},null,{"$f":"OFFSET('input ข้าว'!$B$4,0,$D$1,1,1)","v":7},302.39999999999998,null,{"$f":"IF(OR(EL19=11,EL19=12,EL19<5),OFFSET('input อ้อย'!$B$5,0,$D$1,1,1),OFFSET('input อ้อย'!$B$6,0,$D$1,1,1))","v":30},0,null,28,{"$f":"ROUND(OFFSET(ฝนใช้การ!$P$2,$EU$2,$EL19,1,1)*7/$EU19,2)","v":2.7},116.64,null,{"$f":"ROUND(BV19*$EM19*F19*1.6,2)","v":1502.32},0,0,0,0,0,0,0,0,0,0,0,0,0,0,0,0,0,0,0,0,0,0,0,0,0,0,0,0,0,0,0,0,0,0,0,0,0,0,0,0,0,0,0,0,0,0,0,0,0,0,0,0,0,0,0,0,0,0,0,0,0,0,0,0,1502.32,1688.0799999999997,1875.6444444444442]
[18,{"$f":"+'input อ้อย'!A26","v":"2018-02-28"},{"$f":"+'input อ้อย'!B26","v":"2018-03-06"},"2018-03-06",{"$f":"OFFSET('input อ้อย'!$B$8,A20,$D$1,1,1)","v":0},27,0,0,0,0,0,0,0,0,0,0,0,0,0,0,0,0,0,0,0,0,0,0,0,0,0,0,0,0,0,0,0,0,0,0,0,0,0,0,0,0,0,0,0,0,0,0,0,0,0,0,0,0,0,0,0,0,0,0,0,0,0,0,0,0,27,18,{"$f":"IF(BT20=0,0,OFFSET(Kc!$A$2,1+BT20,MATCH($BU$1,List_Kc_ALL,0),1,1))","v":1.56},1.56,1.35,1.35,1.35,1.35,1.1299999999999999,1.1299999999999999,1.1299999999999999,1.1299999999999999,0.86,0.86,0.86,0.86,0.86,0.65,0.65,0.65,0.65,0,0,0,0,0,0,0,0,0,0,0,0,0,0,0,0,0,0,0,0,0,0,0,0,0,0,0,0,0,0,0,0,0,0,0,0,0,0,0,0,0,0,0,0,0,0,0,null,null,null,3,{"$f":"OFFSET(ETO!$C$3,$EM$2,$EL20,1,1)*7","v":30.38},null,{"$f":"OFFSET('input ข้าว'!$B$4,0,$D$1,1,1)","v":7},302.39999999999998,null,{"$f":"IF(OR(EL20=11,EL20=12,EL20<5),OFFSET('input อ้อย'!$B$5,0,$D$1,1,1),OFFSET('input อ้อย'!$B$6,0,$D$1,1,1))","v":30},0,null,31,{"$f":"ROUND(OFFSET(ฝนใช้การ!$P$2,$EU$2,$EL20,1,1)*7/$EU20,2)","v":4.29},185.33,null,2047.37,0,0,0,0,0,0,0,0,0,0,0,0,0,0,0,0,0,0,0,0,0,0,0,0,0,0,0,0,0,0,0,0,0,0,0,0,0,0,0,0,0,0,0,0,0,0,0,0,0,0,0,0,0,0,0,0,0,0,0,0,0,0,0,0,2047.37,2164.44,2404.9333333333334]
[19,{"$f":"+'input อ้อย'!A27","v":"2018-03-07"},{"$f":"+'input อ้อย'!B27","v":"2018-03-13"},"2018-03-13",{"$f":"OFFSET('input อ้อย'!$B$8,A21,$D$1,1,1)","v":0},27,0,0,0,0,0,0,0,0,0,0,0,0,0,0,0,0,0,0,0,0,0,0,0,0,0,0,0,0,0,0,0,0,0,0,0,0,0,0,0,0,0,0,0,0,0,0,0,{"$f":"IF($A21=BB$2,$E21,IF(BB20=0,0,IF($A21<BB$2+$BT$1,BB20,0)))","v":0},0,0,0,0,0,0,0,0,0,0,0,0,0,0,0,0,27,19,{"$f":"IF(BT21=0,0,OFFSET(Kc!$A$2,1+BT21,MATCH($BU$1,List_Kc_ALL,0),1,1))","v":1.56},1.56,1.56,1.35,1.35,1.35,1.35,1.1299999999999999,1.1299999999999999,1.1299999999999999,1.1299999999999999,0.86,0.86,0.86,0.86,0.86,0.65,0.65,0.65,0.65,0,0,0,0,0,0,0,0,0,0,0,0,0,0,0,0,0,0,0,0,0,0,0,0,0,0,0,0,0,0,0,0,0,0,0,0,0,0,0,0,0,0,0,0,0,0,null,null,null,3,{"$f":"OFFSET(ETO!$C$3,$EM$2,$EL21,1,1)*7","v":30.38},null,{"$f":"OFFSET('input ข้าว'!$B$4,0,$D$1,1,1)","v":7},302.39999999999998,null,{"$f":"IF(OR(EL21=11,EL21=12,EL21<5),OFFSET('input อ้อย'!$B$5,0,$D$1,1,1),OFFSET('input อ้อย'!$B$6,0,$D$1,1,1))","v":30},0,null,31,{"$f":"ROUND(OFFSET(ฝนใช้การ!$P$2,$EU$2,$EL21,1,1)*7/$EU21,2)","v":4.29},185.33,null,2047.37,0,0,0,0,0,0,0,0,0,0,0,0,0,0,0,0,0,0,0,0,0,0,0,0,0,0,0,0,0,0,0,0,0,0,0,0,0,0,0,0,0,0,0,0,0,0,0,0,0,0,0,0,0,0,0,0,0,0,0,0,0,0,0,0,2047.37,2164.44,2404.9333333333334]
[20,{"$f":"+'input อ้อย'!A28","v":"2018-03-14"},{"$f":"+'input อ้อย'!B28","v":"2018-03-20"},"2018-03-20",{"$f":"OFFSET('input อ้อย'!$B$8,A22,$D$1,1,1)","v":0},27,0,0,0,0,0,0,0,0,0,0,0,0,0,0,0,0,0,0,0,0,0,0,0,0,0,0,0,0,0,0,0,{"$f":"IF($A22=AL$2,$E22,IF(AL21=0,0,IF($A22<AL$2+$BT$1,AL21,0)))","v":0},0,0,0,0,0,0,0,0,0,0,0,0,0,0,0,0,0,0,0,0,0,0,0,0,0,0,0,0,0,0,0,0,27,20,{"$f":"IF(BT22=0,0,OFFSET(Kc!$A$2,1+BT22,MATCH($BU$1,List_Kc_ALL,0),1,1))","v":1.56},1.56,1.56,1.56,1.35,1.35,1.35,1.35,1.1299999999999999,1.1299999999999999,1.1299999999999999,1.1299999999999999,0.86,0.86,0.86,0.86,0.86,0.65,0.65,0.65,0.65,0,0,0,0,0,0,0,0,0,0,0,0,0,0,0,0,0,0,0,0,0,0,0,0,0,0,0,0,0,0,0,0,0,0,0,0,0,0,0,0,0,0,0,0,0,null,null,null,3,{"$f":"OFFSET(ETO!$C$3,$EM$2,$EL22,1,1)*7","v":30.38},null,{"$f":"OFFSET('input ข้าว'!$B$4,0,$D$1,1,1)","v":7},302.39999999999998,null,{"$f":"IF(OR(EL22=11,EL22=12,EL22<5),OFFSET('input อ้อย'!$B$5,0,$D$1,1,1),OFFSET('input อ้อย'!$B$6,0,$D$1,1,1))","v":30},0,null,31,{"$f":"ROUND(OFFSET(ฝนใช้การ!$P$2,$EU$2,$EL22,1,1)*7/$EU22,2)","v":4.29},185.33,null,2047.37,0,0,0,0,0,0,0,0,0,0,0,0,0,0,0,0,0,0,0,0,0,0,0,0,0,0,0,0,0,0,0,0,0,0,0,0,0,0,0,0,0,0,0,0,0,0,0,0,0,0,0,0,0,0,0,0,0,0,0,0,0,0,0,0,2047.37,2164.44,2404.9333333333334]
[21,{"$f":"+'input อ้อย'!A29","v":"2018-03-21"},{"$f":"+'input อ้อย'!B29","v":"2018-03-27"},"2018-03-27",{"$f":"OFFSET('input อ้อย'!$B$8,A23,$D$1,1,1)","v":0},27,0,0,0,0,0,0,0,0,0,0,0,0,0,0,0,0,0,0,0,0,0,0,0,0,0,0,0,0,0,0,0,0,0,0,0,0,0,0,0,0,0,0,0,0,0,0,0,0,0,0,0,0,0,0,0,0,0,0,0,0,0,0,0,0,27,21,{"$f":"IF(BT23=0,0,OFFSET(Kc!$A$2,1+BT23,MATCH($BU$1,List_Kc_ALL,0),1,1))","v":1.56},1.56,1.56,1.56,1.56,1.35,1.35,1.35,1.35,1.1299999999999999,1.1299999999999999,1.1299999999999999,1.1299999999999999,0.86,0.86,0.86,0.86,0.86,0.65,0.65,0.65,0.65,0,0,0,0,0,0,0,0,0,0,0,0,0,0,0,0,0,0,0,0,0,0,0,0,0,0,0,0,0,0,0,0,0,0,0,0,0,0,0,0,0,0,0,0,null,null,null,3,{"$f":"OFFSET(ETO!$C$3,$EM$2,$EL23,1,1)*7","v":30.38},null,{"$f":"OFFSET('input ข้าว'!$B$4,0,$D$1,1,1)","v":7},302.39999999999998,null,{"$f":"IF(OR(EL23=11,EL23=12,EL23<5),OFFSET('input อ้อย'!$B$5,0,$D$1,1,1),OFFSET('input อ้อย'!$B$6,0,$D$1,1,1))","v":30},0,null,31,{"$f":"ROUND(OFFSET(ฝนใช้การ!$P$2,$EU$2,$EL23,1,1)*7/$EU23,2)","v":4.29},185.33,null,2047.37,0,0,0,0,0,0,0,0,0,0,0,0,0,0,0,0,0,0,0,0,0,0,0,0,0,0,0,0,0,0,0,0,0,0,0,0,0,0,0,0,0,0,0,0,0,0,0,0,0,0,0,0,0,0,0,0,0,0,0,0,0,0,0,0,2047.37,2164.44,2404.9333333333334]
[22,{"$f":"+'input อ้อย'!A30","v":"2018-03-28"},{"$f":"+'input อ้อย'!B30","v":"2018-04-03"},"2018-04-03",{"$f":"OFFSET('input อ้อย'!$B$8,A24,$D$1,1,1)","v":0},27,0,0,0,0,0,0,0,0,0,0,0,0,0,0,0,0,0,0,0,0,0,0,0,0,0,0,0,0,0,0,0,0,0,0,0,0,0,0,0,0,0,0,0,0,0,0,0,0,0,0,0,0,0,0,0,0,0,0,0,0,0,0,0,0,27,22,{"$f":"IF(BT24=0,0,OFFSET(Kc!$A$2,1+BT24,MATCH($BU$1,List_Kc_ALL,0),1,1))","v":1.56},1.56,1.56,1.56,1.56,1.56,1.35,1.35,1.35,1.35,1.1299999999999999,1.1299999999999999,1.1299999999999999,1.1299999999999999,0.86,0.86,0.86,0.86,0.86,0.65,0.65,0.65,0.65,0,0,0,0,0,0,0,0,0,0,0,0,0,0,0,0,0,0,0,0,0,0,0,0,0,0,0,0,0,0,0,0,0,0,0,0,0,0,0,0,0,0,0,null,null,null,4,{"$f":"OFFSET(ETO!$C$3,$EM$2,$EL24,1,1)*7","v":31.919999999999998},null,{"$f":"OFFSET('input ข้าว'!$B$4,0,$D$1,1,1)","v":7},302.39999999999998,null,{"$f":"IF(OR(EL24=11,EL24=12,EL24<5),OFFSET('input อ้อย'!$B$5,0,$D$1,1,1),OFFSET('input อ้อย'!$B$6,0,$D$1,1,1))","v":30},0,null,30,{"$f":"ROUND(OFFSET(ฝนใช้การ!$P$2,$EU$2,$EL24,1,1)*7/$EU24,2)","v":8},345.6,null,2151.15,0,0,0,0,0,0,0,0,0,0,0,0,0,0,0,0,0,0,0,0,0,0,0,0,0,0,0,0,0,0,0,0,0,0,0,0,0,0,0,0,0,0,0,0,0,0,0,0,0,0,0,0,0,0,0,0,0,0,0,0,0,0,0,0,2151.15,2107.9500000000003,2342.166666666667]
[23,{"$f":"+'input อ้อย'!A31","v":"2018-04-04"},{"$f":"+'input อ้อย'!B31","v":"2018-04-10"},"2018-04-10",{"$f":"OFFSET('input อ้อย'!$B$8,A25,$D$1,1,1)","v":0},27,0,0,0,0,0,0,0,0,0,0,0,0,0,0,0,0,0,0,0,0,0,0,0,0,0,0,0,0,0,0,0,0,0,0,0,0,0,0,0,0,0,0,0,0,0,0,0,0,0,0,0,0,0,0,0,0,0,0,0,0,0,0,0,0,27,23,{"$f":"IF(BT25=0,0,OFFSET(Kc!$A$2,1+BT25,MATCH($BU$1,List_Kc_ALL,0),1,1))","v":1.29},1.29,1.56,1.56,1.56,1.56,1.56,1.35,1.35,1.35,1.35,1.1299999999999999,1.1299999999999999,1.1299999999999999,1.1299999999999999,0.86,0.86,0.86,0.86,0.86,0.65,0.65,0.65,0.65,0,0,0,0,0,0,0,0,0,0,0,0,0,0,0,0,0,0,0,0,0,0,0,0,0,0,0,0,0,0,0,0,0,0,0,0,0,0,0,0,0,0,null,null,null,4,{"$f":"OFFSET(ETO!$C$3,$EM$2,$EL25,1,1)*7","v":31.919999999999998},null,{"$f":"OFFSET('input ข้าว'!$B$4,0,$D$1,1,1)","v":7},302.39999999999998,null,{"$f":"IF(OR(EL25=11,EL25=12,EL25<5),OFFSET('input อ้อย'!$B$5,0,$D$1,1,1),OFFSET('input อ้อย'!$B$6,0,$D$1,1,1))","v":30},0,null,30,{"$f":"ROUND(OFFSET(ฝนใช้การ!$P$2,$EU$2,$EL25,1,1)*7/$EU25,2)","v":8},345.6,null,1778.84,0,0,0,0,0,0,0,0,0,0,0,0,0,0,0,0,0,0,0,0,0,0,0,0,0,0,0,0,0,0,0,0,0,0,0,0,0,0,0,0,0,0,0,0,0,0,0,0,0,0,0,0,0,0,0,0,0,0,0,0,0,0,0,0,1778.84,1735.6399999999999,1928.4888888888888]
[24,{"$f":"+'input อ้อย'!A32","v":"2018-04-11"},{"$f":"+'input อ้อย'!B32","v":"2018-04-17"},"2018-04-17",{"$f":"OFFSET('input อ้อย'!$B$8,A26,$D$1,1,1)","v":0},27,0,0,0,0,0,0,0,0,0,0,0,0,0,0,0,0,0,0,0,0,0,0,0,0,0,0,0,0,0,0,0,0,0,0,0,0,0,0,0,0,0,0,0,0,0,0,0,0,0,0,0,0,0,0,0,0,0,0,0,0,0,0,0,0,27,24,{"$f":"IF(BT26=0,0,OFFSET(Kc!$A$2,1+BT26,MATCH($BU$1,List_Kc_ALL,0),1,1))","v":1.29},1.29,1.29,1.56,1.56,1.56,1.56,1.56,1.35,1.35,1.35,1.35,1.1299999999999999,1.1299999999999999,1.1299999999999999,1.1299999999999999,0.86,0.86,0.86,0.86,0.86,0.65,0.65,0.65,0.65,0,0,0,0,0,0,0,0,0,0,0,0,0,0,0,0,0,0,0,0,0,0,0,0,0,0,0,0,0,0,0,0,0,0,0,0,0,0,0,0,0,null,null,null,4,{"$f":"OFFSET(ETO!$C$3,$EM$2,$EL26,1,1)*7","v":31.919999999999998},null,{"$f":"OFFSET('input ข้าว'!$B$4,0,$D$1,1,1)","v":7},302.39999999999998,null,{"$f":"IF(OR(EL26=11,EL26=12,EL26<5),OFFSET('input อ้อย'!$B$5,0,$D$1,1,1),OFFSET('input อ้อย'!$B$6,0,$D$1,1,1))","v":30},0,null,30,{"$f":"ROUND(OFFSET(ฝนใช้การ!$P$2,$EU$2,$EL26,1,1)*7/$EU26,2)","v":8},345.6,null,1778.84,0,0,0,0,0,0,0,0,0,0,0,0,0,0,0,0,0,0,0,0,0,0,0,0,0,0,0,0,0,0,0,0,0,0,0,0,0,0,0,0,0,0,0,0,0,0,0,0,0,0,0,0,0,0,0,0,0,0,0,0,0,0,0,0,1778.84,1735.6399999999999,1928.4888888888888]
[25,{"$f":"+'input อ้อย'!A33","v":"2018-04-18"},{"$f":"+'input อ้อย'!B33","v":"2018-04-24"},"2018-04-24",{"$f":"OFFSET('input อ้อย'!$B$8,A27,$D$1,1,1)","v":0},27,0,0,0,0,0,0,0,0,0,0,0,0,0,0,0,0,0,0,0,0,0,0,0,0,0,0,0,0,0,0,0,0,0,0,0,0,0,0,0,0,0,0,0,0,0,0,0,0,0,0,0,0,0,0,0,0,0,0,0,0,0,0,0,0,27,25,{"$f":"IF(BT27=0,0,OFFSET(Kc!$A$2,1+BT27,MATCH($BU$1,List_Kc_ALL,0),1,1))","v":1.29},1.29,1.29,1.29,1.56,1.56,1.56,1.56,1.56,1.35,1.35,1.35,1.35,1.1299999999999999,1.1299999999999999,1.1299999999999999,1.1299999999999999,0.86,0.86,0.86,0.86,0.86,0.65,0.65,0.65,0.65,0,0,0,0,0,0,0,0,0,0,0,0,0,0,0,0,0,0,0,0,0,0,0,0,0,0,0,0,0,0,0,0,0,0,0,0,0,0,0,0,null,null,null,4,{"$f":"OFFSET(ETO!$C$3,$EM$2,$EL27,1,1)*7","v":31.919999999999998},null,{"$f":"OFFSET('input ข้าว'!$B$4,0,$D$1,1,1)","v":7},302.39999999999998,null,{"$f":"IF(OR(EL27=11,EL27=12,EL27<5),OFFSET('input อ้อย'!$B$5,0,$D$1,1,1),OFFSET('input อ้อย'!$B$6,0,$D$1,1,1))","v":30},0,null,30,{"$f":"ROUND(OFFSET(ฝนใช้การ!$P$2,$EU$2,$EL27,1,1)*7/$EU27,2)","v":8},345.6,null,1778.84,0,0,0,0,0,0,0,0,0,0,0,0,0,0,0,0,0,0,0,0,0,0,0,0,0,0,0,0,0,0,0,0,0,0,0,0,0,0,0,0,0,0,0,0,0,0,0,0,0,0,0,0,0,0,0,0,0,0,0,0,0,0,0,0,1778.84,1735.6399999999999,1928.4888888888888]
[26,{"$f":"+'input อ้อย'!A34","v":"2018-04-25"},{"$f":"+'input อ้อย'!B34","v":"2018-05-01"},"2018-05-01",{"$f":"OFFSET('input อ้อย'!$B$8,A28,$D$1,1,1)","v":0},27,0,0,0,0,0,0,0,0,0,0,0,0,0,0,0,0,0,0,0,0,0,0,0,0,0,0,0,0,0,0,0,0,0,0,0,0,0,0,0,0,0,0,0,0,0,0,0,0,0,0,0,0,0,0,0,0,0,0,0,0,0,0,0,0,27,26,{"$f":"IF(BT28=0,0,OFFSET(Kc!$A$2,1+BT28,MATCH($BU$1,List_Kc_ALL,0),1,1))","v":1.29},1.29,1.29,1.29,1.29,1.56,1.56,1.56,1.56,1.56,1.35,1.35,1.35,1.35,1.1299999999999999,1.1299999999999999,1.1299999999999999,1.1299999999999999,0.86,0.86,0.86,0.86,0.86,0.65,0.65,0.65,0.65,0,0,0,0,0,0,0,0,0,0,0,0,0,0,0,0,0,0,0,0,0,0,0,0,0,0,0,0,0,0,0,0,0,0,0,0,0,0,0,null,null,null,5,{"$f":"OFFSET(ETO!$C$3,$EM$2,$EL28,1,1)*7","v":30.169999999999998},null,{"$f":"OFFSET('input ข้าว'!$B$4,0,$D$1,1,1)","v":7},302.39999999999998,null,{"$f":"IF(OR(EL28=11,EL28=12,EL28<5),OFFSET('input อ้อย'!$B$5,0,$D$1,1,1),OFFSET('input อ้อย'!$B$6,0,$D$1,1,1))","v":15},0,null,31,{"$f":"ROUND(OFFSET(ฝนใช้การ!$P$2,$EU$2,$EL28,1,1)*7/$EU28,2)","v":11.79},509.33,null,1681.31,0,0,0,0,0,0,0,0,0,0,0,0,0,0,0,0,0,0,0,0,0,0,0,0,0,0,0,0,0,0,0,0,0,0,0,0,0,0,0,0,0,0,0,0,0,0,0,0,0,0,0,0,0,0,0,0,0,0,0,0,0,0,0,0,1681.31,1474.38,1638.2]
[27,{"$f":"+'input อ้อย'!A35","v":"2018-05-02"},{"$f":"+'input อ้อย'!B35","v":"2018-05-08"},"2018-05-08",{"$f":"OFFSET('input อ้อย'!$B$8,A29,$D$1,1,1)","v":0},{"$f":"IF($A29=F$2,$E29,IF(F28=0,0,IF($A29<F$2+$BT$1,F28,0)))","v":27},0,0,0,0,0,0,0,0,0,0,0,0,0,0,0,0,0,0,0,0,0,0,0,0,0,0,0,0,0,0,0,0,0,0,0,0,0,0,0,0,0,0,0,0,0,0,0,0,0,0,0,0,0,0,0,0,0,0,0,0,0,0,0,0,27,27,{"$f":"IF(BT29=0,0,OFFSET(Kc!$A$2,1+BT29,MATCH($BU$1,List_Kc_ALL,0),1,1))","v":1.2},1.2,1.29,1.29,1.29,1.29,1.56,1.56,1.56,1.56,1.56,1.35,1.35,1.35,1.35,1.1299999999999999,1.1299999999999999,1.1299999999999999,1.1299999999999999,0.86,0.86,0.86,0.86,0.86,0.65,0.65,0.65,0.65,0,0,0,0,0,0,0,0,0,0,0,0,0,0,0,0,0,0,0,0,0,0,0,0,0,0,0,0,0,0,0,0,0,0,0,0,0,0,null,null,null,5,{"$f":"OFFSET(ETO!$C$3,$EM$2,$EL29,1,1)*7","v":30.169999999999998},null,{"$f":"OFFSET('input ข้าว'!$B$4,0,$D$1,1,1)","v":7},302.39999999999998,null,{"$f":"IF(OR(EL29=11,EL29=12,EL29<5),OFFSET('input อ้อย'!$B$5,0,$D$1,1,1),OFFSET('input อ้อย'!$B$6,0,$D$1,1,1))","v":15},0,null,31,{"$f":"ROUND(OFFSET(ฝนใช้การ!$P$2,$EU$2,$EL29,1,1)*7/$EU29,2)","v":11.79},509.33,null,1564.01,0,0,0,0,0,0,0,0,0,0,0,0,0,0,0,0,0,0,0,0,0,0,0,0,0,0,0,0,0,0,0,0,0,0,0,0,0,0,0,0,0,0,0,0,0,0,0,0,0,0,0,0,0,0,0,0,0,0,0,0,0,0,0,0,1564.01,1357.08,1507.8666666666666]
[28,{"$f":"+'input อ้อย'!A36","v":"2018-05-09"},{"$f":"+'input อ้อย'!B36","v":"2018-05-15"},"2018-05-15",{"$f":"OFFSET('input อ้อย'!$B$8,A30,$D$1,1,1)","v":0},27,0,0,0,0,0,0,0,0,0,0,0,0,0,0,0,0,0,0,0,0,0,0,0,0,0,0,0,0,0,0,0,0,0,0,0,0,0,0,0,0,0,0,0,0,0,0,0,0,0,0,0,0,0,0,0,0,0,0,0,0,0,0,0,0,27,28,{"$f":"IF(BT30=0,0,OFFSET(Kc!$A$2,1+BT30,MATCH($BU$1,List_Kc_ALL,0),1,1))","v":1.2},1.2,1.2,1.29,1.29,1.29,1.29,1.56,1.56,1.56,1.56,1.56,1.35,1.35,1.35,1.35,1.1299999999999999,1.1299999999999999,1.1299999999999999,1.1299999999999999,0.86,0.86,0.86,0.86,0.86,0.65,0.65,0.65,0.65,0,0,0,0,0,0,0,0,0,0,0,0,0,0,0,0,0,0,0,0,0,0,0,0,0,0,0,0,0,0,0,0,0,0,0,0,0,null,null,null,5,{"$f":"OFFSET(ETO!$C$3,$EM$2,$EL30,1,1)*7","v":30.169999999999998},null,{"$f":"OFFSET('input ข้าว'!$B$4,0,$D$1,1,1)","v":7},302.39999999999998,null,{"$f":"IF(OR(EL30=11,EL30=12,EL30<5),OFFSET('input อ้อย'!$B$5,0,$D$1,1,1),OFFSET('input อ้อย'!$B$6,0,$D$1,1,1))","v":15},0,null,31,{"$f":"ROUND(OFFSET(ฝนใช้การ!$P$2,$EU$2,$EL30,1,1)*7/$EU30,2)","v":11.79},509.33,null,1564.01,0,0,0,0,0,0,0,0,0,0,0,0,0,0,0,0,0,0,0,0,0,0,0,0,0,0,0,0,0,0,0,0,0,0,0,0,0,0,0,0,0,0,0,0,0,0,0,0,0,0,0,0,0,0,0,0,0,0,0,0,0,0,0,0,1564.01,1357.08,1507.8666666666666]
[29,{"$f":"+'input อ้อย'!A37","v":"2018-05-16"},{"$f":"+'input อ้อย'!B37","v":"2018-05-22"},"2018-05-22",{"$f":"OFFSET('input อ้อย'!$B$8,A31,$D$1,1,1)","v":0},27,0,0,0,0,0,0,0,0,0,0,0,0,0,0,0,0,0,0,0,0,0,0,0,0,0,0,0,0,0,0,0,0,0,0,0,0,0,0,0,0,0,0,0,0,0,0,0,0,0,0,0,0,0,0,0,0,0,0,0,0,0,0,0,0,27,29,{"$f":"IF(BT31=0,0,OFFSET(Kc!$A$2,1+BT31,MATCH($BU$1,List_Kc_ALL,0),1,1))","v":1.2},1.2,1.2,1.2,1.29,1.29,1.29,1.29,1.56,1.56,1.56,1.56,1.56,1.35,1.35,1.35,1.35,1.1299999999999999,1.1299999999999999,1.1299999999999999,1.1299999999999999,0.86,0.86,0.86,0.86,0.86,0.65,0.65,0.65,0.65,0,0,0,0,0,0,0,0,0,0,0,0,0,0,0,0,0,0,0,0,0,0,0,0,0,0,0,0,0,0,0,0,0,0,0,0,null,null,null,5,{"$f":"OFFSET(ETO!$C$3,$EM$2,$EL31,1,1)*7","v":30.169999999999998},null,{"$f":"OFFSET('input ข้าว'!$B$4,0,$D$1,1,1)","v":7},302.39999999999998,null,{"$f":"IF(OR(EL31=11,EL31=12,EL31<5),OFFSET('input อ้อย'!$B$5,0,$D$1,1,1),OFFSET('input อ้อย'!$B$6,0,$D$1,1,1))","v":15},0,null,31,{"$f":"ROUND(OFFSET(ฝนใช้การ!$P$2,$EU$2,$EL31,1,1)*7/$EU31,2)","v":11.79},509.33,null,1564.01,0,0,0,0,0,0,0,0,0,0,0,0,0,0,0,0,0,0,0,0,0,0,0,0,0,0,0,0,0,0,0,0,0,0,0,0,0,0,0,0,0,0,0,0,0,0,0,0,0,0,0,0,0,0,0,0,0,0,0,0,0,0,0,0,1564.01,1357.08,1507.8666666666666]
[30,{"$f":"+'input อ้อย'!A38","v":"2018-05-23"},{"$f":"+'input อ้อย'!B38","v":"2018-05-29"},"2018-05-29",{"$f":"OFFSET('input อ้อย'!$B$8,A32,$D$1,1,1)","v":0},27,0,0,0,0,0,0,0,0,0,0,0,0,0,0,0,0,0,0,0,0,0,0,0,0,0,0,0,0,0,0,0,0,0,0,0,0,0,0,0,0,0,0,0,0,0,0,0,0,0,0,0,0,0,0,0,0,0,0,0,0,0,0,0,0,27,30,{"$f":"IF(BT32=0,0,OFFSET(Kc!$A$2,1+BT32,MATCH($BU$1,List_Kc_ALL,0),1,1))","v":1.2},1.2,1.2,1.2,1.2,1.29,1.29,1.29,1.29,1.56,1.56,1.56,1.56,1.56,1.35,1.35,1.35,1.35,1.1299999999999999,1.1299999999999999,1.1299999999999999,1.1299999999999999,0.86,0.86,0.86,0.86,0.86,0.65,0.65,0.65,0.65,0,0,0,0,0,0,0,0,0,0,0,0,0,0,0,0,0,0,0,0,0,0,0,0,0,0,0,0,0,0,0,0,0,0,0,null,null,null,5,{"$f":"OFFSET(ETO!$C$3,$EM$2,$EL32,1,1)*7","v":30.169999999999998},null,{"$f":"OFFSET('input ข้าว'!$B$4,0,$D$1,1,1)","v":7},302.39999999999998,null,{"$f":"IF(OR(EL32=11,EL32=12,EL32<5),OFFSET('input อ้อย'!$B$5,0,$D$1,1,1),OFFSET('input อ้อย'!$B$6,0,$D$1,1,1))","v":15},0,null,31,{"$f":"ROUND(OFFSET(ฝนใช้การ!$P$2,$EU$2,$EL32,1,1)*7/$EU32,2)","v":11.79},509.33,null,1564.01,0,0,0,0,0,0,0,0,0,0,0,0,0,0,0,0,0,0,0,0,0,0,0,0,0,0,0,0,0,0,0,0,0,0,0,0,0,0,0,0,0,0,0,0,0,0,0,0,0,0,0,0,0,0,0,0,0,0,0,0,0,0,0,0,1564.01,1357.08,1507.8666666666666]
[31,{"$f":"+'input อ้อย'!A39","v":"2018-05-30"},{"$f":"+'input อ้อย'!B39","v":"2018-06-05"},"2018-06-05",{"$f":"OFFSET('input อ้อย'!$B$8,A33,$D$1,1,1)","v":0},27,0,0,0,0,0,0,0,0,0,0,0,0,0,0,0,{"$f":"IF($A33=V$2,$E33,IF(V32=0,0,IF($A33<V$2+$BT$1,V32,0)))","v":0},0,0,0,0,0,0,0,0,0,0,0,0,0,0,0,0,0,0,0,0,0,0,0,0,0,0,0,0,0,0,0,0,0,0,0,0,0,0,0,0,0,0,0,0,0,0,0,0,27,31,{"$f":"IF(BT33=0,0,OFFSET(Kc!$A$2,1+BT33,MATCH($BU$1,List_Kc_ALL,0),1,1))","v":0.93},0.93,1.2,1.2,1.2,1.2,1.29,1.29,1.29,1.29,1.56,1.56,1.56,1.56,1.56,1.35,1.35,1.35,1.35,1.1299999999999999,1.1299999999999999,1.1299999999999999,1.1299999999999999,0.86,0.86,0.86,0.86,0.86,0.65,0.65,0.65,0.65,0,0,0,0,0,0,0,0,0,0,0,0,0,0,0,0,0,0,0,0,0,0,0,0,0,0,0,0,0,0,0,0,0,0,null,null,null,6,{"$f":"OFFSET(ETO!$C$3,$EM$2,$EL33,1,1)*7","v":29.889999999999997},null,{"$f":"OFFSET('input ข้าว'!$B$4,0,$D$1,1,1)","v":7},302.39999999999998,null,{"$f":"IF(OR(EL33=11,EL33=12,EL33<5),OFFSET('input อ้อย'!$B$5,0,$D$1,1,1),OFFSET('input อ้อย'!$B$6,0,$D$1,1,1))","v":15},0,null,30,{"$f":"ROUND(OFFSET(ฝนใช้การ!$P$2,$EU$2,$EL33,1,1)*7/$EU33,2)","v":9.3699999999999992},404.78,null,1200.8599999999999,0,0,0,0,0,0,0,0,0,0,0,0,0,0,0,0,0,0,0,0,0,0,0,0,0,0,0,0,0,0,0,0,0,0,0,0,0,0,0,0,0,0,0,0,0,0,0,0,0,0,0,0,0,0,0,0,0,0,0,0,0,0,0,0,1200.8599999999999,1098.4799999999998,1220.5333333333331]
[32,{"$f":"+'input อ้อย'!A40","v":"2018-06-06"},{"$f":"+'input อ้อย'!B40","v":"2018-06-12"},"2018-06-12",{"$f":"OFFSET('input อ้อย'!$B$8,A34,$D$1,1,1)","v":0},27,0,0,0,0,0,0,0,0,0,0,0,0,0,0,0,0,0,0,0,0,0,0,0,0,0,0,0,0,0,0,0,0,0,0,0,0,0,0,0,0,0,0,0,0,0,0,0,0,0,0,0,0,0,0,0,0,0,0,0,0,0,0,0,0,27,32,{"$f":"IF(BT34=0,0,OFFSET(Kc!$A$2,1+BT34,MATCH($BU$1,List_Kc_ALL,0),1,1))","v":0.93},0.93,0.93,1.2,1.2,1.2,1.2,1.29,1.29,1.29,1.29,1.56,1.56,1.56,1.56,1.56,1.35,1.35,1.35,1.35,1.1299999999999999,1.1299999999999999,1.1299999999999999,1.1299999999999999,0.86,0.86,0.86,0.86,0.86,0.65,0.65,0.65,0.65,0,0,0,0,0,0,0,0,0,0,0,0,0,0,0,0,0,0,0,0,0,0,0,0,0,0,0,0,0,0,0,0,0,null,null,null,6,{"$f":"OFFSET(ETO!$C$3,$EM$2,$EL34,1,1)*7","v":29.889999999999997},null,{"$f":"OFFSET('input ข้าว'!$B$4,0,$D$1,1,1)","v":7},302.39999999999998,null,{"$f":"IF(OR(EL34=11,EL34=12,EL34<5),OFFSET('input อ้อย'!$B$5,0,$D$1,1,1),OFFSET('input อ้อย'!$B$6,0,$D$1,1,1))","v":15},0,null,30,{"$f":"ROUND(OFFSET(ฝนใช้การ!$P$2,$EU$2,$EL34,1,1)*7/$EU34,2)","v":9.3699999999999992},404.78,null,1200.8599999999999,0,0,0,0,0,0,0,0,0,0,0,0,0,0,0,0,0,0,0,0,0,0,0,0,0,0,0,0,{"$f":"ROUND(CY34*$EM34*AI34*1.6,2)","v":0},0,0,0,0,0,0,0,0,0,0,0,0,0,0,0,{"$f":"ROUND(DO34*$EM34*AY34*1.6,2)","v":0},0,0,0,0,0,0,0,0,0,0,0,0,0,0,0,{"$f":"ROUND(EE34*$EM34*BO34*1.6,2)","v":0},0,0,0,1200.8599999999999,1098.4799999999998,1220.5333333333331]
[33,{"$f":"+'input อ้อย'!A41","v":"2018-06-13"},{"$f":"+'input อ้อย'!B41","v":"2018-06-19"},"2018-06-19",{"$f":"OFFSET('input อ้อย'!$B$8,A35,$D$1,1,1)","v":0},27,0,0,0,0,0,0,0,0,0,0,0,0,0,0,0,0,0,0,0,0,0,0,0,0,0,0,0,0,0,0,0,0,0,0,0,0,0,0,0,0,0,0,0,0,0,0,0,0,0,0,0,0,0,0,0,0,0,0,0,0,0,0,0,0,27,33,{"$f":"IF(BT35=0,0,OFFSET(Kc!$A$2,1+BT35,MATCH($BU$1,List_Kc_ALL,0),1,1))","v":0.93},0.93,0.93,0.93,1.2,1.2,1.2,1.2,1.29,1.29,1.29,1.29,1.56,1.56,1.56,1.56,1.56,1.35,1.35,1.35,1.35,1.1299999999999999,1.1299999999999999,1.1299999999999999,1.1299999999999999,0.86,0.86,0.86,0.86,0.86,0.65,0.65,0.65,0.65,0,0,0,0,0,0,0,0,0,0,0,0,0,0,0,0,0,0,0,0,0,0,0,0,0,0,0,0,0,0,0,0,null,null,null,6,{"$f":"OFFSET(ETO!$C$3,$EM$2,$EL35,1,1)*7","v":29.889999999999997},null,{"$f":"OFFSET('input ข้าว'!$B$4,0,$D$1,1,1)","v":7},302.39999999999998,null,{"$f":"IF(OR(EL35=11,EL35=12,EL35<5),OFFSET('input อ้อย'!$B$5,0,$D$1,1,1),OFFSET('input อ้อย'!$B$6,0,$D$1,1,1))","v":15},0,null,30,{"$f":"ROUND(OFFSET(ฝนใช้การ!$P$2,$EU$2,$EL35,1,1)*7/$EU35,2)","v":9.3699999999999992},404.78,null,1200.8599999999999,0,0,0,0,0,0,0,0,0,0,0,0,0,0,{"$f":"ROUND(CK35*$EM35*U35*1.6,2)","v":0},0,0,0,0,0,0,0,0,0,0,0,0,0,0,0,0,0,0,0,0,0,0,0,0,0,0,0,0,0,0,0,0,0,0,0,0,0,0,0,0,0,0,0,0,0,0,0,0,0,1200.8599999999999,1098.4799999999998,1220.5333333333331]
[34,{"$f":"+'input อ้อย'!A42","v":"2018-06-20"},{"$f":"+'input อ้อย'!B42","v":"2018-06-26"},"2018-06-26",{"$f":"OFFSET('input อ้อย'!$B$8,A36,$D$1,1,1)","v":0},27,0,0,0,0,0,0,0,0,0,0,0,0,0,0,0,0,0,0,0,0,0,0,0,0,0,0,0,0,0,0,0,0,0,0,0,0,0,0,0,0,0,0,0,0,0,0,0,0,0,0,0,0,0,0,0,0,0,0,0,0,0,0,0,0,27,34,{"$f":"IF(BT36=0,0,OFFSET(Kc!$A$2,1+BT36,MATCH($BU$1,List_Kc_ALL,0),1,1))","v":0.93},0.93,0.93,0.93,0.93,1.2,1.2,1.2,1.2,1.29,1.29,1.29,1.29,1.56,1.56,1.56,1.56,1.56,1.35,1.35,1.35,1.35,1.1299999999999999,1.1299999999999999,1.1299999999999999,1.1299999999999999,0.86,0.86,0.86,0.86,0.86,0.65,0.65,0.65,0.65,0,0,0,0,0,0,0,0,0,0,0,0,0,0,0,0,0,0,0,0,0,0,0,0,0,0,0,0,0,0,0,null,null,null,6,{"$f":"OFFSET(ETO!$C$3,$EM$2,$EL36,1,1)*7","v":29.889999999999997},null,{"$f":"OFFSET('input ข้าว'!$B$4,0,$D$1,1,1)","v":7},302.39999999999998,null,{"$f":"IF(OR(EL36=11,EL36=12,EL36<5),OFFSET('input อ้อย'!$B$5,0,$D$1,1,1),OFFSET('input อ้อย'!$B$6,0,$D$1,1,1))","v":15},0,null,30,{"$f":"ROUND(OFFSET(ฝนใช้การ!$P$2,$EU$2,$EL36,1,1)*7/$EU36,2)","v":9.3699999999999992},404.78,null,{"$f":"ROUND(BV36*$EM36*F36*1.6,2)","v":1200.8599999999999},0,0,0,0,0,0,0,0,0,0,0,0,0,0,0,0,0,0,0,0,0,0,0,0,0,0,0,0,0,0,0,0,0,0,0,0,0,0,0,0,0,0,0,0,0,0,0,0,0,0,0,0,0,0,0,0,0,0,0,0,0,0,0,0,1200.8599999999999,1098.4799999999998,1220.5333333333331]
[35,{"$f":"+'input อ้อย'!A43","v":"2018-06-27"},{"$f":"+'input อ้อย'!B43","v":"2018-07-03"},"2018-07-03",{"$f":"OFFSET('input อ้อย'!$B$8,A37,$D$1,1,1)","v":0},27,0,0,0,0,0,0,0,0,0,0,0,0,0,0,0,0,0,0,0,0,0,0,0,0,0,0,0,0,0,0,0,0,0,0,0,0,0,0,0,0,0,0,0,0,0,0,{"$f":"IF($A37=BA$2,$E37,IF(BA36=0,0,IF($A37<BA$2+$BT$1,BA36,0)))","v":0},0,0,0,0,0,0,0,0,0,0,0,0,0,0,0,0,0,27,35,{"$f":"IF(BT37=0,0,OFFSET(Kc!$A$2,1+BT37,MATCH($BU$1,List_Kc_ALL,0),1,1))","v":0.93},0.93,0.93,0.93,0.93,0.93,1.2,1.2,1.2,1.2,1.29,1.29,1.29,1.29,1.56,1.56,1.56,1.56,1.56,1.35,1.35,1.35,1.35,1.1299999999999999,1.1299999999999999,1.1299999999999999,1.1299999999999999,0.86,0.86,0.86,0.86,0.86,0.65,0.65,0.65,0.65,0,0,0,0,0,0,0,0,0,0,0,0,0,0,0,0,0,0,0,0,0,0,0,0,0,0,0,0,0,0,null,null,null,7,{"$f":"OFFSET(ETO!$C$3,$EM$2,$EL37,1,1)*7","v":26.88},null,{"$f":"OFFSET('input ข้าว'!$B$4,0,$D$1,1,1)","v":7},302.39999999999998,null,{"$f":"IF(OR(EL37=11,EL37=12,EL37<5),OFFSET('input อ้อย'!$B$5,0,$D$1,1,1),OFFSET('input อ้อย'!$B$6,0,$D$1,1,1))","v":15},0,null,31,{"$f":"ROUND(OFFSET(ฝนใช้การ!$P$2,$EU$2,$EL37,1,1)*7/$EU37,2)","v":16.62},717.98,null,1079.93,0,0,0,0,0,0,0,0,0,0,0,0,0,0,0,0,0,0,0,0,0,0,0,0,0,0,0,0,0,0,0,0,0,0,0,0,0,0,0,0,0,0,0,0,0,0,0,0,0,0,0,0,0,0,0,0,0,0,0,0,0,0,0,0,1079.93,664.34999999999991,738.16666666666652]
[36,{"$f":"+'input อ้อย'!A44","v":"2018-07-04"},{"$f":"+'input อ้อย'!B44","v":"2018-07-10"},"2018-07-10",{"$f":"OFFSET('input อ้อย'!$B$8,A38,$D$1,1,1)","v":0},27,0,0,0,0,0,0,0,0,0,0,0,0,0,0,0,0,0,0,0,0,0,0,0,0,0,0,0,0,0,0,0,{"$f":"IF($A38=AL$2,$E38,IF(AL37=0,0,IF($A38<AL$2+$BT$1,AL37,0)))","v":0},0,0,0,0,0,0,0,0,0,0,0,0,0,0,0,0,0,0,0,0,0,0,0,0,0,0,0,0,0,0,0,0,27,36,{"$f":"IF(BT38=0,0,OFFSET(Kc!$A$2,1+BT38,MATCH($BU$1,List_Kc_ALL,0),1,1))","v":0.63},0.63,0.93,0.93,0.93,0.93,0.93,1.2,1.2,1.2,1.2,1.29,1.29,1.29,1.29,1.56,1.56,1.56,1.56,1.56,1.35,1.35,1.35,1.35,1.1299999999999999,1.1299999999999999,1.1299999999999999,1.1299999999999999,0.86,0.86,0.86,0.86,0.86,0.65,0.65,0.65,0.65,0,0,0,0,0,0,0,0,0,0,0,0,0,0,0,0,0,0,0,0,0,0,0,0,0,0,0,0,0,null,null,null,7,{"$f":"OFFSET(ETO!$C$3,$EM$2,$EL38,1,1)*7","v":26.88},null,{"$f":"OFFSET('input ข้าว'!$B$4,0,$D$1,1,1)","v":7},302.39999999999998,null,{"$f":"IF(OR(EL38=11,EL38=12,EL38<5),OFFSET('input อ้อย'!$B$5,0,$D$1,1,1),OFFSET('input อ้อย'!$B$6,0,$D$1,1,1))","v":15},0,null,31,{"$f":"ROUND(OFFSET(ฝนใช้การ!$P$2,$EU$2,$EL38,1,1)*7/$EU38,2)","v":16.62},717.98,null,731.57,0,0,0,0,0,0,0,0,0,0,0,0,0,0,0,0,0,0,0,0,0,0,0,0,0,0,0,0,0,0,0,0,0,0,0,0,0,0,0,0,0,0,0,0,0,0,0,0,0,0,0,0,0,0,0,0,0,0,0,0,0,0,0,0,731.57,315.99,351.1]
[37,{"$f":"+'input อ้อย'!A45","v":"2018-07-11"},{"$f":"+'input อ้อย'!B45","v":"2018-07-17"},"2018-07-17",{"$f":"OFFSET('input อ้อย'!$B$8,A39,$D$1,1,1)","v":0},27,0,0,0,0,0,0,0,0,0,0,0,0,0,0,0,0,0,0,0,0,0,0,0,0,0,0,0,0,0,0,0,0,0,0,0,0,0,0,0,0,0,0,0,0,0,0,0,0,0,0,0,0,0,0,0,0,0,0,0,0,0,0,0,0,27,37,{"$f":"IF(BT39=0,0,OFFSET(Kc!$A$2,1+BT39,MATCH($BU$1,List_Kc_ALL,0),1,1))","v":0.63},0.63,0.63,0.93,0.93,0.93,0.93,0.93,1.2,1.2,1.2,1.2,1.29,1.29,1.29,1.29,1.56,1.56,1.56,1.56,1.56,1.35,1.35,1.35,1.35,1.1299999999999999,1.1299999999999999,1.1299999999999999,1.1299999999999999,0.86,0.86,0.86,0.86,0.86,0.65,0.65,0.65,0.65,0,0,0,0,0,0,0,0,0,0,0,0,0,0,0,0,0,0,0,0,0,0,0,0,0,0,0,0,null,null,null,7,{"$f":"OFFSET(ETO!$C$3,$EM$2,$EL39,1,1)*7","v":26.88},null,{"$f":"OFFSET('input ข้าว'!$B$4,0,$D$1,1,1)","v":7},302.39999999999998,null,{"$f":"IF(OR(EL39=11,EL39=12,EL39<5),OFFSET('input อ้อย'!$B$5,0,$D$1,1,1),OFFSET('input อ้อย'!$B$6,0,$D$1,1,1))","v":15},0,null,31,{"$f":"ROUND(OFFSET(ฝนใช้การ!$P$2,$EU$2,$EL39,1,1)*7/$EU39,2)","v":16.62},717.98,null,731.57,0,0,0,0,0,0,0,0,0,0,0,0,0,0,0,0,0,0,0,0,0,0,0,0,0,0,0,0,0,0,0,0,0,0,0,0,0,0,0,0,0,0,0,0,0,0,0,0,0,0,0,0,0,0,0,0,0,0,0,0,0,0,0,0,731.57,315.99,351.1]
[38,{"$f":"+'input อ้อย'!A46","v":"2018-07-18"},{"$f":"+'input อ้อย'!B46","v":"2018-07-24"},"2018-07-24",{"$f":"OFFSET('input อ้อย'!$B$8,A40,$D$1,1,1)","v":0},27,0,0,0,0,0,0,0,0,0,0,0,0,0,0,0,0,0,0,0,0,0,0,0,0,0,0,0,0,0,0,0,0,0,0,0,0,0,0,0,0,0,0,0,0,0,0,0,0,0,0,0,0,0,0,0,0,0,0,0,0,0,0,0,0,27,38,{"$f":"IF(BT40=0,0,OFFSET(Kc!$A$2,1+BT40,MATCH($BU$1,List_Kc_ALL,0),1,1))","v":0.63},0.63,0.63,0.63,0.93,0.93,0.93,0.93,0.93,1.2,1.2,1.2,1.2,1.29,1.29,1.29,1.29,1.56,1.56,1.56,1.56,1.56,1.35,1.35,1.35,1.35,1.1299999999999999,1.1299999999999999,1.1299999999999999,1.1299999999999999,0.86,0.86,0.86,0.86,0.86,0.65,0.65,0.65,0.65,0,0,0,0,0,0,0,0,0,0,0,0,0,0,0,0,0,0,0,0,0,0,0,0,0,0,0,null,null,null,7,{"$f":"OFFSET(ETO!$C$3,$EM$2,$EL40,1,1)*7","v":26.88},null,{"$f":"OFFSET('input ข้าว'!$B$4,0,$D$1,1,1)","v":7},302.39999999999998,null,{"$f":"IF(OR(EL40=11,EL40=12,EL40<5),OFFSET('input อ้อย'!$B$5,0,$D$1,1,1),OFFSET('input อ้อย'!$B$6,0,$D$1,1,1))","v":15},0,null,31,{"$f":"ROUND(OFFSET(ฝนใช้การ!$P$2,$EU$2,$EL40,1,1)*7/$EU40,2)","v":16.62},717.98,null,731.57,0,0,0,0,0,0,0,0,0,0,0,0,0,0,0,0,0,0,0,0,0,0,0,0,0,0,0,0,0,0,0,0,0,0,0,0,0,0,0,0,0,0,0,0,0,0,0,0,0,0,0,0,0,0,0,0,0,0,0,0,0,0,0,0,731.57,315.99,351.1]
[39,{"$f":"+'input อ้อย'!A47","v":"2018-07-25"},{"$f":"+'input อ้อย'!B47","v":"2018-07-31"},"2018-07-31",{"$f":"OFFSET('input อ้อย'!$B$8,A41,$D$1,1,1)","v":0},27,0,0,0,0,0,0,0,0,0,0,0,0,0,0,0,0,0,0,0,0,0,0,0,0,0,0,0,0,0,0,0,0,0,0,0,0,0,0,0,0,0,0,0,0,0,0,0,0,0,0,0,0,0,0,0,0,0,0,0,0,0,0,0,0,27,39,{"$f":"IF(BT41=0,0,OFFSET(Kc!$A$2,1+BT41,MATCH($BU$1,List_Kc_ALL,0),1,1))","v":0.63},0.63,0.63,0.63,0.63,0.93,0.93,0.93,0.93,0.93,1.2,1.2,1.2,1.2,1.29,1.29,1.29,1.29,1.56,1.56,1.56,1.56,1.56,1.35,1.35,1.35,1.35,1.1299999999999999,1.1299999999999999,1.1299999999999999,1.1299999999999999,0.86,0.86,0.86,0.86,0.86,0.65,0.65,0.65,0.65,0,0,0,0,0,0,0,0,0,0,0,0,0,0,0,0,0,0,0,0,0,0,0,0,0,0,null,null,null,7,{"$f":"OFFSET(ETO!$C$3,$EM$2,$EL41,1,1)*7","v":26.88},null,{"$f":"OFFSET('input ข้าว'!$B$4,0,$D$1,1,1)","v":7},302.39999999999998,null,{"$f":"IF(OR(EL41=11,EL41=12,EL41<5),OFFSET('input อ้อย'!$B$5,0,$D$1,1,1),OFFSET('input อ้อย'!$B$6,0,$D$1,1,1))","v":15},0,null,31,{"$f":"ROUND(OFFSET(ฝนใช้การ!$P$2,$EU$2,$EL41,1,1)*7/$EU41,2)","v":16.62},717.98,null,731.57,0,0,0,0,0,0,0,0,0,0,0,0,0,0,0,0,0,0,0,0,0,0,0,0,0,0,0,0,0,0,0,0,0,0,0,0,0,0,0,0,0,0,0,0,0,0,0,0,0,0,0,0,0,0,0,0,0,0,0,0,0,0,0,0,731.57,315.99,351.1]
[40,{"$f":"+'input อ้อย'!A48","v":"2018-08-01"},{"$f":"+'input อ้อย'!B48","v":"2018-08-07"},"2018-08-07",{"$f":"OFFSET('input อ้อย'!$B$8,A42,$D$1,1,1)","v":0},27,0,0,0,0,0,0,0,0,0,0,0,0,0,0,0,0,0,0,0,0,0,0,0,0,0,0,0,0,0,0,0,0,0,0,0,0,0,0,0,0,0,0,0,0,0,0,0,0,0,0,0,0,0,0,0,0,0,0,0,0,0,0,0,0,27,40,{"$f":"IF(BT42=0,0,OFFSET(Kc!$A$2,1+BT42,MATCH($BU$1,List_Kc_ALL,0),1,1))","v":0.52},0.52,0.63,0.63,0.63,0.63,0.93,0.93,0.93,0.93,0.93,1.2,1.2,1.2,1.2,1.29,1.29,1.29,1.29,1.56,1.56,1.56,1.56,1.56,1.35,1.35,1.35,1.35,1.1299999999999999,1.1299999999999999,1.1299999999999999,1.1299999999999999,0.86,0.86,0.86,0.86,0.86,0.65,0.65,0.65,0.65,0,0,0,0,0,0,0,0,0,0,0,0,0,0,0,0,0,0,0,0,0,0,0,0,0,null,null,null,8,{"$f":"OFFSET(ETO!$C$3,$EM$2,$EL42,1,1)*7","v":24.290000000000003},null,{"$f":"OFFSET('input ข้าว'!$B$4,0,$D$1,1,1)","v":7},302.39999999999998,null,{"$f":"IF(OR(EL42=11,EL42=12,EL42<5),OFFSET('input อ้อย'!$B$5,0,$D$1,1,1),OFFSET('input อ้อย'!$B$6,0,$D$1,1,1))","v":15},0,null,31,{"$f":"ROUND(OFFSET(ฝนใช้การ!$P$2,$EU$2,$EL42,1,1)*7/$EU42,2)","v":22.02},951.26,null,545.65,0,0,0,0,0,0,0,0,0,0,0,0,0,0,0,0,0,0,0,0,0,0,0,0,0,0,0,0,0,0,0,0,0,0,0,0,0,0,0,0,0,0,0,0,0,0,0,0,0,0,0,0,0,0,0,0,0,0,0,0,0,0,0,0,545.65,0,0]
[41,{"$f":"+'input อ้อย'!A49","v":"2018-08-08"},{"$f":"+'input อ้อย'!B49","v":"2018-08-14"},"2018-08-14",{"$f":"OFFSET('input อ้อย'!$B$8,A43,$D$1,1,1)","v":0},27,0,0,0,0,0,0,0,0,0,0,0,0,0,0,0,0,0,0,0,0,0,0,0,0,0,0,0,0,0,0,0,0,0,0,0,0,0,0,0,0,0,0,0,0,0,0,0,0,0,0,0,0,0,0,0,0,0,0,0,0,0,0,0,0,27,41,{"$f":"IF(BT43=0,0,OFFSET(Kc!$A$2,1+BT43,MATCH($BU$1,List_Kc_ALL,0),1,1))","v":0.52},0.52,0.52,0.63,0.63,0.63,0.63,0.93,0.93,0.93,0.93,0.93,1.2,1.2,1.2,1.2,1.29,1.29,1.29,1.29,1.56,1.56,1.56,1.56,1.56,1.35,1.35,1.35,1.35,1.1299999999999999,1.1299999999999999,1.1299999999999999,1.1299999999999999,0.86,0.86,0.86,0.86,0.86,0.65,0.65,0.65,0.65,0,0,0,0,0,0,0,0,0,0,0,0,0,0,0,0,0,0,0,0,0,0,0,0,null,null,null,8,{"$f":"OFFSET(ETO!$C$3,$EM$2,$EL43,1,1)*7","v":24.290000000000003},null,{"$f":"OFFSET('input ข้าว'!$B$4,0,$D$1,1,1)","v":7},302.39999999999998,null,{"$f":"IF(OR(EL43=11,EL43=12,EL43<5),OFFSET('input อ้อย'!$B$5,0,$D$1,1,1),OFFSET('input อ้อย'!$B$6,0,$D$1,1,1))","v":15},0,null,31,{"$f":"ROUND(OFFSET(ฝนใช้การ!$P$2,$EU$2,$EL43,1,1)*7/$EU43,2)","v":22.02},951.26,null,545.65,0,0,0,0,0,0,0,0,0,0,0,0,0,0,0,0,0,0,0,0,0,0,0,0,0,0,0,0,0,0,0,0,0,0,0,0,0,0,0,0,0,0,0,0,0,0,0,0,0,0,0,0,0,0,0,0,0,0,0,0,0,0,0,0,545.65,0,0]
[42,{"$f":"+'input อ้อย'!A50","v":"2018-08-15"},{"$f":"+'input อ้อย'!B50","v":"2018-08-21"},"2018-08-21",{"$f":"OFFSET('input อ้อย'!$B$8,A44,$D$1,1,1)","v":0},27,0,0,0,0,0,0,0,0,0,0,0,0,0,0,{"$f":"IF($A44=U$2,$E44,IF(U43=0,0,IF($A44<U$2+$BT$1,U43,0)))","v":0},0,0,0,0,0,0,0,0,0,0,0,0,0,0,0,0,0,0,0,0,0,0,0,0,0,0,0,0,0,0,0,0,0,0,0,0,0,0,0,0,0,0,0,0,0,0,0,0,0,27,42,{"$f":"IF(BT44=0,0,OFFSET(Kc!$A$2,1+BT44,MATCH($BU$1,List_Kc_ALL,0),1,1))","v":0.52},0.52,0.52,0.52,0.63,0.63,0.63,0.63,0.93,0.93,0.93,0.93,0.93,1.2,1.2,1.2,1.2,1.29,1.29,1.29,1.29,1.56,1.56,1.56,1.56,1.56,1.35,1.35,1.35,1.35,1.1299999999999999,1.1299999999999999,1.1299999999999999,1.1299999999999999,0.86,0.86,0.86,0.86,0.86,0.65,0.65,0.65,0.65,0,0,0,0,0,0,0,0,0,0,0,0,0,0,0,0,0,0,0,0,0,0,0,null,null,null,8,{"$f":"OFFSET(ETO!$C$3,$EM$2,$EL44,1,1)*7","v":24.290000000000003},null,{"$f":"OFFSET('input ข้าว'!$B$4,0,$D$1,1,1)","v":7},302.39999999999998,null,{"$f":"IF(OR(EL44=11,EL44=12,EL44<5),OFFSET('input อ้อย'!$B$5,0,$D$1,1,1),OFFSET('input อ้อย'!$B$6,0,$D$1,1,1))","v":15},0,null,31,{"$f":"ROUND(OFFSET(ฝนใช้การ!$P$2,$EU$2,$EL44,1,1)*7/$EU44,2)","v":22.02},951.26,null,545.65,0,0,0,0,0,0,0,0,0,0,0,0,0,0,0,0,0,0,0,0,0,0,0,0,0,0,0,0,0,0,0,0,0,0,0,0,0,0,0,0,0,0,0,0,0,0,0,0,0,0,0,0,0,0,0,0,0,0,0,0,0,0,0,0,545.65,0,0]
[43,{"$f":"+'input อ้อย'!A51","v":"2018-08-22"},{"$f":"+'input อ้อย'!B51","v":"2018-08-28"},"2018-08-28",{"$f":"OFFSET('input อ้อย'!$B$8,A45,$D$1,1,1)","v":0},{"$f":"IF($A45=F$2,$E45,IF(F44=0,0,IF($A45<F$2+$BT$1,F44,0)))","v":27},0,0,0,0,0,0,0,0,0,0,0,0,0,0,0,0,0,0,0,0,0,0,0,0,0,0,0,0,0,0,0,0,0,0,0,0,0,0,0,0,0,0,0,0,0,0,0,0,0,0,0,0,0,0,0,0,0,0,0,0,0,0,0,0,27,43,{"$f":"IF(BT45=0,0,OFFSET(Kc!$A$2,1+BT45,MATCH($BU$1,List_Kc_ALL,0),1,1))","v":0.52},0.52,0.52,0.52,0.52,0.63,0.63,0.63,0.63,0.93,0.93,0.93,0.93,0.93,1.2,1.2,1.2,1.2,1.29,1.29,1.29,1.29,1.56,1.56,1.56,1.56,1.56,1.35,1.35,1.35,1.35,1.1299999999999999,1.1299999999999999,1.1299999999999999,1.1299999999999999,0.86,0.86,0.86,0.86,0.86,0.65,0.65,0.65,0.65,0,0,0,0,0,0,0,0,0,0,0,0,0,0,0,0,0,0,0,0,0,0,null,null,null,8,{"$f":"OFFSET(ETO!$C$3,$EM$2,$EL45,1,1)*7","v":24.290000000000003},null,{"$f":"OFFSET('input ข้าว'!$B$4,0,$D$1,1,1)","v":7},302.39999999999998,null,{"$f":"IF(OR(EL45=11,EL45=12,EL45<5),OFFSET('input อ้อย'!$B$5,0,$D$1,1,1),OFFSET('input อ้อย'!$B$6,0,$D$1,1,1))","v":15},0,null,31,{"$f":"ROUND(OFFSET(ฝนใช้การ!$P$2,$EU$2,$EL45,1,1)*7/$EU45,2)","v":22.02},951.26,null,545.65,0,0,0,0,0,0,0,0,0,0,0,0,0,0,0,0,0,0,0,0,0,0,0,0,0,0,0,0,0,0,0,0,0,0,0,0,0,0,0,0,0,0,0,0,0,0,0,0,0,0,0,0,0,0,0,0,0,0,0,0,0,0,0,0,545.65,0,0]
[44,{"$f":"+'input อ้อย'!A52","v":"2018-08-29"},{"$f":"+'input อ้อย'!B52","v":"2018-09-04"},"2018-09-04",{"$f":"OFFSET('input อ้อย'!$B$8,A46,$D$1,1,1)","v":0},27,0,0,0,0,0,0,0,0,0,0,0,0,0,0,0,0,0,0,0,0,0,0,0,0,0,0,0,0,0,0,0,0,0,0,0,0,0,0,0,0,0,0,0,0,0,0,0,0,0,0,0,0,0,0,0,0,0,0,0,0,0,0,0,0,27,44,{"$f":"IF(BT46=0,0,OFFSET(Kc!$A$2,1+BT46,MATCH($BU$1,List_Kc_ALL,0),1,1))","v":0.5},0.5,0.52,0.52,0.52,0.52,0.63,0.63,0.63,0.63,0.93,0.93,0.93,0.93,0.93,1.2,1.2,1.2,1.2,1.29,1.29,1.29,1.29,1.56,1.56,1.56,1.56,1.56,1.35,1.35,1.35,1.35,1.1299999999999999,1.1299999999999999,1.1299999999999999,1.1299999999999999,0.86,0.86,0.86,0.86,0.86,0.65,0.65,0.65,0.65,0,0,0,0,0,0,0,0,0,0,0,0,0,0,0,0,0,0,0,0,0,null,null,null,9,{"$f":"OFFSET(ETO!$C$3,$EM$2,$EL46,1,1)*7","v":23.939999999999998},null,{"$f":"OFFSET('input ข้าว'!$B$4,0,$D$1,1,1)","v":7},302.39999999999998,null,{"$f":"IF(OR(EL46=11,EL46=12,EL46<5),OFFSET('input อ้อย'!$B$5,0,$D$1,1,1),OFFSET('input อ้อย'!$B$6,0,$D$1,1,1))","v":15},0,null,30,{"$f":"ROUND(OFFSET(ฝนใช้การ!$P$2,$EU$2,$EL46,1,1)*7/$EU46,2)","v":29.8},1287.3599999999999,null,517.1,0,0,0,0,0,0,0,0,0,0,0,0,0,0,0,0,0,0,0,0,0,0,0,0,0,0,0,0,0,0,0,0,0,0,0,0,0,0,0,0,0,0,0,0,0,0,0,0,0,0,0,0,0,0,0,0,0,0,0,0,0,0,0,0,517.1,0,0]
[45,{"$f":"+'input อ้อย'!A53","v":"2018-09-05"},{"$f":"+'input อ้อย'!B53","v":"2018-09-11"},"2018-09-11",{"$f":"OFFSET('input อ้อย'!$B$8,A47,$D$1,1,1)","v":0},27,0,0,0,0,0,0,0,0,0,0,0,0,0,0,0,0,0,0,0,0,0,0,0,0,0,0,0,0,0,0,0,0,0,0,0,0,0,0,0,0,0,0,0,0,0,0,0,0,0,0,0,0,0,0,0,0,0,0,0,0,0,0,0,0,27,45,{"$f":"IF(BT47=0,0,OFFSET(Kc!$A$2,1+BT47,MATCH($BU$1,List_Kc_ALL,0),1,1))","v":0.5},0.5,0.5,0.52,0.52,0.52,0.52,0.63,0.63,0.63,0.63,0.93,0.93,0.93,0.93,0.93,1.2,1.2,1.2,1.2,1.29,1.29,1.29,1.29,1.56,1.56,1.56,1.56,1.56,1.35,1.35,1.35,1.35,1.1299999999999999,1.1299999999999999,1.1299999999999999,1.1299999999999999,0.86,0.86,0.86,0.86,0.86,0.65,0.65,0.65,0.65,0,0,0,0,0,0,0,0,0,0,0,0,0,0,0,0,0,0,0,0,null,null,null,9,{"$f":"OFFSET(ETO!$C$3,$EM$2,$EL47,1,1)*7","v":23.939999999999998},null,{"$f":"OFFSET('input ข้าว'!$B$4,0,$D$1,1,1)","v":7},302.39999999999998,null,{"$f":"IF(OR(EL47=11,EL47=12,EL47<5),OFFSET('input อ้อย'!$B$5,0,$D$1,1,1),OFFSET('input อ้อย'!$B$6,0,$D$1,1,1))","v":15},0,null,30,{"$f":"ROUND(OFFSET(ฝนใช้การ!$P$2,$EU$2,$EL47,1,1)*7/$EU47,2)","v":29.8},1287.3599999999999,null,517.1,0,0,0,0,0,0,0,0,0,0,0,0,0,0,0,0,0,0,0,0,0,0,0,0,0,0,0,0,0,0,0,0,0,0,0,0,0,0,0,0,0,0,0,0,0,0,0,0,0,0,0,0,0,0,0,0,0,0,0,0,0,0,0,0,517.1,0,0]
[46,{"$f":"+'input อ้อย'!A54","v":"2018-09-12"},{"$f":"+'input อ้อย'!B54","v":"2018-09-18"},"2018-09-18",{"$f":"OFFSET('input อ้อย'!$B$8,A48,$D$1,1,1)","v":0},27,0,0,0,0,0,0,0,0,0,0,0,0,0,0,0,0,0,0,0,0,0,0,0,0,0,0,0,0,0,0,{"$f":"IF($A48=AK$2,$E48,IF(AK47=0,0,IF($A48<AK$2+$BT$1,AK47,0)))","v":0},0,0,0,0,0,0,0,0,0,0,0,0,0,0,0,0,0,0,0,0,0,0,0,0,0,0,0,0,0,0,0,0,0,27,46,{"$f":"IF(BT48=0,0,OFFSET(Kc!$A$2,1+BT48,MATCH($BU$1,List_Kc_ALL,0),1,1))","v":0.5},0.5,0.5,0.5,0.52,0.52,0.52,0.52,0.63,0.63,0.63,0.63,0.93,0.93,0.93,0.93,0.93,1.2,1.2,1.2,1.2,1.29,1.29,1.29,1.29,1.56,1.56,1.56,1.56,1.56,1.35,1.35,1.35,1.35,1.1299999999999999,1.1299999999999999,1.1299999999999999,1.1299999999999999,0.86,0.86,0.86,0.86,0.86,0.65,0.65,0.65,0.65,0,0,0,0,0,0,0,0,0,0,0,0,0,0,0,0,0,0,0,null,null,null,9,{"$f":"OFFSET(ETO!$C$3,$EM$2,$EL48,1,1)*7","v":23.939999999999998},null,{"$f":"OFFSET('input ข้าว'!$B$4,0,$D$1,1,1)","v":7},302.39999999999998,null,{"$f":"IF(OR(EL48=11,EL48=12,EL48<5),OFFSET('input อ้อย'!$B$5,0,$D$1,1,1),OFFSET('input อ้อย'!$B$6,0,$D$1,1,1))","v":15},0,null,30,{"$f":"ROUND(OFFSET(ฝนใช้การ!$P$2,$EU$2,$EL48,1,1)*7/$EU48,2)","v":29.8},1287.3599999999999,null,517.1,0,0,0,0,0,0,0,0,0,0,0,0,0,0,0,0,0,0,0,0,0,0,0,0,0,0,0,0,0,0,0,0,0,0,0,0,0,0,0,0,0,0,0,0,0,0,0,0,0,0,0,0,0,0,0,0,0,0,0,0,0,0,0,0,517.1,0,0]
[47,{"$f":"+'input อ้อย'!A55","v":"2018-09-19"},{"$f":"+'input อ้อย'!B55","v":"2018-09-25"},"2018-09-25",{"$f":"OFFSET('input อ้อย'!$B$8,A49,$D$1,1,1)","v":0},27,0,0,0,0,0,0,0,0,0,0,0,0,0,0,0,0,0,0,0,0,0,0,0,0,0,0,0,0,0,0,0,0,0,0,0,0,0,0,0,0,0,0,0,0,0,0,0,0,0,0,0,0,0,0,0,0,0,0,0,0,0,0,0,0,27,47,{"$f":"IF(BT49=0,0,OFFSET(Kc!$A$2,1+BT49,MATCH($BU$1,List_Kc_ALL,0),1,1))","v":0.5},0.5,0.5,0.5,0.5,0.52,0.52,0.52,0.52,0.63,0.63,0.63,0.63,0.93,0.93,0.93,0.93,0.93,1.2,1.2,1.2,1.2,1.29,1.29,1.29,1.29,1.56,1.56,1.56,1.56,1.56,1.35,1.35,1.35,1.35,1.1299999999999999,1.1299999999999999,1.1299999999999999,1.1299999999999999,0.86,0.86,0.86,0.86,0.86,0.65,0.65,0.65,0.65,0,0,0,0,0,0,0,0,0,0,0,0,0,0,0,0,0,0,null,null,null,9,{"$f":"OFFSET(ETO!$C$3,$EM$2,$EL49,1,1)*7","v":23.939999999999998},null,{"$f":"OFFSET('input ข้าว'!$B$4,0,$D$1,1,1)","v":7},302.39999999999998,null,{"$f":"IF(OR(EL49=11,EL49=12,EL49<5),OFFSET('input อ้อย'!$B$5,0,$D$1,1,1),OFFSET('input อ้อย'!$B$6,0,$D$1,1,1))","v":15},0,null,30,{"$f":"ROUND(OFFSET(ฝนใช้การ!$P$2,$EU$2,$EL49,1,1)*7/$EU49,2)","v":29.8},1287.3599999999999,null,517.1,0,0,0,0,0,0,0,0,0,0,0,0,0,0,0,0,0,0,0,0,0,0,0,0,0,0,0,0,0,0,0,0,0,0,0,0,0,0,0,0,0,0,0,0,0,0,0,0,0,0,0,0,0,0,0,0,0,0,0,0,0,0,0,0,517.1,0,0]
[48,{"$f":"+'input อ้อย'!A56","v":"2018-09-26"},{"$f":"+'input อ้อย'!B56","v":"2018-10-02"},"2018-10-02",{"$f":"OFFSET('input อ้อย'!$B$8,A50,$D$1,1,1)","v":0},27,0,0,0,0,0,0,0,0,0,0,0,0,0,0,0,0,0,0,0,0,0,0,0,0,0,0,0,0,0,0,0,0,0,0,0,0,0,0,0,0,0,0,0,0,0,0,0,0,0,0,0,0,0,0,0,0,0,0,0,0,0,0,0,0,27,48,{"$f":"IF(BT50=0,0,OFFSET(Kc!$A$2,1+BT50,MATCH($BU$1,List_Kc_ALL,0),1,1))","v":0.5},0.5,0.5,0.5,0.5,0.5,0.52,0.52,0.52,0.52,0.63,0.63,0.63,0.63,0.93,0.93,0.93,0.93,0.93,1.2,1.2,1.2,1.2,1.29,1.29,1.29,1.29,1.56,1.56,1.56,1.56,1.56,1.35,1.35,1.35,1.35,1.1299999999999999,1.1299999999999999,1.1299999999999999,1.1299999999999999,0.86,0.86,0.86,0.86,0.86,0.65,0.65,0.65,0.65,0,0,0,0,0,0,0,0,0,0,0,0,0,0,0,0,0,null,null,null,10,{"$f":"OFFSET(ETO!$C$3,$EM$2,$EL50,1,1)*7","v":22.82},null,{"$f":"OFFSET('input ข้าว'!$B$4,0,$D$1,1,1)","v":7},302.39999999999998,null,{"$f":"IF(OR(EL50=11,EL50=12,EL50<5),OFFSET('input อ้อย'!$B$5,0,$D$1,1,1),OFFSET('input อ้อย'!$B$6,0,$D$1,1,1))","v":15},0,null,31,{"$f":"ROUND(OFFSET(ฝนใช้การ!$P$2,$EU$2,$EL50,1,1)*7/$EU50,2)","v":16.55},714.96,null,492.91,0,0,0,0,0,0,0,0,0,0,0,0,0,0,0,0,0,0,0,0,0,0,0,0,0,0,0,0,0,0,0,0,0,0,0,0,0,0,0,0,0,{"$f":"ROUND(DL50*$EM50*AV50*1.6,2)","v":0},0,0,0,0,0,0,0,0,0,0,0,0,0,0,0,{"$f":"ROUND(EB50*$EM50*BL50*1.6,2)","v":0},0,0,0,0,0,0,492.91,80.349999999999909,89.277777777777672]
[49,{"$f":"+'input อ้อย'!A57","v":"2018-10-03"},{"$f":"+'input อ้อย'!B57","v":"2018-10-09"},"2018-10-09",{"$f":"OFFSET('input อ้อย'!$B$8,A51,$D$1,1,1)","v":0},27,0,0,0,0,0,0,0,0,0,0,0,0,0,0,0,0,0,0,0,0,0,0,0,0,0,0,0,0,0,0,0,0,0,0,0,0,0,0,0,0,0,0,0,0,0,0,0,0,0,0,0,0,0,0,0,0,0,0,0,0,0,0,0,0,27,49,{"$f":"IF(BT51=0,0,OFFSET(Kc!$A$2,1+BT51,MATCH($BU$1,List_Kc_ALL,0),1,1))","v":0.49},0.49,0.5,0.5,0.5,0.5,0.5,0.52,0.52,0.52,0.52,0.63,0.63,0.63,0.63,0.93,0.93,0.93,0.93,0.93,1.2,1.2,1.2,1.2,1.29,1.29,1.29,1.29,1.56,1.56,1.56,1.56,1.56,1.35,1.35,1.35,1.35,1.1299999999999999,1.1299999999999999,1.1299999999999999,1.1299999999999999,0.86,0.86,0.86,0.86,0.86,0.65,0.65,0.65,0.65,0,0,0,0,0,0,0,0,0,0,0,0,0,0,0,0,null,null,null,10,{"$f":"OFFSET(ETO!$C$3,$EM$2,$EL51,1,1)*7","v":22.82},null,{"$f":"OFFSET('input ข้าว'!$B$4,0,$D$1,1,1)","v":7},302.39999999999998,null,{"$f":"IF(OR(EL51=11,EL51=12,EL51<5),OFFSET('input อ้อย'!$B$5,0,$D$1,1,1),OFFSET('input อ้อย'!$B$6,0,$D$1,1,1))","v":15},0,null,31,{"$f":"ROUND(OFFSET(ฝนใช้การ!$P$2,$EU$2,$EL51,1,1)*7/$EU51,2)","v":16.55},714.96,null,483.05,0,0,0,0,0,0,0,0,0,0,0,0,0,0,0,0,0,0,0,0,0,0,0,0,0,0,0,0,0,0,{"$f":"ROUND(DA51*$EM51*AK51*1.6,2)","v":0},0,0,0,0,0,0,0,0,0,0,0,0,0,0,0,0,0,0,0,0,0,0,0,0,0,0,0,0,0,0,0,0,0,483.05,70.490000000000009,78.322222222222237]
[50,{"$f":"+'input อ้อย'!A58","v":"2018-10-10"},{"$f":"+'input อ้อย'!B58","v":"2018-10-16"},"2018-10-16",{"$f":"OFFSET('input อ้อย'!$B$8,A52,$D$1,1,1)","v":0},27,0,0,0,0,0,0,0,0,0,0,0,0,0,0,0,0,0,0,0,0,0,0,0,0,0,0,0,0,0,0,0,0,0,0,0,0,0,0,0,0,0,0,0,0,0,0,0,0,0,0,0,0,0,0,0,0,0,0,0,0,0,{"$f":"IF($A52=BP$2,$E52,IF(BP51=0,0,IF($A52<BP$2+$BT$1,BP51,0)))","v":0},0,0,27,50,{"$f":"IF(BT52=0,0,OFFSET(Kc!$A$2,1+BT52,MATCH($BU$1,List_Kc_ALL,0),1,1))","v":0.49},0.49,0.49,0.5,0.5,0.5,0.5,0.5,0.52,0.52,0.52,0.52,0.63,0.63,0.63,0.63,0.93,0.93,0.93,0.93,0.93,1.2,1.2,1.2,1.2,1.29,1.29,1.29,1.29,1.56,1.56,1.56,1.56,1.56,1.35,1.35,1.35,1.35,1.1299999999999999,1.1299999999999999,1.1299999999999999,1.1299999999999999,0.86,0.86,0.86,0.86,0.86,0.65,0.65,0.65,0.65,0,0,0,0,0,0,0,0,0,0,0,0,0,0,0,null,null,null,10,{"$f":"OFFSET(ETO!$C$3,$EM$2,$EL52,1,1)*7","v":22.82},null,{"$f":"OFFSET('input ข้าว'!$B$4,0,$D$1,1,1)","v":7},302.39999999999998,null,{"$f":"IF(OR(EL52=11,EL52=12,EL52<5),OFFSET('input อ้อย'!$B$5,0,$D$1,1,1),OFFSET('input อ้อย'!$B$6,0,$D$1,1,1))","v":15},0,null,31,{"$f":"ROUND(OFFSET(ฝนใช้การ!$P$2,$EU$2,$EL52,1,1)*7/$EU52,2)","v":16.55},714.96,null,483.05,0,0,0,0,0,0,0,0,0,0,0,0,0,0,0,0,0,0,0,0,0,0,0,0,0,0,0,0,0,{"$f":"ROUND(CZ52*$EM52*AJ52*1.6,2)","v":0},0,0,0,0,0,0,0,0,0,0,0,0,0,0,0,0,0,0,0,0,0,0,0,0,0,0,0,0,0,0,0,0,0,0,483.05,70.490000000000009,78.322222222222237]
[51,{"$f":"+'input อ้อย'!A59","v":"2018-10-17"},{"$f":"+'input อ้อย'!B59","v":"2018-10-23"},"2018-10-23",{"$f":"OFFSET('input อ้อย'!$B$8,A53,$D$1,1,1)","v":0},27,0,0,0,0,0,0,0,0,0,0,0,0,0,0,0,0,0,0,0,0,0,0,0,0,0,0,0,0,0,0,0,0,0,0,0,0,0,0,0,0,0,0,0,0,0,0,0,{"$f":"IF($A53=BB$2,$E53,IF(BB52=0,0,IF($A53<BB$2+$BT$1,BB52,0)))","v":0},0,0,0,0,0,0,0,0,0,0,0,0,0,0,0,0,27,51,{"$f":"IF(BT53=0,0,OFFSET(Kc!$A$2,1+BT53,MATCH($BU$1,List_Kc_ALL,0),1,1))","v":0.49},0.49,0.49,0.49,0.5,0.5,0.5,0.5,0.5,0.52,0.52,0.52,0.52,0.63,0.63,0.63,0.63,0.93,0.93,0.93,0.93,0.93,1.2,1.2,1.2,1.2,1.29,1.29,1.29,1.29,1.56,1.56,1.56,1.56,1.56,1.35,1.35,1.35,1.35,1.1299999999999999,1.1299999999999999,1.1299999999999999,1.1299999999999999,0.86,0.86,0.86,0.86,0.86,0.65,0.65,0.65,0.65,0,0,0,0,0,0,0,0,0,0,0,0,0,0,null,null,null,10,{"$f":"OFFSET(ETO!$C$3,$EM$2,$EL53,1,1)*7","v":22.82},null,{"$f":"OFFSET('input ข้าว'!$B$4,0,$D$1,1,1)","v":7},302.39999999999998,null,{"$f":"IF(OR(EL53=11,EL53=12,EL53<5),OFFSET('input อ้อย'!$B$5,0,$D$1,1,1),OFFSET('input อ้อย'!$B$6,0,$D$1,1,1))","v":15},0,null,31,{"$f":"ROUND(OFFSET(ฝนใช้การ!$P$2,$EU$2,$EL53,1,1)*7/$EU53,2)","v":16.55},714.96,null,{"$f":"ROUND(BV53*$EM53*F53*1.6,2)","v":483.05},0,0,0,0,0,0,0,0,0,0,0,0,0,0,0,{"$f":"ROUND(CL53*$EM53*V53*1.6,2)","v":0},0,0,0,0,0,0,0,0,0,0,0,0,0,0,0,0,0,0,0,0,0,0,0,0,0,0,0,0,0,0,0,0,0,0,0,0,0,0,0,0,0,0,0,0,0,0,0,0,483.05,70.490000000000009,78.322222222222237]
[52,{"$f":"+'input อ้อย'!A60","v":"2018-10-24"},{"$f":"+'input อ้อย'!B60","v":"2018-10-30"},"2018-10-30",{"$f":"OFFSET('input อ้อย'!$B$8,A54,$D$1,1,1)","v":0},27,0,0,0,0,0,0,0,0,0,0,0,0,0,0,0,0,0,0,0,0,0,0,0,0,0,0,0,0,0,0,0,0,0,0,0,0,0,0,0,0,0,0,0,0,0,0,{"$f":"IF($A54=BA$2,$E54,IF(BA53=0,0,IF($A54<BA$2+$BT$1,BA53,0)))","v":0},0,0,0,0,0,0,0,0,0,0,0,0,0,0,0,0,0,27,52,{"$f":"IF(BT54=0,0,OFFSET(Kc!$A$2,1+BT54,MATCH($BU$1,List_Kc_ALL,0),1,1))","v":0.49},0.49,0.49,0.49,0.49,0.5,0.5,0.5,0.5,0.5,0.52,0.52,0.52,0.52,0.63,0.63,0.63,0.63,0.93,0.93,0.93,0.93,0.93,1.2,1.2,1.2,1.2,1.29,1.29,1.29,1.29,1.56,1.56,1.56,1.56,1.56,1.35,1.35,1.35,1.35,1.1299999999999999,1.1299999999999999,1.1299999999999999,1.1299999999999999,0.86,0.86,0.86,0.86,0.86,0.65,0.65,0.65,0.65,0,0,0,0,0,0,0,0,0,0,0,0,0,null,null,null,10,{"$f":"OFFSET(ETO!$C$3,$EM$2,$EL54,1,1)*7","v":22.82},null,{"$f":"OFFSET('input ข้าว'!$B$4,0,$D$1,1,1)","v":7},302.39999999999998,null,{"$f":"IF(OR(EL54=11,EL54=12,EL54<5),OFFSET('input อ้อย'!$B$5,0,$D$1,1,1),OFFSET('input อ้อย'!$B$6,0,$D$1,1,1))","v":15},0,null,31,{"$f":"ROUND(OFFSET(ฝนใช้การ!$P$2,$EU$2,$EL54,1,1)*7/$EU54,2)","v":16.55},714.96,null,483.05,0,0,0,0,0,0,0,0,0,0,0,0,0,0,0,0,0,0,0,0,0,0,0,0,0,0,0,0,0,0,0,0,0,0,0,0,0,0,0,0,0,0,0,0,0,0,0,0,0,0,0,0,0,0,0,0,0,0,0,0,0,0,0,0,483.05,70.490000000000009,78.322222222222237]
[53,{"$f":"+B54+7","v":"2018-10-31"},{"$f":"+C54+7","v":"2018-11-06"},"2018-11-06",{"$f":"OFFSET('input อ้อย'!$B$8,A55,$D$1,1,1)","v":0},0,0,0,0,0,0,0,0,0,0,0,0,0,0,0,0,0,0,0,0,0,0,0,0,0,0,0,0,0,0,0,0,0,0,0,0,0,0,0,0,0,0,0,0,0,0,0,0,0,0,0,0,0,0,0,0,0,0,0,0,0,0,0,0,0,0,0,{"$f":"IF(BT55=0,0,OFFSET(Kc!$A$2,1+BT55,MATCH($BU$1,List_Kc_ALL,0),1,1))","v":0},0,0.49,0.49,0.49,0.49,0.5,0.5,0.5,0.5,0.5,0.52,0.52,0.52,0.52,0.63,0.63,0.63,0.63,0.93,0.93,0.93,0.93,0.93,1.2,1.2,1.2,1.2,1.29,1.29,1.29,1.29,1.56,1.56,1.56,1.56,1.56,1.35,1.35,1.35,1.35,1.1299999999999999,1.1299999999999999,1.1299999999999999,1.1299999999999999,0.86,0.86,0.86,0.86,0.86,0.65,0.65,0.65,0.65,0,0,0,0,0,0,0,0,0,0,0,0,null,null,null,11,{"$f":"OFFSET(ETO!$C$3,$EM$2,$EL55,1,1)*7","v":23.17},null,{"$f":"OFFSET('input ข้าว'!$B$4,0,$D$1,1,1)","v":7},0,null,{"$f":"IF(OR(EL55=11,EL55=12,EL55<5),OFFSET('input อ้อย'!$B$5,0,$D$1,1,1),OFFSET('input อ้อย'!$B$6,0,$D$1,1,1))","v":30},0,null,30,{"$f":"ROUND(OFFSET(ฝนใช้การ!$P$2,$EU$2,$EL55,1,1)*7/$EU55,2)","v":5.04},0,null,0,0,0,0,0,0,0,0,0,0,0,0,0,0,0,0,0,0,0,0,0,0,0,0,0,0,0,0,0,0,0,0,0,0,0,0,0,0,0,0,0,0,0,0,0,0,0,0,0,0,0,0,0,0,0,0,0,0,0,0,0,0,0,0,0,0,0,0]
[54,{"$f":"+B55+7","v":"2018-11-07"},{"$f":"+C55+7","v":"2018-11-13"},"2018-11-13",{"$f":"OFFSET('input อ้อย'!$B$8,A56,$D$1,1,1)","v":0},0,0,0,0,0,0,0,0,0,0,0,0,0,0,0,0,0,0,0,0,0,0,0,0,0,0,0,0,0,0,0,0,0,0,0,0,0,0,0,0,0,0,0,0,0,0,0,0,0,0,0,0,0,0,0,0,0,0,0,0,0,0,0,0,0,0,0,{"$f":"IF(BT56=0,0,OFFSET(Kc!$A$2,1+BT56,MATCH($BU$1,List_Kc_ALL,0),1,1))","v":0},0,0,0.49,0.49,0.49,0.49,0.5,0.5,0.5,0.5,0.5,0.52,0.52,0.52,0.52,0.63,0.63,0.63,0.63,0.93,0.93,0.93,0.93,0.93,1.2,1.2,1.2,1.2,1.29,1.29,1.29,1.29,1.56,1.56,1.56,1.56,1.56,1.35,1.35,1.35,1.35,1.1299999999999999,1.1299999999999999,1.1299999999999999,1.1299999999999999,0.86,0.86,0.86,0.86,0.86,0.65,0.65,0.65,0.65,0,0,0,0,0,0,0,0,0,0,0,null,null,null,11,{"$f":"OFFSET(ETO!$C$3,$EM$2,$EL56,1,1)*7","v":23.17},null,{"$f":"OFFSET('input ข้าว'!$B$4,0,$D$1,1,1)","v":7},0,null,{"$f":"IF(OR(EL56=11,EL56=12,EL56<5),OFFSET('input อ้อย'!$B$5,0,$D$1,1,1),OFFSET('input อ้อย'!$B$6,0,$D$1,1,1))","v":30},0,null,30,{"$f":"ROUND(OFFSET(ฝนใช้การ!$P$2,$EU$2,$EL56,1,1)*7/$EU56,2)","v":5.04},0,null,0,0,0,0,0,0,0,0,0,0,0,0,0,0,0,0,0,0,0,0,0,0,0,0,0,0,0,0,0,0,0,0,0,0,0,0,0,0,0,0,0,0,0,0,0,0,0,0,0,0,0,0,0,0,0,0,0,0,0,0,0,0,0,0,0,0,0,0]
[55,"2018-11-14","2018-11-20","2018-11-20",{"$f":"OFFSET('input อ้อย'!$B$8,A57,$D$1,1,1)","v":0},0,0,0,0,0,0,0,0,0,0,0,0,0,0,0,0,0,0,0,0,0,0,0,0,0,0,0,0,0,0,0,0,0,0,0,0,0,0,0,0,0,0,0,0,0,0,0,0,0,0,0,0,0,0,0,0,0,0,0,0,0,0,0,0,0,0,0,{"$f":"IF(BT57=0,0,OFFSET(Kc!$A$2,1+BT57,MATCH($BU$1,List_Kc_ALL,0),1,1))","v":0},0,0,0,0.49,0.49,0.49,0.49,0.5,0.5,0.5,0.5,0.5,0.52,0.52,0.52,0.52,0.63,0.63,0.63,0.63,0.93,0.93,0.93,0.93,0.93,1.2,1.2,1.2,1.2,1.29,1.29,1.29,1.29,1.56,1.56,1.56,1.56,1.56,1.35,1.35,1.35,1.35,1.1299999999999999,1.1299999999999999,1.1299999999999999,1.1299999999999999,0.86,0.86,0.86,0.86,0.86,0.65,0.65,0.65,0.65,0,0,0,0,0,0,0,0,0,0,null,null,null,11,{"$f":"OFFSET(ETO!$C$3,$EM$2,$EL57,1,1)*7","v":23.17},null,{"$f":"OFFSET('input ข้าว'!$B$4,0,$D$1,1,1)","v":7},0,null,{"$f":"IF(OR(EL57=11,EL57=12,EL57<5),OFFSET('input อ้อย'!$B$5,0,$D$1,1,1),OFFSET('input อ้อย'!$B$6,0,$D$1,1,1))","v":30},0,null,30,{"$f":"ROUND(OFFSET(ฝนใช้การ!$P$2,$EU$2,$EL57,1,1)*7/$EU57,2)","v":5.04},0,null,0,0,0,0,0,0,0,0,0,0,0,0,0,0,0,0,0,0,0,0,0,0,0,0,0,0,0,0,0,0,0,0,0,0,0,0,0,0,0,0,0,0,0,0,0,0,0,0,0,0,0,0,0,0,0,0,0,0,0,0,0,0,0,0,0,0,0,0]
[56,"2018-11-21","2018-11-27","2018-11-27",{"$f":"OFFSET('input อ้อย'!$B$8,A58,$D$1,1,1)","v":0},0,0,0,0,0,0,0,0,0,0,0,0,0,0,0,0,0,0,0,0,0,0,0,0,0,0,0,0,0,0,0,0,0,0,0,0,0,0,0,0,0,0,0,0,0,0,0,0,0,0,0,0,0,0,0,0,0,0,0,0,0,0,0,0,0,0,0,{"$f":"IF(BT58=0,0,OFFSET(Kc!$A$2,1+BT58,MATCH($BU$1,List_Kc_ALL,0),1,1))","v":0},0,0,0,0,0.49,0.49,0.49,0.49,0.5,0.5,0.5,0.5,0.5,0.52,0.52,0.52,0.52,0.63,0.63,0.63,0.63,0.93,0.93,0.93,0.93,0.93,1.2,1.2,1.2,1.2,1.29,1.29,1.29,1.29,1.56,1.56,1.56,1.56,1.56,1.35,1.35,1.35,1.35,1.1299999999999999,1.1299999999999999,1.1299999999999999,1.1299999999999999,0.86,0.86,0.86,0.86,0.86,0.65,0.65,0.65,0.65,0,0,0,0,0,0,0,0,0,null,null,null,11,{"$f":"OFFSET(ETO!$C$3,$EM$2,$EL58,1,1)*7","v":23.17},null,{"$f":"OFFSET('input ข้าว'!$B$4,0,$D$1,1,1)","v":7},0,null,{"$f":"IF(OR(EL58=11,EL58=12,EL58<5),OFFSET('input อ้อย'!$B$5,0,$D$1,1,1),OFFSET('input อ้อย'!$B$6,0,$D$1,1,1))","v":30},0,null,30,{"$f":"ROUND(OFFSET(ฝนใช้การ!$P$2,$EU$2,$EL58,1,1)*7/$EU58,2)","v":5.04},0,null,0,0,0,0,0,0,0,0,0,0,0,0,0,0,0,0,0,0,0,0,0,0,0,0,0,0,0,0,0,0,0,0,0,0,0,0,0,0,0,0,0,0,0,0,0,0,0,0,0,0,0,0,0,0,0,0,0,0,0,0,0,0,0,0,0,0,0,0]
[57,"2018-11-28","2018-12-04","2018-12-04",{"$f":"OFFSET('input อ้อย'!$B$8,A59,$D$1,1,1)","v":0},0,0,0,0,0,0,0,0,0,0,0,0,0,0,0,0,0,0,0,0,0,0,0,0,0,0,0,0,0,0,0,0,0,0,0,0,0,0,0,0,0,0,0,0,0,0,0,0,0,0,0,0,0,0,0,0,0,0,0,0,0,0,0,0,0,0,0,{"$f":"IF(BT59=0,0,OFFSET(Kc!$A$2,1+BT59,MATCH($BU$1,List_Kc_ALL,0),1,1))","v":0},0,0,0,0,0,0.49,0.49,0.49,0.49,0.5,0.5,0.5,0.5,0.5,0.52,0.52,0.52,0.52,0.63,0.63,0.63,0.63,0.93,0.93,0.93,0.93,0.93,1.2,1.2,1.2,1.2,1.29,1.29,1.29,1.29,1.56,1.56,1.56,1.56,1.56,1.35,1.35,1.35,1.35,1.1299999999999999,1.1299999999999999,1.1299999999999999,1.1299999999999999,0.86,0.86,0.86,0.86,0.86,0.65,0.65,0.65,0.65,0,0,0,0,0,0,0,0,null,null,null,12,{"$f":"OFFSET(ETO!$C$3,$EM$2,$EL59,1,1)*7","v":22.47},null,{"$f":"OFFSET('input ข้าว'!$B$4,0,$D$1,1,1)","v":7},0,null,{"$f":"IF(OR(EL59=11,EL59=12,EL59<5),OFFSET('input อ้อย'!$B$5,0,$D$1,1,1),OFFSET('input อ้อย'!$B$6,0,$D$1,1,1))","v":30},0,null,31,{"$f":"ROUND(OFFSET(ฝนใช้การ!$P$2,$EU$2,$EL59,1,1)*7/$EU59,2)","v":1.1299999999999999},0,null,0,0,0,0,0,0,0,0,0,0,0,0,0,0,0,0,0,0,0,0,0,0,0,0,0,0,0,0,0,0,0,0,0,0,0,0,0,0,0,0,0,0,0,0,0,0,0,0,0,0,0,0,0,0,0,0,0,0,0,0,0,0,0,0,0,0,0,0]
[58,"2018-12-05","2018-12-11","2018-12-11",{"$f":"OFFSET('input อ้อย'!$B$8,A60,$D$1,1,1)","v":0},0,0,0,0,0,0,0,0,0,0,0,0,0,0,0,0,{"$f":"IF($A60=V$2,$E60,IF(V59=0,0,IF($A60<V$2+$BT$1,V59,0)))","v":0},0,0,0,0,0,0,0,0,0,0,0,0,0,0,0,0,0,0,0,0,0,0,0,0,0,0,0,0,0,0,0,0,0,0,0,0,0,0,0,0,0,0,0,0,0,0,0,0,0,0,{"$f":"IF(BT60=0,0,OFFSET(Kc!$A$2,1+BT60,MATCH($BU$1,List_Kc_ALL,0),1,1))","v":0},0,0,0,0,0,0,0.49,0.49,0.49,0.49,0.5,0.5,0.5,0.5,0.5,0.52,0.52,0.52,0.52,0.63,0.63,0.63,0.63,0.93,0.93,0.93,0.93,0.93,1.2,1.2,1.2,1.2,1.29,1.29,1.29,1.29,1.56,1.56,1.56,1.56,1.56,1.35,1.35,1.35,1.35,1.1299999999999999,1.1299999999999999,1.1299999999999999,1.1299999999999999,0.86,0.86,0.86,0.86,0.86,0.65,0.65,0.65,0.65,0,0,0,0,0,0,0,null,null,null,12,{"$f":"OFFSET(ETO!$C$3,$EM$2,$EL60,1,1)*7","v":22.47},null,{"$f":"OFFSET('input ข้าว'!$B$4,0,$D$1,1,1)","v":7},0,null,{"$f":"IF(OR(EL60=11,EL60=12,EL60<5),OFFSET('input อ้อย'!$B$5,0,$D$1,1,1),OFFSET('input อ้อย'!$B$6,0,$D$1,1,1))","v":30},0,null,31,{"$f":"ROUND(OFFSET(ฝนใช้การ!$P$2,$EU$2,$EL60,1,1)*7/$EU60,2)","v":1.1299999999999999},0,null,0,0,0,0,0,0,0,0,0,0,0,0,0,0,0,0,0,0,0,0,0,0,0,0,0,0,0,0,0,0,0,0,0,0,0,0,0,0,0,0,0,0,0,0,0,0,0,0,0,0,0,0,0,0,0,0,0,0,0,0,0,0,0,0,0,0,0,0]
[59,"2018-12-12","2018-12-18","2018-12-18",{"$f":"OFFSET('input อ้อย'!$B$8,A61,$D$1,1,1)","v":0},{"$f":"IF($A61=F$2,$E61,IF(F60=0,0,IF($A61<F$2+$BT$1,F60,0)))","v":0},0,0,0,0,0,0,0,0,0,0,0,0,0,0,0,0,0,0,0,0,0,0,0,0,0,0,0,0,0,0,0,0,0,0,0,0,0,0,0,0,0,0,0,0,0,0,0,0,0,0,0,0,0,0,0,0,0,0,0,0,0,0,0,0,0,0,{"$f":"IF(BT61=0,0,OFFSET(Kc!$A$2,1+BT61,MATCH($BU$1,List_Kc_ALL,0),1,1))","v":0},0,0,0,0,0,0,0,0.49,0.49,0.49,0.49,0.5,0.5,0.5,0.5,0.5,0.52,0.52,0.52,0.52,0.63,0.63,0.63,0.63,0.93,0.93,0.93,0.93,0.93,1.2,1.2,1.2,1.2,1.29,1.29,1.29,1.29,1.56,1.56,1.56,1.56,1.56,1.35,1.35,1.35,1.35,1.1299999999999999,1.1299999999999999,1.1299999999999999,1.1299999999999999,0.86,0.86,0.86,0.86,0.86,0.65,0.65,0.65,0.65,0,0,0,0,0,0,null,null,null,12,{"$f":"OFFSET(ETO!$C$3,$EM$2,$EL61,1,1)*7","v":22.47},null,{"$f":"OFFSET('input ข้าว'!$B$4,0,$D$1,1,1)","v":7},0,null,{"$f":"IF(OR(EL61=11,EL61=12,EL61<5),OFFSET('input อ้อย'!$B$5,0,$D$1,1,1),OFFSET('input อ้อย'!$B$6,0,$D$1,1,1))","v":30},0,null,31,{"$f":"ROUND(OFFSET(ฝนใช้การ!$P$2,$EU$2,$EL61,1,1)*7/$EU61,2)","v":1.1299999999999999},0,null,0,0,0,0,0,0,0,0,0,0,0,0,0,0,0,0,0,0,0,0,0,0,0,0,0,0,0,0,0,0,0,0,0,0,0,0,0,0,0,0,0,0,0,0,0,0,0,0,0,0,0,0,0,0,0,0,0,0,0,0,0,0,0,0,0,0,0,0]
[60,"2018-12-19","2018-12-25","2018-12-25",{"$f":"OFFSET('input อ้อย'!$B$8,A62,$D$1,1,1)","v":0},0,0,0,0,0,0,0,0,0,0,0,0,0,0,0,0,0,0,0,0,0,0,0,0,0,0,0,0,0,0,0,0,0,0,0,0,0,0,0,0,0,0,0,0,0,0,0,0,0,0,0,0,0,0,0,0,0,0,0,0,0,0,0,0,0,0,0,{"$f":"IF(BT62=0,0,OFFSET(Kc!$A$2,1+BT62,MATCH($BU$1,List_Kc_ALL,0),1,1))","v":0},0,0,0,0,0,0,0,0,0.49,0.49,0.49,0.49,0.5,0.5,0.5,0.5,0.5,0.52,0.52,0.52,0.52,0.63,0.63,0.63,0.63,0.93,0.93,0.93,0.93,0.93,1.2,1.2,1.2,1.2,1.29,1.29,1.29,1.29,1.56,1.56,1.56,1.56,1.56,1.35,1.35,1.35,1.35,1.1299999999999999,1.1299999999999999,1.1299999999999999,1.1299999999999999,0.86,0.86,0.86,0.86,0.86,0.65,0.65,0.65,0.65,0,0,0,0,0,null,null,null,12,{"$f":"OFFSET(ETO!$C$3,$EM$2,$EL62,1,1)*7","v":22.47},null,{"$f":"OFFSET('input ข้าว'!$B$4,0,$D$1,1,1)","v":7},0,null,{"$f":"IF(OR(EL62=11,EL62=12,EL62<5),OFFSET('input อ้อย'!$B$5,0,$D$1,1,1),OFFSET('input อ้อย'!$B$6,0,$D$1,1,1))","v":30},0,null,31,{"$f":"ROUND(OFFSET(ฝนใช้การ!$P$2,$EU$2,$EL62,1,1)*7/$EU62,2)","v":1.1299999999999999},0,null,0,0,0,0,0,0,0,0,0,0,0,0,0,0,0,0,0,0,0,0,0,0,0,0,0,0,0,0,0,0,0,0,0,0,0,0,0,0,0,0,0,0,0,0,0,0,0,0,0,0,0,0,0,0,0,0,0,0,0,0,0,0,0,0,0,0,0,0]
[61,"2018-12-26","2019-01-01","2019-01-01",{"$f":"OFFSET('input อ้อย'!$B$8,A63,$D$1,1,1)","v":0},0,0,0,0,0,0,0,0,0,0,0,0,0,0,0,0,0,0,0,0,0,0,0,0,0,0,0,0,0,0,0,0,0,0,0,0,0,0,0,0,0,0,0,0,0,0,0,0,0,0,0,0,0,0,0,0,0,0,0,0,0,0,0,0,0,0,0,{"$f":"IF(BT63=0,0,OFFSET(Kc!$A$2,1+BT63,MATCH($BU$1,List_Kc_ALL,0),1,1))","v":0},0,0,0,0,0,0,0,0,0,0.49,0.49,0.49,0.49,0.5,0.5,0.5,0.5,0.5,0.52,0.52,0.52,0.52,0.63,0.63,0.63,0.63,0.93,0.93,0.93,0.93,0.93,1.2,1.2,1.2,1.2,1.29,1.29,1.29,1.29,1.56,1.56,1.56,1.56,1.56,1.35,1.35,1.35,1.35,1.1299999999999999,1.1299999999999999,1.1299999999999999,1.1299999999999999,0.86,0.86,0.86,0.86,0.86,0.65,0.65,0.65,0.65,0,0,0,0,null,null,null,1,{"$f":"OFFSET(ETO!$C$3,$EM$2,$EL63,1,1)*7","v":23.099999999999998},null,{"$f":"OFFSET('input ข้าว'!$B$4,0,$D$1,1,1)","v":7},0,null,{"$f":"IF(OR(EL63=11,EL63=12,EL63<5),OFFSET('input อ้อย'!$B$5,0,$D$1,1,1),OFFSET('input อ้อย'!$B$6,0,$D$1,1,1))","v":30},0,null,31,{"$f":"ROUND(OFFSET(ฝนใช้การ!$P$2,$EU$2,$EL63,1,1)*7/$EU63,2)","v":1.29},0,null,0,0,0,0,0,0,0,0,0,0,0,0,0,0,0,0,0,0,0,0,0,0,0,0,0,0,0,0,0,0,0,0,0,0,0,0,0,0,0,0,0,0,0,0,0,0,0,0,0,0,0,0,0,0,0,0,0,0,0,0,0,0,0,0,0,0,0,0]
[62,"2019-01-02","2019-01-08","2019-01-08",{"$f":"OFFSET('input อ้อย'!$B$8,A64,$D$1,1,1)","v":0},0,0,0,0,0,0,0,0,0,0,0,0,0,0,0,0,0,0,0,0,0,0,0,0,0,0,0,0,0,0,0,0,{"$f":"IF($A64=AL$2,$E64,IF(AL63=0,0,IF($A64<AL$2+$BT$1,AL63,0)))","v":0},0,0,0,0,0,0,0,0,0,0,0,0,0,0,0,0,0,0,0,0,0,0,0,0,0,0,0,0,0,0,0,0,0,0,{"$f":"IF(BT64=0,0,OFFSET(Kc!$A$2,1+BT64,MATCH($BU$1,List_Kc_ALL,0),1,1))","v":0},0,0,0,0,0,0,0,0,0,0,0.49,0.49,0.49,0.49,0.5,0.5,0.5,0.5,0.5,0.52,0.52,0.52,0.52,0.63,0.63,0.63,0.63,0.93,0.93,0.93,0.93,0.93,1.2,1.2,1.2,1.2,1.29,1.29,1.29,1.29,1.56,1.56,1.56,1.56,1.56,1.35,1.35,1.35,1.35,1.1299999999999999,1.1299999999999999,1.1299999999999999,1.1299999999999999,0.86,0.86,0.86,0.86,0.86,0.65,0.65,0.65,0.65,0,0,0,null,null,null,1,{"$f":"OFFSET(ETO!$C$3,$EM$2,$EL64,1,1)*7","v":23.099999999999998},null,{"$f":"OFFSET('input ข้าว'!$B$4,0,$D$1,1,1)","v":7},0,null,{"$f":"IF(OR(EL64=11,EL64=12,EL64<5),OFFSET('input อ้อย'!$B$5,0,$D$1,1,1),OFFSET('input อ้อย'!$B$6,0,$D$1,1,1))","v":30},0,null,31,{"$f":"ROUND(OFFSET(ฝนใช้การ!$P$2,$EU$2,$EL64,1,1)*7/$EU64,2)","v":1.29},0,null,0,0,0,0,0,0,0,0,0,0,0,0,0,0,0,0,0,0,0,0,0,0,0,0,0,0,0,0,0,0,0,0,0,0,0,0,0,0,0,0,0,0,0,0,0,0,0,0,0,0,0,0,0,0,0,0,0,0,0,0,0,0,0,0,0,0,0,0]
[63,"2019-01-09","2019-01-15","2019-01-15",{"$f":"OFFSET('input อ้อย'!$B$8,A65,$D$1,1,1)","v":0},0,0,0,0,0,0,0,0,0,0,0,0,0,0,0,0,0,0,0,0,0,0,0,0,0,0,0,0,0,0,0,0,0,0,0,0,0,0,0,0,0,0,0,0,0,0,0,0,0,0,0,0,0,0,0,0,0,0,0,0,0,0,0,0,0,0,0,{"$f":"IF(BT65=0,0,OFFSET(Kc!$A$2,1+BT65,MATCH($BU$1,List_Kc_ALL,0),1,1))","v":0},0,0,0,0,0,0,0,0,0,0,0,0.49,0.49,0.49,0.49,0.5,0.5,0.5,0.5,0.5,0.52,0.52,0.52,0.52,0.63,0.63,0.63,0.63,0.93,0.93,0.93,0.93,0.93,1.2,1.2,1.2,1.2,1.29,1.29,1.29,1.29,1.56,1.56,1.56,1.56,1.56,1.35,1.35,1.35,1.35,1.1299999999999999,1.1299999999999999,1.1299999999999999,1.1299999999999999,0.86,0.86,0.86,0.86,0.86,0.65,0.65,0.65,0.65,0,0,null,null,null,1,{"$f":"OFFSET(ETO!$C$3,$EM$2,$EL65,1,1)*7","v":23.099999999999998},null,{"$f":"OFFSET('input ข้าว'!$B$4,0,$D$1,1,1)","v":7},0,null,{"$f":"IF(OR(EL65=11,EL65=12,EL65<5),OFFSET('input อ้อย'!$B$5,0,$D$1,1,1),OFFSET('input อ้อย'!$B$6,0,$D$1,1,1))","v":30},0,null,31,{"$f":"ROUND(OFFSET(ฝนใช้การ!$P$2,$EU$2,$EL65,1,1)*7/$EU65,2)","v":1.29},0,null,0,0,0,0,0,0,0,0,0,0,0,0,0,0,0,0,0,0,0,0,0,0,0,0,0,0,0,0,0,0,0,0,0,0,0,0,0,0,0,0,0,0,0,0,0,0,0,0,0,0,0,0,0,0,0,0,0,0,0,0,0,0,0,0,0,0,0,0]
[64,"2019-01-16","2019-01-22","2019-01-22",{"$f":"OFFSET('input อ้อย'!$B$8,A66,$D$1,1,1)","v":0},0,0,0,0,0,0,0,0,0,0,0,0,0,0,0,0,0,0,0,0,0,0,0,0,0,0,0,0,0,0,0,0,0,0,0,0,0,0,0,0,0,0,0,0,0,0,0,0,0,0,0,0,0,0,0,0,0,0,0,0,0,0,0,0,0,0,0,{"$f":"IF(BT66=0,0,OFFSET(Kc!$A$2,1+BT66,MATCH($BU$1,List_Kc_ALL,0),1,1))","v":0},0,0,0,0,0,0,0,0,0,0,0,0,0.49,0.49,0.49,0.49,0.5,0.5,0.5,0.5,0.5,0.52,0.52,0.52,0.52,0.63,0.63,0.63,0.63,0.93,0.93,0.93,0.93,0.93,1.2,1.2,1.2,1.2,1.29,1.29,1.29,1.29,1.56,1.56,1.56,1.56,1.56,1.35,1.35,1.35,1.35,1.1299999999999999,1.1299999999999999,1.1299999999999999,1.1299999999999999,0.86,0.86,0.86,0.86,0.86,0.65,0.65,0.65,0.65,0,null,null,null,1,{"$f":"OFFSET(ETO!$C$3,$EM$2,$EL66,1,1)*7","v":23.099999999999998},null,{"$f":"OFFSET('input ข้าว'!$B$4,0,$D$1,1,1)","v":7},0,null,{"$f":"IF(OR(EL66=11,EL66=12,EL66<5),OFFSET('input อ้อย'!$B$5,0,$D$1,1,1),OFFSET('input อ้อย'!$B$6,0,$D$1,1,1))","v":30},0,null,31,{"$f":"ROUND(OFFSET(ฝนใช้การ!$P$2,$EU$2,$EL66,1,1)*7/$EU66,2)","v":1.29},0,null,0,0,0,0,0,0,0,0,0,0,0,0,0,0,0,0,0,0,0,0,0,0,0,0,0,0,0,0,0,0,0,0,0,0,0,0,0,0,0,0,0,0,0,0,0,0,0,0,0,0,0,0,0,0,{"$f":"ROUND(DX66*$EM66*BH66*1.6,2)","v":0},0,0,0,0,0,0,0,0,0,0,0,0,0]
[65,"2019-01-23","2019-01-29",{"$f":"+C67","v":"2019-01-29"},{"$f":"OFFSET('input อ้อย'!$B$8,A67,$D$1,1,1)","v":0},0,0,0,0,0,0,0,0,0,0,0,0,0,0,0,0,0,0,0,0,0,0,0,0,0,0,0,0,0,0,0,0,0,0,0,0,0,0,0,0,0,0,0,0,0,0,0,0,0,0,0,0,0,0,0,0,0,0,0,0,0,0,0,0,0,0,{"$f":"IF(A67<=$BT$1,A67,0)","v":0},{"$f":"IF(BT67=0,0,OFFSET(Kc!$A$2,1+BT67,MATCH($BU$1,List_Kc_ALL,0),1,1))","v":0},0,0,0,0,0,0,0,0,0,0,0,0,0,0.49,0.49,0.49,0.49,0.5,0.5,0.5,0.5,0.5,0.52,0.52,0.52,0.52,0.63,0.63,0.63,0.63,0.93,0.93,0.93,0.93,0.93,1.2,1.2,1.2,1.2,1.29,1.29,1.29,1.29,1.56,1.56,1.56,1.56,1.56,1.35,1.35,1.35,1.35,1.1299999999999999,1.1299999999999999,1.1299999999999999,1.1299999999999999,0.86,0.86,0.86,0.86,0.86,0.65,0.65,0.65,0.65,null,null,null,{"$f":"MONTH(D67)","v":1},{"$f":"OFFSET(ETO!$C$3,$EM$2,$EL67,1,1)*7","v":23.099999999999998},null,{"$f":"OFFSET('input ข้าว'!$B$4,0,$D$1,1,1)","v":7},0,null,{"$f":"IF(OR(EL67=11,EL67=12,EL67<5),OFFSET('input อ้อย'!$B$5,0,$D$1,1,1),OFFSET('input อ้อย'!$B$6,0,$D$1,1,1))","v":30},0,null,{"$f":"VLOOKUP(EL67,$EJ$3:$EK$14,2,TRUE)","v":31},{"$f":"ROUND(OFFSET(ฝนใช้การ!$P$2,$EU$2,$EL67,1,1)*7/$EU67,2)","v":1.29},0,null,0,0,0,0,0,0,0,0,0,0,0,0,0,0,0,0,0,0,0,0,0,0,0,0,0,0,0,0,0,0,0,0,0,0,0,0,0,0,0,0,0,0,0,0,0,0,0,{"$f":"ROUND(DQ67*$EM67*BA67*1.6,2)","v":0},0,0,0,0,0,0,0,0,0,0,0,0,0,0,0,0,0,0,0,0]
[66,"2019-01-30","2019-02-05","2019-02-05",{"$f":"OFFSET('input อ้อย'!$B$8,A68,$D$1,1,1)","v":0},0,0,0,0,0,0,0,0,0,0,0,0,0,0,0,0,0,0,0,0,0,0,0,0,0,0,0,0,0,0,0,0,0,0,0,0,0,0,0,0,0,0,0,0,0,0,0,0,0,0,0,0,0,0,0,0,0,0,0,0,0,0,0,0,0,{"$f":"SUM(F68:BR68)","v":0},null,null,0,0,0,0,0,0,0,0,0,0,0,0,0,0,0.49,0.49,0.49,0.49,0.5,0.5,0.5,0.5,0.5,0.52,0.52,0.52,0.52,0.63,0.63,0.63,0.63,0.93,0.93,0.93,0.93,0.93,1.2,1.2,1.2,1.2,1.29,1.29,1.29,1.29,1.56,1.56,1.56,1.56,1.56,1.35,1.35,1.35,1.35,1.1299999999999999,1.1299999999999999,1.1299999999999999,1.1299999999999999,0.86,0.86,0.86,0.86,0.86,0.65,0.65,0.65,null,null,null,2,{"$f":"OFFSET(ETO!$C$3,$EM$2,$EL68,1,1)*7","v":25.76},null,{"$f":"OFFSET('input ข้าว'!$B$4,0,$D$1,1,1)","v":7},{"$f":"($EO68/1000)*$BS68*1600","v":0},null,{"$f":"IF(OR(EL68=11,EL68=12,EL68<5),OFFSET('input อ้อย'!$B$5,0,$D$1,1,1),OFFSET('input อ้อย'!$B$6,0,$D$1,1,1))","v":30},{"$f":"($ER68/1000)*$E68*1600","v":0},null,28,{"$f":"ROUND(OFFSET(ฝนใช้การ!$P$2,$EU$2,$EL68,1,1)*7/$EU68,2)","v":2.7},{"$f":"ROUND((EV68/1000)*BS68*1600,2)","v":0},null,0,0,0,0,0,0,0,0,0,0,0,0,0,0,0,{"$f":"ROUND(CK68*$EM68*U68*1.6,2)","v":0},0,0,0,0,0,0,0,0,0,0,0,0,0,0,0,0,0,0,0,0,0,0,0,0,0,0,0,0,0,0,0,0,0,0,0,0,0,0,0,0,0,0,0,0,0,0,0,0,0,{"$f":"SUM(EY68:HK68)","v":0},{"$f":"IF(EP68+ES68+HL68-EW68>0,EP68+ES68+HL68-EW68,0)","v":0},{"$f":"HM68*100/$HO$2","v":0}]
[67,"2019-02-06","2019-02-12","2019-02-12",{"$f":"OFFSET('input อ้อย'!$B$8,A69,$D$1,1,1)","v":0},0,0,0,0,0,0,0,0,0,0,0,0,0,0,0,0,0,0,0,0,0,0,0,0,0,0,0,0,0,0,0,0,0,0,0,0,0,0,0,0,0,0,0,0,0,0,0,0,0,0,0,0,0,0,0,0,0,0,0,0,0,0,0,0,0,0,null,null,{"$f":"IF($A69=BV$2,$BU$3,IF(BV68=0,0,OFFSET($BU$2,$A69-BV$2+1,0,1,1)))","v":0},{"$f":"IF($A69=BW$2,$BU$3,IF(BW68=0,0,OFFSET($BU$2,$A69-BW$2+1,0,1,1)))","v":0},{"$f":"IF($A69=BX$2,$BU$3,IF(BX68=0,0,OFFSET($BU$2,$A69-BX$2+1,0,1,1)))","v":0},{"$f":"IF($A69=BY$2,$BU$3,IF(BY68=0,0,OFFSET($BU$2,$A69-BY$2+1,0,1,1)))","v":0},{"$f":"IF($A69=BZ$2,$BU$3,IF(BZ68=0,0,OFFSET($BU$2,$A69-BZ$2+1,0,1,1)))","v":0},{"$f":"IF($A69=CA$2,$BU$3,IF(CA68=0,0,OFFSET($BU$2,$A69-CA$2+1,0,1,1)))","v":0},{"$f":"IF($A69=CB$2,$BU$3,IF(CB68=0,0,OFFSET($BU$2,$A69-CB$2+1,0,1,1)))","v":0},{"$f":"IF($A69=CC$2,$BU$3,IF(CC68=0,0,OFFSET($BU$2,$A69-CC$2+1,0,1,1)))","v":0},{"$f":"IF($A69=CD$2,$BU$3,IF(CD68=0,0,OFFSET($BU$2,$A69-CD$2+1,0,1,1)))","v":0},{"$f":"IF($A69=CE$2,$BU$3,IF(CE68=0,0,OFFSET($BU$2,$A69-CE$2+1,0,1,1)))","v":0},{"$f":"IF($A69=CF$2,$BU$3,IF(CF68=0,0,OFFSET($BU$2,$A69-CF$2+1,0,1,1)))","v":0},{"$f":"IF($A69=CG$2,$BU$3,IF(CG68=0,0,OFFSET($BU$2,$A69-CG$2+1,0,1,1)))","v":0},{"$f":"IF($A69=CH$2,$BU$3,IF(CH68=0,0,OFFSET($BU$2,$A69-CH$2+1,0,1,1)))","v":0},{"$f":"IF($A69=CI$2,$BU$3,IF(CI68=0,0,OFFSET($BU$2,$A69-CI$2+1,0,1,1)))","v":0},{"$f":"IF($A69=CJ$2,$BU$3,IF(CJ68=0,0,OFFSET($BU$2,$A69-CJ$2+1,0,1,1)))","v":0},{"$f":"IF($A69=CK$2,$BU$3,IF(CK68=0,0,OFFSET($BU$2,$A69-CK$2+1,0,1,1)))","v":0.49},{"$f":"IF($A69=CL$2,$BU$3,IF(CL68=0,0,OFFSET($BU$2,$A69-CL$2+1,0,1,1)))","v":0.49},{"$f":"IF($A69=CM$2,$BU$3,IF(CM68=0,0,OFFSET($BU$2,$A69-CM$2+1,0,1,1)))","v":0.49},{"$f":"IF($A69=CN$2,$BU$3,IF(CN68=0,0,OFFSET($BU$2,$A69-CN$2+1,0,1,1)))","v":0.49},{"$f":"IF($A69=CO$2,$BU$3,IF(CO68=0,0,OFFSET($BU$2,$A69-CO$2+1,0,1,1)))","v":0.5},{"$f":"IF($A69=CP$2,$BU$3,IF(CP68=0,0,OFFSET($BU$2,$A69-CP$2+1,0,1,1)))","v":0.5},{"$f":"IF($A69=CQ$2,$BU$3,IF(CQ68=0,0,OFFSET($BU$2,$A69-CQ$2+1,0,1,1)))","v":0.5},{"$f":"IF($A69=CR$2,$BU$3,IF(CR68=0,0,OFFSET($BU$2,$A69-CR$2+1,0,1,1)))","v":0.5},{"$f":"IF($A69=CS$2,$BU$3,IF(CS68=0,0,OFFSET($BU$2,$A69-CS$2+1,0,1,1)))","v":0.5},{"$f":"IF($A69=CT$2,$BU$3,IF(CT68=0,0,OFFSET($BU$2,$A69-CT$2+1,0,1,1)))","v":0.52},{"$f":"IF($A69=CU$2,$BU$3,IF(CU68=0,0,OFFSET($BU$2,$A69-CU$2+1,0,1,1)))","v":0.52},{"$f":"IF($A69=CV$2,$BU$3,IF(CV68=0,0,OFFSET($BU$2,$A69-CV$2+1,0,1,1)))","v":0.52},{"$f":"IF($A69=CW$2,$BU$3,IF(CW68=0,0,OFFSET($BU$2,$A69-CW$2+1,0,1,1)))","v":0.52},{"$f":"IF($A69=CX$2,$BU$3,IF(CX68=0,0,OFFSET($BU$2,$A69-CX$2+1,0,1,1)))","v":0.63},{"$f":"IF($A69=CY$2,$BU$3,IF(CY68=0,0,OFFSET($BU$2,$A69-CY$2+1,0,1,1)))","v":0.63},{"$f":"IF($A69=CZ$2,$BU$3,IF(CZ68=0,0,OFFSET($BU$2,$A69-CZ$2+1,0,1,1)))","v":0.63},{"$f":"IF($A69=DA$2,$BU$3,IF(DA68=0,0,OFFSET($BU$2,$A69-DA$2+1,0,1,1)))","v":0.63},{"$f":"IF($A69=DB$2,$BU$3,IF(DB68=0,0,OFFSET($BU$2,$A69-DB$2+1,0,1,1)))","v":0.93},{"$f":"IF($A69=DC$2,$BU$3,IF(DC68=0,0,OFFSET($BU$2,$A69-DC$2+1,0,1,1)))","v":0.93},{"$f":"IF($A69=DD$2,$BU$3,IF(DD68=0,0,OFFSET($BU$2,$A69-DD$2+1,0,1,1)))","v":0.93},{"$f":"IF($A69=DE$2,$BU$3,IF(DE68=0,0,OFFSET($BU$2,$A69-DE$2+1,0,1,1)))","v":0.93},{"$f":"IF($A69=DF$2,$BU$3,IF(DF68=0,0,OFFSET($BU$2,$A69-DF$2+1,0,1,1)))","v":0.93},{"$f":"IF($A69=DG$2,$BU$3,IF(DG68=0,0,OFFSET($BU$2,$A69-DG$2+1,0,1,1)))","v":1.2},{"$f":"IF($A69=DH$2,$BU$3,IF(DH68=0,0,OFFSET($BU$2,$A69-DH$2+1,0,1,1)))","v":1.2},{"$f":"IF($A69=DI$2,$BU$3,IF(DI68=0,0,OFFSET($BU$2,$A69-DI$2+1,0,1,1)))","v":1.2},{"$f":"IF($A69=DJ$2,$BU$3,IF(DJ68=0,0,OFFSET($BU$2,$A69-DJ$2+1,0,1,1)))","v":1.2},{"$f":"IF($A69=DK$2,$BU$3,IF(DK68=0,0,OFFSET($BU$2,$A69-DK$2+1,0,1,1)))","v":1.29},{"$f":"IF($A69=DL$2,$BU$3,IF(DL68=0,0,OFFSET($BU$2,$A69-DL$2+1,0,1,1)))","v":1.29},{"$f":"IF($A69=DM$2,$BU$3,IF(DM68=0,0,OFFSET($BU$2,$A69-DM$2+1,0,1,1)))","v":1.29},{"$f":"IF($A69=DN$2,$BU$3,IF(DN68=0,0,OFFSET($BU$2,$A69-DN$2+1,0,1,1)))","v":1.29},{"$f":"IF($A69=DO$2,$BU$3,IF(DO68=0,0,OFFSET($BU$2,$A69-DO$2+1,0,1,1)))","v":1.56},{"$f":"IF($A69=DP$2,$BU$3,IF(DP68=0,0,OFFSET($BU$2,$A69-DP$2+1,0,1,1)))","v":1.56},{"$f":"IF($A69=DQ$2,$BU$3,IF(DQ68=0,0,OFFSET($BU$2,$A69-DQ$2+1,0,1,1)))","v":1.56},{"$f":"IF($A69=DR$2,$BU$3,IF(DR68=0,0,OFFSET($BU$2,$A69-DR$2+1,0,1,1)))","v":1.56},{"$f":"IF($A69=DS$2,$BU$3,IF(DS68=0,0,OFFSET($BU$2,$A69-DS$2+1,0,1,1)))","v":1.56},{"$f":"IF($A69=DT$2,$BU$3,IF(DT68=0,0,OFFSET($BU$2,$A69-DT$2+1,0,1,1)))","v":1.35},{"$f":"IF($A69=DU$2,$BU$3,IF(DU68=0,0,OFFSET($BU$2,$A69-DU$2+1,0,1,1)))","v":1.35},{"$f":"IF($A69=DV$2,$BU$3,IF(DV68=0,0,OFFSET($BU$2,$A69-DV$2+1,0,1,1)))","v":1.35},{"$f":"IF($A69=DW$2,$BU$3,IF(DW68=0,0,OFFSET($BU$2,$A69-DW$2+1,0,1,1)))","v":1.35},{"$f":"IF($A69=DX$2,$BU$3,IF(DX68=0,0,OFFSET($BU$2,$A69-DX$2+1,0,1,1)))","v":1.1299999999999999},{"$f":"IF($A69=DY$2,$BU$3,IF(DY68=0,0,OFFSET($BU$2,$A69-DY$2+1,0,1,1)))","v":1.1299999999999999},{"$f":"IF($A69=DZ$2,$BU$3,IF(DZ68=0,0,OFFSET($BU$2,$A69-DZ$2+1,0,1,1)))","v":1.1299999999999999},{"$f":"IF($A69=EA$2,$BU$3,IF(EA68=0,0,OFFSET($BU$2,$A69-EA$2+1,0,1,1)))","v":1.1299999999999999},{"$f":"IF($A69=EB$2,$BU$3,IF(EB68=0,0,OFFSET($BU$2,$A69-EB$2+1,0,1,1)))","v":0.86},{"$f":"IF($A69=EC$2,$BU$3,IF(EC68=0,0,OFFSET($BU$2,$A69-EC$2+1,0,1,1)))","v":0.86},{"$f":"IF($A69=ED$2,$BU$3,IF(ED68=0,0,OFFSET($BU$2,$A69-ED$2+1,0,1,1)))","v":0.86},{"$f":"IF($A69=EE$2,$BU$3,IF(EE68=0,0,OFFSET($BU$2,$A69-EE$2+1,0,1,1)))","v":0.86},{"$f":"IF($A69=EF$2,$BU$3,IF(EF68=0,0,OFFSET($BU$2,$A69-EF$2+1,0,1,1)))","v":0.86},{"$f":"IF($A69=EG$2,$BU$3,IF(EG68=0,0,OFFSET($BU$2,$A69-EG$2+1,0,1,1)))","v":0.65},{"$f":"IF($A69=EH$2,$BU$3,IF(EH68=0,0,OFFSET($BU$2,$A69-EH$2+1,0,1,1)))","v":0.65},null,null,null,2,{"$f":"OFFSET(ETO!$C$3,$EM$2,$EL69,1,1)*7","v":25.76},null,{"$f":"OFFSET('input ข้าว'!$B$4,0,$D$1,1,1)","v":7},0,null,{"$f":"IF(OR(EL69=11,EL69=12,EL69<5),OFFSET('input อ้อย'!$B$5,0,$D$1,1,1),OFFSET('input อ้อย'!$B$6,0,$D$1,1,1))","v":30},0,null,28,{"$f":"ROUND(OFFSET(ฝนใช้การ!$P$2,$EU$2,$EL69,1,1)*7/$EU69,2)","v":2.7},0,null,{"$f":"ROUND(BV69*$EM69*F69*1.6,2)","v":0},0,0,0,0,0,0,0,0,0,0,0,0,0,0,0,0,0,0,0,0,0,0,0,0,0,0,0,0,0,0,0,0,0,0,0,0,0,0,0,0,0,0,0,0,0,0,0,0,0,0,0,0,0,0,0,0,0,0,0,0,0,0,0,0,0,0,0]
[68,"2019-02-13","2019-02-19","2019-02-19",{"$f":"OFFSET('input อ้อย'!$B$8,A70,$D$1,1,1)","v":0},0,0,0,0,0,0,0,0,0,0,0,0,0,0,0,0,0,0,0,0,0,0,0,0,0,0,0,0,0,0,0,0,0,0,0,0,0,0,0,0,0,0,0,0,0,0,0,0,{"$f":"IF($A70=BB$2,$E70,IF(BB69=0,0,IF($A70<BB$2+$BT$1,BB69,0)))","v":0},0,0,0,0,0,0,0,0,0,0,0,0,0,0,0,0,0,null,null,0,0,0,0,0,0,0,0,0,0,0,0,0,0,0,0,0.49,0.49,0.49,0.49,0.5,0.5,0.5,0.5,0.5,0.52,0.52,0.52,0.52,0.63,0.63,0.63,0.63,0.93,0.93,0.93,0.93,0.93,1.2,1.2,1.2,1.2,1.29,1.29,1.29,1.29,1.56,1.56,1.56,1.56,1.56,1.35,1.35,1.35,1.35,1.1299999999999999,1.1299999999999999,1.1299999999999999,1.1299999999999999,0.86,0.86,0.86,0.86,0.86,0.65,null,null,null,2,{"$f":"OFFSET(ETO!$C$3,$EM$2,$EL70,1,1)*7","v":25.76},null,{"$f":"OFFSET('input ข้าว'!$B$4,0,$D$1,1,1)","v":7},0,null,{"$f":"IF(OR(EL70=11,EL70=12,EL70<5),OFFSET('input อ้อย'!$B$5,0,$D$1,1,1),OFFSET('input อ้อย'!$B$6,0,$D$1,1,1))","v":30},0,null,28,{"$f":"ROUND(OFFSET(ฝนใช้การ!$P$2,$EU$2,$EL70,1,1)*7/$EU70,2)","v":2.7},0,null,0,0,0,0,0,0,0,0,0,0,0,0,0,0,0,0,0,0,0,0,0,0,0,0,0,0,0,0,0,0,0,0,0,0,0,0,0,0,0,0,0,0,0,0,0,0,0,0,0,0,0,0,0,0,0,0,0,0,0,0,0,0,0,0,0,0,0,0]
[69,"2019-02-20","2019-02-26","2019-02-26",{"$f":"OFFSET('input อ้อย'!$B$8,A71,$D$1,1,1)","v":0},0,0,0,0,0,0,0,0,0,0,0,0,0,0,0,0,0,0,0,0,0,0,0,0,0,0,0,0,0,0,0,0,0,0,0,0,0,0,0,0,0,0,0,0,0,0,0,0,0,0,0,0,0,0,0,0,0,0,0,0,0,0,0,0,0,0,null,null,0,0,0,0,0,0,0,0,0,0,0,0,0,0,0,0,0,0.49,0.49,0.49,0.49,0.5,0.5,0.5,0.5,0.5,0.52,0.52,0.52,0.52,0.63,0.63,0.63,0.63,0.93,0.93,0.93,0.93,0.93,1.2,1.2,1.2,1.2,1.29,1.29,1.29,1.29,1.56,1.56,1.56,1.56,1.56,1.35,1.35,1.35,1.35,1.1299999999999999,1.1299999999999999,1.1299999999999999,1.1299999999999999,0.86,0.86,0.86,0.86,0.86,null,null,null,2,{"$f":"OFFSET(ETO!$C$3,$EM$2,$EL71,1,1)*7","v":25.76},null,{"$f":"OFFSET('input ข้าว'!$B$4,0,$D$1,1,1)","v":7},0,null,{"$f":"IF(OR(EL71=11,EL71=12,EL71<5),OFFSET('input อ้อย'!$B$5,0,$D$1,1,1),OFFSET('input อ้อย'!$B$6,0,$D$1,1,1))","v":30},0,null,28,{"$f":"ROUND(OFFSET(ฝนใช้การ!$P$2,$EU$2,$EL71,1,1)*7/$EU71,2)","v":2.7},0,null,0,0,0,0,0,0,0,0,0,0,0,0,0,0,0,0,0,0,0,{"$f":"ROUND(CO71*$EM71*Y71*1.6,2)","v":0},0,0,0,0,0,0,0,0,0,0,0,0,0,0,0,0,0,0,0,0,0,0,0,0,0,0,{"$f":"ROUND(DP71*$EM71*AZ71*1.6,2)","v":0},0,0,0,0,0,0,0,0,0,0,0,0,0,0,0,0,0,0,0,0,0]
[70,"2019-02-27","2019-03-05","2019-03-05",{"$f":"OFFSET('input อ้อย'!$B$8,A72,$D$1,1,1)","v":0},0,0,0,0,0,0,0,0,0,0,0,0,0,0,0,0,0,0,0,0,0,0,0,0,0,0,0,0,0,0,0,0,0,0,0,0,0,0,0,0,0,0,0,0,0,0,0,0,0,0,0,0,0,0,0,0,0,0,0,0,0,0,0,0,0,0,null,null,0,0,0,0,0,0,0,0,0,0,0,0,0,0,0,0,0,0,0.49,0.49,0.49,0.49,0.5,0.5,0.5,0.5,0.5,0.52,0.52,0.52,0.52,0.63,0.63,0.63,0.63,0.93,0.93,0.93,0.93,0.93,1.2,1.2,1.2,1.2,1.29,1.29,1.29,1.29,1.56,1.56,1.56,1.56,1.56,1.35,1.35,1.35,1.35,1.1299999999999999,1.1299999999999999,1.1299999999999999,1.1299999999999999,0.86,0.86,0.86,0.86,null,null,null,3,{"$f":"OFFSET(ETO!$C$3,$EM$2,$EL72,1,1)*7","v":30.38},null,{"$f":"OFFSET('input ข้าว'!$B$4,0,$D$1,1,1)","v":7},0,null,{"$f":"IF(OR(EL72=11,EL72=12,EL72<5),OFFSET('input อ้อย'!$B$5,0,$D$1,1,1),OFFSET('input อ้อย'!$B$6,0,$D$1,1,1))","v":30},0,null,31,{"$f":"ROUND(OFFSET(ฝนใช้การ!$P$2,$EU$2,$EL72,1,1)*7/$EU72,2)","v":4.29},0,null,0,0,0,0,0,0,0,0,0,0,0,0,0,0,0,0,0,0,0,0,0,0,0,0,0,0,0,0,0,0,0,0,0,0,0,0,0,0,0,0,0,0,0,0,0,0,0,0,0,0,0,0,0,0,0,0,0,0,0,0,0,0,0,0,0,0,0,0]
[71,"2019-03-06","2019-03-12","2019-03-12",{"$f":"OFFSET('input อ้อย'!$B$8,A73,$D$1,1,1)","v":0},0,0,0,0,0,0,0,0,0,0,0,0,0,0,0,0,0,0,0,0,0,0,0,0,0,0,0,0,0,0,0,0,0,0,0,0,0,0,0,0,0,0,0,0,0,0,0,0,0,0,0,0,0,0,0,0,0,0,0,0,0,0,0,0,0,0,null,null,0,0,0,0,0,0,0,0,0,0,0,0,0,0,0,0,0,0,0,0.49,0.49,0.49,0.49,0.5,0.5,0.5,0.5,0.5,0.52,0.52,0.52,0.52,0.63,0.63,0.63,0.63,0.93,0.93,0.93,0.93,0.93,1.2,1.2,1.2,1.2,1.29,1.29,1.29,1.29,1.56,1.56,1.56,1.56,1.56,1.35,1.35,1.35,1.35,1.1299999999999999,1.1299999999999999,1.1299999999999999,1.1299999999999999,0.86,0.86,0.86,null,null,null,3,{"$f":"OFFSET(ETO!$C$3,$EM$2,$EL73,1,1)*7","v":30.38},null,{"$f":"OFFSET('input ข้าว'!$B$4,0,$D$1,1,1)","v":7},0,null,{"$f":"IF(OR(EL73=11,EL73=12,EL73<5),OFFSET('input อ้อย'!$B$5,0,$D$1,1,1),OFFSET('input อ้อย'!$B$6,0,$D$1,1,1))","v":30},0,null,31,{"$f":"ROUND(OFFSET(ฝนใช้การ!$P$2,$EU$2,$EL73,1,1)*7/$EU73,2)","v":4.29},0,null,0,0,0,0,0,0,0,0,0,0,0,0,0,0,0,0,0,0,0,0,0,0,0,0,0,0,0,0,0,0,0,0,0,0,0,0,0,0,0,0,0,0,0,0,0,0,0,0,0,0,0,0,0,0,0,0,0,0,0,0,0,0,0,0,0,0,0,0]
[72,"2019-03-13","2019-03-19","2019-03-19",{"$f":"OFFSET('input อ้อย'!$B$8,A74,$D$1,1,1)","v":0},0,0,0,0,0,0,0,0,0,0,0,0,0,0,0,0,0,0,0,0,0,0,0,0,0,0,0,0,0,0,0,0,0,0,0,0,0,0,0,0,0,0,0,0,0,0,0,0,0,0,0,0,0,0,0,0,0,0,0,0,0,0,0,0,0,0,null,null,0,0,0,0,0,0,0,0,0,0,0,0,0,0,0,0,0,0,0,0,0.49,0.49,0.49,0.49,0.5,0.5,0.5,0.5,0.5,0.52,0.52,0.52,0.52,0.63,0.63,0.63,0.63,0.93,0.93,0.93,0.93,0.93,1.2,1.2,1.2,1.2,1.29,1.29,1.29,1.29,1.56,1.56,1.56,1.56,1.56,1.35,1.35,1.35,1.35,1.1299999999999999,1.1299999999999999,1.1299999999999999,1.1299999999999999,0.86,0.86,null,null,null,3,{"$f":"OFFSET(ETO!$C$3,$EM$2,$EL74,1,1)*7","v":30.38},null,{"$f":"OFFSET('input ข้าว'!$B$4,0,$D$1,1,1)","v":7},0,null,{"$f":"IF(OR(EL74=11,EL74=12,EL74<5),OFFSET('input อ้อย'!$B$5,0,$D$1,1,1),OFFSET('input อ้อย'!$B$6,0,$D$1,1,1))","v":30},0,null,31,{"$f":"ROUND(OFFSET(ฝนใช้การ!$P$2,$EU$2,$EL74,1,1)*7/$EU74,2)","v":4.29},0,null,0,0,0,0,0,0,0,0,0,0,0,0,0,0,0,0,0,0,0,0,0,0,0,0,0,0,0,0,0,0,0,0,0,0,0,0,0,0,0,0,0,0,0,0,0,0,0,0,0,0,0,0,0,0,0,0,0,0,0,0,0,0,0,0,0,0,0,0]
[73,"2019-03-20","2019-03-26","2019-03-26",{"$f":"OFFSET('input อ้อย'!$B$8,A75,$D$1,1,1)","v":0},0,0,0,0,0,0,0,0,0,0,0,0,0,0,0,0,0,0,0,0,0,0,0,0,0,0,0,0,0,0,0,0,0,0,0,0,0,0,0,0,0,0,0,0,0,0,0,0,0,0,0,0,0,0,0,0,0,0,0,0,0,0,0,0,0,0,null,null,0,0,0,0,0,0,0,0,0,0,0,0,0,0,0,0,0,0,0,0,0,0.49,0.49,0.49,0.49,0.5,0.5,0.5,0.5,0.5,0.52,0.52,0.52,0.52,0.63,0.63,0.63,0.63,0.93,0.93,0.93,0.93,0.93,1.2,1.2,1.2,1.2,1.29,1.29,1.29,1.29,1.56,1.56,1.56,1.56,1.56,1.35,1.35,1.35,1.35,1.1299999999999999,1.1299999999999999,1.1299999999999999,1.1299999999999999,0.86,null,null,null,3,{"$f":"OFFSET(ETO!$C$3,$EM$2,$EL75,1,1)*7","v":30.38},null,{"$f":"OFFSET('input ข้าว'!$B$4,0,$D$1,1,1)","v":7},0,null,{"$f":"IF(OR(EL75=11,EL75=12,EL75<5),OFFSET('input อ้อย'!$B$5,0,$D$1,1,1),OFFSET('input อ้อย'!$B$6,0,$D$1,1,1))","v":30},0,null,31,{"$f":"ROUND(OFFSET(ฝนใช้การ!$P$2,$EU$2,$EL75,1,1)*7/$EU75,2)","v":4.29},0,null,0,0,0,0,0,0,0,0,0,0,0,0,0,0,0,0,0,0,0,0,0,0,0,0,0,0,0,0,0,0,0,0,0,0,0,0,0,0,0,0,0,0,0,0,0,0,0,0,0,0,0,0,0,0,0,0,0,0,0,0,0,0,0,0,0,0,0,0]
[74,"2019-03-27","2019-04-02","2019-04-02",{"$f":"OFFSET('input อ้อย'!$B$8,A76,$D$1,1,1)","v":0},0,0,0,0,0,0,0,0,0,0,0,0,0,0,0,{"$f":"IF($A76=U$2,$E76,IF(U75=0,0,IF($A76<U$2+$BT$1,U75,0)))","v":0},0,0,0,0,0,0,0,0,0,0,0,0,0,0,0,0,0,0,0,0,0,0,0,0,0,0,0,0,0,0,0,0,0,0,0,0,0,0,0,0,0,0,0,0,0,0,0,0,0,0,null,null,0,0,0,0,0,0,0,0,0,0,0,0,0,0,0,0,0,0,0,0,0,0,0.49,0.49,0.49,0.49,0.5,0.5,0.5,0.5,0.5,0.52,0.52,0.52,0.52,0.63,0.63,0.63,0.63,0.93,0.93,0.93,0.93,0.93,1.2,1.2,1.2,1.2,1.29,1.29,1.29,1.29,1.56,1.56,1.56,1.56,1.56,1.35,1.35,1.35,1.35,1.1299999999999999,1.1299999999999999,1.1299999999999999,1.1299999999999999,null,null,null,4,{"$f":"OFFSET(ETO!$C$3,$EM$2,$EL76,1,1)*7","v":31.919999999999998},null,{"$f":"OFFSET('input ข้าว'!$B$4,0,$D$1,1,1)","v":7},0,null,{"$f":"IF(OR(EL76=11,EL76=12,EL76<5),OFFSET('input อ้อย'!$B$5,0,$D$1,1,1),OFFSET('input อ้อย'!$B$6,0,$D$1,1,1))","v":30},0,null,30,{"$f":"ROUND(OFFSET(ฝนใช้การ!$P$2,$EU$2,$EL76,1,1)*7/$EU76,2)","v":8},0,null,0,0,0,0,0,0,0,0,0,0,0,0,0,0,0,0,0,0,0,0,0,0,0,0,0,0,0,0,0,0,0,0,0,0,0,0,0,0,0,0,0,0,0,0,0,0,0,0,0,0,0,0,0,0,0,0,0,0,0,0,0,0,0,0,0,0,0,0]
[75,"2019-04-03","2019-04-09","2019-04-09",{"$f":"OFFSET('input อ้อย'!$B$8,A77,$D$1,1,1)","v":0},{"$f":"IF($A77=F$2,$E77,IF(F76=0,0,IF($A77<F$2+$BT$1,F76,0)))","v":0},0,0,0,0,0,0,0,0,0,0,0,0,0,0,0,0,0,0,0,0,0,0,0,0,0,0,0,0,0,0,0,0,0,0,0,0,0,0,0,0,0,0,0,0,0,0,0,0,0,0,0,0,0,0,0,0,0,0,0,0,0,0,0,0,0,null,null,0,0,0,0,0,0,0,0,0,0,0,0,0,0,0,0,0,0,0,0,0,0,0,0.49,0.49,0.49,0.49,0.5,0.5,0.5,0.5,0.5,0.52,0.52,0.52,0.52,0.63,0.63,0.63,0.63,0.93,0.93,0.93,0.93,0.93,1.2,1.2,1.2,1.2,1.29,1.29,1.29,1.29,1.56,1.56,1.56,1.56,1.56,1.35,1.35,1.35,1.35,1.1299999999999999,1.1299999999999999,1.1299999999999999,null,null,null,4,{"$f":"OFFSET(ETO!$C$3,$EM$2,$EL77,1,1)*7","v":31.919999999999998},null,{"$f":"OFFSET('input ข้าว'!$B$4,0,$D$1,1,1)","v":7},0,null,{"$f":"IF(OR(EL77=11,EL77=12,EL77<5),OFFSET('input อ้อย'!$B$5,0,$D$1,1,1),OFFSET('input อ้อย'!$B$6,0,$D$1,1,1))","v":30},0,null,30,{"$f":"ROUND(OFFSET(ฝนใช้การ!$P$2,$EU$2,$EL77,1,1)*7/$EU77,2)","v":8},0,null,0,0,0,0,0,0,0,0,0,0,0,0,0,0,0,0,0,0,0,0,0,0,0,0,0,0,0,0,0,0,0,0,0,0,0,0,0,0,0,0,0,0,0,0,0,0,0,0,0,0,0,0,0,0,0,0,0,0,0,0,0,0,0,0,0,0,0,0]
[76,"2019-04-10","2019-04-16","2019-04-16",{"$f":"OFFSET('input อ้อย'!$B$8,A78,$D$1,1,1)","v":0},0,0,0,0,0,0,0,0,0,0,0,0,0,0,0,0,0,0,0,0,0,0,0,0,0,0,0,0,0,0,0,0,0,0,0,0,0,0,0,0,0,0,0,0,0,0,0,0,0,0,0,0,0,0,0,0,0,0,0,0,0,0,0,0,0,0,null,null,0,0,0,0,0,0,0,0,0,0,0,0,0,0,0,0,0,0,0,0,0,0,0,0,0.49,0.49,0.49,0.49,0.5,0.5,0.5,0.5,0.5,0.52,0.52,0.52,0.52,0.63,0.63,0.63,0.63,0.93,0.93,0.93,0.93,0.93,1.2,1.2,1.2,1.2,1.29,1.29,1.29,1.29,1.56,1.56,1.56,1.56,1.56,1.35,1.35,1.35,1.35,1.1299999999999999,1.1299999999999999,null,null,null,4,{"$f":"OFFSET(ETO!$C$3,$EM$2,$EL78,1,1)*7","v":31.919999999999998},null,{"$f":"OFFSET('input ข้าว'!$B$4,0,$D$1,1,1)","v":7},0,null,{"$f":"IF(OR(EL78=11,EL78=12,EL78<5),OFFSET('input อ้อย'!$B$5,0,$D$1,1,1),OFFSET('input อ้อย'!$B$6,0,$D$1,1,1))","v":30},0,null,30,{"$f":"ROUND(OFFSET(ฝนใช้การ!$P$2,$EU$2,$EL78,1,1)*7/$EU78,2)","v":8},0,null,0,0,0,0,0,0,0,0,0,0,0,0,0,0,0,0,0,0,0,0,0,0,0,0,0,0,0,0,0,0,0,0,0,0,0,0,0,0,0,0,0,0,0,0,0,0,0,0,0,0,0,0,0,0,0,0,0,0,0,0,0,0,0,0,0,0,0,0]
[77,"2019-04-17","2019-04-23","2019-04-23",{"$f":"OFFSET('input อ้อย'!$B$8,A79,$D$1,1,1)","v":0},0,0,0,0,0,0,0,0,0,0,0,0,0,0,0,0,0,0,0,0,0,0,0,0,0,0,0,0,0,0,0,0,0,0,0,0,0,0,0,0,0,0,0,0,0,0,0,0,0,0,0,0,0,0,0,0,0,0,0,0,0,0,0,0,0,0,null,null,0,0,0,0,0,0,0,0,0,0,0,0,0,0,0,0,0,0,0,0,0,0,0,0,0,0.49,0.49,0.49,0.49,0.5,0.5,0.5,0.5,0.5,0.52,0.52,0.52,0.52,0.63,0.63,0.63,0.63,0.93,0.93,0.93,0.93,0.93,1.2,1.2,1.2,1.2,1.29,1.29,1.29,1.29,1.56,1.56,1.56,1.56,1.56,1.35,1.35,1.35,1.35,1.1299999999999999,null,null,null,4,{"$f":"OFFSET(ETO!$C$3,$EM$2,$EL79,1,1)*7","v":31.919999999999998},null,{"$f":"OFFSET('input ข้าว'!$B$4,0,$D$1,1,1)","v":7},0,null,{"$f":"IF(OR(EL79=11,EL79=12,EL79<5),OFFSET('input อ้อย'!$B$5,0,$D$1,1,1),OFFSET('input อ้อย'!$B$6,0,$D$1,1,1))","v":30},0,null,30,{"$f":"ROUND(OFFSET(ฝนใช้การ!$P$2,$EU$2,$EL79,1,1)*7/$EU79,2)","v":8},0,null,0,0,0,0,0,0,0,0,0,0,0,0,0,0,0,0,0,0,0,0,0,0,0,0,0,0,0,0,0,0,0,0,0,0,0,0,0,0,0,0,0,0,0,0,0,0,0,0,0,0,0,0,0,0,0,0,0,0,0,0,0,0,0,0,0,0,0,0]
[78,"2019-04-24","2019-04-30","2019-04-30",{"$f":"OFFSET('input อ้อย'!$B$8,A80,$D$1,1,1)","v":0},0,0,0,0,0,0,0,0,0,0,0,0,0,0,0,0,0,0,0,0,0,0,0,0,0,0,0,0,0,0,0,0,{"$f":"IF($A80=AL$2,$E80,IF(AL79=0,0,IF($A80<AL$2+$BT$1,AL79,0)))","v":0},0,0,0,0,0,0,0,0,0,0,0,0,0,0,0,0,0,0,0,0,0,0,0,0,0,0,0,0,0,0,0,0,0,null,null,0,0,0,0,0,0,0,0,0,0,0,0,0,0,0,0,0,0,0,0,0,0,0,0,0,0,0.49,0.49,0.49,0.49,0.5,0.5,0.5,0.5,0.5,0.52,0.52,0.52,0.52,0.63,0.63,0.63,0.63,0.93,0.93,0.93,0.93,0.93,1.2,1.2,1.2,1.2,1.29,1.29,1.29,1.29,1.56,1.56,1.56,1.56,1.56,1.35,1.35,1.35,1.35,null,null,null,4,{"$f":"OFFSET(ETO!$C$3,$EM$2,$EL80,1,1)*7","v":31.919999999999998},null,{"$f":"OFFSET('input ข้าว'!$B$4,0,$D$1,1,1)","v":7},0,null,{"$f":"IF(OR(EL80=11,EL80=12,EL80<5),OFFSET('input อ้อย'!$B$5,0,$D$1,1,1),OFFSET('input อ้อย'!$B$6,0,$D$1,1,1))","v":30},0,null,30,{"$f":"ROUND(OFFSET(ฝนใช้การ!$P$2,$EU$2,$EL80,1,1)*7/$EU80,2)","v":8},0,null,0,0,0,0,0,0,0,0,0,0,0,0,0,0,0,0,0,0,0,0,0,0,0,0,0,0,0,0,0,0,0,0,0,0,0,0,0,0,0,0,0,0,0,0,0,0,0,0,0,0,0,0,0,0,0,0,0,0,0,0,0,0,0,0,0,0,0,0]
[79,"2019-05-01","2019-05-07","2019-05-07",{"$f":"OFFSET('input อ้อย'!$B$8,A81,$D$1,1,1)","v":0},0,0,0,0,0,0,0,0,0,0,0,0,0,0,0,0,0,0,0,0,0,0,0,0,0,0,0,0,0,0,0,0,0,0,0,0,0,0,0,0,0,0,0,0,0,0,0,0,0,0,0,0,0,0,0,0,0,0,0,0,0,0,0,0,0,0,null,null,0,0,0,0,0,0,0,0,0,0,0,0,0,0,0,0,0,0,0,0,0,0,0,0,0,0,0,0.49,0.49,0.49,0.49,0.5,0.5,0.5,0.5,0.5,0.52,0.52,0.52,0.52,0.63,0.63,0.63,0.63,0.93,0.93,0.93,0.93,0.93,1.2,1.2,1.2,1.2,1.29,1.29,1.29,1.29,1.56,1.56,1.56,1.56,1.56,1.35,1.35,1.35,null,null,null,5,{"$f":"OFFSET(ETO!$C$3,$EM$2,$EL81,1,1)*7","v":30.169999999999998},null,{"$f":"OFFSET('input ข้าว'!$B$4,0,$D$1,1,1)","v":7},0,null,{"$f":"IF(OR(EL81=11,EL81=12,EL81<5),OFFSET('input อ้อย'!$B$5,0,$D$1,1,1),OFFSET('input อ้อย'!$B$6,0,$D$1,1,1))","v":15},0,null,31,{"$f":"ROUND(OFFSET(ฝนใช้การ!$P$2,$EU$2,$EL81,1,1)*7/$EU81,2)","v":11.79},0,null,0,0,0,0,0,0,0,0,0,0,0,0,0,0,0,0,0,0,0,0,0,0,0,0,0,0,0,0,0,0,0,0,0,0,0,0,0,0,0,0,0,0,0,0,0,0,0,0,0,0,0,0,0,0,0,0,0,0,0,0,0,0,0,0,0,0,0,0]
[80,"2019-05-08","2019-05-14","2019-05-14",{"$f":"OFFSET('input อ้อย'!$B$8,A82,$D$1,1,1)","v":0},0,0,0,0,0,0,0,0,0,0,0,0,0,0,0,0,0,0,0,0,0,0,0,0,0,0,0,0,0,0,0,0,0,0,0,0,0,0,0,0,0,0,0,0,0,0,0,0,0,0,0,0,0,0,0,0,0,0,0,0,0,0,0,0,0,0,null,null,0,0,0,0,0,0,0,0,0,0,0,0,0,0,0,0,0,0,0,0,0,0,0,0,0,0,0,0,0.49,0.49,0.49,0.49,0.5,0.5,0.5,0.5,0.5,0.52,0.52,0.52,0.52,0.63,0.63,0.63,0.63,0.93,0.93,0.93,0.93,0.93,1.2,1.2,1.2,1.2,1.29,1.29,1.29,1.29,1.56,1.56,1.56,1.56,1.56,1.35,1.35,null,null,null,5,{"$f":"OFFSET(ETO!$C$3,$EM$2,$EL82,1,1)*7","v":30.169999999999998},null,{"$f":"OFFSET('input ข้าว'!$B$4,0,$D$1,1,1)","v":7},0,null,{"$f":"IF(OR(EL82=11,EL82=12,EL82<5),OFFSET('input อ้อย'!$B$5,0,$D$1,1,1),OFFSET('input อ้อย'!$B$6,0,$D$1,1,1))","v":15},0,null,31,{"$f":"ROUND(OFFSET(ฝนใช้การ!$P$2,$EU$2,$EL82,1,1)*7/$EU82,2)","v":11.79},0,null,0,0,0,0,0,0,0,0,0,0,0,0,0,0,0,0,0,0,0,0,0,0,0,0,0,0,0,0,0,0,0,0,0,0,0,0,0,0,0,0,0,0,0,0,0,0,0,0,0,0,0,0,0,0,0,0,0,0,0,0,0,0,0,0,0,0,0,0]

{"sheet":"พืชไร่","index":18,"n_rows":55,"n_cols":222,"rows_kept":55,"cut":false,"hidden":true,"merged":[[0,14,0,15],[0,17,0,18],[0,21,0,22]]}
[null,"ช่วงเวลาสัปดาห์",null,{"$f":"รายงาน!O1","v":1},{"$f":"OFFSET('input พืชไร่'!$B$2,0,$D$1,1,1)","v":"พลเทพ"},null,{"$f":"OFFSET(Kc!$A$2,0,MATCH($H$1,List_Kc_ALL,0),1,1)","v":52},{"$f":"OFFSET('input พืชไร่'!$B$7,0,$D$1,1,1)","v":"กล้วยหอม"},null,null,null,{"$f":"OFFSET('input พืชไร่'!$B$3,0,D1,1,1)","v":"ชัยนาท"},"Eto/Week",null,"รั่วซึม",null,null,"น้ำเตรียมแปลง ",null,null,{"$f":"L1","v":"ชัยนาท"},"ฝนใช้การ",null,null,"KC*Eto*ไร่ (ลบ.ม./สัปดาห์)","ความต้องการน้ำ (ลบ.ม.)","ปริมาณน้ำที่ต้องส่ง","ประสิทธิภาพชลประทาน",null,null,null,null,null,null,null,null,null,null,null,null,null,null,null,null,null,null,null,null,null,null,null,null,null,null,null,null,null,null,null,null,null,null,null,null,null,null,null,null,null,null,null,null,null,null,null,null,null,null,null,null,null,null,null,null,null,null,null,null,null,null,null,null,null,null,null,null,null,null,null,null,null,null,null,null,null,null,null,null,null,null,null,null,null,null,null,null,null,null,null,null,null,null,null,null,null,null,null,null,null,null,null,null,null,null,null,null,null,null,null,null,null,null,null,null,null,null,null,null,null,null,null,null,null,null,null,null,null,null,null,null,null,null,null,null,null,null,null,null,null,null,null,null,null,null,null,null,null,null,null,null,null,null,null,null,null,null,null,null,null,null,null,null,null,null,null,null,null,null,null,null,null,null,null,null,null,null,null,null,null,null,null,null,null,null,null,null,null,null,null,"ช่วงเวลาสัปดาห์",null,"ปริมาณน้ำที่ต้องส่ง"]
[null,"เริ่มต้น","สิ้นสุด","เดือน","จำนวนไร่",null,"N.Week","KC Week",null,"เดือน","จำนวนวัน",{"$f":"VLOOKUP(L1,ETO!$T$4:$U$80,2,FALSE)","v":"สถานีฯเกษตร ชัยนาท"},{"$f":"MATCH($L$2,ETO!$B$4:$B$131,0)","v":64},null,"มม./เดือน","ลบ.ม.",null,"มม.","ลบ.ม.",null,{"$f":"MATCH(U1,ฝนใช้การ!$A$3:$A$78,0)","v":17},"มม./เดือน","ลบ.ม.",null,"รวม","รวม","รวม (ลบ.ม.)",{"$f":"OFFSET('input พืชไร่'!$B$6,0,$D$1,1,1)","v":90},null,null,null,null,null,null,null,null,null,null,null,null,null,null,null,null,null,null,null,null,null,null,null,null,null,null,null,null,null,null,null,null,null,null,null,null,null,null,null,null,null,null,null,null,null,null,null,null,null,null,null,null,null,null,null,null,null,null,null,null,null,null,null,null,null,null,null,null,null,null,null,null,null,null,null,null,null,null,null,null,null,null,null,null,null,null,null,null,null,null,null,null,null,null,null,null,null,null,null,null,null,null,null,null,null,null,null,null,null,null,null,null,null,null,null,null,null,null,null,null,null,null,null,null,null,null,null,null,null,null,null,null,null,null,null,null,null,null,null,null,null,null,null,null,null,null,null,null,null,null,null,null,null,null,null,null,null,null,null,null,null,null,null,null,null,null,null,null,null,null,null,null,null,null,null,null,null,null,null,null,null,null,null,null,null,null,null,null,null,null,null,"เริ่มต้น","สิ้นสุด","รวม (ลบ.ม.)"]
[1,{"$f":"ข้าว!B16","v":"2017-11-01"},{"$f":"+B3+6","v":"2017-11-07"},{"$f":"+B3","v":"2017-11-01"},{"$f":"OFFSET('input พืชไร่'!$B$8,$A3,$D$1,1,1)","v":101},null,{"$f":"IF(A3<=$G$1,A3,0)","v":1},{"$f":"IF(G3=0,0,OFFSET(Kc!$A$2,1+G3,MATCH($H$1,List_Kc_ALL,0),1,1))","v":1.94},null,1,31,{"$f":"MONTH(D3)","v":11},{"$f":"OFFSET(ETO!$C$3,$M$2,$L3,1,1)*7","v":23.17},null,{"$f":"OFFSET('input พืชไร่'!$B$4,0,$D$1,1,1)","v":7},{"$f":"($O3/1000)*$E3*1600","v":1131.2},null,{"$f":"OFFSET('input พืชไร่'!$B$5,0,$D$1,1,1)","v":30},{"$f":"($R3/1000)*ABS(E3-E4)*1600","v":4848},null,{"$f":"VLOOKUP(L3,$J$3:$K$14,2,TRUE)","v":30},{"$f":"ROUND(OFFSET(ฝนใช้การ!$A$2,$U$2,$L3,1,1)*7/$U3,2)","v":7.3},{"$f":"ROUND((V3/1000)*E3*1600,2)","v":1179.68},null,{"$f":"H3*M3*E3","v":4539.9297999999999},{"$f":"IF(P3+S3+Y3-W3>0,P3+S3+Y3-W3,0)","v":9339.4497999999985},{"$f":"Z3*100/$AB$2","v":10377.166444444443},null,null,null,null,null,null,null,null,null,null,null,null,null,null,null,null,null,null,null,null,null,null,null,null,null,null,null,null,null,null,null,null,null,null,null,null,null,null,null,null,null,null,null,null,null,null,null,null,null,null,null,null,null,null,null,null,null,null,null,null,null,null,null,null,null,null,null,null,null,null,null,null,null,null,null,null,null,null,null,null,null,null,null,null,null,null,null,null,null,null,null,null,null,null,null,null,null,null,null,null,null,null,null,null,null,null,null,null,null,null,null,null,null,null,null,null,null,null,null,null,null,null,null,null,null,null,null,null,null,null,null,null,null,null,null,null,null,null,null,null,null,null,null,null,null,null,null,null,null,null,null,null,null,null,null,null,null,null,null,null,null,null,null,null,null,null,null,null,null,null,null,null,null,null,null,null,null,null,null,null,null,null,null,null,null,null,null,null,null,null,null,null,{"$f":"B3","v":"2017-11-01"},{"$f":"+HL3+6","v":"2017-11-07"},{"$f":"AA3","v":10377.166444444443}]
[2,{"$f":"+B3+7","v":"2017-11-08"},{"$f":"+C3+7","v":"2017-11-14"},{"$f":"+B4","v":"2017-11-08"},{"$f":"OFFSET('input พืชไร่'!$B$8,$A4,$D$1,1,1)","v":0},null,2,{"$f":"IF(G4=0,0,OFFSET(Kc!$A$2,1+G4,MATCH($H$1,List_Kc_ALL,0),1,1))","v":1.94},null,2,28,11,{"$f":"OFFSET(ETO!$C$3,$M$2,$L4,1,1)*7","v":23.17},null,{"$f":"OFFSET('input พืชไร่'!$B$4,0,$D$1,1,1)","v":7},{"$f":"($O4/1000)*$E4*1600","v":0},null,{"$f":"OFFSET('input พืชไร่'!$B$5,0,$D$1,1,1)","v":30},{"$f":"($R4/1000)*IF(E4>E3,E4-E3,0)*1600","v":0},null,{"$f":"VLOOKUP(L4,$J$3:$K$14,2,TRUE)","v":30},{"$f":"ROUND(OFFSET(ฝนใช้การ!$A$2,$U$2,$L4,1,1)*7/$U4,2)","v":7.3},0,null,{"$f":"H4*M4*E4","v":0},{"$f":"IF(P4+S4+Y4-W4>0,P4+S4+Y4-W4,0)","v":0},{"$f":"Z4*100/$AB$2","v":0},null,null,null,null,null,null,null,null,null,null,null,null,null,null,null,null,null,null,null,null,null,null,null,null,null,null,null,null,null,null,null,null,null,null,null,null,null,null,null,null,null,null,null,null,null,null,null,null,null,null,null,null,null,null,null,null,null,null,null,null,null,null,null,null,null,null,null,null,null,null,null,null,null,null,null,null,null,null,null,null,null,null,null,null,null,null,null,null,null,null,null,null,null,null,null,null,null,null,null,null,null,null,null,null,null,null,null,null,null,null,null,null,null,null,null,null,null,null,null,null,null,null,null,null,null,null,null,null,null,null,null,null,null,null,null,null,null,null,null,null,null,null,null,null,null,null,null,null,null,null,null,null,null,null,null,null,null,null,null,null,null,null,null,null,null,null,null,null,null,null,null,null,null,null,null,null,null,null,null,null,null,null,null,null,null,null,null,null,null,null,null,null,{"$f":"+HL3+7","v":"2017-11-08"},{"$f":"+HM3+7","v":"2017-11-14"},{"$f":"AA4","v":0}]
[3,{"$f":"+B4+7","v":"2017-11-15"},"2017-11-21","2017-11-15",{"$f":"OFFSET('input พืชไร่'!$B$8,$A5,$D$1,1,1)","v":0},null,3,{"$f":"IF(G5=0,0,OFFSET(Kc!$A$2,1+G5,MATCH($H$1,List_Kc_ALL,0),1,1))","v":1.94},null,3,31,11,{"$f":"OFFSET(ETO!$C$3,$M$2,$L5,1,1)*7","v":23.17},null,{"$f":"OFFSET('input พืชไร่'!$B$4,0,$D$1,1,1)","v":7},0,null,{"$f":"OFFSET('input พืชไร่'!$B$5,0,$D$1,1,1)","v":30},{"$f":"($R5/1000)*IF(E5>E4,E5-E4,0)*1600","v":0},null,30,{"$f":"ROUND(OFFSET(ฝนใช้การ!$A$2,$U$2,$L5,1,1)*7/$U5,2)","v":7.3},0,null,0,0,0,null,null,null,null,null,null,null,null,null,null,null,null,null,null,null,null,null,null,null,null,null,null,null,null,null,null,null,null,null,null,null,null,null,null,null,null,null,null,null,null,null,null,null,null,null,null,null,null,null,null,null,null,null,null,null,null,null,null,null,null,null,null,null,null,null,null,null,null,null,null,null,null,null,null,null,null,null,null,null,null,null,null,null,null,null,null,null,null,null,null,null,null,null,null,null,null,null,null,null,null,null,null,null,null,null,null,null,null,null,null,null,null,null,null,null,null,null,null,null,null,null,null,null,null,null,null,null,null,null,null,null,null,null,null,null,null,null,null,null,null,null,null,null,null,null,null,null,null,null,null,null,null,null,null,null,null,null,null,null,null,null,null,null,null,null,null,null,null,null,null,null,null,null,null,null,null,null,null,null,null,null,null,null,null,null,null,null,null,null,null,null,null,{"$f":"+HL4+7","v":"2017-11-15"},"2017-11-21",0]
[4,"2017-11-22","2017-11-28","2017-11-22",{"$f":"OFFSET('input พืชไร่'!$B$8,$A6,$D$1,1,1)","v":0},null,4,{"$f":"IF(G6=0,0,OFFSET(Kc!$A$2,1+G6,MATCH($H$1,List_Kc_ALL,0),1,1))","v":1.94},null,4,30,11,{"$f":"OFFSET(ETO!$C$3,$M$2,$L6,1,1)*7","v":23.17},null,{"$f":"OFFSET('input พืชไร่'!$B$4,0,$D$1,1,1)","v":7},0,null,{"$f":"OFFSET('input พืชไร่'!$B$5,0,$D$1,1,1)","v":30},0,null,30,{"$f":"ROUND(OFFSET(ฝนใช้การ!$A$2,$U$2,$L6,1,1)*7/$U6,2)","v":7.3},0,null,0,0,0,null,null,null,null,null,null,null,null,null,null,null,null,null,null,null,null,null,null,null,null,null,null,null,null,null,null,null,null,null,null,null,null,null,null,null,null,null,null,null,null,null,null,null,null,null,null,null,null,null,null,null,null,null,null,null,null,null,null,null,null,null,null,null,null,null,null,null,null,null,null,null,null,null,null,null,null,null,null,null,null,null,null,null,null,null,null,null,null,null,null,null,null,null,null,null,null,null,null,null,null,null,null,null,null,null,null,null,null,null,null,null,null,null,null,null,null,null,null,null,null,null,null,null,null,null,null,null,null,null,null,null,null,null,null,null,null,null,null,null,null,null,null,null,null,null,null,null,null,null,null,null,null,null,null,null,null,null,null,null,null,null,null,null,null,null,null,null,null,null,null,null,null,null,null,null,null,null,null,null,null,null,null,null,null,null,null,null,null,null,null,null,null,"2017-11-22","2017-11-28",0]
[5,"2017-11-29","2017-12-05","2017-11-29",{"$f":"OFFSET('input พืชไร่'!$B$8,$A7,$D$1,1,1)","v":0},null,5,{"$f":"IF(G7=0,0,OFFSET(Kc!$A$2,1+G7,MATCH($H$1,List_Kc_ALL,0),1,1))","v":1.74},null,5,31,11,{"$f":"OFFSET(ETO!$C$3,$M$2,$L7,1,1)*7","v":23.17},null,{"$f":"OFFSET('input พืชไร่'!$B$4,0,$D$1,1,1)","v":7},0,null,{"$f":"OFFSET('input พืชไร่'!$B$5,0,$D$1,1,1)","v":30},0,null,30,{"$f":"ROUND(OFFSET(ฝนใช้การ!$A$2,$U$2,$L7,1,1)*7/$U7,2)","v":7.3},0,null,0,0,0,null,null,null,null,null,null,null,null,null,null,null,null,null,null,null,null,null,null,null,null,null,null,null,null,null,null,null,null,null,null,null,null,null,null,null,null,null,null,null,null,null,null,null,null,null,null,null,null,null,null,null,null,null,null,null,null,null,null,null,null,null,null,null,null,null,null,null,null,null,null,null,null,null,null,null,null,null,null,null,null,null,null,null,null,null,null,null,null,null,null,null,null,null,null,null,null,null,null,null,null,null,null,null,null,null,null,null,null,null,null,null,null,null,null,null,null,null,null,null,null,null,null,null,null,null,null,null,null,null,null,null,null,null,null,null,null,null,null,null,null,null,null,null,null,null,null,null,null,null,null,null,null,null,null,null,null,null,null,null,null,null,null,null,null,null,null,null,null,null,null,null,null,null,null,null,null,null,null,null,null,null,null,null,null,null,null,null,null,null,null,null,null,"2017-11-29","2017-12-05",0]
[6,"2017-12-06","2017-12-12","2017-12-06",{"$f":"OFFSET('input พืชไร่'!$B$8,$A8,$D$1,1,1)","v":0},null,6,{"$f":"IF(G8=0,0,OFFSET(Kc!$A$2,1+G8,MATCH($H$1,List_Kc_ALL,0),1,1))","v":1.74},null,6,30,12,{"$f":"OFFSET(ETO!$C$3,$M$2,$L8,1,1)*7","v":22.47},null,{"$f":"OFFSET('input พืชไร่'!$B$4,0,$D$1,1,1)","v":7},0,null,{"$f":"OFFSET('input พืชไร่'!$B$5,0,$D$1,1,1)","v":30},0,null,31,{"$f":"ROUND(OFFSET(ฝนใช้การ!$A$2,$U$2,$L8,1,1)*7/$U8,2)","v":1.1299999999999999},0,null,0,0,0,null,null,null,null,null,null,null,null,null,null,null,null,null,null,null,null,null,null,null,null,null,null,null,null,null,null,null,null,null,null,null,null,null,null,null,null,null,null,null,null,null,null,null,null,null,null,null,null,null,null,null,null,null,null,null,null,null,null,null,null,null,null,null,null,null,null,null,null,null,null,null,null,null,null,null,null,null,null,null,null,null,null,null,null,null,null,null,null,null,null,null,null,null,null,null,null,null,null,null,null,null,null,null,null,null,null,null,null,null,null,null,null,null,null,null,null,null,null,null,null,null,null,null,null,null,null,null,null,null,null,null,null,null,null,null,null,null,null,null,null,null,null,null,null,null,null,null,null,null,null,null,null,null,null,null,null,null,null,null,null,null,null,null,null,null,null,null,null,null,null,null,null,null,null,null,null,null,null,null,null,null,null,null,null,null,null,null,null,null,null,null,null,"2017-12-06","2017-12-12",0]
[7,"2017-12-13","2017-12-19","2017-12-13",{"$f":"OFFSET('input พืชไร่'!$B$8,$A9,$D$1,1,1)","v":0},null,7,{"$f":"IF(G9=0,0,OFFSET(Kc!$A$2,1+G9,MATCH($H$1,List_Kc_ALL,0),1,1))","v":1.74},null,7,31,12,{"$f":"OFFSET(ETO!$C$3,$M$2,$L9,1,1)*7","v":22.47},null,{"$f":"OFFSET('input พืชไร่'!$B$4,0,$D$1,1,1)","v":7},0,null,{"$f":"OFFSET('input พืชไร่'!$B$5,0,$D$1,1,1)","v":30},0,null,31,{"$f":"ROUND(OFFSET(ฝนใช้การ!$A$2,$U$2,$L9,1,1)*7/$U9,2)","v":1.1299999999999999},0,null,0,0,0,null,null,null,null,null,null,null,null,null,null,null,null,null,null,null,null,null,null,null,null,null,null,null,null,null,null,null,null,null,null,null,null,null,null,null,null,null,null,null,null,null,null,null,null,null,null,null,null,null,null,null,null,null,null,null,null,null,null,null,null,null,null,null,null,null,null,null,null,null,null,null,null,null,null,null,null,null,null,null,null,null,null,null,null,null,null,null,null,null,null,null,null,null,null,null,null,null,null,null,null,null,null,null,null,null,null,null,null,null,null,null,null,null,null,null,null,null,null,null,null,null,null,null,null,null,null,null,null,null,null,null,null,null,null,null,null,null,null,null,null,null,null,null,null,null,null,null,null,null,null,null,null,null,null,null,null,null,null,null,null,null,null,null,null,null,null,null,null,null,null,null,null,null,null,null,null,null,null,null,null,null,null,null,null,null,null,null,null,null,null,null,null,"2017-12-13","2017-12-19",0]
[8,"2017-12-20","2017-12-26","2017-12-20",{"$f":"OFFSET('input พืชไร่'!$B$8,$A10,$D$1,1,1)","v":0},null,8,{"$f":"IF(G10=0,0,OFFSET(Kc!$A$2,1+G10,MATCH($H$1,List_Kc_ALL,0),1,1))","v":1.74},null,8,31,12,{"$f":"OFFSET(ETO!$C$3,$M$2,$L10,1,1)*7","v":22.47},null,{"$f":"OFFSET('input พืชไร่'!$B$4,0,$D$1,1,1)","v":7},0,null,{"$f":"OFFSET('input พืชไร่'!$B$5,0,$D$1,1,1)","v":30},0,null,31,{"$f":"ROUND(OFFSET(ฝนใช้การ!$A$2,$U$2,$L10,1,1)*7/$U10,2)","v":1.1299999999999999},0,null,0,0,0,null,null,null,null,null,null,null,null,null,null,null,null,null,null,null,null,null,null,null,null,null,null,null,null,null,null,null,null,null,null,null,null,null,null,null,null,null,null,null,null,null,null,null,null,null,null,null,null,null,null,null,null,null,null,null,null,null,null,null,null,null,null,null,null,null,null,null,null,null,null,null,null,null,null,null,null,null,null,null,null,null,null,null,null,null,null,null,null,null,null,null,null,null,null,null,null,null,null,null,null,null,null,null,null,null,null,null,null,null,null,null,null,null,null,null,null,null,null,null,null,null,null,null,null,null,null,null,null,null,null,null,null,null,null,null,null,null,null,null,null,null,null,null,null,null,null,null,null,null,null,null,null,null,null,null,null,null,null,null,null,null,null,null,null,null,null,null,null,null,null,null,null,null,null,null,null,null,null,null,null,null,null,null,null,null,null,null,null,null,null,null,null,"2017-12-20","2017-12-26",0]
[9,"2017-12-27","2018-01-02","2017-12-27",{"$f":"OFFSET('input พืชไร่'!$B$8,$A11,$D$1,1,1)","v":0},null,9,{"$f":"IF(G11=0,0,OFFSET(Kc!$A$2,1+G11,MATCH($H$1,List_Kc_ALL,0),1,1))","v":1.74},null,9,30,12,{"$f":"OFFSET(ETO!$C$3,$M$2,$L11,1,1)*7","v":22.47},null,{"$f":"OFFSET('input พืชไร่'!$B$4,0,$D$1,1,1)","v":7},0,null,{"$f":"OFFSET('input พืชไร่'!$B$5,0,$D$1,1,1)","v":30},0,null,31,{"$f":"ROUND(OFFSET(ฝนใช้การ!$A$2,$U$2,$L11,1,1)*7/$U11,2)","v":1.1299999999999999},0,null,0,0,0,null,null,null,null,null,null,null,null,null,null,null,null,null,null,null,null,null,null,null,null,null,null,null,null,null,null,null,null,null,null,null,null,null,null,null,null,null,null,null,null,null,null,null,null,null,null,null,null,null,null,null,null,null,null,null,null,null,null,null,null,null,null,null,null,null,null,null,null,null,null,null,null,null,null,null,null,null,null,null,null,null,null,null,null,null,null,null,null,null,null,null,null,null,null,null,null,null,null,null,null,null,null,null,null,null,null,null,null,null,null,null,null,null,null,null,null,null,null,null,null,null,null,null,null,null,null,null,null,null,null,null,null,null,null,null,null,null,null,null,null,null,null,null,null,null,null,null,null,null,null,null,null,null,null,null,null,null,null,null,null,null,null,null,null,null,null,null,null,null,null,null,null,null,null,null,null,null,null,null,null,null,null,null,null,null,null,null,null,null,null,null,null,"2017-12-27","2018-01-02",0]
[10,"2018-01-03","2018-01-09","2018-01-03",{"$f":"OFFSET('input พืชไร่'!$B$8,$A12,$D$1,1,1)","v":0},null,10,{"$f":"IF(G12=0,0,OFFSET(Kc!$A$2,1+G12,MATCH($H$1,List_Kc_ALL,0),1,1))","v":1.78},null,10,31,1,{"$f":"OFFSET(ETO!$C$3,$M$2,$L12,1,1)*7","v":23.099999999999998},null,{"$f":"OFFSET('input พืชไร่'!$B$4,0,$D$1,1,1)","v":7},0,null,{"$f":"OFFSET('input พืชไร่'!$B$5,0,$D$1,1,1)","v":30},0,null,31,{"$f":"ROUND(OFFSET(ฝนใช้การ!$A$2,$U$2,$L12,1,1)*7/$U12,2)","v":1.29},0,null,0,0,0,null,null,null,null,null,null,null,null,null,null,null,null,null,null,null,null,null,null,null,null,null,null,null,null,null,null,null,null,null,null,null,null,null,null,null,null,null,null,null,null,null,null,null,null,null,null,null,null,null,null,null,null,null,null,null,null,null,null,null,null,null,null,null,null,null,null,null,null,null,null,null,null,null,null,null,null,null,null,null,null,null,null,null,null,null,null,null,null,null,null,null,null,null,null,null,null,null,null,null,null,null,null,null,null,null,null,null,null,null,null,null,null,null,null,null,null,null,null,null,null,null,null,null,null,null,null,null,null,null,null,null,null,null,null,null,null,null,null,null,null,null,null,null,null,null,null,null,null,null,null,null,null,null,null,null,null,null,null,null,null,null,null,null,null,null,null,null,null,null,null,null,null,null,null,null,null,null,null,null,null,null,null,null,null,null,null,null,null,null,null,null,null,"2018-01-03","2018-01-09",0]
[11,"2018-01-10","2018-01-16","2018-01-10",{"$f":"OFFSET('input พืชไร่'!$B$8,$A13,$D$1,1,1)","v":0},null,11,{"$f":"IF(G13=0,0,OFFSET(Kc!$A$2,1+G13,MATCH($H$1,List_Kc_ALL,0),1,1))","v":1.78},null,11,30,1,{"$f":"OFFSET(ETO!$C$3,$M$2,$L13,1,1)*7","v":23.099999999999998},null,{"$f":"OFFSET('input พืชไร่'!$B$4,0,$D$1,1,1)","v":7},0,null,{"$f":"OFFSET('input พืชไร่'!$B$5,0,$D$1,1,1)","v":30},0,null,31,{"$f":"ROUND(OFFSET(ฝนใช้การ!$A$2,$U$2,$L13,1,1)*7/$U13,2)","v":1.29},0,null,0,0,0,null,null,null,null,null,null,null,null,null,null,null,null,null,null,null,null,null,null,null,null,null,null,null,null,null,null,null,null,null,null,null,null,null,null,null,null,null,null,null,null,null,null,null,null,null,null,null,null,null,null,null,null,null,null,null,null,null,null,null,null,null,null,null,null,null,null,null,null,null,null,null,null,null,null,null,null,null,null,null,null,null,null,null,null,null,null,null,null,null,null,null,null,null,null,null,null,null,null,null,null,null,null,null,null,null,null,null,null,null,null,null,null,null,null,null,null,null,null,null,null,null,null,null,null,null,null,null,null,null,null,null,null,null,null,null,null,null,null,null,null,null,null,null,null,null,null,null,null,null,null,null,null,null,null,null,null,null,null,null,null,null,null,null,null,null,null,null,null,null,null,null,null,null,null,null,null,null,null,null,null,null,null,null,null,null,null,null,null,null,null,null,null,"2018-01-10","2018-01-16",0]
[12,"2018-01-17","2018-01-23","2018-01-17",{"$f":"OFFSET('input พืชไร่'!$B$8,$A14,$D$1,1,1)","v":0},null,12,{"$f":"IF(G14=0,0,OFFSET(Kc!$A$2,1+G14,MATCH($H$1,List_Kc_ALL,0),1,1))","v":1.78},null,12,31,1,{"$f":"OFFSET(ETO!$C$3,$M$2,$L14,1,1)*7","v":23.099999999999998},null,{"$f":"OFFSET('input พืชไร่'!$B$4,0,$D$1,1,1)","v":7},0,null,{"$f":"OFFSET('input พืชไร่'!$B$5,0,$D$1,1,1)","v":30},0,null,31,{"$f":"ROUND(OFFSET(ฝนใช้การ!$A$2,$U$2,$L14,1,1)*7/$U14,2)","v":1.29},0,null,0,0,0,null,null,null,null,null,null,null,null,null,null,null,null,null,null,null,null,null,null,null,null,null,null,null,null,null,null,null,null,null,null,null,null,null,null,null,null,null,null,null,null,null,null,null,null,null,null,null,null,null,null,null,null,null,null,null,null,null,null,null,null,null,null,null,null,null,null,null,null,null,null,null,null,null,null,null,null,null,null,null,null,null,null,null,null,null,null,null,null,null,null,null,null,null,null,null,null,null,null,null,null,null,null,null,null,null,null,null,null,null,null,null,null,null,null,null,null,null,null,null,null,null,null,null,null,null,null,null,null,null,null,null,null,null,null,null,null,null,null,null,null,null,null,null,null,null,null,null,null,null,null,null,null,null,null,null,null,null,null,null,null,null,null,null,null,null,null,null,null,null,null,null,null,null,null,null,null,null,null,null,null,null,null,null,null,null,null,null,null,null,null,null,null,"2018-01-17","2018-01-23",0]
[13,"2018-01-24","2018-01-30","2018-01-24",{"$f":"OFFSET('input พืชไร่'!$B$8,$A15,$D$1,1,1)","v":0},null,13,{"$f":"IF(G15=0,0,OFFSET(Kc!$A$2,1+G15,MATCH($H$1,List_Kc_ALL,0),1,1))","v":1.78},null,null,null,1,{"$f":"OFFSET(ETO!$C$3,$M$2,$L15,1,1)*7","v":23.099999999999998},null,{"$f":"OFFSET('input พืชไร่'!$B$4,0,$D$1,1,1)","v":7},0,null,{"$f":"OFFSET('input พืชไร่'!$B$5,0,$D$1,1,1)","v":30},0,null,31,{"$f":"ROUND(OFFSET(ฝนใช้การ!$A$2,$U$2,$L15,1,1)*7/$U15,2)","v":1.29},0,null,0,0,0,null,null,null,null,null,null,null,null,null,null,null,null,null,null,null,null,null,null,null,null,null,null,null,null,null,null,null,null,null,null,null,null,null,null,null,null,null,null,null,null,null,null,null,null,null,null,null,null,null,null,null,null,null,null,null,null,null,null,null,null,null,null,null,null,null,null,null,null,null,null,null,null,null,null,null,null,null,null,null,null,null,null,null,null,null,null,null,null,null,null,null,null,null,null,null,null,null,null,null,null,null,null,null,null,null,null,null,null,null,null,null,null,null,null,null,null,null,null,null,null,null,null,null,null,null,null,null,null,null,null,null,null,null,null,null,null,null,null,null,null,null,null,null,null,null,null,null,null,null,null,null,null,null,null,null,null,null,null,null,null,null,null,null,null,null,null,null,null,null,null,null,null,null,null,null,null,null,null,null,null,null,null,null,null,null,null,null,null,null,null,null,null,"2018-01-24","2018-01-30",0]
[14,"2018-01-31","2018-02-06","2018-01-31",{"$f":"OFFSET('input พืชไร่'!$B$8,$A16,$D$1,1,1)","v":0},null,14,{"$f":"IF(G16=0,0,OFFSET(Kc!$A$2,1+G16,MATCH($H$1,List_Kc_ALL,0),1,1))","v":1.96},null,null,null,1,{"$f":"OFFSET(ETO!$C$3,$M$2,$L16,1,1)*7","v":23.099999999999998},null,{"$f":"OFFSET('input พืชไร่'!$B$4,0,$D$1,1,1)","v":7},0,null,{"$f":"OFFSET('input พืชไร่'!$B$5,0,$D$1,1,1)","v":30},0,null,31,{"$f":"ROUND(OFFSET(ฝนใช้การ!$A$2,$U$2,$L16,1,1)*7/$U16,2)","v":1.29},0,null,0,0,0,null,null,null,null,null,null,null,null,null,null,null,null,null,null,null,null,null,null,null,null,null,null,null,null,null,null,null,null,null,null,null,null,null,null,null,null,null,null,null,null,null,null,null,null,null,null,null,null,null,null,null,null,null,null,null,null,null,null,null,null,null,null,null,null,null,null,null,null,null,null,null,null,null,null,null,null,null,null,null,null,null,null,null,null,null,null,null,null,null,null,null,null,null,null,null,null,null,null,null,null,null,null,null,null,null,null,null,null,null,null,null,null,null,null,null,null,null,null,null,null,null,null,null,null,null,null,null,null,null,null,null,null,null,null,null,null,null,null,null,null,null,null,null,null,null,null,null,null,null,null,null,null,null,null,null,null,null,null,null,null,null,null,null,null,null,null,null,null,null,null,null,null,null,null,null,null,null,null,null,null,null,null,null,null,null,null,null,null,null,null,null,null,"2018-01-31","2018-02-06",0]
[15,"2018-02-07","2018-02-13","2018-02-07",{"$f":"OFFSET('input พืชไร่'!$B$8,$A17,$D$1,1,1)","v":0},null,15,{"$f":"IF(G17=0,0,OFFSET(Kc!$A$2,1+G17,MATCH($H$1,List_Kc_ALL,0),1,1))","v":1.96},null,null,null,2,{"$f":"OFFSET(ETO!$C$3,$M$2,$L17,1,1)*7","v":25.76},null,{"$f":"OFFSET('input พืชไร่'!$B$4,0,$D$1,1,1)","v":7},0,null,{"$f":"OFFSET('input พืชไร่'!$B$5,0,$D$1,1,1)","v":30},0,null,28,{"$f":"ROUND(OFFSET(ฝนใช้การ!$A$2,$U$2,$L17,1,1)*7/$U17,2)","v":2.7},0,null,0,0,0,null,null,null,null,null,null,null,null,null,null,null,null,null,null,null,null,null,null,null,null,null,null,null,null,null,null,null,null,null,null,null,null,null,null,null,null,null,null,null,null,null,null,null,null,null,null,null,null,null,null,null,null,null,null,null,null,null,null,null,null,null,null,null,null,null,null,null,null,null,null,null,null,null,null,null,null,null,null,null,null,null,null,null,null,null,null,null,null,null,null,null,null,null,null,null,null,null,null,null,null,null,null,null,null,null,null,null,null,null,null,null,null,null,null,null,null,null,null,null,null,null,null,null,null,null,null,null,null,null,null,null,null,null,null,null,null,null,null,null,null,null,null,null,null,null,null,null,null,null,null,null,null,null,null,null,null,null,null,null,null,null,null,null,null,null,null,null,null,null,null,null,null,null,null,null,null,null,null,null,null,null,null,null,null,null,null,null,null,null,null,null,null,"2018-02-07","2018-02-13",0]
[16,"2018-02-14","2018-02-20","2018-02-14",{"$f":"OFFSET('input พืชไร่'!$B$8,$A18,$D$1,1,1)","v":0},null,16,{"$f":"IF(G18=0,0,OFFSET(Kc!$A$2,1+G18,MATCH($H$1,List_Kc_ALL,0),1,1))","v":1.96},null,null,null,2,{"$f":"OFFSET(ETO!$C$3,$M$2,$L18,1,1)*7","v":25.76},null,{"$f":"OFFSET('input พืชไร่'!$B$4,0,$D$1,1,1)","v":7},0,null,{"$f":"OFFSET('input พืชไร่'!$B$5,0,$D$1,1,1)","v":30},0,null,28,{"$f":"ROUND(OFFSET(ฝนใช้การ!$A$2,$U$2,$L18,1,1)*7/$U18,2)","v":2.7},0,null,0,0,0,null,null,null,null,null,null,null,null,null,null,null,null,null,null,null,null,null,null,null,null,null,null,null,null,null,null,null,null,null,null,null,null,null,null,null,null,null,null,null,null,null,null,null,null,null,null,null,null,null,null,null,null,null,null,null,null,null,null,null,null,null,null,null,null,null,null,null,null,null,null,null,null,null,null,null,null,null,null,null,null,null,null,null,null,null,null,null,null,null,null,null,null,null,null,null,null,null,null,null,null,null,null,null,null,null,null,null,null,null,null,null,null,null,null,null,null,null,null,null,null,null,null,null,null,null,null,null,null,null,null,null,null,null,null,null,null,null,null,null,null,null,null,null,null,null,null,null,null,null,null,null,null,null,null,null,null,null,null,null,null,null,null,null,null,null,null,null,null,null,null,null,null,null,null,null,null,null,null,null,null,null,null,null,null,null,null,null,null,null,null,null,null,"2018-02-14","2018-02-20",0]
[17,"2018-02-21","2018-02-27","2018-02-21",{"$f":"OFFSET('input พืชไร่'!$B$8,$A19,$D$1,1,1)","v":0},null,17,{"$f":"IF(G19=0,0,OFFSET(Kc!$A$2,1+G19,MATCH($H$1,List_Kc_ALL,0),1,1))","v":1.96},null,null,null,2,{"$f":"OFFSET(ETO!$C$3,$M$2,$L19,1,1)*7","v":25.76},null,{"$f":"OFFSET('input พืชไร่'!$B$4,0,$D$1,1,1)","v":7},0,null,{"$f":"OFFSET('input พืชไร่'!$B$5,0,$D$1,1,1)","v":30},0,null,28,{"$f":"ROUND(OFFSET(ฝนใช้การ!$A$2,$U$2,$L19,1,1)*7/$U19,2)","v":2.7},0,null,0,0,0,null,null,null,null,null,null,null,null,null,null,null,null,null,null,null,null,null,null,null,null,null,null,null,null,null,null,null,null,null,null,null,null,null,null,null,null,null,null,null,null,null,null,null,null,null,null,null,null,null,null,null,null,null,null,null,null,null,null,null,null,null,null,null,null,null,null,null,null,null,null,null,null,null,null,null,null,null,null,null,null,null,null,null,null,null,null,null,null,null,null,null,null,null,null,null,null,null,null,null,null,null,null,null,null,null,null,null,null,null,null,null,null,null,null,null,null,null,null,null,null,null,null,null,null,null,null,null,null,null,null,null,null,null,null,null,null,null,null,null,null,null,null,null,null,null,null,null,null,null,null,null,null,null,null,null,null,null,null,null,null,null,null,null,null,null,null,null,null,null,null,null,null,null,null,null,null,null,null,null,null,null,null,null,null,null,null,null,null,null,null,null,null,"2018-02-21","2018-02-27",0]
[18,"2018-02-28","2018-03-06","2018-02-28",{"$f":"OFFSET('input พืชไร่'!$B$8,$A20,$D$1,1,1)","v":0},null,18,{"$f":"IF(G20=0,0,OFFSET(Kc!$A$2,1+G20,MATCH($H$1,List_Kc_ALL,0),1,1))","v":2.0699999999999998},null,null,null,2,{"$f":"OFFSET(ETO!$C$3,$M$2,$L20,1,1)*7","v":25.76},null,{"$f":"OFFSET('input พืชไร่'!$B$4,0,$D$1,1,1)","v":7},0,null,{"$f":"OFFSET('input พืชไร่'!$B$5,0,$D$1,1,1)","v":30},0,null,28,{"$f":"ROUND(OFFSET(ฝนใช้การ!$A$2,$U$2,$L20,1,1)*7/$U20,2)","v":2.7},0,null,0,0,0,null,null,null,null,null,null,null,null,null,null,null,null,null,null,null,null,null,null,null,null,null,null,null,null,null,null,null,null,null,null,null,null,null,null,null,null,null,null,null,null,null,null,null,null,null,null,null,null,null,null,null,null,null,null,null,null,null,null,null,null,null,null,null,null,null,null,null,null,null,null,null,null,null,null,null,null,null,null,null,null,null,null,null,null,null,null,null,null,null,null,null,null,null,null,null,null,null,null,null,null,null,null,null,null,null,null,null,null,null,null,null,null,null,null,null,null,null,null,null,null,null,null,null,null,null,null,null,null,null,null,null,null,null,null,null,null,null,null,null,null,null,null,null,null,null,null,null,null,null,null,null,null,null,null,null,null,null,null,null,null,null,null,null,null,null,null,null,null,null,null,null,null,null,null,null,null,null,null,null,null,null,null,null,null,null,null,null,null,null,null,null,null,"2018-02-28","2018-03-06",0]
[19,"2018-03-07","2018-03-13","2018-03-07",{"$f":"OFFSET('input พืชไร่'!$B$8,$A21,$D$1,1,1)","v":0},null,19,{"$f":"IF(G21=0,0,OFFSET(Kc!$A$2,1+G21,MATCH($H$1,List_Kc_ALL,0),1,1))","v":2.0699999999999998},null,null,null,3,{"$f":"OFFSET(ETO!$C$3,$M$2,$L21,1,1)*7","v":30.38},null,{"$f":"OFFSET('input พืชไร่'!$B$4,0,$D$1,1,1)","v":7},0,null,{"$f":"OFFSET('input พืชไร่'!$B$5,0,$D$1,1,1)","v":30},0,null,31,{"$f":"ROUND(OFFSET(ฝนใช้การ!$A$2,$U$2,$L21,1,1)*7/$U21,2)","v":6.44},0,null,0,0,0,null,null,null,null,null,null,null,null,null,null,null,null,null,null,null,null,null,null,null,null,null,null,null,null,null,null,null,null,null,null,null,null,null,null,null,null,null,null,null,null,null,null,null,null,null,null,null,null,null,null,null,null,null,null,null,null,null,null,null,null,null,null,null,null,null,null,null,null,null,null,null,null,null,null,null,null,null,null,null,null,null,null,null,null,null,null,null,null,null,null,null,null,null,null,null,null,null,null,null,null,null,null,null,null,null,null,null,null,null,null,null,null,null,null,null,null,null,null,null,null,null,null,null,null,null,null,null,null,null,null,null,null,null,null,null,null,null,null,null,null,null,null,null,null,null,null,null,null,null,null,null,null,null,null,null,null,null,null,null,null,null,null,null,null,null,null,null,null,null,null,null,null,null,null,null,null,null,null,null,null,null,null,null,null,null,null,null,null,null,null,null,null,{"$f":"+HL20+7","v":"2018-03-07"},"2018-03-13",0]
[20,"2018-03-14","2018-03-20","2018-03-14",{"$f":"OFFSET('input พืชไร่'!$B$8,$A22,$D$1,1,1)","v":0},null,20,{"$f":"IF(G22=0,0,OFFSET(Kc!$A$2,1+G22,MATCH($H$1,List_Kc_ALL,0),1,1))","v":2.0699999999999998},null,null,null,3,{"$f":"OFFSET(ETO!$C$3,$M$2,$L22,1,1)*7","v":30.38},null,{"$f":"OFFSET('input พืชไร่'!$B$4,0,$D$1,1,1)","v":7},0,null,{"$f":"OFFSET('input พืชไร่'!$B$5,0,$D$1,1,1)","v":30},0,null,31,{"$f":"ROUND(OFFSET(ฝนใช้การ!$A$2,$U$2,$L22,1,1)*7/$U22,2)","v":6.44},0,null,0,0,0,null,null,null,null,null,null,null,null,null,null,null,null,null,null,null,null,null,null,null,null,null,null,null,null,null,null,null,null,null,null,null,null,null,null,null,null,null,null,null,null,null,null,null,null,null,null,null,null,null,null,null,null,null,null,null,null,null,null,null,null,null,null,null,null,null,null,null,null,null,null,null,null,null,null,null,null,null,null,null,null,null,null,null,null,null,null,null,null,null,null,null,null,null,null,null,null,null,null,null,null,null,null,null,null,null,null,null,null,null,null,null,null,null,null,null,null,null,null,null,null,null,null,null,null,null,null,null,null,null,null,null,null,null,null,null,null,null,null,null,null,null,null,null,null,null,null,null,null,null,null,null,null,null,null,null,null,null,null,null,null,null,null,null,null,null,null,null,null,null,null,null,null,null,null,null,null,null,null,null,null,null,null,null,null,null,null,null,null,null,null,null,null,"2018-03-14","2018-03-20",0]
[21,"2018-03-21","2018-03-27","2018-03-21",{"$f":"OFFSET('input พืชไร่'!$B$8,$A23,$D$1,1,1)","v":0},null,21,{"$f":"IF(G23=0,0,OFFSET(Kc!$A$2,1+G23,MATCH($H$1,List_Kc_ALL,0),1,1))","v":2.0699999999999998},null,null,null,3,{"$f":"OFFSET(ETO!$C$3,$M$2,$L23,1,1)*7","v":30.38},null,{"$f":"OFFSET('input พืชไร่'!$B$4,0,$D$1,1,1)","v":7},0,null,{"$f":"OFFSET('input พืชไร่'!$B$5,0,$D$1,1,1)","v":30},0,null,31,{"$f":"ROUND(OFFSET(ฝนใช้การ!$A$2,$U$2,$L23,1,1)*7/$U23,2)","v":6.44},0,null,0,0,0,null,null,null,null,null,null,null,null,null,null,null,null,null,null,null,null,null,null,null,null,null,null,null,null,null,null,null,null,null,null,null,null,null,null,null,null,null,null,null,null,null,null,null,null,null,null,null,null,null,null,null,null,null,null,null,null,null,null,null,null,null,null,null,null,null,null,null,null,null,null,null,null,null,null,null,null,null,null,null,null,null,null,null,null,null,null,null,null,null,null,null,null,null,null,null,null,null,null,null,null,null,null,null,null,null,null,null,null,null,null,null,null,null,null,null,null,null,null,null,null,null,null,null,null,null,null,null,null,null,null,null,null,null,null,null,null,null,null,null,null,null,null,null,null,null,null,null,null,null,null,null,null,null,null,null,null,null,null,null,null,null,null,null,null,null,null,null,null,null,null,null,null,null,null,null,null,null,null,null,null,null,null,null,null,null,null,null,null,null,null,null,null,"2018-03-21","2018-03-27",0]
[22,"2018-03-28","2018-04-03","2018-03-28",{"$f":"OFFSET('input พืชไร่'!$B$8,$A24,$D$1,1,1)","v":0},null,22,{"$f":"IF(G24=0,0,OFFSET(Kc!$A$2,1+G24,MATCH($H$1,List_Kc_ALL,0),1,1))","v":2.0699999999999998},null,null,null,3,{"$f":"OFFSET(ETO!$C$3,$M$2,$L24,1,1)*7","v":30.38},null,{"$f":"OFFSET('input พืชไร่'!$B$4,0,$D$1,1,1)","v":7},0,null,{"$f":"OFFSET('input พืชไร่'!$B$5,0,$D$1,1,1)","v":30},0,null,31,{"$f":"ROUND(OFFSET(ฝนใช้การ!$A$2,$U$2,$L24,1,1)*7/$U24,2)","v":6.44},0,null,0,0,0,null,null,null,null,null,null,null,null,null,null,null,null,null,null,null,null,null,null,null,null,null,null,null,null,null,null,null,null,null,null,null,null,null,null,null,null,null,null,null,null,null,null,null,null,null,null,null,null,null,null,null,null,null,null,null,null,null,null,null,null,null,null,null,null,null,null,null,null,null,null,null,null,null,null,null,null,null,null,null,null,null,null,null,null,null,null,null,null,null,null,null,null,null,null,null,null,null,null,null,null,null,null,null,null,null,null,null,null,null,null,null,null,null,null,null,null,null,null,null,null,null,null,null,null,null,null,null,null,null,null,null,null,null,null,null,null,null,null,null,null,null,null,null,null,null,null,null,null,null,null,null,null,null,null,null,null,null,null,null,null,null,null,null,null,null,null,null,null,null,null,null,null,null,null,null,null,null,null,null,null,null,null,null,null,null,null,null,null,null,null,null,null,"2018-03-28","2018-04-03",0]
[23,"2018-04-04","2018-04-10","2018-04-04",{"$f":"OFFSET('input พืชไร่'!$B$8,$A25,$D$1,1,1)","v":0},null,23,{"$f":"IF(G25=0,0,OFFSET(Kc!$A$2,1+G25,MATCH($H$1,List_Kc_ALL,0),1,1))","v":2.1800000000000002},null,null,null,4,{"$f":"OFFSET(ETO!$C$3,$M$2,$L25,1,1)*7","v":31.919999999999998},null,{"$f":"OFFSET('input พืชไร่'!$B$4,0,$D$1,1,1)","v":7},0,null,{"$f":"OFFSET('input พืชไร่'!$B$5,0,$D$1,1,1)","v":30},0,null,30,{"$f":"ROUND(OFFSET(ฝนใช้การ!$A$2,$U$2,$L25,1,1)*7/$U25,2)","v":11.74},0,null,0,0,0,null,null,null,null,null,null,null,null,null,null,null,null,null,null,null,null,null,null,null,null,null,null,null,null,null,null,null,null,null,null,null,null,null,null,null,null,null,null,null,null,null,null,null,null,null,null,null,null,null,null,null,null,null,null,null,null,null,null,null,null,null,null,null,null,null,null,null,null,null,null,null,null,null,null,null,null,null,null,null,null,null,null,null,null,null,null,null,null,null,null,null,null,null,null,null,null,null,null,null,null,null,null,null,null,null,null,null,null,null,null,null,null,null,null,null,null,null,null,null,null,null,null,null,null,null,null,null,null,null,null,null,null,null,null,null,null,null,null,null,null,null,null,null,null,null,null,null,null,null,null,null,null,null,null,null,null,null,null,null,null,null,null,null,null,null,null,null,null,null,null,null,null,null,null,null,null,null,null,null,null,null,null,null,null,null,null,null,null,null,null,null,null,"2018-04-04","2018-04-10",0]
[24,"2018-04-11","2018-04-17","2018-04-11",{"$f":"OFFSET('input พืชไร่'!$B$8,$A26,$D$1,1,1)","v":0},null,24,{"$f":"IF(G26=0,0,OFFSET(Kc!$A$2,1+G26,MATCH($H$1,List_Kc_ALL,0),1,1))","v":2.1800000000000002},null,null,null,4,{"$f":"OFFSET(ETO!$C$3,$M$2,$L26,1,1)*7","v":31.919999999999998},null,{"$f":"OFFSET('input พืชไร่'!$B$4,0,$D$1,1,1)","v":7},0,null,{"$f":"OFFSET('input พืชไร่'!$B$5,0,$D$1,1,1)","v":30},0,null,30,{"$f":"ROUND(OFFSET(ฝนใช้การ!$A$2,$U$2,$L26,1,1)*7/$U26,2)","v":11.74},0,null,0,0,0,null,null,null,null,null,null,null,null,null,null,null,null,null,null,null,null,null,null,null,null,null,null,null,null,null,null,null,null,null,null,null,null,null,null,null,null,null,null,null,null,null,null,null,null,null,null,null,null,null,null,null,null,null,null,null,null,null,null,null,null,null,null,null,null,null,null,null,null,null,null,null,null,null,null,null,null,null,null,null,null,null,null,null,null,null,null,null,null,null,null,null,null,null,null,null,null,null,null,null,null,null,null,null,null,null,null,null,null,null,null,null,null,null,null,null,null,null,null,null,null,null,null,null,null,null,null,null,null,null,null,null,null,null,null,null,null,null,null,null,null,null,null,null,null,null,null,null,null,null,null,null,null,null,null,null,null,null,null,null,null,null,null,null,null,null,null,null,null,null,null,null,null,null,null,null,null,null,null,null,null,null,null,null,null,null,null,null,null,null,null,null,null,"2018-04-11","2018-04-17",0]
[25,"2018-04-18","2018-04-24","2018-04-18",{"$f":"OFFSET('input พืชไร่'!$B$8,$A27,$D$1,1,1)","v":0},null,25,{"$f":"IF(G27=0,0,OFFSET(Kc!$A$2,1+G27,MATCH($H$1,List_Kc_ALL,0),1,1))","v":2.1800000000000002},null,null,null,4,{"$f":"OFFSET(ETO!$C$3,$M$2,$L27,1,1)*7","v":31.919999999999998},null,{"$f":"OFFSET('input พืชไร่'!$B$4,0,$D$1,1,1)","v":7},0,null,{"$f":"OFFSET('input พืชไร่'!$B$5,0,$D$1,1,1)","v":30},0,null,30,{"$f":"ROUND(OFFSET(ฝนใช้การ!$A$2,$U$2,$L27,1,1)*7/$U27,2)","v":11.74},0,null,0,0,0,null,null,null,null,null,null,null,null,null,null,null,null,null,null,null,null,null,null,null,null,null,null,null,null,null,null,null,null,null,null,null,null,null,null,null,null,null,null,null,null,null,null,null,null,null,null,null,null,null,null,null,null,null,null,null,null,null,null,null,null,null,null,null,null,null,null,null,null,null,null,null,null,null,null,null,null,null,null,null,null,null,null,null,null,null,null,null,null,null,null,null,null,null,null,null,null,null,null,null,null,null,null,null,null,null,null,null,null,null,null,null,null,null,null,null,null,null,null,null,null,null,null,null,null,null,null,null,null,null,null,null,null,null,null,null,null,null,null,null,null,null,null,null,null,null,null,null,null,null,null,null,null,null,null,null,null,null,null,null,null,null,null,null,null,null,null,null,null,null,null,null,null,null,null,null,null,null,null,null,null,null,null,null,null,null,null,null,null,null,null,null,null,"2018-04-18","2018-04-24",0]
[26,"2018-04-25","2018-05-01","2018-04-25",{"$f":"OFFSET('input พืชไร่'!$B$8,$A28,$D$1,1,1)","v":0},null,26,{"$f":"IF(G28=0,0,OFFSET(Kc!$A$2,1+G28,MATCH($H$1,List_Kc_ALL,0),1,1))","v":2.1800000000000002},null,null,null,4,{"$f":"OFFSET(ETO!$C$3,$M$2,$L28,1,1)*7","v":31.919999999999998},null,{"$f":"OFFSET('input พืชไร่'!$B$4,0,$D$1,1,1)","v":7},0,null,{"$f":"OFFSET('input พืชไร่'!$B$5,0,$D$1,1,1)","v":30},0,null,30,{"$f":"ROUND(OFFSET(ฝนใช้การ!$A$2,$U$2,$L28,1,1)*7/$U28,2)","v":11.74},0,null,0,0,0,null,null,null,null,null,null,null,null,null,null,null,null,null,null,null,null,null,null,null,null,null,null,null,null,null,null,null,null,null,null,null,null,null,null,null,null,null,null,null,null,null,null,null,null,null,null,null,null,null,null,null,null,null,null,null,null,null,null,null,null,null,null,null,null,null,null,null,null,null,null,null,null,null,null,null,null,null,null,null,null,null,null,null,null,null,null,null,null,null,null,null,null,null,null,null,null,null,null,null,null,null,null,null,null,null,null,null,null,null,null,null,null,null,null,null,null,null,null,null,null,null,null,null,null,null,null,null,null,null,null,null,null,null,null,null,null,null,null,null,null,null,null,null,null,null,null,null,null,null,null,null,null,null,null,null,null,null,null,null,null,null,null,null,null,null,null,null,null,null,null,null,null,null,null,null,null,null,null,null,null,null,null,null,null,null,null,null,null,null,null,null,null,"2018-04-25","2018-05-01",0]
[27,"2018-05-02","2018-05-08","2018-05-02",{"$f":"OFFSET('input พืชไร่'!$B$8,$A29,$D$1,1,1)","v":0},null,27,{"$f":"IF(G29=0,0,OFFSET(Kc!$A$2,1+G29,MATCH($H$1,List_Kc_ALL,0),1,1))","v":2.1800000100000001},null,null,null,5,{"$f":"OFFSET(ETO!$C$3,$M$2,$L29,1,1)*7","v":30.169999999999998},null,{"$f":"OFFSET('input พืชไร่'!$B$4,0,$D$1,1,1)","v":7},0,null,{"$f":"OFFSET('input พืชไร่'!$B$5,0,$D$1,1,1)","v":30},0,null,31,{"$f":"ROUND(OFFSET(ฝนใช้การ!$A$2,$U$2,$L29,1,1)*7/$U29,2)","v":26.51},0,null,0,0,0,null,null,null,null,null,null,null,null,null,null,null,null,null,null,null,null,null,null,null,null,null,null,null,null,null,null,null,null,null,null,null,null,null,null,null,null,null,null,null,null,null,null,null,null,null,null,null,null,null,null,null,null,null,null,null,null,null,null,null,null,null,null,null,null,null,null,null,null,null,null,null,null,null,null,null,null,null,null,null,null,null,null,null,null,null,null,null,null,null,null,null,null,null,null,null,null,null,null,null,null,null,null,null,null,null,null,null,null,null,null,null,null,null,null,null,null,null,null,null,null,null,null,null,null,null,null,null,null,null,null,null,null,null,null,null,null,null,null,null,null,null,null,null,null,null,null,null,null,null,null,null,null,null,null,null,null,null,null,null,null,null,null,null,null,null,null,null,null,null,null,null,null,null,null,null,null,null,null,null,null,null,null,null,null,null,null,null,null,null,null,null,null,"2018-05-02","2018-05-08",0]
[28,"2018-05-09","2018-05-15","2018-05-09",{"$f":"OFFSET('input พืชไร่'!$B$8,$A30,$D$1,1,1)","v":0},null,28,{"$f":"IF(G30=0,0,OFFSET(Kc!$A$2,1+G30,MATCH($H$1,List_Kc_ALL,0),1,1))","v":2.1800000100000001},null,null,null,5,{"$f":"OFFSET(ETO!$C$3,$M$2,$L30,1,1)*7","v":30.169999999999998},null,{"$f":"OFFSET('input พืชไร่'!$B$4,0,$D$1,1,1)","v":7},0,null,{"$f":"OFFSET('input พืชไร่'!$B$5,0,$D$1,1,1)","v":30},0,null,31,{"$f":"ROUND(OFFSET(ฝนใช้การ!$A$2,$U$2,$L30,1,1)*7/$U30,2)","v":26.51},0,null,0,0,0,null,null,null,null,null,null,null,null,null,null,null,null,null,null,null,null,null,null,null,null,null,null,null,null,null,null,null,null,null,null,null,null,null,null,null,null,null,null,null,null,null,null,null,null,null,null,null,null,null,null,null,null,null,null,null,null,null,null,null,null,null,null,null,null,null,null,null,null,null,null,null,null,null,null,null,null,null,null,null,null,null,null,null,null,null,null,null,null,null,null,null,null,null,null,null,null,null,null,null,null,null,null,null,null,null,null,null,null,null,null,null,null,null,null,null,null,null,null,null,null,null,null,null,null,null,null,null,null,null,null,null,null,null,null,null,null,null,null,null,null,null,null,null,null,null,null,null,null,null,null,null,null,null,null,null,null,null,null,null,null,null,null,null,null,null,null,null,null,null,null,null,null,null,null,null,null,null,null,null,null,null,null,null,null,null,null,null,null,null,null,null,null,"2018-05-09","2018-05-15",0]
[29,"2018-05-16","2018-05-22","2018-05-16",{"$f":"OFFSET('input พืชไร่'!$B$8,$A31,$D$1,1,1)","v":0},null,29,{"$f":"IF(G31=0,0,OFFSET(Kc!$A$2,1+G31,MATCH($H$1,List_Kc_ALL,0),1,1))","v":2.1800000100000001},null,null,null,5,{"$f":"OFFSET(ETO!$C$3,$M$2,$L31,1,1)*7","v":30.169999999999998},null,{"$f":"OFFSET('input พืชไร่'!$B$4,0,$D$1,1,1)","v":7},0,null,{"$f":"OFFSET('input พืชไร่'!$B$5,0,$D$1,1,1)","v":30},0,null,31,{"$f":"ROUND(OFFSET(ฝนใช้การ!$A$2,$U$2,$L31,1,1)*7/$U31,2)","v":26.51},0,null,0,0,0,null,null,null,null,null,null,null,null,null,null,null,null,null,null,null,null,null,null,null,null,null,null,null,null,null,null,null,null,null,null,null,null,null,null,null,null,null,null,null,null,null,null,null,null,null,null,null,null,null,null,null,null,null,null,null,null,null,null,null,null,null,null,null,null,null,null,null,null,null,null,null,null,null,null,null,null,null,null,null,null,null,null,null,null,null,null,null,null,null,null,null,null,null,null,null,null,null,null,null,null,null,null,null,null,null,null,null,null,null,null,null,null,null,null,null,null,null,null,null,null,null,null,null,null,null,null,null,null,null,null,null,null,null,null,null,null,null,null,null,null,null,null,null,null,null,null,null,null,null,null,null,null,null,null,null,null,null,null,null,null,null,null,null,null,null,null,null,null,null,null,null,null,null,null,null,null,null,null,null,null,null,null,null,null,null,null,null,null,null,null,null,null,"2018-05-16","2018-05-22",0]
[30,"2018-05-23","2018-05-29","2018-05-23",{"$f":"OFFSET('input พืชไร่'!$B$8,$A32,$D$1,1,1)","v":0},null,30,{"$f":"IF(G32=0,0,OFFSET(Kc!$A$2,1+G32,MATCH($H$1,List_Kc_ALL,0),1,1))","v":2.1800000100000001},null,null,null,5,{"$f":"OFFSET(ETO!$C$3,$M$2,$L32,1,1)*7","v":30.169999999999998},null,{"$f":"OFFSET('input พืชไร่'!$B$4,0,$D$1,1,1)","v":7},0,null,{"$f":"OFFSET('input พืชไร่'!$B$5,0,$D$1,1,1)","v":30},0,null,31,{"$f":"ROUND(OFFSET(ฝนใช้การ!$A$2,$U$2,$L32,1,1)*7/$U32,2)","v":26.51},0,null,0,0,0,null,null,null,null,null,null,null,null,null,null,null,null,null,null,null,null,null,null,null,null,null,null,null,null,null,null,null,null,null,null,null,null,null,null,null,null,null,null,null,null,null,null,null,null,null,null,null,null,null,null,null,null,null,null,null,null,null,null,null,null,null,null,null,null,null,null,null,null,null,null,null,null,null,null,null,null,null,null,null,null,null,null,null,null,null,null,null,null,null,null,null,null,null,null,null,null,null,null,null,null,null,null,null,null,null,null,null,null,null,null,null,null,null,null,null,null,null,null,null,null,null,null,null,null,null,null,null,null,null,null,null,null,null,null,null,null,null,null,null,null,null,null,null,null,null,null,null,null,null,null,null,null,null,null,null,null,null,null,null,null,null,null,null,null,null,null,null,null,null,null,null,null,null,null,null,null,null,null,null,null,null,null,null,null,null,null,null,null,null,null,null,null,"2018-05-23","2018-05-29",0]
[31,"2018-05-30","2018-06-05","2018-05-30",{"$f":"OFFSET('input พืชไร่'!$B$8,$A33,$D$1,1,1)","v":0},null,31,{"$f":"IF(G33=0,0,OFFSET(Kc!$A$2,1+G33,MATCH($H$1,List_Kc_ALL,0),1,1))","v":1.88},null,null,null,5,{"$f":"OFFSET(ETO!$C$3,$M$2,$L33,1,1)*7","v":30.169999999999998},null,{"$f":"OFFSET('input พืชไร่'!$B$4,0,$D$1,1,1)","v":7},0,null,{"$f":"OFFSET('input พืชไร่'!$B$5,0,$D$1,1,1)","v":30},0,null,31,{"$f":"ROUND(OFFSET(ฝนใช้การ!$A$2,$U$2,$L33,1,1)*7/$U33,2)","v":26.51},0,null,0,0,0,null,null,null,null,null,null,null,null,null,null,null,null,null,null,null,null,null,null,null,null,null,null,null,null,null,null,null,null,null,null,null,null,null,null,null,null,null,null,null,null,null,null,null,null,null,null,null,null,null,null,null,null,null,null,null,null,null,null,null,null,null,null,null,null,null,null,null,null,null,null,null,null,null,null,null,null,null,null,null,null,null,null,null,null,null,null,null,null,null,null,null,null,null,null,null,null,null,null,null,null,null,null,null,null,null,null,null,null,null,null,null,null,null,null,null,null,null,null,null,null,null,null,null,null,null,null,null,null,null,null,null,null,null,null,null,null,null,null,null,null,null,null,null,null,null,null,null,null,null,null,null,null,null,null,null,null,null,null,null,null,null,null,null,null,null,null,null,null,null,null,null,null,null,null,null,null,null,null,null,null,null,null,null,null,null,null,null,null,null,null,null,null,"2018-05-30","2018-06-05",0]
[32,"2018-06-06","2018-06-12","2018-06-06",{"$f":"OFFSET('input พืชไร่'!$B$8,$A34,$D$1,1,1)","v":0},null,32,{"$f":"IF(G34=0,0,OFFSET(Kc!$A$2,1+G34,MATCH($H$1,List_Kc_ALL,0),1,1))","v":1.88},null,null,null,6,{"$f":"OFFSET(ETO!$C$3,$M$2,$L34,1,1)*7","v":29.889999999999997},null,{"$f":"OFFSET('input พืชไร่'!$B$4,0,$D$1,1,1)","v":7},0,null,{"$f":"OFFSET('input พืชไร่'!$B$5,0,$D$1,1,1)","v":30},0,null,30,{"$f":"ROUND(OFFSET(ฝนใช้การ!$A$2,$U$2,$L34,1,1)*7/$U34,2)","v":21.07},0,null,0,0,0,null,null,null,null,null,null,null,null,null,null,null,null,null,null,null,null,null,null,null,null,null,null,null,null,null,null,null,null,null,null,null,null,null,null,null,null,null,null,null,null,null,null,null,null,null,null,null,null,null,null,null,null,null,null,null,null,null,null,null,null,null,null,null,null,null,null,null,null,null,null,null,null,null,null,null,null,null,null,null,null,null,null,null,null,null,null,null,null,null,null,null,null,null,null,null,null,null,null,null,null,null,null,null,null,null,null,null,null,null,null,null,null,null,null,null,null,null,null,null,null,null,null,null,null,null,null,null,null,null,null,null,null,null,null,null,null,null,null,null,null,null,null,null,null,null,null,null,null,null,null,null,null,null,null,null,null,null,null,null,null,null,null,null,null,null,null,null,null,null,null,null,null,null,null,null,null,null,null,null,null,null,null,null,null,null,null,null,null,null,null,null,null,"2018-06-06","2018-06-12",0]
[33,"2018-06-13","2018-06-19","2018-06-13",{"$f":"OFFSET('input พืชไร่'!$B$8,$A35,$D$1,1,1)","v":0},null,33,{"$f":"IF(G35=0,0,OFFSET(Kc!$A$2,1+G35,MATCH($H$1,List_Kc_ALL,0),1,1))","v":1.88},null,null,null,6,{"$f":"OFFSET(ETO!$C$3,$M$2,$L35,1,1)*7","v":29.889999999999997},null,{"$f":"OFFSET('input พืชไร่'!$B$4,0,$D$1,1,1)","v":7},0,null,{"$f":"OFFSET('input พืชไร่'!$B$5,0,$D$1,1,1)","v":30},0,null,30,{"$f":"ROUND(OFFSET(ฝนใช้การ!$A$2,$U$2,$L35,1,1)*7/$U35,2)","v":21.07},0,null,0,0,0,null,null,null,null,null,null,null,null,null,null,null,null,null,null,null,null,null,null,null,null,null,null,null,null,null,null,null,null,null,null,null,null,null,null,null,null,null,null,null,null,null,null,null,null,null,null,null,null,null,null,null,null,null,null,null,null,null,null,null,null,null,null,null,null,null,null,null,null,null,null,null,null,null,null,null,null,null,null,null,null,null,null,null,null,null,null,null,null,null,null,null,null,null,null,null,null,null,null,null,null,null,null,null,null,null,null,null,null,null,null,null,null,null,null,null,null,null,null,null,null,null,null,null,null,null,null,null,null,null,null,null,null,null,null,null,null,null,null,null,null,null,null,null,null,null,null,null,null,null,null,null,null,null,null,null,null,null,null,null,null,null,null,null,null,null,null,null,null,null,null,null,null,null,null,null,null,null,null,null,null,null,null,null,null,null,null,null,null,null,null,null,null,"2018-06-13","2018-06-19",0]
[34,"2018-06-20","2018-06-26","2018-06-20",{"$f":"OFFSET('input พืชไร่'!$B$8,$A36,$D$1,1,1)","v":0},null,34,{"$f":"IF(G36=0,0,OFFSET(Kc!$A$2,1+G36,MATCH($H$1,List_Kc_ALL,0),1,1))","v":1.88},null,null,null,6,{"$f":"OFFSET(ETO!$C$3,$M$2,$L36,1,1)*7","v":29.889999999999997},null,{"$f":"OFFSET('input พืชไร่'!$B$4,0,$D$1,1,1)","v":7},0,null,{"$f":"OFFSET('input พืชไร่'!$B$5,0,$D$1,1,1)","v":30},0,null,30,{"$f":"ROUND(OFFSET(ฝนใช้การ!$A$2,$U$2,$L36,1,1)*7/$U36,2)","v":21.07},0,null,0,0,0,null,null,null,null,null,null,null,null,null,null,null,null,null,null,null,null,null,null,null,null,null,null,null,null,null,null,null,null,null,null,null,null,null,null,null,null,null,null,null,null,null,null,null,null,null,null,null,null,null,null,null,null,null,null,null,null,null,null,null,null,null,null,null,null,null,null,null,null,null,null,null,null,null,null,null,null,null,null,null,null,null,null,null,null,null,null,null,null,null,null,null,null,null,null,null,null,null,null,null,null,null,null,null,null,null,null,null,null,null,null,null,null,null,null,null,null,null,null,null,null,null,null,null,null,null,null,null,null,null,null,null,null,null,null,null,null,null,null,null,null,null,null,null,null,null,null,null,null,null,null,null,null,null,null,null,null,null,null,null,null,null,null,null,null,null,null,null,null,null,null,null,null,null,null,null,null,null,null,null,null,null,null,null,null,null,null,null,null,null,null,null,null,"2018-06-20","2018-06-26",0]
[35,"2018-06-27","2018-07-03","2018-06-27",{"$f":"OFFSET('input พืชไร่'!$B$8,$A37,$D$1,1,1)","v":0},null,35,{"$f":"IF(G37=0,0,OFFSET(Kc!$A$2,1+G37,MATCH($H$1,List_Kc_ALL,0),1,1))","v":1.88},null,null,null,6,{"$f":"OFFSET(ETO!$C$3,$M$2,$L37,1,1)*7","v":29.889999999999997},null,{"$f":"OFFSET('input พืชไร่'!$B$4,0,$D$1,1,1)","v":7},0,null,{"$f":"OFFSET('input พืชไร่'!$B$5,0,$D$1,1,1)","v":30},0,null,30,{"$f":"ROUND(OFFSET(ฝนใช้การ!$A$2,$U$2,$L37,1,1)*7/$U37,2)","v":21.07},0,null,0,0,0,null,null,null,null,null,null,null,null,null,null,null,null,null,null,null,null,null,null,null,null,null,null,null,null,null,null,null,null,null,null,null,null,null,null,null,null,null,null,null,null,null,null,null,null,null,null,null,null,null,null,null,null,null,null,null,null,null,null,null,null,null,null,null,null,null,null,null,null,null,null,null,null,null,null,null,null,null,null,null,null,null,null,null,null,null,null,null,null,null,null,null,null,null,null,null,null,null,null,null,null,null,null,null,null,null,null,null,null,null,null,null,null,null,null,null,null,null,null,null,null,null,null,null,null,null,null,null,null,null,null,null,null,null,null,null,null,null,null,null,null,null,null,null,null,null,null,null,null,null,null,null,null,null,null,null,null,null,null,null,null,null,null,null,null,null,null,null,null,null,null,null,null,null,null,null,null,null,null,null,null,null,null,null,null,null,null,null,null,null,null,null,null,{"$f":"+HL36+7","v":"2018-06-27"},"2018-07-03",0]
[36,"2018-07-04","2018-07-10","2018-07-04",{"$f":"OFFSET('input พืชไร่'!$B$8,$A38,$D$1,1,1)","v":0},null,36,{"$f":"IF(G38=0,0,OFFSET(Kc!$A$2,1+G38,MATCH($H$1,List_Kc_ALL,0),1,1))","v":1.86},null,null,null,7,{"$f":"OFFSET(ETO!$C$3,$M$2,$L38,1,1)*7","v":26.88},null,{"$f":"OFFSET('input พืชไร่'!$B$4,0,$D$1,1,1)","v":7},0,null,{"$f":"OFFSET('input พืชไร่'!$B$5,0,$D$1,1,1)","v":30},0,null,31,{"$f":"ROUND(OFFSET(ฝนใช้การ!$A$2,$U$2,$L38,1,1)*7/$U38,2)","v":27.8},0,null,0,0,0,null,null,null,null,null,null,null,null,null,null,null,null,null,null,null,null,null,null,null,null,null,null,null,null,null,null,null,null,null,null,null,null,null,null,null,null,null,null,null,null,null,null,null,null,null,null,null,null,null,null,null,null,null,null,null,null,null,null,null,null,null,null,null,null,null,null,null,null,null,null,null,null,null,null,null,null,null,null,null,null,null,null,null,null,null,null,null,null,null,null,null,null,null,null,null,null,null,null,null,null,null,null,null,null,null,null,null,null,null,null,null,null,null,null,null,null,null,null,null,null,null,null,null,null,null,null,null,null,null,null,null,null,null,null,null,null,null,null,null,null,null,null,null,null,null,null,null,null,null,null,null,null,null,null,null,null,null,null,null,null,null,null,null,null,null,null,null,null,null,null,null,null,null,null,null,null,null,null,null,null,null,null,null,null,null,null,null,null,null,null,null,null,"2018-07-04","2018-07-10",0]
[37,"2018-07-11","2018-07-17","2018-07-11",{"$f":"OFFSET('input พืชไร่'!$B$8,$A39,$D$1,1,1)","v":0},null,37,{"$f":"IF(G39=0,0,OFFSET(Kc!$A$2,1+G39,MATCH($H$1,List_Kc_ALL,0),1,1))","v":1.86},null,null,null,7,{"$f":"OFFSET(ETO!$C$3,$M$2,$L39,1,1)*7","v":26.88},null,{"$f":"OFFSET('input พืชไร่'!$B$4,0,$D$1,1,1)","v":7},0,null,{"$f":"OFFSET('input พืชไร่'!$B$5,0,$D$1,1,1)","v":30},0,null,31,{"$f":"ROUND(OFFSET(ฝนใช้การ!$A$2,$U$2,$L39,1,1)*7/$U39,2)","v":27.8},0,null,0,0,0,null,null,null,null,null,null,null,null,null,null,null,null,null,null,null,null,null,null,null,null,null,null,null,null,null,null,null,null,null,null,null,null,null,null,null,null,null,null,null,null,null,null,null,null,null,null,null,null,null,null,null,null,null,null,null,null,null,null,null,null,null,null,null,null,null,null,null,null,null,null,null,null,null,null,null,null,null,null,null,null,null,null,null,null,null,null,null,null,null,null,null,null,null,null,null,null,null,null,null,null,null,null,null,null,null,null,null,null,null,null,null,null,null,null,null,null,null,null,null,null,null,null,null,null,null,null,null,null,null,null,null,null,null,null,null,null,null,null,null,null,null,null,null,null,null,null,null,null,null,null,null,null,null,null,null,null,null,null,null,null,null,null,null,null,null,null,null,null,null,null,null,null,null,null,null,null,null,null,null,null,null,null,null,null,null,null,null,null,null,null,null,null,"2018-07-11","2018-07-17",0]
[38,"2018-07-18","2018-07-24","2018-07-18",{"$f":"OFFSET('input พืชไร่'!$B$8,$A40,$D$1,1,1)","v":0},null,38,{"$f":"IF(G40=0,0,OFFSET(Kc!$A$2,1+G40,MATCH($H$1,List_Kc_ALL,0),1,1))","v":1.86},null,null,null,7,{"$f":"OFFSET(ETO!$C$3,$M$2,$L40,1,1)*7","v":26.88},null,{"$f":"OFFSET('input พืชไร่'!$B$4,0,$D$1,1,1)","v":7},0,null,{"$f":"OFFSET('input พืชไร่'!$B$5,0,$D$1,1,1)","v":30},0,null,31,{"$f":"ROUND(OFFSET(ฝนใช้การ!$A$2,$U$2,$L40,1,1)*7/$U40,2)","v":27.8},0,null,0,0,0,null,null,null,null,null,null,null,null,null,null,null,null,null,null,null,null,null,null,null,null,null,null,null,null,null,null,null,null,null,null,null,null,null,null,null,null,null,null,null,null,null,null,null,null,null,null,null,null,null,null,null,null,null,null,null,null,null,null,null,null,null,null,null,null,null,null,null,null,null,null,null,null,null,null,null,null,null,null,null,null,null,null,null,null,null,null,null,null,null,null,null,null,null,null,null,null,null,null,null,null,null,null,null,null,null,null,null,null,null,null,null,null,null,null,null,null,null,null,null,null,null,null,null,null,null,null,null,null,null,null,null,null,null,null,null,null,null,null,null,null,null,null,null,null,null,null,null,null,null,null,null,null,null,null,null,null,null,null,null,null,null,null,null,null,null,null,null,null,null,null,null,null,null,null,null,null,null,null,null,null,null,null,null,null,null,null,null,null,null,null,null,null,"2018-07-18","2018-07-24",0]
[39,"2018-07-25","2018-07-31","2018-07-25",{"$f":"OFFSET('input พืชไร่'!$B$8,$A41,$D$1,1,1)","v":0},null,39,{"$f":"IF(G41=0,0,OFFSET(Kc!$A$2,1+G41,MATCH($H$1,List_Kc_ALL,0),1,1))","v":1.86},null,null,null,7,{"$f":"OFFSET(ETO!$C$3,$M$2,$L41,1,1)*7","v":26.88},null,{"$f":"OFFSET('input พืชไร่'!$B$4,0,$D$1,1,1)","v":7},0,null,{"$f":"OFFSET('input พืชไร่'!$B$5,0,$D$1,1,1)","v":30},0,null,31,{"$f":"ROUND(OFFSET(ฝนใช้การ!$A$2,$U$2,$L41,1,1)*7/$U41,2)","v":27.8},0,null,0,0,0,null,null,null,null,null,null,null,null,null,null,null,null,null,null,null,null,null,null,null,null,null,null,null,null,null,null,null,null,null,null,null,null,null,null,null,null,null,null,null,null,null,null,null,null,null,null,null,null,null,null,null,null,null,null,null,null,null,null,null,null,null,null,null,null,null,null,null,null,null,null,null,null,null,null,null,null,null,null,null,null,null,null,null,null,null,null,null,null,null,null,null,null,null,null,null,null,null,null,null,null,null,null,null,null,null,null,null,null,null,null,null,null,null,null,null,null,null,null,null,null,null,null,null,null,null,null,null,null,null,null,null,null,null,null,null,null,null,null,null,null,null,null,null,null,null,null,null,null,null,null,null,null,null,null,null,null,null,null,null,null,null,null,null,null,null,null,null,null,null,null,null,null,null,null,null,null,null,null,null,null,null,null,null,null,null,null,null,null,null,null,null,null,"2018-07-25","2018-07-31",0]
[40,"2018-08-01","2018-08-07","2018-08-01",{"$f":"OFFSET('input พืชไร่'!$B$8,$A42,$D$1,1,1)","v":0},null,40,{"$f":"IF(G42=0,0,OFFSET(Kc!$A$2,1+G42,MATCH($H$1,List_Kc_ALL,0),1,1))","v":2.21},null,null,null,8,{"$f":"OFFSET(ETO!$C$3,$M$2,$L42,1,1)*7","v":24.290000000000003},null,{"$f":"OFFSET('input พืชไร่'!$B$4,0,$D$1,1,1)","v":7},0,null,{"$f":"OFFSET('input พืชไร่'!$B$5,0,$D$1,1,1)","v":30},0,null,31,{"$f":"ROUND(OFFSET(ฝนใช้การ!$A$2,$U$2,$L42,1,1)*7/$U42,2)","v":33.17},0,null,0,0,0,null,null,null,null,null,null,null,null,null,null,null,null,null,null,null,null,null,null,null,null,null,null,null,null,null,null,null,null,null,null,null,null,null,null,null,null,null,null,null,null,null,null,null,null,null,null,null,null,null,null,null,null,null,null,null,null,null,null,null,null,null,null,null,null,null,null,null,null,null,null,null,null,null,null,null,null,null,null,null,null,null,null,null,null,null,null,null,null,null,null,null,null,null,null,null,null,null,null,null,null,null,null,null,null,null,null,null,null,null,null,null,null,null,null,null,null,null,null,null,null,null,null,null,null,null,null,null,null,null,null,null,null,null,null,null,null,null,null,null,null,null,null,null,null,null,null,null,null,null,null,null,null,null,null,null,null,null,null,null,null,null,null,null,null,null,null,null,null,null,null,null,null,null,null,null,null,null,null,null,null,null,null,null,null,null,null,null,null,null,null,null,null,"2018-08-01","2018-08-07",0]
[41,"2018-08-08","2018-08-14","2018-08-08",{"$f":"OFFSET('input พืชไร่'!$B$8,$A43,$D$1,1,1)","v":0},null,41,{"$f":"IF(G43=0,0,OFFSET(Kc!$A$2,1+G43,MATCH($H$1,List_Kc_ALL,0),1,1))","v":2.21},null,null,null,8,{"$f":"OFFSET(ETO!$C$3,$M$2,$L43,1,1)*7","v":24.290000000000003},null,{"$f":"OFFSET('input พืชไร่'!$B$4,0,$D$1,1,1)","v":7},0,null,{"$f":"OFFSET('input พืชไร่'!$B$5,0,$D$1,1,1)","v":30},0,null,31,{"$f":"ROUND(OFFSET(ฝนใช้การ!$A$2,$U$2,$L43,1,1)*7/$U43,2)","v":33.17},0,null,0,0,0,null,null,null,null,null,null,null,null,null,null,null,null,null,null,null,null,null,null,null,null,null,null,null,null,null,null,null,null,null,null,null,null,null,null,null,null,null,null,null,null,null,null,null,null,null,null,null,null,null,null,null,null,null,null,null,null,null,null,null,null,null,null,null,null,null,null,null,null,null,null,null,null,null,null,null,null,null,null,null,null,null,null,null,null,null,null,null,null,null,null,null,null,null,null,null,null,null,null,null,null,null,null,null,null,null,null,null,null,null,null,null,null,null,null,null,null,null,null,null,null,null,null,null,null,null,null,null,null,null,null,null,null,null,null,null,null,null,null,null,null,null,null,null,null,null,null,null,null,null,null,null,null,null,null,null,null,null,null,null,null,null,null,null,null,null,null,null,null,null,null,null,null,null,null,null,null,null,null,null,null,null,null,null,null,null,null,null,null,null,null,null,null,"2018-08-08","2018-08-14",0]
[42,"2018-08-15","2018-08-21","2018-08-15",{"$f":"OFFSET('input พืชไร่'!$B$8,$A44,$D$1,1,1)","v":0},null,42,{"$f":"IF(G44=0,0,OFFSET(Kc!$A$2,1+G44,MATCH($H$1,List_Kc_ALL,0),1,1))","v":2.21},null,null,null,8,{"$f":"OFFSET(ETO!$C$3,$M$2,$L44,1,1)*7","v":24.290000000000003},null,{"$f":"OFFSET('input พืชไร่'!$B$4,0,$D$1,1,1)","v":7},0,null,{"$f":"OFFSET('input พืชไร่'!$B$5,0,$D$1,1,1)","v":30},0,null,31,{"$f":"ROUND(OFFSET(ฝนใช้การ!$A$2,$U$2,$L44,1,1)*7/$U44,2)","v":33.17},0,null,0,0,0,null,null,null,null,null,null,null,null,null,null,null,null,null,null,null,null,null,null,null,null,null,null,null,null,null,null,null,null,null,null,null,null,null,null,null,null,null,null,null,null,null,null,null,null,null,null,null,null,null,null,null,null,null,null,null,null,null,null,null,null,null,null,null,null,null,null,null,null,null,null,null,null,null,null,null,null,null,null,null,null,null,null,null,null,null,null,null,null,null,null,null,null,null,null,null,null,null,null,null,null,null,null,null,null,null,null,null,null,null,null,null,null,null,null,null,null,null,null,null,null,null,null,null,null,null,null,null,null,null,null,null,null,null,null,null,null,null,null,null,null,null,null,null,null,null,null,null,null,null,null,null,null,null,null,null,null,null,null,null,null,null,null,null,null,null,null,null,null,null,null,null,null,null,null,null,null,null,null,null,null,null,null,null,null,null,null,null,null,null,null,null,null,"2018-08-15","2018-08-21",0]
[43,"2018-08-22","2018-08-28","2018-08-22",{"$f":"OFFSET('input พืชไร่'!$B$8,$A45,$D$1,1,1)","v":0},null,43,{"$f":"IF(G45=0,0,OFFSET(Kc!$A$2,1+G45,MATCH($H$1,List_Kc_ALL,0),1,1))","v":2.21},null,null,null,8,{"$f":"OFFSET(ETO!$C$3,$M$2,$L45,1,1)*7","v":24.290000000000003},null,{"$f":"OFFSET('input พืชไร่'!$B$4,0,$D$1,1,1)","v":7},0,null,{"$f":"OFFSET('input พืชไร่'!$B$5,0,$D$1,1,1)","v":30},0,null,31,{"$f":"ROUND(OFFSET(ฝนใช้การ!$A$2,$U$2,$L45,1,1)*7/$U45,2)","v":33.17},0,null,0,0,0,null,null,null,null,null,null,null,null,null,null,null,null,null,null,null,null,null,null,null,null,null,null,null,null,null,null,null,null,null,null,null,null,null,null,null,null,null,null,null,null,null,null,null,null,null,null,null,null,null,null,null,null,null,null,null,null,null,null,null,null,null,null,null,null,null,null,null,null,null,null,null,null,null,null,null,null,null,null,null,null,null,null,null,null,null,null,null,null,null,null,null,null,null,null,null,null,null,null,null,null,null,null,null,null,null,null,null,null,null,null,null,null,null,null,null,null,null,null,null,null,null,null,null,null,null,null,null,null,null,null,null,null,null,null,null,null,null,null,null,null,null,null,null,null,null,null,null,null,null,null,null,null,null,null,null,null,null,null,null,null,null,null,null,null,null,null,null,null,null,null,null,null,null,null,null,null,null,null,null,null,null,null,null,null,null,null,null,null,null,null,null,null,"2018-08-22","2018-08-28",0]
[44,"2018-08-29","2018-09-04","2018-08-29",{"$f":"OFFSET('input พืชไร่'!$B$8,$A46,$D$1,1,1)","v":0},null,44,{"$f":"IF(G46=0,0,OFFSET(Kc!$A$2,1+G46,MATCH($H$1,List_Kc_ALL,0),1,1))","v":2.02},null,null,null,8,{"$f":"OFFSET(ETO!$C$3,$M$2,$L46,1,1)*7","v":24.290000000000003},null,{"$f":"OFFSET('input พืชไร่'!$B$4,0,$D$1,1,1)","v":7},0,null,{"$f":"OFFSET('input พืชไร่'!$B$5,0,$D$1,1,1)","v":30},0,null,31,{"$f":"ROUND(OFFSET(ฝนใช้การ!$A$2,$U$2,$L46,1,1)*7/$U46,2)","v":33.17},0,null,0,0,0,null,null,null,null,null,null,null,null,null,null,null,null,null,null,null,null,null,null,null,null,null,null,null,null,null,null,null,null,null,null,null,null,null,null,null,null,null,null,null,null,null,null,null,null,null,null,null,null,null,null,null,null,null,null,null,null,null,null,null,null,null,null,null,null,null,null,null,null,null,null,null,null,null,null,null,null,null,null,null,null,null,null,null,null,null,null,null,null,null,null,null,null,null,null,null,null,null,null,null,null,null,null,null,null,null,null,null,null,null,null,null,null,null,null,null,null,null,null,null,null,null,null,null,null,null,null,null,null,null,null,null,null,null,null,null,null,null,null,null,null,null,null,null,null,null,null,null,null,null,null,null,null,null,null,null,null,null,null,null,null,null,null,null,null,null,null,null,null,null,null,null,null,null,null,null,null,null,null,null,null,null,null,null,null,null,null,null,null,null,null,null,null,"2018-08-29","2018-09-04",0]
[45,"2018-09-05","2018-09-11","2018-09-05",{"$f":"OFFSET('input พืชไร่'!$B$8,$A47,$D$1,1,1)","v":0},null,45,{"$f":"IF(G47=0,0,OFFSET(Kc!$A$2,1+G47,MATCH($H$1,List_Kc_ALL,0),1,1))","v":2.02},null,null,null,9,{"$f":"OFFSET(ETO!$C$3,$M$2,$L47,1,1)*7","v":23.939999999999998},null,{"$f":"OFFSET('input พืชไร่'!$B$4,0,$D$1,1,1)","v":7},0,null,{"$f":"OFFSET('input พืชไร่'!$B$5,0,$D$1,1,1)","v":30},0,null,30,{"$f":"ROUND(OFFSET(ฝนใช้การ!$A$2,$U$2,$L47,1,1)*7/$U47,2)","v":57.8},0,null,0,0,0,null,null,null,null,null,null,null,null,null,null,null,null,null,null,null,null,null,null,null,null,null,null,null,null,null,null,null,null,null,null,null,null,null,null,null,null,null,null,null,null,null,null,null,null,null,null,null,null,null,null,null,null,null,null,null,null,null,null,null,null,null,null,null,null,null,null,null,null,null,null,null,null,null,null,null,null,null,null,null,null,null,null,null,null,null,null,null,null,null,null,null,null,null,null,null,null,null,null,null,null,null,null,null,null,null,null,null,null,null,null,null,null,null,null,null,null,null,null,null,null,null,null,null,null,null,null,null,null,null,null,null,null,null,null,null,null,null,null,null,null,null,null,null,null,null,null,null,null,null,null,null,null,null,null,null,null,null,null,null,null,null,null,null,null,null,null,null,null,null,null,null,null,null,null,null,null,null,null,null,null,null,null,null,null,null,null,null,null,null,null,null,null,"2018-09-05","2018-09-11",0]
[46,"2018-09-12","2018-09-18","2018-09-12",{"$f":"OFFSET('input พืชไร่'!$B$8,$A48,$D$1,1,1)","v":0},null,46,{"$f":"IF(G48=0,0,OFFSET(Kc!$A$2,1+G48,MATCH($H$1,List_Kc_ALL,0),1,1))","v":2.02},null,null,null,9,{"$f":"OFFSET(ETO!$C$3,$M$2,$L48,1,1)*7","v":23.939999999999998},null,{"$f":"OFFSET('input พืชไร่'!$B$4,0,$D$1,1,1)","v":7},0,null,{"$f":"OFFSET('input พืชไร่'!$B$5,0,$D$1,1,1)","v":30},0,null,30,{"$f":"ROUND(OFFSET(ฝนใช้การ!$A$2,$U$2,$L48,1,1)*7/$U48,2)","v":57.8},0,null,0,0,0,null,null,null,null,null,null,null,null,null,null,null,null,null,null,null,null,null,null,null,null,null,null,null,null,null,null,null,null,null,null,null,null,null,null,null,null,null,null,null,null,null,null,null,null,null,null,null,null,null,null,null,null,null,null,null,null,null,null,null,null,null,null,null,null,null,null,null,null,null,null,null,null,null,null,null,null,null,null,null,null,null,null,null,null,null,null,null,null,null,null,null,null,null,null,null,null,null,null,null,null,null,null,null,null,null,null,null,null,null,null,null,null,null,null,null,null,null,null,null,null,null,null,null,null,null,null,null,null,null,null,null,null,null,null,null,null,null,null,null,null,null,null,null,null,null,null,null,null,null,null,null,null,null,null,null,null,null,null,null,null,null,null,null,null,null,null,null,null,null,null,null,null,null,null,null,null,null,null,null,null,null,null,null,null,null,null,null,null,null,null,null,null,"2018-09-12","2018-09-18",0]
[47,"2018-09-19","2018-09-25","2018-09-19",{"$f":"OFFSET('input พืชไร่'!$B$8,$A49,$D$1,1,1)","v":0},null,47,{"$f":"IF(G49=0,0,OFFSET(Kc!$A$2,1+G49,MATCH($H$1,List_Kc_ALL,0),1,1))","v":2.02},null,null,null,9,{"$f":"OFFSET(ETO!$C$3,$M$2,$L49,1,1)*7","v":23.939999999999998},null,{"$f":"OFFSET('input พืชไร่'!$B$4,0,$D$1,1,1)","v":7},0,null,{"$f":"OFFSET('input พืชไร่'!$B$5,0,$D$1,1,1)","v":30},0,null,30,{"$f":"ROUND(OFFSET(ฝนใช้การ!$A$2,$U$2,$L49,1,1)*7/$U49,2)","v":57.8},0,null,0,0,0,null,null,null,null,null,null,null,null,null,null,null,null,null,null,null,null,null,null,null,null,null,null,null,null,null,null,null,null,null,null,null,null,null,null,null,null,null,null,null,null,null,null,null,null,null,null,null,null,null,null,null,null,null,null,null,null,null,null,null,null,null,null,null,null,null,null,null,null,null,null,null,null,null,null,null,null,null,null,null,null,null,null,null,null,null,null,null,null,null,null,null,null,null,null,null,null,null,null,null,null,null,null,null,null,null,null,null,null,null,null,null,null,null,null,null,null,null,null,null,null,null,null,null,null,null,null,null,null,null,null,null,null,null,null,null,null,null,null,null,null,null,null,null,null,null,null,null,null,null,null,null,null,null,null,null,null,null,null,null,null,null,null,null,null,null,null,null,null,null,null,null,null,null,null,null,null,null,null,null,null,null,null,null,null,null,null,null,null,null,null,null,null,"2018-09-19","2018-09-25",0]
[48,"2018-09-26","2018-10-02","2018-09-26",{"$f":"OFFSET('input พืชไร่'!$B$8,$A50,$D$1,1,1)","v":0},null,48,{"$f":"IF(G50=0,0,OFFSET(Kc!$A$2,1+G50,MATCH($H$1,List_Kc_ALL,0),1,1))","v":2.02},null,null,null,9,{"$f":"OFFSET(ETO!$C$3,$M$2,$L50,1,1)*7","v":23.939999999999998},null,{"$f":"OFFSET('input พืชไร่'!$B$4,0,$D$1,1,1)","v":7},0,null,{"$f":"OFFSET('input พืชไร่'!$B$5,0,$D$1,1,1)","v":30},0,null,30,{"$f":"ROUND(OFFSET(ฝนใช้การ!$A$2,$U$2,$L50,1,1)*7/$U50,2)","v":57.8},0,null,0,0,0,null,null,null,null,null,null,null,null,null,null,null,null,null,null,null,null,null,null,null,null,null,null,null,null,null,null,null,null,null,null,null,null,null,null,null,null,null,null,null,null,null,null,null,null,null,null,null,null,null,null,null,null,null,null,null,null,null,null,null,null,null,null,null,null,null,null,null,null,null,null,null,null,null,null,null,null,null,null,null,null,null,null,null,null,null,null,null,null,null,null,null,null,null,null,null,null,null,null,null,null,null,null,null,null,null,null,null,null,null,null,null,null,null,null,null,null,null,null,null,null,null,null,null,null,null,null,null,null,null,null,null,null,null,null,null,null,null,null,null,null,null,null,null,null,null,null,null,null,null,null,null,null,null,null,null,null,null,null,null,null,null,null,null,null,null,null,null,null,null,null,null,null,null,null,null,null,null,null,null,null,null,null,null,null,null,null,null,null,null,null,null,null,"2018-09-26","2018-10-02",0]
[49,"2018-10-03","2018-10-09","2018-10-03",{"$f":"OFFSET('input พืชไร่'!$B$8,$A51,$D$1,1,1)","v":0},null,49,{"$f":"IF(G51=0,0,OFFSET(Kc!$A$2,1+G51,MATCH($H$1,List_Kc_ALL,0),1,1))","v":2.2200000000000002},null,null,null,10,{"$f":"OFFSET(ETO!$C$3,$M$2,$L51,1,1)*7","v":22.82},null,{"$f":"OFFSET('input พืชไร่'!$B$4,0,$D$1,1,1)","v":7},0,null,{"$f":"OFFSET('input พืชไร่'!$B$5,0,$D$1,1,1)","v":30},0,null,31,{"$f":"ROUND(OFFSET(ฝนใช้การ!$A$2,$U$2,$L51,1,1)*7/$U51,2)","v":32.92},0,null,0,0,0,null,null,null,null,null,null,null,null,null,null,null,null,null,null,null,null,null,null,null,null,null,null,null,null,null,null,null,null,null,null,null,null,null,null,null,null,null,null,null,null,null,null,null,null,null,null,null,null,null,null,null,null,null,null,null,null,null,null,null,null,null,null,null,null,null,null,null,null,null,null,null,null,null,null,null,null,null,null,null,null,null,null,null,null,null,null,null,null,null,null,null,null,null,null,null,null,null,null,null,null,null,null,null,null,null,null,null,null,null,null,null,null,null,null,null,null,null,null,null,null,null,null,null,null,null,null,null,null,null,null,null,null,null,null,null,null,null,null,null,null,null,null,null,null,null,null,null,null,null,null,null,null,null,null,null,null,null,null,null,null,null,null,null,null,null,null,null,null,null,null,null,null,null,null,null,null,null,null,null,null,null,null,null,null,null,null,null,null,null,null,null,null,"2018-10-03","2018-10-09",0]
[50,"2018-10-10","2018-10-16","2018-10-10",{"$f":"OFFSET('input พืชไร่'!$B$8,$A52,$D$1,1,1)","v":0},null,50,{"$f":"IF(G52=0,0,OFFSET(Kc!$A$2,1+G52,MATCH($H$1,List_Kc_ALL,0),1,1))","v":2.2200000000000002},null,null,null,10,{"$f":"OFFSET(ETO!$C$3,$M$2,$L52,1,1)*7","v":22.82},null,{"$f":"OFFSET('input พืชไร่'!$B$4,0,$D$1,1,1)","v":7},0,null,{"$f":"OFFSET('input พืชไร่'!$B$5,0,$D$1,1,1)","v":30},0,null,31,{"$f":"ROUND(OFFSET(ฝนใช้การ!$A$2,$U$2,$L52,1,1)*7/$U52,2)","v":32.92},0,null,0,0,0,null,null,null,null,null,null,null,null,null,null,null,null,null,null,null,null,null,null,null,null,null,null,null,null,null,null,null,null,null,null,null,null,null,null,null,null,null,null,null,null,null,null,null,null,null,null,null,null,null,null,null,null,null,null,null,null,null,null,null,null,null,null,null,null,null,null,null,null,null,null,null,null,null,null,null,null,null,null,null,null,null,null,null,null,null,null,null,null,null,null,null,null,null,null,null,null,null,null,null,null,null,null,null,null,null,null,null,null,null,null,null,null,null,null,null,null,null,null,null,null,null,null,null,null,null,null,null,null,null,null,null,null,null,null,null,null,null,null,null,null,null,null,null,null,null,null,null,null,null,null,null,null,null,null,null,null,null,null,null,null,null,null,null,null,null,null,null,null,null,null,null,null,null,null,null,null,null,null,null,null,null,null,null,null,null,null,null,null,null,null,null,null,"2018-10-10","2018-10-16",0]
[51,"2018-10-17","2018-10-23","2018-10-17",{"$f":"OFFSET('input พืชไร่'!$B$8,$A53,$D$1,1,1)","v":0},null,51,{"$f":"IF(G53=0,0,OFFSET(Kc!$A$2,1+G53,MATCH($H$1,List_Kc_ALL,0),1,1))","v":2.2200000000000002},null,null,null,10,{"$f":"OFFSET(ETO!$C$3,$M$2,$L53,1,1)*7","v":22.82},null,{"$f":"OFFSET('input พืชไร่'!$B$4,0,$D$1,1,1)","v":7},0,null,{"$f":"OFFSET('input พืชไร่'!$B$5,0,$D$1,1,1)","v":30},0,null,31,{"$f":"ROUND(OFFSET(ฝนใช้การ!$A$2,$U$2,$L53,1,1)*7/$U53,2)","v":32.92},0,null,0,0,0,null,null,null,null,null,null,null,null,null,null,null,null,null,null,null,null,null,null,null,null,null,null,null,null,null,null,null,null,null,null,null,null,null,null,null,null,null,null,null,null,null,null,null,null,null,null,null,null,null,null,null,null,null,null,null,null,null,null,null,null,null,null,null,null,null,null,null,null,null,null,null,null,null,null,null,null,null,null,null,null,null,null,null,null,null,null,null,null,null,null,null,null,null,null,null,null,null,null,null,null,null,null,null,null,null,null,null,null,null,null,null,null,null,null,null,null,null,null,null,null,null,null,null,null,null,null,null,null,null,null,null,null,null,null,null,null,null,null,null,null,null,null,null,null,null,null,null,null,null,null,null,null,null,null,null,null,null,null,null,null,null,null,null,null,null,null,null,null,null,null,null,null,null,null,null,null,null,null,null,null,null,null,null,null,null,null,null,null,null,null,null,null,{"$f":"+HL52+7","v":"2018-10-17"},"2018-10-23",0]
[52,"2018-10-24","2018-10-30","2018-10-24",{"$f":"OFFSET('input พืชไร่'!$B$8,$A54,$D$1,1,1)","v":0},null,52,{"$f":"IF(G54=0,0,OFFSET(Kc!$A$2,1+G54,MATCH($H$1,List_Kc_ALL,0),1,1))","v":2.2200000000000002},null,null,null,10,{"$f":"OFFSET(ETO!$C$3,$M$2,$L54,1,1)*7","v":22.82},null,{"$f":"OFFSET('input พืชไร่'!$B$4,0,$D$1,1,1)","v":7},0,null,{"$f":"OFFSET('input พืชไร่'!$B$5,0,$D$1,1,1)","v":30},0,null,31,{"$f":"ROUND(OFFSET(ฝนใช้การ!$A$2,$U$2,$L54,1,1)*7/$U54,2)","v":32.92},0,null,0,0,0,null,null,null,null,null,null,null,null,null,null,null,null,null,null,null,null,null,null,null,null,null,null,null,null,null,null,null,null,null,null,null,null,null,null,null,null,null,null,null,null,null,null,null,null,null,null,null,null,null,null,null,null,null,null,null,null,null,null,null,null,null,null,null,null,null,null,null,null,null,null,null,null,null,null,null,null,null,null,null,null,null,null,null,null,null,null,null,null,null,null,null,null,null,null,null,null,null,null,null,null,null,null,null,null,null,null,null,null,null,null,null,null,null,null,null,null,null,null,null,null,null,null,null,null,null,null,null,null,null,null,null,null,null,null,null,null,null,null,null,null,null,null,null,null,null,null,null,null,null,null,null,null,null,null,null,null,null,null,null,null,null,null,null,null,null,null,null,null,null,null,null,null,null,null,null,null,null,null,null,null,null,null,null,null,null,null,null,null,null,null,null,null,"2018-10-24","2018-10-30",0]
[53,"2018-10-31","2018-11-06","2018-10-31",{"$f":"OFFSET('input พืชไร่'!$B$8,$A55,$D$1,1,1)","v":0},null,{"$f":"G3","v":1},{"$f":"IF(G55=0,0,OFFSET(Kc!$A$2,1+G55,MATCH($H$1,List_Kc_ALL,0),1,1))","v":1.94},null,null,null,10,{"$f":"OFFSET(ETO!$C$3,$M$2,$L55,1,1)*7","v":22.82},null,{"$f":"OFFSET('input พืชไร่'!$B$4,0,$D$1,1,1)","v":7},0,null,{"$f":"OFFSET('input พืชไร่'!$B$5,0,$D$1,1,1)","v":30},0,null,31,{"$f":"ROUND(OFFSET(ฝนใช้การ!$A$2,$U$2,$L55,1,1)*7/$U55,2)","v":32.92},0,null,0,0,0,null,null,null,null,null,null,null,null,null,null,null,null,null,null,null,null,null,null,null,null,null,null,null,null,null,null,null,null,null,null,null,null,null,null,null,null,null,null,null,null,null,null,null,null,null,null,null,null,null,null,null,null,null,null,null,null,null,null,null,null,null,null,null,null,null,null,null,null,null,null,null,null,null,null,null,null,null,null,null,null,null,null,null,null,null,null,null,null,null,null,null,null,null,null,null,null,null,null,null,null,null,null,null,null,null,null,null,null,null,null,null,null,null,null,null,null,null,null,null,null,null,null,null,null,null,null,null,null,null,null,null,null,null,null,null,null,null,null,null,null,null,null,null,null,null,null,null,null,null,null,null,null,null,null,null,null,null,null,null,null,null,null,null,null,null,null,null,null,null,null,null,null,null,null,null,null,null,null,null,null,null,null,null,null,null,null,null,null,null,null,null,null,"2018-10-31","2018-11-06",0]

{"sheet":"พืชผัก","index":19,"n_rows":82,"n_cols":223,"rows_kept":82,"cut":false,"hidden":false,"merged":[[0,154,0,219],[0,5,0,69],[0,73,0,137],[0,144,0,145],[0,147,0,148],[0,151,0,152]]}
[null,"ช่วงเวลาสัปดาห์",null,{"$f":"รายงาน!O1","v":1},{"$f":"OFFSET('input พืชผัก'!$B$2,0,$D$1,1,1)","v":"พลเทพ"},"พื้นที่เพาะปลูกในแต่ละสัปดาห์ (ไร่)",null,null,null,null,null,null,null,null,null,null,null,null,null,null,null,null,null,null,null,null,null,null,null,null,null,null,null,null,null,null,null,null,null,null,null,null,null,null,null,null,null,null,null,null,null,null,null,null,null,null,null,null,null,null,null,null,null,null,null,null,null,null,null,null,null,{"$f":"OFFSET(Kc!$A$2,0,MATCH($BU$1,List_Kc_ALL,0),1,1)","v":7},{"$f":"OFFSET('input พืชผัก'!$B$8,0,$D$1,1,1)","v":"กะหล่ำดอก"},"Kc",null,null,null,null,null,null,null,null,null,null,null,null,null,null,null,null,null,null,null,null,null,null,null,null,null,null,null,null,null,null,null,null,null,null,null,null,null,null,null,null,null,null,null,null,null,null,null,null,null,null,null,null,null,null,null,null,null,null,null,null,null,null,null,null,null,null,null,{"$f":"OFFSET('input พืชผัก'!$B$3,0,$D$1,1,1)","v":"ชัยนาท"},"ETO/Week",null,"รั่วซึม",null,null,"น้ำเตรียมแปลง ",null,null,{"$f":"EL1","v":"ชัยนาท"},"ฝนใช้การ",null,null,"KC*Eto*ไร่ (ลบ.ม./สัปดาห์)",null,null,null,null,null,null,null,null,null,null,null,null,null,null,null,null,null,null,null,null,null,null,null,null,null,null,null,null,null,null,null,null,null,null,null,null,null,null,null,null,null,null,null,null,null,null,null,null,null,null,null,null,null,null,null,null,null,null,null,null,null,null,null,null,null,"ความต้องการน้ำ (ลบ.ม.)","ปริมาณน้ำที่ต้องส่ง","ประสิทธิภาพชลประทาน"]
[null,"เริ่มต้น","สิ้นสุด","เดือน","จำนวนไร่",1,2,3,4,5,6,7,8,9,10,11,12,13,14,15,16,17,18,19,20,21,22,23,24,25,26,27,28,29,30,31,32,33,34,35,36,37,38,39,40,41,42,43,44,45,46,47,48,49,50,51,52,53,54,55,56,57,58,59,60,61,62,63,64,65,"Sum","N.Week","KC/Week",1,2,3,4,5,6,7,8,9,10,11,12,13,14,15,16,17,18,19,20,21,22,23,24,25,26,27,28,29,30,31,32,33,34,35,36,37,38,39,40,41,42,43,44,45,46,47,48,49,50,51,52,53,54,55,56,57,58,59,60,61,62,63,64,65,null,"เดือน","จำนวนวัน",{"$f":"VLOOKUP(EL1,ETO!$T$4:$U$80,2,FALSE)","v":"สถานีฯเกษตร ชัยนาท"},{"$f":"MATCH($EL$2,ETO!$B$4:$B$131,0)","v":64},null,"มม./สัปดาห์","ลบ.ม.",null,"มม./สัปดาห์","ลบ.ม.",null,{"$f":"MATCH(EU1,ฝนใช้การ!$A$3:$A$78,0)","v":17},"มม./สัปดาห์","ลบ.ม.",null,1,2,3,4,5,6,7,8,9,10,11,12,13,14,15,16,17,18,19,20,21,22,23,24,25,26,27,28,29,30,31,32,33,34,35,36,37,38,39,40,41,42,43,44,45,46,47,48,49,50,51,52,53,54,55,56,57,58,59,60,61,62,63,64,65,"รวม","รวม","รวม (ลบ.ม.)",{"$f":"OFFSET('input พืชผัก'!$B$7,0,$D$1,1,1)","v":90}]
[1,{"$f":"+'input ข้าว'!A9","v":"2017-08-02"},{"$f":"+'input ข้าว'!B9","v":"2017-08-08"},{"$f":"+C3","v":"2017-08-08"},{"$f":"OFFSET('input พืชผัก'!$B$8,A3,$D$1,1,1)","v":0},{"$f":"IF($A3=F$2,$E3,0)","v":0},0,0,0,0,0,0,0,0,0,0,0,0,0,0,0,0,0,0,0,0,0,0,0,0,0,0,0,0,0,0,0,0,0,0,0,0,0,0,0,0,0,0,0,0,0,0,0,0,0,0,0,0,0,0,0,0,0,0,0,0,0,0,0,{"$f":"IF($A3=BR$2,$E3,0)","v":0},{"$f":"SUM(F3:BR3)","v":0},{"$f":"IF(A3<=$BT$1,A3,0)","v":1},{"$f":"IF(BT3=0,0,OFFSET(Kc!$A$2,1+BT3,MATCH($BU$1,List_Kc_ALL,0),1,1))","v":1.01},{"$f":"ROUND(IF($A3=BV$2,$BU$3,0),2)","v":1.01},{"$f":"IF($A3=BW$2,$BU3,0)","v":0},0,0,0,0,0,0,0,0,0,0,0,0,0,0,0,0,0,0,0,0,0,0,0,0,0,0,0,0,0,0,0,0,0,0,0,0,0,0,0,0,0,0,0,0,0,0,0,0,0,0,0,0,0,0,0,0,0,0,0,0,0,0,0,null,1,31,{"$f":"MONTH(D3)","v":8},{"$f":"OFFSET(ETO!$C$3,$EM$2,$EL3,1,1)*7","v":24.290000000000003},null,{"$f":"OFFSET('input พืชผัก'!$B$4,0,$D$1,1,1)","v":7},{"$f":"($EO3/1000)*$BS3*1600","v":0},null,{"$f":"IF(OR(EL3=11,EL3=12,EL3<5),OFFSET('input พืชผัก'!$B$5,0,$D$1,1,1),OFFSET('input พืชผัก'!$B$6,0,$D$1,1,1))","v":10},{"$f":"($ER3/1000)*$E3*1600","v":0},null,{"$f":"VLOOKUP(EL3,$EJ$3:$EK$14,2,TRUE)","v":31},{"$f":"ROUND(OFFSET(ฝนใช้การ!$P$2,$EU$2,$EL3,1,1)*7/$EU3,2)","v":22.02},{"$f":"ROUND((EV3/1000)*$BS3*1600,2)","v":0},null,{"$f":"ROUND(BV3*$EM3*F3*1.6,2)","v":0},0,0,0,0,0,0,0,0,0,0,0,0,0,0,0,{"$f":"ROUND(CL3*$EM3*V3*1.6,2)","v":0},0,0,0,0,0,0,0,0,0,0,0,0,0,0,0,{"$f":"ROUND(DB3*$EM3*AL3*1.6,2)","v":0},0,0,0,0,0,0,0,0,0,0,0,0,0,0,0,{"$f":"ROUND(DR3*$EM3*BB3*1.6,2)","v":0},0,0,0,0,0,0,0,0,0,0,0,0,0,0,0,{"$f":"ROUND(EH3*$EM3*BR3*1.6,2)","v":0},{"$f":"SUM(EY3:HK3)","v":0},{"$f":"IF(EP3+ES3+HL3-EW3>0,EP3+ES3+HL3-EW3,0)","v":0},{"$f":"HM3*100/$HO$2","v":0}]
[2,{"$f":"+'input ข้าว'!A10","v":"2017-08-09"},{"$f":"+'input ข้าว'!B10","v":"2017-08-15"},"2017-08-15",{"$f":"OFFSET('input พืชผัก'!$B$8,A4,$D$1,1,1)","v":0},{"$f":"IF($A4=F$2,$E4,IF(F3=0,0,IF($A4<F$2+$BT$1,F3,0)))","v":0},0,0,0,0,0,0,0,0,0,0,0,0,0,0,0,0,0,0,0,0,0,0,0,0,0,0,0,0,0,0,0,0,0,0,0,0,0,0,0,0,0,0,0,0,0,0,0,0,0,0,0,0,0,0,0,0,0,0,0,0,0,0,0,{"$f":"IF($A4=BR$2,$E4,IF(BR3=0,0,IF($A4<BR$2+$BT$1,BR3,0)))","v":0},{"$f":"SUM(F4:BR4)","v":0},2,{"$f":"IF(BT4=0,0,OFFSET(Kc!$A$2,1+BT4,MATCH($BU$1,List_Kc_ALL,0),1,1))","v":1.36},{"$f":"IF($A4=BV$2,$BU$3,IF(BV3=0,0,OFFSET($BU$2,MATCH(BV3,$BU$3:$BU$67,0)+1,0,1,1)))","v":1.36},1.01,0,0,0,0,0,0,0,0,0,0,0,0,0,0,0,0,0,0,0,0,0,0,0,0,0,0,0,0,0,0,0,0,0,0,0,0,0,0,0,0,0,0,0,0,0,0,0,0,0,0,0,0,0,0,0,0,0,0,0,0,0,0,{"$f":"IF($A4=EH$2,$BU$3,IF(EH3=0,0,OFFSET($BU$2,MATCH(EH3,$BU$3:$BU$67,0)+1,0,1,1)))","v":0},null,2,28,8,{"$f":"OFFSET(ETO!$C$3,$EM$2,$EL4,1,1)*7","v":24.290000000000003},null,{"$f":"OFFSET('input พืชผัก'!$B$4,0,$D$1,1,1)","v":7},{"$f":"($EO4/1000)*$BS4*1600","v":0},null,{"$f":"IF(OR(EL4=11,EL4=12,EL4<5),OFFSET('input พืชผัก'!$B$5,0,$D$1,1,1),OFFSET('input พืชผัก'!$B$6,0,$D$1,1,1))","v":10},{"$f":"($ER4/1000)*$E4*1600","v":0},null,31,{"$f":"ROUND(OFFSET(ฝนใช้การ!$P$2,$EU$2,$EL4,1,1)*7/$EU4,2)","v":22.02},{"$f":"ROUND((EV4/1000)*$BS4*1600,2)","v":0},null,0,0,0,0,0,0,0,0,0,0,0,0,0,0,0,0,0,0,0,0,0,0,0,0,0,0,0,0,0,0,0,0,0,0,0,0,0,0,0,0,0,0,0,0,0,0,0,0,0,0,0,0,0,0,0,0,0,0,0,0,0,0,0,0,0,{"$f":"SUM(EY4:HK4)","v":0},{"$f":"IF(EP4+ES4+HL4-EW4>0,EP4+ES4+HL4-EW4,0)","v":0},{"$f":"HM4*100/$HO$2","v":0}]
[3,{"$f":"+'input ข้าว'!A11","v":"2017-08-16"},{"$f":"+'input ข้าว'!B11","v":"2017-08-22"},"2017-08-22",{"$f":"OFFSET('input พืชผัก'!$B$8,A5,$D$1,1,1)","v":0},0,0,0,0,0,0,0,0,0,0,0,0,0,0,0,0,0,0,0,0,0,0,0,0,0,0,0,0,0,0,0,0,0,0,0,0,0,0,0,0,0,0,0,0,0,0,0,0,0,0,0,0,0,0,0,0,0,0,0,0,0,0,0,0,0,0,3,{"$f":"IF(BT5=0,0,OFFSET(Kc!$A$2,1+BT5,MATCH($BU$1,List_Kc_ALL,0),1,1))","v":1.43},1.43,1.36,1.01,0,0,0,0,0,0,0,0,0,0,0,0,0,0,0,0,0,0,0,0,0,0,0,0,0,0,0,0,0,0,0,0,0,0,0,0,0,0,0,0,0,0,0,0,0,0,0,0,0,0,0,0,0,0,0,0,0,0,0,0,0,0,null,3,31,8,{"$f":"OFFSET(ETO!$C$3,$EM$2,$EL5,1,1)*7","v":24.290000000000003},null,{"$f":"OFFSET('input พืชผัก'!$B$4,0,$D$1,1,1)","v":7},0,null,{"$f":"IF(OR(EL5=11,EL5=12,EL5<5),OFFSET('input พืชผัก'!$B$5,0,$D$1,1,1),OFFSET('input พืชผัก'!$B$6,0,$D$1,1,1))","v":10},0,null,31,{"$f":"ROUND(OFFSET(ฝนใช้การ!$P$2,$EU$2,$EL5,1,1)*7/$EU5,2)","v":22.02},0,null,0,0,0,0,0,0,0,0,0,0,0,0,0,0,0,0,0,0,0,0,0,0,0,0,0,0,0,0,0,0,0,0,0,0,0,0,0,0,0,0,0,0,0,0,0,0,0,0,0,0,0,0,0,0,0,0,0,0,0,0,0,0,0,0,0,0,0,0]
[4,{"$f":"+'input ข้าว'!A12","v":"2017-08-23"},{"$f":"+'input ข้าว'!B12","v":"2017-08-29"},"2017-08-29",{"$f":"OFFSET('input พืชผัก'!$B$8,A6,$D$1,1,1)","v":0},0,0,0,0,0,0,0,0,0,0,0,0,0,0,0,0,0,0,0,0,0,0,0,0,0,0,0,0,0,0,0,0,0,0,0,0,0,0,0,0,0,0,0,0,0,0,0,0,0,0,0,0,0,0,0,0,0,0,0,0,0,0,0,0,0,0,4,{"$f":"IF(BT6=0,0,OFFSET(Kc!$A$2,1+BT6,MATCH($BU$1,List_Kc_ALL,0),1,1))","v":1.47},1.47,1.43,1.36,1.01,0,0,0,0,0,0,0,0,0,0,0,0,0,0,0,0,0,0,0,0,0,0,0,0,0,0,0,0,0,0,0,0,0,0,0,0,0,0,0,0,0,0,0,0,0,0,0,0,0,0,0,0,0,0,0,0,0,0,0,0,0,null,4,30,8,{"$f":"OFFSET(ETO!$C$3,$EM$2,$EL6,1,1)*7","v":24.290000000000003},null,{"$f":"OFFSET('input พืชผัก'!$B$4,0,$D$1,1,1)","v":7},0,null,{"$f":"IF(OR(EL6=11,EL6=12,EL6<5),OFFSET('input พืชผัก'!$B$5,0,$D$1,1,1),OFFSET('input พืชผัก'!$B$6,0,$D$1,1,1))","v":10},0,null,31,{"$f":"ROUND(OFFSET(ฝนใช้การ!$P$2,$EU$2,$EL6,1,1)*7/$EU6,2)","v":22.02},0,null,0,0,0,0,0,0,0,0,0,0,0,0,0,0,0,0,0,0,0,0,0,0,0,0,0,0,0,0,0,0,0,0,0,0,0,0,0,0,0,0,0,0,0,0,0,0,0,0,0,0,0,0,0,0,0,0,0,0,0,0,0,0,0,0,0,0,0,0]
[5,{"$f":"+'input ข้าว'!A13","v":"2017-08-30"},{"$f":"+'input ข้าว'!B13","v":"2017-09-05"},"2017-09-05",{"$f":"OFFSET('input พืชผัก'!$B$8,A7,$D$1,1,1)","v":0},0,0,0,0,0,0,0,0,0,0,0,0,0,0,0,0,0,0,0,0,0,0,0,0,0,0,0,0,0,0,0,0,0,0,0,0,0,0,0,0,0,0,0,0,0,0,0,0,0,0,0,0,0,0,0,0,0,0,0,0,0,0,0,{"$f":"IF($A7=BQ$2,$E7,IF(BQ6=0,0,IF($A7<BQ$2+$BT$1,BQ6,0)))","v":0},0,0,5,{"$f":"IF(BT7=0,0,OFFSET(Kc!$A$2,1+BT7,MATCH($BU$1,List_Kc_ALL,0),1,1))","v":1.49},1.49,1.47,1.43,1.36,1.01,0,0,0,0,0,0,0,0,0,0,0,0,0,0,0,0,0,0,0,0,0,0,0,0,0,0,0,0,0,0,0,0,0,0,0,0,0,0,0,0,0,0,0,0,0,0,0,0,0,0,0,0,0,0,0,0,0,0,{"$f":"IF($A7=EG$2,$BU$3,IF(EG6=0,0,OFFSET($BU$2,MATCH(EG6,$BU$3:$BU$67,0)+1,0,1,1)))","v":0},0,null,5,31,9,{"$f":"OFFSET(ETO!$C$3,$EM$2,$EL7,1,1)*7","v":23.939999999999998},null,{"$f":"OFFSET('input พืชผัก'!$B$4,0,$D$1,1,1)","v":7},0,null,{"$f":"IF(OR(EL7=11,EL7=12,EL7<5),OFFSET('input พืชผัก'!$B$5,0,$D$1,1,1),OFFSET('input พืชผัก'!$B$6,0,$D$1,1,1))","v":10},0,null,30,{"$f":"ROUND(OFFSET(ฝนใช้การ!$P$2,$EU$2,$EL7,1,1)*7/$EU7,2)","v":29.8},0,null,0,0,0,0,0,0,0,0,0,0,0,0,0,0,0,0,0,0,0,0,0,0,0,0,0,0,0,0,0,0,0,0,0,0,0,0,0,0,0,0,0,0,0,0,0,0,0,0,0,0,0,0,0,0,0,0,0,0,0,0,0,0,0,0,0,0,0,0]
[6,{"$f":"+'input ข้าว'!A14","v":"2017-09-06"},{"$f":"+'input ข้าว'!B14","v":"2017-09-12"},"2017-09-12",{"$f":"OFFSET('input พืชผัก'!$B$8,A8,$D$1,1,1)","v":0},{"$f":"IF($A8=F$2,$E8,IF(F7=0,0,IF($A8<F$2+$BT$1,F7,0)))","v":0},0,0,0,0,0,0,0,0,0,0,0,0,0,0,0,0,0,0,0,0,0,0,0,0,0,0,0,0,0,0,0,0,0,0,0,0,0,0,0,0,0,0,0,0,0,0,0,0,0,0,0,0,0,0,0,0,0,0,0,0,0,0,0,0,0,6,{"$f":"IF(BT8=0,0,OFFSET(Kc!$A$2,1+BT8,MATCH($BU$1,List_Kc_ALL,0),1,1))","v":1.19},{"$f":"IF($A8=BV$2,$BU$3,IF(BV7=0,0,OFFSET($BU$2,MATCH(BV7,$BU$3:$BU$67,0)+1,0,1,1)))","v":1.19},1.49,1.47,1.43,1.36,1.01,0,0,0,0,0,0,0,0,0,0,0,0,0,0,0,0,0,0,0,0,0,0,0,0,0,0,0,0,0,0,0,0,0,0,0,0,0,0,0,0,0,0,0,0,0,0,0,0,0,0,0,0,0,0,0,0,0,0,0,null,6,30,9,{"$f":"OFFSET(ETO!$C$3,$EM$2,$EL8,1,1)*7","v":23.939999999999998},null,{"$f":"OFFSET('input พืชผัก'!$B$4,0,$D$1,1,1)","v":7},0,null,{"$f":"IF(OR(EL8=11,EL8=12,EL8<5),OFFSET('input พืชผัก'!$B$5,0,$D$1,1,1),OFFSET('input พืชผัก'!$B$6,0,$D$1,1,1))","v":10},0,null,30,{"$f":"ROUND(OFFSET(ฝนใช้การ!$P$2,$EU$2,$EL8,1,1)*7/$EU8,2)","v":29.8},0,null,0,0,0,0,0,0,0,0,0,0,0,0,0,0,0,0,0,0,0,0,0,0,0,0,0,0,0,0,0,0,0,0,0,0,0,0,0,0,0,0,0,0,0,0,0,0,0,0,0,0,0,0,0,0,0,0,0,0,0,0,0,0,0,0,0,0,0,0]
[7,{"$f":"+'input ข้าว'!A15","v":"2017-09-13"},{"$f":"+'input ข้าว'!B15","v":"2017-09-19"},"2017-09-19",{"$f":"OFFSET('input พืชผัก'!$B$8,A9,$D$1,1,1)","v":0},0,0,0,0,0,0,0,0,0,0,0,0,0,0,0,0,0,0,0,0,0,0,0,0,0,0,0,0,0,0,0,0,0,0,0,0,0,0,0,0,0,0,0,0,0,0,0,0,0,0,0,0,0,0,0,0,0,0,0,0,0,0,0,0,0,0,7,{"$f":"IF(BT9=0,0,OFFSET(Kc!$A$2,1+BT9,MATCH($BU$1,List_Kc_ALL,0),1,1))","v":1.17},1.17,1.19,1.49,1.47,1.43,1.36,1.01,0,0,0,0,0,0,0,0,0,0,0,0,0,0,0,0,0,0,0,0,0,0,0,0,0,0,0,0,0,0,0,0,0,0,0,0,0,0,0,0,0,0,0,0,0,0,0,0,0,0,0,0,0,0,0,0,0,0,null,7,31,9,{"$f":"OFFSET(ETO!$C$3,$EM$2,$EL9,1,1)*7","v":23.939999999999998},null,{"$f":"OFFSET('input พืชผัก'!$B$4,0,$D$1,1,1)","v":7},0,null,{"$f":"IF(OR(EL9=11,EL9=12,EL9<5),OFFSET('input พืชผัก'!$B$5,0,$D$1,1,1),OFFSET('input พืชผัก'!$B$6,0,$D$1,1,1))","v":10},0,null,30,{"$f":"ROUND(OFFSET(ฝนใช้การ!$P$2,$EU$2,$EL9,1,1)*7/$EU9,2)","v":29.8},0,null,0,0,0,0,0,0,0,0,0,0,0,0,0,0,0,0,0,0,0,0,0,0,0,0,0,0,0,0,0,0,0,0,0,0,0,0,0,0,0,0,0,0,0,0,0,0,0,0,0,0,0,0,0,0,0,0,0,0,0,0,0,0,0,0,0,0,0,0]
[8,{"$f":"+'input ข้าว'!A16","v":"2017-09-20"},{"$f":"+'input ข้าว'!B16","v":"2017-09-26"},"2017-09-26",{"$f":"OFFSET('input พืชผัก'!$B$8,A10,$D$1,1,1)","v":0},0,0,0,0,0,0,0,0,0,0,0,0,0,0,0,0,0,0,0,0,0,0,0,0,0,0,0,0,0,0,0,0,0,0,0,0,0,0,0,0,0,0,0,0,0,0,0,0,0,0,0,0,0,0,0,0,0,0,0,0,0,0,0,0,0,0,0,{"$f":"IF(BT10=0,0,OFFSET(Kc!$A$2,1+BT10,MATCH($BU$1,List_Kc_ALL,0),1,1))","v":0},0,1.17,1.19,1.49,1.47,1.43,1.36,1.01,0,0,0,0,0,0,0,0,0,0,0,0,0,0,0,0,0,0,0,0,0,0,0,0,0,0,0,0,0,0,0,0,0,0,0,0,0,0,0,0,0,0,0,0,0,0,0,0,0,0,0,0,0,0,0,0,0,null,8,31,9,{"$f":"OFFSET(ETO!$C$3,$EM$2,$EL10,1,1)*7","v":23.939999999999998},null,{"$f":"OFFSET('input พืชผัก'!$B$4,0,$D$1,1,1)","v":7},0,null,{"$f":"IF(OR(EL10=11,EL10=12,EL10<5),OFFSET('input พืชผัก'!$B$5,0,$D$1,1,1),OFFSET('input พืชผัก'!$B$6,0,$D$1,1,1))","v":10},0,null,30,{"$f":"ROUND(OFFSET(ฝนใช้การ!$P$2,$EU$2,$EL10,1,1)*7/$EU10,2)","v":29.8},0,null,0,0,0,0,0,0,0,0,0,0,0,0,0,0,0,0,0,0,0,0,0,0,0,0,0,0,0,0,0,0,0,0,0,0,0,0,0,0,0,0,0,0,0,0,0,0,0,0,0,0,0,0,0,0,0,0,0,0,0,0,0,0,0,0,0,0,0,0]
[9,{"$f":"+'input ข้าว'!A17","v":"2017-09-27"},{"$f":"+'input ข้าว'!B17","v":"2017-10-03"},"2017-10-03",{"$f":"OFFSET('input พืชผัก'!$B$8,A11,$D$1,1,1)","v":0},0,0,0,0,0,0,0,0,0,0,0,0,0,0,0,0,0,0,0,0,0,0,0,0,0,0,0,0,0,0,0,0,0,0,0,0,0,0,0,0,0,0,0,0,0,0,0,0,0,0,0,0,0,0,0,0,0,0,0,0,0,0,0,0,0,0,0,{"$f":"IF(BT11=0,0,OFFSET(Kc!$A$2,1+BT11,MATCH($BU$1,List_Kc_ALL,0),1,1))","v":0},0,0,1.17,1.19,1.49,1.47,1.43,1.36,1.01,0,0,0,0,0,0,0,0,0,0,0,0,0,0,0,0,0,0,0,0,0,0,0,0,0,0,0,0,0,0,0,0,0,0,0,0,0,0,0,0,0,0,0,0,0,0,0,0,0,0,0,0,0,0,0,0,null,9,30,10,{"$f":"OFFSET(ETO!$C$3,$EM$2,$EL11,1,1)*7","v":22.82},null,{"$f":"OFFSET('input พืชผัก'!$B$4,0,$D$1,1,1)","v":7},0,null,{"$f":"IF(OR(EL11=11,EL11=12,EL11<5),OFFSET('input พืชผัก'!$B$5,0,$D$1,1,1),OFFSET('input พืชผัก'!$B$6,0,$D$1,1,1))","v":10},0,null,31,{"$f":"ROUND(OFFSET(ฝนใช้การ!$P$2,$EU$2,$EL11,1,1)*7/$EU11,2)","v":16.55},0,null,0,0,0,0,0,0,0,0,0,0,0,0,0,0,0,0,0,0,0,0,0,0,0,0,0,0,0,0,0,0,0,0,0,0,0,0,0,0,0,0,0,0,0,0,0,0,0,0,0,0,0,0,0,0,0,0,0,0,0,0,0,0,0,0,0,0,0,0]
[10,{"$f":"+'input ข้าว'!A18","v":"2017-10-04"},{"$f":"+'input ข้าว'!B18","v":"2017-10-10"},"2017-10-10",{"$f":"OFFSET('input พืชผัก'!$B$8,A12,$D$1,1,1)","v":0},0,0,0,{"$f":"IF($A12=I$2,$E12,IF(I11=0,0,IF($A12<I$2+$BT$1,I11,0)))","v":0},0,0,0,0,0,0,0,0,0,0,0,0,0,0,0,0,0,0,0,0,0,0,0,0,0,0,0,0,0,0,0,0,0,0,0,0,0,0,0,0,0,0,0,0,0,0,0,0,0,0,0,0,0,0,0,0,0,0,0,0,0,0,0,{"$f":"IF(BT12=0,0,OFFSET(Kc!$A$2,1+BT12,MATCH($BU$1,List_Kc_ALL,0),1,1))","v":0},0,0,0,{"$f":"IF($A12=BY$2,$BU$3,IF(BY11=0,0,OFFSET($BU$2,MATCH(BY11,$BU$3:$BU$67,0)+1,0,1,1)))","v":1.17},1.19,1.49,1.47,1.43,1.36,1.01,0,0,0,0,0,0,0,0,0,0,0,0,0,0,0,0,0,0,0,0,0,0,0,0,0,0,0,0,0,0,0,0,0,0,0,0,0,0,0,0,0,0,0,0,0,0,0,0,0,0,0,0,0,0,0,null,10,31,10,{"$f":"OFFSET(ETO!$C$3,$EM$2,$EL12,1,1)*7","v":22.82},null,{"$f":"OFFSET('input พืชผัก'!$B$4,0,$D$1,1,1)","v":7},0,null,{"$f":"IF(OR(EL12=11,EL12=12,EL12<5),OFFSET('input พืชผัก'!$B$5,0,$D$1,1,1),OFFSET('input พืชผัก'!$B$6,0,$D$1,1,1))","v":10},0,null,31,{"$f":"ROUND(OFFSET(ฝนใช้การ!$P$2,$EU$2,$EL12,1,1)*7/$EU12,2)","v":16.55},0,null,0,0,0,0,0,0,0,0,0,0,0,0,0,0,0,0,0,0,0,0,0,0,0,0,0,0,0,0,0,0,0,0,0,0,0,0,0,0,0,0,0,0,0,0,0,0,0,0,0,0,0,0,0,0,0,0,0,0,0,0,0,0,0,0,0,0,0,0]
[11,{"$f":"+'input ข้าว'!A19","v":"2017-10-11"},{"$f":"+'input ข้าว'!B19","v":"2017-10-17"},"2017-10-17",{"$f":"OFFSET('input พืชผัก'!$B$8,A13,$D$1,1,1)","v":0},{"$f":"IF($A13=F$2,$E13,IF(F12=0,0,IF($A13<F$2+$BT$1,F12,0)))","v":0},0,0,0,0,0,0,0,0,0,0,0,0,0,0,0,0,0,0,0,0,0,0,0,0,0,0,0,0,0,0,0,0,0,0,0,0,0,0,0,0,0,0,0,0,0,0,0,0,0,0,0,0,0,0,0,0,0,0,0,0,0,0,0,0,0,0,{"$f":"IF(BT13=0,0,OFFSET(Kc!$A$2,1+BT13,MATCH($BU$1,List_Kc_ALL,0),1,1))","v":0},{"$f":"IF($A13=BV$2,$BU$3,IF(BV12=0,0,OFFSET($BU$2,MATCH(BV12,$BU$3:$BU$67,0)+1,0,1,1)))","v":0},0,0,0,1.17,1.19,1.49,1.47,1.43,1.36,1.01,0,0,0,0,0,0,0,0,0,0,0,0,0,0,0,0,0,0,0,0,0,0,0,0,0,0,0,0,0,0,0,0,0,0,0,0,0,0,0,0,0,0,0,0,0,0,0,0,0,0,0,0,0,0,null,11,30,10,{"$f":"OFFSET(ETO!$C$3,$EM$2,$EL13,1,1)*7","v":22.82},null,{"$f":"OFFSET('input พืชผัก'!$B$4,0,$D$1,1,1)","v":7},0,null,{"$f":"IF(OR(EL13=11,EL13=12,EL13<5),OFFSET('input พืชผัก'!$B$5,0,$D$1,1,1),OFFSET('input พืชผัก'!$B$6,0,$D$1,1,1))","v":10},0,null,31,{"$f":"ROUND(OFFSET(ฝนใช้การ!$P$2,$EU$2,$EL13,1,1)*7/$EU13,2)","v":16.55},0,null,0,0,0,0,0,0,0,0,0,0,0,0,0,0,0,0,0,0,0,0,0,0,0,0,0,0,0,0,0,0,0,0,0,0,0,0,0,0,0,0,0,0,0,0,0,0,0,0,0,0,0,0,0,0,0,0,0,0,0,0,0,0,0,0,0,0,0,0]
[12,{"$f":"+'input ข้าว'!A20","v":"2017-10-18"},{"$f":"+'input ข้าว'!B20","v":"2017-10-24"},"2017-10-24",{"$f":"OFFSET('input พืชผัก'!$B$8,A14,$D$1,1,1)","v":0},0,0,0,0,0,0,0,0,0,0,0,0,0,0,0,0,0,0,0,0,0,0,0,0,0,0,0,0,0,0,0,0,0,0,0,0,0,0,0,0,0,0,0,0,0,0,0,0,0,0,0,0,0,0,0,0,0,0,0,0,0,0,0,0,0,0,0,{"$f":"IF(BT14=0,0,OFFSET(Kc!$A$2,1+BT14,MATCH($BU$1,List_Kc_ALL,0),1,1))","v":0},0,0,0,0,0,1.17,1.19,1.49,1.47,1.43,1.36,1.01,0,0,0,0,0,0,0,0,0,0,0,0,0,0,0,0,0,0,0,0,0,0,0,0,0,0,0,0,0,0,0,0,0,0,0,0,0,0,0,0,0,0,0,0,0,0,0,0,0,0,0,0,0,null,12,31,10,{"$f":"OFFSET(ETO!$C$3,$EM$2,$EL14,1,1)*7","v":22.82},null,{"$f":"OFFSET('input พืชผัก'!$B$4,0,$D$1,1,1)","v":7},0,null,{"$f":"IF(OR(EL14=11,EL14=12,EL14<5),OFFSET('input พืชผัก'!$B$5,0,$D$1,1,1),OFFSET('input พืชผัก'!$B$6,0,$D$1,1,1))","v":10},0,null,31,{"$f":"ROUND(OFFSET(ฝนใช้การ!$P$2,$EU$2,$EL14,1,1)*7/$EU14,2)","v":16.55},0,null,0,0,0,0,0,0,0,0,0,0,0,0,0,0,0,0,0,0,0,0,0,0,0,0,0,0,0,0,0,0,0,0,0,0,0,0,0,0,0,0,0,0,0,0,0,0,0,0,0,0,0,0,0,0,0,0,0,0,0,0,0,0,0,0,0,0,0,0]
[13,{"$f":"+'input ข้าว'!A21","v":"2017-10-25"},{"$f":"+'input ข้าว'!B21","v":"2017-10-31"},"2017-10-31",{"$f":"OFFSET('input พืชผัก'!$B$8,A15,$D$1,1,1)","v":0},0,0,0,0,0,0,0,0,0,0,0,0,0,0,0,0,0,0,0,0,0,0,0,0,0,0,0,0,0,0,0,0,0,0,0,0,0,0,0,0,0,0,0,0,0,0,0,0,0,0,0,0,0,0,0,0,0,0,0,0,0,0,0,0,0,0,0,{"$f":"IF(BT15=0,0,OFFSET(Kc!$A$2,1+BT15,MATCH($BU$1,List_Kc_ALL,0),1,1))","v":0},0,0,0,0,0,0,1.17,1.19,1.49,1.47,1.43,1.36,1.01,0,0,0,0,0,0,0,0,0,0,0,0,0,0,0,0,0,0,0,0,0,0,0,0,0,0,0,0,0,0,0,0,0,0,0,0,0,0,0,0,0,0,0,0,0,0,0,0,0,0,0,0,null,null,null,10,{"$f":"OFFSET(ETO!$C$3,$EM$2,$EL15,1,1)*7","v":22.82},null,{"$f":"OFFSET('input พืชผัก'!$B$4,0,$D$1,1,1)","v":7},0,null,{"$f":"IF(OR(EL15=11,EL15=12,EL15<5),OFFSET('input พืชผัก'!$B$5,0,$D$1,1,1),OFFSET('input พืชผัก'!$B$6,0,$D$1,1,1))","v":10},0,null,31,{"$f":"ROUND(OFFSET(ฝนใช้การ!$P$2,$EU$2,$EL15,1,1)*7/$EU15,2)","v":16.55},0,null,0,0,0,0,0,0,0,0,0,0,0,0,0,0,0,0,0,0,0,0,0,0,0,0,0,0,0,0,0,0,0,0,0,0,0,0,0,0,0,0,0,0,0,0,0,0,0,0,0,0,0,0,0,0,0,0,0,0,0,0,0,0,0,0,0,0,0,0]
[14,{"$f":"+'input ข้าว'!A22","v":"2017-11-01"},{"$f":"+'input ข้าว'!B22","v":"2017-11-07"},"2017-11-07",{"$f":"OFFSET('input พืชผัก'!$B$8,A16,$D$1,1,1)","v":0},0,0,0,0,0,0,0,0,0,0,0,0,0,0,0,0,0,0,{"$f":"IF($A16=X$2,$E16,IF(X15=0,0,IF($A16<X$2+$BT$1,X15,0)))","v":0},0,0,0,0,0,0,0,0,0,0,0,0,0,0,0,0,0,0,0,0,0,0,0,0,0,0,0,0,0,0,0,0,0,0,0,0,0,0,0,0,0,0,0,0,0,0,0,0,{"$f":"IF(BT16=0,0,OFFSET(Kc!$A$2,1+BT16,MATCH($BU$1,List_Kc_ALL,0),1,1))","v":0},0,0,0,0,0,0,0,1.17,1.19,1.49,1.47,1.43,1.36,1.01,0,0,0,0,{"$f":"IF($A16=CN$2,$BU$3,IF(CN15=0,0,OFFSET($BU$2,MATCH(CN15,$BU$3:$BU$67,0)+1,0,1,1)))","v":0},0,0,0,0,0,0,0,0,0,0,0,0,0,0,0,0,0,0,0,0,0,0,0,0,0,0,0,0,0,0,0,0,0,0,0,0,0,0,0,0,0,0,0,0,0,0,null,null,null,11,{"$f":"OFFSET(ETO!$C$3,$EM$2,$EL16,1,1)*7","v":23.17},null,{"$f":"OFFSET('input พืชผัก'!$B$4,0,$D$1,1,1)","v":7},0,null,{"$f":"IF(OR(EL16=11,EL16=12,EL16<5),OFFSET('input พืชผัก'!$B$5,0,$D$1,1,1),OFFSET('input พืชผัก'!$B$6,0,$D$1,1,1))","v":20},0,null,30,{"$f":"ROUND(OFFSET(ฝนใช้การ!$P$2,$EU$2,$EL16,1,1)*7/$EU16,2)","v":5.04},0,null,0,0,0,0,0,0,0,0,0,0,0,0,0,0,0,0,0,0,0,0,0,0,0,0,0,0,0,0,0,0,0,0,0,0,0,0,0,0,0,0,0,0,0,0,0,0,0,0,0,0,0,0,0,0,0,0,0,0,0,0,0,0,0,0,0,0,0,0]
[15,{"$f":"+'input ข้าว'!A23","v":"2017-11-08"},{"$f":"+'input ข้าว'!B23","v":"2017-11-14"},"2017-11-14",{"$f":"OFFSET('input พืชผัก'!$B$8,A17,$D$1,1,1)","v":0},0,0,0,0,0,0,0,0,0,0,0,0,0,0,0,0,{"$f":"IF($A17=V$2,$E17,IF(V16=0,0,IF($A17<V$2+$BT$1,V16,0)))","v":0},0,0,0,0,0,0,0,0,0,0,0,0,0,0,0,0,0,0,0,0,0,0,0,0,0,0,0,0,0,0,0,0,0,0,0,0,0,0,0,0,0,0,0,0,0,0,0,0,0,0,{"$f":"IF(BT17=0,0,OFFSET(Kc!$A$2,1+BT17,MATCH($BU$1,List_Kc_ALL,0),1,1))","v":0},0,0,0,0,0,0,0,0,1.17,1.19,1.49,1.47,1.43,1.36,1.01,0,{"$f":"IF($A17=CL$2,$BU$3,IF(CL16=0,0,OFFSET($BU$2,MATCH(CL16,$BU$3:$BU$67,0)+1,0,1,1)))","v":0},0,0,0,0,0,0,0,0,0,0,0,0,0,0,0,0,0,0,0,0,0,0,0,0,0,0,0,0,0,0,0,0,0,0,0,0,0,0,0,0,0,0,0,0,0,0,0,0,null,null,null,11,{"$f":"OFFSET(ETO!$C$3,$EM$2,$EL17,1,1)*7","v":23.17},null,{"$f":"OFFSET('input พืชผัก'!$B$4,0,$D$1,1,1)","v":7},0,null,{"$f":"IF(OR(EL17=11,EL17=12,EL17<5),OFFSET('input พืชผัก'!$B$5,0,$D$1,1,1),OFFSET('input พืชผัก'!$B$6,0,$D$1,1,1))","v":20},0,null,30,{"$f":"ROUND(OFFSET(ฝนใช้การ!$P$2,$EU$2,$EL17,1,1)*7/$EU17,2)","v":5.04},0,null,0,0,0,0,0,0,0,0,0,0,0,0,0,0,0,0,0,0,0,0,0,0,0,0,0,0,0,0,0,0,0,0,0,0,0,0,0,0,0,0,0,0,0,0,0,0,0,0,0,0,0,0,0,0,0,0,0,0,0,0,0,0,0,0,0,0,0,0]
[16,{"$f":"+'input ข้าว'!A24","v":"2017-11-15"},{"$f":"+'input ข้าว'!B24","v":"2017-11-21"},"2017-11-21",{"$f":"OFFSET('input พืชผัก'!$B$8,A18,$D$1,1,1)","v":0},0,0,0,0,0,0,0,0,0,0,0,0,0,0,0,0,0,0,0,0,0,0,0,0,0,0,0,0,0,0,0,0,0,0,0,0,0,0,0,0,0,0,0,0,0,0,0,0,0,0,0,0,0,0,0,0,0,0,0,0,0,0,0,0,0,0,0,{"$f":"IF(BT18=0,0,OFFSET(Kc!$A$2,1+BT18,MATCH($BU$1,List_Kc_ALL,0),1,1))","v":0},0,0,0,0,0,0,0,0,0,1.17,1.19,1.49,1.47,1.43,1.36,1.01,0,0,0,0,0,0,0,0,0,0,0,0,0,0,0,0,0,0,0,0,0,0,0,0,0,0,0,0,0,0,0,0,0,0,0,0,0,0,0,0,0,0,0,0,0,0,0,0,0,null,null,null,11,{"$f":"OFFSET(ETO!$C$3,$EM$2,$EL18,1,1)*7","v":23.17},null,{"$f":"OFFSET('input พืชผัก'!$B$4,0,$D$1,1,1)","v":7},0,null,{"$f":"IF(OR(EL18=11,EL18=12,EL18<5),OFFSET('input พืชผัก'!$B$5,0,$D$1,1,1),OFFSET('input พืชผัก'!$B$6,0,$D$1,1,1))","v":20},0,null,30,{"$f":"ROUND(OFFSET(ฝนใช้การ!$P$2,$EU$2,$EL18,1,1)*7/$EU18,2)","v":5.04},0,null,0,0,0,0,0,0,0,0,0,0,0,0,0,0,0,{"$f":"ROUND(CK18*$EM18*U18*1.6,2)","v":0},0,0,0,0,0,0,0,0,0,0,0,0,0,0,0,{"$f":"ROUND(DA18*$EM18*AK18*1.6,2)","v":0},0,0,0,0,0,0,0,0,0,0,0,0,0,0,0,{"$f":"ROUND(DQ18*$EM18*BA18*1.6,2)","v":0},0,0,0,0,0,0,0,0,0,0,0,0,0,0,0,{"$f":"ROUND(EG18*$EM18*BQ18*1.6,2)","v":0},0,0,0,0]
[17,{"$f":"+'input ข้าว'!A25","v":"2017-11-22"},{"$f":"+'input ข้าว'!B25","v":"2017-11-28"},"2017-11-28",{"$f":"OFFSET('input พืชผัก'!$B$8,A19,$D$1,1,1)","v":0},0,0,0,0,0,0,0,0,0,0,0,0,0,0,0,0,0,0,0,0,0,0,0,0,0,0,0,0,0,0,0,0,0,0,0,0,0,0,0,0,0,0,0,0,0,0,0,0,0,0,0,0,0,0,0,0,0,0,0,0,0,0,0,0,0,0,0,{"$f":"IF(BT19=0,0,OFFSET(Kc!$A$2,1+BT19,MATCH($BU$1,List_Kc_ALL,0),1,1))","v":0},0,0,0,0,0,0,0,0,0,0,1.17,1.19,1.49,1.47,1.43,1.36,1.01,0,0,0,0,0,0,0,0,0,0,0,0,0,0,0,0,0,0,0,0,0,0,0,0,0,0,0,0,0,0,0,0,0,0,0,0,0,0,0,0,0,0,0,0,0,0,0,0,null,null,null,11,{"$f":"OFFSET(ETO!$C$3,$EM$2,$EL19,1,1)*7","v":23.17},null,{"$f":"OFFSET('input พืชผัก'!$B$4,0,$D$1,1,1)","v":7},0,null,{"$f":"IF(OR(EL19=11,EL19=12,EL19<5),OFFSET('input พืชผัก'!$B$5,0,$D$1,1,1),OFFSET('input พืชผัก'!$B$6,0,$D$1,1,1))","v":20},0,null,30,{"$f":"ROUND(OFFSET(ฝนใช้การ!$P$2,$EU$2,$EL19,1,1)*7/$EU19,2)","v":5.04},0,null,{"$f":"ROUND(BV19*$EM19*F19*1.6,2)","v":0},0,0,0,0,0,0,0,0,0,0,0,0,0,0,0,0,0,0,0,0,0,0,0,0,0,0,0,0,0,0,0,0,0,0,0,0,0,0,0,0,0,0,0,0,0,0,0,0,0,0,0,0,0,0,0,0,0,0,0,0,0,0,0,0,0,0,0]
[18,{"$f":"+'input ข้าว'!A26","v":"2017-11-29"},{"$f":"+'input ข้าว'!B26","v":"2017-12-05"},"2017-12-05",{"$f":"OFFSET('input พืชผัก'!$B$8,A20,$D$1,1,1)","v":0},0,0,0,0,0,0,0,0,0,0,0,0,0,0,0,0,0,0,0,0,0,0,0,0,0,0,0,0,0,0,0,0,0,0,0,0,0,0,0,0,0,0,0,0,0,0,0,0,0,0,0,0,0,0,0,0,0,0,0,0,0,0,0,0,0,0,0,{"$f":"IF(BT20=0,0,OFFSET(Kc!$A$2,1+BT20,MATCH($BU$1,List_Kc_ALL,0),1,1))","v":0},0,0,0,0,0,0,0,0,0,0,0,1.17,1.19,1.49,1.47,1.43,1.36,1.01,0,0,0,0,0,0,0,0,0,0,0,0,0,0,0,0,0,0,0,0,0,0,0,0,0,0,0,0,0,0,0,0,0,0,0,0,0,0,0,0,0,0,0,0,0,0,0,null,null,null,12,{"$f":"OFFSET(ETO!$C$3,$EM$2,$EL20,1,1)*7","v":22.47},null,{"$f":"OFFSET('input พืชผัก'!$B$4,0,$D$1,1,1)","v":7},0,null,{"$f":"IF(OR(EL20=11,EL20=12,EL20<5),OFFSET('input พืชผัก'!$B$5,0,$D$1,1,1),OFFSET('input พืชผัก'!$B$6,0,$D$1,1,1))","v":20},0,null,31,{"$f":"ROUND(OFFSET(ฝนใช้การ!$P$2,$EU$2,$EL20,1,1)*7/$EU20,2)","v":1.1299999999999999},0,null,0,0,0,0,0,0,0,0,0,0,0,0,0,0,0,0,0,0,0,0,0,0,0,0,0,0,0,0,0,0,0,0,0,0,0,0,0,0,0,0,0,0,0,0,0,0,0,0,0,0,0,0,0,0,0,0,0,0,0,0,0,0,0,0,0,0,0,0]
[19,{"$f":"+'input ข้าว'!A27","v":"2017-12-06"},{"$f":"+'input ข้าว'!B27","v":"2017-12-12"},"2017-12-12",{"$f":"OFFSET('input พืชผัก'!$B$8,A21,$D$1,1,1)","v":0},0,0,0,0,0,0,0,0,0,0,0,0,0,0,0,0,0,0,0,0,0,0,0,0,0,0,0,0,0,0,0,0,0,0,0,0,0,0,0,0,0,0,0,0,0,0,0,0,{"$f":"IF($A21=BB$2,$E21,IF(BB20=0,0,IF($A21<BB$2+$BT$1,BB20,0)))","v":0},0,0,0,0,0,0,0,0,0,0,0,0,0,0,0,0,0,0,{"$f":"IF(BT21=0,0,OFFSET(Kc!$A$2,1+BT21,MATCH($BU$1,List_Kc_ALL,0),1,1))","v":0},0,0,0,0,0,0,0,0,0,0,0,0,1.17,1.19,1.49,1.47,1.43,1.36,1.01,0,0,0,0,0,0,0,0,0,0,0,0,0,0,0,0,0,0,0,0,0,0,0,0,0,0,0,0,0,{"$f":"IF($A21=DR$2,$BU$3,IF(DR20=0,0,OFFSET($BU$2,MATCH(DR20,$BU$3:$BU$67,0)+1,0,1,1)))","v":0},0,0,0,0,0,0,0,0,0,0,0,0,0,0,0,0,null,null,null,12,{"$f":"OFFSET(ETO!$C$3,$EM$2,$EL21,1,1)*7","v":22.47},null,{"$f":"OFFSET('input พืชผัก'!$B$4,0,$D$1,1,1)","v":7},0,null,{"$f":"IF(OR(EL21=11,EL21=12,EL21<5),OFFSET('input พืชผัก'!$B$5,0,$D$1,1,1),OFFSET('input พืชผัก'!$B$6,0,$D$1,1,1))","v":20},0,null,31,{"$f":"ROUND(OFFSET(ฝนใช้การ!$P$2,$EU$2,$EL21,1,1)*7/$EU21,2)","v":1.1299999999999999},0,null,0,0,0,0,0,0,0,0,0,0,0,0,0,0,0,0,0,0,0,0,0,0,0,0,0,0,0,0,0,0,0,0,0,0,0,0,0,0,0,0,0,0,0,0,0,0,0,0,0,0,0,0,0,0,0,0,0,0,0,0,0,0,0,0,0,0,0,0]
[20,{"$f":"+'input ข้าว'!A28","v":"2017-12-13"},{"$f":"+'input ข้าว'!B28","v":"2017-12-19"},"2017-12-19",{"$f":"OFFSET('input พืชผัก'!$B$8,A22,$D$1,1,1)","v":0},0,0,0,0,0,0,0,0,0,0,0,0,0,0,0,0,0,0,0,0,0,0,0,0,0,0,0,0,0,0,0,0,{"$f":"IF($A22=AL$2,$E22,IF(AL21=0,0,IF($A22<AL$2+$BT$1,AL21,0)))","v":0},0,0,0,0,0,0,0,0,0,0,0,0,0,0,0,0,0,0,0,0,0,0,0,0,0,0,0,0,0,0,0,0,0,0,{"$f":"IF(BT22=0,0,OFFSET(Kc!$A$2,1+BT22,MATCH($BU$1,List_Kc_ALL,0),1,1))","v":0},0,0,0,0,0,0,0,0,0,0,0,0,0,1.17,1.19,1.49,1.47,1.43,1.36,1.01,0,0,0,0,0,0,0,0,0,0,0,0,{"$f":"IF($A22=DB$2,$BU$3,IF(DB21=0,0,OFFSET($BU$2,MATCH(DB21,$BU$3:$BU$67,0)+1,0,1,1)))","v":0},0,0,0,0,0,0,0,0,0,0,0,0,0,0,0,0,0,0,0,0,0,0,0,0,0,0,0,0,0,0,0,0,null,null,null,12,{"$f":"OFFSET(ETO!$C$3,$EM$2,$EL22,1,1)*7","v":22.47},null,{"$f":"OFFSET('input พืชผัก'!$B$4,0,$D$1,1,1)","v":7},0,null,{"$f":"IF(OR(EL22=11,EL22=12,EL22<5),OFFSET('input พืชผัก'!$B$5,0,$D$1,1,1),OFFSET('input พืชผัก'!$B$6,0,$D$1,1,1))","v":20},0,null,31,{"$f":"ROUND(OFFSET(ฝนใช้การ!$P$2,$EU$2,$EL22,1,1)*7/$EU22,2)","v":1.1299999999999999},0,null,0,0,0,0,0,0,0,0,0,0,0,0,0,0,0,0,0,0,0,0,0,0,0,0,0,0,0,0,0,0,0,0,0,0,0,0,0,0,0,0,0,0,0,0,0,0,0,0,0,0,0,0,0,0,0,0,0,0,0,0,0,0,0,0,0,0,0,0]
[21,{"$f":"+'input ข้าว'!A29","v":"2017-12-20"},{"$f":"+'input ข้าว'!B29","v":"2017-12-26"},"2017-12-26",{"$f":"OFFSET('input พืชผัก'!$B$8,A23,$D$1,1,1)","v":0},0,0,0,0,0,0,0,0,0,0,0,0,0,0,0,0,0,0,0,0,0,0,0,0,0,0,0,0,0,0,0,0,0,0,0,0,0,0,0,0,0,0,0,0,0,0,0,0,0,0,0,0,0,0,0,0,0,0,0,0,0,0,0,0,0,0,0,{"$f":"IF(BT23=0,0,OFFSET(Kc!$A$2,1+BT23,MATCH($BU$1,List_Kc_ALL,0),1,1))","v":0},0,0,0,0,0,0,0,0,0,0,0,0,0,0,1.17,1.19,1.49,1.47,1.43,1.36,1.01,0,0,0,0,0,0,0,0,0,0,0,0,0,0,0,0,0,0,0,0,0,0,0,0,0,0,0,0,0,0,0,0,0,0,0,0,0,0,0,0,0,0,0,0,null,null,null,12,{"$f":"OFFSET(ETO!$C$3,$EM$2,$EL23,1,1)*7","v":22.47},null,{"$f":"OFFSET('input พืชผัก'!$B$4,0,$D$1,1,1)","v":7},0,null,{"$f":"IF(OR(EL23=11,EL23=12,EL23<5),OFFSET('input พืชผัก'!$B$5,0,$D$1,1,1),OFFSET('input พืชผัก'!$B$6,0,$D$1,1,1))","v":20},0,null,31,{"$f":"ROUND(OFFSET(ฝนใช้การ!$P$2,$EU$2,$EL23,1,1)*7/$EU23,2)","v":1.1299999999999999},0,null,0,0,0,0,0,0,0,0,0,0,0,0,0,0,0,0,0,0,0,0,0,0,0,0,0,0,0,0,0,0,0,0,0,0,0,0,0,0,0,0,0,0,0,0,0,0,0,0,0,0,0,0,0,0,0,0,0,0,0,0,0,0,0,0,0,0,0,0]
[22,{"$f":"+'input ข้าว'!A30","v":"2017-12-27"},{"$f":"+'input ข้าว'!B30","v":"2018-01-02"},"2018-01-02",{"$f":"OFFSET('input พืชผัก'!$B$8,A24,$D$1,1,1)","v":0},0,0,0,0,0,0,0,0,0,0,0,0,0,0,0,0,0,0,0,0,0,0,0,0,0,0,0,0,0,0,0,0,0,0,0,0,0,0,0,0,0,0,0,0,0,0,0,0,0,0,0,0,0,0,0,0,0,0,0,0,0,0,0,0,0,0,0,{"$f":"IF(BT24=0,0,OFFSET(Kc!$A$2,1+BT24,MATCH($BU$1,List_Kc_ALL,0),1,1))","v":0},0,0,0,0,0,0,0,0,0,0,0,0,0,0,0,1.17,1.19,1.49,1.47,1.43,1.36,1.01,0,0,0,0,0,0,0,0,0,0,0,0,0,0,0,0,0,0,0,0,0,0,0,0,0,0,0,0,0,0,0,0,0,0,0,0,0,0,0,0,0,0,0,null,null,null,1,{"$f":"OFFSET(ETO!$C$3,$EM$2,$EL24,1,1)*7","v":23.099999999999998},null,{"$f":"OFFSET('input พืชผัก'!$B$4,0,$D$1,1,1)","v":7},0,null,{"$f":"IF(OR(EL24=11,EL24=12,EL24<5),OFFSET('input พืชผัก'!$B$5,0,$D$1,1,1),OFFSET('input พืชผัก'!$B$6,0,$D$1,1,1))","v":20},0,null,31,{"$f":"ROUND(OFFSET(ฝนใช้การ!$P$2,$EU$2,$EL24,1,1)*7/$EU24,2)","v":1.29},0,null,0,0,0,0,0,0,0,0,0,0,0,0,0,0,0,0,0,0,0,0,0,0,0,0,0,0,0,0,0,0,0,0,0,0,0,0,0,0,0,0,0,0,0,0,0,0,0,0,0,0,0,0,0,0,0,0,0,0,0,0,0,0,0,0,0,0,0,0]
[23,{"$f":"+'input ข้าว'!A31","v":"2018-01-03"},{"$f":"+'input ข้าว'!B31","v":"2018-01-09"},"2018-01-09",{"$f":"OFFSET('input พืชผัก'!$B$8,A25,$D$1,1,1)","v":0},0,0,0,0,0,0,0,0,0,0,0,0,0,0,0,0,0,0,0,0,0,0,0,0,0,0,0,0,0,0,0,0,0,0,0,0,0,0,0,0,0,0,0,0,0,0,0,0,0,0,0,0,0,0,0,0,0,0,0,0,0,0,0,0,0,0,0,{"$f":"IF(BT25=0,0,OFFSET(Kc!$A$2,1+BT25,MATCH($BU$1,List_Kc_ALL,0),1,1))","v":0},0,0,0,0,0,0,0,0,0,0,0,0,0,0,0,0,1.17,1.19,1.49,1.47,1.43,1.36,1.01,0,0,0,0,0,0,0,0,0,0,0,0,0,0,0,0,0,0,0,0,0,0,0,0,0,0,0,0,0,0,0,0,0,0,0,0,0,0,0,0,0,0,null,null,null,1,{"$f":"OFFSET(ETO!$C$3,$EM$2,$EL25,1,1)*7","v":23.099999999999998},null,{"$f":"OFFSET('input พืชผัก'!$B$4,0,$D$1,1,1)","v":7},0,null,{"$f":"IF(OR(EL25=11,EL25=12,EL25<5),OFFSET('input พืชผัก'!$B$5,0,$D$1,1,1),OFFSET('input พืชผัก'!$B$6,0,$D$1,1,1))","v":20},0,null,31,{"$f":"ROUND(OFFSET(ฝนใช้การ!$P$2,$EU$2,$EL25,1,1)*7/$EU25,2)","v":1.29},0,null,0,0,0,0,0,0,0,0,0,0,0,0,0,0,0,0,0,0,0,0,0,0,0,0,0,0,0,0,0,0,0,0,0,0,0,0,0,0,0,0,0,0,0,0,0,0,0,0,0,0,0,0,0,0,0,0,0,0,0,0,0,0,0,0,0,0,0,0]
[24,{"$f":"+'input ข้าว'!A32","v":"2018-01-10"},{"$f":"+'input ข้าว'!B32","v":"2018-01-16"},"2018-01-16",{"$f":"OFFSET('input พืชผัก'!$B$8,A26,$D$1,1,1)","v":0},0,0,0,0,0,0,0,0,0,0,0,0,0,0,0,0,0,0,0,0,0,0,0,0,0,0,0,0,0,0,0,0,0,0,0,0,0,0,0,0,0,0,0,0,0,0,0,0,0,0,0,0,0,0,0,0,0,0,0,0,0,0,0,0,0,0,0,{"$f":"IF(BT26=0,0,OFFSET(Kc!$A$2,1+BT26,MATCH($BU$1,List_Kc_ALL,0),1,1))","v":0},0,0,0,0,0,0,0,0,0,0,0,0,0,0,0,0,0,1.17,1.19,1.49,1.47,1.43,1.36,1.01,0,0,0,0,0,0,0,0,0,0,0,0,0,0,0,0,0,0,0,0,0,0,0,0,0,0,0,0,0,0,0,0,0,0,0,0,0,0,0,0,0,null,null,null,1,{"$f":"OFFSET(ETO!$C$3,$EM$2,$EL26,1,1)*7","v":23.099999999999998},null,{"$f":"OFFSET('input พืชผัก'!$B$4,0,$D$1,1,1)","v":7},0,null,{"$f":"IF(OR(EL26=11,EL26=12,EL26<5),OFFSET('input พืชผัก'!$B$5,0,$D$1,1,1),OFFSET('input พืชผัก'!$B$6,0,$D$1,1,1))","v":20},0,null,31,{"$f":"ROUND(OFFSET(ฝนใช้การ!$P$2,$EU$2,$EL26,1,1)*7/$EU26,2)","v":1.29},0,null,0,0,0,0,0,0,0,0,0,0,0,0,0,0,0,0,0,0,0,0,0,0,0,0,0,0,0,0,0,0,0,0,0,0,0,0,0,0,0,0,0,0,0,0,0,0,0,0,0,0,0,0,0,0,0,0,0,0,0,0,0,0,0,0,0,0,0,0]
[25,{"$f":"+'input ข้าว'!A33","v":"2018-01-17"},{"$f":"+'input ข้าว'!B33","v":"2018-01-23"},"2018-01-23",{"$f":"OFFSET('input พืชผัก'!$B$8,A27,$D$1,1,1)","v":0},0,0,0,0,0,0,0,0,0,0,0,0,0,0,0,0,0,0,0,0,0,0,0,0,0,0,0,0,0,0,0,0,0,0,0,0,0,0,0,0,0,0,0,0,0,0,0,0,0,0,0,0,0,0,0,0,0,0,0,0,0,0,0,0,0,0,0,{"$f":"IF(BT27=0,0,OFFSET(Kc!$A$2,1+BT27,MATCH($BU$1,List_Kc_ALL,0),1,1))","v":0},0,0,0,0,0,0,0,0,0,0,0,0,0,0,0,0,0,0,1.17,1.19,1.49,1.47,1.43,1.36,1.01,0,0,0,0,0,0,0,0,0,0,0,0,0,0,0,0,0,0,0,0,0,0,0,0,0,0,0,0,0,0,0,0,0,0,0,0,0,0,0,0,null,null,null,1,{"$f":"OFFSET(ETO!$C$3,$EM$2,$EL27,1,1)*7","v":23.099999999999998},null,{"$f":"OFFSET('input พืชผัก'!$B$4,0,$D$1,1,1)","v":7},0,null,{"$f":"IF(OR(EL27=11,EL27=12,EL27<5),OFFSET('input พืชผัก'!$B$5,0,$D$1,1,1),OFFSET('input พืชผัก'!$B$6,0,$D$1,1,1))","v":20},0,null,31,{"$f":"ROUND(OFFSET(ฝนใช้การ!$P$2,$EU$2,$EL27,1,1)*7/$EU27,2)","v":1.29},0,null,0,0,0,0,0,0,0,0,0,0,0,0,0,0,0,0,0,0,0,0,0,0,0,0,0,0,0,0,0,0,0,0,0,0,0,0,0,0,0,0,0,0,0,0,0,0,0,0,0,0,0,0,0,0,0,0,0,0,0,0,0,0,0,0,0,0,0,0]
[26,{"$f":"+'input ข้าว'!A34","v":"2018-01-24"},{"$f":"+'input ข้าว'!B34","v":"2018-01-30"},"2018-01-30",{"$f":"OFFSET('input พืชผัก'!$B$8,A28,$D$1,1,1)","v":0},0,0,0,0,0,0,0,0,0,0,0,0,0,0,0,0,0,0,0,0,0,0,0,0,0,0,0,0,0,0,0,0,0,0,0,0,0,0,0,0,0,0,0,0,0,0,0,0,0,0,0,0,0,0,0,0,0,0,0,0,0,0,0,0,0,0,0,{"$f":"IF(BT28=0,0,OFFSET(Kc!$A$2,1+BT28,MATCH($BU$1,List_Kc_ALL,0),1,1))","v":0},0,0,0,0,0,0,0,0,0,0,0,0,0,0,0,0,0,0,0,1.17,1.19,1.49,1.47,1.43,1.36,1.01,0,0,0,0,0,0,0,0,0,0,0,0,0,0,0,0,0,0,0,0,0,0,0,0,0,0,0,0,0,0,0,0,0,0,0,0,0,0,0,null,null,null,1,{"$f":"OFFSET(ETO!$C$3,$EM$2,$EL28,1,1)*7","v":23.099999999999998},null,{"$f":"OFFSET('input พืชผัก'!$B$4,0,$D$1,1,1)","v":7},0,null,{"$f":"IF(OR(EL28=11,EL28=12,EL28<5),OFFSET('input พืชผัก'!$B$5,0,$D$1,1,1),OFFSET('input พืชผัก'!$B$6,0,$D$1,1,1))","v":20},0,null,31,{"$f":"ROUND(OFFSET(ฝนใช้การ!$P$2,$EU$2,$EL28,1,1)*7/$EU28,2)","v":1.29},0,null,0,0,0,0,0,0,0,0,0,0,0,0,0,0,0,0,0,0,0,0,0,0,0,0,0,0,0,0,0,0,0,0,0,0,0,0,0,0,0,0,0,0,0,0,0,0,0,0,0,0,0,0,0,0,0,0,0,0,0,0,0,0,0,0,0,0,0,0]
[27,{"$f":"+'input ข้าว'!A35","v":"2018-01-31"},{"$f":"+'input ข้าว'!B35","v":"2018-02-06"},"2018-02-06",{"$f":"OFFSET('input พืชผัก'!$B$8,A29,$D$1,1,1)","v":0},{"$f":"IF($A29=F$2,$E29,IF(F28=0,0,IF($A29<F$2+$BT$1,F28,0)))","v":0},0,0,0,0,0,0,0,0,0,0,0,0,0,0,0,0,0,0,0,0,0,0,0,0,0,0,0,0,0,0,0,0,0,0,0,0,0,0,0,0,0,0,0,0,0,0,0,0,0,0,0,0,0,0,0,0,0,0,0,0,0,0,0,0,0,0,{"$f":"IF(BT29=0,0,OFFSET(Kc!$A$2,1+BT29,MATCH($BU$1,List_Kc_ALL,0),1,1))","v":0},{"$f":"IF($A29=BV$2,$BU$3,IF(BV28=0,0,OFFSET($BU$2,MATCH(BV28,$BU$3:$BU$67,0)+1,0,1,1)))","v":0},0,0,0,0,0,0,0,0,0,0,0,0,0,0,0,0,0,0,0,1.17,1.19,1.49,1.47,1.43,1.36,1.01,0,0,0,0,0,0,0,0,0,0,0,0,0,0,0,0,0,0,0,0,0,0,0,0,0,0,0,0,0,0,0,0,0,0,0,0,0,0,null,null,null,2,{"$f":"OFFSET(ETO!$C$3,$EM$2,$EL29,1,1)*7","v":25.76},null,{"$f":"OFFSET('input พืชผัก'!$B$4,0,$D$1,1,1)","v":7},0,null,{"$f":"IF(OR(EL29=11,EL29=12,EL29<5),OFFSET('input พืชผัก'!$B$5,0,$D$1,1,1),OFFSET('input พืชผัก'!$B$6,0,$D$1,1,1))","v":20},0,null,28,{"$f":"ROUND(OFFSET(ฝนใช้การ!$P$2,$EU$2,$EL29,1,1)*7/$EU29,2)","v":2.7},0,null,0,0,0,0,0,0,0,0,0,0,0,0,0,0,0,0,0,0,0,0,0,0,0,0,0,0,0,0,0,0,0,0,0,0,0,0,0,0,0,0,0,0,0,0,0,0,0,0,0,0,0,0,0,0,0,0,0,0,0,0,0,0,0,0,0,0,0,0]
[28,{"$f":"+'input ข้าว'!A36","v":"2018-02-07"},{"$f":"+'input ข้าว'!B36","v":"2018-02-13"},"2018-02-13",{"$f":"OFFSET('input พืชผัก'!$B$8,A30,$D$1,1,1)","v":0},0,0,0,0,0,0,0,0,0,0,0,0,0,0,0,0,0,0,0,0,0,0,0,0,0,0,0,0,0,0,0,0,0,0,0,0,0,0,0,0,0,0,0,0,0,0,0,0,0,0,0,0,0,0,0,0,0,0,0,0,0,0,0,0,0,0,0,{"$f":"IF(BT30=0,0,OFFSET(Kc!$A$2,1+BT30,MATCH($BU$1,List_Kc_ALL,0),1,1))","v":0},0,0,0,0,0,0,0,0,0,0,0,0,0,0,0,0,0,0,0,0,0,1.17,1.19,1.49,1.47,1.43,1.36,1.01,0,0,0,0,0,0,0,0,0,0,0,0,0,0,0,0,0,0,0,0,0,0,0,0,0,0,0,0,0,0,0,0,0,0,0,0,0,null,null,null,2,{"$f":"OFFSET(ETO!$C$3,$EM$2,$EL30,1,1)*7","v":25.76},null,{"$f":"OFFSET('input พืชผัก'!$B$4,0,$D$1,1,1)","v":7},0,null,{"$f":"IF(OR(EL30=11,EL30=12,EL30<5),OFFSET('input พืชผัก'!$B$5,0,$D$1,1,1),OFFSET('input พืชผัก'!$B$6,0,$D$1,1,1))","v":20},0,null,28,{"$f":"ROUND(OFFSET(ฝนใช้การ!$P$2,$EU$2,$EL30,1,1)*7/$EU30,2)","v":2.7},0,null,0,0,0,0,0,0,0,0,0,0,0,0,0,0,0,0,0,0,0,0,0,0,0,0,0,0,0,0,0,0,0,0,0,0,0,0,0,0,0,0,0,0,0,0,0,0,0,0,0,0,0,0,0,0,0,0,0,0,0,0,0,0,0,0,0,0,0,0]
[29,{"$f":"+'input ข้าว'!A37","v":"2018-02-14"},{"$f":"+'input ข้าว'!B37","v":"2018-02-20"},"2018-02-20",{"$f":"OFFSET('input พืชผัก'!$B$8,A31,$D$1,1,1)","v":0},0,0,0,0,0,0,0,0,0,0,0,0,0,0,0,0,0,0,0,0,0,0,0,0,0,0,0,0,0,0,0,0,0,0,0,0,0,0,0,0,0,0,0,0,0,0,0,0,0,0,0,0,0,0,0,0,0,0,0,0,0,0,0,0,0,0,0,{"$f":"IF(BT31=0,0,OFFSET(Kc!$A$2,1+BT31,MATCH($BU$1,List_Kc_ALL,0),1,1))","v":0},0,0,0,0,0,0,0,0,0,0,0,0,0,0,0,0,0,0,0,0,0,0,1.17,1.19,1.49,1.47,1.43,1.36,1.01,0,0,0,0,0,0,0,0,0,0,0,0,0,0,0,0,0,0,0,0,0,0,0,0,0,0,0,0,0,0,0,0,0,0,0,0,null,null,null,2,{"$f":"OFFSET(ETO!$C$3,$EM$2,$EL31,1,1)*7","v":25.76},null,{"$f":"OFFSET('input พืชผัก'!$B$4,0,$D$1,1,1)","v":7},0,null,{"$f":"IF(OR(EL31=11,EL31=12,EL31<5),OFFSET('input พืชผัก'!$B$5,0,$D$1,1,1),OFFSET('input พืชผัก'!$B$6,0,$D$1,1,1))","v":20},0,null,28,{"$f":"ROUND(OFFSET(ฝนใช้การ!$P$2,$EU$2,$EL31,1,1)*7/$EU31,2)","v":2.7},0,null,0,0,0,0,0,0,0,0,0,0,0,0,0,0,0,0,0,0,0,0,0,0,0,0,0,0,0,0,0,0,0,0,0,0,0,0,0,0,0,0,0,0,0,0,0,0,0,0,0,0,0,0,0,0,0,0,0,0,0,0,0,0,0,0,0,0,0,0]
[30,{"$f":"+'input ข้าว'!A38","v":"2018-02-21"},{"$f":"+'input ข้าว'!B38","v":"2018-02-27"},"2018-02-27",{"$f":"OFFSET('input พืชผัก'!$B$8,A32,$D$1,1,1)","v":0},0,0,0,0,0,0,0,0,0,0,0,0,0,0,0,0,0,0,0,0,0,0,0,0,0,0,0,0,0,0,0,0,0,0,0,0,0,0,0,0,0,0,0,0,0,0,0,0,0,0,0,0,0,0,0,0,0,0,0,0,0,0,0,0,0,0,0,{"$f":"IF(BT32=0,0,OFFSET(Kc!$A$2,1+BT32,MATCH($BU$1,List_Kc_ALL,0),1,1))","v":0},0,0,0,0,0,0,0,0,0,0,0,0,0,0,0,0,0,0,0,0,0,0,0,1.17,1.19,1.49,1.47,1.43,1.36,1.01,0,0,0,0,0,0,0,0,0,0,0,0,0,0,0,0,0,0,0,0,0,0,0,0,0,0,0,0,0,0,0,0,0,0,0,null,null,null,2,{"$f":"OFFSET(ETO!$C$3,$EM$2,$EL32,1,1)*7","v":25.76},null,{"$f":"OFFSET('input พืชผัก'!$B$4,0,$D$1,1,1)","v":7},0,null,{"$f":"IF(OR(EL32=11,EL32=12,EL32<5),OFFSET('input พืชผัก'!$B$5,0,$D$1,1,1),OFFSET('input พืชผัก'!$B$6,0,$D$1,1,1))","v":20},0,null,28,{"$f":"ROUND(OFFSET(ฝนใช้การ!$P$2,$EU$2,$EL32,1,1)*7/$EU32,2)","v":2.7},0,null,0,0,0,0,0,0,0,0,0,0,0,0,0,0,0,0,0,0,0,0,0,0,0,0,0,0,0,0,0,0,0,0,0,0,0,0,0,0,0,0,0,0,0,0,0,0,0,0,0,0,0,0,0,0,0,0,0,0,0,0,0,0,0,0,0,0,0,0]
[31,{"$f":"+'input ข้าว'!A39","v":"2018-02-28"},{"$f":"+'input ข้าว'!B39","v":"2018-03-06"},"2018-03-06",{"$f":"OFFSET('input พืชผัก'!$B$8,A33,$D$1,1,1)","v":0},0,0,0,0,0,0,0,0,0,0,0,0,0,0,0,0,{"$f":"IF($A33=V$2,$E33,IF(V32=0,0,IF($A33<V$2+$BT$1,V32,0)))","v":0},0,0,0,0,0,0,0,0,0,0,0,0,0,0,0,0,0,0,0,0,0,0,0,0,0,0,0,0,0,0,0,0,0,0,0,0,0,0,0,0,0,0,0,0,0,0,0,0,0,0,{"$f":"IF(BT33=0,0,OFFSET(Kc!$A$2,1+BT33,MATCH($BU$1,List_Kc_ALL,0),1,1))","v":0},0,0,0,0,0,0,0,0,0,0,0,0,0,0,0,0,{"$f":"IF($A33=CL$2,$BU$3,IF(CL32=0,0,OFFSET($BU$2,MATCH(CL32,$BU$3:$BU$67,0)+1,0,1,1)))","v":0},0,0,0,0,0,0,0,1.17,1.19,1.49,1.47,1.43,1.36,1.01,0,0,0,0,0,0,0,0,0,0,0,0,0,0,0,0,0,0,0,0,0,0,0,0,0,0,0,0,0,0,0,0,0,0,null,null,null,3,{"$f":"OFFSET(ETO!$C$3,$EM$2,$EL33,1,1)*7","v":30.38},null,{"$f":"OFFSET('input พืชผัก'!$B$4,0,$D$1,1,1)","v":7},0,null,{"$f":"IF(OR(EL33=11,EL33=12,EL33<5),OFFSET('input พืชผัก'!$B$5,0,$D$1,1,1),OFFSET('input พืชผัก'!$B$6,0,$D$1,1,1))","v":20},0,null,31,{"$f":"ROUND(OFFSET(ฝนใช้การ!$P$2,$EU$2,$EL33,1,1)*7/$EU33,2)","v":4.29},0,null,0,0,0,0,0,0,0,0,0,0,0,0,0,0,0,0,0,0,0,0,0,0,0,0,0,0,0,0,0,0,0,0,0,0,0,0,0,0,0,0,0,0,0,0,0,0,0,0,0,0,0,0,0,0,0,0,0,0,0,0,0,0,0,0,0,0,0,0]
[32,{"$f":"+'input ข้าว'!A40","v":"2018-03-07"},{"$f":"+'input ข้าว'!B40","v":"2018-03-13"},"2018-03-13",{"$f":"OFFSET('input พืชผัก'!$B$8,A34,$D$1,1,1)","v":0},0,0,0,0,0,0,0,0,0,0,0,0,0,0,0,0,0,0,0,0,0,0,0,0,0,0,0,0,0,0,0,0,0,0,0,0,0,0,0,0,0,0,0,0,0,0,0,0,0,0,0,0,0,0,0,0,0,0,0,0,0,0,0,0,0,0,0,{"$f":"IF(BT34=0,0,OFFSET(Kc!$A$2,1+BT34,MATCH($BU$1,List_Kc_ALL,0),1,1))","v":0},0,0,0,0,0,0,0,0,0,0,0,0,0,0,0,0,0,0,0,0,0,0,0,0,0,1.17,1.19,1.49,1.47,1.43,1.36,1.01,0,0,0,0,0,0,0,0,0,0,0,0,0,0,0,0,0,0,0,0,0,0,0,0,0,0,0,0,0,0,0,0,0,null,null,null,3,{"$f":"OFFSET(ETO!$C$3,$EM$2,$EL34,1,1)*7","v":30.38},null,{"$f":"OFFSET('input พืชผัก'!$B$4,0,$D$1,1,1)","v":7},0,null,{"$f":"IF(OR(EL34=11,EL34=12,EL34<5),OFFSET('input พืชผัก'!$B$5,0,$D$1,1,1),OFFSET('input พืชผัก'!$B$6,0,$D$1,1,1))","v":20},0,null,31,{"$f":"ROUND(OFFSET(ฝนใช้การ!$P$2,$EU$2,$EL34,1,1)*7/$EU34,2)","v":4.29},0,null,0,0,0,0,0,0,0,0,0,0,0,0,0,0,0,0,0,0,0,0,0,0,0,0,0,0,0,0,0,{"$f":"ROUND(CY34*$EM34*AI34*1.6,2)","v":0},0,0,0,0,0,0,0,0,0,0,0,0,0,0,0,{"$f":"ROUND(DO34*$EM34*AY34*1.6,2)","v":0},0,0,0,0,0,0,0,0,0,0,0,0,0,0,0,{"$f":"ROUND(EE34*$EM34*BO34*1.6,2)","v":0},0,0,0,0,0,0]
[33,{"$f":"+'input ข้าว'!A41","v":"2018-03-14"},{"$f":"+'input ข้าว'!B41","v":"2018-03-20"},"2018-03-20",{"$f":"OFFSET('input พืชผัก'!$B$8,A35,$D$1,1,1)","v":0},0,0,0,0,0,0,0,0,0,0,0,0,0,0,0,0,0,0,0,0,0,0,0,0,0,0,0,0,0,0,0,0,0,0,0,0,0,0,0,0,0,0,0,0,0,0,0,0,0,0,0,0,0,0,0,0,0,0,0,0,0,0,0,0,0,0,0,{"$f":"IF(BT35=0,0,OFFSET(Kc!$A$2,1+BT35,MATCH($BU$1,List_Kc_ALL,0),1,1))","v":0},0,0,0,0,0,0,0,0,0,0,0,0,0,0,0,0,0,0,0,0,0,0,0,0,0,0,1.17,1.19,1.49,1.47,1.43,1.36,1.01,0,0,0,0,0,0,0,0,0,0,0,0,0,0,0,0,0,0,0,0,0,0,0,0,0,0,0,0,0,0,0,0,null,null,null,3,{"$f":"OFFSET(ETO!$C$3,$EM$2,$EL35,1,1)*7","v":30.38},null,{"$f":"OFFSET('input พืชผัก'!$B$4,0,$D$1,1,1)","v":7},0,null,{"$f":"IF(OR(EL35=11,EL35=12,EL35<5),OFFSET('input พืชผัก'!$B$5,0,$D$1,1,1),OFFSET('input พืชผัก'!$B$6,0,$D$1,1,1))","v":20},0,null,31,{"$f":"ROUND(OFFSET(ฝนใช้การ!$P$2,$EU$2,$EL35,1,1)*7/$EU35,2)","v":4.29},0,null,0,0,0,0,0,0,0,0,0,0,0,0,0,0,0,{"$f":"ROUND(CK35*$EM35*U35*1.6,2)","v":0},0,0,0,0,0,0,0,0,0,0,0,0,0,0,0,0,0,0,0,0,0,0,0,0,0,0,0,0,0,0,0,0,0,0,0,0,0,0,0,0,0,0,0,0,0,0,0,0,0,0,0,0]
[34,{"$f":"+'input ข้าว'!A42","v":"2018-03-21"},{"$f":"+'input ข้าว'!B42","v":"2018-03-27"},"2018-03-27",{"$f":"OFFSET('input พืชผัก'!$B$8,A36,$D$1,1,1)","v":0},0,0,0,0,0,0,0,0,0,0,0,0,0,0,0,0,0,0,0,0,0,0,0,0,0,0,0,0,0,0,0,0,0,0,0,0,0,0,0,0,0,0,0,0,0,0,0,0,0,0,0,0,0,0,0,0,0,0,0,0,0,0,0,0,0,0,0,{"$f":"IF(BT36=0,0,OFFSET(Kc!$A$2,1+BT36,MATCH($BU$1,List_Kc_ALL,0),1,1))","v":0},0,0,0,0,0,0,0,0,0,0,0,0,0,0,0,0,0,0,0,0,0,0,0,0,0,0,0,1.17,1.19,1.49,1.47,1.43,1.36,1.01,0,0,0,0,0,0,0,0,0,0,0,0,0,0,0,0,0,0,0,0,0,0,0,0,0,0,0,0,0,0,0,null,null,null,3,{"$f":"OFFSET(ETO!$C$3,$EM$2,$EL36,1,1)*7","v":30.38},null,{"$f":"OFFSET('input พืชผัก'!$B$4,0,$D$1,1,1)","v":7},0,null,{"$f":"IF(OR(EL36=11,EL36=12,EL36<5),OFFSET('input พืชผัก'!$B$5,0,$D$1,1,1),OFFSET('input พืชผัก'!$B$6,0,$D$1,1,1))","v":20},0,null,31,{"$f":"ROUND(OFFSET(ฝนใช้การ!$P$2,$EU$2,$EL36,1,1)*7/$EU36,2)","v":4.29},0,null,{"$f":"ROUND(BV36*$EM36*F36*1.6,2)","v":0},0,0,0,0,0,0,0,0,0,0,0,0,0,0,0,0,0,0,0,0,0,0,0,0,0,0,0,0,0,0,0,0,0,0,0,0,0,0,0,0,0,0,0,0,0,0,0,0,0,0,0,0,0,0,0,0,0,0,0,0,0,0,0,0,0,0,0]
[35,{"$f":"+'input ข้าว'!A43","v":"2018-03-28"},{"$f":"+'input ข้าว'!B43","v":"2018-04-03"},"2018-04-03",{"$f":"OFFSET('input พืชผัก'!$B$8,A37,$D$1,1,1)","v":0},0,0,0,0,0,0,0,0,0,0,0,0,0,0,0,0,0,0,0,0,0,0,0,0,0,0,0,0,0,0,0,0,0,0,0,0,0,0,0,0,0,0,0,0,0,0,0,{"$f":"IF($A37=BA$2,$E37,IF(BA36=0,0,IF($A37<BA$2+$BT$1,BA36,0)))","v":0},0,0,0,0,0,0,0,0,0,0,0,0,0,0,0,0,0,0,0,{"$f":"IF(BT37=0,0,OFFSET(Kc!$A$2,1+BT37,MATCH($BU$1,List_Kc_ALL,0),1,1))","v":0},0,0,0,0,0,0,0,0,0,0,0,0,0,0,0,0,0,0,0,0,0,0,0,0,0,0,0,0,1.17,1.19,1.49,1.47,1.43,1.36,1.01,0,0,0,0,0,0,0,0,0,0,0,0,{"$f":"IF($A37=DQ$2,$BU$3,IF(DQ36=0,0,OFFSET($BU$2,MATCH(DQ36,$BU$3:$BU$67,0)+1,0,1,1)))","v":0},0,0,0,0,0,0,0,0,0,0,0,0,0,0,0,0,0,null,null,null,4,{"$f":"OFFSET(ETO!$C$3,$EM$2,$EL37,1,1)*7","v":31.919999999999998},null,{"$f":"OFFSET('input พืชผัก'!$B$4,0,$D$1,1,1)","v":7},0,null,{"$f":"IF(OR(EL37=11,EL37=12,EL37<5),OFFSET('input พืชผัก'!$B$5,0,$D$1,1,1),OFFSET('input พืชผัก'!$B$6,0,$D$1,1,1))","v":20},0,null,30,{"$f":"ROUND(OFFSET(ฝนใช้การ!$P$2,$EU$2,$EL37,1,1)*7/$EU37,2)","v":8},0,null,0,0,0,0,0,0,0,0,0,0,0,0,0,0,0,0,0,0,0,0,0,0,0,0,0,0,0,0,0,0,0,0,0,0,0,0,0,0,0,0,0,0,0,0,0,0,0,0,0,0,0,0,0,0,0,0,0,0,0,0,0,0,0,0,0,0,0,0]
[36,{"$f":"+'input ข้าว'!A44","v":"2018-04-04"},{"$f":"+'input ข้าว'!B44","v":"2018-04-10"},"2018-04-10",{"$f":"OFFSET('input พืชผัก'!$B$8,A38,$D$1,1,1)","v":0},0,0,0,0,0,0,0,0,0,0,0,0,0,0,0,0,0,0,0,0,0,0,0,0,0,0,0,0,0,0,0,0,{"$f":"IF($A38=AL$2,$E38,IF(AL37=0,0,IF($A38<AL$2+$BT$1,AL37,0)))","v":0},0,0,0,0,0,0,0,0,0,0,0,0,0,0,0,0,0,0,0,0,0,0,0,0,0,0,0,0,0,0,0,0,0,0,{"$f":"IF(BT38=0,0,OFFSET(Kc!$A$2,1+BT38,MATCH($BU$1,List_Kc_ALL,0),1,1))","v":0},0,0,0,0,0,0,0,0,0,0,0,0,0,0,0,0,0,0,0,0,0,0,0,0,0,0,0,0,0,1.17,1.19,1.49,{"$f":"IF($A38=DB$2,$BU$3,IF(DB37=0,0,OFFSET($BU$2,MATCH(DB37,$BU$3:$BU$67,0)+1,0,1,1)))","v":1.47},1.43,1.36,1.01,0,0,0,0,0,0,0,0,0,0,0,0,0,0,0,0,0,0,0,0,0,0,0,0,0,0,0,0,0,null,null,null,4,{"$f":"OFFSET(ETO!$C$3,$EM$2,$EL38,1,1)*7","v":31.919999999999998},null,{"$f":"OFFSET('input พืชผัก'!$B$4,0,$D$1,1,1)","v":7},0,null,{"$f":"IF(OR(EL38=11,EL38=12,EL38<5),OFFSET('input พืชผัก'!$B$5,0,$D$1,1,1),OFFSET('input พืชผัก'!$B$6,0,$D$1,1,1))","v":20},0,null,30,{"$f":"ROUND(OFFSET(ฝนใช้การ!$P$2,$EU$2,$EL38,1,1)*7/$EU38,2)","v":8},0,null,0,0,0,0,0,0,0,0,0,0,0,0,0,0,0,0,0,0,0,0,0,0,0,0,0,0,0,0,0,0,0,0,0,0,0,0,0,0,0,0,0,0,0,0,0,0,0,0,0,0,0,0,0,0,0,0,0,0,0,0,0,0,0,0,0,0,0,0]
[37,{"$f":"+'input ข้าว'!A45","v":"2018-04-11"},{"$f":"+'input ข้าว'!B45","v":"2018-04-17"},"2018-04-17",{"$f":"OFFSET('input พืชผัก'!$B$8,A39,$D$1,1,1)","v":0},0,0,0,0,0,0,0,0,0,0,0,0,0,0,0,0,0,0,0,0,0,0,0,0,0,0,0,0,0,0,0,0,0,0,0,0,0,0,0,0,0,0,0,0,0,0,0,0,0,0,0,0,0,0,0,0,0,0,0,0,0,0,0,0,0,0,0,{"$f":"IF(BT39=0,0,OFFSET(Kc!$A$2,1+BT39,MATCH($BU$1,List_Kc_ALL,0),1,1))","v":0},0,0,0,0,0,0,0,0,0,0,0,0,0,0,0,0,0,0,0,0,0,0,0,0,0,0,0,0,0,0,1.17,1.19,1.49,1.47,1.43,1.36,1.01,0,0,0,0,0,0,0,0,0,0,0,0,0,0,0,0,0,0,0,0,0,0,0,0,0,0,0,0,null,null,null,4,{"$f":"OFFSET(ETO!$C$3,$EM$2,$EL39,1,1)*7","v":31.919999999999998},null,{"$f":"OFFSET('input พืชผัก'!$B$4,0,$D$1,1,1)","v":7},0,null,{"$f":"IF(OR(EL39=11,EL39=12,EL39<5),OFFSET('input พืชผัก'!$B$5,0,$D$1,1,1),OFFSET('input พืชผัก'!$B$6,0,$D$1,1,1))","v":20},0,null,30,{"$f":"ROUND(OFFSET(ฝนใช้การ!$P$2,$EU$2,$EL39,1,1)*7/$EU39,2)","v":8},0,null,0,0,0,0,0,0,0,0,0,0,0,0,0,0,0,0,0,0,0,0,0,0,0,0,0,0,0,0,0,0,0,0,0,0,0,0,0,0,0,0,0,0,0,0,0,0,0,0,0,0,0,0,0,0,0,0,0,0,0,0,0,0,0,0,0,0,0,0]
[38,{"$f":"+'input ข้าว'!A46","v":"2018-04-18"},{"$f":"+'input ข้าว'!B46","v":"2018-04-24"},"2018-04-24",{"$f":"OFFSET('input พืชผัก'!$B$8,A40,$D$1,1,1)","v":0},0,0,0,0,0,0,0,0,0,0,0,0,0,0,0,0,0,0,0,0,0,0,0,0,0,0,0,0,0,0,0,0,0,0,0,0,0,0,0,0,0,0,0,0,0,0,0,0,0,0,0,0,0,0,0,0,0,0,0,0,0,0,0,0,0,0,0,{"$f":"IF(BT40=0,0,OFFSET(Kc!$A$2,1+BT40,MATCH($BU$1,List_Kc_ALL,0),1,1))","v":0},0,0,0,0,0,0,0,0,0,0,0,0,0,0,0,0,0,0,0,0,0,0,0,0,0,0,0,0,0,0,0,1.17,1.19,1.49,1.47,1.43,1.36,1.01,0,0,0,0,0,0,0,0,0,0,0,0,0,0,0,0,0,0,0,0,0,0,0,0,0,0,0,null,null,null,4,{"$f":"OFFSET(ETO!$C$3,$EM$2,$EL40,1,1)*7","v":31.919999999999998},null,{"$f":"OFFSET('input พืชผัก'!$B$4,0,$D$1,1,1)","v":7},0,null,{"$f":"IF(OR(EL40=11,EL40=12,EL40<5),OFFSET('input พืชผัก'!$B$5,0,$D$1,1,1),OFFSET('input พืชผัก'!$B$6,0,$D$1,1,1))","v":20},0,null,30,{"$f":"ROUND(OFFSET(ฝนใช้การ!$P$2,$EU$2,$EL40,1,1)*7/$EU40,2)","v":8},0,null,0,0,0,0,0,0,0,0,0,0,0,0,0,0,0,0,0,0,0,0,0,0,0,0,0,0,0,0,0,0,0,0,0,0,0,0,0,0,0,0,0,0,0,0,0,0,0,0,0,0,0,0,0,0,0,0,0,0,0,0,0,0,0,0,0,0,0,0]
[39,{"$f":"+'input ข้าว'!A47","v":"2018-04-25"},{"$f":"+'input ข้าว'!B47","v":"2018-05-01"},"2018-05-01",{"$f":"OFFSET('input พืชผัก'!$B$8,A41,$D$1,1,1)","v":0},0,0,0,0,0,0,0,0,0,0,0,0,0,0,0,0,0,0,0,0,0,0,0,0,0,0,0,0,0,0,0,0,0,0,0,0,0,0,0,0,0,0,0,0,0,0,0,0,0,0,0,0,0,0,0,0,0,0,0,0,0,0,0,0,0,0,0,{"$f":"IF(BT41=0,0,OFFSET(Kc!$A$2,1+BT41,MATCH($BU$1,List_Kc_ALL,0),1,1))","v":0},0,0,0,0,0,0,0,0,0,0,0,0,0,0,0,0,0,0,0,0,0,0,0,0,0,0,0,0,0,0,0,0,1.17,1.19,1.49,1.47,1.43,1.36,1.01,0,0,0,0,0,0,0,0,0,0,0,0,0,0,0,0,0,0,0,0,0,0,0,0,0,0,null,null,null,5,{"$f":"OFFSET(ETO!$C$3,$EM$2,$EL41,1,1)*7","v":30.169999999999998},null,{"$f":"OFFSET('input พืชผัก'!$B$4,0,$D$1,1,1)","v":7},0,null,{"$f":"IF(OR(EL41=11,EL41=12,EL41<5),OFFSET('input พืชผัก'!$B$5,0,$D$1,1,1),OFFSET('input พืชผัก'!$B$6,0,$D$1,1,1))","v":10},0,null,31,{"$f":"ROUND(OFFSET(ฝนใช้การ!$P$2,$EU$2,$EL41,1,1)*7/$EU41,2)","v":11.79},0,null,0,0,0,0,0,0,0,0,0,0,0,0,0,0,0,0,0,0,0,0,0,0,0,0,0,0,0,0,0,0,0,0,0,0,0,0,0,0,0,0,0,0,0,0,0,0,0,0,0,0,0,0,0,0,0,0,0,0,0,0,0,0,0,0,0,0,0,0]
[40,{"$f":"+'input ข้าว'!A48","v":"2018-05-02"},{"$f":"+'input ข้าว'!B48","v":"2018-05-08"},"2018-05-08",{"$f":"OFFSET('input พืชผัก'!$B$8,A42,$D$1,1,1)","v":0},0,0,0,0,0,0,0,0,0,0,0,0,0,0,0,0,0,0,0,0,0,0,0,0,0,0,0,0,0,0,0,0,0,0,0,0,0,0,0,0,0,0,0,0,0,0,0,0,0,0,0,0,0,0,0,0,0,0,0,0,0,0,0,0,0,0,0,{"$f":"IF(BT42=0,0,OFFSET(Kc!$A$2,1+BT42,MATCH($BU$1,List_Kc_ALL,0),1,1))","v":0},0,0,0,0,0,0,0,0,0,0,0,0,0,0,0,0,0,0,0,0,0,0,0,0,0,0,0,0,0,0,0,0,0,1.17,1.19,1.49,1.47,1.43,1.36,1.01,0,0,0,0,0,0,0,0,0,0,0,0,0,0,0,0,0,0,0,0,0,0,0,0,0,null,null,null,5,{"$f":"OFFSET(ETO!$C$3,$EM$2,$EL42,1,1)*7","v":30.169999999999998},null,{"$f":"OFFSET('input พืชผัก'!$B$4,0,$D$1,1,1)","v":7},0,null,{"$f":"IF(OR(EL42=11,EL42=12,EL42<5),OFFSET('input พืชผัก'!$B$5,0,$D$1,1,1),OFFSET('input พืชผัก'!$B$6,0,$D$1,1,1))","v":10},0,null,31,{"$f":"ROUND(OFFSET(ฝนใช้การ!$P$2,$EU$2,$EL42,1,1)*7/$EU42,2)","v":11.79},0,null,0,0,0,0,0,0,0,0,0,0,0,0,0,0,0,0,0,0,0,0,0,0,0,0,0,0,0,0,0,0,0,0,0,0,0,0,0,0,0,0,0,0,0,0,0,0,0,0,0,0,0,0,0,0,0,0,0,0,0,0,0,0,0,0,0,0,0,0]
[41,{"$f":"+'input ข้าว'!A49","v":"2018-05-09"},{"$f":"+'input ข้าว'!B49","v":"2018-05-15"},"2018-05-15",{"$f":"OFFSET('input พืชผัก'!$B$8,A43,$D$1,1,1)","v":0},0,0,0,0,0,0,0,0,0,0,0,0,0,0,0,0,0,0,0,0,0,0,0,0,0,0,0,0,0,0,0,0,0,0,0,0,0,0,0,0,0,0,0,0,0,0,0,0,0,0,0,0,0,0,0,0,0,0,0,0,0,0,0,0,0,0,0,{"$f":"IF(BT43=0,0,OFFSET(Kc!$A$2,1+BT43,MATCH($BU$1,List_Kc_ALL,0),1,1))","v":0},0,0,0,0,0,0,0,0,0,0,0,0,0,0,0,0,0,0,0,0,0,0,0,0,0,0,0,0,0,0,0,0,0,0,1.17,1.19,1.49,1.47,1.43,1.36,1.01,0,0,0,0,0,0,0,0,0,0,0,0,0,0,0,0,0,0,0,0,0,0,0,0,null,null,null,5,{"$f":"OFFSET(ETO!$C$3,$EM$2,$EL43,1,1)*7","v":30.169999999999998},null,{"$f":"OFFSET('input พืชผัก'!$B$4,0,$D$1,1,1)","v":7},0,null,{"$f":"IF(OR(EL43=11,EL43=12,EL43<5),OFFSET('input พืชผัก'!$B$5,0,$D$1,1,1),OFFSET('input พืชผัก'!$B$6,0,$D$1,1,1))","v":10},0,null,31,{"$f":"ROUND(OFFSET(ฝนใช้การ!$P$2,$EU$2,$EL43,1,1)*7/$EU43,2)","v":11.79},0,null,0,0,0,0,0,0,0,0,0,0,0,0,0,0,0,0,0,0,0,0,0,0,0,0,0,0,0,0,0,0,0,0,0,0,0,0,0,0,0,0,0,0,0,0,0,0,0,0,0,0,0,0,0,0,0,0,0,0,0,0,0,0,0,0,0,0,0,0]
[42,{"$f":"+'input ข้าว'!A50","v":"2018-05-16"},{"$f":"+'input ข้าว'!B50","v":"2018-05-22"},"2018-05-22",{"$f":"OFFSET('input พืชผัก'!$B$8,A44,$D$1,1,1)","v":0},0,0,0,0,0,0,0,0,0,0,0,0,0,0,0,{"$f":"IF($A44=U$2,$E44,IF(U43=0,0,IF($A44<U$2+$BT$1,U43,0)))","v":0},0,0,0,0,0,0,0,0,0,0,0,0,0,0,0,0,0,0,0,0,0,0,0,0,0,0,0,0,0,0,0,0,0,0,0,0,0,0,0,0,0,0,0,0,0,0,0,0,0,0,0,{"$f":"IF(BT44=0,0,OFFSET(Kc!$A$2,1+BT44,MATCH($BU$1,List_Kc_ALL,0),1,1))","v":0},0,0,0,0,0,0,0,0,0,0,0,0,0,0,0,{"$f":"IF($A44=CK$2,$BU$3,IF(CK43=0,0,OFFSET($BU$2,MATCH(CK43,$BU$3:$BU$67,0)+1,0,1,1)))","v":0},0,0,0,0,0,0,0,0,0,0,0,0,0,0,0,0,0,0,0,1.17,1.19,1.49,1.47,1.43,1.36,1.01,0,0,0,0,0,0,0,0,0,0,0,0,0,0,0,0,0,0,0,0,0,0,0,null,null,null,5,{"$f":"OFFSET(ETO!$C$3,$EM$2,$EL44,1,1)*7","v":30.169999999999998},null,{"$f":"OFFSET('input พืชผัก'!$B$4,0,$D$1,1,1)","v":7},0,null,{"$f":"IF(OR(EL44=11,EL44=12,EL44<5),OFFSET('input พืชผัก'!$B$5,0,$D$1,1,1),OFFSET('input พืชผัก'!$B$6,0,$D$1,1,1))","v":10},0,null,31,{"$f":"ROUND(OFFSET(ฝนใช้การ!$P$2,$EU$2,$EL44,1,1)*7/$EU44,2)","v":11.79},0,null,0,0,0,0,0,0,0,0,0,0,0,0,0,0,0,0,0,0,0,0,0,0,0,0,0,0,0,0,0,0,0,0,0,0,0,0,0,0,0,0,0,0,0,0,0,0,0,0,0,0,0,0,0,0,0,0,0,0,0,0,0,0,0,0,0,0,0,0]
[43,{"$f":"+'input ข้าว'!A51","v":"2018-05-23"},{"$f":"+'input ข้าว'!B51","v":"2018-05-29"},"2018-05-29",{"$f":"OFFSET('input พืชผัก'!$B$8,A45,$D$1,1,1)","v":0},{"$f":"IF($A45=F$2,$E45,IF(F44=0,0,IF($A45<F$2+$BT$1,F44,0)))","v":0},0,0,0,0,0,0,0,0,0,0,0,0,0,0,0,0,0,0,0,0,0,0,0,0,0,0,0,0,0,0,0,0,0,0,0,0,0,0,0,0,0,0,0,0,0,0,0,0,0,0,0,0,0,0,0,0,0,0,0,0,0,0,0,0,0,0,{"$f":"IF(BT45=0,0,OFFSET(Kc!$A$2,1+BT45,MATCH($BU$1,List_Kc_ALL,0),1,1))","v":0},{"$f":"IF($A45=BV$2,$BU$3,IF(BV44=0,0,OFFSET($BU$2,MATCH(BV44,$BU$3:$BU$67,0)+1,0,1,1)))","v":0},0,0,0,0,0,0,0,0,0,0,0,0,0,0,0,0,0,0,0,0,0,0,0,0,0,0,0,0,0,0,0,0,0,0,0,1.17,1.19,1.49,1.47,1.43,1.36,1.01,0,0,0,0,0,0,0,0,0,0,0,0,0,0,0,0,0,0,0,0,0,0,null,null,null,5,{"$f":"OFFSET(ETO!$C$3,$EM$2,$EL45,1,1)*7","v":30.169999999999998},null,{"$f":"OFFSET('input พืชผัก'!$B$4,0,$D$1,1,1)","v":7},0,null,{"$f":"IF(OR(EL45=11,EL45=12,EL45<5),OFFSET('input พืชผัก'!$B$5,0,$D$1,1,1),OFFSET('input พืชผัก'!$B$6,0,$D$1,1,1))","v":10},0,null,31,{"$f":"ROUND(OFFSET(ฝนใช้การ!$P$2,$EU$2,$EL45,1,1)*7/$EU45,2)","v":11.79},0,null,0,0,0,0,0,0,0,0,0,0,0,0,0,0,0,0,0,0,0,0,0,0,0,0,0,0,0,0,0,0,0,0,0,0,0,0,0,0,0,0,0,0,0,0,0,0,0,0,0,0,0,0,0,0,0,0,0,0,0,0,0,0,0,0,0,0,0,0]
[44,{"$f":"+'input ข้าว'!A52","v":"2018-05-30"},{"$f":"+'input ข้าว'!B52","v":"2018-06-05"},"2018-06-05",{"$f":"OFFSET('input พืชผัก'!$B$8,A46,$D$1,1,1)","v":0},0,0,0,0,0,0,0,0,0,0,0,0,0,0,0,0,0,0,0,0,0,0,0,0,0,0,0,0,0,0,0,0,0,0,0,0,0,0,0,0,0,0,0,0,0,0,0,0,0,0,0,0,0,0,0,0,0,0,0,0,0,0,0,0,0,0,0,{"$f":"IF(BT46=0,0,OFFSET(Kc!$A$2,1+BT46,MATCH($BU$1,List_Kc_ALL,0),1,1))","v":0},0,0,0,0,0,0,0,0,0,0,0,0,0,0,0,0,0,0,0,0,0,0,0,0,0,0,0,0,0,0,0,0,0,0,0,0,0,1.17,1.19,1.49,1.47,1.43,1.36,1.01,0,0,0,0,0,0,0,0,0,0,0,0,0,0,0,0,0,0,0,0,0,null,null,null,6,{"$f":"OFFSET(ETO!$C$3,$EM$2,$EL46,1,1)*7","v":29.889999999999997},null,{"$f":"OFFSET('input พืชผัก'!$B$4,0,$D$1,1,1)","v":7},0,null,{"$f":"IF(OR(EL46=11,EL46=12,EL46<5),OFFSET('input พืชผัก'!$B$5,0,$D$1,1,1),OFFSET('input พืชผัก'!$B$6,0,$D$1,1,1))","v":10},0,null,30,{"$f":"ROUND(OFFSET(ฝนใช้การ!$P$2,$EU$2,$EL46,1,1)*7/$EU46,2)","v":9.3699999999999992},0,null,0,0,0,0,0,0,0,0,0,0,0,0,0,0,0,0,0,0,0,0,0,0,0,0,0,0,0,0,0,0,0,0,0,0,0,0,0,0,0,0,0,0,0,0,0,0,0,0,0,0,0,0,0,0,0,0,0,0,0,0,0,0,0,0,0,0,0,0]
[45,{"$f":"+'input ข้าว'!A53","v":"2018-06-06"},{"$f":"+'input ข้าว'!B53","v":"2018-06-12"},"2018-06-12",{"$f":"OFFSET('input พืชผัก'!$B$8,A47,$D$1,1,1)","v":0},0,0,0,0,0,0,0,0,0,0,0,0,0,0,0,0,0,0,0,0,0,0,0,0,0,0,0,0,0,0,0,0,0,0,0,0,0,0,0,0,0,0,0,0,0,0,0,0,0,0,0,0,0,0,0,0,0,0,0,0,0,0,0,0,0,0,0,{"$f":"IF(BT47=0,0,OFFSET(Kc!$A$2,1+BT47,MATCH($BU$1,List_Kc_ALL,0),1,1))","v":0},0,0,0,0,0,0,0,0,0,0,0,0,0,0,0,0,0,0,0,0,0,0,0,0,0,0,0,0,0,0,0,0,0,0,0,0,0,0,1.17,1.19,1.49,1.47,1.43,1.36,1.01,0,0,0,0,0,0,0,0,0,0,0,0,0,0,0,0,0,0,0,0,null,null,null,6,{"$f":"OFFSET(ETO!$C$3,$EM$2,$EL47,1,1)*7","v":29.889999999999997},null,{"$f":"OFFSET('input พืชผัก'!$B$4,0,$D$1,1,1)","v":7},0,null,{"$f":"IF(OR(EL47=11,EL47=12,EL47<5),OFFSET('input พืชผัก'!$B$5,0,$D$1,1,1),OFFSET('input พืชผัก'!$B$6,0,$D$1,1,1))","v":10},0,null,30,{"$f":"ROUND(OFFSET(ฝนใช้การ!$P$2,$EU$2,$EL47,1,1)*7/$EU47,2)","v":9.3699999999999992},0,null,0,0,0,0,0,0,0,0,0,0,0,0,0,0,0,0,0,0,0,0,0,0,0,0,0,0,0,0,0,0,0,0,0,0,0,0,0,0,0,0,0,0,0,0,0,0,0,0,0,0,0,0,0,0,0,0,0,0,0,0,0,0,0,0,0,0,0,0]
[46,{"$f":"+'input ข้าว'!A54","v":"2018-06-13"},{"$f":"+'input ข้าว'!B54","v":"2018-06-19"},"2018-06-19",{"$f":"OFFSET('input พืชผัก'!$B$8,A48,$D$1,1,1)","v":0},0,0,0,0,0,0,0,0,0,0,0,0,0,0,0,0,0,0,0,0,0,0,0,0,0,0,0,0,0,0,0,{"$f":"IF($A48=AK$2,$E48,IF(AK47=0,0,IF($A48<AK$2+$BT$1,AK47,0)))","v":0},0,0,0,0,0,0,0,0,0,0,0,0,0,0,0,0,0,0,0,0,0,0,0,0,0,0,0,0,0,0,0,0,0,0,0,{"$f":"IF(BT48=0,0,OFFSET(Kc!$A$2,1+BT48,MATCH($BU$1,List_Kc_ALL,0),1,1))","v":0},0,0,0,0,0,0,0,0,0,0,0,0,0,0,0,0,0,0,0,0,0,0,0,0,0,0,0,0,0,0,0,{"$f":"IF($A48=DA$2,$BU$3,IF(DA47=0,0,OFFSET($BU$2,MATCH(DA47,$BU$3:$BU$67,0)+1,0,1,1)))","v":0},0,0,0,0,0,0,0,1.17,1.19,1.49,1.47,1.43,1.36,1.01,0,0,0,0,0,0,0,0,0,0,0,0,0,0,0,0,0,0,0,null,null,null,6,{"$f":"OFFSET(ETO!$C$3,$EM$2,$EL48,1,1)*7","v":29.889999999999997},null,{"$f":"OFFSET('input พืชผัก'!$B$4,0,$D$1,1,1)","v":7},0,null,{"$f":"IF(OR(EL48=11,EL48=12,EL48<5),OFFSET('input พืชผัก'!$B$5,0,$D$1,1,1),OFFSET('input พืชผัก'!$B$6,0,$D$1,1,1))","v":10},0,null,30,{"$f":"ROUND(OFFSET(ฝนใช้การ!$P$2,$EU$2,$EL48,1,1)*7/$EU48,2)","v":9.3699999999999992},0,null,0,0,0,0,0,0,0,0,0,0,0,0,0,0,0,0,0,0,0,0,0,0,0,0,0,0,0,0,0,0,0,0,0,0,0,0,0,0,0,0,0,0,0,0,0,0,0,0,0,0,0,0,0,0,0,0,0,0,0,0,0,0,0,0,0,0,0,0]
[47,{"$f":"+'input ข้าว'!A55","v":"2018-06-20"},{"$f":"+'input ข้าว'!B55","v":"2018-06-26"},"2018-06-26",{"$f":"OFFSET('input พืชผัก'!$B$8,A49,$D$1,1,1)","v":0},0,0,0,0,0,0,0,0,0,0,0,0,0,0,0,0,0,0,0,0,0,0,0,0,0,0,0,0,0,0,0,0,0,0,0,0,0,0,0,0,0,0,0,0,0,0,0,0,0,0,0,0,0,0,0,0,0,0,0,0,0,0,0,0,0,0,0,{"$f":"IF(BT49=0,0,OFFSET(Kc!$A$2,1+BT49,MATCH($BU$1,List_Kc_ALL,0),1,1))","v":0},0,0,0,0,0,0,0,0,0,0,0,0,0,0,0,0,0,0,0,0,0,0,0,0,0,0,0,0,0,0,0,0,0,0,0,0,0,0,0,0,1.17,1.19,1.49,1.47,1.43,1.36,1.01,0,0,0,0,0,0,0,0,0,0,0,0,0,0,0,0,0,0,null,null,null,6,{"$f":"OFFSET(ETO!$C$3,$EM$2,$EL49,1,1)*7","v":29.889999999999997},null,{"$f":"OFFSET('input พืชผัก'!$B$4,0,$D$1,1,1)","v":7},0,null,{"$f":"IF(OR(EL49=11,EL49=12,EL49<5),OFFSET('input พืชผัก'!$B$5,0,$D$1,1,1),OFFSET('input พืชผัก'!$B$6,0,$D$1,1,1))","v":10},0,null,30,{"$f":"ROUND(OFFSET(ฝนใช้การ!$P$2,$EU$2,$EL49,1,1)*7/$EU49,2)","v":9.3699999999999992},0,null,0,0,0,0,0,0,0,0,0,0,0,0,0,0,0,0,0,0,0,0,0,0,0,0,0,0,0,0,0,0,0,0,0,0,0,0,0,0,0,0,0,0,0,0,0,0,0,0,0,0,0,0,0,0,0,0,0,0,0,0,0,0,0,0,0,0,0,0]
[48,{"$f":"+'input ข้าว'!A56","v":"2018-06-27"},{"$f":"+'input ข้าว'!B56","v":"2018-07-03"},"2018-07-03",{"$f":"OFFSET('input พืชผัก'!$B$8,A50,$D$1,1,1)","v":0},0,0,0,0,0,0,0,0,0,0,0,0,0,0,0,0,0,0,0,0,0,0,0,0,0,0,0,0,0,0,0,0,0,0,0,0,0,0,0,0,0,0,0,0,0,0,0,0,0,0,0,0,0,0,0,0,0,0,0,0,0,0,0,0,0,0,0,{"$f":"IF(BT50=0,0,OFFSET(Kc!$A$2,1+BT50,MATCH($BU$1,List_Kc_ALL,0),1,1))","v":0},0,0,0,0,0,0,0,0,0,0,0,0,0,0,0,0,0,0,0,0,0,0,0,0,0,0,0,0,0,0,0,0,0,0,0,0,0,0,0,0,0,1.17,1.19,1.49,1.47,1.43,1.36,1.01,0,0,0,0,0,0,0,0,0,0,0,0,0,0,0,0,0,null,null,null,7,{"$f":"OFFSET(ETO!$C$3,$EM$2,$EL50,1,1)*7","v":26.88},null,{"$f":"OFFSET('input พืชผัก'!$B$4,0,$D$1,1,1)","v":7},0,null,{"$f":"IF(OR(EL50=11,EL50=12,EL50<5),OFFSET('input พืชผัก'!$B$5,0,$D$1,1,1),OFFSET('input พืชผัก'!$B$6,0,$D$1,1,1))","v":10},0,null,31,{"$f":"ROUND(OFFSET(ฝนใช้การ!$P$2,$EU$2,$EL50,1,1)*7/$EU50,2)","v":16.62},0,null,0,0,0,0,0,0,0,0,0,0,0,0,0,0,0,0,0,0,0,0,0,0,0,0,0,0,0,0,0,0,0,0,0,0,0,0,0,0,0,0,0,0,{"$f":"ROUND(DL50*$EM50*AV50*1.6,2)","v":0},0,0,0,0,0,0,0,0,0,0,0,0,0,0,0,{"$f":"ROUND(EB50*$EM50*BL50*1.6,2)","v":0},0,0,0,0,0,0,0,0,0]
[49,{"$f":"+'input ข้าว'!A57","v":"2018-07-04"},{"$f":"+'input ข้าว'!B57","v":"2018-07-10"},"2018-07-10",{"$f":"OFFSET('input พืชผัก'!$B$8,A51,$D$1,1,1)","v":0},0,0,0,0,0,0,0,0,0,0,0,0,0,0,0,0,0,0,0,0,0,0,0,0,0,0,0,0,0,0,0,0,0,0,0,0,0,0,0,0,0,0,0,0,0,0,0,0,0,0,0,0,0,0,0,0,0,0,0,0,0,0,0,0,0,0,0,{"$f":"IF(BT51=0,0,OFFSET(Kc!$A$2,1+BT51,MATCH($BU$1,List_Kc_ALL,0),1,1))","v":0},0,0,0,0,0,0,0,0,0,0,0,0,0,0,0,0,0,0,0,0,0,0,0,0,0,0,0,0,0,0,0,0,0,0,0,0,0,0,0,0,0,0,1.17,1.19,1.49,1.47,1.43,1.36,1.01,0,0,0,0,0,0,0,0,0,0,0,0,0,0,0,0,null,null,null,7,{"$f":"OFFSET(ETO!$C$3,$EM$2,$EL51,1,1)*7","v":26.88},null,{"$f":"OFFSET('input พืชผัก'!$B$4,0,$D$1,1,1)","v":7},0,null,{"$f":"IF(OR(EL51=11,EL51=12,EL51<5),OFFSET('input พืชผัก'!$B$5,0,$D$1,1,1),OFFSET('input พืชผัก'!$B$6,0,$D$1,1,1))","v":10},0,null,31,{"$f":"ROUND(OFFSET(ฝนใช้การ!$P$2,$EU$2,$EL51,1,1)*7/$EU51,2)","v":16.62},0,null,0,0,0,0,0,0,0,0,0,0,0,0,0,0,0,0,0,0,0,0,0,0,0,0,0,0,0,0,0,0,0,{"$f":"ROUND(DA51*$EM51*AK51*1.6,2)","v":0},0,0,0,0,0,0,0,0,0,0,0,0,0,0,0,0,0,0,0,0,0,0,0,0,0,0,0,0,0,0,0,0,0,0,0,0]
[50,{"$f":"+'input ข้าว'!A58","v":"2018-07-11"},{"$f":"+'input ข้าว'!B58","v":"2018-07-17"},"2018-07-17",{"$f":"OFFSET('input พืชผัก'!$B$8,A52,$D$1,1,1)","v":0},0,0,0,0,0,0,0,0,0,0,0,0,0,0,0,0,0,0,0,0,0,0,0,0,0,0,0,0,0,0,0,0,0,0,0,0,0,0,0,0,0,0,0,0,0,0,0,0,0,0,0,0,0,0,0,0,0,0,0,0,0,0,{"$f":"IF($A52=BP$2,$E52,IF(BP51=0,0,IF($A52<BP$2+$BT$1,BP51,0)))","v":0},0,0,0,0,{"$f":"IF(BT52=0,0,OFFSET(Kc!$A$2,1+BT52,MATCH($BU$1,List_Kc_ALL,0),1,1))","v":0},0,0,0,0,0,0,0,0,0,0,0,0,0,0,0,0,0,0,0,0,0,0,0,0,0,0,0,0,0,0,0,0,0,0,0,0,0,0,0,0,0,0,0,1.17,1.19,1.49,1.47,1.43,1.36,1.01,0,0,0,0,0,0,0,0,0,0,0,0,{"$f":"IF($A52=EF$2,$BU$3,IF(EF51=0,0,OFFSET($BU$2,MATCH(EF51,$BU$3:$BU$67,0)+1,0,1,1)))","v":0},0,0,null,null,null,7,{"$f":"OFFSET(ETO!$C$3,$EM$2,$EL52,1,1)*7","v":26.88},null,{"$f":"OFFSET('input พืชผัก'!$B$4,0,$D$1,1,1)","v":7},0,null,{"$f":"IF(OR(EL52=11,EL52=12,EL52<5),OFFSET('input พืชผัก'!$B$5,0,$D$1,1,1),OFFSET('input พืชผัก'!$B$6,0,$D$1,1,1))","v":10},0,null,31,{"$f":"ROUND(OFFSET(ฝนใช้การ!$P$2,$EU$2,$EL52,1,1)*7/$EU52,2)","v":16.62},0,null,0,0,0,0,0,0,0,0,0,0,0,0,0,0,0,0,0,0,0,0,0,0,0,0,0,0,0,0,0,0,{"$f":"ROUND(CZ52*$EM52*AJ52*1.6,2)","v":0},0,0,0,0,0,0,0,0,0,0,0,0,0,0,0,0,0,0,0,0,0,0,0,0,0,0,0,0,0,0,0,0,0,0,0,0,0]
[51,{"$f":"+'input ข้าว'!A59","v":"2018-07-18"},{"$f":"+'input ข้าว'!B59","v":"2018-07-24"},"2018-07-24",{"$f":"OFFSET('input พืชผัก'!$B$8,A53,$D$1,1,1)","v":0},0,0,0,0,0,0,0,0,0,0,0,0,0,0,0,0,0,0,0,0,0,0,0,0,0,0,0,0,0,0,0,0,0,0,0,0,0,0,0,0,0,0,0,0,0,0,0,0,{"$f":"IF($A53=BB$2,$E53,IF(BB52=0,0,IF($A53<BB$2+$BT$1,BB52,0)))","v":0},0,0,0,0,0,0,0,0,0,0,0,0,0,0,0,0,0,0,{"$f":"IF(BT53=0,0,OFFSET(Kc!$A$2,1+BT53,MATCH($BU$1,List_Kc_ALL,0),1,1))","v":0},0,0,0,0,0,0,0,0,0,0,0,0,0,0,0,0,0,0,0,0,0,0,0,0,0,0,0,0,0,0,0,0,0,0,0,0,0,0,0,0,0,0,0,0,1.17,1.19,1.49,1.47,{"$f":"IF($A53=DR$2,$BU$3,IF(DR52=0,0,OFFSET($BU$2,MATCH(DR52,$BU$3:$BU$67,0)+1,0,1,1)))","v":1.43},1.36,1.01,0,0,0,0,0,0,0,0,0,0,0,0,0,0,null,null,null,7,{"$f":"OFFSET(ETO!$C$3,$EM$2,$EL53,1,1)*7","v":26.88},null,{"$f":"OFFSET('input พืชผัก'!$B$4,0,$D$1,1,1)","v":7},0,null,{"$f":"IF(OR(EL53=11,EL53=12,EL53<5),OFFSET('input พืชผัก'!$B$5,0,$D$1,1,1),OFFSET('input พืชผัก'!$B$6,0,$D$1,1,1))","v":10},0,null,31,{"$f":"ROUND(OFFSET(ฝนใช้การ!$P$2,$EU$2,$EL53,1,1)*7/$EU53,2)","v":16.62},0,null,{"$f":"ROUND(BV53*$EM53*F53*1.6,2)","v":0},0,0,0,0,0,0,0,0,0,0,0,0,0,0,0,{"$f":"ROUND(CL53*$EM53*V53*1.6,2)","v":0},0,0,0,0,0,0,0,0,0,0,0,0,0,0,0,0,0,0,0,0,0,0,0,0,0,0,0,0,0,0,0,0,0,0,0,0,0,0,0,0,0,0,0,0,0,0,0,0,0,0,0]
[52,{"$f":"+'input ข้าว'!A60","v":"2018-07-25"},{"$f":"+'input ข้าว'!B60","v":"2018-07-31"},"2018-07-31",{"$f":"OFFSET('input พืชผัก'!$B$8,A54,$D$1,1,1)","v":0},0,0,0,0,0,0,0,0,0,0,0,0,0,0,0,0,0,0,0,0,0,0,0,0,0,0,0,0,0,0,0,0,0,0,0,0,0,0,0,0,0,0,0,0,0,0,0,{"$f":"IF($A54=BA$2,$E54,IF(BA53=0,0,IF($A54<BA$2+$BT$1,BA53,0)))","v":0},0,0,0,0,0,0,0,0,0,0,0,0,0,0,0,0,0,0,0,{"$f":"IF(BT54=0,0,OFFSET(Kc!$A$2,1+BT54,MATCH($BU$1,List_Kc_ALL,0),1,1))","v":0},0,0,0,0,0,0,0,0,0,0,0,0,0,0,0,0,0,0,0,0,0,0,0,0,0,0,0,0,0,0,0,0,0,0,0,0,0,0,0,0,0,0,0,0,0,1.17,1.19,{"$f":"IF($A54=DQ$2,$BU$3,IF(DQ53=0,0,OFFSET($BU$2,MATCH(DQ53,$BU$3:$BU$67,0)+1,0,1,1)))","v":1.49},1.47,1.43,1.36,1.01,0,0,0,0,0,0,0,0,0,0,0,0,0,null,null,null,7,{"$f":"OFFSET(ETO!$C$3,$EM$2,$EL54,1,1)*7","v":26.88},null,{"$f":"OFFSET('input พืชผัก'!$B$4,0,$D$1,1,1)","v":7},0,null,{"$f":"IF(OR(EL54=11,EL54=12,EL54<5),OFFSET('input พืชผัก'!$B$5,0,$D$1,1,1),OFFSET('input พืชผัก'!$B$6,0,$D$1,1,1))","v":10},0,null,31,{"$f":"ROUND(OFFSET(ฝนใช้การ!$P$2,$EU$2,$EL54,1,1)*7/$EU54,2)","v":16.62},0,null,0,0,0,0,0,0,0,0,0,0,0,0,0,0,0,0,0,0,0,0,0,0,0,0,0,0,0,0,0,0,0,0,0,0,0,0,0,0,0,0,0,0,0,0,0,0,0,0,0,0,0,0,0,0,0,0,0,0,0,0,0,0,0,0,0,0,0,0]
[53,{"$f":"+'input ข้าว'!A61","v":"2018-08-01"},{"$f":"+'input ข้าว'!B61","v":"2018-08-07"},"2018-08-07",{"$f":"OFFSET('input พืชผัก'!$B$8,A55,$D$1,1,1)","v":0},0,0,0,0,0,0,0,0,0,0,0,0,0,0,0,0,0,0,0,0,0,0,0,0,0,0,0,0,0,0,0,0,0,0,0,0,0,0,0,0,0,0,0,0,0,0,0,0,0,0,0,0,0,0,0,0,0,0,0,0,0,0,0,0,0,0,0,{"$f":"IF(BT55=0,0,OFFSET(Kc!$A$2,1+BT55,MATCH($BU$1,List_Kc_ALL,0),1,1))","v":0},0,0,0,0,0,0,0,0,0,0,0,0,0,0,0,0,0,0,0,0,0,0,0,0,0,0,0,0,0,0,0,0,0,0,0,0,0,0,0,0,0,0,0,0,0,0,1.17,1.19,1.49,1.47,1.43,1.36,1.01,0,0,0,0,0,0,0,0,0,0,0,0,null,null,null,8,{"$f":"OFFSET(ETO!$C$3,$EM$2,$EL55,1,1)*7","v":24.290000000000003},null,{"$f":"OFFSET('input พืชผัก'!$B$4,0,$D$1,1,1)","v":7},0,null,{"$f":"IF(OR(EL55=11,EL55=12,EL55<5),OFFSET('input พืชผัก'!$B$5,0,$D$1,1,1),OFFSET('input พืชผัก'!$B$6,0,$D$1,1,1))","v":10},0,null,31,{"$f":"ROUND(OFFSET(ฝนใช้การ!$P$2,$EU$2,$EL55,1,1)*7/$EU55,2)","v":22.02},0,null,0,0,0,0,0,0,0,0,0,0,0,0,0,0,0,0,0,0,0,0,0,0,0,0,0,0,0,0,0,0,0,0,0,0,0,0,0,0,0,0,0,0,0,0,0,0,0,0,0,0,0,0,0,0,0,0,0,0,0,0,0,0,0,0,0,0,0,0]
[54,{"$f":"+'input ข้าว'!A62","v":"2018-08-08"},{"$f":"+'input ข้าว'!B62","v":"2018-08-14"},"2018-08-14",{"$f":"OFFSET('input พืชผัก'!$B$8,A56,$D$1,1,1)","v":0},0,0,0,0,0,0,0,0,0,0,0,0,0,0,0,0,0,0,0,0,0,0,0,0,0,0,0,0,0,0,0,0,0,0,0,0,0,0,0,0,0,0,0,0,0,0,0,0,0,0,0,0,0,0,0,0,0,0,0,0,0,0,0,0,0,0,0,{"$f":"IF(BT56=0,0,OFFSET(Kc!$A$2,1+BT56,MATCH($BU$1,List_Kc_ALL,0),1,1))","v":0},0,0,0,0,0,0,0,0,0,0,0,0,0,0,0,0,0,0,0,0,0,0,0,0,0,0,0,0,0,0,0,0,0,0,0,0,0,0,0,0,0,0,0,0,0,0,0,1.17,1.19,1.49,1.47,1.43,1.36,1.01,0,0,0,0,0,0,0,0,0,0,0,null,null,null,8,{"$f":"OFFSET(ETO!$C$3,$EM$2,$EL56,1,1)*7","v":24.290000000000003},null,{"$f":"OFFSET('input พืชผัก'!$B$4,0,$D$1,1,1)","v":7},0,null,{"$f":"IF(OR(EL56=11,EL56=12,EL56<5),OFFSET('input พืชผัก'!$B$5,0,$D$1,1,1),OFFSET('input พืชผัก'!$B$6,0,$D$1,1,1))","v":10},0,null,31,{"$f":"ROUND(OFFSET(ฝนใช้การ!$P$2,$EU$2,$EL56,1,1)*7/$EU56,2)","v":22.02},0,null,0,0,0,0,0,0,0,0,0,0,0,0,0,0,0,0,0,0,0,0,0,0,0,0,0,0,0,0,0,0,0,0,0,0,0,0,0,0,0,0,0,0,0,0,0,0,0,0,0,0,0,0,0,0,0,0,0,0,0,0,0,0,0,0,0,0,0,0]
[55,{"$f":"+'input ข้าว'!A63","v":"2018-08-15"},{"$f":"+'input ข้าว'!B63","v":"2018-08-21"},"2018-08-21",{"$f":"OFFSET('input พืชผัก'!$B$8,A57,$D$1,1,1)","v":0},0,0,0,0,0,0,0,0,0,0,0,0,0,0,0,0,0,0,0,0,0,0,0,0,0,0,0,0,0,0,0,0,0,0,0,0,0,0,0,0,0,0,0,0,0,0,0,0,0,0,0,0,0,0,0,0,0,0,0,0,0,0,0,0,0,0,0,{"$f":"IF(BT57=0,0,OFFSET(Kc!$A$2,1+BT57,MATCH($BU$1,List_Kc_ALL,0),1,1))","v":0},0,0,0,0,0,0,0,0,0,0,0,0,0,0,0,0,0,0,0,0,0,0,0,0,0,0,0,0,0,0,0,0,0,0,0,0,0,0,0,0,0,0,0,0,0,0,0,0,1.17,1.19,1.49,1.47,1.43,1.36,1.01,0,0,0,0,0,0,0,0,0,0,null,null,null,8,{"$f":"OFFSET(ETO!$C$3,$EM$2,$EL57,1,1)*7","v":24.290000000000003},null,{"$f":"OFFSET('input พืชผัก'!$B$4,0,$D$1,1,1)","v":7},0,null,{"$f":"IF(OR(EL57=11,EL57=12,EL57<5),OFFSET('input พืชผัก'!$B$5,0,$D$1,1,1),OFFSET('input พืชผัก'!$B$6,0,$D$1,1,1))","v":10},0,null,31,{"$f":"ROUND(OFFSET(ฝนใช้การ!$P$2,$EU$2,$EL57,1,1)*7/$EU57,2)","v":22.02},0,null,0,0,0,0,0,0,0,0,0,0,0,0,0,0,0,0,0,0,0,0,0,0,0,0,0,0,0,0,0,0,0,0,0,0,0,0,0,0,0,0,0,0,0,0,0,0,0,0,0,0,0,0,0,0,0,0,0,0,0,0,0,0,0,0,0,0,0,0]
[56,{"$f":"+'input ข้าว'!A64","v":"2018-08-22"},{"$f":"+'input ข้าว'!B64","v":"2018-08-28"},"2018-08-28",{"$f":"OFFSET('input พืชผัก'!$B$8,A58,$D$1,1,1)","v":0},0,0,0,0,0,0,0,0,0,0,0,0,0,0,0,0,0,0,0,0,0,0,0,0,0,0,0,0,0,0,0,0,0,0,0,0,0,0,0,0,0,0,0,0,0,0,0,0,0,0,0,0,0,0,0,0,0,0,0,0,0,0,0,0,0,0,0,{"$f":"IF(BT58=0,0,OFFSET(Kc!$A$2,1+BT58,MATCH($BU$1,List_Kc_ALL,0),1,1))","v":0},0,0,0,0,0,0,0,0,0,0,0,0,0,0,0,0,0,0,0,0,0,0,0,0,0,0,0,0,0,0,0,0,0,0,0,0,0,0,0,0,0,0,0,0,0,0,0,0,0,1.17,1.19,1.49,1.47,1.43,1.36,1.01,0,0,0,0,0,0,0,0,0,null,null,null,8,{"$f":"OFFSET(ETO!$C$3,$EM$2,$EL58,1,1)*7","v":24.290000000000003},null,{"$f":"OFFSET('input พืชผัก'!$B$4,0,$D$1,1,1)","v":7},0,null,{"$f":"IF(OR(EL58=11,EL58=12,EL58<5),OFFSET('input พืชผัก'!$B$5,0,$D$1,1,1),OFFSET('input พืชผัก'!$B$6,0,$D$1,1,1))","v":10},0,null,31,{"$f":"ROUND(OFFSET(ฝนใช้การ!$P$2,$EU$2,$EL58,1,1)*7/$EU58,2)","v":22.02},0,null,0,0,0,0,0,0,0,0,0,0,0,0,0,0,0,0,0,0,0,0,0,0,0,0,0,0,0,0,0,0,0,0,0,0,0,0,0,0,0,0,0,0,0,0,0,0,0,0,0,0,0,0,0,0,0,0,0,0,0,0,0,0,0,0,0,0,0,0]
[57,{"$f":"+'input ข้าว'!A65","v":"2018-08-29"},{"$f":"+'input ข้าว'!B65","v":"2018-09-04"},"2018-09-04",{"$f":"OFFSET('input พืชผัก'!$B$8,A59,$D$1,1,1)","v":0},0,0,0,0,0,0,0,0,0,0,0,0,0,0,0,0,0,0,0,0,0,0,0,0,0,0,0,0,0,0,0,0,0,0,0,0,0,0,0,0,0,0,0,0,0,0,0,0,0,0,0,0,0,0,0,0,0,0,0,0,0,0,0,0,0,0,0,{"$f":"IF(BT59=0,0,OFFSET(Kc!$A$2,1+BT59,MATCH($BU$1,List_Kc_ALL,0),1,1))","v":0},0,0,0,0,0,0,0,0,0,0,0,0,0,0,0,0,0,0,0,0,0,0,0,0,0,0,0,0,0,0,0,0,0,0,0,0,0,0,0,0,0,0,0,0,0,0,0,0,0,0,1.17,1.19,1.49,1.47,1.43,1.36,1.01,0,0,0,0,0,0,0,0,null,null,null,9,{"$f":"OFFSET(ETO!$C$3,$EM$2,$EL59,1,1)*7","v":23.939999999999998},null,{"$f":"OFFSET('input พืชผัก'!$B$4,0,$D$1,1,1)","v":7},0,null,{"$f":"IF(OR(EL59=11,EL59=12,EL59<5),OFFSET('input พืชผัก'!$B$5,0,$D$1,1,1),OFFSET('input พืชผัก'!$B$6,0,$D$1,1,1))","v":10},0,null,30,{"$f":"ROUND(OFFSET(ฝนใช้การ!$P$2,$EU$2,$EL59,1,1)*7/$EU59,2)","v":29.8},0,null,0,0,0,0,0,0,0,0,0,0,0,0,0,0,0,0,0,0,0,0,0,0,0,0,0,0,0,0,0,0,0,0,0,0,0,0,0,0,0,0,0,0,0,0,0,0,0,0,0,0,0,0,0,0,0,0,0,0,0,0,0,0,0,0,0,0,0,0]
[58,{"$f":"+'input ข้าว'!A66","v":"2018-09-05"},{"$f":"+'input ข้าว'!B66","v":"2018-09-11"},"2018-09-11",{"$f":"OFFSET('input พืชผัก'!$B$8,A60,$D$1,1,1)","v":0},0,0,0,0,0,0,0,0,0,0,0,0,0,0,0,0,{"$f":"IF($A60=V$2,$E60,IF(V59=0,0,IF($A60<V$2+$BT$1,V59,0)))","v":0},0,0,0,0,0,0,0,0,0,0,0,0,0,0,0,0,0,0,0,0,0,0,0,0,0,0,0,0,0,0,0,0,0,0,0,0,0,0,0,0,0,0,0,0,0,0,0,0,0,0,{"$f":"IF(BT60=0,0,OFFSET(Kc!$A$2,1+BT60,MATCH($BU$1,List_Kc_ALL,0),1,1))","v":0},0,0,0,0,0,0,0,0,0,0,0,0,0,0,0,0,{"$f":"IF($A60=CL$2,$BU$3,IF(CL59=0,0,OFFSET($BU$2,MATCH(CL59,$BU$3:$BU$67,0)+1,0,1,1)))","v":0},0,0,0,0,0,0,0,0,0,0,0,0,0,0,0,0,0,0,0,0,0,0,0,0,0,0,0,0,0,0,0,0,0,0,1.17,1.19,1.49,1.47,1.43,1.36,1.01,0,0,0,0,0,0,0,null,null,null,9,{"$f":"OFFSET(ETO!$C$3,$EM$2,$EL60,1,1)*7","v":23.939999999999998},null,{"$f":"OFFSET('input พืชผัก'!$B$4,0,$D$1,1,1)","v":7},0,null,{"$f":"IF(OR(EL60=11,EL60=12,EL60<5),OFFSET('input พืชผัก'!$B$5,0,$D$1,1,1),OFFSET('input พืชผัก'!$B$6,0,$D$1,1,1))","v":10},0,null,30,{"$f":"ROUND(OFFSET(ฝนใช้การ!$P$2,$EU$2,$EL60,1,1)*7/$EU60,2)","v":29.8},0,null,0,0,0,0,0,0,0,0,0,0,0,0,0,0,0,0,0,0,0,0,0,0,0,0,0,0,0,0,0,0,0,0,0,0,0,0,0,0,0,0,0,0,0,0,0,0,0,0,0,0,0,0,0,0,0,0,0,0,0,0,0,0,0,0,0,0,0,0]
[59,{"$f":"+'input ข้าว'!A67","v":"2018-09-12"},{"$f":"+'input ข้าว'!B67","v":"2018-09-18"},"2018-09-18",{"$f":"OFFSET('input พืชผัก'!$B$8,A61,$D$1,1,1)","v":0},{"$f":"IF($A61=F$2,$E61,IF(F60=0,0,IF($A61<F$2+$BT$1,F60,0)))","v":0},0,0,0,0,0,0,0,0,0,0,0,0,0,0,0,0,0,0,0,0,0,0,0,0,0,0,0,0,0,0,0,0,0,0,0,0,0,0,0,0,0,0,0,0,0,0,0,0,0,0,0,0,0,0,0,0,0,0,0,0,0,0,0,0,0,0,{"$f":"IF(BT61=0,0,OFFSET(Kc!$A$2,1+BT61,MATCH($BU$1,List_Kc_ALL,0),1,1))","v":0},{"$f":"IF($A61=BV$2,$BU$3,IF(BV60=0,0,OFFSET($BU$2,MATCH(BV60,$BU$3:$BU$67,0)+1,0,1,1)))","v":0},0,0,0,0,0,0,0,0,0,0,0,0,0,0,0,0,0,0,0,0,0,0,0,0,0,0,0,0,0,0,0,0,0,0,0,0,0,0,0,0,0,0,0,0,0,0,0,0,0,0,0,1.17,1.19,1.49,1.47,1.43,1.36,1.01,0,0,0,0,0,0,null,null,null,9,{"$f":"OFFSET(ETO!$C$3,$EM$2,$EL61,1,1)*7","v":23.939999999999998},null,{"$f":"OFFSET('input พืชผัก'!$B$4,0,$D$1,1,1)","v":7},0,null,{"$f":"IF(OR(EL61=11,EL61=12,EL61<5),OFFSET('input พืชผัก'!$B$5,0,$D$1,1,1),OFFSET('input พืชผัก'!$B$6,0,$D$1,1,1))","v":10},0,null,30,{"$f":"ROUND(OFFSET(ฝนใช้การ!$P$2,$EU$2,$EL61,1,1)*7/$EU61,2)","v":29.8},0,null,0,0,0,0,0,0,0,0,0,0,0,0,0,0,0,0,0,0,0,0,0,0,0,0,0,0,0,0,0,0,0,0,0,0,0,0,0,0,0,0,0,0,0,0,0,0,0,0,0,0,0,0,0,0,0,0,0,0,0,0,0,0,0,0,0,0,0,0]
[60,{"$f":"+'input ข้าว'!A68","v":"2018-09-19"},{"$f":"+'input ข้าว'!B68","v":"2018-09-25"},"2018-09-25",{"$f":"OFFSET('input พืชผัก'!$B$8,A62,$D$1,1,1)","v":0},0,0,0,0,0,0,0,0,0,0,0,0,0,0,0,0,0,0,0,0,0,0,0,0,0,0,0,0,0,0,0,0,0,0,0,0,0,0,0,0,0,0,0,0,0,0,0,0,0,0,0,0,0,0,0,0,0,0,0,0,0,0,0,0,0,0,0,{"$f":"IF(BT62=0,0,OFFSET(Kc!$A$2,1+BT62,MATCH($BU$1,List_Kc_ALL,0),1,1))","v":0},0,0,0,0,0,0,0,0,0,0,0,0,0,0,0,0,0,0,0,0,0,0,0,0,0,0,0,0,0,0,0,0,0,0,0,0,0,0,0,0,0,0,0,0,0,0,0,0,0,0,0,0,0,1.17,1.19,1.49,1.47,1.43,1.36,1.01,0,0,0,0,0,null,null,null,9,{"$f":"OFFSET(ETO!$C$3,$EM$2,$EL62,1,1)*7","v":23.939999999999998},null,{"$f":"OFFSET('input พืชผัก'!$B$4,0,$D$1,1,1)","v":7},0,null,{"$f":"IF(OR(EL62=11,EL62=12,EL62<5),OFFSET('input พืชผัก'!$B$5,0,$D$1,1,1),OFFSET('input พืชผัก'!$B$6,0,$D$1,1,1))","v":10},0,null,30,{"$f":"ROUND(OFFSET(ฝนใช้การ!$P$2,$EU$2,$EL62,1,1)*7/$EU62,2)","v":29.8},0,null,0,0,0,0,0,0,0,0,0,0,0,0,0,0,0,0,0,0,0,0,0,0,0,0,0,0,0,0,0,0,0,0,0,0,0,0,0,0,0,0,0,0,0,0,0,0,0,0,0,0,0,0,0,0,0,0,0,0,0,0,0,0,0,0,0,0,0,0]
[61,{"$f":"+'input ข้าว'!A69","v":"2018-09-26"},{"$f":"+'input ข้าว'!B69","v":"2018-10-02"},"2018-10-02",{"$f":"OFFSET('input พืชผัก'!$B$8,A63,$D$1,1,1)","v":0},0,0,0,0,0,0,0,0,0,0,0,0,0,0,0,0,0,0,0,0,0,0,0,0,0,0,0,0,0,0,0,0,0,0,0,0,0,0,0,0,0,0,0,0,0,0,0,0,0,0,0,0,0,0,0,0,0,0,0,0,0,0,0,0,0,0,0,{"$f":"IF(BT63=0,0,OFFSET(Kc!$A$2,1+BT63,MATCH($BU$1,List_Kc_ALL,0),1,1))","v":0},0,0,0,0,0,0,0,0,0,0,0,0,0,0,0,0,0,0,0,0,0,0,0,0,0,0,0,0,0,0,0,0,0,0,0,0,0,0,0,0,0,0,0,0,0,0,0,0,0,0,0,0,0,0,1.17,1.19,1.49,1.47,1.43,1.36,1.01,0,0,0,0,null,null,null,10,{"$f":"OFFSET(ETO!$C$3,$EM$2,$EL63,1,1)*7","v":22.82},null,{"$f":"OFFSET('input พืชผัก'!$B$4,0,$D$1,1,1)","v":7},0,null,{"$f":"IF(OR(EL63=11,EL63=12,EL63<5),OFFSET('input พืชผัก'!$B$5,0,$D$1,1,1),OFFSET('input พืชผัก'!$B$6,0,$D$1,1,1))","v":10},0,null,31,{"$f":"ROUND(OFFSET(ฝนใช้การ!$P$2,$EU$2,$EL63,1,1)*7/$EU63,2)","v":16.55},0,null,0,0,0,0,0,0,0,0,0,0,0,0,0,0,0,0,0,0,0,0,0,0,0,0,0,0,0,0,0,0,0,0,0,0,0,0,0,0,0,0,0,0,0,0,0,0,0,0,0,0,0,0,0,0,0,0,0,0,0,0,0,0,0,0,0,0,0,0]
[62,{"$f":"+'input ข้าว'!A70","v":"2018-10-03"},{"$f":"+'input ข้าว'!B70","v":"2018-10-09"},"2018-10-09",{"$f":"OFFSET('input พืชผัก'!$B$8,A64,$D$1,1,1)","v":0},0,0,0,0,0,0,0,0,0,0,0,0,0,0,0,0,0,0,0,0,0,0,0,0,0,0,0,0,0,0,0,0,{"$f":"IF($A64=AL$2,$E64,IF(AL63=0,0,IF($A64<AL$2+$BT$1,AL63,0)))","v":0},0,0,0,0,0,0,0,0,0,0,0,0,0,0,0,0,0,0,0,0,0,0,0,0,0,0,0,0,0,0,0,0,0,0,{"$f":"IF(BT64=0,0,OFFSET(Kc!$A$2,1+BT64,MATCH($BU$1,List_Kc_ALL,0),1,1))","v":0},0,0,0,0,0,0,0,0,0,0,0,0,0,0,0,0,0,0,0,0,0,0,0,0,0,0,0,0,0,0,0,0,{"$f":"IF($A64=DB$2,$BU$3,IF(DB63=0,0,OFFSET($BU$2,MATCH(DB63,$BU$3:$BU$67,0)+1,0,1,1)))","v":0},0,0,0,0,0,0,0,0,0,0,0,0,0,0,0,0,0,0,0,0,0,0,1.17,1.19,1.49,1.47,1.43,1.36,1.01,0,0,0,null,null,null,10,{"$f":"OFFSET(ETO!$C$3,$EM$2,$EL64,1,1)*7","v":22.82},null,{"$f":"OFFSET('input พืชผัก'!$B$4,0,$D$1,1,1)","v":7},0,null,{"$f":"IF(OR(EL64=11,EL64=12,EL64<5),OFFSET('input พืชผัก'!$B$5,0,$D$1,1,1),OFFSET('input พืชผัก'!$B$6,0,$D$1,1,1))","v":10},0,null,31,{"$f":"ROUND(OFFSET(ฝนใช้การ!$P$2,$EU$2,$EL64,1,1)*7/$EU64,2)","v":16.55},0,null,0,0,0,0,0,0,0,0,0,0,0,0,0,0,0,0,0,0,0,0,0,0,0,0,0,0,0,0,0,0,0,0,0,0,0,0,0,0,0,0,0,0,0,0,0,0,0,0,0,0,0,0,0,0,0,0,0,0,0,0,0,0,0,0,0,0,0,0]
[63,{"$f":"+'input ข้าว'!A71","v":"2018-10-10"},{"$f":"+'input ข้าว'!B71","v":"2018-10-16"},"2018-10-16",{"$f":"OFFSET('input พืชผัก'!$B$8,A65,$D$1,1,1)","v":0},0,0,0,0,0,0,0,0,0,0,0,0,0,0,0,0,0,0,0,0,0,0,0,0,0,0,0,0,0,0,0,0,0,0,0,0,0,0,0,0,0,0,0,0,0,0,0,0,0,0,0,0,0,0,0,0,0,0,0,0,0,0,0,0,0,0,0,{"$f":"IF(BT65=0,0,OFFSET(Kc!$A$2,1+BT65,MATCH($BU$1,List_Kc_ALL,0),1,1))","v":0},0,0,0,0,0,0,0,0,0,0,0,0,0,0,0,0,0,0,0,0,0,0,0,0,0,0,0,0,0,0,0,0,0,0,0,0,0,0,0,0,0,0,0,0,0,0,0,0,0,0,0,0,0,0,0,0,1.17,1.19,1.49,1.47,1.43,1.36,1.01,0,0,null,null,null,10,{"$f":"OFFSET(ETO!$C$3,$EM$2,$EL65,1,1)*7","v":22.82},null,{"$f":"OFFSET('input พืชผัก'!$B$4,0,$D$1,1,1)","v":7},0,null,{"$f":"IF(OR(EL65=11,EL65=12,EL65<5),OFFSET('input พืชผัก'!$B$5,0,$D$1,1,1),OFFSET('input พืชผัก'!$B$6,0,$D$1,1,1))","v":10},0,null,31,{"$f":"ROUND(OFFSET(ฝนใช้การ!$P$2,$EU$2,$EL65,1,1)*7/$EU65,2)","v":16.55},0,null,0,0,0,0,0,0,0,0,0,0,0,0,0,0,0,0,0,0,0,0,0,0,0,0,0,0,0,0,0,0,0,0,0,0,0,0,0,0,0,0,0,0,0,0,0,0,0,0,0,0,0,0,0,0,0,0,0,0,0,0,0,0,0,0,0,0,0,0]
[64,{"$f":"+'input ข้าว'!A72","v":"2018-10-17"},{"$f":"+'input ข้าว'!B72","v":"2018-10-23"},"2018-10-23",{"$f":"OFFSET('input พืชผัก'!$B$8,A66,$D$1,1,1)","v":0},0,0,0,0,0,0,0,0,0,0,0,0,0,0,0,0,0,0,0,0,0,0,0,0,0,0,0,0,0,0,0,0,0,0,0,0,0,0,0,0,0,0,0,0,0,0,0,0,0,0,0,0,0,0,0,0,0,0,0,0,0,0,0,0,0,0,0,{"$f":"IF(BT66=0,0,OFFSET(Kc!$A$2,1+BT66,MATCH($BU$1,List_Kc_ALL,0),1,1))","v":0},0,0,0,0,0,0,0,0,0,0,0,0,0,0,0,0,0,0,0,0,0,0,0,0,0,0,0,0,0,0,0,0,0,0,0,0,0,0,0,0,0,0,0,0,0,0,0,0,0,0,0,0,0,0,0,0,0,1.17,1.19,1.49,1.47,1.43,1.36,1.01,0,null,null,null,10,{"$f":"OFFSET(ETO!$C$3,$EM$2,$EL66,1,1)*7","v":22.82},null,{"$f":"OFFSET('input พืชผัก'!$B$4,0,$D$1,1,1)","v":7},0,null,{"$f":"IF(OR(EL66=11,EL66=12,EL66<5),OFFSET('input พืชผัก'!$B$5,0,$D$1,1,1),OFFSET('input พืชผัก'!$B$6,0,$D$1,1,1))","v":10},0,null,31,{"$f":"ROUND(OFFSET(ฝนใช้การ!$P$2,$EU$2,$EL66,1,1)*7/$EU66,2)","v":16.55},0,null,0,0,0,0,0,0,0,0,0,0,0,0,0,0,0,0,0,0,0,0,0,0,0,0,0,0,0,0,0,0,0,0,0,0,0,0,0,0,0,0,0,0,0,0,0,0,0,0,0,0,0,0,0,0,{"$f":"ROUND(DX66*$EM66*BH66*1.6,2)","v":0},0,0,0,0,0,0,0,0,0,0,0,0,0]
[65,{"$f":"+'input ข้าว'!A73","v":"2018-10-24"},{"$f":"+'input ข้าว'!B73","v":"2018-10-30"},{"$f":"+C67","v":"2018-10-30"},{"$f":"OFFSET('input พืชผัก'!$B$8,A67,$D$1,1,1)","v":0},0,0,0,0,0,0,0,0,0,0,0,0,0,0,0,0,0,0,0,0,0,0,0,0,0,0,0,0,0,0,0,0,0,0,0,0,0,0,0,0,0,0,0,0,0,0,0,0,0,0,0,0,0,0,0,0,0,0,0,0,0,0,0,0,0,0,{"$f":"IF(A67<=$BT$1,A67,0)","v":0},{"$f":"IF(BT67=0,0,OFFSET(Kc!$A$2,1+BT67,MATCH($BU$1,List_Kc_ALL,0),1,1))","v":0},0,0,0,0,0,0,0,0,0,0,0,0,0,0,0,0,0,0,0,0,0,0,0,0,0,0,0,0,0,0,0,0,0,0,0,0,0,0,0,0,0,0,0,0,0,0,0,0,0,0,0,0,0,0,0,0,0,0,1.17,1.19,1.49,1.47,1.43,1.36,1.01,null,null,null,{"$f":"MONTH(D67)","v":10},{"$f":"OFFSET(ETO!$C$3,$EM$2,$EL67,1,1)*7","v":22.82},null,{"$f":"OFFSET('input พืชผัก'!$B$4,0,$D$1,1,1)","v":7},0,null,{"$f":"IF(OR(EL67=11,EL67=12,EL67<5),OFFSET('input พืชผัก'!$B$5,0,$D$1,1,1),OFFSET('input พืชผัก'!$B$6,0,$D$1,1,1))","v":10},0,null,{"$f":"VLOOKUP(EL67,$EJ$3:$EK$14,2,TRUE)","v":31},{"$f":"ROUND(OFFSET(ฝนใช้การ!$P$2,$EU$2,$EL67,1,1)*7/$EU67,2)","v":16.55},0,null,0,0,0,0,0,0,0,0,0,0,0,0,0,0,0,0,0,0,0,0,0,0,0,0,0,0,0,0,0,0,0,0,0,0,0,0,0,0,0,0,0,0,0,0,0,0,0,{"$f":"ROUND(DQ67*$EM67*BA67*1.6,2)","v":0},0,0,0,0,0,0,0,0,0,0,0,0,0,0,0,0,0,0,0,0]
[66,{"$f":"+B67+7","v":"2018-10-31"},{"$f":"+C67+7","v":"2018-11-06"},"2018-11-06",{"$f":"OFFSET('input พืชผัก'!$B$8,A68,$D$1,1,1)","v":0},0,0,0,0,0,0,0,0,0,0,0,0,0,0,0,0,0,0,0,0,0,0,0,0,0,0,0,0,0,0,0,0,0,0,0,0,0,0,0,0,0,0,0,0,0,0,0,0,0,0,0,0,0,0,0,0,0,0,0,0,0,0,0,0,0,{"$f":"SUM(F68:BR68)","v":0},null,null,0,0,0,0,0,0,0,0,0,0,0,0,0,0,0,0,0,0,0,0,0,0,0,0,0,0,0,0,0,0,0,0,0,0,0,0,0,0,0,0,0,0,0,0,0,0,0,0,0,0,0,0,0,0,0,0,0,0,0,1.17,1.19,1.49,1.47,1.43,1.36,null,null,null,11,{"$f":"OFFSET(ETO!$C$3,$EM$2,$EL68,1,1)*7","v":23.17},null,{"$f":"OFFSET('input พืชผัก'!$B$4,0,$D$1,1,1)","v":7},{"$f":"($EO68/1000)*$BS68*1600","v":0},null,{"$f":"IF(OR(EL68=11,EL68=12,EL68<5),OFFSET('input พืชผัก'!$B$5,0,$D$1,1,1),OFFSET('input พืชผัก'!$B$6,0,$D$1,1,1))","v":20},{"$f":"($ER68/1000)*$E68*1600","v":0},null,30,{"$f":"ROUND(OFFSET(ฝนใช้การ!$P$2,$EU$2,$EL68,1,1)*7/$EU68,2)","v":5.04},{"$f":"ROUND((EV68/1000)*$BS68*1600,2)","v":0},null,0,0,0,0,0,0,0,0,0,0,0,0,0,0,0,{"$f":"ROUND(CK68*$EM68*U68*1.6,2)","v":0},0,0,0,0,0,0,0,0,0,0,0,0,0,0,0,0,0,0,0,0,0,0,0,0,0,0,0,0,0,0,0,0,0,0,0,0,0,0,0,0,0,0,0,0,0,0,0,0,0,{"$f":"SUM(EY68:HK68)","v":0},{"$f":"IF(EP68+ES68+HL68-EW68>0,EP68+ES68+HL68-EW68,0)","v":0},{"$f":"HM68*100/$HO$2","v":0}]
[67,{"$f":"+B68+7","v":"2018-11-07"},"2018-11-13","2018-11-13",{"$f":"OFFSET('input พืชผัก'!$B$8,A69,$D$1,1,1)","v":0},0,0,0,0,0,0,0,0,0,0,0,0,0,0,0,0,0,0,0,0,0,0,0,0,0,0,0,0,0,0,0,0,0,0,0,0,0,0,0,0,0,0,0,0,0,0,0,0,0,0,0,0,0,0,0,0,0,0,0,0,0,0,0,0,0,0,null,null,0,0,0,0,0,0,0,0,0,0,0,0,0,0,0,0,0,0,0,0,0,0,0,0,0,0,0,0,0,0,0,0,0,0,0,0,0,0,0,0,0,0,0,0,0,0,0,0,0,0,0,0,0,0,0,0,0,0,0,0,1.17,1.19,1.49,1.47,1.43,null,null,null,11,{"$f":"OFFSET(ETO!$C$3,$EM$2,$EL69,1,1)*7","v":23.17},null,{"$f":"OFFSET('input พืชผัก'!$B$4,0,$D$1,1,1)","v":7},0,null,{"$f":"IF(OR(EL69=11,EL69=12,EL69<5),OFFSET('input พืชผัก'!$B$5,0,$D$1,1,1),OFFSET('input พืชผัก'!$B$6,0,$D$1,1,1))","v":20},0,null,30,{"$f":"ROUND(OFFSET(ฝนใช้การ!$P$2,$EU$2,$EL69,1,1)*7/$EU69,2)","v":5.04},0,null,{"$f":"ROUND(BV69*$EM69*F69*1.6,2)","v":0},0,0,0,0,0,0,0,0,0,0,0,0,0,0,0,0,0,0,0,0,0,0,0,0,0,0,0,0,0,0,0,0,0,0,0,0,0,0,0,0,0,0,0,0,0,0,0,0,0,0,0,0,0,0,0,0,0,0,0,0,0,0,0,0,0,0,0]
[68,"2018-11-14","2018-11-20","2018-11-20",{"$f":"OFFSET('input พืชผัก'!$B$8,A70,$D$1,1,1)","v":0},0,0,0,0,0,0,0,0,0,0,0,0,0,0,0,0,0,0,0,0,0,0,0,0,0,0,0,0,0,0,0,0,0,0,0,0,0,0,0,0,0,0,0,0,0,0,0,0,{"$f":"IF($A70=BB$2,$E70,IF(BB69=0,0,IF($A70<BB$2+$BT$1,BB69,0)))","v":0},0,0,0,0,0,0,0,0,0,0,0,0,0,0,0,0,0,null,null,0,0,0,0,0,0,0,0,0,0,0,0,0,0,0,0,0,0,0,0,0,0,0,0,0,0,0,0,0,0,0,0,0,0,0,0,0,0,0,0,0,0,0,0,0,0,0,0,{"$f":"IF($A70=DR$2,$BU$3,IF(DR69=0,0,OFFSET($BU$2,MATCH(DR69,$BU$3:$BU$67,0)+1,0,1,1)))","v":0},0,0,0,0,0,0,0,0,0,0,0,0,1.17,1.19,1.49,1.47,null,null,null,11,{"$f":"OFFSET(ETO!$C$3,$EM$2,$EL70,1,1)*7","v":23.17},null,{"$f":"OFFSET('input พืชผัก'!$B$4,0,$D$1,1,1)","v":7},0,null,{"$f":"IF(OR(EL70=11,EL70=12,EL70<5),OFFSET('input พืชผัก'!$B$5,0,$D$1,1,1),OFFSET('input พืชผัก'!$B$6,0,$D$1,1,1))","v":20},0,null,30,{"$f":"ROUND(OFFSET(ฝนใช้การ!$P$2,$EU$2,$EL70,1,1)*7/$EU70,2)","v":5.04},0,null,0,0,0,0,0,0,0,0,0,0,0,0,0,0,0,0,0,0,0,0,0,0,0,0,0,0,0,0,0,0,0,0,0,0,0,0,0,0,0,0,0,0,0,0,0,0,0,0,0,0,0,0,0,0,0,0,0,0,0,0,0,0,0,0,0,0,0,0]
[69,"2018-11-21","2018-11-27","2018-11-27",{"$f":"OFFSET('input พืชผัก'!$B$8,A71,$D$1,1,1)","v":0},0,0,0,0,0,0,0,0,0,0,0,0,0,0,0,0,0,0,0,0,0,0,0,0,0,0,0,0,0,0,0,0,0,0,0,0,0,0,0,0,0,0,0,0,0,0,0,0,0,0,0,0,0,0,0,0,0,0,0,0,0,0,0,0,0,0,null,null,0,0,0,0,0,0,0,0,0,0,0,0,0,0,0,0,0,0,0,0,0,0,0,0,0,0,0,0,0,0,0,0,0,0,0,0,0,0,0,0,0,0,0,0,0,0,0,0,0,0,0,0,0,0,0,0,0,0,0,0,0,0,1.17,1.19,1.49,null,null,null,11,{"$f":"OFFSET(ETO!$C$3,$EM$2,$EL71,1,1)*7","v":23.17},null,{"$f":"OFFSET('input พืชผัก'!$B$4,0,$D$1,1,1)","v":7},0,null,{"$f":"IF(OR(EL71=11,EL71=12,EL71<5),OFFSET('input พืชผัก'!$B$5,0,$D$1,1,1),OFFSET('input พืชผัก'!$B$6,0,$D$1,1,1))","v":20},0,null,30,{"$f":"ROUND(OFFSET(ฝนใช้การ!$P$2,$EU$2,$EL71,1,1)*7/$EU71,2)","v":5.04},0,null,0,0,0,0,0,0,0,0,0,0,0,0,0,0,0,0,0,0,0,{"$f":"ROUND(CO71*$EM71*Y71*1.6,2)","v":0},0,0,0,0,0,0,0,0,0,0,0,0,0,0,0,0,0,0,0,0,0,0,0,0,0,0,{"$f":"ROUND(DP71*$EM71*AZ71*1.6,2)","v":0},0,0,0,0,0,0,0,0,0,0,0,0,0,0,0,0,0,0,0,0,0]
[70,"2018-11-28","2018-12-04","2018-12-04",{"$f":"OFFSET('input พืชผัก'!$B$8,A72,$D$1,1,1)","v":0},0,0,0,0,0,0,0,0,0,0,0,0,0,0,0,0,0,0,0,0,0,0,0,0,0,0,0,0,0,0,0,0,0,0,0,0,0,0,0,0,0,0,0,0,0,0,0,0,0,0,0,0,0,0,0,0,0,0,0,0,0,0,0,0,0,0,null,null,0,0,0,0,0,0,0,0,0,0,0,0,0,0,0,0,0,0,0,0,0,0,0,0,0,0,0,0,0,0,0,0,0,0,0,0,0,0,0,0,0,0,0,0,0,0,0,0,0,0,0,0,0,0,0,0,0,0,0,0,0,0,0,1.17,1.19,null,null,null,12,{"$f":"OFFSET(ETO!$C$3,$EM$2,$EL72,1,1)*7","v":22.47},null,{"$f":"OFFSET('input พืชผัก'!$B$4,0,$D$1,1,1)","v":7},0,null,{"$f":"IF(OR(EL72=11,EL72=12,EL72<5),OFFSET('input พืชผัก'!$B$5,0,$D$1,1,1),OFFSET('input พืชผัก'!$B$6,0,$D$1,1,1))","v":20},0,null,31,{"$f":"ROUND(OFFSET(ฝนใช้การ!$P$2,$EU$2,$EL72,1,1)*7/$EU72,2)","v":1.1299999999999999},0,null,0,0,0,0,0,0,0,0,0,0,0,0,0,0,0,0,0,0,0,0,0,0,0,0,0,0,0,0,0,0,0,0,0,0,0,0,0,0,0,0,0,0,0,0,0,0,0,0,0,0,0,0,0,0,0,0,0,0,0,0,0,0,0,0,0,0,0,0]
[71,"2018-12-05","2018-12-11","2018-12-11",{"$f":"OFFSET('input พืชผัก'!$B$8,A73,$D$1,1,1)","v":0},0,0,0,0,0,0,0,0,0,0,0,0,0,0,0,0,0,0,0,0,0,0,0,0,0,0,0,0,0,0,0,0,0,0,0,0,0,0,0,0,0,0,0,0,0,0,0,0,0,0,0,0,0,0,0,0,0,0,0,0,0,0,0,0,0,0,null,null,0,0,0,0,0,0,0,0,0,0,0,0,0,0,0,0,0,0,0,0,0,0,0,0,0,0,0,0,0,0,0,0,0,0,0,0,0,0,0,0,0,0,0,0,0,0,0,0,0,0,0,0,0,0,0,0,0,0,0,0,0,0,0,0,1.17,null,null,null,12,{"$f":"OFFSET(ETO!$C$3,$EM$2,$EL73,1,1)*7","v":22.47},null,{"$f":"OFFSET('input พืชผัก'!$B$4,0,$D$1,1,1)","v":7},0,null,{"$f":"IF(OR(EL73=11,EL73=12,EL73<5),OFFSET('input พืชผัก'!$B$5,0,$D$1,1,1),OFFSET('input พืชผัก'!$B$6,0,$D$1,1,1))","v":20},0,null,31,{"$f":"ROUND(OFFSET(ฝนใช้การ!$P$2,$EU$2,$EL73,1,1)*7/$EU73,2)","v":1.1299999999999999},0,null,0,0,0,0,0,0,0,0,0,0,0,0,0,0,0,0,0,0,0,0,0,0,0,0,0,0,0,0,0,0,0,0,0,0,0,0,0,0,0,0,0,0,0,0,0,0,0,0,0,0,0,0,0,0,0,0,0,0,0,0,0,0,0,0,0,0,0,0]
[72,"2018-12-12","2018-12-18","2018-12-18",{"$f":"OFFSET('input พืชผัก'!$B$8,A74,$D$1,1,1)","v":0},0,0,0,0,0,0,0,0,0,0,0,0,0,0,0,0,0,0,0,0,0,0,0,0,0,0,0,0,0,0,0,0,0,0,0,0,0,0,0,0,0,0,0,0,0,0,0,0,0,0,0,0,0,0,0,0,0,0,0,0,0,0,0,0,0,0,null,null,0,0,0,0,0,0,0,0,0,0,0,0,0,0,0,0,0,0,0,0,0,0,0,0,0,0,0,0,0,0,0,0,0,0,0,0,0,0,0,0,0,0,0,0,0,0,0,0,0,0,0,0,0,0,0,0,0,0,0,0,0,0,0,0,0,null,null,null,12,{"$f":"OFFSET(ETO!$C$3,$EM$2,$EL74,1,1)*7","v":22.47},null,{"$f":"OFFSET('input พืชผัก'!$B$4,0,$D$1,1,1)","v":7},0,null,{"$f":"IF(OR(EL74=11,EL74=12,EL74<5),OFFSET('input พืชผัก'!$B$5,0,$D$1,1,1),OFFSET('input พืชผัก'!$B$6,0,$D$1,1,1))","v":20},0,null,31,{"$f":"ROUND(OFFSET(ฝนใช้การ!$P$2,$EU$2,$EL74,1,1)*7/$EU74,2)","v":1.1299999999999999},0,null,0,0,0,0,0,0,0,0,0,0,0,0,0,0,0,0,0,0,0,0,0,0,0,0,0,0,0,0,0,0,0,0,0,0,0,0,0,0,0,0,0,0,0,0,0,0,0,0,0,0,0,0,0,0,0,0,0,0,0,0,0,0,0,0,0,0,0,0]
[73,"2018-12-19","2018-12-25","2018-12-25",{"$f":"OFFSET('input พืชผัก'!$B$8,A75,$D$1,1,1)","v":0},0,0,0,0,0,0,0,0,0,0,0,0,0,0,0,0,0,0,0,0,0,0,0,0,0,0,0,0,0,0,0,0,0,0,0,0,0,0,0,0,0,0,0,0,0,0,0,0,0,0,0,0,0,0,0,0,0,0,0,0,0,0,0,0,0,0,null,null,0,0,0,0,0,0,0,0,0,0,0,0,0,0,0,0,0,0,0,0,0,0,0,0,0,0,0,0,0,0,0,0,0,0,0,0,0,0,0,0,0,0,0,0,0,0,0,0,0,0,0,0,0,0,0,0,0,0,0,0,0,0,0,0,0,null,null,null,12,{"$f":"OFFSET(ETO!$C$3,$EM$2,$EL75,1,1)*7","v":22.47},null,{"$f":"OFFSET('input พืชผัก'!$B$4,0,$D$1,1,1)","v":7},0,null,{"$f":"IF(OR(EL75=11,EL75=12,EL75<5),OFFSET('input พืชผัก'!$B$5,0,$D$1,1,1),OFFSET('input พืชผัก'!$B$6,0,$D$1,1,1))","v":20},0,null,31,{"$f":"ROUND(OFFSET(ฝนใช้การ!$P$2,$EU$2,$EL75,1,1)*7/$EU75,2)","v":1.1299999999999999},0,null,0,0,0,0,0,0,0,0,0,0,0,0,0,0,0,0,0,0,0,0,0,0,0,0,0,0,0,0,0,0,0,0,0,0,0,0,0,0,0,0,0,0,0,0,0,0,0,0,0,0,0,0,0,0,0,0,0,0,0,0,0,0,0,0,0,0,0,0]
[74,"2018-12-26","2019-01-01","2019-01-01",{"$f":"OFFSET('input พืชผัก'!$B$8,A76,$D$1,1,1)","v":0},0,0,0,0,0,0,0,0,0,0,0,0,0,0,0,{"$f":"IF($A76=U$2,$E76,IF(U75=0,0,IF($A76<U$2+$BT$1,U75,0)))","v":0},0,0,0,0,0,0,0,0,0,0,0,0,0,0,0,0,0,0,0,0,0,0,0,0,0,0,0,0,0,0,0,0,0,0,0,0,0,0,0,0,0,0,0,0,0,0,0,0,0,0,null,null,0,0,0,0,0,0,0,0,0,0,0,0,0,0,0,{"$f":"IF($A76=CK$2,$BU$3,IF(CK75=0,0,OFFSET($BU$2,MATCH(CK75,$BU$3:$BU$67,0)+1,0,1,1)))","v":0},0,0,0,0,0,0,0,0,0,0,0,0,0,0,0,0,0,0,0,0,0,0,0,0,0,0,0,0,0,0,0,0,0,0,0,0,0,0,0,0,0,0,0,0,0,0,0,0,0,null,null,null,1,{"$f":"OFFSET(ETO!$C$3,$EM$2,$EL76,1,1)*7","v":23.099999999999998},null,{"$f":"OFFSET('input พืชผัก'!$B$4,0,$D$1,1,1)","v":7},0,null,{"$f":"IF(OR(EL76=11,EL76=12,EL76<5),OFFSET('input พืชผัก'!$B$5,0,$D$1,1,1),OFFSET('input พืชผัก'!$B$6,0,$D$1,1,1))","v":20},0,null,31,{"$f":"ROUND(OFFSET(ฝนใช้การ!$P$2,$EU$2,$EL76,1,1)*7/$EU76,2)","v":1.29},0,null,0,0,0,0,0,0,0,0,0,0,0,0,0,0,0,0,0,0,0,0,0,0,0,0,0,0,0,0,0,0,0,0,0,0,0,0,0,0,0,0,0,0,0,0,0,0,0,0,0,0,0,0,0,0,0,0,0,0,0,0,0,0,0,0,0,0,0,0]
[75,"2019-01-02","2019-01-08","2019-01-08",{"$f":"OFFSET('input พืชผัก'!$B$8,A77,$D$1,1,1)","v":0},{"$f":"IF($A77=F$2,$E77,IF(F76=0,0,IF($A77<F$2+$BT$1,F76,0)))","v":0},0,0,0,0,0,0,0,0,0,0,0,0,0,0,0,0,0,0,0,0,0,0,0,0,0,0,0,0,0,0,0,0,0,0,0,0,0,0,0,0,0,0,0,0,0,0,0,0,0,0,0,0,0,0,0,0,0,0,0,0,0,0,0,0,0,null,null,{"$f":"IF($A77=BV$2,$BU$3,IF(BV76=0,0,OFFSET($BU$2,MATCH(BV76,$BU$3:$BU$67,0)+1,0,1,1)))","v":0},0,0,0,0,0,0,0,0,0,0,0,0,0,0,0,0,0,0,0,0,0,0,0,0,0,0,0,0,0,0,0,0,0,0,0,0,0,0,0,0,0,0,0,0,0,0,0,0,0,0,0,0,0,0,0,0,0,0,0,0,0,0,0,0,null,null,null,1,{"$f":"OFFSET(ETO!$C$3,$EM$2,$EL77,1,1)*7","v":23.099999999999998},null,{"$f":"OFFSET('input พืชผัก'!$B$4,0,$D$1,1,1)","v":7},0,null,{"$f":"IF(OR(EL77=11,EL77=12,EL77<5),OFFSET('input พืชผัก'!$B$5,0,$D$1,1,1),OFFSET('input พืชผัก'!$B$6,0,$D$1,1,1))","v":20},0,null,31,{"$f":"ROUND(OFFSET(ฝนใช้การ!$P$2,$EU$2,$EL77,1,1)*7/$EU77,2)","v":1.29},0,null,0,0,0,0,0,0,0,0,0,0,0,0,0,0,0,0,0,0,0,0,0,0,0,0,0,0,0,0,0,0,0,0,0,0,0,0,0,0,0,0,0,0,0,0,0,0,0,0,0,0,0,0,0,0,0,0,0,0,0,0,0,0,0,0,0,0,0,0]
[76,"2019-01-09","2019-01-15","2019-01-15",{"$f":"OFFSET('input พืชผัก'!$B$8,A78,$D$1,1,1)","v":0},0,0,0,0,0,0,0,0,0,0,0,0,0,0,0,0,0,0,0,0,0,0,0,0,0,0,0,0,0,0,0,0,0,0,0,0,0,0,0,0,0,0,0,0,0,0,0,0,0,0,0,0,0,0,0,0,0,0,0,0,0,0,0,0,0,0,null,null,0,0,0,0,0,0,0,0,0,0,0,0,0,0,0,0,0,0,0,0,0,0,0,0,0,0,0,0,0,0,0,0,0,0,0,0,0,0,0,0,0,0,0,0,0,0,0,0,0,0,0,0,0,0,0,0,0,0,0,0,0,0,0,0,0,null,null,null,1,{"$f":"OFFSET(ETO!$C$3,$EM$2,$EL78,1,1)*7","v":23.099999999999998},null,{"$f":"OFFSET('input พืชผัก'!$B$4,0,$D$1,1,1)","v":7},0,null,{"$f":"IF(OR(EL78=11,EL78=12,EL78<5),OFFSET('input พืชผัก'!$B$5,0,$D$1,1,1),OFFSET('input พืชผัก'!$B$6,0,$D$1,1,1))","v":20},0,null,31,{"$f":"ROUND(OFFSET(ฝนใช้การ!$P$2,$EU$2,$EL78,1,1)*7/$EU78,2)","v":1.29},0,null,0,0,0,0,0,0,0,0,0,0,0,0,0,0,0,0,0,0,0,0,0,0,0,0,0,0,0,0,0,0,0,0,0,0,0,0,0,0,0,0,0,0,0,0,0,0,0,0,0,0,0,0,0,0,0,0,0,0,0,0,0,0,0,0,0,0,0,0]
[77,"2019-01-16","2019-01-22","2019-01-22",{"$f":"OFFSET('input พืชผัก'!$B$8,A79,$D$1,1,1)","v":0},0,0,0,0,0,0,0,0,0,0,0,0,0,0,0,0,0,0,0,0,0,0,0,0,0,0,0,0,0,0,0,0,0,0,0,0,0,0,0,0,0,0,0,0,0,0,0,0,0,0,0,0,0,0,0,0,0,0,0,0,0,0,0,0,0,0,null,null,0,0,0,0,0,0,0,0,0,0,0,0,0,0,0,0,0,0,0,0,0,0,0,0,0,0,0,0,0,0,0,0,0,0,0,0,0,0,0,0,0,0,0,0,0,0,0,0,0,0,0,0,0,0,0,0,0,0,0,0,0,0,0,0,0,null,null,null,1,{"$f":"OFFSET(ETO!$C$3,$EM$2,$EL79,1,1)*7","v":23.099999999999998},null,{"$f":"OFFSET('input พืชผัก'!$B$4,0,$D$1,1,1)","v":7},0,null,{"$f":"IF(OR(EL79=11,EL79=12,EL79<5),OFFSET('input พืชผัก'!$B$5,0,$D$1,1,1),OFFSET('input พืชผัก'!$B$6,0,$D$1,1,1))","v":20},0,null,31,{"$f":"ROUND(OFFSET(ฝนใช้การ!$P$2,$EU$2,$EL79,1,1)*7/$EU79,2)","v":1.29},0,null,0,0,0,0,0,0,0,0,0,0,0,0,0,0,0,0,0,0,0,0,0,0,0,0,0,0,0,0,0,0,0,0,0,0,0,0,0,0,0,0,0,0,0,0,0,0,0,0,0,0,0,0,0,0,0,0,0,0,0,0,0,0,0,0,0,0,0,0]
[78,"2019-01-23","2019-01-29","2019-01-29",{"$f":"OFFSET('input พืชผัก'!$B$8,A80,$D$1,1,1)","v":0},0,0,0,0,0,0,0,0,0,0,0,0,0,0,0,0,0,0,0,0,0,0,0,0,0,0,0,0,0,0,0,0,{"$f":"IF($A80=AL$2,$E80,IF(AL79=0,0,IF($A80<AL$2+$BT$1,AL79,0)))","v":0},0,0,0,0,0,0,0,0,0,0,0,0,0,0,0,0,0,0,0,0,0,0,0,0,0,0,0,0,0,0,0,0,0,null,null,0,0,0,0,0,0,0,0,0,0,0,0,0,0,0,0,0,0,0,0,0,0,0,0,0,0,0,0,0,0,0,0,{"$f":"IF($A80=DB$2,$BU$3,IF(DB79=0,0,OFFSET($BU$2,MATCH(DB79,$BU$3:$BU$67,0)+1,0,1,1)))","v":0},0,0,0,0,0,0,0,0,0,0,0,0,0,0,0,0,0,0,0,0,0,0,0,0,0,0,0,0,0,0,0,0,null,null,null,1,{"$f":"OFFSET(ETO!$C$3,$EM$2,$EL80,1,1)*7","v":23.099999999999998},null,{"$f":"OFFSET('input พืชผัก'!$B$4,0,$D$1,1,1)","v":7},0,null,{"$f":"IF(OR(EL80=11,EL80=12,EL80<5),OFFSET('input พืชผัก'!$B$5,0,$D$1,1,1),OFFSET('input พืชผัก'!$B$6,0,$D$1,1,1))","v":20},0,null,31,{"$f":"ROUND(OFFSET(ฝนใช้การ!$P$2,$EU$2,$EL80,1,1)*7/$EU80,2)","v":1.29},0,null,0,0,0,0,0,0,0,0,0,0,0,0,0,0,0,0,0,0,0,0,0,0,0,0,0,0,0,0,0,0,0,0,0,0,0,0,0,0,0,0,0,0,0,0,0,0,0,0,0,0,0,0,0,0,0,0,0,0,0,0,0,0,0,0,0,0,0,0]
[79,"2019-01-30","2019-02-05","2019-02-05",{"$f":"OFFSET('input พืชผัก'!$B$8,A81,$D$1,1,1)","v":0},0,0,0,0,0,0,0,0,0,0,0,0,0,0,0,0,0,0,0,0,0,0,0,0,0,0,0,0,0,0,0,0,0,0,0,0,0,0,0,0,0,0,0,0,0,0,0,0,0,0,0,0,0,0,0,0,0,0,0,0,0,0,0,0,0,0,null,null,0,0,0,0,0,0,0,0,0,0,0,0,0,0,0,0,0,0,0,0,0,0,0,0,0,0,0,0,0,0,0,0,0,0,0,0,0,0,0,0,0,0,0,0,0,0,0,0,0,0,0,0,0,0,0,0,0,0,0,0,0,0,0,0,0,null,null,null,2,{"$f":"OFFSET(ETO!$C$3,$EM$2,$EL81,1,1)*7","v":25.76},null,{"$f":"OFFSET('input พืชผัก'!$B$4,0,$D$1,1,1)","v":7},0,null,{"$f":"IF(OR(EL81=11,EL81=12,EL81<5),OFFSET('input พืชผัก'!$B$5,0,$D$1,1,1),OFFSET('input พืชผัก'!$B$6,0,$D$1,1,1))","v":20},0,null,28,{"$f":"ROUND(OFFSET(ฝนใช้การ!$P$2,$EU$2,$EL81,1,1)*7/$EU81,2)","v":2.7},0,null,0,0,0,0,0,0,0,0,0,0,0,0,0,0,0,0,0,0,0,0,0,0,0,0,0,0,0,0,0,0,0,0,0,0,0,0,0,0,0,0,0,0,0,0,0,0,0,0,0,0,0,0,0,0,0,0,0,0,0,0,0,0,0,0,0,0,0,0]
[80,"2019-02-06","2019-02-12","2019-02-12",{"$f":"OFFSET('input พืชผัก'!$B$8,A82,$D$1,1,1)","v":0},0,0,0,0,0,0,0,0,0,0,0,0,0,0,0,0,0,0,0,0,0,0,0,0,0,0,0,0,0,0,0,0,0,0,0,0,0,0,0,0,0,0,0,0,0,0,0,0,0,0,0,0,0,0,0,0,0,0,0,0,0,0,0,0,0,0,null,null,0,0,0,0,0,0,0,0,0,0,0,0,0,0,0,0,0,0,0,0,0,0,0,0,0,0,0,0,0,0,0,0,0,0,0,0,0,0,0,0,0,0,0,0,0,0,0,0,0,0,0,0,0,0,0,0,0,0,0,0,0,0,0,0,0,null,null,null,2,{"$f":"OFFSET(ETO!$C$3,$EM$2,$EL82,1,1)*7","v":25.76},null,{"$f":"OFFSET('input พืชผัก'!$B$4,0,$D$1,1,1)","v":7},0,null,{"$f":"IF(OR(EL82=11,EL82=12,EL82<5),OFFSET('input พืชผัก'!$B$5,0,$D$1,1,1),OFFSET('input พืชผัก'!$B$6,0,$D$1,1,1))","v":20},0,null,28,{"$f":"ROUND(OFFSET(ฝนใช้การ!$P$2,$EU$2,$EL82,1,1)*7/$EU82,2)","v":2.7},0,null,0,0,0,0,0,0,0,0,0,0,0,0,0,0,0,0,0,0,0,0,0,0,0,0,0,0,0,0,0,0,0,0,0,0,0,0,0,0,0,0,0,0,0,0,0,0,0,0,0,0,0,0,0,0,0,0,0,0,0,0,0,0,0,0,0,0,0,0]

{"sheet":"ไม้ผล","index":20,"n_rows":55,"n_cols":222,"rows_kept":55,"cut":false,"hidden":false,"merged":[[0,14,0,15],[0,17,0,18],[0,21,0,22]]}
[null,"ช่วงเวลาสัปดาห์",null,{"$f":"รายงาน!O1","v":1},{"$f":"OFFSET('input ไม้ผล'!$B$2,0,$D$1,1,1)","v":"พลเทพ"},null,{"$f":"OFFSET(Kc!$A$2,0,MATCH($H$1,List_Kc_ALL,0),1,1)","v":52},{"$f":"OFFSET('input ไม้ยืนต้น'!$B$7,0,$D$1,1,1)","v":"มะม่วง"},null,null,null,{"$f":"OFFSET('input ไม้ผล'!$B$3,0,D1,1,1)","v":"ชัยนาท"},"Eto/Week",null,"รั่วซึม",null,null,"น้ำเตรียมแปลง ",null,null,{"$f":"L1","v":"ชัยนาท"},"ฝนใช้การ",null,null,"KC*Eto*ไร่ (ลบ.ม./สัปดาห์)","ความต้องการน้ำ (ลบ.ม.)","ปริมาณน้ำที่ต้องส่ง","ประสิทธิภาพชลประทาน",null,null,null,null,null,null,null,null,null,null,null,null,null,null,null,null,null,null,null,null,null,null,null,null,null,null,null,null,null,null,null,null,null,null,null,null,null,null,null,null,null,null,null,null,null,null,null,null,null,null,null,null,null,null,null,null,null,null,null,null,null,null,null,null,null,null,null,null,null,null,null,null,null,null,null,null,null,null,null,null,null,null,null,null,null,null,null,null,null,null,null,null,null,null,null,null,null,null,null,null,null,null,null,null,null,null,null,null,null,null,null,null,null,null,null,null,null,null,null,null,null,null,null,null,null,null,null,null,null,null,null,null,null,null,null,null,null,null,null,null,null,null,null,null,null,null,null,null,null,null,null,null,null,null,null,null,null,null,null,null,null,null,null,null,null,null,null,null,null,null,null,null,null,null,null,null,null,null,null,null,null,null,null,null,null,null,null,null,null,null,null,"ช่วงเวลาสัปดาห์",null,"ปริมาณน้ำที่ต้องส่ง"]
[null,"เริ่มต้น","สิ้นสุด","เดือน","จำนวนไร่",null,"N.Week","KC Week",null,"เดือน","จำนวนวัน",{"$f":"VLOOKUP(L1,ETO!$T$4:$U$80,2,FALSE)","v":"สถานีฯเกษตร ชัยนาท"},{"$f":"MATCH($L$2,ETO!$B$4:$B$131,0)","v":64},null,"มม./เดือน","ลบ.ม.",null,"มม.","ลบ.ม.",null,{"$f":"MATCH(U1,ฝนใช้การ!$A$3:$A$78,0)","v":17},"มม./เดือน","ลบ.ม.",null,"รวม","รวม","รวม (ลบ.ม.)",{"$f":"OFFSET('input ไม้ยืนต้น'!$B$6,0,$D$1,1,1)","v":90},null,null,null,null,null,null,null,null,null,null,null,null,null,null,null,null,null,null,null,null,null,null,null,null,null,null,null,null,null,null,null,null,null,null,null,null,null,null,null,null,null,null,null,null,null,null,null,null,null,null,null,null,null,null,null,null,null,null,null,null,null,null,null,null,null,null,null,null,null,null,null,null,null,null,null,null,null,null,null,null,null,null,null,null,null,null,null,null,null,null,null,null,null,null,null,null,null,null,null,null,null,null,null,null,null,null,null,null,null,null,null,null,null,null,null,null,null,null,null,null,null,null,null,null,null,null,null,null,null,null,null,null,null,null,null,null,null,null,null,null,null,null,null,null,null,null,null,null,null,null,null,null,null,null,null,null,null,null,null,null,null,null,null,null,null,null,null,null,null,null,null,null,null,null,null,null,null,null,null,null,null,null,null,null,null,null,null,null,null,null,null,"เริ่มต้น","สิ้นสุด","รวม (ลบ.ม.)"]
[1,{"$f":"ข้าว!B16","v":"2017-11-01"},{"$f":"+B3+6","v":"2017-11-07"},{"$f":"+B3","v":"2017-11-01"},{"$f":"OFFSET('input ไม้ผล'!$B$8,$A3,$D$1,1,1)","v":1197},null,{"$f":"IF(A3<=$G$1,A3,0)","v":1},{"$f":"IF(G3=0,0,OFFSET(Kc!$A$2,1+G3,MATCH($H$1,List_Kc_ALL,0),1,1))","v":2.1},null,1,31,{"$f":"MONTH(D3)","v":11},{"$f":"OFFSET(ETO!$C$3,$M$2,$L3,1,1)*7","v":23.17},null,{"$f":"OFFSET('input ไม้ผล'!$B$4,0,$D$1,1,1)","v":7},{"$f":"($O3/1000)*$E3*1600","v":13406.4},null,{"$f":"OFFSET('input ไม้ผล'!$B$5,0,$D$1,1,1)","v":30},{"$f":"($R3/1000)*E3*1600","v":57455.999999999993},null,{"$f":"VLOOKUP(L3,$J$3:$K$14,2,TRUE)","v":30},{"$f":"ROUND(OFFSET(ฝนใช้การ!$P$2,$U$2,$L3,1,1)*7/$U3,2)","v":5.04},{"$f":"ROUND((V3/1000)*E3*1600,2)","v":9652.61},null,{"$f":"H3*M3*E3","v":58242.429000000004},{"$f":"IF(P3+S3+Y3-W3>0,P3+S3+Y3-W3,0)","v":119452.219},{"$f":"Z3*100/$AB$2","v":132724.68777777778},null,null,null,null,null,null,null,null,null,null,null,null,null,null,null,null,null,null,null,null,null,null,null,null,null,null,null,null,null,null,null,null,null,null,null,null,null,null,null,null,null,null,null,null,null,null,null,null,null,null,null,null,null,null,null,null,null,null,null,null,null,null,null,null,null,null,null,null,null,null,null,null,null,null,null,null,null,null,null,null,null,null,null,null,null,null,null,null,null,null,null,null,null,null,null,null,null,null,null,null,null,null,null,null,null,null,null,null,null,null,null,null,null,null,null,null,null,null,null,null,null,null,null,null,null,null,null,null,null,null,null,null,null,null,null,null,null,null,null,null,null,null,null,null,null,null,null,null,null,null,null,null,null,null,null,null,null,null,null,null,null,null,null,null,null,null,null,null,null,null,null,null,null,null,null,null,null,null,null,null,null,null,null,null,null,null,null,null,null,null,null,null,{"$f":"'input ข้าว'!A9","v":"2017-08-02"},{"$f":"+HL3+6","v":"2017-08-08"},{"$f":"AA3","v":132724.68777777778}]
[2,{"$f":"+B3+7","v":"2017-11-08"},{"$f":"+C3+7","v":"2017-11-14"},{"$f":"+B4","v":"2017-11-08"},{"$f":"OFFSET('input ไม้ผล'!$B$8,$A4,$D$1,1,1)","v":1197},null,2,{"$f":"IF(G4=0,0,OFFSET(Kc!$A$2,1+G4,MATCH($H$1,List_Kc_ALL,0),1,1))","v":2.1},null,2,28,11,{"$f":"OFFSET(ETO!$C$3,$M$2,$L4,1,1)*7","v":23.17},null,{"$f":"OFFSET('input ไม้ผล'!$B$4,0,$D$1,1,1)","v":7},{"$f":"($O4/1000)*$E4*1600","v":13406.4},null,{"$f":"OFFSET('input ไม้ผล'!$B$5,0,$D$1,1,1)","v":30},{"$f":"($R4/1000)*IF(E4>E3,E4-E3,0)*1600","v":0},null,{"$f":"VLOOKUP(L4,$J$3:$K$14,2,TRUE)","v":30},{"$f":"ROUND(OFFSET(ฝนใช้การ!$P$2,$U$2,$L4,1,1)*7/$U4,2)","v":5.04},9652.61,null,{"$f":"H4*M4*E4","v":58242.429000000004},{"$f":"IF(P4+S4+Y4-W4>0,P4+S4+Y4-W4,0)","v":61996.218999999997},{"$f":"Z4*100/$AB$2","v":68884.68777777777},null,null,null,null,null,null,null,null,null,null,null,null,null,null,null,null,null,null,null,null,null,null,null,null,null,null,null,null,null,null,null,null,null,null,null,null,null,null,null,null,null,null,null,null,null,null,null,null,null,null,null,null,null,null,null,null,null,null,null,null,null,null,null,null,null,null,null,null,null,null,null,null,null,null,null,null,null,null,null,null,null,null,null,null,null,null,null,null,null,null,null,null,null,null,null,null,null,null,null,null,null,null,null,null,null,null,null,null,null,null,null,null,null,null,null,null,null,null,null,null,null,null,null,null,null,null,null,null,null,null,null,null,null,null,null,null,null,null,null,null,null,null,null,null,null,null,null,null,null,null,null,null,null,null,null,null,null,null,null,null,null,null,null,null,null,null,null,null,null,null,null,null,null,null,null,null,null,null,null,null,null,null,null,null,null,null,null,null,null,null,null,null,{"$f":"+HL3+7","v":"2017-08-09"},{"$f":"+HM3+7","v":"2017-08-15"},{"$f":"AA4","v":68884.68777777777}]
[3,{"$f":"+B4+7","v":"2017-11-15"},"2017-11-21","2017-11-15",{"$f":"OFFSET('input ไม้ผล'!$B$8,$A5,$D$1,1,1)","v":1197},null,3,{"$f":"IF(G5=0,0,OFFSET(Kc!$A$2,1+G5,MATCH($H$1,List_Kc_ALL,0),1,1))","v":2.1},null,3,31,11,{"$f":"OFFSET(ETO!$C$3,$M$2,$L5,1,1)*7","v":23.17},null,{"$f":"OFFSET('input ไม้ผล'!$B$4,0,$D$1,1,1)","v":7},13406.4,null,{"$f":"OFFSET('input ไม้ผล'!$B$5,0,$D$1,1,1)","v":30},{"$f":"($R5/1000)*IF(E5>E4,E5-E4,0)*1600","v":0},null,30,{"$f":"ROUND(OFFSET(ฝนใช้การ!$P$2,$U$2,$L5,1,1)*7/$U5,2)","v":5.04},9652.61,null,58242.429000000004,61996.218999999997,68884.68777777777,null,null,null,null,null,null,null,null,null,null,null,null,null,null,null,null,null,null,null,null,null,null,null,null,null,null,null,null,null,null,null,null,null,null,null,null,null,null,null,null,null,null,null,null,null,null,null,null,null,null,null,null,null,null,null,null,null,null,null,null,null,null,null,null,null,null,null,null,null,null,null,null,null,null,null,null,null,null,null,null,null,null,null,null,null,null,null,null,null,null,null,null,null,null,null,null,null,null,null,null,null,null,null,null,null,null,null,null,null,null,null,null,null,null,null,null,null,null,null,null,null,null,null,null,null,null,null,null,null,null,null,null,null,null,null,null,null,null,null,null,null,null,null,null,null,null,null,null,null,null,null,null,null,null,null,null,null,null,null,null,null,null,null,null,null,null,null,null,null,null,null,null,null,null,null,null,null,null,null,null,null,null,null,null,null,null,null,null,null,null,null,null,{"$f":"+HL4+7","v":"2017-08-16"},"2017-08-22",68884.68777777777]
[4,"2017-11-22","2017-11-28","2017-11-22",{"$f":"OFFSET('input ไม้ผล'!$B$8,$A6,$D$1,1,1)","v":1197},null,4,{"$f":"IF(G6=0,0,OFFSET(Kc!$A$2,1+G6,MATCH($H$1,List_Kc_ALL,0),1,1))","v":2.1},null,4,30,11,{"$f":"OFFSET(ETO!$C$3,$M$2,$L6,1,1)*7","v":23.17},null,{"$f":"OFFSET('input ไม้ผล'!$B$4,0,$D$1,1,1)","v":7},13406.4,null,{"$f":"OFFSET('input ไม้ผล'!$B$5,0,$D$1,1,1)","v":30},0,null,30,{"$f":"ROUND(OFFSET(ฝนใช้การ!$P$2,$U$2,$L6,1,1)*7/$U6,2)","v":5.04},9652.61,null,58242.429000000004,61996.218999999997,68884.68777777777,null,null,null,null,null,null,null,null,null,null,null,null,null,null,null,null,null,null,null,null,null,null,null,null,null,null,null,null,null,null,null,null,null,null,null,null,null,null,null,null,null,null,null,null,null,null,null,null,null,null,null,null,null,null,null,null,null,null,null,null,null,null,null,null,null,null,null,null,null,null,null,null,null,null,null,null,null,null,null,null,null,null,null,null,null,null,null,null,null,null,null,null,null,null,null,null,null,null,null,null,null,null,null,null,null,null,null,null,null,null,null,null,null,null,null,null,null,null,null,null,null,null,null,null,null,null,null,null,null,null,null,null,null,null,null,null,null,null,null,null,null,null,null,null,null,null,null,null,null,null,null,null,null,null,null,null,null,null,null,null,null,null,null,null,null,null,null,null,null,null,null,null,null,null,null,null,null,null,null,null,null,null,null,null,null,null,null,null,null,null,null,null,"2017-08-23","2017-08-29",68884.68777777777]
[5,"2017-11-29","2017-12-05","2017-11-29",{"$f":"OFFSET('input ไม้ผล'!$B$8,$A7,$D$1,1,1)","v":1197},null,5,{"$f":"IF(G7=0,0,OFFSET(Kc!$A$2,1+G7,MATCH($H$1,List_Kc_ALL,0),1,1))","v":2.46},null,5,31,11,{"$f":"OFFSET(ETO!$C$3,$M$2,$L7,1,1)*7","v":23.17},null,{"$f":"OFFSET('input ไม้ผล'!$B$4,0,$D$1,1,1)","v":7},13406.4,null,{"$f":"OFFSET('input ไม้ผล'!$B$5,0,$D$1,1,1)","v":30},0,null,30,{"$f":"ROUND(OFFSET(ฝนใช้การ!$P$2,$U$2,$L7,1,1)*7/$U7,2)","v":5.04},9652.61,null,68226.845400000006,71980.635399999999,79978.483777777772,null,null,null,null,null,null,null,null,null,null,null,null,null,null,null,null,null,null,null,null,null,null,null,null,null,null,null,null,null,null,null,null,null,null,null,null,null,null,null,null,null,null,null,null,null,null,null,null,null,null,null,null,null,null,null,null,null,null,null,null,null,null,null,null,null,null,null,null,null,null,null,null,null,null,null,null,null,null,null,null,null,null,null,null,null,null,null,null,null,null,null,null,null,null,null,null,null,null,null,null,null,null,null,null,null,null,null,null,null,null,null,null,null,null,null,null,null,null,null,null,null,null,null,null,null,null,null,null,null,null,null,null,null,null,null,null,null,null,null,null,null,null,null,null,null,null,null,null,null,null,null,null,null,null,null,null,null,null,null,null,null,null,null,null,null,null,null,null,null,null,null,null,null,null,null,null,null,null,null,null,null,null,null,null,null,null,null,null,null,null,null,null,"2017-08-30","2017-09-05",79978.483777777772]
[6,"2017-12-06","2017-12-12","2017-12-06",{"$f":"OFFSET('input ไม้ผล'!$B$8,$A8,$D$1,1,1)","v":1197},null,6,{"$f":"IF(G8=0,0,OFFSET(Kc!$A$2,1+G8,MATCH($H$1,List_Kc_ALL,0),1,1))","v":2.46},null,6,30,12,{"$f":"OFFSET(ETO!$C$3,$M$2,$L8,1,1)*7","v":22.47},null,{"$f":"OFFSET('input ไม้ผล'!$B$4,0,$D$1,1,1)","v":7},13406.4,null,{"$f":"OFFSET('input ไม้ผล'!$B$5,0,$D$1,1,1)","v":30},0,null,31,{"$f":"ROUND(OFFSET(ฝนใช้การ!$P$2,$U$2,$L8,1,1)*7/$U8,2)","v":1.1299999999999999},2164.1799999999998,null,66165.611399999994,77407.831399999995,86008.701555555555,null,null,null,null,null,null,null,null,null,null,null,null,null,null,null,null,null,null,null,null,null,null,null,null,null,null,null,null,null,null,null,null,null,null,null,null,null,null,null,null,null,null,null,null,null,null,null,null,null,null,null,null,null,null,null,null,null,null,null,null,null,null,null,null,null,null,null,null,null,null,null,null,null,null,null,null,null,null,null,null,null,null,null,null,null,null,null,null,null,null,null,null,null,null,null,null,null,null,null,null,null,null,null,null,null,null,null,null,null,null,null,null,null,null,null,null,null,null,null,null,null,null,null,null,null,null,null,null,null,null,null,null,null,null,null,null,null,null,null,null,null,null,null,null,null,null,null,null,null,null,null,null,null,null,null,null,null,null,null,null,null,null,null,null,null,null,null,null,null,null,null,null,null,null,null,null,null,null,null,null,null,null,null,null,null,null,null,null,null,null,null,null,"2017-09-06","2017-09-12",86008.701555555555]
[7,"2017-12-13","2017-12-19","2017-12-13",{"$f":"OFFSET('input ไม้ผล'!$B$8,$A9,$D$1,1,1)","v":1197},null,7,{"$f":"IF(G9=0,0,OFFSET(Kc!$A$2,1+G9,MATCH($H$1,List_Kc_ALL,0),1,1))","v":2.46},null,7,31,12,{"$f":"OFFSET(ETO!$C$3,$M$2,$L9,1,1)*7","v":22.47},null,{"$f":"OFFSET('input ไม้ผล'!$B$4,0,$D$1,1,1)","v":7},13406.4,null,{"$f":"OFFSET('input ไม้ผล'!$B$5,0,$D$1,1,1)","v":30},0,null,31,{"$f":"ROUND(OFFSET(ฝนใช้การ!$P$2,$U$2,$L9,1,1)*7/$U9,2)","v":1.1299999999999999},2164.1799999999998,null,66165.611399999994,77407.831399999995,86008.701555555555,null,null,null,null,null,null,null,null,null,null,null,null,null,null,null,null,null,null,null,null,null,null,null,null,null,null,null,null,null,null,null,null,null,null,null,null,null,null,null,null,null,null,null,null,null,null,null,null,null,null,null,null,null,null,null,null,null,null,null,null,null,null,null,null,null,null,null,null,null,null,null,null,null,null,null,null,null,null,null,null,null,null,null,null,null,null,null,null,null,null,null,null,null,null,null,null,null,null,null,null,null,null,null,null,null,null,null,null,null,null,null,null,null,null,null,null,null,null,null,null,null,null,null,null,null,null,null,null,null,null,null,null,null,null,null,null,null,null,null,null,null,null,null,null,null,null,null,null,null,null,null,null,null,null,null,null,null,null,null,null,null,null,null,null,null,null,null,null,null,null,null,null,null,null,null,null,null,null,null,null,null,null,null,null,null,null,null,null,null,null,null,null,"2017-09-13","2017-09-19",86008.701555555555]
[8,"2017-12-20","2017-12-26","2017-12-20",{"$f":"OFFSET('input ไม้ผล'!$B$8,$A10,$D$1,1,1)","v":1197},null,8,{"$f":"IF(G10=0,0,OFFSET(Kc!$A$2,1+G10,MATCH($H$1,List_Kc_ALL,0),1,1))","v":2.46},null,8,31,12,{"$f":"OFFSET(ETO!$C$3,$M$2,$L10,1,1)*7","v":22.47},null,{"$f":"OFFSET('input ไม้ผล'!$B$4,0,$D$1,1,1)","v":7},13406.4,null,{"$f":"OFFSET('input ไม้ผล'!$B$5,0,$D$1,1,1)","v":30},0,null,31,{"$f":"ROUND(OFFSET(ฝนใช้การ!$P$2,$U$2,$L10,1,1)*7/$U10,2)","v":1.1299999999999999},2164.1799999999998,null,66165.611399999994,77407.831399999995,86008.701555555555,null,null,null,null,null,null,null,null,null,null,null,null,null,null,null,null,null,null,null,null,null,null,null,null,null,null,null,null,null,null,null,null,null,null,null,null,null,null,null,null,null,null,null,null,null,null,null,null,null,null,null,null,null,null,null,null,null,null,null,null,null,null,null,null,null,null,null,null,null,null,null,null,null,null,null,null,null,null,null,null,null,null,null,null,null,null,null,null,null,null,null,null,null,null,null,null,null,null,null,null,null,null,null,null,null,null,null,null,null,null,null,null,null,null,null,null,null,null,null,null,null,null,null,null,null,null,null,null,null,null,null,null,null,null,null,null,null,null,null,null,null,null,null,null,null,null,null,null,null,null,null,null,null,null,null,null,null,null,null,null,null,null,null,null,null,null,null,null,null,null,null,null,null,null,null,null,null,null,null,null,null,null,null,null,null,null,null,null,null,null,null,null,"2017-09-20","2017-09-26",86008.701555555555]
[9,"2017-12-27","2018-01-02","2017-12-27",{"$f":"OFFSET('input ไม้ผล'!$B$8,$A11,$D$1,1,1)","v":1197},null,9,{"$f":"IF(G11=0,0,OFFSET(Kc!$A$2,1+G11,MATCH($H$1,List_Kc_ALL,0),1,1))","v":2.46},null,9,30,12,{"$f":"OFFSET(ETO!$C$3,$M$2,$L11,1,1)*7","v":22.47},null,{"$f":"OFFSET('input ไม้ผล'!$B$4,0,$D$1,1,1)","v":7},13406.4,null,{"$f":"OFFSET('input ไม้ผล'!$B$5,0,$D$1,1,1)","v":30},0,null,31,{"$f":"ROUND(OFFSET(ฝนใช้การ!$P$2,$U$2,$L11,1,1)*7/$U11,2)","v":1.1299999999999999},2164.1799999999998,null,66165.611399999994,77407.831399999995,86008.701555555555,null,null,null,null,null,null,null,null,null,null,null,null,null,null,null,null,null,null,null,null,null,null,null,null,null,null,null,null,null,null,null,null,null,null,null,null,null,null,null,null,null,null,null,null,null,null,null,null,null,null,null,null,null,null,null,null,null,null,null,null,null,null,null,null,null,null,null,null,null,null,null,null,null,null,null,null,null,null,null,null,null,null,null,null,null,null,null,null,null,null,null,null,null,null,null,null,null,null,null,null,null,null,null,null,null,null,null,null,null,null,null,null,null,null,null,null,null,null,null,null,null,null,null,null,null,null,null,null,null,null,null,null,null,null,null,null,null,null,null,null,null,null,null,null,null,null,null,null,null,null,null,null,null,null,null,null,null,null,null,null,null,null,null,null,null,null,null,null,null,null,null,null,null,null,null,null,null,null,null,null,null,null,null,null,null,null,null,null,null,null,null,null,"2017-09-27","2017-10-03",86008.701555555555]
[10,"2018-01-03","2018-01-09","2018-01-03",{"$f":"OFFSET('input ไม้ผล'!$B$8,$A12,$D$1,1,1)","v":1197},null,10,{"$f":"IF(G12=0,0,OFFSET(Kc!$A$2,1+G12,MATCH($H$1,List_Kc_ALL,0),1,1))","v":2.5299999999999998},null,10,31,1,{"$f":"OFFSET(ETO!$C$3,$M$2,$L12,1,1)*7","v":23.099999999999998},null,{"$f":"OFFSET('input ไม้ผล'!$B$4,0,$D$1,1,1)","v":7},13406.4,null,{"$f":"OFFSET('input ไม้ผล'!$B$5,0,$D$1,1,1)","v":30},0,null,31,{"$f":"ROUND(OFFSET(ฝนใช้การ!$P$2,$U$2,$L12,1,1)*7/$U12,2)","v":1.29},2470.61,null,69956.270999999993,80892.060999999987,89880.06777777776,null,null,null,null,null,null,null,null,null,null,null,null,null,null,null,null,null,null,null,null,null,null,null,null,null,null,null,null,null,null,null,null,null,null,null,null,null,null,null,null,null,null,null,null,null,null,null,null,null,null,null,null,null,null,null,null,null,null,null,null,null,null,null,null,null,null,null,null,null,null,null,null,null,null,null,null,null,null,null,null,null,null,null,null,null,null,null,null,null,null,null,null,null,null,null,null,null,null,null,null,null,null,null,null,null,null,null,null,null,null,null,null,null,null,null,null,null,null,null,null,null,null,null,null,null,null,null,null,null,null,null,null,null,null,null,null,null,null,null,null,null,null,null,null,null,null,null,null,null,null,null,null,null,null,null,null,null,null,null,null,null,null,null,null,null,null,null,null,null,null,null,null,null,null,null,null,null,null,null,null,null,null,null,null,null,null,null,null,null,null,null,null,"2017-10-04","2017-10-10",89880.06777777776]
[11,"2018-01-10","2018-01-16","2018-01-10",{"$f":"OFFSET('input ไม้ผล'!$B$8,$A13,$D$1,1,1)","v":1197},null,11,{"$f":"IF(G13=0,0,OFFSET(Kc!$A$2,1+G13,MATCH($H$1,List_Kc_ALL,0),1,1))","v":2.5299999999999998},null,11,30,1,{"$f":"OFFSET(ETO!$C$3,$M$2,$L13,1,1)*7","v":23.099999999999998},null,{"$f":"OFFSET('input ไม้ผล'!$B$4,0,$D$1,1,1)","v":7},13406.4,null,{"$f":"OFFSET('input ไม้ผล'!$B$5,0,$D$1,1,1)","v":30},0,null,31,{"$f":"ROUND(OFFSET(ฝนใช้การ!$P$2,$U$2,$L13,1,1)*7/$U13,2)","v":1.29},2470.61,null,69956.270999999993,80892.060999999987,89880.06777777776,null,null,null,null,null,null,null,null,null,null,null,null,null,null,null,null,null,null,null,null,null,null,null,null,null,null,null,null,null,null,null,null,null,null,null,null,null,null,null,null,null,null,null,null,null,null,null,null,null,null,null,null,null,null,null,null,null,null,null,null,null,null,null,null,null,null,null,null,null,null,null,null,null,null,null,null,null,null,null,null,null,null,null,null,null,null,null,null,null,null,null,null,null,null,null,null,null,null,null,null,null,null,null,null,null,null,null,null,null,null,null,null,null,null,null,null,null,null,null,null,null,null,null,null,null,null,null,null,null,null,null,null,null,null,null,null,null,null,null,null,null,null,null,null,null,null,null,null,null,null,null,null,null,null,null,null,null,null,null,null,null,null,null,null,null,null,null,null,null,null,null,null,null,null,null,null,null,null,null,null,null,null,null,null,null,null,null,null,null,null,null,null,"2017-10-11","2017-10-17",89880.06777777776]
[12,"2018-01-17","2018-01-23","2018-01-17",{"$f":"OFFSET('input ไม้ผล'!$B$8,$A14,$D$1,1,1)","v":1197},null,12,{"$f":"IF(G14=0,0,OFFSET(Kc!$A$2,1+G14,MATCH($H$1,List_Kc_ALL,0),1,1))","v":2.5299999999999998},null,12,31,1,{"$f":"OFFSET(ETO!$C$3,$M$2,$L14,1,1)*7","v":23.099999999999998},null,{"$f":"OFFSET('input ไม้ผล'!$B$4,0,$D$1,1,1)","v":7},13406.4,null,{"$f":"OFFSET('input ไม้ผล'!$B$5,0,$D$1,1,1)","v":30},0,null,31,{"$f":"ROUND(OFFSET(ฝนใช้การ!$P$2,$U$2,$L14,1,1)*7/$U14,2)","v":1.29},2470.61,null,69956.270999999993,80892.060999999987,89880.06777777776,null,null,null,null,null,null,null,null,null,null,null,null,null,null,null,null,null,null,null,null,null,null,null,null,null,null,null,null,null,null,null,null,null,null,null,null,null,null,null,null,null,null,null,null,null,null,null,null,null,null,null,null,null,null,null,null,null,null,null,null,null,null,null,null,null,null,null,null,null,null,null,null,null,null,null,null,null,null,null,null,null,null,null,null,null,null,null,null,null,null,null,null,null,null,null,null,null,null,null,null,null,null,null,null,null,null,null,null,null,null,null,null,null,null,null,null,null,null,null,null,null,null,null,null,null,null,null,null,null,null,null,null,null,null,null,null,null,null,null,null,null,null,null,null,null,null,null,null,null,null,null,null,null,null,null,null,null,null,null,null,null,null,null,null,null,null,null,null,null,null,null,null,null,null,null,null,null,null,null,null,null,null,null,null,null,null,null,null,null,null,null,null,"2017-10-18","2017-10-24",89880.06777777776]
[13,"2018-01-24","2018-01-30","2018-01-24",{"$f":"OFFSET('input ไม้ผล'!$B$8,$A15,$D$1,1,1)","v":1197},null,13,{"$f":"IF(G15=0,0,OFFSET(Kc!$A$2,1+G15,MATCH($H$1,List_Kc_ALL,0),1,1))","v":2.5299999999999998},null,null,null,1,{"$f":"OFFSET(ETO!$C$3,$M$2,$L15,1,1)*7","v":23.099999999999998},null,{"$f":"OFFSET('input ไม้ผล'!$B$4,0,$D$1,1,1)","v":7},13406.4,null,{"$f":"OFFSET('input ไม้ผล'!$B$5,0,$D$1,1,1)","v":30},0,null,31,{"$f":"ROUND(OFFSET(ฝนใช้การ!$P$2,$U$2,$L15,1,1)*7/$U15,2)","v":1.29},2470.61,null,69956.270999999993,80892.060999999987,89880.06777777776,null,null,null,null,null,null,null,null,null,null,null,null,null,null,null,null,null,null,null,null,null,null,null,null,null,null,null,null,null,null,null,null,null,null,null,null,null,null,null,null,null,null,null,null,null,null,null,null,null,null,null,null,null,null,null,null,null,null,null,null,null,null,null,null,null,null,null,null,null,null,null,null,null,null,null,null,null,null,null,null,null,null,null,null,null,null,null,null,null,null,null,null,null,null,null,null,null,null,null,null,null,null,null,null,null,null,null,null,null,null,null,null,null,null,null,null,null,null,null,null,null,null,null,null,null,null,null,null,null,null,null,null,null,null,null,null,null,null,null,null,null,null,null,null,null,null,null,null,null,null,null,null,null,null,null,null,null,null,null,null,null,null,null,null,null,null,null,null,null,null,null,null,null,null,null,null,null,null,null,null,null,null,null,null,null,null,null,null,null,null,null,null,"2017-10-25","2017-10-31",89880.06777777776]
[14,"2018-01-31","2018-02-06","2018-01-31",{"$f":"OFFSET('input ไม้ผล'!$B$8,$A16,$D$1,1,1)","v":1197},null,14,{"$f":"IF(G16=0,0,OFFSET(Kc!$A$2,1+G16,MATCH($H$1,List_Kc_ALL,0),1,1))","v":2.2799999999999998},null,null,null,1,{"$f":"OFFSET(ETO!$C$3,$M$2,$L16,1,1)*7","v":23.099999999999998},null,{"$f":"OFFSET('input ไม้ผล'!$B$4,0,$D$1,1,1)","v":7},13406.4,null,{"$f":"OFFSET('input ไม้ผล'!$B$5,0,$D$1,1,1)","v":30},0,null,31,{"$f":"ROUND(OFFSET(ฝนใช้การ!$P$2,$U$2,$L16,1,1)*7/$U16,2)","v":1.29},2470.61,null,63043.59599999999,73979.385999999984,82199.31777777776,null,null,null,null,null,null,null,null,null,null,null,null,null,null,null,null,null,null,null,null,null,null,null,null,null,null,null,null,null,null,null,null,null,null,null,null,null,null,null,null,null,null,null,null,null,null,null,null,null,null,null,null,null,null,null,null,null,null,null,null,null,null,null,null,null,null,null,null,null,null,null,null,null,null,null,null,null,null,null,null,null,null,null,null,null,null,null,null,null,null,null,null,null,null,null,null,null,null,null,null,null,null,null,null,null,null,null,null,null,null,null,null,null,null,null,null,null,null,null,null,null,null,null,null,null,null,null,null,null,null,null,null,null,null,null,null,null,null,null,null,null,null,null,null,null,null,null,null,null,null,null,null,null,null,null,null,null,null,null,null,null,null,null,null,null,null,null,null,null,null,null,null,null,null,null,null,null,null,null,null,null,null,null,null,null,null,null,null,null,null,null,null,"2017-11-01","2017-11-07",82199.31777777776]
[15,"2018-02-07","2018-02-13","2018-02-07",{"$f":"OFFSET('input ไม้ผล'!$B$8,$A17,$D$1,1,1)","v":1197},null,15,{"$f":"IF(G17=0,0,OFFSET(Kc!$A$2,1+G17,MATCH($H$1,List_Kc_ALL,0),1,1))","v":2.2799999999999998},null,null,null,2,{"$f":"OFFSET(ETO!$C$3,$M$2,$L17,1,1)*7","v":25.76},null,{"$f":"OFFSET('input ไม้ผล'!$B$4,0,$D$1,1,1)","v":7},13406.4,null,{"$f":"OFFSET('input ไม้ผล'!$B$5,0,$D$1,1,1)","v":30},0,null,28,{"$f":"ROUND(OFFSET(ฝนใช้การ!$P$2,$U$2,$L17,1,1)*7/$U17,2)","v":2.7},5171.04,null,70303.161599999992,78538.521599999993,87265.02399999999,null,null,null,null,null,null,null,null,null,null,null,null,null,null,null,null,null,null,null,null,null,null,null,null,null,null,null,null,null,null,null,null,null,null,null,null,null,null,null,null,null,null,null,null,null,null,null,null,null,null,null,null,null,null,null,null,null,null,null,null,null,null,null,null,null,null,null,null,null,null,null,null,null,null,null,null,null,null,null,null,null,null,null,null,null,null,null,null,null,null,null,null,null,null,null,null,null,null,null,null,null,null,null,null,null,null,null,null,null,null,null,null,null,null,null,null,null,null,null,null,null,null,null,null,null,null,null,null,null,null,null,null,null,null,null,null,null,null,null,null,null,null,null,null,null,null,null,null,null,null,null,null,null,null,null,null,null,null,null,null,null,null,null,null,null,null,null,null,null,null,null,null,null,null,null,null,null,null,null,null,null,null,null,null,null,null,null,null,null,null,null,null,"2017-11-08","2017-11-14",87265.02399999999]
[16,"2018-02-14","2018-02-20","2018-02-14",{"$f":"OFFSET('input ไม้ผล'!$B$8,$A18,$D$1,1,1)","v":1197},null,16,{"$f":"IF(G18=0,0,OFFSET(Kc!$A$2,1+G18,MATCH($H$1,List_Kc_ALL,0),1,1))","v":2.2799999999999998},null,null,null,2,{"$f":"OFFSET(ETO!$C$3,$M$2,$L18,1,1)*7","v":25.76},null,{"$f":"OFFSET('input ไม้ผล'!$B$4,0,$D$1,1,1)","v":7},13406.4,null,{"$f":"OFFSET('input ไม้ผล'!$B$5,0,$D$1,1,1)","v":30},0,null,28,{"$f":"ROUND(OFFSET(ฝนใช้การ!$P$2,$U$2,$L18,1,1)*7/$U18,2)","v":2.7},5171.04,null,70303.161599999992,78538.521599999993,87265.02399999999,null,null,null,null,null,null,null,null,null,null,null,null,null,null,null,null,null,null,null,null,null,null,null,null,null,null,null,null,null,null,null,null,null,null,null,null,null,null,null,null,null,null,null,null,null,null,null,null,null,null,null,null,null,null,null,null,null,null,null,null,null,null,null,null,null,null,null,null,null,null,null,null,null,null,null,null,null,null,null,null,null,null,null,null,null,null,null,null,null,null,null,null,null,null,null,null,null,null,null,null,null,null,null,null,null,null,null,null,null,null,null,null,null,null,null,null,null,null,null,null,null,null,null,null,null,null,null,null,null,null,null,null,null,null,null,null,null,null,null,null,null,null,null,null,null,null,null,null,null,null,null,null,null,null,null,null,null,null,null,null,null,null,null,null,null,null,null,null,null,null,null,null,null,null,null,null,null,null,null,null,null,null,null,null,null,null,null,null,null,null,null,null,"2017-11-15","2017-11-21",87265.02399999999]
[17,"2018-02-21","2018-02-27","2018-02-21",{"$f":"OFFSET('input ไม้ผล'!$B$8,$A19,$D$1,1,1)","v":1197},null,17,{"$f":"IF(G19=0,0,OFFSET(Kc!$A$2,1+G19,MATCH($H$1,List_Kc_ALL,0),1,1))","v":2.2799999999999998},null,null,null,2,{"$f":"OFFSET(ETO!$C$3,$M$2,$L19,1,1)*7","v":25.76},null,{"$f":"OFFSET('input ไม้ผล'!$B$4,0,$D$1,1,1)","v":7},13406.4,null,{"$f":"OFFSET('input ไม้ผล'!$B$5,0,$D$1,1,1)","v":30},0,null,28,{"$f":"ROUND(OFFSET(ฝนใช้การ!$P$2,$U$2,$L19,1,1)*7/$U19,2)","v":2.7},5171.04,null,70303.161599999992,78538.521599999993,87265.02399999999,null,null,null,null,null,null,null,null,null,null,null,null,null,null,null,null,null,null,null,null,null,null,null,null,null,null,null,null,null,null,null,null,null,null,null,null,null,null,null,null,null,null,null,null,null,null,null,null,null,null,null,null,null,null,null,null,null,null,null,null,null,null,null,null,null,null,null,null,null,null,null,null,null,null,null,null,null,null,null,null,null,null,null,null,null,null,null,null,null,null,null,null,null,null,null,null,null,null,null,null,null,null,null,null,null,null,null,null,null,null,null,null,null,null,null,null,null,null,null,null,null,null,null,null,null,null,null,null,null,null,null,null,null,null,null,null,null,null,null,null,null,null,null,null,null,null,null,null,null,null,null,null,null,null,null,null,null,null,null,null,null,null,null,null,null,null,null,null,null,null,null,null,null,null,null,null,null,null,null,null,null,null,null,null,null,null,null,null,null,null,null,null,"2017-11-22","2017-11-28",87265.02399999999]
[18,"2018-02-28","2018-03-06","2018-02-28",{"$f":"OFFSET('input ไม้ผล'!$B$8,$A20,$D$1,1,1)","v":1197},null,18,{"$f":"IF(G20=0,0,OFFSET(Kc!$A$2,1+G20,MATCH($H$1,List_Kc_ALL,0),1,1))","v":2.29},null,null,null,2,{"$f":"OFFSET(ETO!$C$3,$M$2,$L20,1,1)*7","v":25.76},null,{"$f":"OFFSET('input ไม้ผล'!$B$4,0,$D$1,1,1)","v":7},13406.4,null,{"$f":"OFFSET('input ไม้ผล'!$B$5,0,$D$1,1,1)","v":30},0,null,28,{"$f":"ROUND(OFFSET(ฝนใช้การ!$P$2,$U$2,$L20,1,1)*7/$U20,2)","v":2.7},5171.04,null,70611.508799999996,78846.868799999997,87607.631999999998,null,null,null,null,null,null,null,null,null,null,null,null,null,null,null,null,null,null,null,null,null,null,null,null,null,null,null,null,null,null,null,null,null,null,null,null,null,null,null,null,null,null,null,null,null,null,null,null,null,null,null,null,null,null,null,null,null,null,null,null,null,null,null,null,null,null,null,null,null,null,null,null,null,null,null,null,null,null,null,null,null,null,null,null,null,null,null,null,null,null,null,null,null,null,null,null,null,null,null,null,null,null,null,null,null,null,null,null,null,null,null,null,null,null,null,null,null,null,null,null,null,null,null,null,null,null,null,null,null,null,null,null,null,null,null,null,null,null,null,null,null,null,null,null,null,null,null,null,null,null,null,null,null,null,null,null,null,null,null,null,null,null,null,null,null,null,null,null,null,null,null,null,null,null,null,null,null,null,null,null,null,null,null,null,null,null,null,null,null,null,null,null,"2017-11-29","2017-12-05",87607.631999999998]
[19,"2018-03-07","2018-03-13","2018-03-07",{"$f":"OFFSET('input ไม้ผล'!$B$8,$A21,$D$1,1,1)","v":1197},null,19,{"$f":"IF(G21=0,0,OFFSET(Kc!$A$2,1+G21,MATCH($H$1,List_Kc_ALL,0),1,1))","v":2.29},null,null,null,3,{"$f":"OFFSET(ETO!$C$3,$M$2,$L21,1,1)*7","v":30.38},null,{"$f":"OFFSET('input ไม้ผล'!$B$4,0,$D$1,1,1)","v":7},13406.4,null,{"$f":"OFFSET('input ไม้ผล'!$B$5,0,$D$1,1,1)","v":30},0,null,31,{"$f":"ROUND(OFFSET(ฝนใช้การ!$P$2,$U$2,$L21,1,1)*7/$U21,2)","v":4.29},8216.2099999999991,null,83275.529399999999,88465.719400000002,98295.243777777767,null,null,null,null,null,null,null,null,null,null,null,null,null,null,null,null,null,null,null,null,null,null,null,null,null,null,null,null,null,null,null,null,null,null,null,null,null,null,null,null,null,null,null,null,null,null,null,null,null,null,null,null,null,null,null,null,null,null,null,null,null,null,null,null,null,null,null,null,null,null,null,null,null,null,null,null,null,null,null,null,null,null,null,null,null,null,null,null,null,null,null,null,null,null,null,null,null,null,null,null,null,null,null,null,null,null,null,null,null,null,null,null,null,null,null,null,null,null,null,null,null,null,null,null,null,null,null,null,null,null,null,null,null,null,null,null,null,null,null,null,null,null,null,null,null,null,null,null,null,null,null,null,null,null,null,null,null,null,null,null,null,null,null,null,null,null,null,null,null,null,null,null,null,null,null,null,null,null,null,null,null,null,null,null,null,null,null,null,null,null,null,null,{"$f":"+HL20+7","v":"2017-12-06"},"2017-12-12",98295.243777777767]
[20,"2018-03-14","2018-03-20","2018-03-14",{"$f":"OFFSET('input ไม้ผล'!$B$8,$A22,$D$1,1,1)","v":1197},null,20,{"$f":"IF(G22=0,0,OFFSET(Kc!$A$2,1+G22,MATCH($H$1,List_Kc_ALL,0),1,1))","v":2.29},null,null,null,3,{"$f":"OFFSET(ETO!$C$3,$M$2,$L22,1,1)*7","v":30.38},null,{"$f":"OFFSET('input ไม้ผล'!$B$4,0,$D$1,1,1)","v":7},13406.4,null,{"$f":"OFFSET('input ไม้ผล'!$B$5,0,$D$1,1,1)","v":30},0,null,31,{"$f":"ROUND(OFFSET(ฝนใช้การ!$P$2,$U$2,$L22,1,1)*7/$U22,2)","v":4.29},8216.2099999999991,null,83275.529399999999,88465.719400000002,98295.243777777767,null,null,null,null,null,null,null,null,null,null,null,null,null,null,null,null,null,null,null,null,null,null,null,null,null,null,null,null,null,null,null,null,null,null,null,null,null,null,null,null,null,null,null,null,null,null,null,null,null,null,null,null,null,null,null,null,null,null,null,null,null,null,null,null,null,null,null,null,null,null,null,null,null,null,null,null,null,null,null,null,null,null,null,null,null,null,null,null,null,null,null,null,null,null,null,null,null,null,null,null,null,null,null,null,null,null,null,null,null,null,null,null,null,null,null,null,null,null,null,null,null,null,null,null,null,null,null,null,null,null,null,null,null,null,null,null,null,null,null,null,null,null,null,null,null,null,null,null,null,null,null,null,null,null,null,null,null,null,null,null,null,null,null,null,null,null,null,null,null,null,null,null,null,null,null,null,null,null,null,null,null,null,null,null,null,null,null,null,null,null,null,null,"2017-12-13","2017-12-19",98295.243777777767]
[21,"2018-03-21","2018-03-27","2018-03-21",{"$f":"OFFSET('input ไม้ผล'!$B$8,$A23,$D$1,1,1)","v":1197},null,21,{"$f":"IF(G23=0,0,OFFSET(Kc!$A$2,1+G23,MATCH($H$1,List_Kc_ALL,0),1,1))","v":2.29},null,null,null,3,{"$f":"OFFSET(ETO!$C$3,$M$2,$L23,1,1)*7","v":30.38},null,{"$f":"OFFSET('input ไม้ผล'!$B$4,0,$D$1,1,1)","v":7},13406.4,null,{"$f":"OFFSET('input ไม้ผล'!$B$5,0,$D$1,1,1)","v":30},0,null,31,{"$f":"ROUND(OFFSET(ฝนใช้การ!$P$2,$U$2,$L23,1,1)*7/$U23,2)","v":4.29},8216.2099999999991,null,83275.529399999999,88465.719400000002,98295.243777777767,null,null,null,null,null,null,null,null,null,null,null,null,null,null,null,null,null,null,null,null,null,null,null,null,null,null,null,null,null,null,null,null,null,null,null,null,null,null,null,null,null,null,null,null,null,null,null,null,null,null,null,null,null,null,null,null,null,null,null,null,null,null,null,null,null,null,null,null,null,null,null,null,null,null,null,null,null,null,null,null,null,null,null,null,null,null,null,null,null,null,null,null,null,null,null,null,null,null,null,null,null,null,null,null,null,null,null,null,null,null,null,null,null,null,null,null,null,null,null,null,null,null,null,null,null,null,null,null,null,null,null,null,null,null,null,null,null,null,null,null,null,null,null,null,null,null,null,null,null,null,null,null,null,null,null,null,null,null,null,null,null,null,null,null,null,null,null,null,null,null,null,null,null,null,null,null,null,null,null,null,null,null,null,null,null,null,null,null,null,null,null,null,"2017-12-20","2017-12-26",98295.243777777767]
[22,"2018-03-28","2018-04-03","2018-03-28",{"$f":"OFFSET('input ไม้ผล'!$B$8,$A24,$D$1,1,1)","v":1197},null,22,{"$f":"IF(G24=0,0,OFFSET(Kc!$A$2,1+G24,MATCH($H$1,List_Kc_ALL,0),1,1))","v":2.29},null,null,null,3,{"$f":"OFFSET(ETO!$C$3,$M$2,$L24,1,1)*7","v":30.38},null,{"$f":"OFFSET('input ไม้ผล'!$B$4,0,$D$1,1,1)","v":7},13406.4,null,{"$f":"OFFSET('input ไม้ผล'!$B$5,0,$D$1,1,1)","v":30},0,null,31,{"$f":"ROUND(OFFSET(ฝนใช้การ!$P$2,$U$2,$L24,1,1)*7/$U24,2)","v":4.29},8216.2099999999991,null,83275.529399999999,88465.719400000002,98295.243777777767,null,null,null,null,null,null,null,null,null,null,null,null,null,null,null,null,null,null,null,null,null,null,null,null,null,null,null,null,null,null,null,null,null,null,null,null,null,null,null,null,null,null,null,null,null,null,null,null,null,null,null,null,null,null,null,null,null,null,null,null,null,null,null,null,null,null,null,null,null,null,null,null,null,null,null,null,null,null,null,null,null,null,null,null,null,null,null,null,null,null,null,null,null,null,null,null,null,null,null,null,null,null,null,null,null,null,null,null,null,null,null,null,null,null,null,null,null,null,null,null,null,null,null,null,null,null,null,null,null,null,null,null,null,null,null,null,null,null,null,null,null,null,null,null,null,null,null,null,null,null,null,null,null,null,null,null,null,null,null,null,null,null,null,null,null,null,null,null,null,null,null,null,null,null,null,null,null,null,null,null,null,null,null,null,null,null,null,null,null,null,null,null,"2017-12-27","2018-01-02",98295.243777777767]
[23,"2018-04-04","2018-04-10","2018-04-04",{"$f":"OFFSET('input ไม้ผล'!$B$8,$A25,$D$1,1,1)","v":1197},null,23,{"$f":"IF(G25=0,0,OFFSET(Kc!$A$2,1+G25,MATCH($H$1,List_Kc_ALL,0),1,1))","v":2.5},null,null,null,4,{"$f":"OFFSET(ETO!$C$3,$M$2,$L25,1,1)*7","v":31.919999999999998},null,{"$f":"OFFSET('input ไม้ผล'!$B$4,0,$D$1,1,1)","v":7},13406.4,null,{"$f":"OFFSET('input ไม้ผล'!$B$5,0,$D$1,1,1)","v":30},0,null,30,{"$f":"ROUND(OFFSET(ฝนใช้การ!$P$2,$U$2,$L25,1,1)*7/$U25,2)","v":8},15321.6,null,95520.599999999991,93605.39999999998,104005.99999999999,null,null,null,null,null,null,null,null,null,null,null,null,null,null,null,null,null,null,null,null,null,null,null,null,null,null,null,null,null,null,null,null,null,null,null,null,null,null,null,null,null,null,null,null,null,null,null,null,null,null,null,null,null,null,null,null,null,null,null,null,null,null,null,null,null,null,null,null,null,null,null,null,null,null,null,null,null,null,null,null,null,null,null,null,null,null,null,null,null,null,null,null,null,null,null,null,null,null,null,null,null,null,null,null,null,null,null,null,null,null,null,null,null,null,null,null,null,null,null,null,null,null,null,null,null,null,null,null,null,null,null,null,null,null,null,null,null,null,null,null,null,null,null,null,null,null,null,null,null,null,null,null,null,null,null,null,null,null,null,null,null,null,null,null,null,null,null,null,null,null,null,null,null,null,null,null,null,null,null,null,null,null,null,null,null,null,null,null,null,null,null,null,"2018-01-03","2018-01-09",104005.99999999999]
[24,"2018-04-11","2018-04-17","2018-04-11",{"$f":"OFFSET('input ไม้ผล'!$B$8,$A26,$D$1,1,1)","v":1197},null,24,{"$f":"IF(G26=0,0,OFFSET(Kc!$A$2,1+G26,MATCH($H$1,List_Kc_ALL,0),1,1))","v":2.5},null,null,null,4,{"$f":"OFFSET(ETO!$C$3,$M$2,$L26,1,1)*7","v":31.919999999999998},null,{"$f":"OFFSET('input ไม้ผล'!$B$4,0,$D$1,1,1)","v":7},13406.4,null,{"$f":"OFFSET('input ไม้ผล'!$B$5,0,$D$1,1,1)","v":30},0,null,30,{"$f":"ROUND(OFFSET(ฝนใช้การ!$P$2,$U$2,$L26,1,1)*7/$U26,2)","v":8},15321.6,null,95520.599999999991,93605.39999999998,104005.99999999999,null,null,null,null,null,null,null,null,null,null,null,null,null,null,null,null,null,null,null,null,null,null,null,null,null,null,null,null,null,null,null,null,null,null,null,null,null,null,null,null,null,null,null,null,null,null,null,null,null,null,null,null,null,null,null,null,null,null,null,null,null,null,null,null,null,null,null,null,null,null,null,null,null,null,null,null,null,null,null,null,null,null,null,null,null,null,null,null,null,null,null,null,null,null,null,null,null,null,null,null,null,null,null,null,null,null,null,null,null,null,null,null,null,null,null,null,null,null,null,null,null,null,null,null,null,null,null,null,null,null,null,null,null,null,null,null,null,null,null,null,null,null,null,null,null,null,null,null,null,null,null,null,null,null,null,null,null,null,null,null,null,null,null,null,null,null,null,null,null,null,null,null,null,null,null,null,null,null,null,null,null,null,null,null,null,null,null,null,null,null,null,null,"2018-01-10","2018-01-16",104005.99999999999]
[25,"2018-04-18","2018-04-24","2018-04-18",{"$f":"OFFSET('input ไม้ผล'!$B$8,$A27,$D$1,1,1)","v":1197},null,25,{"$f":"IF(G27=0,0,OFFSET(Kc!$A$2,1+G27,MATCH($H$1,List_Kc_ALL,0),1,1))","v":2.5},null,null,null,4,{"$f":"OFFSET(ETO!$C$3,$M$2,$L27,1,1)*7","v":31.919999999999998},null,{"$f":"OFFSET('input ไม้ผล'!$B$4,0,$D$1,1,1)","v":7},13406.4,null,{"$f":"OFFSET('input ไม้ผล'!$B$5,0,$D$1,1,1)","v":30},0,null,30,{"$f":"ROUND(OFFSET(ฝนใช้การ!$P$2,$U$2,$L27,1,1)*7/$U27,2)","v":8},15321.6,null,95520.599999999991,93605.39999999998,104005.99999999999,null,null,null,null,null,null,null,null,null,null,null,null,null,null,null,null,null,null,null,null,null,null,null,null,null,null,null,null,null,null,null,null,null,null,null,null,null,null,null,null,null,null,null,null,null,null,null,null,null,null,null,null,null,null,null,null,null,null,null,null,null,null,null,null,null,null,null,null,null,null,null,null,null,null,null,null,null,null,null,null,null,null,null,null,null,null,null,null,null,null,null,null,null,null,null,null,null,null,null,null,null,null,null,null,null,null,null,null,null,null,null,null,null,null,null,null,null,null,null,null,null,null,null,null,null,null,null,null,null,null,null,null,null,null,null,null,null,null,null,null,null,null,null,null,null,null,null,null,null,null,null,null,null,null,null,null,null,null,null,null,null,null,null,null,null,null,null,null,null,null,null,null,null,null,null,null,null,null,null,null,null,null,null,null,null,null,null,null,null,null,null,null,"2018-01-17","2018-01-23",104005.99999999999]
[26,"2018-04-25","2018-05-01","2018-04-25",{"$f":"OFFSET('input ไม้ผล'!$B$8,$A28,$D$1,1,1)","v":1197},null,26,{"$f":"IF(G28=0,0,OFFSET(Kc!$A$2,1+G28,MATCH($H$1,List_Kc_ALL,0),1,1))","v":2.5},null,null,null,4,{"$f":"OFFSET(ETO!$C$3,$M$2,$L28,1,1)*7","v":31.919999999999998},null,{"$f":"OFFSET('input ไม้ผล'!$B$4,0,$D$1,1,1)","v":7},13406.4,null,{"$f":"OFFSET('input ไม้ผล'!$B$5,0,$D$1,1,1)","v":30},0,null,30,{"$f":"ROUND(OFFSET(ฝนใช้การ!$P$2,$U$2,$L28,1,1)*7/$U28,2)","v":8},15321.6,null,95520.599999999991,93605.39999999998,104005.99999999999,null,null,null,null,null,null,null,null,null,null,null,null,null,null,null,null,null,null,null,null,null,null,null,null,null,null,null,null,null,null,null,null,null,null,null,null,null,null,null,null,null,null,null,null,null,null,null,null,null,null,null,null,null,null,null,null,null,null,null,null,null,null,null,null,null,null,null,null,null,null,null,null,null,null,null,null,null,null,null,null,null,null,null,null,null,null,null,null,null,null,null,null,null,null,null,null,null,null,null,null,null,null,null,null,null,null,null,null,null,null,null,null,null,null,null,null,null,null,null,null,null,null,null,null,null,null,null,null,null,null,null,null,null,null,null,null,null,null,null,null,null,null,null,null,null,null,null,null,null,null,null,null,null,null,null,null,null,null,null,null,null,null,null,null,null,null,null,null,null,null,null,null,null,null,null,null,null,null,null,null,null,null,null,null,null,null,null,null,null,null,null,null,"2018-01-24","2018-01-30",104005.99999999999]
[27,"2018-05-02","2018-05-08","2018-05-02",{"$f":"OFFSET('input ไม้ผล'!$B$8,$A29,$D$1,1,1)","v":1197},null,27,{"$f":"IF(G29=0,0,OFFSET(Kc!$A$2,1+G29,MATCH($H$1,List_Kc_ALL,0),1,1))","v":1.9},null,null,null,5,{"$f":"OFFSET(ETO!$C$3,$M$2,$L29,1,1)*7","v":30.169999999999998},null,{"$f":"OFFSET('input ไม้ผล'!$B$4,0,$D$1,1,1)","v":7},13406.4,null,{"$f":"OFFSET('input ไม้ผล'!$B$5,0,$D$1,1,1)","v":30},0,null,31,{"$f":"ROUND(OFFSET(ฝนใช้การ!$P$2,$U$2,$L29,1,1)*7/$U29,2)","v":11.79},22580.21,null,68615.630999999994,59441.820999999989,66046.467777777769,null,null,null,null,null,null,null,null,null,null,null,null,null,null,null,null,null,null,null,null,null,null,null,null,null,null,null,null,null,null,null,null,null,null,null,null,null,null,null,null,null,null,null,null,null,null,null,null,null,null,null,null,null,null,null,null,null,null,null,null,null,null,null,null,null,null,null,null,null,null,null,null,null,null,null,null,null,null,null,null,null,null,null,null,null,null,null,null,null,null,null,null,null,null,null,null,null,null,null,null,null,null,null,null,null,null,null,null,null,null,null,null,null,null,null,null,null,null,null,null,null,null,null,null,null,null,null,null,null,null,null,null,null,null,null,null,null,null,null,null,null,null,null,null,null,null,null,null,null,null,null,null,null,null,null,null,null,null,null,null,null,null,null,null,null,null,null,null,null,null,null,null,null,null,null,null,null,null,null,null,null,null,null,null,null,null,null,null,null,null,null,null,"2018-01-31","2018-02-06",66046.467777777769]
[28,"2018-05-09","2018-05-15","2018-05-09",{"$f":"OFFSET('input ไม้ผล'!$B$8,$A30,$D$1,1,1)","v":1197},null,28,{"$f":"IF(G30=0,0,OFFSET(Kc!$A$2,1+G30,MATCH($H$1,List_Kc_ALL,0),1,1))","v":1.9},null,null,null,5,{"$f":"OFFSET(ETO!$C$3,$M$2,$L30,1,1)*7","v":30.169999999999998},null,{"$f":"OFFSET('input ไม้ผล'!$B$4,0,$D$1,1,1)","v":7},13406.4,null,{"$f":"OFFSET('input ไม้ผล'!$B$5,0,$D$1,1,1)","v":30},0,null,31,{"$f":"ROUND(OFFSET(ฝนใช้การ!$P$2,$U$2,$L30,1,1)*7/$U30,2)","v":11.79},22580.21,null,68615.630999999994,59441.820999999989,66046.467777777769,null,null,null,null,null,null,null,null,null,null,null,null,null,null,null,null,null,null,null,null,null,null,null,null,null,null,null,null,null,null,null,null,null,null,null,null,null,null,null,null,null,null,null,null,null,null,null,null,null,null,null,null,null,null,null,null,null,null,null,null,null,null,null,null,null,null,null,null,null,null,null,null,null,null,null,null,null,null,null,null,null,null,null,null,null,null,null,null,null,null,null,null,null,null,null,null,null,null,null,null,null,null,null,null,null,null,null,null,null,null,null,null,null,null,null,null,null,null,null,null,null,null,null,null,null,null,null,null,null,null,null,null,null,null,null,null,null,null,null,null,null,null,null,null,null,null,null,null,null,null,null,null,null,null,null,null,null,null,null,null,null,null,null,null,null,null,null,null,null,null,null,null,null,null,null,null,null,null,null,null,null,null,null,null,null,null,null,null,null,null,null,null,"2018-02-07","2018-02-13",66046.467777777769]
[29,"2018-05-16","2018-05-22","2018-05-16",{"$f":"OFFSET('input ไม้ผล'!$B$8,$A31,$D$1,1,1)","v":1197},null,29,{"$f":"IF(G31=0,0,OFFSET(Kc!$A$2,1+G31,MATCH($H$1,List_Kc_ALL,0),1,1))","v":1.9},null,null,null,5,{"$f":"OFFSET(ETO!$C$3,$M$2,$L31,1,1)*7","v":30.169999999999998},null,{"$f":"OFFSET('input ไม้ผล'!$B$4,0,$D$1,1,1)","v":7},13406.4,null,{"$f":"OFFSET('input ไม้ผล'!$B$5,0,$D$1,1,1)","v":30},0,null,31,{"$f":"ROUND(OFFSET(ฝนใช้การ!$P$2,$U$2,$L31,1,1)*7/$U31,2)","v":11.79},22580.21,null,68615.630999999994,59441.820999999989,66046.467777777769,null,null,null,null,null,null,null,null,null,null,null,null,null,null,null,null,null,null,null,null,null,null,null,null,null,null,null,null,null,null,null,null,null,null,null,null,null,null,null,null,null,null,null,null,null,null,null,null,null,null,null,null,null,null,null,null,null,null,null,null,null,null,null,null,null,null,null,null,null,null,null,null,null,null,null,null,null,null,null,null,null,null,null,null,null,null,null,null,null,null,null,null,null,null,null,null,null,null,null,null,null,null,null,null,null,null,null,null,null,null,null,null,null,null,null,null,null,null,null,null,null,null,null,null,null,null,null,null,null,null,null,null,null,null,null,null,null,null,null,null,null,null,null,null,null,null,null,null,null,null,null,null,null,null,null,null,null,null,null,null,null,null,null,null,null,null,null,null,null,null,null,null,null,null,null,null,null,null,null,null,null,null,null,null,null,null,null,null,null,null,null,null,"2018-02-14","2018-02-20",66046.467777777769]
[30,"2018-05-23","2018-05-29","2018-05-23",{"$f":"OFFSET('input ไม้ผล'!$B$8,$A32,$D$1,1,1)","v":1197},null,30,{"$f":"IF(G32=0,0,OFFSET(Kc!$A$2,1+G32,MATCH($H$1,List_Kc_ALL,0),1,1))","v":1.9},null,null,null,5,{"$f":"OFFSET(ETO!$C$3,$M$2,$L32,1,1)*7","v":30.169999999999998},null,{"$f":"OFFSET('input ไม้ผล'!$B$4,0,$D$1,1,1)","v":7},13406.4,null,{"$f":"OFFSET('input ไม้ผล'!$B$5,0,$D$1,1,1)","v":30},0,null,31,{"$f":"ROUND(OFFSET(ฝนใช้การ!$P$2,$U$2,$L32,1,1)*7/$U32,2)","v":11.79},22580.21,null,68615.630999999994,59441.820999999989,66046.467777777769,null,null,null,null,null,null,null,null,null,null,null,null,null,null,null,null,null,null,null,null,null,null,null,null,null,null,null,null,null,null,null,null,null,null,null,null,null,null,null,null,null,null,null,null,null,null,null,null,null,null,null,null,null,null,null,null,null,null,null,null,null,null,null,null,null,null,null,null,null,null,null,null,null,null,null,null,null,null,null,null,null,null,null,null,null,null,null,null,null,null,null,null,null,null,null,null,null,null,null,null,null,null,null,null,null,null,null,null,null,null,null,null,null,null,null,null,null,null,null,null,null,null,null,null,null,null,null,null,null,null,null,null,null,null,null,null,null,null,null,null,null,null,null,null,null,null,null,null,null,null,null,null,null,null,null,null,null,null,null,null,null,null,null,null,null,null,null,null,null,null,null,null,null,null,null,null,null,null,null,null,null,null,null,null,null,null,null,null,null,null,null,null,"2018-02-21","2018-02-27",66046.467777777769]
[31,"2018-05-30","2018-06-05","2018-05-30",{"$f":"OFFSET('input ไม้ผล'!$B$8,$A33,$D$1,1,1)","v":1197},null,31,{"$f":"IF(G33=0,0,OFFSET(Kc!$A$2,1+G33,MATCH($H$1,List_Kc_ALL,0),1,1))","v":1.69},null,null,null,5,{"$f":"OFFSET(ETO!$C$3,$M$2,$L33,1,1)*7","v":30.169999999999998},null,{"$f":"OFFSET('input ไม้ผล'!$B$4,0,$D$1,1,1)","v":7},13406.4,null,{"$f":"OFFSET('input ไม้ผล'!$B$5,0,$D$1,1,1)","v":30},0,null,31,{"$f":"ROUND(OFFSET(ฝนใช้การ!$P$2,$U$2,$L33,1,1)*7/$U33,2)","v":11.79},22580.21,null,61031.7981,51857.988099999995,57619.986777777776,null,null,null,null,null,null,null,null,null,null,null,null,null,null,null,null,null,null,null,null,null,null,null,null,null,null,null,null,null,null,null,null,null,null,null,null,null,null,null,null,null,null,null,null,null,null,null,null,null,null,null,null,null,null,null,null,null,null,null,null,null,null,null,null,null,null,null,null,null,null,null,null,null,null,null,null,null,null,null,null,null,null,null,null,null,null,null,null,null,null,null,null,null,null,null,null,null,null,null,null,null,null,null,null,null,null,null,null,null,null,null,null,null,null,null,null,null,null,null,null,null,null,null,null,null,null,null,null,null,null,null,null,null,null,null,null,null,null,null,null,null,null,null,null,null,null,null,null,null,null,null,null,null,null,null,null,null,null,null,null,null,null,null,null,null,null,null,null,null,null,null,null,null,null,null,null,null,null,null,null,null,null,null,null,null,null,null,null,null,null,null,null,"2018-02-28","2018-03-06",57619.986777777776]
[32,"2018-06-06","2018-06-12","2018-06-06",{"$f":"OFFSET('input ไม้ผล'!$B$8,$A34,$D$1,1,1)","v":1197},null,32,{"$f":"IF(G34=0,0,OFFSET(Kc!$A$2,1+G34,MATCH($H$1,List_Kc_ALL,0),1,1))","v":1.69},null,null,null,6,{"$f":"OFFSET(ETO!$C$3,$M$2,$L34,1,1)*7","v":29.889999999999997},null,{"$f":"OFFSET('input ไม้ผล'!$B$4,0,$D$1,1,1)","v":7},13406.4,null,{"$f":"OFFSET('input ไม้ผล'!$B$5,0,$D$1,1,1)","v":30},0,null,30,{"$f":"ROUND(OFFSET(ฝนใช้การ!$P$2,$U$2,$L34,1,1)*7/$U34,2)","v":9.3699999999999992},17945.419999999998,null,60465.37769999999,55926.357699999993,62140.397444444439,null,null,null,null,null,null,null,null,null,null,null,null,null,null,null,null,null,null,null,null,null,null,null,null,null,null,null,null,null,null,null,null,null,null,null,null,null,null,null,null,null,null,null,null,null,null,null,null,null,null,null,null,null,null,null,null,null,null,null,null,null,null,null,null,null,null,null,null,null,null,null,null,null,null,null,null,null,null,null,null,null,null,null,null,null,null,null,null,null,null,null,null,null,null,null,null,null,null,null,null,null,null,null,null,null,null,null,null,null,null,null,null,null,null,null,null,null,null,null,null,null,null,null,null,null,null,null,null,null,null,null,null,null,null,null,null,null,null,null,null,null,null,null,null,null,null,null,null,null,null,null,null,null,null,null,null,null,null,null,null,null,null,null,null,null,null,null,null,null,null,null,null,null,null,null,null,null,null,null,null,null,null,null,null,null,null,null,null,null,null,null,null,"2018-03-07","2018-03-13",62140.397444444439]
[33,"2018-06-13","2018-06-19","2018-06-13",{"$f":"OFFSET('input ไม้ผล'!$B$8,$A35,$D$1,1,1)","v":1197},null,33,{"$f":"IF(G35=0,0,OFFSET(Kc!$A$2,1+G35,MATCH($H$1,List_Kc_ALL,0),1,1))","v":1.69},null,null,null,6,{"$f":"OFFSET(ETO!$C$3,$M$2,$L35,1,1)*7","v":29.889999999999997},null,{"$f":"OFFSET('input ไม้ผล'!$B$4,0,$D$1,1,1)","v":7},13406.4,null,{"$f":"OFFSET('input ไม้ผล'!$B$5,0,$D$1,1,1)","v":30},0,null,30,{"$f":"ROUND(OFFSET(ฝนใช้การ!$P$2,$U$2,$L35,1,1)*7/$U35,2)","v":9.3699999999999992},17945.419999999998,null,60465.37769999999,55926.357699999993,62140.397444444439,null,null,null,null,null,null,null,null,null,null,null,null,null,null,null,null,null,null,null,null,null,null,null,null,null,null,null,null,null,null,null,null,null,null,null,null,null,null,null,null,null,null,null,null,null,null,null,null,null,null,null,null,null,null,null,null,null,null,null,null,null,null,null,null,null,null,null,null,null,null,null,null,null,null,null,null,null,null,null,null,null,null,null,null,null,null,null,null,null,null,null,null,null,null,null,null,null,null,null,null,null,null,null,null,null,null,null,null,null,null,null,null,null,null,null,null,null,null,null,null,null,null,null,null,null,null,null,null,null,null,null,null,null,null,null,null,null,null,null,null,null,null,null,null,null,null,null,null,null,null,null,null,null,null,null,null,null,null,null,null,null,null,null,null,null,null,null,null,null,null,null,null,null,null,null,null,null,null,null,null,null,null,null,null,null,null,null,null,null,null,null,null,"2018-03-14","2018-03-20",62140.397444444439]
[34,"2018-06-20","2018-06-26","2018-06-20",{"$f":"OFFSET('input ไม้ผล'!$B$8,$A36,$D$1,1,1)","v":1197},null,34,{"$f":"IF(G36=0,0,OFFSET(Kc!$A$2,1+G36,MATCH($H$1,List_Kc_ALL,0),1,1))","v":1.69},null,null,null,6,{"$f":"OFFSET(ETO!$C$3,$M$2,$L36,1,1)*7","v":29.889999999999997},null,{"$f":"OFFSET('input ไม้ผล'!$B$4,0,$D$1,1,1)","v":7},13406.4,null,{"$f":"OFFSET('input ไม้ผล'!$B$5,0,$D$1,1,1)","v":30},0,null,30,{"$f":"ROUND(OFFSET(ฝนใช้การ!$P$2,$U$2,$L36,1,1)*7/$U36,2)","v":9.3699999999999992},17945.419999999998,null,60465.37769999999,55926.357699999993,62140.397444444439,null,null,null,null,null,null,null,null,null,null,null,null,null,null,null,null,null,null,null,null,null,null,null,null,null,null,null,null,null,null,null,null,null,null,null,null,null,null,null,null,null,null,null,null,null,null,null,null,null,null,null,null,null,null,null,null,null,null,null,null,null,null,null,null,null,null,null,null,null,null,null,null,null,null,null,null,null,null,null,null,null,null,null,null,null,null,null,null,null,null,null,null,null,null,null,null,null,null,null,null,null,null,null,null,null,null,null,null,null,null,null,null,null,null,null,null,null,null,null,null,null,null,null,null,null,null,null,null,null,null,null,null,null,null,null,null,null,null,null,null,null,null,null,null,null,null,null,null,null,null,null,null,null,null,null,null,null,null,null,null,null,null,null,null,null,null,null,null,null,null,null,null,null,null,null,null,null,null,null,null,null,null,null,null,null,null,null,null,null,null,null,null,"2018-03-21","2018-03-27",62140.397444444439]
[35,"2018-06-27","2018-07-03","2018-06-27",{"$f":"OFFSET('input ไม้ผล'!$B$8,$A37,$D$1,1,1)","v":1197},null,35,{"$f":"IF(G37=0,0,OFFSET(Kc!$A$2,1+G37,MATCH($H$1,List_Kc_ALL,0),1,1))","v":1.69},null,null,null,6,{"$f":"OFFSET(ETO!$C$3,$M$2,$L37,1,1)*7","v":29.889999999999997},null,{"$f":"OFFSET('input ไม้ผล'!$B$4,0,$D$1,1,1)","v":7},13406.4,null,{"$f":"OFFSET('input ไม้ผล'!$B$5,0,$D$1,1,1)","v":30},0,null,30,{"$f":"ROUND(OFFSET(ฝนใช้การ!$P$2,$U$2,$L37,1,1)*7/$U37,2)","v":9.3699999999999992},17945.419999999998,null,60465.37769999999,55926.357699999993,62140.397444444439,null,null,null,null,null,null,null,null,null,null,null,null,null,null,null,null,null,null,null,null,null,null,null,null,null,null,null,null,null,null,null,null,null,null,null,null,null,null,null,null,null,null,null,null,null,null,null,null,null,null,null,null,null,null,null,null,null,null,null,null,null,null,null,null,null,null,null,null,null,null,null,null,null,null,null,null,null,null,null,null,null,null,null,null,null,null,null,null,null,null,null,null,null,null,null,null,null,null,null,null,null,null,null,null,null,null,null,null,null,null,null,null,null,null,null,null,null,null,null,null,null,null,null,null,null,null,null,null,null,null,null,null,null,null,null,null,null,null,null,null,null,null,null,null,null,null,null,null,null,null,null,null,null,null,null,null,null,null,null,null,null,null,null,null,null,null,null,null,null,null,null,null,null,null,null,null,null,null,null,null,null,null,null,null,null,null,null,null,null,null,null,null,{"$f":"+HL36+7","v":"2018-03-28"},"2018-04-03",62140.397444444439]
[36,"2018-07-04","2018-07-10","2018-07-04",{"$f":"OFFSET('input ไม้ผล'!$B$8,$A38,$D$1,1,1)","v":1197},null,36,{"$f":"IF(G38=0,0,OFFSET(Kc!$A$2,1+G38,MATCH($H$1,List_Kc_ALL,0),1,1))","v":1.61},null,null,null,7,{"$f":"OFFSET(ETO!$C$3,$M$2,$L38,1,1)*7","v":26.88},null,{"$f":"OFFSET('input ไม้ผล'!$B$4,0,$D$1,1,1)","v":7},13406.4,null,{"$f":"OFFSET('input ไม้ผล'!$B$5,0,$D$1,1,1)","v":30},0,null,31,{"$f":"ROUND(OFFSET(ฝนใช้การ!$P$2,$U$2,$L38,1,1)*7/$U38,2)","v":16.62},31830.62,null,51802.329600000005,33378.109600000011,37086.788444444457,null,null,null,null,null,null,null,null,null,null,null,null,null,null,null,null,null,null,null,null,null,null,null,null,null,null,null,null,null,null,null,null,null,null,null,null,null,null,null,null,null,null,null,null,null,null,null,null,null,null,null,null,null,null,null,null,null,null,null,null,null,null,null,null,null,null,null,null,null,null,null,null,null,null,null,null,null,null,null,null,null,null,null,null,null,null,null,null,null,null,null,null,null,null,null,null,null,null,null,null,null,null,null,null,null,null,null,null,null,null,null,null,null,null,null,null,null,null,null,null,null,null,null,null,null,null,null,null,null,null,null,null,null,null,null,null,null,null,null,null,null,null,null,null,null,null,null,null,null,null,null,null,null,null,null,null,null,null,null,null,null,null,null,null,null,null,null,null,null,null,null,null,null,null,null,null,null,null,null,null,null,null,null,null,null,null,null,null,null,null,null,null,"2018-04-04","2018-04-10",37086.788444444457]
[37,"2018-07-11","2018-07-17","2018-07-11",{"$f":"OFFSET('input ไม้ผล'!$B$8,$A39,$D$1,1,1)","v":1197},null,37,{"$f":"IF(G39=0,0,OFFSET(Kc!$A$2,1+G39,MATCH($H$1,List_Kc_ALL,0),1,1))","v":1.61},null,null,null,7,{"$f":"OFFSET(ETO!$C$3,$M$2,$L39,1,1)*7","v":26.88},null,{"$f":"OFFSET('input ไม้ผล'!$B$4,0,$D$1,1,1)","v":7},13406.4,null,{"$f":"OFFSET('input ไม้ผล'!$B$5,0,$D$1,1,1)","v":30},0,null,31,{"$f":"ROUND(OFFSET(ฝนใช้การ!$P$2,$U$2,$L39,1,1)*7/$U39,2)","v":16.62},31830.62,null,51802.329600000005,33378.109600000011,37086.788444444457,null,null,null,null,null,null,null,null,null,null,null,null,null,null,null,null,null,null,null,null,null,null,null,null,null,null,null,null,null,null,null,null,null,null,null,null,null,null,null,null,null,null,null,null,null,null,null,null,null,null,null,null,null,null,null,null,null,null,null,null,null,null,null,null,null,null,null,null,null,null,null,null,null,null,null,null,null,null,null,null,null,null,null,null,null,null,null,null,null,null,null,null,null,null,null,null,null,null,null,null,null,null,null,null,null,null,null,null,null,null,null,null,null,null,null,null,null,null,null,null,null,null,null,null,null,null,null,null,null,null,null,null,null,null,null,null,null,null,null,null,null,null,null,null,null,null,null,null,null,null,null,null,null,null,null,null,null,null,null,null,null,null,null,null,null,null,null,null,null,null,null,null,null,null,null,null,null,null,null,null,null,null,null,null,null,null,null,null,null,null,null,null,"2018-04-11","2018-04-17",37086.788444444457]
[38,"2018-07-18","2018-07-24","2018-07-18",{"$f":"OFFSET('input ไม้ผล'!$B$8,$A40,$D$1,1,1)","v":1197},null,38,{"$f":"IF(G40=0,0,OFFSET(Kc!$A$2,1+G40,MATCH($H$1,List_Kc_ALL,0),1,1))","v":1.61},null,null,null,7,{"$f":"OFFSET(ETO!$C$3,$M$2,$L40,1,1)*7","v":26.88},null,{"$f":"OFFSET('input ไม้ผล'!$B$4,0,$D$1,1,1)","v":7},13406.4,null,{"$f":"OFFSET('input ไม้ผล'!$B$5,0,$D$1,1,1)","v":30},0,null,31,{"$f":"ROUND(OFFSET(ฝนใช้การ!$P$2,$U$2,$L40,1,1)*7/$U40,2)","v":16.62},31830.62,null,51802.329600000005,33378.109600000011,37086.788444444457,null,null,null,null,null,null,null,null,null,null,null,null,null,null,null,null,null,null,null,null,null,null,null,null,null,null,null,null,null,null,null,null,null,null,null,null,null,null,null,null,null,null,null,null,null,null,null,null,null,null,null,null,null,null,null,null,null,null,null,null,null,null,null,null,null,null,null,null,null,null,null,null,null,null,null,null,null,null,null,null,null,null,null,null,null,null,null,null,null,null,null,null,null,null,null,null,null,null,null,null,null,null,null,null,null,null,null,null,null,null,null,null,null,null,null,null,null,null,null,null,null,null,null,null,null,null,null,null,null,null,null,null,null,null,null,null,null,null,null,null,null,null,null,null,null,null,null,null,null,null,null,null,null,null,null,null,null,null,null,null,null,null,null,null,null,null,null,null,null,null,null,null,null,null,null,null,null,null,null,null,null,null,null,null,null,null,null,null,null,null,null,null,"2018-04-18","2018-04-24",37086.788444444457]
[39,"2018-07-25","2018-07-31","2018-07-25",{"$f":"OFFSET('input ไม้ผล'!$B$8,$A41,$D$1,1,1)","v":1197},null,39,{"$f":"IF(G41=0,0,OFFSET(Kc!$A$2,1+G41,MATCH($H$1,List_Kc_ALL,0),1,1))","v":1.61},null,null,null,7,{"$f":"OFFSET(ETO!$C$3,$M$2,$L41,1,1)*7","v":26.88},null,{"$f":"OFFSET('input ไม้ผล'!$B$4,0,$D$1,1,1)","v":7},13406.4,null,{"$f":"OFFSET('input ไม้ผล'!$B$5,0,$D$1,1,1)","v":30},0,null,31,{"$f":"ROUND(OFFSET(ฝนใช้การ!$P$2,$U$2,$L41,1,1)*7/$U41,2)","v":16.62},31830.62,null,51802.329600000005,33378.109600000011,37086.788444444457,null,null,null,null,null,null,null,null,null,null,null,null,null,null,null,null,null,null,null,null,null,null,null,null,null,null,null,null,null,null,null,null,null,null,null,null,null,null,null,null,null,null,null,null,null,null,null,null,null,null,null,null,null,null,null,null,null,null,null,null,null,null,null,null,null,null,null,null,null,null,null,null,null,null,null,null,null,null,null,null,null,null,null,null,null,null,null,null,null,null,null,null,null,null,null,null,null,null,null,null,null,null,null,null,null,null,null,null,null,null,null,null,null,null,null,null,null,null,null,null,null,null,null,null,null,null,null,null,null,null,null,null,null,null,null,null,null,null,null,null,null,null,null,null,null,null,null,null,null,null,null,null,null,null,null,null,null,null,null,null,null,null,null,null,null,null,null,null,null,null,null,null,null,null,null,null,null,null,null,null,null,null,null,null,null,null,null,null,null,null,null,null,"2018-04-25","2018-05-01",37086.788444444457]
[40,"2018-08-01","2018-08-07","2018-08-01",{"$f":"OFFSET('input ไม้ผล'!$B$8,$A42,$D$1,1,1)","v":1197},null,40,{"$f":"IF(G42=0,0,OFFSET(Kc!$A$2,1+G42,MATCH($H$1,List_Kc_ALL,0),1,1))","v":1.27},null,null,null,8,{"$f":"OFFSET(ETO!$C$3,$M$2,$L42,1,1)*7","v":24.290000000000003},null,{"$f":"OFFSET('input ไม้ผล'!$B$4,0,$D$1,1,1)","v":7},13406.4,null,{"$f":"OFFSET('input ไม้ผล'!$B$5,0,$D$1,1,1)","v":30},0,null,31,{"$f":"ROUND(OFFSET(ฝนใช้การ!$P$2,$U$2,$L42,1,1)*7/$U42,2)","v":22.02},42172.7,null,36925.415100000006,8159.11510000001,9065.6834444444557,null,null,null,null,null,null,null,null,null,null,null,null,null,null,null,null,null,null,null,null,null,null,null,null,null,null,null,null,null,null,null,null,null,null,null,null,null,null,null,null,null,null,null,null,null,null,null,null,null,null,null,null,null,null,null,null,null,null,null,null,null,null,null,null,null,null,null,null,null,null,null,null,null,null,null,null,null,null,null,null,null,null,null,null,null,null,null,null,null,null,null,null,null,null,null,null,null,null,null,null,null,null,null,null,null,null,null,null,null,null,null,null,null,null,null,null,null,null,null,null,null,null,null,null,null,null,null,null,null,null,null,null,null,null,null,null,null,null,null,null,null,null,null,null,null,null,null,null,null,null,null,null,null,null,null,null,null,null,null,null,null,null,null,null,null,null,null,null,null,null,null,null,null,null,null,null,null,null,null,null,null,null,null,null,null,null,null,null,null,null,null,null,"2018-05-02","2018-05-08",9065.6834444444557]
[41,"2018-08-08","2018-08-14","2018-08-08",{"$f":"OFFSET('input ไม้ผล'!$B$8,$A43,$D$1,1,1)","v":1197},null,41,{"$f":"IF(G43=0,0,OFFSET(Kc!$A$2,1+G43,MATCH($H$1,List_Kc_ALL,0),1,1))","v":1.27},null,null,null,8,{"$f":"OFFSET(ETO!$C$3,$M$2,$L43,1,1)*7","v":24.290000000000003},null,{"$f":"OFFSET('input ไม้ผล'!$B$4,0,$D$1,1,1)","v":7},13406.4,null,{"$f":"OFFSET('input ไม้ผล'!$B$5,0,$D$1,1,1)","v":30},0,null,31,{"$f":"ROUND(OFFSET(ฝนใช้การ!$P$2,$U$2,$L43,1,1)*7/$U43,2)","v":22.02},42172.7,null,36925.415100000006,8159.11510000001,9065.6834444444557,null,null,null,null,null,null,null,null,null,null,null,null,null,null,null,null,null,null,null,null,null,null,null,null,null,null,null,null,null,null,null,null,null,null,null,null,null,null,null,null,null,null,null,null,null,null,null,null,null,null,null,null,null,null,null,null,null,null,null,null,null,null,null,null,null,null,null,null,null,null,null,null,null,null,null,null,null,null,null,null,null,null,null,null,null,null,null,null,null,null,null,null,null,null,null,null,null,null,null,null,null,null,null,null,null,null,null,null,null,null,null,null,null,null,null,null,null,null,null,null,null,null,null,null,null,null,null,null,null,null,null,null,null,null,null,null,null,null,null,null,null,null,null,null,null,null,null,null,null,null,null,null,null,null,null,null,null,null,null,null,null,null,null,null,null,null,null,null,null,null,null,null,null,null,null,null,null,null,null,null,null,null,null,null,null,null,null,null,null,null,null,null,"2018-05-09","2018-05-15",9065.6834444444557]
[42,"2018-08-15","2018-08-21","2018-08-15",{"$f":"OFFSET('input ไม้ผล'!$B$8,$A44,$D$1,1,1)","v":1197},null,42,{"$f":"IF(G44=0,0,OFFSET(Kc!$A$2,1+G44,MATCH($H$1,List_Kc_ALL,0),1,1))","v":1.27},null,null,null,8,{"$f":"OFFSET(ETO!$C$3,$M$2,$L44,1,1)*7","v":24.290000000000003},null,{"$f":"OFFSET('input ไม้ผล'!$B$4,0,$D$1,1,1)","v":7},13406.4,null,{"$f":"OFFSET('input ไม้ผล'!$B$5,0,$D$1,1,1)","v":30},0,null,31,{"$f":"ROUND(OFFSET(ฝนใช้การ!$P$2,$U$2,$L44,1,1)*7/$U44,2)","v":22.02},42172.7,null,36925.415100000006,8159.11510000001,9065.6834444444557,null,null,null,null,null,null,null,null,null,null,null,null,null,null,null,null,null,null,null,null,null,null,null,null,null,null,null,null,null,null,null,null,null,null,null,null,null,null,null,null,null,null,null,null,null,null,null,null,null,null,null,null,null,null,null,null,null,null,null,null,null,null,null,null,null,null,null,null,null,null,null,null,null,null,null,null,null,null,null,null,null,null,null,null,null,null,null,null,null,null,null,null,null,null,null,null,null,null,null,null,null,null,null,null,null,null,null,null,null,null,null,null,null,null,null,null,null,null,null,null,null,null,null,null,null,null,null,null,null,null,null,null,null,null,null,null,null,null,null,null,null,null,null,null,null,null,null,null,null,null,null,null,null,null,null,null,null,null,null,null,null,null,null,null,null,null,null,null,null,null,null,null,null,null,null,null,null,null,null,null,null,null,null,null,null,null,null,null,null,null,null,null,"2018-05-16","2018-05-22",9065.6834444444557]
[43,"2018-08-22","2018-08-28","2018-08-22",{"$f":"OFFSET('input ไม้ผล'!$B$8,$A45,$D$1,1,1)","v":1197},null,43,{"$f":"IF(G45=0,0,OFFSET(Kc!$A$2,1+G45,MATCH($H$1,List_Kc_ALL,0),1,1))","v":1.27},null,null,null,8,{"$f":"OFFSET(ETO!$C$3,$M$2,$L45,1,1)*7","v":24.290000000000003},null,{"$f":"OFFSET('input ไม้ผล'!$B$4,0,$D$1,1,1)","v":7},13406.4,null,{"$f":"OFFSET('input ไม้ผล'!$B$5,0,$D$1,1,1)","v":30},0,null,31,{"$f":"ROUND(OFFSET(ฝนใช้การ!$P$2,$U$2,$L45,1,1)*7/$U45,2)","v":22.02},42172.7,null,36925.415100000006,8159.11510000001,9065.6834444444557,null,null,null,null,null,null,null,null,null,null,null,null,null,null,null,null,null,null,null,null,null,null,null,null,null,null,null,null,null,null,null,null,null,null,null,null,null,null,null,null,null,null,null,null,null,null,null,null,null,null,null,null,null,null,null,null,null,null,null,null,null,null,null,null,null,null,null,null,null,null,null,null,null,null,null,null,null,null,null,null,null,null,null,null,null,null,null,null,null,null,null,null,null,null,null,null,null,null,null,null,null,null,null,null,null,null,null,null,null,null,null,null,null,null,null,null,null,null,null,null,null,null,null,null,null,null,null,null,null,null,null,null,null,null,null,null,null,null,null,null,null,null,null,null,null,null,null,null,null,null,null,null,null,null,null,null,null,null,null,null,null,null,null,null,null,null,null,null,null,null,null,null,null,null,null,null,null,null,null,null,null,null,null,null,null,null,null,null,null,null,null,null,"2018-05-23","2018-05-29",9065.6834444444557]
[44,"2018-08-29","2018-09-04","2018-08-29",{"$f":"OFFSET('input ไม้ผล'!$B$8,$A46,$D$1,1,1)","v":1197},null,44,{"$f":"IF(G46=0,0,OFFSET(Kc!$A$2,1+G46,MATCH($H$1,List_Kc_ALL,0),1,1))","v":1.24},null,null,null,8,{"$f":"OFFSET(ETO!$C$3,$M$2,$L46,1,1)*7","v":24.290000000000003},null,{"$f":"OFFSET('input ไม้ผล'!$B$4,0,$D$1,1,1)","v":7},13406.4,null,{"$f":"OFFSET('input ไม้ผล'!$B$5,0,$D$1,1,1)","v":30},0,null,31,{"$f":"ROUND(OFFSET(ฝนใช้การ!$P$2,$U$2,$L46,1,1)*7/$U46,2)","v":22.02},42172.7,null,36053.161200000002,7286.8612000000066,8096.5124444444518,null,null,null,null,null,null,null,null,null,null,null,null,null,null,null,null,null,null,null,null,null,null,null,null,null,null,null,null,null,null,null,null,null,null,null,null,null,null,null,null,null,null,null,null,null,null,null,null,null,null,null,null,null,null,null,null,null,null,null,null,null,null,null,null,null,null,null,null,null,null,null,null,null,null,null,null,null,null,null,null,null,null,null,null,null,null,null,null,null,null,null,null,null,null,null,null,null,null,null,null,null,null,null,null,null,null,null,null,null,null,null,null,null,null,null,null,null,null,null,null,null,null,null,null,null,null,null,null,null,null,null,null,null,null,null,null,null,null,null,null,null,null,null,null,null,null,null,null,null,null,null,null,null,null,null,null,null,null,null,null,null,null,null,null,null,null,null,null,null,null,null,null,null,null,null,null,null,null,null,null,null,null,null,null,null,null,null,null,null,null,null,null,"2018-05-30","2018-06-05",8096.5124444444518]
[45,"2018-09-05","2018-09-11","2018-09-05",{"$f":"OFFSET('input ไม้ผล'!$B$8,$A47,$D$1,1,1)","v":1197},null,45,{"$f":"IF(G47=0,0,OFFSET(Kc!$A$2,1+G47,MATCH($H$1,List_Kc_ALL,0),1,1))","v":1.24},null,null,null,9,{"$f":"OFFSET(ETO!$C$3,$M$2,$L47,1,1)*7","v":23.939999999999998},null,{"$f":"OFFSET('input ไม้ผล'!$B$4,0,$D$1,1,1)","v":7},13406.4,null,{"$f":"OFFSET('input ไม้ผล'!$B$5,0,$D$1,1,1)","v":30},0,null,30,{"$f":"ROUND(OFFSET(ฝนใช้การ!$P$2,$U$2,$L47,1,1)*7/$U47,2)","v":29.8},57072.959999999999,null,35533.663199999995,0,0,null,null,null,null,null,null,null,null,null,null,null,null,null,null,null,null,null,null,null,null,null,null,null,null,null,null,null,null,null,null,null,null,null,null,null,null,null,null,null,null,null,null,null,null,null,null,null,null,null,null,null,null,null,null,null,null,null,null,null,null,null,null,null,null,null,null,null,null,null,null,null,null,null,null,null,null,null,null,null,null,null,null,null,null,null,null,null,null,null,null,null,null,null,null,null,null,null,null,null,null,null,null,null,null,null,null,null,null,null,null,null,null,null,null,null,null,null,null,null,null,null,null,null,null,null,null,null,null,null,null,null,null,null,null,null,null,null,null,null,null,null,null,null,null,null,null,null,null,null,null,null,null,null,null,null,null,null,null,null,null,null,null,null,null,null,null,null,null,null,null,null,null,null,null,null,null,null,null,null,null,null,null,null,null,null,null,null,null,null,null,null,null,"2018-06-06","2018-06-12",0]
[46,"2018-09-12","2018-09-18","2018-09-12",{"$f":"OFFSET('input ไม้ผล'!$B$8,$A48,$D$1,1,1)","v":1197},null,46,{"$f":"IF(G48=0,0,OFFSET(Kc!$A$2,1+G48,MATCH($H$1,List_Kc_ALL,0),1,1))","v":1.24},null,null,null,9,{"$f":"OFFSET(ETO!$C$3,$M$2,$L48,1,1)*7","v":23.939999999999998},null,{"$f":"OFFSET('input ไม้ผล'!$B$4,0,$D$1,1,1)","v":7},13406.4,null,{"$f":"OFFSET('input ไม้ผล'!$B$5,0,$D$1,1,1)","v":30},0,null,30,{"$f":"ROUND(OFFSET(ฝนใช้การ!$P$2,$U$2,$L48,1,1)*7/$U48,2)","v":29.8},57072.959999999999,null,35533.663199999995,0,0,null,null,null,null,null,null,null,null,null,null,null,null,null,null,null,null,null,null,null,null,null,null,null,null,null,null,null,null,null,null,null,null,null,null,null,null,null,null,null,null,null,null,null,null,null,null,null,null,null,null,null,null,null,null,null,null,null,null,null,null,null,null,null,null,null,null,null,null,null,null,null,null,null,null,null,null,null,null,null,null,null,null,null,null,null,null,null,null,null,null,null,null,null,null,null,null,null,null,null,null,null,null,null,null,null,null,null,null,null,null,null,null,null,null,null,null,null,null,null,null,null,null,null,null,null,null,null,null,null,null,null,null,null,null,null,null,null,null,null,null,null,null,null,null,null,null,null,null,null,null,null,null,null,null,null,null,null,null,null,null,null,null,null,null,null,null,null,null,null,null,null,null,null,null,null,null,null,null,null,null,null,null,null,null,null,null,null,null,null,null,null,null,"2018-06-13","2018-06-19",0]
[47,"2018-09-19","2018-09-25","2018-09-19",{"$f":"OFFSET('input ไม้ผล'!$B$8,$A49,$D$1,1,1)","v":1197},null,47,{"$f":"IF(G49=0,0,OFFSET(Kc!$A$2,1+G49,MATCH($H$1,List_Kc_ALL,0),1,1))","v":1.24},null,null,null,9,{"$f":"OFFSET(ETO!$C$3,$M$2,$L49,1,1)*7","v":23.939999999999998},null,{"$f":"OFFSET('input ไม้ผล'!$B$4,0,$D$1,1,1)","v":7},13406.4,null,{"$f":"OFFSET('input ไม้ผล'!$B$5,0,$D$1,1,1)","v":30},0,null,30,{"$f":"ROUND(OFFSET(ฝนใช้การ!$P$2,$U$2,$L49,1,1)*7/$U49,2)","v":29.8},57072.959999999999,null,35533.663199999995,0,0,null,null,null,null,null,null,null,null,null,null,null,null,null,null,null,null,null,null,null,null,null,null,null,null,null,null,null,null,null,null,null,null,null,null,null,null,null,null,null,null,null,null,null,null,null,null,null,null,null,null,null,null,null,null,null,null,null,null,null,null,null,null,null,null,null,null,null,null,null,null,null,null,null,null,null,null,null,null,null,null,null,null,null,null,null,null,null,null,null,null,null,null,null,null,null,null,null,null,null,null,null,null,null,null,null,null,null,null,null,null,null,null,null,null,null,null,null,null,null,null,null,null,null,null,null,null,null,null,null,null,null,null,null,null,null,null,null,null,null,null,null,null,null,null,null,null,null,null,null,null,null,null,null,null,null,null,null,null,null,null,null,null,null,null,null,null,null,null,null,null,null,null,null,null,null,null,null,null,null,null,null,null,null,null,null,null,null,null,null,null,null,null,"2018-06-20","2018-06-26",0]
[48,"2018-09-26","2018-10-02","2018-09-26",{"$f":"OFFSET('input ไม้ผล'!$B$8,$A50,$D$1,1,1)","v":1197},null,48,{"$f":"IF(G50=0,0,OFFSET(Kc!$A$2,1+G50,MATCH($H$1,List_Kc_ALL,0),1,1))","v":1.24},null,null,null,9,{"$f":"OFFSET(ETO!$C$3,$M$2,$L50,1,1)*7","v":23.939999999999998},null,{"$f":"OFFSET('input ไม้ผล'!$B$4,0,$D$1,1,1)","v":7},13406.4,null,{"$f":"OFFSET('input ไม้ผล'!$B$5,0,$D$1,1,1)","v":30},0,null,30,{"$f":"ROUND(OFFSET(ฝนใช้การ!$P$2,$U$2,$L50,1,1)*7/$U50,2)","v":29.8},57072.959999999999,null,35533.663199999995,0,0,null,null,null,null,null,null,null,null,null,null,null,null,null,null,null,null,null,null,null,null,null,null,null,null,null,null,null,null,null,null,null,null,null,null,null,null,null,null,null,null,null,null,null,null,null,null,null,null,null,null,null,null,null,null,null,null,null,null,null,null,null,null,null,null,null,null,null,null,null,null,null,null,null,null,null,null,null,null,null,null,null,null,null,null,null,null,null,null,null,null,null,null,null,null,null,null,null,null,null,null,null,null,null,null,null,null,null,null,null,null,null,null,null,null,null,null,null,null,null,null,null,null,null,null,null,null,null,null,null,null,null,null,null,null,null,null,null,null,null,null,null,null,null,null,null,null,null,null,null,null,null,null,null,null,null,null,null,null,null,null,null,null,null,null,null,null,null,null,null,null,null,null,null,null,null,null,null,null,null,null,null,null,null,null,null,null,null,null,null,null,null,null,"2018-06-27","2018-07-03",0]
[49,"2018-10-03","2018-10-09","2018-10-03",{"$f":"OFFSET('input ไม้ผล'!$B$8,$A51,$D$1,1,1)","v":1197},null,49,{"$f":"IF(G51=0,0,OFFSET(Kc!$A$2,1+G51,MATCH($H$1,List_Kc_ALL,0),1,1))","v":1.19},null,null,null,10,{"$f":"OFFSET(ETO!$C$3,$M$2,$L51,1,1)*7","v":22.82},null,{"$f":"OFFSET('input ไม้ผล'!$B$4,0,$D$1,1,1)","v":7},13406.4,null,{"$f":"OFFSET('input ไม้ผล'!$B$5,0,$D$1,1,1)","v":30},0,null,31,{"$f":"ROUND(OFFSET(ฝนใช้การ!$P$2,$U$2,$L51,1,1)*7/$U51,2)","v":16.55},31696.560000000001,null,32505.492599999998,14215.332599999998,15794.813999999997,null,null,null,null,null,null,null,null,null,null,null,null,null,null,null,null,null,null,null,null,null,null,null,null,null,null,null,null,null,null,null,null,null,null,null,null,null,null,null,null,null,null,null,null,null,null,null,null,null,null,null,null,null,null,null,null,null,null,null,null,null,null,null,null,null,null,null,null,null,null,null,null,null,null,null,null,null,null,null,null,null,null,null,null,null,null,null,null,null,null,null,null,null,null,null,null,null,null,null,null,null,null,null,null,null,null,null,null,null,null,null,null,null,null,null,null,null,null,null,null,null,null,null,null,null,null,null,null,null,null,null,null,null,null,null,null,null,null,null,null,null,null,null,null,null,null,null,null,null,null,null,null,null,null,null,null,null,null,null,null,null,null,null,null,null,null,null,null,null,null,null,null,null,null,null,null,null,null,null,null,null,null,null,null,null,null,null,null,null,null,null,null,"2018-07-04","2018-07-10",15794.813999999997]
[50,"2018-10-10","2018-10-16","2018-10-10",{"$f":"OFFSET('input ไม้ผล'!$B$8,$A52,$D$1,1,1)","v":1197},null,50,{"$f":"IF(G52=0,0,OFFSET(Kc!$A$2,1+G52,MATCH($H$1,List_Kc_ALL,0),1,1))","v":1.19},null,null,null,10,{"$f":"OFFSET(ETO!$C$3,$M$2,$L52,1,1)*7","v":22.82},null,{"$f":"OFFSET('input ไม้ผล'!$B$4,0,$D$1,1,1)","v":7},13406.4,null,{"$f":"OFFSET('input ไม้ผล'!$B$5,0,$D$1,1,1)","v":30},0,null,31,{"$f":"ROUND(OFFSET(ฝนใช้การ!$P$2,$U$2,$L52,1,1)*7/$U52,2)","v":16.55},31696.560000000001,null,32505.492599999998,14215.332599999998,15794.813999999997,null,null,null,null,null,null,null,null,null,null,null,null,null,null,null,null,null,null,null,null,null,null,null,null,null,null,null,null,null,null,null,null,null,null,null,null,null,null,null,null,null,null,null,null,null,null,null,null,null,null,null,null,null,null,null,null,null,null,null,null,null,null,null,null,null,null,null,null,null,null,null,null,null,null,null,null,null,null,null,null,null,null,null,null,null,null,null,null,null,null,null,null,null,null,null,null,null,null,null,null,null,null,null,null,null,null,null,null,null,null,null,null,null,null,null,null,null,null,null,null,null,null,null,null,null,null,null,null,null,null,null,null,null,null,null,null,null,null,null,null,null,null,null,null,null,null,null,null,null,null,null,null,null,null,null,null,null,null,null,null,null,null,null,null,null,null,null,null,null,null,null,null,null,null,null,null,null,null,null,null,null,null,null,null,null,null,null,null,null,null,null,null,"2018-07-11","2018-07-17",15794.813999999997]
[51,"2018-10-17","2018-10-23","2018-10-17",{"$f":"OFFSET('input ไม้ผล'!$B$8,$A53,$D$1,1,1)","v":1197},null,51,{"$f":"IF(G53=0,0,OFFSET(Kc!$A$2,1+G53,MATCH($H$1,List_Kc_ALL,0),1,1))","v":1.19},null,null,null,10,{"$f":"OFFSET(ETO!$C$3,$M$2,$L53,1,1)*7","v":22.82},null,{"$f":"OFFSET('input ไม้ผล'!$B$4,0,$D$1,1,1)","v":7},13406.4,null,{"$f":"OFFSET('input ไม้ผล'!$B$5,0,$D$1,1,1)","v":30},0,null,31,{"$f":"ROUND(OFFSET(ฝนใช้การ!$P$2,$U$2,$L53,1,1)*7/$U53,2)","v":16.55},31696.560000000001,null,32505.492599999998,14215.332599999998,15794.813999999997,null,null,null,null,null,null,null,null,null,null,null,null,null,null,null,null,null,null,null,null,null,null,null,null,null,null,null,null,null,null,null,null,null,null,null,null,null,null,null,null,null,null,null,null,null,null,null,null,null,null,null,null,null,null,null,null,null,null,null,null,null,null,null,null,null,null,null,null,null,null,null,null,null,null,null,null,null,null,null,null,null,null,null,null,null,null,null,null,null,null,null,null,null,null,null,null,null,null,null,null,null,null,null,null,null,null,null,null,null,null,null,null,null,null,null,null,null,null,null,null,null,null,null,null,null,null,null,null,null,null,null,null,null,null,null,null,null,null,null,null,null,null,null,null,null,null,null,null,null,null,null,null,null,null,null,null,null,null,null,null,null,null,null,null,null,null,null,null,null,null,null,null,null,null,null,null,null,null,null,null,null,null,null,null,null,null,null,null,null,null,null,null,{"$f":"+HL52+7","v":"2018-07-18"},"2018-07-24",15794.813999999997]
[52,"2018-10-24","2018-10-30","2018-10-24",{"$f":"OFFSET('input ไม้ผล'!$B$8,$A54,$D$1,1,1)","v":1197},null,52,{"$f":"IF(G54=0,0,OFFSET(Kc!$A$2,1+G54,MATCH($H$1,List_Kc_ALL,0),1,1))","v":1.19},null,null,null,10,{"$f":"OFFSET(ETO!$C$3,$M$2,$L54,1,1)*7","v":22.82},null,{"$f":"OFFSET('input ไม้ผล'!$B$4,0,$D$1,1,1)","v":7},13406.4,null,{"$f":"OFFSET('input ไม้ผล'!$B$5,0,$D$1,1,1)","v":30},0,null,31,{"$f":"ROUND(OFFSET(ฝนใช้การ!$P$2,$U$2,$L54,1,1)*7/$U54,2)","v":16.55},31696.560000000001,null,32505.492599999998,14215.332599999998,15794.813999999997,null,null,null,null,null,null,null,null,null,null,null,null,null,null,null,null,null,null,null,null,null,null,null,null,null,null,null,null,null,null,null,null,null,null,null,null,null,null,null,null,null,null,null,null,null,null,null,null,null,null,null,null,null,null,null,null,null,null,null,null,null,null,null,null,null,null,null,null,null,null,null,null,null,null,null,null,null,null,null,null,null,null,null,null,null,null,null,null,null,null,null,null,null,null,null,null,null,null,null,null,null,null,null,null,null,null,null,null,null,null,null,null,null,null,null,null,null,null,null,null,null,null,null,null,null,null,null,null,null,null,null,null,null,null,null,null,null,null,null,null,null,null,null,null,null,null,null,null,null,null,null,null,null,null,null,null,null,null,null,null,null,null,null,null,null,null,null,null,null,null,null,null,null,null,null,null,null,null,null,null,null,null,null,null,null,null,null,null,null,null,null,null,"2018-07-25","2018-07-31",15794.813999999997]
[53,"2018-10-31","2018-11-06","2018-10-31",{"$f":"OFFSET('input ไม้ผล'!$B$8,$A55,$D$1,1,1)","v":0},null,{"$f":"G3","v":1},{"$f":"IF(G55=0,0,OFFSET(Kc!$A$2,1+G55,MATCH($H$1,List_Kc_ALL,0),1,1))","v":2.1},null,null,null,10,{"$f":"OFFSET(ETO!$C$3,$M$2,$L55,1,1)*7","v":22.82},null,{"$f":"OFFSET('input ไม้ผล'!$B$4,0,$D$1,1,1)","v":7},0,null,{"$f":"OFFSET('input ไม้ผล'!$B$5,0,$D$1,1,1)","v":30},0,null,31,{"$f":"ROUND(OFFSET(ฝนใช้การ!$P$2,$U$2,$L55,1,1)*7/$U55,2)","v":16.55},0,null,0,0,0,null,null,null,null,null,null,null,null,null,null,null,null,null,null,null,null,null,null,null,null,null,null,null,null,null,null,null,null,null,null,null,null,null,null,null,null,null,null,null,null,null,null,null,null,null,null,null,null,null,null,null,null,null,null,null,null,null,null,null,null,null,null,null,null,null,null,null,null,null,null,null,null,null,null,null,null,null,null,null,null,null,null,null,null,null,null,null,null,null,null,null,null,null,null,null,null,null,null,null,null,null,null,null,null,null,null,null,null,null,null,null,null,null,null,null,null,null,null,null,null,null,null,null,null,null,null,null,null,null,null,null,null,null,null,null,null,null,null,null,null,null,null,null,null,null,null,null,null,null,null,null,null,null,null,null,null,null,null,null,null,null,null,null,null,null,null,null,null,null,null,null,null,null,null,null,null,null,null,null,null,null,null,null,null,null,null,null,null,null,null,null,null,"2018-08-01","2018-08-07",0]

{"sheet":"ไม้ยืนต้น","index":21,"n_rows":55,"n_cols":222,"rows_kept":55,"cut":false,"hidden":false,"merged":[[0,14,0,15],[0,17,0,18],[0,21,0,22]]}
[null,"ช่วงเวลาสัปดาห์",null,{"$f":"รายงาน!O1","v":1},{"$f":"OFFSET('input ไม้ยืนต้น'!$B$2,0,$D$1,1,1)","v":"พลเทพ"},null,{"$f":"OFFSET(Kc!$A$2,0,MATCH($H$1,List_Kc_ALL,0),1,1)","v":52},{"$f":"OFFSET('input ไม้ยืนต้น'!$B$7,0,$D$1,1,1)","v":"มะม่วง"},null,null,null,{"$f":"OFFSET('input ไม้ยืนต้น'!$B$3,0,D1,1,1)","v":"ชัยนาท"},"Eto/Week",null,"รั่วซึม",null,null,"น้ำเตรียมแปลง ",null,null,{"$f":"L1","v":"ชัยนาท"},"ฝนใช้การ",null,null,"KC*Eto*ไร่ (ลบ.ม./สัปดาห์)","ความต้องการน้ำ (ลบ.ม.)","ปริมาณน้ำที่ต้องส่ง","ประสิทธิภาพชลประทาน",null,null,null,null,null,null,null,null,null,null,null,null,null,null,null,null,null,null,null,null,null,null,null,null,null,null,null,null,null,null,null,null,null,null,null,null,null,null,null,null,null,null,null,null,null,null,null,null,null,null,null,null,null,null,null,null,null,null,null,null,null,null,null,null,null,null,null,null,null,null,null,null,null,null,null,null,null,null,null,null,null,null,null,null,null,null,null,null,null,null,null,null,null,null,null,null,null,null,null,null,null,null,null,null,null,null,null,null,null,null,null,null,null,null,null,null,null,null,null,null,null,null,null,null,null,null,null,null,null,null,null,null,null,null,null,null,null,null,null,null,null,null,null,null,null,null,null,null,null,null,null,null,null,null,null,null,null,null,null,null,null,null,null,null,null,null,null,null,null,null,null,null,null,null,null,null,null,null,null,null,null,null,null,null,null,null,null,null,null,null,null,"ช่วงเวลาสัปดาห์",null,"ปริมาณน้ำที่ต้องส่ง"]
[null,"เริ่มต้น","สิ้นสุด","เดือน","จำนวนไร่",null,"N.Week","KC Week",null,"เดือน","จำนวนวัน",{"$f":"VLOOKUP(L1,ETO!$T$4:$U$80,2,FALSE)","v":"สถานีฯเกษตร ชัยนาท"},{"$f":"MATCH($L$2,ETO!$B$4:$B$131,0)","v":64},null,"มม./เดือน","ลบ.ม.",null,"มม.","ลบ.ม.",null,{"$f":"MATCH(U1,ฝนใช้การ!$A$3:$A$78,0)","v":17},"มม./เดือน","ลบ.ม.",null,"รวม","รวม","รวม (ลบ.ม.)",{"$f":"OFFSET('input ไม้ยืนต้น'!$B$6,0,$D$1,1,1)","v":90},null,null,null,null,null,null,null,null,null,null,null,null,null,null,null,null,null,null,null,null,null,null,null,null,null,null,null,null,null,null,null,null,null,null,null,null,null,null,null,null,null,null,null,null,null,null,null,null,null,null,null,null,null,null,null,null,null,null,null,null,null,null,null,null,null,null,null,null,null,null,null,null,null,null,null,null,null,null,null,null,null,null,null,null,null,null,null,null,null,null,null,null,null,null,null,null,null,null,null,null,null,null,null,null,null,null,null,null,null,null,null,null,null,null,null,null,null,null,null,null,null,null,null,null,null,null,null,null,null,null,null,null,null,null,null,null,null,null,null,null,null,null,null,null,null,null,null,null,null,null,null,null,null,null,null,null,null,null,null,null,null,null,null,null,null,null,null,null,null,null,null,null,null,null,null,null,null,null,null,null,null,null,null,null,null,null,null,null,null,null,null,"เริ่มต้น","สิ้นสุด","รวม (ลบ.ม.)"]
[1,{"$f":"ข้าว!B16","v":"2017-11-01"},{"$f":"+B3+6","v":"2017-11-07"},{"$f":"+B3","v":"2017-11-01"},{"$f":"OFFSET('input ไม้ยืนต้น'!$B$8,$A3,$D$1,1,1)","v":0},null,{"$f":"IF(A3<=$G$1,A3,0)","v":1},{"$f":"IF(G3=0,0,OFFSET(Kc!$A$2,1+G3,MATCH($H$1,List_Kc_ALL,0),1,1))","v":2.1},null,1,31,{"$f":"MONTH(D3)","v":11},{"$f":"OFFSET(ETO!$C$3,$M$2,$L3,1,1)*7","v":23.17},null,{"$f":"OFFSET('input ไม้ยืนต้น'!$B$4,0,$D$1,1,1)","v":7},{"$f":"($O3/1000)*$E3*1600","v":0},null,{"$f":"OFFSET('input ไม้ยืนต้น'!$B$5,0,$D$1,1,1)","v":30},{"$f":"($R3/1000)*E3*1600","v":0},null,{"$f":"VLOOKUP(L3,$J$3:$K$14,2,TRUE)","v":30},{"$f":"ROUND(OFFSET(ฝนใช้การ!$P$2,$U$2,$L3,1,1)*7/$U3,2)","v":5.04},{"$f":"ROUND((V3/1000)*E3*1600,2)","v":0},null,{"$f":"H3*M3*E3","v":0},{"$f":"IF(P3+S3+Y3-W3>0,P3+S3+Y3-W3,0)","v":0},{"$f":"Z3*100/$AB$2","v":0},null,null,null,null,null,null,null,null,null,null,null,null,null,null,null,null,null,null,null,null,null,null,null,null,null,null,null,null,null,null,null,null,null,null,null,null,null,null,null,null,null,null,null,null,null,null,null,null,null,null,null,null,null,null,null,null,null,null,null,null,null,null,null,null,null,null,null,null,null,null,null,null,null,null,null,null,null,null,null,null,null,null,null,null,null,null,null,null,null,null,null,null,null,null,null,null,null,null,null,null,null,null,null,null,null,null,null,null,null,null,null,null,null,null,null,null,null,null,null,null,null,null,null,null,null,null,null,null,null,null,null,null,null,null,null,null,null,null,null,null,null,null,null,null,null,null,null,null,null,null,null,null,null,null,null,null,null,null,null,null,null,null,null,null,null,null,null,null,null,null,null,null,null,null,null,null,null,null,null,null,null,null,null,null,null,null,null,null,null,null,null,null,{"$f":"'input ข้าว'!A9","v":"2017-08-02"},{"$f":"+HL3+6","v":"2017-08-08"},{"$f":"AA3","v":0}]
[2,{"$f":"+B3+7","v":"2017-11-08"},{"$f":"+C3+7","v":"2017-11-14"},{"$f":"+B4","v":"2017-11-08"},{"$f":"OFFSET('input ไม้ยืนต้น'!$B$8,$A4,$D$1,1,1)","v":0},null,2,{"$f":"IF(G4=0,0,OFFSET(Kc!$A$2,1+G4,MATCH($H$1,List_Kc_ALL,0),1,1))","v":2.1},null,2,28,11,{"$f":"OFFSET(ETO!$C$3,$M$2,$L4,1,1)*7","v":23.17},null,{"$f":"OFFSET('input ไม้ยืนต้น'!$B$4,0,$D$1,1,1)","v":7},{"$f":"($O4/1000)*$E4*1600","v":0},null,{"$f":"OFFSET('input ไม้ยืนต้น'!$B$5,0,$D$1,1,1)","v":30},{"$f":"($R4/1000)*IF(E4>E3,E4-E3,0)*1600","v":0},null,{"$f":"VLOOKUP(L4,$J$3:$K$14,2,TRUE)","v":30},{"$f":"ROUND(OFFSET(ฝนใช้การ!$P$2,$U$2,$L4,1,1)*7/$U4,2)","v":5.04},0,null,{"$f":"H4*M4*E4","v":0},{"$f":"IF(P4+S4+Y4-W4>0,P4+S4+Y4-W4,0)","v":0},{"$f":"Z4*100/$AB$2","v":0},null,null,null,null,null,null,null,null,null,null,null,null,null,null,null,null,null,null,null,null,null,null,null,null,null,null,null,null,null,null,null,null,null,null,null,null,null,null,null,null,null,null,null,null,null,null,null,null,null,null,null,null,null,null,null,null,null,null,null,null,null,null,null,null,null,null,null,null,null,null,null,null,null,null,null,null,null,null,null,null,null,null,null,null,null,null,null,null,null,null,null,null,null,null,null,null,null,null,null,null,null,null,null,null,null,null,null,null,null,null,null,null,null,null,null,null,null,null,null,null,null,null,null,null,null,null,null,null,null,null,null,null,null,null,null,null,null,null,null,null,null,null,null,null,null,null,null,null,null,null,null,null,null,null,null,null,null,null,null,null,null,null,null,null,null,null,null,null,null,null,null,null,null,null,null,null,null,null,null,null,null,null,null,null,null,null,null,null,null,null,null,null,{"$f":"+HL3+7","v":"2017-08-09"},{"$f":"+HM3+7","v":"2017-08-15"},{"$f":"AA4","v":0}]
[3,{"$f":"+B4+7","v":"2017-11-15"},"2017-11-21","2017-11-15",{"$f":"OFFSET('input ไม้ยืนต้น'!$B$8,$A5,$D$1,1,1)","v":0},null,3,{"$f":"IF(G5=0,0,OFFSET(Kc!$A$2,1+G5,MATCH($H$1,List_Kc_ALL,0),1,1))","v":2.1},null,3,31,11,{"$f":"OFFSET(ETO!$C$3,$M$2,$L5,1,1)*7","v":23.17},null,{"$f":"OFFSET('input ไม้ยืนต้น'!$B$4,0,$D$1,1,1)","v":7},0,null,{"$f":"OFFSET('input ไม้ยืนต้น'!$B$5,0,$D$1,1,1)","v":30},{"$f":"($R5/1000)*IF(E5>E4,E5-E4,0)*1600","v":0},null,30,{"$f":"ROUND(OFFSET(ฝนใช้การ!$P$2,$U$2,$L5,1,1)*7/$U5,2)","v":5.04},0,null,0,0,0,null,null,null,null,null,null,null,null,null,null,null,null,null,null,null,null,null,null,null,null,null,null,null,null,null,null,null,null,null,null,null,null,null,null,null,null,null,null,null,null,null,null,null,null,null,null,null,null,null,null,null,null,null,null,null,null,null,null,null,null,null,null,null,null,null,null,null,null,null,null,null,null,null,null,null,null,null,null,null,null,null,null,null,null,null,null,null,null,null,null,null,null,null,null,null,null,null,null,null,null,null,null,null,null,null,null,null,null,null,null,null,null,null,null,null,null,null,null,null,null,null,null,null,null,null,null,null,null,null,null,null,null,null,null,null,null,null,null,null,null,null,null,null,null,null,null,null,null,null,null,null,null,null,null,null,null,null,null,null,null,null,null,null,null,null,null,null,null,null,null,null,null,null,null,null,null,null,null,null,null,null,null,null,null,null,null,null,null,null,null,null,null,{"$f":"+HL4+7","v":"2017-08-16"},"2017-08-22",0]
[4,"2017-11-22","2017-11-28","2017-11-22",{"$f":"OFFSET('input ไม้ยืนต้น'!$B$8,$A6,$D$1,1,1)","v":0},null,4,{"$f":"IF(G6=0,0,OFFSET(Kc!$A$2,1+G6,MATCH($H$1,List_Kc_ALL,0),1,1))","v":2.1},null,4,30,11,{"$f":"OFFSET(ETO!$C$3,$M$2,$L6,1,1)*7","v":23.17},null,{"$f":"OFFSET('input ไม้ยืนต้น'!$B$4,0,$D$1,1,1)","v":7},0,null,{"$f":"OFFSET('input ไม้ยืนต้น'!$B$5,0,$D$1,1,1)","v":30},0,null,30,{"$f":"ROUND(OFFSET(ฝนใช้การ!$P$2,$U$2,$L6,1,1)*7/$U6,2)","v":5.04},0,null,0,0,0,null,null,null,null,null,null,null,null,null,null,null,null,null,null,null,null,null,null,null,null,null,null,null,null,null,null,null,null,null,null,null,null,null,null,null,null,null,null,null,null,null,null,null,null,null,null,null,null,null,null,null,null,null,null,null,null,null,null,null,null,null,null,null,null,null,null,null,null,null,null,null,null,null,null,null,null,null,null,null,null,null,null,null,null,null,null,null,null,null,null,null,null,null,null,null,null,null,null,null,null,null,null,null,null,null,null,null,null,null,null,null,null,null,null,null,null,null,null,null,null,null,null,null,null,null,null,null,null,null,null,null,null,null,null,null,null,null,null,null,null,null,null,null,null,null,null,null,null,null,null,null,null,null,null,null,null,null,null,null,null,null,null,null,null,null,null,null,null,null,null,null,null,null,null,null,null,null,null,null,null,null,null,null,null,null,null,null,null,null,null,null,null,"2017-08-23","2017-08-29",0]
[5,"2017-11-29","2017-12-05","2017-11-29",{"$f":"OFFSET('input ไม้ยืนต้น'!$B$8,$A7,$D$1,1,1)","v":0},null,5,{"$f":"IF(G7=0,0,OFFSET(Kc!$A$2,1+G7,MATCH($H$1,List_Kc_ALL,0),1,1))","v":2.46},null,5,31,11,{"$f":"OFFSET(ETO!$C$3,$M$2,$L7,1,1)*7","v":23.17},null,{"$f":"OFFSET('input ไม้ยืนต้น'!$B$4,0,$D$1,1,1)","v":7},0,null,{"$f":"OFFSET('input ไม้ยืนต้น'!$B$5,0,$D$1,1,1)","v":30},0,null,30,{"$f":"ROUND(OFFSET(ฝนใช้การ!$P$2,$U$2,$L7,1,1)*7/$U7,2)","v":5.04},0,null,0,0,0,null,null,null,null,null,null,null,null,null,null,null,null,null,null,null,null,null,null,null,null,null,null,null,null,null,null,null,null,null,null,null,null,null,null,null,null,null,null,null,null,null,null,null,null,null,null,null,null,null,null,null,null,null,null,null,null,null,null,null,null,null,null,null,null,null,null,null,null,null,null,null,null,null,null,null,null,null,null,null,null,null,null,null,null,null,null,null,null,null,null,null,null,null,null,null,null,null,null,null,null,null,null,null,null,null,null,null,null,null,null,null,null,null,null,null,null,null,null,null,null,null,null,null,null,null,null,null,null,null,null,null,null,null,null,null,null,null,null,null,null,null,null,null,null,null,null,null,null,null,null,null,null,null,null,null,null,null,null,null,null,null,null,null,null,null,null,null,null,null,null,null,null,null,null,null,null,null,null,null,null,null,null,null,null,null,null,null,null,null,null,null,null,"2017-08-30","2017-09-05",0]
[6,"2017-12-06","2017-12-12","2017-12-06",{"$f":"OFFSET('input ไม้ยืนต้น'!$B$8,$A8,$D$1,1,1)","v":0},null,6,{"$f":"IF(G8=0,0,OFFSET(Kc!$A$2,1+G8,MATCH($H$1,List_Kc_ALL,0),1,1))","v":2.46},null,6,30,12,{"$f":"OFFSET(ETO!$C$3,$M$2,$L8,1,1)*7","v":22.47},null,{"$f":"OFFSET('input ไม้ยืนต้น'!$B$4,0,$D$1,1,1)","v":7},0,null,{"$f":"OFFSET('input ไม้ยืนต้น'!$B$5,0,$D$1,1,1)","v":30},0,null,31,{"$f":"ROUND(OFFSET(ฝนใช้การ!$P$2,$U$2,$L8,1,1)*7/$U8,2)","v":1.1299999999999999},0,null,0,0,0,null,null,null,null,null,null,null,null,null,null,null,null,null,null,null,null,null,null,null,null,null,null,null,null,null,null,null,null,null,null,null,null,null,null,null,null,null,null,null,null,null,null,null,null,null,null,null,null,null,null,null,null,null,null,null,null,null,null,null,null,null,null,null,null,null,null,null,null,null,null,null,null,null,null,null,null,null,null,null,null,null,null,null,null,null,null,null,null,null,null,null,null,null,null,null,null,null,null,null,null,null,null,null,null,null,null,null,null,null,null,null,null,null,null,null,null,null,null,null,null,null,null,null,null,null,null,null,null,null,null,null,null,null,null,null,null,null,null,null,null,null,null,null,null,null,null,null,null,null,null,null,null,null,null,null,null,null,null,null,null,null,null,null,null,null,null,null,null,null,null,null,null,null,null,null,null,null,null,null,null,null,null,null,null,null,null,null,null,null,null,null,null,"2017-09-06","2017-09-12",0]
[7,"2017-12-13","2017-12-19","2017-12-13",{"$f":"OFFSET('input ไม้ยืนต้น'!$B$8,$A9,$D$1,1,1)","v":0},null,7,{"$f":"IF(G9=0,0,OFFSET(Kc!$A$2,1+G9,MATCH($H$1,List_Kc_ALL,0),1,1))","v":2.46},null,7,31,12,{"$f":"OFFSET(ETO!$C$3,$M$2,$L9,1,1)*7","v":22.47},null,{"$f":"OFFSET('input ไม้ยืนต้น'!$B$4,0,$D$1,1,1)","v":7},0,null,{"$f":"OFFSET('input ไม้ยืนต้น'!$B$5,0,$D$1,1,1)","v":30},0,null,31,{"$f":"ROUND(OFFSET(ฝนใช้การ!$P$2,$U$2,$L9,1,1)*7/$U9,2)","v":1.1299999999999999},0,null,0,0,0,null,null,null,null,null,null,null,null,null,null,null,null,null,null,null,null,null,null,null,null,null,null,null,null,null,null,null,null,null,null,null,null,null,null,null,null,null,null,null,null,null,null,null,null,null,null,null,null,null,null,null,null,null,null,null,null,null,null,null,null,null,null,null,null,null,null,null,null,null,null,null,null,null,null,null,null,null,null,null,null,null,null,null,null,null,null,null,null,null,null,null,null,null,null,null,null,null,null,null,null,null,null,null,null,null,null,null,null,null,null,null,null,null,null,null,null,null,null,null,null,null,null,null,null,null,null,null,null,null,null,null,null,null,null,null,null,null,null,null,null,null,null,null,null,null,null,null,null,null,null,null,null,null,null,null,null,null,null,null,null,null,null,null,null,null,null,null,null,null,null,null,null,null,null,null,null,null,null,null,null,null,null,null,null,null,null,null,null,null,null,null,null,"2017-09-13","2017-09-19",0]
[8,"2017-12-20","2017-12-26","2017-12-20",{"$f":"OFFSET('input ไม้ยืนต้น'!$B$8,$A10,$D$1,1,1)","v":0},null,8,{"$f":"IF(G10=0,0,OFFSET(Kc!$A$2,1+G10,MATCH($H$1,List_Kc_ALL,0),1,1))","v":2.46},null,8,31,12,{"$f":"OFFSET(ETO!$C$3,$M$2,$L10,1,1)*7","v":22.47},null,{"$f":"OFFSET('input ไม้ยืนต้น'!$B$4,0,$D$1,1,1)","v":7},0,null,{"$f":"OFFSET('input ไม้ยืนต้น'!$B$5,0,$D$1,1,1)","v":30},0,null,31,{"$f":"ROUND(OFFSET(ฝนใช้การ!$P$2,$U$2,$L10,1,1)*7/$U10,2)","v":1.1299999999999999},0,null,0,0,0,null,null,null,null,null,null,null,null,null,null,null,null,null,null,null,null,null,null,null,null,null,null,null,null,null,null,null,null,null,null,null,null,null,null,null,null,null,null,null,null,null,null,null,null,null,null,null,null,null,null,null,null,null,null,null,null,null,null,null,null,null,null,null,null,null,null,null,null,null,null,null,null,null,null,null,null,null,null,null,null,null,null,null,null,null,null,null,null,null,null,null,null,null,null,null,null,null,null,null,null,null,null,null,null,null,null,null,null,null,null,null,null,null,null,null,null,null,null,null,null,null,null,null,null,null,null,null,null,null,null,null,null,null,null,null,null,null,null,null,null,null,null,null,null,null,null,null,null,null,null,null,null,null,null,null,null,null,null,null,null,null,null,null,null,null,null,null,null,null,null,null,null,null,null,null,null,null,null,null,null,null,null,null,null,null,null,null,null,null,null,null,null,"2017-09-20","2017-09-26",0]
[9,"2017-12-27","2018-01-02","2017-12-27",{"$f":"OFFSET('input ไม้ยืนต้น'!$B$8,$A11,$D$1,1,1)","v":0},null,9,{"$f":"IF(G11=0,0,OFFSET(Kc!$A$2,1+G11,MATCH($H$1,List_Kc_ALL,0),1,1))","v":2.46},null,9,30,12,{"$f":"OFFSET(ETO!$C$3,$M$2,$L11,1,1)*7","v":22.47},null,{"$f":"OFFSET('input ไม้ยืนต้น'!$B$4,0,$D$1,1,1)","v":7},0,null,{"$f":"OFFSET('input ไม้ยืนต้น'!$B$5,0,$D$1,1,1)","v":30},0,null,31,{"$f":"ROUND(OFFSET(ฝนใช้การ!$P$2,$U$2,$L11,1,1)*7/$U11,2)","v":1.1299999999999999},0,null,0,0,0,null,null,null,null,null,null,null,null,null,null,null,null,null,null,null,null,null,null,null,null,null,null,null,null,null,null,null,null,null,null,null,null,null,null,null,null,null,null,null,null,null,null,null,null,null,null,null,null,null,null,null,null,null,null,null,null,null,null,null,null,null,null,null,null,null,null,null,null,null,null,null,null,null,null,null,null,null,null,null,null,null,null,null,null,null,null,null,null,null,null,null,null,null,null,null,null,null,null,null,null,null,null,null,null,null,null,null,null,null,null,null,null,null,null,null,null,null,null,null,null,null,null,null,null,null,null,null,null,null,null,null,null,null,null,null,null,null,null,null,null,null,null,null,null,null,null,null,null,null,null,null,null,null,null,null,null,null,null,null,null,null,null,null,null,null,null,null,null,null,null,null,null,null,null,null,null,null,null,null,null,null,null,null,null,null,null,null,null,null,null,null,null,"2017-09-27","2017-10-03",0]
[10,"2018-01-03","2018-01-09","2018-01-03",{"$f":"OFFSET('input ไม้ยืนต้น'!$B$8,$A12,$D$1,1,1)","v":0},null,10,{"$f":"IF(G12=0,0,OFFSET(Kc!$A$2,1+G12,MATCH($H$1,List_Kc_ALL,0),1,1))","v":2.5299999999999998},null,10,31,1,{"$f":"OFFSET(ETO!$C$3,$M$2,$L12,1,1)*7","v":23.099999999999998},null,{"$f":"OFFSET('input ไม้ยืนต้น'!$B$4,0,$D$1,1,1)","v":7},0,null,{"$f":"OFFSET('input ไม้ยืนต้น'!$B$5,0,$D$1,1,1)","v":30},0,null,31,{"$f":"ROUND(OFFSET(ฝนใช้การ!$P$2,$U$2,$L12,1,1)*7/$U12,2)","v":1.29},0,null,0,0,0,null,null,null,null,null,null,null,null,null,null,null,null,null,null,null,null,null,null,null,null,null,null,null,null,null,null,null,null,null,null,null,null,null,null,null,null,null,null,null,null,null,null,null,null,null,null,null,null,null,null,null,null,null,null,null,null,null,null,null,null,null,null,null,null,null,null,null,null,null,null,null,null,null,null,null,null,null,null,null,null,null,null,null,null,null,null,null,null,null,null,null,null,null,null,null,null,null,null,null,null,null,null,null,null,null,null,null,null,null,null,null,null,null,null,null,null,null,null,null,null,null,null,null,null,null,null,null,null,null,null,null,null,null,null,null,null,null,null,null,null,null,null,null,null,null,null,null,null,null,null,null,null,null,null,null,null,null,null,null,null,null,null,null,null,null,null,null,null,null,null,null,null,null,null,null,null,null,null,null,null,null,null,null,null,null,null,null,null,null,null,null,null,"2017-10-04","2017-10-10",0]
[11,"2018-01-10","2018-01-16","2018-01-10",{"$f":"OFFSET('input ไม้ยืนต้น'!$B$8,$A13,$D$1,1,1)","v":0},null,11,{"$f":"IF(G13=0,0,OFFSET(Kc!$A$2,1+G13,MATCH($H$1,List_Kc_ALL,0),1,1))","v":2.5299999999999998},null,11,30,1,{"$f":"OFFSET(ETO!$C$3,$M$2,$L13,1,1)*7","v":23.099999999999998},null,{"$f":"OFFSET('input ไม้ยืนต้น'!$B$4,0,$D$1,1,1)","v":7},0,null,{"$f":"OFFSET('input ไม้ยืนต้น'!$B$5,0,$D$1,1,1)","v":30},0,null,31,{"$f":"ROUND(OFFSET(ฝนใช้การ!$P$2,$U$2,$L13,1,1)*7/$U13,2)","v":1.29},0,null,0,0,0,null,null,null,null,null,null,null,null,null,null,null,null,null,null,null,null,null,null,null,null,null,null,null,null,null,null,null,null,null,null,null,null,null,null,null,null,null,null,null,null,null,null,null,null,null,null,null,null,null,null,null,null,null,null,null,null,null,null,null,null,null,null,null,null,null,null,null,null,null,null,null,null,null,null,null,null,null,null,null,null,null,null,null,null,null,null,null,null,null,null,null,null,null,null,null,null,null,null,null,null,null,null,null,null,null,null,null,null,null,null,null,null,null,null,null,null,null,null,null,null,null,null,null,null,null,null,null,null,null,null,null,null,null,null,null,null,null,null,null,null,null,null,null,null,null,null,null,null,null,null,null,null,null,null,null,null,null,null,null,null,null,null,null,null,null,null,null,null,null,null,null,null,null,null,null,null,null,null,null,null,null,null,null,null,null,null,null,null,null,null,null,null,"2017-10-11","2017-10-17",0]
[12,"2018-01-17","2018-01-23","2018-01-17",{"$f":"OFFSET('input ไม้ยืนต้น'!$B$8,$A14,$D$1,1,1)","v":0},null,12,{"$f":"IF(G14=0,0,OFFSET(Kc!$A$2,1+G14,MATCH($H$1,List_Kc_ALL,0),1,1))","v":2.5299999999999998},null,12,31,1,{"$f":"OFFSET(ETO!$C$3,$M$2,$L14,1,1)*7","v":23.099999999999998},null,{"$f":"OFFSET('input ไม้ยืนต้น'!$B$4,0,$D$1,1,1)","v":7},0,null,{"$f":"OFFSET('input ไม้ยืนต้น'!$B$5,0,$D$1,1,1)","v":30},0,null,31,{"$f":"ROUND(OFFSET(ฝนใช้การ!$P$2,$U$2,$L14,1,1)*7/$U14,2)","v":1.29},0,null,0,0,0,null,null,null,null,null,null,null,null,null,null,null,null,null,null,null,null,null,null,null,null,null,null,null,null,null,null,null,null,null,null,null,null,null,null,null,null,null,null,null,null,null,null,null,null,null,null,null,null,null,null,null,null,null,null,null,null,null,null,null,null,null,null,null,null,null,null,null,null,null,null,null,null,null,null,null,null,null,null,null,null,null,null,null,null,null,null,null,null,null,null,null,null,null,null,null,null,null,null,null,null,null,null,null,null,null,null,null,null,null,null,null,null,null,null,null,null,null,null,null,null,null,null,null,null,null,null,null,null,null,null,null,null,null,null,null,null,null,null,null,null,null,null,null,null,null,null,null,null,null,null,null,null,null,null,null,null,null,null,null,null,null,null,null,null,null,null,null,null,null,null,null,null,null,null,null,null,null,null,null,null,null,null,null,null,null,null,null,null,null,null,null,null,"2017-10-18","2017-10-24",0]
[13,"2018-01-24","2018-01-30","2018-01-24",{"$f":"OFFSET('input ไม้ยืนต้น'!$B$8,$A15,$D$1,1,1)","v":0},null,13,{"$f":"IF(G15=0,0,OFFSET(Kc!$A$2,1+G15,MATCH($H$1,List_Kc_ALL,0),1,1))","v":2.5299999999999998},null,null,null,1,{"$f":"OFFSET(ETO!$C$3,$M$2,$L15,1,1)*7","v":23.099999999999998},null,{"$f":"OFFSET('input ไม้ยืนต้น'!$B$4,0,$D$1,1,1)","v":7},0,null,{"$f":"OFFSET('input ไม้ยืนต้น'!$B$5,0,$D$1,1,1)","v":30},0,null,31,{"$f":"ROUND(OFFSET(ฝนใช้การ!$P$2,$U$2,$L15,1,1)*7/$U15,2)","v":1.29},0,null,0,0,0,null,null,null,null,null,null,null,null,null,null,null,null,null,null,null,null,null,null,null,null,null,null,null,null,null,null,null,null,null,null,null,null,null,null,null,null,null,null,null,null,null,null,null,null,null,null,null,null,null,null,null,null,null,null,null,null,null,null,null,null,null,null,null,null,null,null,null,null,null,null,null,null,null,null,null,null,null,null,null,null,null,null,null,null,null,null,null,null,null,null,null,null,null,null,null,null,null,null,null,null,null,null,null,null,null,null,null,null,null,null,null,null,null,null,null,null,null,null,null,null,null,null,null,null,null,null,null,null,null,null,null,null,null,null,null,null,null,null,null,null,null,null,null,null,null,null,null,null,null,null,null,null,null,null,null,null,null,null,null,null,null,null,null,null,null,null,null,null,null,null,null,null,null,null,null,null,null,null,null,null,null,null,null,null,null,null,null,null,null,null,null,null,"2017-10-25","2017-10-31",0]
[14,"2018-01-31","2018-02-06","2018-01-31",{"$f":"OFFSET('input ไม้ยืนต้น'!$B$8,$A16,$D$1,1,1)","v":0},null,14,{"$f":"IF(G16=0,0,OFFSET(Kc!$A$2,1+G16,MATCH($H$1,List_Kc_ALL,0),1,1))","v":2.2799999999999998},null,null,null,1,{"$f":"OFFSET(ETO!$C$3,$M$2,$L16,1,1)*7","v":23.099999999999998},null,{"$f":"OFFSET('input ไม้ยืนต้น'!$B$4,0,$D$1,1,1)","v":7},0,null,{"$f":"OFFSET('input ไม้ยืนต้น'!$B$5,0,$D$1,1,1)","v":30},0,null,31,{"$f":"ROUND(OFFSET(ฝนใช้การ!$P$2,$U$2,$L16,1,1)*7/$U16,2)","v":1.29},0,null,0,0,0,null,null,null,null,null,null,null,null,null,null,null,null,null,null,null,null,null,null,null,null,null,null,null,null,null,null,null,null,null,null,null,null,null,null,null,null,null,null,null,null,null,null,null,null,null,null,null,null,null,null,null,null,null,null,null,null,null,null,null,null,null,null,null,null,null,null,null,null,null,null,null,null,null,null,null,null,null,null,null,null,null,null,null,null,null,null,null,null,null,null,null,null,null,null,null,null,null,null,null,null,null,null,null,null,null,null,null,null,null,null,null,null,null,null,null,null,null,null,null,null,null,null,null,null,null,null,null,null,null,null,null,null,null,null,null,null,null,null,null,null,null,null,null,null,null,null,null,null,null,null,null,null,null,null,null,null,null,null,null,null,null,null,null,null,null,null,null,null,null,null,null,null,null,null,null,null,null,null,null,null,null,null,null,null,null,null,null,null,null,null,null,null,"2017-11-01","2017-11-07",0]
[15,"2018-02-07","2018-02-13","2018-02-07",{"$f":"OFFSET('input ไม้ยืนต้น'!$B$8,$A17,$D$1,1,1)","v":0},null,15,{"$f":"IF(G17=0,0,OFFSET(Kc!$A$2,1+G17,MATCH($H$1,List_Kc_ALL,0),1,1))","v":2.2799999999999998},null,null,null,2,{"$f":"OFFSET(ETO!$C$3,$M$2,$L17,1,1)*7","v":25.76},null,{"$f":"OFFSET('input ไม้ยืนต้น'!$B$4,0,$D$1,1,1)","v":7},0,null,{"$f":"OFFSET('input ไม้ยืนต้น'!$B$5,0,$D$1,1,1)","v":30},0,null,28,{"$f":"ROUND(OFFSET(ฝนใช้การ!$P$2,$U$2,$L17,1,1)*7/$U17,2)","v":2.7},0,null,0,0,0,null,null,null,null,null,null,null,null,null,null,null,null,null,null,null,null,null,null,null,null,null,null,null,null,null,null,null,null,null,null,null,null,null,null,null,null,null,null,null,null,null,null,null,null,null,null,null,null,null,null,null,null,null,null,null,null,null,null,null,null,null,null,null,null,null,null,null,null,null,null,null,null,null,null,null,null,null,null,null,null,null,null,null,null,null,null,null,null,null,null,null,null,null,null,null,null,null,null,null,null,null,null,null,null,null,null,null,null,null,null,null,null,null,null,null,null,null,null,null,null,null,null,null,null,null,null,null,null,null,null,null,null,null,null,null,null,null,null,null,null,null,null,null,null,null,null,null,null,null,null,null,null,null,null,null,null,null,null,null,null,null,null,null,null,null,null,null,null,null,null,null,null,null,null,null,null,null,null,null,null,null,null,null,null,null,null,null,null,null,null,null,null,"2017-11-08","2017-11-14",0]
[16,"2018-02-14","2018-02-20","2018-02-14",{"$f":"OFFSET('input ไม้ยืนต้น'!$B$8,$A18,$D$1,1,1)","v":0},null,16,{"$f":"IF(G18=0,0,OFFSET(Kc!$A$2,1+G18,MATCH($H$1,List_Kc_ALL,0),1,1))","v":2.2799999999999998},null,null,null,2,{"$f":"OFFSET(ETO!$C$3,$M$2,$L18,1,1)*7","v":25.76},null,{"$f":"OFFSET('input ไม้ยืนต้น'!$B$4,0,$D$1,1,1)","v":7},0,null,{"$f":"OFFSET('input ไม้ยืนต้น'!$B$5,0,$D$1,1,1)","v":30},0,null,28,{"$f":"ROUND(OFFSET(ฝนใช้การ!$P$2,$U$2,$L18,1,1)*7/$U18,2)","v":2.7},0,null,0,0,0,null,null,null,null,null,null,null,null,null,null,null,null,null,null,null,null,null,null,null,null,null,null,null,null,null,null,null,null,null,null,null,null,null,null,null,null,null,null,null,null,null,null,null,null,null,null,null,null,null,null,null,null,null,null,null,null,null,null,null,null,null,null,null,null,null,null,null,null,null,null,null,null,null,null,null,null,null,null,null,null,null,null,null,null,null,null,null,null,null,null,null,null,null,null,null,null,null,null,null,null,null,null,null,null,null,null,null,null,null,null,null,null,null,null,null,null,null,null,null,null,null,null,null,null,null,null,null,null,null,null,null,null,null,null,null,null,null,null,null,null,null,null,null,null,null,null,null,null,null,null,null,null,null,null,null,null,null,null,null,null,null,null,null,null,null,null,null,null,null,null,null,null,null,null,null,null,null,null,null,null,null,null,null,null,null,null,null,null,null,null,null,null,"2017-11-15","2017-11-21",0]
[17,"2018-02-21","2018-02-27","2018-02-21",{"$f":"OFFSET('input ไม้ยืนต้น'!$B$8,$A19,$D$1,1,1)","v":0},null,17,{"$f":"IF(G19=0,0,OFFSET(Kc!$A$2,1+G19,MATCH($H$1,List_Kc_ALL,0),1,1))","v":2.2799999999999998},null,null,null,2,{"$f":"OFFSET(ETO!$C$3,$M$2,$L19,1,1)*7","v":25.76},null,{"$f":"OFFSET('input ไม้ยืนต้น'!$B$4,0,$D$1,1,1)","v":7},0,null,{"$f":"OFFSET('input ไม้ยืนต้น'!$B$5,0,$D$1,1,1)","v":30},0,null,28,{"$f":"ROUND(OFFSET(ฝนใช้การ!$P$2,$U$2,$L19,1,1)*7/$U19,2)","v":2.7},0,null,0,0,0,null,null,null,null,null,null,null,null,null,null,null,null,null,null,null,null,null,null,null,null,null,null,null,null,null,null,null,null,null,null,null,null,null,null,null,null,null,null,null,null,null,null,null,null,null,null,null,null,null,null,null,null,null,null,null,null,null,null,null,null,null,null,null,null,null,null,null,null,null,null,null,null,null,null,null,null,null,null,null,null,null,null,null,null,null,null,null,null,null,null,null,null,null,null,null,null,null,null,null,null,null,null,null,null,null,null,null,null,null,null,null,null,null,null,null,null,null,null,null,null,null,null,null,null,null,null,null,null,null,null,null,null,null,null,null,null,null,null,null,null,null,null,null,null,null,null,null,null,null,null,null,null,null,null,null,null,null,null,null,null,null,null,null,null,null,null,null,null,null,null,null,null,null,null,null,null,null,null,null,null,null,null,null,null,null,null,null,null,null,null,null,null,"2017-11-22","2017-11-28",0]
[18,"2018-02-28","2018-03-06","2018-02-28",{"$f":"OFFSET('input ไม้ยืนต้น'!$B$8,$A20,$D$1,1,1)","v":0},null,18,{"$f":"IF(G20=0,0,OFFSET(Kc!$A$2,1+G20,MATCH($H$1,List_Kc_ALL,0),1,1))","v":2.29},null,null,null,2,{"$f":"OFFSET(ETO!$C$3,$M$2,$L20,1,1)*7","v":25.76},null,{"$f":"OFFSET('input ไม้ยืนต้น'!$B$4,0,$D$1,1,1)","v":7},0,null,{"$f":"OFFSET('input ไม้ยืนต้น'!$B$5,0,$D$1,1,1)","v":30},0,null,28,{"$f":"ROUND(OFFSET(ฝนใช้การ!$P$2,$U$2,$L20,1,1)*7/$U20,2)","v":2.7},0,null,0,0,0,null,null,null,null,null,null,null,null,null,null,null,null,null,null,null,null,null,null,null,null,null,null,null,null,null,null,null,null,null,null,null,null,null,null,null,null,null,null,null,null,null,null,null,null,null,null,null,null,null,null,null,null,null,null,null,null,null,null,null,null,null,null,null,null,null,null,null,null,null,null,null,null,null,null,null,null,null,null,null,null,null,null,null,null,null,null,null,null,null,null,null,null,null,null,null,null,null,null,null,null,null,null,null,null,null,null,null,null,null,null,null,null,null,null,null,null,null,null,null,null,null,null,null,null,null,null,null,null,null,null,null,null,null,null,null,null,null,null,null,null,null,null,null,null,null,null,null,null,null,null,null,null,null,null,null,null,null,null,null,null,null,null,null,null,null,null,null,null,null,null,null,null,null,null,null,null,null,null,null,null,null,null,null,null,null,null,null,null,null,null,null,null,"2017-11-29","2017-12-05",0]
[19,"2018-03-07","2018-03-13","2018-03-07",{"$f":"OFFSET('input ไม้ยืนต้น'!$B$8,$A21,$D$1,1,1)","v":0},null,19,{"$f":"IF(G21=0,0,OFFSET(Kc!$A$2,1+G21,MATCH($H$1,List_Kc_ALL,0),1,1))","v":2.29},null,null,null,3,{"$f":"OFFSET(ETO!$C$3,$M$2,$L21,1,1)*7","v":30.38},null,{"$f":"OFFSET('input ไม้ยืนต้น'!$B$4,0,$D$1,1,1)","v":7},0,null,{"$f":"OFFSET('input ไม้ยืนต้น'!$B$5,0,$D$1,1,1)","v":30},0,null,31,{"$f":"ROUND(OFFSET(ฝนใช้การ!$P$2,$U$2,$L21,1,1)*7/$U21,2)","v":4.29},0,null,0,0,0,null,null,null,null,null,null,null,null,null,null,null,null,null,null,null,null,null,null,null,null,null,null,null,null,null,null,null,null,null,null,null,null,null,null,null,null,null,null,null,null,null,null,null,null,null,null,null,null,null,null,null,null,null,null,null,null,null,null,null,null,null,null,null,null,null,null,null,null,null,null,null,null,null,null,null,null,null,null,null,null,null,null,null,null,null,null,null,null,null,null,null,null,null,null,null,null,null,null,null,null,null,null,null,null,null,null,null,null,null,null,null,null,null,null,null,null,null,null,null,null,null,null,null,null,null,null,null,null,null,null,null,null,null,null,null,null,null,null,null,null,null,null,null,null,null,null,null,null,null,null,null,null,null,null,null,null,null,null,null,null,null,null,null,null,null,null,null,null,null,null,null,null,null,null,null,null,null,null,null,null,null,null,null,null,null,null,null,null,null,null,null,null,{"$f":"+HL20+7","v":"2017-12-06"},"2017-12-12",0]
[20,"2018-03-14","2018-03-20","2018-03-14",{"$f":"OFFSET('input ไม้ยืนต้น'!$B$8,$A22,$D$1,1,1)","v":0},null,20,{"$f":"IF(G22=0,0,OFFSET(Kc!$A$2,1+G22,MATCH($H$1,List_Kc_ALL,0),1,1))","v":2.29},null,null,null,3,{"$f":"OFFSET(ETO!$C$3,$M$2,$L22,1,1)*7","v":30.38},null,{"$f":"OFFSET('input ไม้ยืนต้น'!$B$4,0,$D$1,1,1)","v":7},0,null,{"$f":"OFFSET('input ไม้ยืนต้น'!$B$5,0,$D$1,1,1)","v":30},0,null,31,{"$f":"ROUND(OFFSET(ฝนใช้การ!$P$2,$U$2,$L22,1,1)*7/$U22,2)","v":4.29},0,null,0,0,0,null,null,null,null,null,null,null,null,null,null,null,null,null,null,null,null,null,null,null,null,null,null,null,null,null,null,null,null,null,null,null,null,null,null,null,null,null,null,null,null,null,null,null,null,null,null,null,null,null,null,null,null,null,null,null,null,null,null,null,null,null,null,null,null,null,null,null,null,null,null,null,null,null,null,null,null,null,null,null,null,null,null,null,null,null,null,null,null,null,null,null,null,null,null,null,null,null,null,null,null,null,null,null,null,null,null,null,null,null,null,null,null,null,null,null,null,null,null,null,null,null,null,null,null,null,null,null,null,null,null,null,null,null,null,null,null,null,null,null,null,null,null,null,null,null,null,null,null,null,null,null,null,null,null,null,null,null,null,null,null,null,null,null,null,null,null,null,null,null,null,null,null,null,null,null,null,null,null,null,null,null,null,null,null,null,null,null,null,null,null,null,null,"2017-12-13","2017-12-19",0]
[21,"2018-03-21","2018-03-27","2018-03-21",{"$f":"OFFSET('input ไม้ยืนต้น'!$B$8,$A23,$D$1,1,1)","v":0},null,21,{"$f":"IF(G23=0,0,OFFSET(Kc!$A$2,1+G23,MATCH($H$1,List_Kc_ALL,0),1,1))","v":2.29},null,null,null,3,{"$f":"OFFSET(ETO!$C$3,$M$2,$L23,1,1)*7","v":30.38},null,{"$f":"OFFSET('input ไม้ยืนต้น'!$B$4,0,$D$1,1,1)","v":7},0,null,{"$f":"OFFSET('input ไม้ยืนต้น'!$B$5,0,$D$1,1,1)","v":30},0,null,31,{"$f":"ROUND(OFFSET(ฝนใช้การ!$P$2,$U$2,$L23,1,1)*7/$U23,2)","v":4.29},0,null,0,0,0,null,null,null,null,null,null,null,null,null,null,null,null,null,null,null,null,null,null,null,null,null,null,null,null,null,null,null,null,null,null,null,null,null,null,null,null,null,null,null,null,null,null,null,null,null,null,null,null,null,null,null,null,null,null,null,null,null,null,null,null,null,null,null,null,null,null,null,null,null,null,null,null,null,null,null,null,null,null,null,null,null,null,null,null,null,null,null,null,null,null,null,null,null,null,null,null,null,null,null,null,null,null,null,null,null,null,null,null,null,null,null,null,null,null,null,null,null,null,null,null,null,null,null,null,null,null,null,null,null,null,null,null,null,null,null,null,null,null,null,null,null,null,null,null,null,null,null,null,null,null,null,null,null,null,null,null,null,null,null,null,null,null,null,null,null,null,null,null,null,null,null,null,null,null,null,null,null,null,null,null,null,null,null,null,null,null,null,null,null,null,null,null,"2017-12-20","2017-12-26",0]
[22,"2018-03-28","2018-04-03","2018-03-28",{"$f":"OFFSET('input ไม้ยืนต้น'!$B$8,$A24,$D$1,1,1)","v":0},null,22,{"$f":"IF(G24=0,0,OFFSET(Kc!$A$2,1+G24,MATCH($H$1,List_Kc_ALL,0),1,1))","v":2.29},null,null,null,3,{"$f":"OFFSET(ETO!$C$3,$M$2,$L24,1,1)*7","v":30.38},null,{"$f":"OFFSET('input ไม้ยืนต้น'!$B$4,0,$D$1,1,1)","v":7},0,null,{"$f":"OFFSET('input ไม้ยืนต้น'!$B$5,0,$D$1,1,1)","v":30},0,null,31,{"$f":"ROUND(OFFSET(ฝนใช้การ!$P$2,$U$2,$L24,1,1)*7/$U24,2)","v":4.29},0,null,0,0,0,null,null,null,null,null,null,null,null,null,null,null,null,null,null,null,null,null,null,null,null,null,null,null,null,null,null,null,null,null,null,null,null,null,null,null,null,null,null,null,null,null,null,null,null,null,null,null,null,null,null,null,null,null,null,null,null,null,null,null,null,null,null,null,null,null,null,null,null,null,null,null,null,null,null,null,null,null,null,null,null,null,null,null,null,null,null,null,null,null,null,null,null,null,null,null,null,null,null,null,null,null,null,null,null,null,null,null,null,null,null,null,null,null,null,null,null,null,null,null,null,null,null,null,null,null,null,null,null,null,null,null,null,null,null,null,null,null,null,null,null,null,null,null,null,null,null,null,null,null,null,null,null,null,null,null,null,null,null,null,null,null,null,null,null,null,null,null,null,null,null,null,null,null,null,null,null,null,null,null,null,null,null,null,null,null,null,null,null,null,null,null,null,"2017-12-27","2018-01-02",0]
[23,"2018-04-04","2018-04-10","2018-04-04",{"$f":"OFFSET('input ไม้ยืนต้น'!$B$8,$A25,$D$1,1,1)","v":0},null,23,{"$f":"IF(G25=0,0,OFFSET(Kc!$A$2,1+G25,MATCH($H$1,List_Kc_ALL,0),1,1))","v":2.5},null,null,null,4,{"$f":"OFFSET(ETO!$C$3,$M$2,$L25,1,1)*7","v":31.919999999999998},null,{"$f":"OFFSET('input ไม้ยืนต้น'!$B$4,0,$D$1,1,1)","v":7},0,null,{"$f":"OFFSET('input ไม้ยืนต้น'!$B$5,0,$D$1,1,1)","v":30},0,null,30,{"$f":"ROUND(OFFSET(ฝนใช้การ!$P$2,$U$2,$L25,1,1)*7/$U25,2)","v":8},0,null,0,0,0,null,null,null,null,null,null,null,null,null,null,null,null,null,null,null,null,null,null,null,null,null,null,null,null,null,null,null,null,null,null,null,null,null,null,null,null,null,null,null,null,null,null,null,null,null,null,null,null,null,null,null,null,null,null,null,null,null,null,null,null,null,null,null,null,null,null,null,null,null,null,null,null,null,null,null,null,null,null,null,null,null,null,null,null,null,null,null,null,null,null,null,null,null,null,null,null,null,null,null,null,null,null,null,null,null,null,null,null,null,null,null,null,null,null,null,null,null,null,null,null,null,null,null,null,null,null,null,null,null,null,null,null,null,null,null,null,null,null,null,null,null,null,null,null,null,null,null,null,null,null,null,null,null,null,null,null,null,null,null,null,null,null,null,null,null,null,null,null,null,null,null,null,null,null,null,null,null,null,null,null,null,null,null,null,null,null,null,null,null,null,null,null,"2018-01-03","2018-01-09",0]
[24,"2018-04-11","2018-04-17","2018-04-11",{"$f":"OFFSET('input ไม้ยืนต้น'!$B$8,$A26,$D$1,1,1)","v":0},null,24,{"$f":"IF(G26=0,0,OFFSET(Kc!$A$2,1+G26,MATCH($H$1,List_Kc_ALL,0),1,1))","v":2.5},null,null,null,4,{"$f":"OFFSET(ETO!$C$3,$M$2,$L26,1,1)*7","v":31.919999999999998},null,{"$f":"OFFSET('input ไม้ยืนต้น'!$B$4,0,$D$1,1,1)","v":7},0,null,{"$f":"OFFSET('input ไม้ยืนต้น'!$B$5,0,$D$1,1,1)","v":30},0,null,30,{"$f":"ROUND(OFFSET(ฝนใช้การ!$P$2,$U$2,$L26,1,1)*7/$U26,2)","v":8},0,null,0,0,0,null,null,null,null,null,null,null,null,null,null,null,null,null,null,null,null,null,null,null,null,null,null,null,null,null,null,null,null,null,null,null,null,null,null,null,null,null,null,null,null,null,null,null,null,null,null,null,null,null,null,null,null,null,null,null,null,null,null,null,null,null,null,null,null,null,null,null,null,null,null,null,null,null,null,null,null,null,null,null,null,null,null,null,null,null,null,null,null,null,null,null,null,null,null,null,null,null,null,null,null,null,null,null,null,null,null,null,null,null,null,null,null,null,null,null,null,null,null,null,null,null,null,null,null,null,null,null,null,null,null,null,null,null,null,null,null,null,null,null,null,null,null,null,null,null,null,null,null,null,null,null,null,null,null,null,null,null,null,null,null,null,null,null,null,null,null,null,null,null,null,null,null,null,null,null,null,null,null,null,null,null,null,null,null,null,null,null,null,null,null,null,null,"2018-01-10","2018-01-16",0]
[25,"2018-04-18","2018-04-24","2018-04-18",{"$f":"OFFSET('input ไม้ยืนต้น'!$B$8,$A27,$D$1,1,1)","v":0},null,25,{"$f":"IF(G27=0,0,OFFSET(Kc!$A$2,1+G27,MATCH($H$1,List_Kc_ALL,0),1,1))","v":2.5},null,null,null,4,{"$f":"OFFSET(ETO!$C$3,$M$2,$L27,1,1)*7","v":31.919999999999998},null,{"$f":"OFFSET('input ไม้ยืนต้น'!$B$4,0,$D$1,1,1)","v":7},0,null,{"$f":"OFFSET('input ไม้ยืนต้น'!$B$5,0,$D$1,1,1)","v":30},0,null,30,{"$f":"ROUND(OFFSET(ฝนใช้การ!$P$2,$U$2,$L27,1,1)*7/$U27,2)","v":8},0,null,0,0,0,null,null,null,null,null,null,null,null,null,null,null,null,null,null,null,null,null,null,null,null,null,null,null,null,null,null,null,null,null,null,null,null,null,null,null,null,null,null,null,null,null,null,null,null,null,null,null,null,null,null,null,null,null,null,null,null,null,null,null,null,null,null,null,null,null,null,null,null,null,null,null,null,null,null,null,null,null,null,null,null,null,null,null,null,null,null,null,null,null,null,null,null,null,null,null,null,null,null,null,null,null,null,null,null,null,null,null,null,null,null,null,null,null,null,null,null,null,null,null,null,null,null,null,null,null,null,null,null,null,null,null,null,null,null,null,null,null,null,null,null,null,null,null,null,null,null,null,null,null,null,null,null,null,null,null,null,null,null,null,null,null,null,null,null,null,null,null,null,null,null,null,null,null,null,null,null,null,null,null,null,null,null,null,null,null,null,null,null,null,null,null,null,"2018-01-17","2018-01-23",0]
[26,"2018-04-25","2018-05-01","2018-04-25",{"$f":"OFFSET('input ไม้ยืนต้น'!$B$8,$A28,$D$1,1,1)","v":0},null,26,{"$f":"IF(G28=0,0,OFFSET(Kc!$A$2,1+G28,MATCH($H$1,List_Kc_ALL,0),1,1))","v":2.5},null,null,null,4,{"$f":"OFFSET(ETO!$C$3,$M$2,$L28,1,1)*7","v":31.919999999999998},null,{"$f":"OFFSET('input ไม้ยืนต้น'!$B$4,0,$D$1,1,1)","v":7},0,null,{"$f":"OFFSET('input ไม้ยืนต้น'!$B$5,0,$D$1,1,1)","v":30},0,null,30,{"$f":"ROUND(OFFSET(ฝนใช้การ!$P$2,$U$2,$L28,1,1)*7/$U28,2)","v":8},0,null,0,0,0,null,null,null,null,null,null,null,null,null,null,null,null,null,null,null,null,null,null,null,null,null,null,null,null,null,null,null,null,null,null,null,null,null,null,null,null,null,null,null,null,null,null,null,null,null,null,null,null,null,null,null,null,null,null,null,null,null,null,null,null,null,null,null,null,null,null,null,null,null,null,null,null,null,null,null,null,null,null,null,null,null,null,null,null,null,null,null,null,null,null,null,null,null,null,null,null,null,null,null,null,null,null,null,null,null,null,null,null,null,null,null,null,null,null,null,null,null,null,null,null,null,null,null,null,null,null,null,null,null,null,null,null,null,null,null,null,null,null,null,null,null,null,null,null,null,null,null,null,null,null,null,null,null,null,null,null,null,null,null,null,null,null,null,null,null,null,null,null,null,null,null,null,null,null,null,null,null,null,null,null,null,null,null,null,null,null,null,null,null,null,null,null,"2018-01-24","2018-01-30",0]
[27,"2018-05-02","2018-05-08","2018-05-02",{"$f":"OFFSET('input ไม้ยืนต้น'!$B$8,$A29,$D$1,1,1)","v":0},null,27,{"$f":"IF(G29=0,0,OFFSET(Kc!$A$2,1+G29,MATCH($H$1,List_Kc_ALL,0),1,1))","v":1.9},null,null,null,5,{"$f":"OFFSET(ETO!$C$3,$M$2,$L29,1,1)*7","v":30.169999999999998},null,{"$f":"OFFSET('input ไม้ยืนต้น'!$B$4,0,$D$1,1,1)","v":7},0,null,{"$f":"OFFSET('input ไม้ยืนต้น'!$B$5,0,$D$1,1,1)","v":30},0,null,31,{"$f":"ROUND(OFFSET(ฝนใช้การ!$P$2,$U$2,$L29,1,1)*7/$U29,2)","v":11.79},0,null,0,0,0,null,null,null,null,null,null,null,null,null,null,null,null,null,null,null,null,null,null,null,null,null,null,null,null,null,null,null,null,null,null,null,null,null,null,null,null,null,null,null,null,null,null,null,null,null,null,null,null,null,null,null,null,null,null,null,null,null,null,null,null,null,null,null,null,null,null,null,null,null,null,null,null,null,null,null,null,null,null,null,null,null,null,null,null,null,null,null,null,null,null,null,null,null,null,null,null,null,null,null,null,null,null,null,null,null,null,null,null,null,null,null,null,null,null,null,null,null,null,null,null,null,null,null,null,null,null,null,null,null,null,null,null,null,null,null,null,null,null,null,null,null,null,null,null,null,null,null,null,null,null,null,null,null,null,null,null,null,null,null,null,null,null,null,null,null,null,null,null,null,null,null,null,null,null,null,null,null,null,null,null,null,null,null,null,null,null,null,null,null,null,null,null,"2018-01-31","2018-02-06",0]
[28,"2018-05-09","2018-05-15","2018-05-09",{"$f":"OFFSET('input ไม้ยืนต้น'!$B$8,$A30,$D$1,1,1)","v":0},null,28,{"$f":"IF(G30=0,0,OFFSET(Kc!$A$2,1+G30,MATCH($H$1,List_Kc_ALL,0),1,1))","v":1.9},null,null,null,5,{"$f":"OFFSET(ETO!$C$3,$M$2,$L30,1,1)*7","v":30.169999999999998},null,{"$f":"OFFSET('input ไม้ยืนต้น'!$B$4,0,$D$1,1,1)","v":7},0,null,{"$f":"OFFSET('input ไม้ยืนต้น'!$B$5,0,$D$1,1,1)","v":30},0,null,31,{"$f":"ROUND(OFFSET(ฝนใช้การ!$P$2,$U$2,$L30,1,1)*7/$U30,2)","v":11.79},0,null,0,0,0,null,null,null,null,null,null,null,null,null,null,null,null,null,null,null,null,null,null,null,null,null,null,null,null,null,null,null,null,null,null,null,null,null,null,null,null,null,null,null,null,null,null,null,null,null,null,null,null,null,null,null,null,null,null,null,null,null,null,null,null,null,null,null,null,null,null,null,null,null,null,null,null,null,null,null,null,null,null,null,null,null,null,null,null,null,null,null,null,null,null,null,null,null,null,null,null,null,null,null,null,null,null,null,null,null,null,null,null,null,null,null,null,null,null,null,null,null,null,null,null,null,null,null,null,null,null,null,null,null,null,null,null,null,null,null,null,null,null,null,null,null,null,null,null,null,null,null,null,null,null,null,null,null,null,null,null,null,null,null,null,null,null,null,null,null,null,null,null,null,null,null,null,null,null,null,null,null,null,null,null,null,null,null,null,null,null,null,null,null,null,null,null,"2018-02-07","2018-02-13",0]
[29,"2018-05-16","2018-05-22","2018-05-16",{"$f":"OFFSET('input ไม้ยืนต้น'!$B$8,$A31,$D$1,1,1)","v":0},null,29,{"$f":"IF(G31=0,0,OFFSET(Kc!$A$2,1+G31,MATCH($H$1,List_Kc_ALL,0),1,1))","v":1.9},null,null,null,5,{"$f":"OFFSET(ETO!$C$3,$M$2,$L31,1,1)*7","v":30.169999999999998},null,{"$f":"OFFSET('input ไม้ยืนต้น'!$B$4,0,$D$1,1,1)","v":7},0,null,{"$f":"OFFSET('input ไม้ยืนต้น'!$B$5,0,$D$1,1,1)","v":30},0,null,31,{"$f":"ROUND(OFFSET(ฝนใช้การ!$P$2,$U$2,$L31,1,1)*7/$U31,2)","v":11.79},0,null,0,0,0,null,null,null,null,null,null,null,null,null,null,null,null,null,null,null,null,null,null,null,null,null,null,null,null,null,null,null,null,null,null,null,null,null,null,null,null,null,null,null,null,null,null,null,null,null,null,null,null,null,null,null,null,null,null,null,null,null,null,null,null,null,null,null,null,null,null,null,null,null,null,null,null,null,null,null,null,null,null,null,null,null,null,null,null,null,null,null,null,null,null,null,null,null,null,null,null,null,null,null,null,null,null,null,null,null,null,null,null,null,null,null,null,null,null,null,null,null,null,null,null,null,null,null,null,null,null,null,null,null,null,null,null,null,null,null,null,null,null,null,null,null,null,null,null,null,null,null,null,null,null,null,null,null,null,null,null,null,null,null,null,null,null,null,null,null,null,null,null,null,null,null,null,null,null,null,null,null,null,null,null,null,null,null,null,null,null,null,null,null,null,null,null,"2018-02-14","2018-02-20",0]
[30,"2018-05-23","2018-05-29","2018-05-23",{"$f":"OFFSET('input ไม้ยืนต้น'!$B$8,$A32,$D$1,1,1)","v":0},null,30,{"$f":"IF(G32=0,0,OFFSET(Kc!$A$2,1+G32,MATCH($H$1,List_Kc_ALL,0),1,1))","v":1.9},null,null,null,5,{"$f":"OFFSET(ETO!$C$3,$M$2,$L32,1,1)*7","v":30.169999999999998},null,{"$f":"OFFSET('input ไม้ยืนต้น'!$B$4,0,$D$1,1,1)","v":7},0,null,{"$f":"OFFSET('input ไม้ยืนต้น'!$B$5,0,$D$1,1,1)","v":30},0,null,31,{"$f":"ROUND(OFFSET(ฝนใช้การ!$P$2,$U$2,$L32,1,1)*7/$U32,2)","v":11.79},0,null,0,0,0,null,null,null,null,null,null,null,null,null,null,null,null,null,null,null,null,null,null,null,null,null,null,null,null,null,null,null,null,null,null,null,null,null,null,null,null,null,null,null,null,null,null,null,null,null,null,null,null,null,null,null,null,null,null,null,null,null,null,null,null,null,null,null,null,null,null,null,null,null,null,null,null,null,null,null,null,null,null,null,null,null,null,null,null,null,null,null,null,null,null,null,null,null,null,null,null,null,null,null,null,null,null,null,null,null,null,null,null,null,null,null,null,null,null,null,null,null,null,null,null,null,null,null,null,null,null,null,null,null,null,null,null,null,null,null,null,null,null,null,null,null,null,null,null,null,null,null,null,null,null,null,null,null,null,null,null,null,null,null,null,null,null,null,null,null,null,null,null,null,null,null,null,null,null,null,null,null,null,null,null,null,null,null,null,null,null,null,null,null,null,null,null,"2018-02-21","2018-02-27",0]
[31,"2018-05-30","2018-06-05","2018-05-30",{"$f":"OFFSET('input ไม้ยืนต้น'!$B$8,$A33,$D$1,1,1)","v":0},null,31,{"$f":"IF(G33=0,0,OFFSET(Kc!$A$2,1+G33,MATCH($H$1,List_Kc_ALL,0),1,1))","v":1.69},null,null,null,5,{"$f":"OFFSET(ETO!$C$3,$M$2,$L33,1,1)*7","v":30.169999999999998},null,{"$f":"OFFSET('input ไม้ยืนต้น'!$B$4,0,$D$1,1,1)","v":7},0,null,{"$f":"OFFSET('input ไม้ยืนต้น'!$B$5,0,$D$1,1,1)","v":30},0,null,31,{"$f":"ROUND(OFFSET(ฝนใช้การ!$P$2,$U$2,$L33,1,1)*7/$U33,2)","v":11.79},0,null,0,0,0,null,null,null,null,null,null,null,null,null,null,null,null,null,null,null,null,null,null,null,null,null,null,null,null,null,null,null,null,null,null,null,null,null,null,null,null,null,null,null,null,null,null,null,null,null,null,null,null,null,null,null,null,null,null,null,null,null,null,null,null,null,null,null,null,null,null,null,null,null,null,null,null,null,null,null,null,null,null,null,null,null,null,null,null,null,null,null,null,null,null,null,null,null,null,null,null,null,null,null,null,null,null,null,null,null,null,null,null,null,null,null,null,null,null,null,null,null,null,null,null,null,null,null,null,null,null,null,null,null,null,null,null,null,null,null,null,null,null,null,null,null,null,null,null,null,null,null,null,null,null,null,null,null,null,null,null,null,null,null,null,null,null,null,null,null,null,null,null,null,null,null,null,null,null,null,null,null,null,null,null,null,null,null,null,null,null,null,null,null,null,null,null,"2018-02-28","2018-03-06",0]
[32,"2018-06-06","2018-06-12","2018-06-06",{"$f":"OFFSET('input ไม้ยืนต้น'!$B$8,$A34,$D$1,1,1)","v":0},null,32,{"$f":"IF(G34=0,0,OFFSET(Kc!$A$2,1+G34,MATCH($H$1,List_Kc_ALL,0),1,1))","v":1.69},null,null,null,6,{"$f":"OFFSET(ETO!$C$3,$M$2,$L34,1,1)*7","v":29.889999999999997},null,{"$f":"OFFSET('input ไม้ยืนต้น'!$B$4,0,$D$1,1,1)","v":7},0,null,{"$f":"OFFSET('input ไม้ยืนต้น'!$B$5,0,$D$1,1,1)","v":30},0,null,30,{"$f":"ROUND(OFFSET(ฝนใช้การ!$P$2,$U$2,$L34,1,1)*7/$U34,2)","v":9.3699999999999992},0,null,0,0,0,null,null,null,null,null,null,null,null,null,null,null,null,null,null,null,null,null,null,null,null,null,null,null,null,null,null,null,null,null,null,null,null,null,null,null,null,null,null,null,null,null,null,null,null,null,null,null,null,null,null,null,null,null,null,null,null,null,null,null,null,null,null,null,null,null,null,null,null,null,null,null,null,null,null,null,null,null,null,null,null,null,null,null,null,null,null,null,null,null,null,null,null,null,null,null,null,null,null,null,null,null,null,null,null,null,null,null,null,null,null,null,null,null,null,null,null,null,null,null,null,null,null,null,null,null,null,null,null,null,null,null,null,null,null,null,null,null,null,null,null,null,null,null,null,null,null,null,null,null,null,null,null,null,null,null,null,null,null,null,null,null,null,null,null,null,null,null,null,null,null,null,null,null,null,null,null,null,null,null,null,null,null,null,null,null,null,null,null,null,null,null,null,"2018-03-07","2018-03-13",0]
[33,"2018-06-13","2018-06-19","2018-06-13",{"$f":"OFFSET('input ไม้ยืนต้น'!$B$8,$A35,$D$1,1,1)","v":0},null,33,{"$f":"IF(G35=0,0,OFFSET(Kc!$A$2,1+G35,MATCH($H$1,List_Kc_ALL,0),1,1))","v":1.69},null,null,null,6,{"$f":"OFFSET(ETO!$C$3,$M$2,$L35,1,1)*7","v":29.889999999999997},null,{"$f":"OFFSET('input ไม้ยืนต้น'!$B$4,0,$D$1,1,1)","v":7},0,null,{"$f":"OFFSET('input ไม้ยืนต้น'!$B$5,0,$D$1,1,1)","v":30},0,null,30,{"$f":"ROUND(OFFSET(ฝนใช้การ!$P$2,$U$2,$L35,1,1)*7/$U35,2)","v":9.3699999999999992},0,null,0,0,0,null,null,null,null,null,null,null,null,null,null,null,null,null,null,null,null,null,null,null,null,null,null,null,null,null,null,null,null,null,null,null,null,null,null,null,null,null,null,null,null,null,null,null,null,null,null,null,null,null,null,null,null,null,null,null,null,null,null,null,null,null,null,null,null,null,null,null,null,null,null,null,null,null,null,null,null,null,null,null,null,null,null,null,null,null,null,null,null,null,null,null,null,null,null,null,null,null,null,null,null,null,null,null,null,null,null,null,null,null,null,null,null,null,null,null,null,null,null,null,null,null,null,null,null,null,null,null,null,null,null,null,null,null,null,null,null,null,null,null,null,null,null,null,null,null,null,null,null,null,null,null,null,null,null,null,null,null,null,null,null,null,null,null,null,null,null,null,null,null,null,null,null,null,null,null,null,null,null,null,null,null,null,null,null,null,null,null,null,null,null,null,null,"2018-03-14","2018-03-20",0]
[34,"2018-06-20","2018-06-26","2018-06-20",{"$f":"OFFSET('input ไม้ยืนต้น'!$B$8,$A36,$D$1,1,1)","v":0},null,34,{"$f":"IF(G36=0,0,OFFSET(Kc!$A$2,1+G36,MATCH($H$1,List_Kc_ALL,0),1,1))","v":1.69},null,null,null,6,{"$f":"OFFSET(ETO!$C$3,$M$2,$L36,1,1)*7","v":29.889999999999997},null,{"$f":"OFFSET('input ไม้ยืนต้น'!$B$4,0,$D$1,1,1)","v":7},0,null,{"$f":"OFFSET('input ไม้ยืนต้น'!$B$5,0,$D$1,1,1)","v":30},0,null,30,{"$f":"ROUND(OFFSET(ฝนใช้การ!$P$2,$U$2,$L36,1,1)*7/$U36,2)","v":9.3699999999999992},0,null,0,0,0,null,null,null,null,null,null,null,null,null,null,null,null,null,null,null,null,null,null,null,null,null,null,null,null,null,null,null,null,null,null,null,null,null,null,null,null,null,null,null,null,null,null,null,null,null,null,null,null,null,null,null,null,null,null,null,null,null,null,null,null,null,null,null,null,null,null,null,null,null,null,null,null,null,null,null,null,null,null,null,null,null,null,null,null,null,null,null,null,null,null,null,null,null,null,null,null,null,null,null,null,null,null,null,null,null,null,null,null,null,null,null,null,null,null,null,null,null,null,null,null,null,null,null,null,null,null,null,null,null,null,null,null,null,null,null,null,null,null,null,null,null,null,null,null,null,null,null,null,null,null,null,null,null,null,null,null,null,null,null,null,null,null,null,null,null,null,null,null,null,null,null,null,null,null,null,null,null,null,null,null,null,null,null,null,null,null,null,null,null,null,null,null,"2018-03-21","2018-03-27",0]
[35,"2018-06-27","2018-07-03","2018-06-27",{"$f":"OFFSET('input ไม้ยืนต้น'!$B$8,$A37,$D$1,1,1)","v":0},null,35,{"$f":"IF(G37=0,0,OFFSET(Kc!$A$2,1+G37,MATCH($H$1,List_Kc_ALL,0),1,1))","v":1.69},null,null,null,6,{"$f":"OFFSET(ETO!$C$3,$M$2,$L37,1,1)*7","v":29.889999999999997},null,{"$f":"OFFSET('input ไม้ยืนต้น'!$B$4,0,$D$1,1,1)","v":7},0,null,{"$f":"OFFSET('input ไม้ยืนต้น'!$B$5,0,$D$1,1,1)","v":30},0,null,30,{"$f":"ROUND(OFFSET(ฝนใช้การ!$P$2,$U$2,$L37,1,1)*7/$U37,2)","v":9.3699999999999992},0,null,0,0,0,null,null,null,null,null,null,null,null,null,null,null,null,null,null,null,null,null,null,null,null,null,null,null,null,null,null,null,null,null,null,null,null,null,null,null,null,null,null,null,null,null,null,null,null,null,null,null,null,null,null,null,null,null,null,null,null,null,null,null,null,null,null,null,null,null,null,null,null,null,null,null,null,null,null,null,null,null,null,null,null,null,null,null,null,null,null,null,null,null,null,null,null,null,null,null,null,null,null,null,null,null,null,null,null,null,null,null,null,null,null,null,null,null,null,null,null,null,null,null,null,null,null,null,null,null,null,null,null,null,null,null,null,null,null,null,null,null,null,null,null,null,null,null,null,null,null,null,null,null,null,null,null,null,null,null,null,null,null,null,null,null,null,null,null,null,null,null,null,null,null,null,null,null,null,null,null,null,null,null,null,null,null,null,null,null,null,null,null,null,null,null,null,{"$f":"+HL36+7","v":"2018-03-28"},"2018-04-03",0]
[36,"2018-07-04","2018-07-10","2018-07-04",{"$f":"OFFSET('input ไม้ยืนต้น'!$B$8,$A38,$D$1,1,1)","v":0},null,36,{"$f":"IF(G38=0,0,OFFSET(Kc!$A$2,1+G38,MATCH($H$1,List_Kc_ALL,0),1,1))","v":1.61},null,null,null,7,{"$f":"OFFSET(ETO!$C$3,$M$2,$L38,1,1)*7","v":26.88},null,{"$f":"OFFSET('input ไม้ยืนต้น'!$B$4,0,$D$1,1,1)","v":7},0,null,{"$f":"OFFSET('input ไม้ยืนต้น'!$B$5,0,$D$1,1,1)","v":30},0,null,31,{"$f":"ROUND(OFFSET(ฝนใช้การ!$P$2,$U$2,$L38,1,1)*7/$U38,2)","v":16.62},0,null,0,0,0,null,null,null,null,null,null,null,null,null,null,null,null,null,null,null,null,null,null,null,null,null,null,null,null,null,null,null,null,null,null,null,null,null,null,null,null,null,null,null,null,null,null,null,null,null,null,null,null,null,null,null,null,null,null,null,null,null,null,null,null,null,null,null,null,null,null,null,null,null,null,null,null,null,null,null,null,null,null,null,null,null,null,null,null,null,null,null,null,null,null,null,null,null,null,null,null,null,null,null,null,null,null,null,null,null,null,null,null,null,null,null,null,null,null,null,null,null,null,null,null,null,null,null,null,null,null,null,null,null,null,null,null,null,null,null,null,null,null,null,null,null,null,null,null,null,null,null,null,null,null,null,null,null,null,null,null,null,null,null,null,null,null,null,null,null,null,null,null,null,null,null,null,null,null,null,null,null,null,null,null,null,null,null,null,null,null,null,null,null,null,null,null,"2018-04-04","2018-04-10",0]
[37,"2018-07-11","2018-07-17","2018-07-11",{"$f":"OFFSET('input ไม้ยืนต้น'!$B$8,$A39,$D$1,1,1)","v":0},null,37,{"$f":"IF(G39=0,0,OFFSET(Kc!$A$2,1+G39,MATCH($H$1,List_Kc_ALL,0),1,1))","v":1.61},null,null,null,7,{"$f":"OFFSET(ETO!$C$3,$M$2,$L39,1,1)*7","v":26.88},null,{"$f":"OFFSET('input ไม้ยืนต้น'!$B$4,0,$D$1,1,1)","v":7},0,null,{"$f":"OFFSET('input ไม้ยืนต้น'!$B$5,0,$D$1,1,1)","v":30},0,null,31,{"$f":"ROUND(OFFSET(ฝนใช้การ!$P$2,$U$2,$L39,1,1)*7/$U39,2)","v":16.62},0,null,0,0,0,null,null,null,null,null,null,null,null,null,null,null,null,null,null,null,null,null,null,null,null,null,null,null,null,null,null,null,null,null,null,null,null,null,null,null,null,null,null,null,null,null,null,null,null,null,null,null,null,null,null,null,null,null,null,null,null,null,null,null,null,null,null,null,null,null,null,null,null,null,null,null,null,null,null,null,null,null,null,null,null,null,null,null,null,null,null,null,null,null,null,null,null,null,null,null,null,null,null,null,null,null,null,null,null,null,null,null,null,null,null,null,null,null,null,null,null,null,null,null,null,null,null,null,null,null,null,null,null,null,null,null,null,null,null,null,null,null,null,null,null,null,null,null,null,null,null,null,null,null,null,null,null,null,null,null,null,null,null,null,null,null,null,null,null,null,null,null,null,null,null,null,null,null,null,null,null,null,null,null,null,null,null,null,null,null,null,null,null,null,null,null,null,"2018-04-11","2018-04-17",0]
[38,"2018-07-18","2018-07-24","2018-07-18",{"$f":"OFFSET('input ไม้ยืนต้น'!$B$8,$A40,$D$1,1,1)","v":0},null,38,{"$f":"IF(G40=0,0,OFFSET(Kc!$A$2,1+G40,MATCH($H$1,List_Kc_ALL,0),1,1))","v":1.61},null,null,null,7,{"$f":"OFFSET(ETO!$C$3,$M$2,$L40,1,1)*7","v":26.88},null,{"$f":"OFFSET('input ไม้ยืนต้น'!$B$4,0,$D$1,1,1)","v":7},0,null,{"$f":"OFFSET('input ไม้ยืนต้น'!$B$5,0,$D$1,1,1)","v":30},0,null,31,{"$f":"ROUND(OFFSET(ฝนใช้การ!$P$2,$U$2,$L40,1,1)*7/$U40,2)","v":16.62},0,null,0,0,0,null,null,null,null,null,null,null,null,null,null,null,null,null,null,null,null,null,null,null,null,null,null,null,null,null,null,null,null,null,null,null,null,null,null,null,null,null,null,null,null,null,null,null,null,null,null,null,null,null,null,null,null,null,null,null,null,null,null,null,null,null,null,null,null,null,null,null,null,null,null,null,null,null,null,null,null,null,null,null,null,null,null,null,null,null,null,null,null,null,null,null,null,null,null,null,null,null,null,null,null,null,null,null,null,null,null,null,null,null,null,null,null,null,null,null,null,null,null,null,null,null,null,null,null,null,null,null,null,null,null,null,null,null,null,null,null,null,null,null,null,null,null,null,null,null,null,null,null,null,null,null,null,null,null,null,null,null,null,null,null,null,null,null,null,null,null,null,null,null,null,null,null,null,null,null,null,null,null,null,null,null,null,null,null,null,null,null,null,null,null,null,null,"2018-04-18","2018-04-24",0]
[39,"2018-07-25","2018-07-31","2018-07-25",{"$f":"OFFSET('input ไม้ยืนต้น'!$B$8,$A41,$D$1,1,1)","v":0},null,39,{"$f":"IF(G41=0,0,OFFSET(Kc!$A$2,1+G41,MATCH($H$1,List_Kc_ALL,0),1,1))","v":1.61},null,null,null,7,{"$f":"OFFSET(ETO!$C$3,$M$2,$L41,1,1)*7","v":26.88},null,{"$f":"OFFSET('input ไม้ยืนต้น'!$B$4,0,$D$1,1,1)","v":7},0,null,{"$f":"OFFSET('input ไม้ยืนต้น'!$B$5,0,$D$1,1,1)","v":30},0,null,31,{"$f":"ROUND(OFFSET(ฝนใช้การ!$P$2,$U$2,$L41,1,1)*7/$U41,2)","v":16.62},0,null,0,0,0,null,null,null,null,null,null,null,null,null,null,null,null,null,null,null,null,null,null,null,null,null,null,null,null,null,null,null,null,null,null,null,null,null,null,null,null,null,null,null,null,null,null,null,null,null,null,null,null,null,null,null,null,null,null,null,null,null,null,null,null,null,null,null,null,null,null,null,null,null,null,null,null,null,null,null,null,null,null,null,null,null,null,null,null,null,null,null,null,null,null,null,null,null,null,null,null,null,null,null,null,null,null,null,null,null,null,null,null,null,null,null,null,null,null,null,null,null,null,null,null,null,null,null,null,null,null,null,null,null,null,null,null,null,null,null,null,null,null,null,null,null,null,null,null,null,null,null,null,null,null,null,null,null,null,null,null,null,null,null,null,null,null,null,null,null,null,null,null,null,null,null,null,null,null,null,null,null,null,null,null,null,null,null,null,null,null,null,null,null,null,null,null,"2018-04-25","2018-05-01",0]
[40,"2018-08-01","2018-08-07","2018-08-01",{"$f":"OFFSET('input ไม้ยืนต้น'!$B$8,$A42,$D$1,1,1)","v":0},null,40,{"$f":"IF(G42=0,0,OFFSET(Kc!$A$2,1+G42,MATCH($H$1,List_Kc_ALL,0),1,1))","v":1.27},null,null,null,8,{"$f":"OFFSET(ETO!$C$3,$M$2,$L42,1,1)*7","v":24.290000000000003},null,{"$f":"OFFSET('input ไม้ยืนต้น'!$B$4,0,$D$1,1,1)","v":7},0,null,{"$f":"OFFSET('input ไม้ยืนต้น'!$B$5,0,$D$1,1,1)","v":30},0,null,31,{"$f":"ROUND(OFFSET(ฝนใช้การ!$P$2,$U$2,$L42,1,1)*7/$U42,2)","v":22.02},0,null,0,0,0,null,null,null,null,null,null,null,null,null,null,null,null,null,null,null,null,null,null,null,null,null,null,null,null,null,null,null,null,null,null,null,null,null,null,null,null,null,null,null,null,null,null,null,null,null,null,null,null,null,null,null,null,null,null,null,null,null,null,null,null,null,null,null,null,null,null,null,null,null,null,null,null,null,null,null,null,null,null,null,null,null,null,null,null,null,null,null,null,null,null,null,null,null,null,null,null,null,null,null,null,null,null,null,null,null,null,null,null,null,null,null,null,null,null,null,null,null,null,null,null,null,null,null,null,null,null,null,null,null,null,null,null,null,null,null,null,null,null,null,null,null,null,null,null,null,null,null,null,null,null,null,null,null,null,null,null,null,null,null,null,null,null,null,null,null,null,null,null,null,null,null,null,null,null,null,null,null,null,null,null,null,null,null,null,null,null,null,null,null,null,null,null,"2018-05-02","2018-05-08",0]
[41,"2018-08-08","2018-08-14","2018-08-08",{"$f":"OFFSET('input ไม้ยืนต้น'!$B$8,$A43,$D$1,1,1)","v":0},null,41,{"$f":"IF(G43=0,0,OFFSET(Kc!$A$2,1+G43,MATCH($H$1,List_Kc_ALL,0),1,1))","v":1.27},null,null,null,8,{"$f":"OFFSET(ETO!$C$3,$M$2,$L43,1,1)*7","v":24.290000000000003},null,{"$f":"OFFSET('input ไม้ยืนต้น'!$B$4,0,$D$1,1,1)","v":7},0,null,{"$f":"OFFSET('input ไม้ยืนต้น'!$B$5,0,$D$1,1,1)","v":30},0,null,31,{"$f":"ROUND(OFFSET(ฝนใช้การ!$P$2,$U$2,$L43,1,1)*7/$U43,2)","v":22.02},0,null,0,0,0,null,null,null,null,null,null,null,null,null,null,null,null,null,null,null,null,null,null,null,null,null,null,null,null,null,null,null,null,null,null,null,null,null,null,null,null,null,null,null,null,null,null,null,null,null,null,null,null,null,null,null,null,null,null,null,null,null,null,null,null,null,null,null,null,null,null,null,null,null,null,null,null,null,null,null,null,null,null,null,null,null,null,null,null,null,null,null,null,null,null,null,null,null,null,null,null,null,null,null,null,null,null,null,null,null,null,null,null,null,null,null,null,null,null,null,null,null,null,null,null,null,null,null,null,null,null,null,null,null,null,null,null,null,null,null,null,null,null,null,null,null,null,null,null,null,null,null,null,null,null,null,null,null,null,null,null,null,null,null,null,null,null,null,null,null,null,null,null,null,null,null,null,null,null,null,null,null,null,null,null,null,null,null,null,null,null,null,null,null,null,null,null,"2018-05-09","2018-05-15",0]
[42,"2018-08-15","2018-08-21","2018-08-15",{"$f":"OFFSET('input ไม้ยืนต้น'!$B$8,$A44,$D$1,1,1)","v":0},null,42,{"$f":"IF(G44=0,0,OFFSET(Kc!$A$2,1+G44,MATCH($H$1,List_Kc_ALL,0),1,1))","v":1.27},null,null,null,8,{"$f":"OFFSET(ETO!$C$3,$M$2,$L44,1,1)*7","v":24.290000000000003},null,{"$f":"OFFSET('input ไม้ยืนต้น'!$B$4,0,$D$1,1,1)","v":7},0,null,{"$f":"OFFSET('input ไม้ยืนต้น'!$B$5,0,$D$1,1,1)","v":30},0,null,31,{"$f":"ROUND(OFFSET(ฝนใช้การ!$P$2,$U$2,$L44,1,1)*7/$U44,2)","v":22.02},0,null,0,0,0,null,null,null,null,null,null,null,null,null,null,null,null,null,null,null,null,null,null,null,null,null,null,null,null,null,null,null,null,null,null,null,null,null,null,null,null,null,null,null,null,null,null,null,null,null,null,null,null,null,null,null,null,null,null,null,null,null,null,null,null,null,null,null,null,null,null,null,null,null,null,null,null,null,null,null,null,null,null,null,null,null,null,null,null,null,null,null,null,null,null,null,null,null,null,null,null,null,null,null,null,null,null,null,null,null,null,null,null,null,null,null,null,null,null,null,null,null,null,null,null,null,null,null,null,null,null,null,null,null,null,null,null,null,null,null,null,null,null,null,null,null,null,null,null,null,null,null,null,null,null,null,null,null,null,null,null,null,null,null,null,null,null,null,null,null,null,null,null,null,null,null,null,null,null,null,null,null,null,null,null,null,null,null,null,null,null,null,null,null,null,null,null,"2018-05-16","2018-05-22",0]
[43,"2018-08-22","2018-08-28","2018-08-22",{"$f":"OFFSET('input ไม้ยืนต้น'!$B$8,$A45,$D$1,1,1)","v":0},null,43,{"$f":"IF(G45=0,0,OFFSET(Kc!$A$2,1+G45,MATCH($H$1,List_Kc_ALL,0),1,1))","v":1.27},null,null,null,8,{"$f":"OFFSET(ETO!$C$3,$M$2,$L45,1,1)*7","v":24.290000000000003},null,{"$f":"OFFSET('input ไม้ยืนต้น'!$B$4,0,$D$1,1,1)","v":7},0,null,{"$f":"OFFSET('input ไม้ยืนต้น'!$B$5,0,$D$1,1,1)","v":30},0,null,31,{"$f":"ROUND(OFFSET(ฝนใช้การ!$P$2,$U$2,$L45,1,1)*7/$U45,2)","v":22.02},0,null,0,0,0,null,null,null,null,null,null,null,null,null,null,null,null,null,null,null,null,null,null,null,null,null,null,null,null,null,null,null,null,null,null,null,null,null,null,null,null,null,null,null,null,null,null,null,null,null,null,null,null,null,null,null,null,null,null,null,null,null,null,null,null,null,null,null,null,null,null,null,null,null,null,null,null,null,null,null,null,null,null,null,null,null,null,null,null,null,null,null,null,null,null,null,null,null,null,null,null,null,null,null,null,null,null,null,null,null,null,null,null,null,null,null,null,null,null,null,null,null,null,null,null,null,null,null,null,null,null,null,null,null,null,null,null,null,null,null,null,null,null,null,null,null,null,null,null,null,null,null,null,null,null,null,null,null,null,null,null,null,null,null,null,null,null,null,null,null,null,null,null,null,null,null,null,null,null,null,null,null,null,null,null,null,null,null,null,null,null,null,null,null,null,null,null,"2018-05-23","2018-05-29",0]
[44,"2018-08-29","2018-09-04","2018-08-29",{"$f":"OFFSET('input ไม้ยืนต้น'!$B$8,$A46,$D$1,1,1)","v":0},null,44,{"$f":"IF(G46=0,0,OFFSET(Kc!$A$2,1+G46,MATCH($H$1,List_Kc_ALL,0),1,1))","v":1.24},null,null,null,8,{"$f":"OFFSET(ETO!$C$3,$M$2,$L46,1,1)*7","v":24.290000000000003},null,{"$f":"OFFSET('input ไม้ยืนต้น'!$B$4,0,$D$1,1,1)","v":7},0,null,{"$f":"OFFSET('input ไม้ยืนต้น'!$B$5,0,$D$1,1,1)","v":30},0,null,31,{"$f":"ROUND(OFFSET(ฝนใช้การ!$P$2,$U$2,$L46,1,1)*7/$U46,2)","v":22.02},0,null,0,0,0,null,null,null,null,null,null,null,null,null,null,null,null,null,null,null,null,null,null,null,null,null,null,null,null,null,null,null,null,null,null,null,null,null,null,null,null,null,null,null,null,null,null,null,null,null,null,null,null,null,null,null,null,null,null,null,null,null,null,null,null,null,null,null,null,null,null,null,null,null,null,null,null,null,null,null,null,null,null,null,null,null,null,null,null,null,null,null,null,null,null,null,null,null,null,null,null,null,null,null,null,null,null,null,null,null,null,null,null,null,null,null,null,null,null,null,null,null,null,null,null,null,null,null,null,null,null,null,null,null,null,null,null,null,null,null,null,null,null,null,null,null,null,null,null,null,null,null,null,null,null,null,null,null,null,null,null,null,null,null,null,null,null,null,null,null,null,null,null,null,null,null,null,null,null,null,null,null,null,null,null,null,null,null,null,null,null,null,null,null,null,null,null,"2018-05-30","2018-06-05",0]
[45,"2018-09-05","2018-09-11","2018-09-05",{"$f":"OFFSET('input ไม้ยืนต้น'!$B$8,$A47,$D$1,1,1)","v":0},null,45,{"$f":"IF(G47=0,0,OFFSET(Kc!$A$2,1+G47,MATCH($H$1,List_Kc_ALL,0),1,1))","v":1.24},null,null,null,9,{"$f":"OFFSET(ETO!$C$3,$M$2,$L47,1,1)*7","v":23.939999999999998},null,{"$f":"OFFSET('input ไม้ยืนต้น'!$B$4,0,$D$1,1,1)","v":7},0,null,{"$f":"OFFSET('input ไม้ยืนต้น'!$B$5,0,$D$1,1,1)","v":30},0,null,30,{"$f":"ROUND(OFFSET(ฝนใช้การ!$P$2,$U$2,$L47,1,1)*7/$U47,2)","v":29.8},0,null,0,0,0,null,null,null,null,null,null,null,null,null,null,null,null,null,null,null,null,null,null,null,null,null,null,null,null,null,null,null,null,null,null,null,null,null,null,null,null,null,null,null,null,null,null,null,null,null,null,null,null,null,null,null,null,null,null,null,null,null,null,null,null,null,null,null,null,null,null,null,null,null,null,null,null,null,null,null,null,null,null,null,null,null,null,null,null,null,null,null,null,null,null,null,null,null,null,null,null,null,null,null,null,null,null,null,null,null,null,null,null,null,null,null,null,null,null,null,null,null,null,null,null,null,null,null,null,null,null,null,null,null,null,null,null,null,null,null,null,null,null,null,null,null,null,null,null,null,null,null,null,null,null,null,null,null,null,null,null,null,null,null,null,null,null,null,null,null,null,null,null,null,null,null,null,null,null,null,null,null,null,null,null,null,null,null,null,null,null,null,null,null,null,null,null,"2018-06-06","2018-06-12",0]
[46,"2018-09-12","2018-09-18","2018-09-12",{"$f":"OFFSET('input ไม้ยืนต้น'!$B$8,$A48,$D$1,1,1)","v":0},null,46,{"$f":"IF(G48=0,0,OFFSET(Kc!$A$2,1+G48,MATCH($H$1,List_Kc_ALL,0),1,1))","v":1.24},null,null,null,9,{"$f":"OFFSET(ETO!$C$3,$M$2,$L48,1,1)*7","v":23.939999999999998},null,{"$f":"OFFSET('input ไม้ยืนต้น'!$B$4,0,$D$1,1,1)","v":7},0,null,{"$f":"OFFSET('input ไม้ยืนต้น'!$B$5,0,$D$1,1,1)","v":30},0,null,30,{"$f":"ROUND(OFFSET(ฝนใช้การ!$P$2,$U$2,$L48,1,1)*7/$U48,2)","v":29.8},0,null,0,0,0,null,null,null,null,null,null,null,null,null,null,null,null,null,null,null,null,null,null,null,null,null,null,null,null,null,null,null,null,null,null,null,null,null,null,null,null,null,null,null,null,null,null,null,null,null,null,null,null,null,null,null,null,null,null,null,null,null,null,null,null,null,null,null,null,null,null,null,null,null,null,null,null,null,null,null,null,null,null,null,null,null,null,null,null,null,null,null,null,null,null,null,null,null,null,null,null,null,null,null,null,null,null,null,null,null,null,null,null,null,null,null,null,null,null,null,null,null,null,null,null,null,null,null,null,null,null,null,null,null,null,null,null,null,null,null,null,null,null,null,null,null,null,null,null,null,null,null,null,null,null,null,null,null,null,null,null,null,null,null,null,null,null,null,null,null,null,null,null,null,null,null,null,null,null,null,null,null,null,null,null,null,null,null,null,null,null,null,null,null,null,null,null,"2018-06-13","2018-06-19",0]
[47,"2018-09-19","2018-09-25","2018-09-19",{"$f":"OFFSET('input ไม้ยืนต้น'!$B$8,$A49,$D$1,1,1)","v":0},null,47,{"$f":"IF(G49=0,0,OFFSET(Kc!$A$2,1+G49,MATCH($H$1,List_Kc_ALL,0),1,1))","v":1.24},null,null,null,9,{"$f":"OFFSET(ETO!$C$3,$M$2,$L49,1,1)*7","v":23.939999999999998},null,{"$f":"OFFSET('input ไม้ยืนต้น'!$B$4,0,$D$1,1,1)","v":7},0,null,{"$f":"OFFSET('input ไม้ยืนต้น'!$B$5,0,$D$1,1,1)","v":30},0,null,30,{"$f":"ROUND(OFFSET(ฝนใช้การ!$P$2,$U$2,$L49,1,1)*7/$U49,2)","v":29.8},0,null,0,0,0,null,null,null,null,null,null,null,null,null,null,null,null,null,null,null,null,null,null,null,null,null,null,null,null,null,null,null,null,null,null,null,null,null,null,null,null,null,null,null,null,null,null,null,null,null,null,null,null,null,null,null,null,null,null,null,null,null,null,null,null,null,null,null,null,null,null,null,null,null,null,null,null,null,null,null,null,null,null,null,null,null,null,null,null,null,null,null,null,null,null,null,null,null,null,null,null,null,null,null,null,null,null,null,null,null,null,null,null,null,null,null,null,null,null,null,null,null,null,null,null,null,null,null,null,null,null,null,null,null,null,null,null,null,null,null,null,null,null,null,null,null,null,null,null,null,null,null,null,null,null,null,null,null,null,null,null,null,null,null,null,null,null,null,null,null,null,null,null,null,null,null,null,null,null,null,null,null,null,null,null,null,null,null,null,null,null,null,null,null,null,null,null,"2018-06-20","2018-06-26",0]
[48,"2018-09-26","2018-10-02","2018-09-26",{"$f":"OFFSET('input ไม้ยืนต้น'!$B$8,$A50,$D$1,1,1)","v":0},null,48,{"$f":"IF(G50=0,0,OFFSET(Kc!$A$2,1+G50,MATCH($H$1,List_Kc_ALL,0),1,1))","v":1.24},null,null,null,9,{"$f":"OFFSET(ETO!$C$3,$M$2,$L50,1,1)*7","v":23.939999999999998},null,{"$f":"OFFSET('input ไม้ยืนต้น'!$B$4,0,$D$1,1,1)","v":7},0,null,{"$f":"OFFSET('input ไม้ยืนต้น'!$B$5,0,$D$1,1,1)","v":30},0,null,30,{"$f":"ROUND(OFFSET(ฝนใช้การ!$P$2,$U$2,$L50,1,1)*7/$U50,2)","v":29.8},0,null,0,0,0,null,null,null,null,null,null,null,null,null,null,null,null,null,null,null,null,null,null,null,null,null,null,null,null,null,null,null,null,null,null,null,null,null,null,null,null,null,null,null,null,null,null,null,null,null,null,null,null,null,null,null,null,null,null,null,null,null,null,null,null,null,null,null,null,null,null,null,null,null,null,null,null,null,null,null,null,null,null,null,null,null,null,null,null,null,null,null,null,null,null,null,null,null,null,null,null,null,null,null,null,null,null,null,null,null,null,null,null,null,null,null,null,null,null,null,null,null,null,null,null,null,null,null,null,null,null,null,null,null,null,null,null,null,null,null,null,null,null,null,null,null,null,null,null,null,null,null,null,null,null,null,null,null,null,null,null,null,null,null,null,null,null,null,null,null,null,null,null,null,null,null,null,null,null,null,null,null,null,null,null,null,null,null,null,null,null,null,null,null,null,null,null,"2018-06-27","2018-07-03",0]
[49,"2018-10-03","2018-10-09","2018-10-03",{"$f":"OFFSET('input ไม้ยืนต้น'!$B$8,$A51,$D$1,1,1)","v":0},null,49,{"$f":"IF(G51=0,0,OFFSET(Kc!$A$2,1+G51,MATCH($H$1,List_Kc_ALL,0),1,1))","v":1.19},null,null,null,10,{"$f":"OFFSET(ETO!$C$3,$M$2,$L51,1,1)*7","v":22.82},null,{"$f":"OFFSET('input ไม้ยืนต้น'!$B$4,0,$D$1,1,1)","v":7},0,null,{"$f":"OFFSET('input ไม้ยืนต้น'!$B$5,0,$D$1,1,1)","v":30},0,null,31,{"$f":"ROUND(OFFSET(ฝนใช้การ!$P$2,$U$2,$L51,1,1)*7/$U51,2)","v":16.55},0,null,0,0,0,null,null,null,null,null,null,null,null,null,null,null,null,null,null,null,null,null,null,null,null,null,null,null,null,null,null,null,null,null,null,null,null,null,null,null,null,null,null,null,null,null,null,null,null,null,null,null,null,null,null,null,null,null,null,null,null,null,null,null,null,null,null,null,null,null,null,null,null,null,null,null,null,null,null,null,null,null,null,null,null,null,null,null,null,null,null,null,null,null,null,null,null,null,null,null,null,null,null,null,null,null,null,null,null,null,null,null,null,null,null,null,null,null,null,null,null,null,null,null,null,null,null,null,null,null,null,null,null,null,null,null,null,null,null,null,null,null,null,null,null,null,null,null,null,null,null,null,null,null,null,null,null,null,null,null,null,null,null,null,null,null,null,null,null,null,null,null,null,null,null,null,null,null,null,null,null,null,null,null,null,null,null,null,null,null,null,null,null,null,null,null,null,"2018-07-04","2018-07-10",0]
[50,"2018-10-10","2018-10-16","2018-10-10",{"$f":"OFFSET('input ไม้ยืนต้น'!$B$8,$A52,$D$1,1,1)","v":0},null,50,{"$f":"IF(G52=0,0,OFFSET(Kc!$A$2,1+G52,MATCH($H$1,List_Kc_ALL,0),1,1))","v":1.19},null,null,null,10,{"$f":"OFFSET(ETO!$C$3,$M$2,$L52,1,1)*7","v":22.82},null,{"$f":"OFFSET('input ไม้ยืนต้น'!$B$4,0,$D$1,1,1)","v":7},0,null,{"$f":"OFFSET('input ไม้ยืนต้น'!$B$5,0,$D$1,1,1)","v":30},0,null,31,{"$f":"ROUND(OFFSET(ฝนใช้การ!$P$2,$U$2,$L52,1,1)*7/$U52,2)","v":16.55},0,null,0,0,0,null,null,null,null,null,null,null,null,null,null,null,null,null,null,null,null,null,null,null,null,null,null,null,null,null,null,null,null,null,null,null,null,null,null,null,null,null,null,null,null,null,null,null,null,null,null,null,null,null,null,null,null,null,null,null,null,null,null,null,null,null,null,null,null,null,null,null,null,null,null,null,null,null,null,null,null,null,null,null,null,null,null,null,null,null,null,null,null,null,null,null,null,null,null,null,null,null,null,null,null,null,null,null,null,null,null,null,null,null,null,null,null,null,null,null,null,null,null,null,null,null,null,null,null,null,null,null,null,null,null,null,null,null,null,null,null,null,null,null,null,null,null,null,null,null,null,null,null,null,null,null,null,null,null,null,null,null,null,null,null,null,null,null,null,null,null,null,null,null,null,null,null,null,null,null,null,null,null,null,null,null,null,null,null,null,null,null,null,null,null,null,null,"2018-07-11","2018-07-17",0]
[51,"2018-10-17","2018-10-23","2018-10-17",{"$f":"OFFSET('input ไม้ยืนต้น'!$B$8,$A53,$D$1,1,1)","v":0},null,51,{"$f":"IF(G53=0,0,OFFSET(Kc!$A$2,1+G53,MATCH($H$1,List_Kc_ALL,0),1,1))","v":1.19},null,null,null,10,{"$f":"OFFSET(ETO!$C$3,$M$2,$L53,1,1)*7","v":22.82},null,{"$f":"OFFSET('input ไม้ยืนต้น'!$B$4,0,$D$1,1,1)","v":7},0,null,{"$f":"OFFSET('input ไม้ยืนต้น'!$B$5,0,$D$1,1,1)","v":30},0,null,31,{"$f":"ROUND(OFFSET(ฝนใช้การ!$P$2,$U$2,$L53,1,1)*7/$U53,2)","v":16.55},0,null,0,0,0,null,null,null,null,null,null,null,null,null,null,null,null,null,null,null,null,null,null,null,null,null,null,null,null,null,null,null,null,null,null,null,null,null,null,null,null,null,null,null,null,null,null,null,null,null,null,null,null,null,null,null,null,null,null,null,null,null,null,null,null,null,null,null,null,null,null,null,null,null,null,null,null,null,null,null,null,null,null,null,null,null,null,null,null,null,null,null,null,null,null,null,null,null,null,null,null,null,null,null,null,null,null,null,null,null,null,null,null,null,null,null,null,null,null,null,null,null,null,null,null,null,null,null,null,null,null,null,null,null,null,null,null,null,null,null,null,null,null,null,null,null,null,null,null,null,null,null,null,null,null,null,null,null,null,null,null,null,null,null,null,null,null,null,null,null,null,null,null,null,null,null,null,null,null,null,null,null,null,null,null,null,null,null,null,null,null,null,null,null,null,null,null,{"$f":"+HL52+7","v":"2018-07-18"},"2018-07-24",0]
[52,"2018-10-24","2018-10-30","2018-10-24",{"$f":"OFFSET('input ไม้ยืนต้น'!$B$8,$A54,$D$1,1,1)","v":0},null,52,{"$f":"IF(G54=0,0,OFFSET(Kc!$A$2,1+G54,MATCH($H$1,List_Kc_ALL,0),1,1))","v":1.19},null,null,null,10,{"$f":"OFFSET(ETO!$C$3,$M$2,$L54,1,1)*7","v":22.82},null,{"$f":"OFFSET('input ไม้ยืนต้น'!$B$4,0,$D$1,1,1)","v":7},0,null,{"$f":"OFFSET('input ไม้ยืนต้น'!$B$5,0,$D$1,1,1)","v":30},0,null,31,{"$f":"ROUND(OFFSET(ฝนใช้การ!$P$2,$U$2,$L54,1,1)*7/$U54,2)","v":16.55},0,null,0,0,0,null,null,null,null,null,null,null,null,null,null,null,null,null,null,null,null,null,null,null,null,null,null,null,null,null,null,null,null,null,null,null,null,null,null,null,null,null,null,null,null,null,null,null,null,null,null,null,null,null,null,null,null,null,null,null,null,null,null,null,null,null,null,null,null,null,null,null,null,null,null,null,null,null,null,null,null,null,null,null,null,null,null,null,null,null,null,null,null,null,null,null,null,null,null,null,null,null,null,null,null,null,null,null,null,null,null,null,null,null,null,null,null,null,null,null,null,null,null,null,null,null,null,null,null,null,null,null,null,null,null,null,null,null,null,null,null,null,null,null,null,null,null,null,null,null,null,null,null,null,null,null,null,null,null,null,null,null,null,null,null,null,null,null,null,null,null,null,null,null,null,null,null,null,null,null,null,null,null,null,null,null,null,null,null,null,null,null,null,null,null,null,null,"2018-07-25","2018-07-31",0]
[53,"2018-10-31","2018-11-06","2018-10-31",{"$f":"OFFSET('input ไม้ยืนต้น'!$B$8,$A55,$D$1,1,1)","v":0},null,{"$f":"G3","v":1},{"$f":"IF(G55=0,0,OFFSET(Kc!$A$2,1+G55,MATCH($H$1,List_Kc_ALL,0),1,1))","v":2.1},null,null,null,10,{"$f":"OFFSET(ETO!$C$3,$M$2,$L55,1,1)*7","v":22.82},null,{"$f":"OFFSET('input ไม้ยืนต้น'!$B$4,0,$D$1,1,1)","v":7},0,null,{"$f":"OFFSET('input ไม้ยืนต้น'!$B$5,0,$D$1,1,1)","v":30},0,null,31,{"$f":"ROUND(OFFSET(ฝนใช้การ!$P$2,$U$2,$L55,1,1)*7/$U55,2)","v":16.55},0,null,0,0,0,null,null,null,null,null,null,null,null,null,null,null,null,null,null,null,null,null,null,null,null,null,null,null,null,null,null,null,null,null,null,null,null,null,null,null,null,null,null,null,null,null,null,null,null,null,null,null,null,null,null,null,null,null,null,null,null,null,null,null,null,null,null,null,null,null,null,null,null,null,null,null,null,null,null,null,null,null,null,null,null,null,null,null,null,null,null,null,null,null,null,null,null,null,null,null,null,null,null,null,null,null,null,null,null,null,null,null,null,null,null,null,null,null,null,null,null,null,null,null,null,null,null,null,null,null,null,null,null,null,null,null,null,null,null,null,null,null,null,null,null,null,null,null,null,null,null,null,null,null,null,null,null,null,null,null,null,null,null,null,null,null,null,null,null,null,null,null,null,null,null,null,null,null,null,null,null,null,null,null,null,null,null,null,null,null,null,null,null,null,null,null,null,"2018-08-01","2018-08-07",0]

{"sheet":"บ่อปลา","index":22,"n_rows":55,"n_cols":223,"rows_kept":55,"cut":false,"hidden":false,"merged":[]}
[null,"ช่วงเวลาสัปดาห์",null,{"$f":"รายงาน!O1","v":1},{"$f":"OFFSET('input ข้าว'!$B$2,0,$D$1,1,1)","v":"พลเทพ"},"น้ำในบ่อลึก","เปลี่ยนน้ำ","ปริมาณน้ำที่เปลี่ยน+น้ำใส่บ่อใหม่",null,null,null,{"$f":"OFFSET('input บ่อปลา'!$B$3,0,$D$1,1,1)","v":"ชัยนาท"},"ระเหย+รั่วซึม (มม./สัปดาห์)",null,{"$f":"L1","v":"ชัยนาท"},"ฝนใช้การ",null,null,null,null,null,null,null,null,null,null,null,null,null,null,null,null,null,null,null,null,null,null,null,null,null,null,null,null,null,null,null,null,null,null,null,null,null,null,null,null,null,null,null,null,null,null,null,null,null,null,null,null,null,null,null,null,null,null,null,null,null,null,null,null,null,null,null,null,null,null,null,null,null,null,null,null,null,null,null,null,null,null,null,null,null,null,null,null,null,null,null,null,null,null,null,null,null,null,null,null,null,null,null,null,null,null,null,null,null,null,null,null,null,null,null,null,null,null,null,null,null,null,null,null,null,null,null,null,null,null,null,null,null,null,null,null,null,null,null,null,null,null,null,null,null,null,null,null,null,null,null,null,null,null,null,null,null,null,null,null,null,null,null,null,null,null,null,null,null,null,null,null,null,null,null,null,null,null,null,null,null,null,null,null,null,null,null,null,null,null,null,null,null,null,null,null,null,null,null,null,null,null,null,null,"ความต้องการน้ำ (ลบ.ม.)","ปริมาณน้ำที่ต้องส่ง (ลบ.ม.)","ประสิทธิภาพชลประทาน"]
[null,"เริ่มต้น","สิ้นสุด","เดือน","จำนวนไร่","(มม.)","(%)","(มม.)",null,"เดือน","จำนวนวัน",{"$f":"VLOOKUP(L1,Evap!$T$4:$U$80,2,FALSE)","v":"ลพบุรี"},{"$f":"MATCH(L2,Evap!$B$4:$B$88,0)","v":42},null,{"$f":"MATCH(O1,ฝนใช้การ!$A$3:$A$78,0)","v":17},"มม./สัปดาห์",null,null,null,null,null,null,null,null,null,null,null,null,null,null,null,null,null,null,null,null,null,null,null,null,null,null,null,null,null,null,null,null,null,null,null,null,null,null,null,null,null,null,null,null,null,null,null,null,null,null,null,null,null,null,null,null,null,null,null,null,null,null,null,null,null,null,null,null,null,null,null,null,null,null,null,null,null,null,null,null,null,null,null,null,null,null,null,null,null,null,null,null,null,null,null,null,null,null,null,null,null,null,null,null,null,null,null,null,null,null,null,null,null,null,null,null,null,null,null,null,null,null,null,null,null,null,null,null,null,null,null,null,null,null,null,null,null,null,null,null,null,null,null,null,null,null,null,null,null,null,null,null,null,null,null,null,null,null,null,null,null,null,null,null,null,null,null,null,null,null,null,null,null,null,null,null,null,null,null,null,null,null,null,null,null,null,null,null,null,null,null,null,null,null,null,null,null,null,null,null,null,null,null,null,"รวม","รวม",{"$f":"OFFSET('input บ่อปลา'!$B$5,0,$D$1,1,1)","v":90}]
[1,{"$f":"ข้าว!B16","v":"2017-11-01"},{"$f":"+B3+6","v":"2017-11-07"},{"$f":"+C3","v":"2017-11-07"},{"$f":"OFFSET('input บ่อปลา'!$B$6,$A3,$D$1,1,1)","v":0},1200,3,{"$f":"(F3*G3/100)","v":36},null,1,31,{"$f":"MONTH(B3)","v":11},{"$f":"ROUND((OFFSET(Evap!$C$3,$M$2,$L3,1,1)*7/OFFSET($K$2,$L3,0,1,1))+OFFSET('input บ่อปลา'!$B$4,0,$D$1,1,1),2)","v":40.479999999999997},null,{"$f":"VLOOKUP(L3,$J$3:$K$14,2,TRUE)","v":30},{"$f":"ROUND(OFFSET(ฝนใช้การ!$A$2,$O$2,$L3,1,1)*7/$O3,2)","v":7.3},null,null,null,null,null,null,null,null,null,null,null,null,null,null,null,null,null,null,null,null,null,null,null,null,null,null,null,null,null,null,null,null,null,null,null,null,null,null,null,null,null,null,null,null,null,null,null,null,null,null,null,null,null,null,null,null,null,null,null,null,null,null,null,null,null,null,null,null,null,null,null,null,null,null,null,null,null,null,null,null,null,null,null,null,null,null,null,null,null,null,null,null,null,null,null,null,null,null,null,null,null,null,null,null,null,null,null,null,null,null,null,null,null,null,null,null,null,null,null,null,null,null,null,null,null,null,null,null,null,null,null,null,null,null,null,null,null,null,null,null,null,null,null,null,null,null,null,null,null,null,null,null,null,null,null,null,null,null,null,null,null,null,null,null,null,null,null,null,null,null,null,null,null,null,null,null,null,null,null,null,null,null,null,null,null,null,null,null,null,null,null,null,null,null,null,null,null,null,null,null,null,null,null,null,{"$f":"IF(H3+M3-P3>0,H3+M3-P3,0)*$E3*1.6","v":0},{"$f":"HM3*100/$HO$2","v":0}]
[2,{"$f":"+B3+7","v":"2017-11-08"},{"$f":"+C3+7","v":"2017-11-14"},"2017-11-14",{"$f":"OFFSET('input บ่อปลา'!$B$6,$A4,$D$1,1,1)","v":0},1200,3,{"$f":"(F4*G4/100)","v":36},null,2,28,{"$f":"MONTH(B4)","v":11},{"$f":"ROUND((OFFSET(Evap!$C$3,$M$2,$L4,1,1)*7/OFFSET($K$2,$L4,0,1,1))+OFFSET('input บ่อปลา'!$B$4,0,$D$1,1,1),2)","v":40.479999999999997},null,{"$f":"VLOOKUP(L4,$J$3:$K$14,2,TRUE)","v":30},{"$f":"ROUND(OFFSET(ฝนใช้การ!$A$2,$O$2,$L4,1,1)*7/$O4,2)","v":7.3},null,null,null,null,null,null,null,null,null,null,null,null,null,null,null,null,null,null,null,null,null,null,null,null,null,null,null,null,null,null,null,null,null,null,null,null,null,null,null,null,null,null,null,null,null,null,null,null,null,null,null,null,null,null,null,null,null,null,null,null,null,null,null,null,null,null,null,null,null,null,null,null,null,null,null,null,null,null,null,null,null,null,null,null,null,null,null,null,null,null,null,null,null,null,null,null,null,null,null,null,null,null,null,null,null,null,null,null,null,null,null,null,null,null,null,null,null,null,null,null,null,null,null,null,null,null,null,null,null,null,null,null,null,null,null,null,null,null,null,null,null,null,null,null,null,null,null,null,null,null,null,null,null,null,null,null,null,null,null,null,null,null,null,null,null,null,null,null,null,null,null,null,null,null,null,null,null,null,null,null,null,null,null,null,null,null,null,null,null,null,null,null,null,null,null,null,null,null,null,null,null,null,null,null,0,0]
[3,{"$f":"+B4+7","v":"2017-11-15"},"2017-11-21","2017-11-21",{"$f":"OFFSET('input บ่อปลา'!$B$6,$A5,$D$1,1,1)","v":0},1200,3,36,null,3,31,11,{"$f":"ROUND((OFFSET(Evap!$C$3,$M$2,$L5,1,1)*7/OFFSET($K$2,$L5,0,1,1))+OFFSET('input บ่อปลา'!$B$4,0,$D$1,1,1),2)","v":40.479999999999997},null,30,{"$f":"ROUND(OFFSET(ฝนใช้การ!$A$2,$O$2,$L5,1,1)*7/$O5,2)","v":7.3},null,null,null,null,null,null,null,null,null,null,null,null,null,null,null,null,null,null,null,null,null,null,null,null,null,null,null,null,null,null,null,null,null,null,null,null,null,null,null,null,null,null,null,null,null,null,null,null,null,null,null,null,null,null,null,null,null,null,null,null,null,null,null,null,null,null,null,null,null,null,null,null,null,null,null,null,null,null,null,null,null,null,null,null,null,null,null,null,null,null,null,null,null,null,null,null,null,null,null,null,null,null,null,null,null,null,null,null,null,null,null,null,null,null,null,null,null,null,null,null,null,null,null,null,null,null,null,null,null,null,null,null,null,null,null,null,null,null,null,null,null,null,null,null,null,null,null,null,null,null,null,null,null,null,null,null,null,null,null,null,null,null,null,null,null,null,null,null,null,null,null,null,null,null,null,null,null,null,null,null,null,null,null,null,null,null,null,null,null,null,null,null,null,null,null,null,null,null,null,null,null,null,null,null,0,0]
[4,"2017-11-22","2017-11-28","2017-11-28",{"$f":"OFFSET('input บ่อปลา'!$B$6,$A6,$D$1,1,1)","v":0},1200,3,36,null,4,30,11,{"$f":"ROUND((OFFSET(Evap!$C$3,$M$2,$L6,1,1)*7/OFFSET($K$2,$L6,0,1,1))+OFFSET('input บ่อปลา'!$B$4,0,$D$1,1,1),2)","v":40.479999999999997},null,30,{"$f":"ROUND(OFFSET(ฝนใช้การ!$A$2,$O$2,$L6,1,1)*7/$O6,2)","v":7.3},null,null,null,null,null,null,null,null,null,null,null,null,null,null,null,null,null,null,null,null,null,null,null,null,null,null,null,null,null,null,null,null,null,null,null,null,null,null,null,null,null,null,null,null,null,null,null,null,null,null,null,null,null,null,null,null,null,null,null,null,null,null,null,null,null,null,null,null,null,null,null,null,null,null,null,null,null,null,null,null,null,null,null,null,null,null,null,null,null,null,null,null,null,null,null,null,null,null,null,null,null,null,null,null,null,null,null,null,null,null,null,null,null,null,null,null,null,null,null,null,null,null,null,null,null,null,null,null,null,null,null,null,null,null,null,null,null,null,null,null,null,null,null,null,null,null,null,null,null,null,null,null,null,null,null,null,null,null,null,null,null,null,null,null,null,null,null,null,null,null,null,null,null,null,null,null,null,null,null,null,null,null,null,null,null,null,null,null,null,null,null,null,null,null,null,null,null,null,null,null,null,null,null,null,0,0]
[5,"2017-11-29","2017-12-05","2017-12-05",{"$f":"OFFSET('input บ่อปลา'!$B$6,$A7,$D$1,1,1)","v":0},1200,4,48,null,5,31,11,{"$f":"ROUND((OFFSET(Evap!$C$3,$M$2,$L7,1,1)*7/OFFSET($K$2,$L7,0,1,1))+OFFSET('input บ่อปลา'!$B$4,0,$D$1,1,1),2)","v":40.479999999999997},null,30,{"$f":"ROUND(OFFSET(ฝนใช้การ!$A$2,$O$2,$L7,1,1)*7/$O7,2)","v":7.3},null,null,null,null,null,null,null,null,null,null,null,null,null,null,null,null,null,null,null,null,null,null,null,null,null,null,null,null,null,null,null,null,null,null,null,null,null,null,null,null,null,null,null,null,null,null,null,null,null,null,null,null,null,null,null,null,null,null,null,null,null,null,null,null,null,null,null,null,null,null,null,null,null,null,null,null,null,null,null,null,null,null,null,null,null,null,null,null,null,null,null,null,null,null,null,null,null,null,null,null,null,null,null,null,null,null,null,null,null,null,null,null,null,null,null,null,null,null,null,null,null,null,null,null,null,null,null,null,null,null,null,null,null,null,null,null,null,null,null,null,null,null,null,null,null,null,null,null,null,null,null,null,null,null,null,null,null,null,null,null,null,null,null,null,null,null,null,null,null,null,null,null,null,null,null,null,null,null,null,null,null,null,null,null,null,null,null,null,null,null,null,null,null,null,null,null,null,null,null,null,null,null,null,null,0,0]
[6,"2017-12-06","2017-12-12","2017-12-12",{"$f":"OFFSET('input บ่อปลา'!$B$6,$A8,$D$1,1,1)","v":0},1200,4,48,null,6,30,12,{"$f":"ROUND((OFFSET(Evap!$C$3,$M$2,$L8,1,1)*7/OFFSET($K$2,$L8,0,1,1))+OFFSET('input บ่อปลา'!$B$4,0,$D$1,1,1),2)","v":43.02},null,31,{"$f":"ROUND(OFFSET(ฝนใช้การ!$A$2,$O$2,$L8,1,1)*7/$O8,2)","v":1.1299999999999999},null,null,null,null,null,null,null,null,null,null,null,null,null,null,null,null,null,null,null,null,null,null,null,null,null,null,null,null,null,null,null,null,null,null,null,null,null,null,null,null,null,null,null,null,null,null,null,null,null,null,null,null,null,null,null,null,null,null,null,null,null,null,null,null,null,null,null,null,null,null,null,null,null,null,null,null,null,null,null,null,null,null,null,null,null,null,null,null,null,null,null,null,null,null,null,null,null,null,null,null,null,null,null,null,null,null,null,null,null,null,null,null,null,null,null,null,null,null,null,null,null,null,null,null,null,null,null,null,null,null,null,null,null,null,null,null,null,null,null,null,null,null,null,null,null,null,null,null,null,null,null,null,null,null,null,null,null,null,null,null,null,null,null,null,null,null,null,null,null,null,null,null,null,null,null,null,null,null,null,null,null,null,null,null,null,null,null,null,null,null,null,null,null,null,null,null,null,null,null,null,null,null,null,null,0,0]
[7,"2017-12-13","2017-12-19","2017-12-19",{"$f":"OFFSET('input บ่อปลา'!$B$6,$A9,$D$1,1,1)","v":0},1200,4,48,null,7,31,12,{"$f":"ROUND((OFFSET(Evap!$C$3,$M$2,$L9,1,1)*7/OFFSET($K$2,$L9,0,1,1))+OFFSET('input บ่อปลา'!$B$4,0,$D$1,1,1),2)","v":43.02},null,31,{"$f":"ROUND(OFFSET(ฝนใช้การ!$A$2,$O$2,$L9,1,1)*7/$O9,2)","v":1.1299999999999999},null,null,null,null,null,null,null,null,null,null,null,null,null,null,null,null,null,null,null,null,null,null,null,null,null,null,null,null,null,null,null,null,null,null,null,null,null,null,null,null,null,null,null,null,null,null,null,null,null,null,null,null,null,null,null,null,null,null,null,null,null,null,null,null,null,null,null,null,null,null,null,null,null,null,null,null,null,null,null,null,null,null,null,null,null,null,null,null,null,null,null,null,null,null,null,null,null,null,null,null,null,null,null,null,null,null,null,null,null,null,null,null,null,null,null,null,null,null,null,null,null,null,null,null,null,null,null,null,null,null,null,null,null,null,null,null,null,null,null,null,null,null,null,null,null,null,null,null,null,null,null,null,null,null,null,null,null,null,null,null,null,null,null,null,null,null,null,null,null,null,null,null,null,null,null,null,null,null,null,null,null,null,null,null,null,null,null,null,null,null,null,null,null,null,null,null,null,null,null,null,null,null,null,null,0,0]
[8,"2017-12-20","2017-12-26","2017-12-26",{"$f":"OFFSET('input บ่อปลา'!$B$6,$A10,$D$1,1,1)","v":0},1200,4,48,null,8,31,12,{"$f":"ROUND((OFFSET(Evap!$C$3,$M$2,$L10,1,1)*7/OFFSET($K$2,$L10,0,1,1))+OFFSET('input บ่อปลา'!$B$4,0,$D$1,1,1),2)","v":43.02},null,31,{"$f":"ROUND(OFFSET(ฝนใช้การ!$A$2,$O$2,$L10,1,1)*7/$O10,2)","v":1.1299999999999999},null,null,null,null,null,null,null,null,null,null,null,null,null,null,null,null,null,null,null,null,null,null,null,null,null,null,null,null,null,null,null,null,null,null,null,null,null,null,null,null,null,null,null,null,null,null,null,null,null,null,null,null,null,null,null,null,null,null,null,null,null,null,null,null,null,null,null,null,null,null,null,null,null,null,null,null,null,null,null,null,null,null,null,null,null,null,null,null,null,null,null,null,null,null,null,null,null,null,null,null,null,null,null,null,null,null,null,null,null,null,null,null,null,null,null,null,null,null,null,null,null,null,null,null,null,null,null,null,null,null,null,null,null,null,null,null,null,null,null,null,null,null,null,null,null,null,null,null,null,null,null,null,null,null,null,null,null,null,null,null,null,null,null,null,null,null,null,null,null,null,null,null,null,null,null,null,null,null,null,null,null,null,null,null,null,null,null,null,null,null,null,null,null,null,null,null,null,null,null,null,null,null,null,null,0,0]
[9,"2017-12-27","2018-01-02","2018-01-02",{"$f":"OFFSET('input บ่อปลา'!$B$6,$A11,$D$1,1,1)","v":0},1200,4,48,null,9,30,12,{"$f":"ROUND((OFFSET(Evap!$C$3,$M$2,$L11,1,1)*7/OFFSET($K$2,$L11,0,1,1))+OFFSET('input บ่อปลา'!$B$4,0,$D$1,1,1),2)","v":43.02},null,31,{"$f":"ROUND(OFFSET(ฝนใช้การ!$A$2,$O$2,$L11,1,1)*7/$O11,2)","v":1.1299999999999999},null,null,null,null,null,null,null,null,null,null,null,null,null,null,null,null,null,null,null,null,null,null,null,null,null,null,null,null,null,null,null,null,null,null,null,null,null,null,null,null,null,null,null,null,null,null,null,null,null,null,null,null,null,null,null,null,null,null,null,null,null,null,null,null,null,null,null,null,null,null,null,null,null,null,null,null,null,null,null,null,null,null,null,null,null,null,null,null,null,null,null,null,null,null,null,null,null,null,null,null,null,null,null,null,null,null,null,null,null,null,null,null,null,null,null,null,null,null,null,null,null,null,null,null,null,null,null,null,null,null,null,null,null,null,null,null,null,null,null,null,null,null,null,null,null,null,null,null,null,null,null,null,null,null,null,null,null,null,null,null,null,null,null,null,null,null,null,null,null,null,null,null,null,null,null,null,null,null,null,null,null,null,null,null,null,null,null,null,null,null,null,null,null,null,null,null,null,null,null,null,null,null,null,null,0,0]
[10,"2018-01-03","2018-01-09","2018-01-09",{"$f":"OFFSET('input บ่อปลา'!$B$6,$A12,$D$1,1,1)","v":0},1200,4,48,null,10,31,1,{"$f":"ROUND((OFFSET(Evap!$C$3,$M$2,$L12,1,1)*7/OFFSET($K$2,$L12,0,1,1))+OFFSET('input บ่อปลา'!$B$4,0,$D$1,1,1),2)","v":41.19},null,31,{"$f":"ROUND(OFFSET(ฝนใช้การ!$A$2,$O$2,$L12,1,1)*7/$O12,2)","v":1.29},null,null,null,null,null,null,null,null,null,null,null,null,null,null,null,null,null,null,null,null,null,null,null,null,null,null,null,null,null,null,null,null,null,null,null,null,null,null,null,null,null,null,null,null,null,null,null,null,null,null,null,null,null,null,null,null,null,null,null,null,null,null,null,null,null,null,null,null,null,null,null,null,null,null,null,null,null,null,null,null,null,null,null,null,null,null,null,null,null,null,null,null,null,null,null,null,null,null,null,null,null,null,null,null,null,null,null,null,null,null,null,null,null,null,null,null,null,null,null,null,null,null,null,null,null,null,null,null,null,null,null,null,null,null,null,null,null,null,null,null,null,null,null,null,null,null,null,null,null,null,null,null,null,null,null,null,null,null,null,null,null,null,null,null,null,null,null,null,null,null,null,null,null,null,null,null,null,null,null,null,null,null,null,null,null,null,null,null,null,null,null,null,null,null,null,null,null,null,null,null,null,null,null,null,0,0]
[11,"2018-01-10","2018-01-16","2018-01-16",{"$f":"OFFSET('input บ่อปลา'!$B$6,$A13,$D$1,1,1)","v":0},1200,4,48,null,11,30,1,{"$f":"ROUND((OFFSET(Evap!$C$3,$M$2,$L13,1,1)*7/OFFSET($K$2,$L13,0,1,1))+OFFSET('input บ่อปลา'!$B$4,0,$D$1,1,1),2)","v":41.19},null,31,{"$f":"ROUND(OFFSET(ฝนใช้การ!$A$2,$O$2,$L13,1,1)*7/$O13,2)","v":1.29},null,null,null,null,null,null,null,null,null,null,null,null,null,null,null,null,null,null,null,null,null,null,null,null,null,null,null,null,null,null,null,null,null,null,null,null,null,null,null,null,null,null,null,null,null,null,null,null,null,null,null,null,null,null,null,null,null,null,null,null,null,null,null,null,null,null,null,null,null,null,null,null,null,null,null,null,null,null,null,null,null,null,null,null,null,null,null,null,null,null,null,null,null,null,null,null,null,null,null,null,null,null,null,null,null,null,null,null,null,null,null,null,null,null,null,null,null,null,null,null,null,null,null,null,null,null,null,null,null,null,null,null,null,null,null,null,null,null,null,null,null,null,null,null,null,null,null,null,null,null,null,null,null,null,null,null,null,null,null,null,null,null,null,null,null,null,null,null,null,null,null,null,null,null,null,null,null,null,null,null,null,null,null,null,null,null,null,null,null,null,null,null,null,null,null,null,null,null,null,null,null,null,null,null,0,0]
[12,"2018-01-17","2018-01-23","2018-01-23",{"$f":"OFFSET('input บ่อปลา'!$B$6,$A14,$D$1,1,1)","v":0},1200,4,48,null,12,31,1,{"$f":"ROUND((OFFSET(Evap!$C$3,$M$2,$L14,1,1)*7/OFFSET($K$2,$L14,0,1,1))+OFFSET('input บ่อปลา'!$B$4,0,$D$1,1,1),2)","v":41.19},null,31,{"$f":"ROUND(OFFSET(ฝนใช้การ!$A$2,$O$2,$L14,1,1)*7/$O14,2)","v":1.29},null,null,null,null,null,null,null,null,null,null,null,null,null,null,null,null,null,null,null,null,null,null,null,null,null,null,null,null,null,null,null,null,null,null,null,null,null,null,null,null,null,null,null,null,null,null,null,null,null,null,null,null,null,null,null,null,null,null,null,null,null,null,null,null,null,null,null,null,null,null,null,null,null,null,null,null,null,null,null,null,null,null,null,null,null,null,null,null,null,null,null,null,null,null,null,null,null,null,null,null,null,null,null,null,null,null,null,null,null,null,null,null,null,null,null,null,null,null,null,null,null,null,null,null,null,null,null,null,null,null,null,null,null,null,null,null,null,null,null,null,null,null,null,null,null,null,null,null,null,null,null,null,null,null,null,null,null,null,null,null,null,null,null,null,null,null,null,null,null,null,null,null,null,null,null,null,null,null,null,null,null,null,null,null,null,null,null,null,null,null,null,null,null,null,null,null,null,null,null,null,null,null,null,null,0,0]
[13,"2018-01-24","2018-01-30","2018-01-30",{"$f":"OFFSET('input บ่อปลา'!$B$6,$A15,$D$1,1,1)","v":0},1200,4,48,null,null,null,1,{"$f":"ROUND((OFFSET(Evap!$C$3,$M$2,$L15,1,1)*7/OFFSET($K$2,$L15,0,1,1))+OFFSET('input บ่อปลา'!$B$4,0,$D$1,1,1),2)","v":41.19},null,31,{"$f":"ROUND(OFFSET(ฝนใช้การ!$A$2,$O$2,$L15,1,1)*7/$O15,2)","v":1.29},null,null,null,null,null,null,null,null,null,null,null,null,null,null,null,null,null,null,null,null,null,null,null,null,null,null,null,null,null,null,null,null,null,null,null,null,null,null,null,null,null,null,null,null,null,null,null,null,null,null,null,null,null,null,null,null,null,null,null,null,null,null,null,null,null,null,null,null,null,null,null,null,null,null,null,null,null,null,null,null,null,null,null,null,null,null,null,null,null,null,null,null,null,null,null,null,null,null,null,null,null,null,null,null,null,null,null,null,null,null,null,null,null,null,null,null,null,null,null,null,null,null,null,null,null,null,null,null,null,null,null,null,null,null,null,null,null,null,null,null,null,null,null,null,null,null,null,null,null,null,null,null,null,null,null,null,null,null,null,null,null,null,null,null,null,null,null,null,null,null,null,null,null,null,null,null,null,null,null,null,null,null,null,null,null,null,null,null,null,null,null,null,null,null,null,null,null,null,null,null,null,null,null,null,0,0]
[14,"2018-01-31","2018-02-06","2018-02-06",{"$f":"OFFSET('input บ่อปลา'!$B$6,$A16,$D$1,1,1)","v":0},1200,4,48,null,null,null,1,{"$f":"ROUND((OFFSET(Evap!$C$3,$M$2,$L16,1,1)*7/OFFSET($K$2,$L16,0,1,1))+OFFSET('input บ่อปลา'!$B$4,0,$D$1,1,1),2)","v":41.19},null,31,{"$f":"ROUND(OFFSET(ฝนใช้การ!$A$2,$O$2,$L16,1,1)*7/$O16,2)","v":1.29},null,null,null,null,null,null,null,null,null,null,null,null,null,null,null,null,null,null,null,null,null,null,null,null,null,null,null,null,null,null,null,null,null,null,null,null,null,null,null,null,null,null,null,null,null,null,null,null,null,null,null,null,null,null,null,null,null,null,null,null,null,null,null,null,null,null,null,null,null,null,null,null,null,null,null,null,null,null,null,null,null,null,null,null,null,null,null,null,null,null,null,null,null,null,null,null,null,null,null,null,null,null,null,null,null,null,null,null,null,null,null,null,null,null,null,null,null,null,null,null,null,null,null,null,null,null,null,null,null,null,null,null,null,null,null,null,null,null,null,null,null,null,null,null,null,null,null,null,null,null,null,null,null,null,null,null,null,null,null,null,null,null,null,null,null,null,null,null,null,null,null,null,null,null,null,null,null,null,null,null,null,null,null,null,null,null,null,null,null,null,null,null,null,null,null,null,null,null,null,null,null,null,null,null,0,0]
[15,"2018-02-07","2018-02-13","2018-02-13",{"$f":"OFFSET('input บ่อปลา'!$B$6,$A17,$D$1,1,1)","v":0},1200,4,48,null,null,null,2,{"$f":"ROUND((OFFSET(Evap!$C$3,$M$2,$L17,1,1)*7/OFFSET($K$2,$L17,0,1,1))+OFFSET('input บ่อปลา'!$B$4,0,$D$1,1,1),2)","v":44.95},null,28,{"$f":"ROUND(OFFSET(ฝนใช้การ!$A$2,$O$2,$L17,1,1)*7/$O17,2)","v":2.7},null,null,null,null,null,null,null,null,null,null,null,null,null,null,null,null,null,null,null,null,null,null,null,null,null,null,null,null,null,null,null,null,null,null,null,null,null,null,null,null,null,null,null,null,null,null,null,null,null,null,null,null,null,null,null,null,null,null,null,null,null,null,null,null,null,null,null,null,null,null,null,null,null,null,null,null,null,null,null,null,null,null,null,null,null,null,null,null,null,null,null,null,null,null,null,null,null,null,null,null,null,null,null,null,null,null,null,null,null,null,null,null,null,null,null,null,null,null,null,null,null,null,null,null,null,null,null,null,null,null,null,null,null,null,null,null,null,null,null,null,null,null,null,null,null,null,null,null,null,null,null,null,null,null,null,null,null,null,null,null,null,null,null,null,null,null,null,null,null,null,null,null,null,null,null,null,null,null,null,null,null,null,null,null,null,null,null,null,null,null,null,null,null,null,null,null,null,null,null,null,null,null,null,null,0,0]
[16,"2018-02-14","2018-02-20","2018-02-20",{"$f":"OFFSET('input บ่อปลา'!$B$6,$A18,$D$1,1,1)","v":0},1200,4,48,null,null,null,2,{"$f":"ROUND((OFFSET(Evap!$C$3,$M$2,$L18,1,1)*7/OFFSET($K$2,$L18,0,1,1))+OFFSET('input บ่อปลา'!$B$4,0,$D$1,1,1),2)","v":44.95},null,28,{"$f":"ROUND(OFFSET(ฝนใช้การ!$A$2,$O$2,$L18,1,1)*7/$O18,2)","v":2.7},null,null,null,null,null,null,null,null,null,null,null,null,null,null,null,null,null,null,null,null,null,null,null,null,null,null,null,null,null,null,null,null,null,null,null,null,null,null,null,null,null,null,null,null,null,null,null,null,null,null,null,null,null,null,null,null,null,null,null,null,null,null,null,null,null,null,null,null,null,null,null,null,null,null,null,null,null,null,null,null,null,null,null,null,null,null,null,null,null,null,null,null,null,null,null,null,null,null,null,null,null,null,null,null,null,null,null,null,null,null,null,null,null,null,null,null,null,null,null,null,null,null,null,null,null,null,null,null,null,null,null,null,null,null,null,null,null,null,null,null,null,null,null,null,null,null,null,null,null,null,null,null,null,null,null,null,null,null,null,null,null,null,null,null,null,null,null,null,null,null,null,null,null,null,null,null,null,null,null,null,null,null,null,null,null,null,null,null,null,null,null,null,null,null,null,null,null,null,null,null,null,null,null,null,0,0]
[17,"2018-02-21","2018-02-27","2018-02-27",{"$f":"OFFSET('input บ่อปลา'!$B$6,$A19,$D$1,1,1)","v":0},1200,4,48,null,null,null,2,{"$f":"ROUND((OFFSET(Evap!$C$3,$M$2,$L19,1,1)*7/OFFSET($K$2,$L19,0,1,1))+OFFSET('input บ่อปลา'!$B$4,0,$D$1,1,1),2)","v":44.95},null,28,{"$f":"ROUND(OFFSET(ฝนใช้การ!$A$2,$O$2,$L19,1,1)*7/$O19,2)","v":2.7},null,null,null,null,null,null,null,null,null,null,null,null,null,null,null,null,null,null,null,null,null,null,null,null,null,null,null,null,null,null,null,null,null,null,null,null,null,null,null,null,null,null,null,null,null,null,null,null,null,null,null,null,null,null,null,null,null,null,null,null,null,null,null,null,null,null,null,null,null,null,null,null,null,null,null,null,null,null,null,null,null,null,null,null,null,null,null,null,null,null,null,null,null,null,null,null,null,null,null,null,null,null,null,null,null,null,null,null,null,null,null,null,null,null,null,null,null,null,null,null,null,null,null,null,null,null,null,null,null,null,null,null,null,null,null,null,null,null,null,null,null,null,null,null,null,null,null,null,null,null,null,null,null,null,null,null,null,null,null,null,null,null,null,null,null,null,null,null,null,null,null,null,null,null,null,null,null,null,null,null,null,null,null,null,null,null,null,null,null,null,null,null,null,null,null,null,null,null,null,null,null,null,null,null,0,0]
[18,"2018-02-28","2018-03-06","2018-03-06",{"$f":"OFFSET('input บ่อปลา'!$B$6,$A20,$D$1,1,1)","v":0},1200,4,48,null,null,null,2,{"$f":"ROUND((OFFSET(Evap!$C$3,$M$2,$L20,1,1)*7/OFFSET($K$2,$L20,0,1,1))+OFFSET('input บ่อปลา'!$B$4,0,$D$1,1,1),2)","v":44.95},null,28,{"$f":"ROUND(OFFSET(ฝนใช้การ!$A$2,$O$2,$L20,1,1)*7/$O20,2)","v":2.7},null,null,null,null,null,null,null,null,null,null,null,null,null,null,null,null,null,null,null,null,null,null,null,null,null,null,null,null,null,null,null,null,null,null,null,null,null,null,null,null,null,null,null,null,null,null,null,null,null,null,null,null,null,null,null,null,null,null,null,null,null,null,null,null,null,null,null,null,null,null,null,null,null,null,null,null,null,null,null,null,null,null,null,null,null,null,null,null,null,null,null,null,null,null,null,null,null,null,null,null,null,null,null,null,null,null,null,null,null,null,null,null,null,null,null,null,null,null,null,null,null,null,null,null,null,null,null,null,null,null,null,null,null,null,null,null,null,null,null,null,null,null,null,null,null,null,null,null,null,null,null,null,null,null,null,null,null,null,null,null,null,null,null,null,null,null,null,null,null,null,null,null,null,null,null,null,null,null,null,null,null,null,null,null,null,null,null,null,null,null,null,null,null,null,null,null,null,null,null,null,null,null,null,null,0,0]
[19,"2018-03-07","2018-03-13","2018-03-13",{"$f":"OFFSET('input บ่อปลา'!$B$6,$A21,$D$1,1,1)","v":0},1200,4,48,null,null,null,3,{"$f":"ROUND((OFFSET(Evap!$C$3,$M$2,$L21,1,1)*7/OFFSET($K$2,$L21,0,1,1))+OFFSET('input บ่อปลา'!$B$4,0,$D$1,1,1),2)","v":51.01},null,31,{"$f":"ROUND(OFFSET(ฝนใช้การ!$A$2,$O$2,$L21,1,1)*7/$O21,2)","v":6.44},null,null,null,null,null,null,null,null,null,null,null,null,null,null,null,null,null,null,null,null,null,null,null,null,null,null,null,null,null,null,null,null,null,null,null,null,null,null,null,null,null,null,null,null,null,null,null,null,null,null,null,null,null,null,null,null,null,null,null,null,null,null,null,null,null,null,null,null,null,null,null,null,null,null,null,null,null,null,null,null,null,null,null,null,null,null,null,null,null,null,null,null,null,null,null,null,null,null,null,null,null,null,null,null,null,null,null,null,null,null,null,null,null,null,null,null,null,null,null,null,null,null,null,null,null,null,null,null,null,null,null,null,null,null,null,null,null,null,null,null,null,null,null,null,null,null,null,null,null,null,null,null,null,null,null,null,null,null,null,null,null,null,null,null,null,null,null,null,null,null,null,null,null,null,null,null,null,null,null,null,null,null,null,null,null,null,null,null,null,null,null,null,null,null,null,null,null,null,null,null,null,null,null,null,0,0]
[20,"2018-03-14","2018-03-20","2018-03-20",{"$f":"OFFSET('input บ่อปลา'!$B$6,$A22,$D$1,1,1)","v":0},1200,4,48,null,null,null,3,{"$f":"ROUND((OFFSET(Evap!$C$3,$M$2,$L22,1,1)*7/OFFSET($K$2,$L22,0,1,1))+OFFSET('input บ่อปลา'!$B$4,0,$D$1,1,1),2)","v":51.01},null,31,{"$f":"ROUND(OFFSET(ฝนใช้การ!$A$2,$O$2,$L22,1,1)*7/$O22,2)","v":6.44},null,null,null,null,null,null,null,null,null,null,null,null,null,null,null,null,null,null,null,null,null,null,null,null,null,null,null,null,null,null,null,null,null,null,null,null,null,null,null,null,null,null,null,null,null,null,null,null,null,null,null,null,null,null,null,null,null,null,null,null,null,null,null,null,null,null,null,null,null,null,null,null,null,null,null,null,null,null,null,null,null,null,null,null,null,null,null,null,null,null,null,null,null,null,null,null,null,null,null,null,null,null,null,null,null,null,null,null,null,null,null,null,null,null,null,null,null,null,null,null,null,null,null,null,null,null,null,null,null,null,null,null,null,null,null,null,null,null,null,null,null,null,null,null,null,null,null,null,null,null,null,null,null,null,null,null,null,null,null,null,null,null,null,null,null,null,null,null,null,null,null,null,null,null,null,null,null,null,null,null,null,null,null,null,null,null,null,null,null,null,null,null,null,null,null,null,null,null,null,null,null,null,null,null,0,0]
[21,"2018-03-21","2018-03-27","2018-03-27",{"$f":"OFFSET('input บ่อปลา'!$B$6,$A23,$D$1,1,1)","v":0},1200,4,48,null,null,null,3,{"$f":"ROUND((OFFSET(Evap!$C$3,$M$2,$L23,1,1)*7/OFFSET($K$2,$L23,0,1,1))+OFFSET('input บ่อปลา'!$B$4,0,$D$1,1,1),2)","v":51.01},null,31,{"$f":"ROUND(OFFSET(ฝนใช้การ!$A$2,$O$2,$L23,1,1)*7/$O23,2)","v":6.44},null,null,null,null,null,null,null,null,null,null,null,null,null,null,null,null,null,null,null,null,null,null,null,null,null,null,null,null,null,null,null,null,null,null,null,null,null,null,null,null,null,null,null,null,null,null,null,null,null,null,null,null,null,null,null,null,null,null,null,null,null,null,null,null,null,null,null,null,null,null,null,null,null,null,null,null,null,null,null,null,null,null,null,null,null,null,null,null,null,null,null,null,null,null,null,null,null,null,null,null,null,null,null,null,null,null,null,null,null,null,null,null,null,null,null,null,null,null,null,null,null,null,null,null,null,null,null,null,null,null,null,null,null,null,null,null,null,null,null,null,null,null,null,null,null,null,null,null,null,null,null,null,null,null,null,null,null,null,null,null,null,null,null,null,null,null,null,null,null,null,null,null,null,null,null,null,null,null,null,null,null,null,null,null,null,null,null,null,null,null,null,null,null,null,null,null,null,null,null,null,null,null,null,null,0,0]
[22,"2018-03-28","2018-04-03","2018-04-03",{"$f":"OFFSET('input บ่อปลา'!$B$6,$A24,$D$1,1,1)","v":0},1200,4,48,null,null,null,3,{"$f":"ROUND((OFFSET(Evap!$C$3,$M$2,$L24,1,1)*7/OFFSET($K$2,$L24,0,1,1))+OFFSET('input บ่อปลา'!$B$4,0,$D$1,1,1),2)","v":51.01},null,31,{"$f":"ROUND(OFFSET(ฝนใช้การ!$A$2,$O$2,$L24,1,1)*7/$O24,2)","v":6.44},null,null,null,null,null,null,null,null,null,null,null,null,null,null,null,null,null,null,null,null,null,null,null,null,null,null,null,null,null,null,null,null,null,null,null,null,null,null,null,null,null,null,null,null,null,null,null,null,null,null,null,null,null,null,null,null,null,null,null,null,null,null,null,null,null,null,null,null,null,null,null,null,null,null,null,null,null,null,null,null,null,null,null,null,null,null,null,null,null,null,null,null,null,null,null,null,null,null,null,null,null,null,null,null,null,null,null,null,null,null,null,null,null,null,null,null,null,null,null,null,null,null,null,null,null,null,null,null,null,null,null,null,null,null,null,null,null,null,null,null,null,null,null,null,null,null,null,null,null,null,null,null,null,null,null,null,null,null,null,null,null,null,null,null,null,null,null,null,null,null,null,null,null,null,null,null,null,null,null,null,null,null,null,null,null,null,null,null,null,null,null,null,null,null,null,null,null,null,null,null,null,null,null,null,0,0]
[23,"2018-04-04","2018-04-10","2018-04-10",{"$f":"OFFSET('input บ่อปลา'!$B$6,$A25,$D$1,1,1)","v":0},1200,4,48,null,null,null,4,{"$f":"ROUND((OFFSET(Evap!$C$3,$M$2,$L25,1,1)*7/OFFSET($K$2,$L25,0,1,1))+OFFSET('input บ่อปลา'!$B$4,0,$D$1,1,1),2)","v":52.31},null,30,{"$f":"ROUND(OFFSET(ฝนใช้การ!$A$2,$O$2,$L25,1,1)*7/$O25,2)","v":11.74},null,null,null,null,null,null,null,null,null,null,null,null,null,null,null,null,null,null,null,null,null,null,null,null,null,null,null,null,null,null,null,null,null,null,null,null,null,null,null,null,null,null,null,null,null,null,null,null,null,null,null,null,null,null,null,null,null,null,null,null,null,null,null,null,null,null,null,null,null,null,null,null,null,null,null,null,null,null,null,null,null,null,null,null,null,null,null,null,null,null,null,null,null,null,null,null,null,null,null,null,null,null,null,null,null,null,null,null,null,null,null,null,null,null,null,null,null,null,null,null,null,null,null,null,null,null,null,null,null,null,null,null,null,null,null,null,null,null,null,null,null,null,null,null,null,null,null,null,null,null,null,null,null,null,null,null,null,null,null,null,null,null,null,null,null,null,null,null,null,null,null,null,null,null,null,null,null,null,null,null,null,null,null,null,null,null,null,null,null,null,null,null,null,null,null,null,null,null,null,null,null,null,null,null,0,0]
[24,"2018-04-11","2018-04-17","2018-04-17",{"$f":"OFFSET('input บ่อปลา'!$B$6,$A26,$D$1,1,1)","v":0},1200,4,48,null,null,null,4,{"$f":"ROUND((OFFSET(Evap!$C$3,$M$2,$L26,1,1)*7/OFFSET($K$2,$L26,0,1,1))+OFFSET('input บ่อปลา'!$B$4,0,$D$1,1,1),2)","v":52.31},null,30,{"$f":"ROUND(OFFSET(ฝนใช้การ!$A$2,$O$2,$L26,1,1)*7/$O26,2)","v":11.74},null,null,null,null,null,null,null,null,null,null,null,null,null,null,null,null,null,null,null,null,null,null,null,null,null,null,null,null,null,null,null,null,null,null,null,null,null,null,null,null,null,null,null,null,null,null,null,null,null,null,null,null,null,null,null,null,null,null,null,null,null,null,null,null,null,null,null,null,null,null,null,null,null,null,null,null,null,null,null,null,null,null,null,null,null,null,null,null,null,null,null,null,null,null,null,null,null,null,null,null,null,null,null,null,null,null,null,null,null,null,null,null,null,null,null,null,null,null,null,null,null,null,null,null,null,null,null,null,null,null,null,null,null,null,null,null,null,null,null,null,null,null,null,null,null,null,null,null,null,null,null,null,null,null,null,null,null,null,null,null,null,null,null,null,null,null,null,null,null,null,null,null,null,null,null,null,null,null,null,null,null,null,null,null,null,null,null,null,null,null,null,null,null,null,null,null,null,null,null,null,null,null,null,null,0,0]
[25,"2018-04-18","2018-04-24","2018-04-24",{"$f":"OFFSET('input บ่อปลา'!$B$6,$A27,$D$1,1,1)","v":0},1200,4,48,null,null,null,4,{"$f":"ROUND((OFFSET(Evap!$C$3,$M$2,$L27,1,1)*7/OFFSET($K$2,$L27,0,1,1))+OFFSET('input บ่อปลา'!$B$4,0,$D$1,1,1),2)","v":52.31},null,30,{"$f":"ROUND(OFFSET(ฝนใช้การ!$A$2,$O$2,$L27,1,1)*7/$O27,2)","v":11.74},null,null,null,null,null,null,null,null,null,null,null,null,null,null,null,null,null,null,null,null,null,null,null,null,null,null,null,null,null,null,null,null,null,null,null,null,null,null,null,null,null,null,null,null,null,null,null,null,null,null,null,null,null,null,null,null,null,null,null,null,null,null,null,null,null,null,null,null,null,null,null,null,null,null,null,null,null,null,null,null,null,null,null,null,null,null,null,null,null,null,null,null,null,null,null,null,null,null,null,null,null,null,null,null,null,null,null,null,null,null,null,null,null,null,null,null,null,null,null,null,null,null,null,null,null,null,null,null,null,null,null,null,null,null,null,null,null,null,null,null,null,null,null,null,null,null,null,null,null,null,null,null,null,null,null,null,null,null,null,null,null,null,null,null,null,null,null,null,null,null,null,null,null,null,null,null,null,null,null,null,null,null,null,null,null,null,null,null,null,null,null,null,null,null,null,null,null,null,null,null,null,null,null,null,0,0]
[26,"2018-04-25","2018-05-01","2018-05-01",{"$f":"OFFSET('input บ่อปลา'!$B$6,$A28,$D$1,1,1)","v":0},1200,4,48,null,null,null,4,{"$f":"ROUND((OFFSET(Evap!$C$3,$M$2,$L28,1,1)*7/OFFSET($K$2,$L28,0,1,1))+OFFSET('input บ่อปลา'!$B$4,0,$D$1,1,1),2)","v":52.31},null,30,{"$f":"ROUND(OFFSET(ฝนใช้การ!$A$2,$O$2,$L28,1,1)*7/$O28,2)","v":11.74},null,null,null,null,null,null,null,null,null,null,null,null,null,null,null,null,null,null,null,null,null,null,null,null,null,null,null,null,null,null,null,null,null,null,null,null,null,null,null,null,null,null,null,null,null,null,null,null,null,null,null,null,null,null,null,null,null,null,null,null,null,null,null,null,null,null,null,null,null,null,null,null,null,null,null,null,null,null,null,null,null,null,null,null,null,null,null,null,null,null,null,null,null,null,null,null,null,null,null,null,null,null,null,null,null,null,null,null,null,null,null,null,null,null,null,null,null,null,null,null,null,null,null,null,null,null,null,null,null,null,null,null,null,null,null,null,null,null,null,null,null,null,null,null,null,null,null,null,null,null,null,null,null,null,null,null,null,null,null,null,null,null,null,null,null,null,null,null,null,null,null,null,null,null,null,null,null,null,null,null,null,null,null,null,null,null,null,null,null,null,null,null,null,null,null,null,null,null,null,null,null,null,null,null,0,0]
[27,"2018-05-02","2018-05-08","2018-05-08",{"$f":"OFFSET('input บ่อปลา'!$B$6,$A29,$D$1,1,1)","v":0},1200,3,36,null,null,null,5,{"$f":"ROUND((OFFSET(Evap!$C$3,$M$2,$L29,1,1)*7/OFFSET($K$2,$L29,0,1,1))+OFFSET('input บ่อปลา'!$B$4,0,$D$1,1,1),2)","v":48.62},null,31,{"$f":"ROUND(OFFSET(ฝนใช้การ!$A$2,$O$2,$L29,1,1)*7/$O29,2)","v":26.51},null,null,null,null,null,null,null,null,null,null,null,null,null,null,null,null,null,null,null,null,null,null,null,null,null,null,null,null,null,null,null,null,null,null,null,null,null,null,null,null,null,null,null,null,null,null,null,null,null,null,null,null,null,null,null,null,null,null,null,null,null,null,null,null,null,null,null,null,null,null,null,null,null,null,null,null,null,null,null,null,null,null,null,null,null,null,null,null,null,null,null,null,null,null,null,null,null,null,null,null,null,null,null,null,null,null,null,null,null,null,null,null,null,null,null,null,null,null,null,null,null,null,null,null,null,null,null,null,null,null,null,null,null,null,null,null,null,null,null,null,null,null,null,null,null,null,null,null,null,null,null,null,null,null,null,null,null,null,null,null,null,null,null,null,null,null,null,null,null,null,null,null,null,null,null,null,null,null,null,null,null,null,null,null,null,null,null,null,null,null,null,null,null,null,null,null,null,null,null,null,null,null,null,null,0,0]
[28,"2018-05-09","2018-05-15","2018-05-15",{"$f":"OFFSET('input บ่อปลา'!$B$6,$A30,$D$1,1,1)","v":0},1200,3,36,null,null,null,5,{"$f":"ROUND((OFFSET(Evap!$C$3,$M$2,$L30,1,1)*7/OFFSET($K$2,$L30,0,1,1))+OFFSET('input บ่อปลา'!$B$4,0,$D$1,1,1),2)","v":48.62},null,31,{"$f":"ROUND(OFFSET(ฝนใช้การ!$A$2,$O$2,$L30,1,1)*7/$O30,2)","v":26.51},null,null,null,null,null,null,null,null,null,null,null,null,null,null,null,null,null,null,null,null,null,null,null,null,null,null,null,null,null,null,null,null,null,null,null,null,null,null,null,null,null,null,null,null,null,null,null,null,null,null,null,null,null,null,null,null,null,null,null,null,null,null,null,null,null,null,null,null,null,null,null,null,null,null,null,null,null,null,null,null,null,null,null,null,null,null,null,null,null,null,null,null,null,null,null,null,null,null,null,null,null,null,null,null,null,null,null,null,null,null,null,null,null,null,null,null,null,null,null,null,null,null,null,null,null,null,null,null,null,null,null,null,null,null,null,null,null,null,null,null,null,null,null,null,null,null,null,null,null,null,null,null,null,null,null,null,null,null,null,null,null,null,null,null,null,null,null,null,null,null,null,null,null,null,null,null,null,null,null,null,null,null,null,null,null,null,null,null,null,null,null,null,null,null,null,null,null,null,null,null,null,null,null,null,0,0]
[29,"2018-05-16","2018-05-22","2018-05-22",{"$f":"OFFSET('input บ่อปลา'!$B$6,$A31,$D$1,1,1)","v":0},1200,3,36,null,null,null,5,{"$f":"ROUND((OFFSET(Evap!$C$3,$M$2,$L31,1,1)*7/OFFSET($K$2,$L31,0,1,1))+OFFSET('input บ่อปลา'!$B$4,0,$D$1,1,1),2)","v":48.62},null,31,{"$f":"ROUND(OFFSET(ฝนใช้การ!$A$2,$O$2,$L31,1,1)*7/$O31,2)","v":26.51},null,null,null,null,null,null,null,null,null,null,null,null,null,null,null,null,null,null,null,null,null,null,null,null,null,null,null,null,null,null,null,null,null,null,null,null,null,null,null,null,null,null,null,null,null,null,null,null,null,null,null,null,null,null,null,null,null,null,null,null,null,null,null,null,null,null,null,null,null,null,null,null,null,null,null,null,null,null,null,null,null,null,null,null,null,null,null,null,null,null,null,null,null,null,null,null,null,null,null,null,null,null,null,null,null,null,null,null,null,null,null,null,null,null,null,null,null,null,null,null,null,null,null,null,null,null,null,null,null,null,null,null,null,null,null,null,null,null,null,null,null,null,null,null,null,null,null,null,null,null,null,null,null,null,null,null,null,null,null,null,null,null,null,null,null,null,null,null,null,null,null,null,null,null,null,null,null,null,null,null,null,null,null,null,null,null,null,null,null,null,null,null,null,null,null,null,null,null,null,null,null,null,null,null,0,0]
[30,"2018-05-23","2018-05-29","2018-05-29",{"$f":"OFFSET('input บ่อปลา'!$B$6,$A32,$D$1,1,1)","v":0},1200,3,36,null,null,null,5,{"$f":"ROUND((OFFSET(Evap!$C$3,$M$2,$L32,1,1)*7/OFFSET($K$2,$L32,0,1,1))+OFFSET('input บ่อปลา'!$B$4,0,$D$1,1,1),2)","v":48.62},null,31,{"$f":"ROUND(OFFSET(ฝนใช้การ!$A$2,$O$2,$L32,1,1)*7/$O32,2)","v":26.51},null,null,null,null,null,null,null,null,null,null,null,null,null,null,null,null,null,null,null,null,null,null,null,null,null,null,null,null,null,null,null,null,null,null,null,null,null,null,null,null,null,null,null,null,null,null,null,null,null,null,null,null,null,null,null,null,null,null,null,null,null,null,null,null,null,null,null,null,null,null,null,null,null,null,null,null,null,null,null,null,null,null,null,null,null,null,null,null,null,null,null,null,null,null,null,null,null,null,null,null,null,null,null,null,null,null,null,null,null,null,null,null,null,null,null,null,null,null,null,null,null,null,null,null,null,null,null,null,null,null,null,null,null,null,null,null,null,null,null,null,null,null,null,null,null,null,null,null,null,null,null,null,null,null,null,null,null,null,null,null,null,null,null,null,null,null,null,null,null,null,null,null,null,null,null,null,null,null,null,null,null,null,null,null,null,null,null,null,null,null,null,null,null,null,null,null,null,null,null,null,null,null,null,null,0,0]
[31,"2018-05-30","2018-06-05","2018-06-05",{"$f":"OFFSET('input บ่อปลา'!$B$6,$A33,$D$1,1,1)","v":0},1200,4,48,null,null,null,5,{"$f":"ROUND((OFFSET(Evap!$C$3,$M$2,$L33,1,1)*7/OFFSET($K$2,$L33,0,1,1))+OFFSET('input บ่อปลา'!$B$4,0,$D$1,1,1),2)","v":48.62},null,31,{"$f":"ROUND(OFFSET(ฝนใช้การ!$A$2,$O$2,$L33,1,1)*7/$O33,2)","v":26.51},null,null,null,null,null,null,null,null,null,null,null,null,null,null,null,null,null,null,null,null,null,null,null,null,null,null,null,null,null,null,null,null,null,null,null,null,null,null,null,null,null,null,null,null,null,null,null,null,null,null,null,null,null,null,null,null,null,null,null,null,null,null,null,null,null,null,null,null,null,null,null,null,null,null,null,null,null,null,null,null,null,null,null,null,null,null,null,null,null,null,null,null,null,null,null,null,null,null,null,null,null,null,null,null,null,null,null,null,null,null,null,null,null,null,null,null,null,null,null,null,null,null,null,null,null,null,null,null,null,null,null,null,null,null,null,null,null,null,null,null,null,null,null,null,null,null,null,null,null,null,null,null,null,null,null,null,null,null,null,null,null,null,null,null,null,null,null,null,null,null,null,null,null,null,null,null,null,null,null,null,null,null,null,null,null,null,null,null,null,null,null,null,null,null,null,null,null,null,null,null,null,null,null,null,0,0]
[32,"2018-06-06","2018-06-12","2018-06-12",{"$f":"OFFSET('input บ่อปลา'!$B$6,$A34,$D$1,1,1)","v":0},1200,4,48,null,null,null,6,{"$f":"ROUND((OFFSET(Evap!$C$3,$M$2,$L34,1,1)*7/OFFSET($K$2,$L34,0,1,1))+OFFSET('input บ่อปลา'!$B$4,0,$D$1,1,1),2)","v":45.22},null,30,{"$f":"ROUND(OFFSET(ฝนใช้การ!$A$2,$O$2,$L34,1,1)*7/$O34,2)","v":21.07},null,null,null,null,null,null,null,null,null,null,null,null,null,null,null,null,null,null,null,null,null,null,null,null,null,null,null,null,null,null,null,null,null,null,null,null,null,null,null,null,null,null,null,null,null,null,null,null,null,null,null,null,null,null,null,null,null,null,null,null,null,null,null,null,null,null,null,null,null,null,null,null,null,null,null,null,null,null,null,null,null,null,null,null,null,null,null,null,null,null,null,null,null,null,null,null,null,null,null,null,null,null,null,null,null,null,null,null,null,null,null,null,null,null,null,null,null,null,null,null,null,null,null,null,null,null,null,null,null,null,null,null,null,null,null,null,null,null,null,null,null,null,null,null,null,null,null,null,null,null,null,null,null,null,null,null,null,null,null,null,null,null,null,null,null,null,null,null,null,null,null,null,null,null,null,null,null,null,null,null,null,null,null,null,null,null,null,null,null,null,null,null,null,null,null,null,null,null,null,null,null,null,null,null,0,0]
[33,"2018-06-13","2018-06-19","2018-06-19",{"$f":"OFFSET('input บ่อปลา'!$B$6,$A35,$D$1,1,1)","v":0},1200,4,48,null,null,null,6,{"$f":"ROUND((OFFSET(Evap!$C$3,$M$2,$L35,1,1)*7/OFFSET($K$2,$L35,0,1,1))+OFFSET('input บ่อปลา'!$B$4,0,$D$1,1,1),2)","v":45.22},null,30,{"$f":"ROUND(OFFSET(ฝนใช้การ!$A$2,$O$2,$L35,1,1)*7/$O35,2)","v":21.07},null,null,null,null,null,null,null,null,null,null,null,null,null,null,null,null,null,null,null,null,null,null,null,null,null,null,null,null,null,null,null,null,null,null,null,null,null,null,null,null,null,null,null,null,null,null,null,null,null,null,null,null,null,null,null,null,null,null,null,null,null,null,null,null,null,null,null,null,null,null,null,null,null,null,null,null,null,null,null,null,null,null,null,null,null,null,null,null,null,null,null,null,null,null,null,null,null,null,null,null,null,null,null,null,null,null,null,null,null,null,null,null,null,null,null,null,null,null,null,null,null,null,null,null,null,null,null,null,null,null,null,null,null,null,null,null,null,null,null,null,null,null,null,null,null,null,null,null,null,null,null,null,null,null,null,null,null,null,null,null,null,null,null,null,null,null,null,null,null,null,null,null,null,null,null,null,null,null,null,null,null,null,null,null,null,null,null,null,null,null,null,null,null,null,null,null,null,null,null,null,null,null,null,null,{"$f":"IF(H35+M35-P35>0,H35+M35-P35,0)*$E35*1.6","v":0},{"$f":"HM35*100/$HO$2","v":0}]
[34,"2018-06-20","2018-06-26","2018-06-26",{"$f":"OFFSET('input บ่อปลา'!$B$6,$A36,$D$1,1,1)","v":0},1200,4,48,null,null,null,6,{"$f":"ROUND((OFFSET(Evap!$C$3,$M$2,$L36,1,1)*7/OFFSET($K$2,$L36,0,1,1))+OFFSET('input บ่อปลา'!$B$4,0,$D$1,1,1),2)","v":45.22},null,30,{"$f":"ROUND(OFFSET(ฝนใช้การ!$A$2,$O$2,$L36,1,1)*7/$O36,2)","v":21.07},null,null,null,null,null,null,null,null,null,null,null,null,null,null,null,null,null,null,null,null,null,null,null,null,null,null,null,null,null,null,null,null,null,null,null,null,null,null,null,null,null,null,null,null,null,null,null,null,null,null,null,null,null,null,null,null,null,null,null,null,null,null,null,null,null,null,null,null,null,null,null,null,null,null,null,null,null,null,null,null,null,null,null,null,null,null,null,null,null,null,null,null,null,null,null,null,null,null,null,null,null,null,null,null,null,null,null,null,null,null,null,null,null,null,null,null,null,null,null,null,null,null,null,null,null,null,null,null,null,null,null,null,null,null,null,null,null,null,null,null,null,null,null,null,null,null,null,null,null,null,null,null,null,null,null,null,null,null,null,null,null,null,null,null,null,null,null,null,null,null,null,null,null,null,null,null,null,null,null,null,null,null,null,null,null,null,null,null,null,null,null,null,null,null,null,null,null,null,null,null,null,null,null,null,0,0]
[35,"2018-06-27","2018-07-03","2018-07-03",{"$f":"OFFSET('input บ่อปลา'!$B$6,$A37,$D$1,1,1)","v":0},1200,4,48,null,null,null,6,{"$f":"ROUND((OFFSET(Evap!$C$3,$M$2,$L37,1,1)*7/OFFSET($K$2,$L37,0,1,1))+OFFSET('input บ่อปลา'!$B$4,0,$D$1,1,1),2)","v":45.22},null,30,{"$f":"ROUND(OFFSET(ฝนใช้การ!$A$2,$O$2,$L37,1,1)*7/$O37,2)","v":21.07},null,null,null,null,null,null,null,null,null,null,null,null,null,null,null,null,null,null,null,null,null,null,null,null,null,null,null,null,null,null,null,null,null,null,null,null,null,null,null,null,null,null,null,null,null,null,null,null,null,null,null,null,null,null,null,null,null,null,null,null,null,null,null,null,null,null,null,null,null,null,null,null,null,null,null,null,null,null,null,null,null,null,null,null,null,null,null,null,null,null,null,null,null,null,null,null,null,null,null,null,null,null,null,null,null,null,null,null,null,null,null,null,null,null,null,null,null,null,null,null,null,null,null,null,null,null,null,null,null,null,null,null,null,null,null,null,null,null,null,null,null,null,null,null,null,null,null,null,null,null,null,null,null,null,null,null,null,null,null,null,null,null,null,null,null,null,null,null,null,null,null,null,null,null,null,null,null,null,null,null,null,null,null,null,null,null,null,null,null,null,null,null,null,null,null,null,null,null,null,null,null,null,null,null,0,0]
[36,"2018-07-04","2018-07-10","2018-07-10",{"$f":"OFFSET('input บ่อปลา'!$B$6,$A38,$D$1,1,1)","v":0},1200,4,48,null,null,null,7,{"$f":"ROUND((OFFSET(Evap!$C$3,$M$2,$L38,1,1)*7/OFFSET($K$2,$L38,0,1,1))+OFFSET('input บ่อปลา'!$B$4,0,$D$1,1,1),2)","v":42.68},null,31,{"$f":"ROUND(OFFSET(ฝนใช้การ!$A$2,$O$2,$L38,1,1)*7/$O38,2)","v":27.8},null,null,null,null,null,null,null,null,null,null,null,null,null,null,null,null,null,null,null,null,null,null,null,null,null,null,null,null,null,null,null,null,null,null,null,null,null,null,null,null,null,null,null,null,null,null,null,null,null,null,null,null,null,null,null,null,null,null,null,null,null,null,null,null,null,null,null,null,null,null,null,null,null,null,null,null,null,null,null,null,null,null,null,null,null,null,null,null,null,null,null,null,null,null,null,null,null,null,null,null,null,null,null,null,null,null,null,null,null,null,null,null,null,null,null,null,null,null,null,null,null,null,null,null,null,null,null,null,null,null,null,null,null,null,null,null,null,null,null,null,null,null,null,null,null,null,null,null,null,null,null,null,null,null,null,null,null,null,null,null,null,null,null,null,null,null,null,null,null,null,null,null,null,null,null,null,null,null,null,null,null,null,null,null,null,null,null,null,null,null,null,null,null,null,null,null,null,null,null,null,null,null,null,null,0,0]
[37,"2018-07-11","2018-07-17","2018-07-17",{"$f":"OFFSET('input บ่อปลา'!$B$6,$A39,$D$1,1,1)","v":0},1200,4,48,null,null,null,7,{"$f":"ROUND((OFFSET(Evap!$C$3,$M$2,$L39,1,1)*7/OFFSET($K$2,$L39,0,1,1))+OFFSET('input บ่อปลา'!$B$4,0,$D$1,1,1),2)","v":42.68},null,31,{"$f":"ROUND(OFFSET(ฝนใช้การ!$A$2,$O$2,$L39,1,1)*7/$O39,2)","v":27.8},null,null,null,null,null,null,null,null,null,null,null,null,null,null,null,null,null,null,null,null,null,null,null,null,null,null,null,null,null,null,null,null,null,null,null,null,null,null,null,null,null,null,null,null,null,null,null,null,null,null,null,null,null,null,null,null,null,null,null,null,null,null,null,null,null,null,null,null,null,null,null,null,null,null,null,null,null,null,null,null,null,null,null,null,null,null,null,null,null,null,null,null,null,null,null,null,null,null,null,null,null,null,null,null,null,null,null,null,null,null,null,null,null,null,null,null,null,null,null,null,null,null,null,null,null,null,null,null,null,null,null,null,null,null,null,null,null,null,null,null,null,null,null,null,null,null,null,null,null,null,null,null,null,null,null,null,null,null,null,null,null,null,null,null,null,null,null,null,null,null,null,null,null,null,null,null,null,null,null,null,null,null,null,null,null,null,null,null,null,null,null,null,null,null,null,null,null,null,null,null,null,null,null,null,0,0]
[38,"2018-07-18","2018-07-24","2018-07-24",{"$f":"OFFSET('input บ่อปลา'!$B$6,$A40,$D$1,1,1)","v":0},1200,4,48,null,null,null,7,{"$f":"ROUND((OFFSET(Evap!$C$3,$M$2,$L40,1,1)*7/OFFSET($K$2,$L40,0,1,1))+OFFSET('input บ่อปลา'!$B$4,0,$D$1,1,1),2)","v":42.68},null,31,{"$f":"ROUND(OFFSET(ฝนใช้การ!$A$2,$O$2,$L40,1,1)*7/$O40,2)","v":27.8},null,null,null,null,null,null,null,null,null,null,null,null,null,null,null,null,null,null,null,null,null,null,null,null,null,null,null,null,null,null,null,null,null,null,null,null,null,null,null,null,null,null,null,null,null,null,null,null,null,null,null,null,null,null,null,null,null,null,null,null,null,null,null,null,null,null,null,null,null,null,null,null,null,null,null,null,null,null,null,null,null,null,null,null,null,null,null,null,null,null,null,null,null,null,null,null,null,null,null,null,null,null,null,null,null,null,null,null,null,null,null,null,null,null,null,null,null,null,null,null,null,null,null,null,null,null,null,null,null,null,null,null,null,null,null,null,null,null,null,null,null,null,null,null,null,null,null,null,null,null,null,null,null,null,null,null,null,null,null,null,null,null,null,null,null,null,null,null,null,null,null,null,null,null,null,null,null,null,null,null,null,null,null,null,null,null,null,null,null,null,null,null,null,null,null,null,null,null,null,null,null,null,null,null,0,0]
[39,"2018-07-25","2018-07-31","2018-07-31",{"$f":"OFFSET('input บ่อปลา'!$B$6,$A41,$D$1,1,1)","v":0},1200,4,48,null,null,null,7,{"$f":"ROUND((OFFSET(Evap!$C$3,$M$2,$L41,1,1)*7/OFFSET($K$2,$L41,0,1,1))+OFFSET('input บ่อปลา'!$B$4,0,$D$1,1,1),2)","v":42.68},null,31,{"$f":"ROUND(OFFSET(ฝนใช้การ!$A$2,$O$2,$L41,1,1)*7/$O41,2)","v":27.8},null,null,null,null,null,null,null,null,null,null,null,null,null,null,null,null,null,null,null,null,null,null,null,null,null,null,null,null,null,null,null,null,null,null,null,null,null,null,null,null,null,null,null,null,null,null,null,null,null,null,null,null,null,null,null,null,null,null,null,null,null,null,null,null,null,null,null,null,null,null,null,null,null,null,null,null,null,null,null,null,null,null,null,null,null,null,null,null,null,null,null,null,null,null,null,null,null,null,null,null,null,null,null,null,null,null,null,null,null,null,null,null,null,null,null,null,null,null,null,null,null,null,null,null,null,null,null,null,null,null,null,null,null,null,null,null,null,null,null,null,null,null,null,null,null,null,null,null,null,null,null,null,null,null,null,null,null,null,null,null,null,null,null,null,null,null,null,null,null,null,null,null,null,null,null,null,null,null,null,null,null,null,null,null,null,null,null,null,null,null,null,null,null,null,null,null,null,null,null,null,null,null,null,null,0,0]
[40,"2018-08-01","2018-08-07","2018-08-07",{"$f":"OFFSET('input บ่อปลา'!$B$6,$A42,$D$1,1,1)","v":0},1200,4,48,null,null,null,8,{"$f":"ROUND((OFFSET(Evap!$C$3,$M$2,$L42,1,1)*7/OFFSET($K$2,$L42,0,1,1))+OFFSET('input บ่อปลา'!$B$4,0,$D$1,1,1),2)","v":39.72},null,31,{"$f":"ROUND(OFFSET(ฝนใช้การ!$A$2,$O$2,$L42,1,1)*7/$O42,2)","v":33.17},null,null,null,null,null,null,null,null,null,null,null,null,null,null,null,null,null,null,null,null,null,null,null,null,null,null,null,null,null,null,null,null,null,null,null,null,null,null,null,null,null,null,null,null,null,null,null,null,null,null,null,null,null,null,null,null,null,null,null,null,null,null,null,null,null,null,null,null,null,null,null,null,null,null,null,null,null,null,null,null,null,null,null,null,null,null,null,null,null,null,null,null,null,null,null,null,null,null,null,null,null,null,null,null,null,null,null,null,null,null,null,null,null,null,null,null,null,null,null,null,null,null,null,null,null,null,null,null,null,null,null,null,null,null,null,null,null,null,null,null,null,null,null,null,null,null,null,null,null,null,null,null,null,null,null,null,null,null,null,null,null,null,null,null,null,null,null,null,null,null,null,null,null,null,null,null,null,null,null,null,null,null,null,null,null,null,null,null,null,null,null,null,null,null,null,null,null,null,null,null,null,null,null,null,0,0]
[41,"2018-08-08","2018-08-14","2018-08-14",{"$f":"OFFSET('input บ่อปลา'!$B$6,$A43,$D$1,1,1)","v":0},1200,4,48,null,null,null,8,{"$f":"ROUND((OFFSET(Evap!$C$3,$M$2,$L43,1,1)*7/OFFSET($K$2,$L43,0,1,1))+OFFSET('input บ่อปลา'!$B$4,0,$D$1,1,1),2)","v":39.72},null,31,{"$f":"ROUND(OFFSET(ฝนใช้การ!$A$2,$O$2,$L43,1,1)*7/$O43,2)","v":33.17},null,null,null,null,null,null,null,null,null,null,null,null,null,null,null,null,null,null,null,null,null,null,null,null,null,null,null,null,null,null,null,null,null,null,null,null,null,null,null,null,null,null,null,null,null,null,null,null,null,null,null,null,null,null,null,null,null,null,null,null,null,null,null,null,null,null,null,null,null,null,null,null,null,null,null,null,null,null,null,null,null,null,null,null,null,null,null,null,null,null,null,null,null,null,null,null,null,null,null,null,null,null,null,null,null,null,null,null,null,null,null,null,null,null,null,null,null,null,null,null,null,null,null,null,null,null,null,null,null,null,null,null,null,null,null,null,null,null,null,null,null,null,null,null,null,null,null,null,null,null,null,null,null,null,null,null,null,null,null,null,null,null,null,null,null,null,null,null,null,null,null,null,null,null,null,null,null,null,null,null,null,null,null,null,null,null,null,null,null,null,null,null,null,null,null,null,null,null,null,null,null,null,null,null,0,0]
[42,"2018-08-15","2018-08-21","2018-08-21",{"$f":"OFFSET('input บ่อปลา'!$B$6,$A44,$D$1,1,1)","v":0},1200,4,48,null,null,null,8,{"$f":"ROUND((OFFSET(Evap!$C$3,$M$2,$L44,1,1)*7/OFFSET($K$2,$L44,0,1,1))+OFFSET('input บ่อปลา'!$B$4,0,$D$1,1,1),2)","v":39.72},null,31,{"$f":"ROUND(OFFSET(ฝนใช้การ!$A$2,$O$2,$L44,1,1)*7/$O44,2)","v":33.17},null,null,null,null,null,null,null,null,null,null,null,null,null,null,null,null,null,null,null,null,null,null,null,null,null,null,null,null,null,null,null,null,null,null,null,null,null,null,null,null,null,null,null,null,null,null,null,null,null,null,null,null,null,null,null,null,null,null,null,null,null,null,null,null,null,null,null,null,null,null,null,null,null,null,null,null,null,null,null,null,null,null,null,null,null,null,null,null,null,null,null,null,null,null,null,null,null,null,null,null,null,null,null,null,null,null,null,null,null,null,null,null,null,null,null,null,null,null,null,null,null,null,null,null,null,null,null,null,null,null,null,null,null,null,null,null,null,null,null,null,null,null,null,null,null,null,null,null,null,null,null,null,null,null,null,null,null,null,null,null,null,null,null,null,null,null,null,null,null,null,null,null,null,null,null,null,null,null,null,null,null,null,null,null,null,null,null,null,null,null,null,null,null,null,null,null,null,null,null,null,null,null,null,null,0,0]
[43,"2018-08-22","2018-08-28","2018-08-28",{"$f":"OFFSET('input บ่อปลา'!$B$6,$A45,$D$1,1,1)","v":0},1200,4,48,null,null,null,8,{"$f":"ROUND((OFFSET(Evap!$C$3,$M$2,$L45,1,1)*7/OFFSET($K$2,$L45,0,1,1))+OFFSET('input บ่อปลา'!$B$4,0,$D$1,1,1),2)","v":39.72},null,31,{"$f":"ROUND(OFFSET(ฝนใช้การ!$A$2,$O$2,$L45,1,1)*7/$O45,2)","v":33.17},null,null,null,null,null,null,null,null,null,null,null,null,null,null,null,null,null,null,null,null,null,null,null,null,null,null,null,null,null,null,null,null,null,null,null,null,null,null,null,null,null,null,null,null,null,null,null,null,null,null,null,null,null,null,null,null,null,null,null,null,null,null,null,null,null,null,null,null,null,null,null,null,null,null,null,null,null,null,null,null,null,null,null,null,null,null,null,null,null,null,null,null,null,null,null,null,null,null,null,null,null,null,null,null,null,null,null,null,null,null,null,null,null,null,null,null,null,null,null,null,null,null,null,null,null,null,null,null,null,null,null,null,null,null,null,null,null,null,null,null,null,null,null,null,null,null,null,null,null,null,null,null,null,null,null,null,null,null,null,null,null,null,null,null,null,null,null,null,null,null,null,null,null,null,null,null,null,null,null,null,null,null,null,null,null,null,null,null,null,null,null,null,null,null,null,null,null,null,null,null,null,null,null,null,0,0]
[44,"2018-08-29","2018-09-04","2018-09-04",{"$f":"OFFSET('input บ่อปลา'!$B$6,$A46,$D$1,1,1)","v":0},1200,4,48,null,null,null,8,{"$f":"ROUND((OFFSET(Evap!$C$3,$M$2,$L46,1,1)*7/OFFSET($K$2,$L46,0,1,1))+OFFSET('input บ่อปลา'!$B$4,0,$D$1,1,1),2)","v":39.72},null,31,{"$f":"ROUND(OFFSET(ฝนใช้การ!$A$2,$O$2,$L46,1,1)*7/$O46,2)","v":33.17},null,null,null,null,null,null,null,null,null,null,null,null,null,null,null,null,null,null,null,null,null,null,null,null,null,null,null,null,null,null,null,null,null,null,null,null,null,null,null,null,null,null,null,null,null,null,null,null,null,null,null,null,null,null,null,null,null,null,null,null,null,null,null,null,null,null,null,null,null,null,null,null,null,null,null,null,null,null,null,null,null,null,null,null,null,null,null,null,null,null,null,null,null,null,null,null,null,null,null,null,null,null,null,null,null,null,null,null,null,null,null,null,null,null,null,null,null,null,null,null,null,null,null,null,null,null,null,null,null,null,null,null,null,null,null,null,null,null,null,null,null,null,null,null,null,null,null,null,null,null,null,null,null,null,null,null,null,null,null,null,null,null,null,null,null,null,null,null,null,null,null,null,null,null,null,null,null,null,null,null,null,null,null,null,null,null,null,null,null,null,null,null,null,null,null,null,null,null,null,null,null,null,null,null,0,0]
[45,"2018-09-05","2018-09-11","2018-09-11",{"$f":"OFFSET('input บ่อปลา'!$B$6,$A47,$D$1,1,1)","v":0},1200,4,48,null,null,null,9,{"$f":"ROUND((OFFSET(Evap!$C$3,$M$2,$L47,1,1)*7/OFFSET($K$2,$L47,0,1,1))+OFFSET('input บ่อปลา'!$B$4,0,$D$1,1,1),2)","v":37.78},null,30,{"$f":"ROUND(OFFSET(ฝนใช้การ!$A$2,$O$2,$L47,1,1)*7/$O47,2)","v":57.8},null,null,null,null,null,null,null,null,null,null,null,null,null,null,null,null,null,null,null,null,null,null,null,null,null,null,null,null,null,null,null,null,null,null,null,null,null,null,null,null,null,null,null,null,null,null,null,null,null,null,null,null,null,null,null,null,null,null,null,null,null,null,null,null,null,null,null,null,null,null,null,null,null,null,null,null,null,null,null,null,null,null,null,null,null,null,null,null,null,null,null,null,null,null,null,null,null,null,null,null,null,null,null,null,null,null,null,null,null,null,null,null,null,null,null,null,null,null,null,null,null,null,null,null,null,null,null,null,null,null,null,null,null,null,null,null,null,null,null,null,null,null,null,null,null,null,null,null,null,null,null,null,null,null,null,null,null,null,null,null,null,null,null,null,null,null,null,null,null,null,null,null,null,null,null,null,null,null,null,null,null,null,null,null,null,null,null,null,null,null,null,null,null,null,null,null,null,null,null,null,null,null,null,null,0,0]
[46,"2018-09-12","2018-09-18","2018-09-18",{"$f":"OFFSET('input บ่อปลา'!$B$6,$A48,$D$1,1,1)","v":0},1200,4,48,null,null,null,9,{"$f":"ROUND((OFFSET(Evap!$C$3,$M$2,$L48,1,1)*7/OFFSET($K$2,$L48,0,1,1))+OFFSET('input บ่อปลา'!$B$4,0,$D$1,1,1),2)","v":37.78},null,30,{"$f":"ROUND(OFFSET(ฝนใช้การ!$A$2,$O$2,$L48,1,1)*7/$O48,2)","v":57.8},null,null,null,null,null,null,null,null,null,null,null,null,null,null,null,null,null,null,null,null,null,null,null,null,null,null,null,null,null,null,null,null,null,null,null,null,null,null,null,null,null,null,null,null,null,null,null,null,null,null,null,null,null,null,null,null,null,null,null,null,null,null,null,null,null,null,null,null,null,null,null,null,null,null,null,null,null,null,null,null,null,null,null,null,null,null,null,null,null,null,null,null,null,null,null,null,null,null,null,null,null,null,null,null,null,null,null,null,null,null,null,null,null,null,null,null,null,null,null,null,null,null,null,null,null,null,null,null,null,null,null,null,null,null,null,null,null,null,null,null,null,null,null,null,null,null,null,null,null,null,null,null,null,null,null,null,null,null,null,null,null,null,null,null,null,null,null,null,null,null,null,null,null,null,null,null,null,null,null,null,null,null,null,null,null,null,null,null,null,null,null,null,null,null,null,null,null,null,null,null,null,null,null,null,0,0]
[47,"2018-09-19","2018-09-25","2018-09-25",{"$f":"OFFSET('input บ่อปลา'!$B$6,$A49,$D$1,1,1)","v":0},1200,4,48,null,null,null,9,{"$f":"ROUND((OFFSET(Evap!$C$3,$M$2,$L49,1,1)*7/OFFSET($K$2,$L49,0,1,1))+OFFSET('input บ่อปลา'!$B$4,0,$D$1,1,1),2)","v":37.78},null,30,{"$f":"ROUND(OFFSET(ฝนใช้การ!$A$2,$O$2,$L49,1,1)*7/$O49,2)","v":57.8},null,null,null,null,null,null,null,null,null,null,null,null,null,null,null,null,null,null,null,null,null,null,null,null,null,null,null,null,null,null,null,null,null,null,null,null,null,null,null,null,null,null,null,null,null,null,null,null,null,null,null,null,null,null,null,null,null,null,null,null,null,null,null,null,null,null,null,null,null,null,null,null,null,null,null,null,null,null,null,null,null,null,null,null,null,null,null,null,null,null,null,null,null,null,null,null,null,null,null,null,null,null,null,null,null,null,null,null,null,null,null,null,null,null,null,null,null,null,null,null,null,null,null,null,null,null,null,null,null,null,null,null,null,null,null,null,null,null,null,null,null,null,null,null,null,null,null,null,null,null,null,null,null,null,null,null,null,null,null,null,null,null,null,null,null,null,null,null,null,null,null,null,null,null,null,null,null,null,null,null,null,null,null,null,null,null,null,null,null,null,null,null,null,null,null,null,null,null,null,null,null,null,null,null,0,0]
[48,"2018-09-26","2018-10-02","2018-10-02",{"$f":"OFFSET('input บ่อปลา'!$B$6,$A50,$D$1,1,1)","v":0},1200,4,48,null,null,null,9,{"$f":"ROUND((OFFSET(Evap!$C$3,$M$2,$L50,1,1)*7/OFFSET($K$2,$L50,0,1,1))+OFFSET('input บ่อปลา'!$B$4,0,$D$1,1,1),2)","v":37.78},null,30,{"$f":"ROUND(OFFSET(ฝนใช้การ!$A$2,$O$2,$L50,1,1)*7/$O50,2)","v":57.8},null,null,null,null,null,null,null,null,null,null,null,null,null,null,null,null,null,null,null,null,null,null,null,null,null,null,null,null,null,null,null,null,null,null,null,null,null,null,null,null,null,null,null,null,null,null,null,null,null,null,null,null,null,null,null,null,null,null,null,null,null,null,null,null,null,null,null,null,null,null,null,null,null,null,null,null,null,null,null,null,null,null,null,null,null,null,null,null,null,null,null,null,null,null,null,null,null,null,null,null,null,null,null,null,null,null,null,null,null,null,null,null,null,null,null,null,null,null,null,null,null,null,null,null,null,null,null,null,null,null,null,null,null,null,null,null,null,null,null,null,null,null,null,null,null,null,null,null,null,null,null,null,null,null,null,null,null,null,null,null,null,null,null,null,null,null,null,null,null,null,null,null,null,null,null,null,null,null,null,null,null,null,null,null,null,null,null,null,null,null,null,null,null,null,null,null,null,null,null,null,null,null,null,null,0,0]
[49,"2018-10-03","2018-10-09","2018-10-09",{"$f":"OFFSET('input บ่อปลา'!$B$6,$A51,$D$1,1,1)","v":0},1200,4,48,null,null,null,10,{"$f":"ROUND((OFFSET(Evap!$C$3,$M$2,$L51,1,1)*7/OFFSET($K$2,$L51,0,1,1))+OFFSET('input บ่อปลา'!$B$4,0,$D$1,1,1),2)","v":35.81},null,31,{"$f":"ROUND(OFFSET(ฝนใช้การ!$A$2,$O$2,$L51,1,1)*7/$O51,2)","v":32.92},null,null,null,null,null,null,null,null,null,null,null,null,null,null,null,null,null,null,null,null,null,null,null,null,null,null,null,null,null,null,null,null,null,null,null,null,null,null,null,null,null,null,null,null,null,null,null,null,null,null,null,null,null,null,null,null,null,null,null,null,null,null,null,null,null,null,null,null,null,null,null,null,null,null,null,null,null,null,null,null,null,null,null,null,null,null,null,null,null,null,null,null,null,null,null,null,null,null,null,null,null,null,null,null,null,null,null,null,null,null,null,null,null,null,null,null,null,null,null,null,null,null,null,null,null,null,null,null,null,null,null,null,null,null,null,null,null,null,null,null,null,null,null,null,null,null,null,null,null,null,null,null,null,null,null,null,null,null,null,null,null,null,null,null,null,null,null,null,null,null,null,null,null,null,null,null,null,null,null,null,null,null,null,null,null,null,null,null,null,null,null,null,null,null,null,null,null,null,null,null,null,null,null,null,0,0]
[50,"2018-10-10","2018-10-16","2018-10-16",{"$f":"OFFSET('input บ่อปลา'!$B$6,$A52,$D$1,1,1)","v":0},1200,4,48,null,null,null,10,{"$f":"ROUND((OFFSET(Evap!$C$3,$M$2,$L52,1,1)*7/OFFSET($K$2,$L52,0,1,1))+OFFSET('input บ่อปลา'!$B$4,0,$D$1,1,1),2)","v":35.81},null,31,{"$f":"ROUND(OFFSET(ฝนใช้การ!$A$2,$O$2,$L52,1,1)*7/$O52,2)","v":32.92},null,null,null,null,null,null,null,null,null,null,null,null,null,null,null,null,null,null,null,null,null,null,null,null,null,null,null,null,null,null,null,null,null,null,null,null,null,null,null,null,null,null,null,null,null,null,null,null,null,null,null,null,null,null,null,null,null,null,null,null,null,null,null,null,null,null,null,null,null,null,null,null,null,null,null,null,null,null,null,null,null,null,null,null,null,null,null,null,null,null,null,null,null,null,null,null,null,null,null,null,null,null,null,null,null,null,null,null,null,null,null,null,null,null,null,null,null,null,null,null,null,null,null,null,null,null,null,null,null,null,null,null,null,null,null,null,null,null,null,null,null,null,null,null,null,null,null,null,null,null,null,null,null,null,null,null,null,null,null,null,null,null,null,null,null,null,null,null,null,null,null,null,null,null,null,null,null,null,null,null,null,null,null,null,null,null,null,null,null,null,null,null,null,null,null,null,null,null,null,null,null,null,null,null,0,0]
[51,"2018-10-17","2018-10-23","2018-10-23",{"$f":"OFFSET('input บ่อปลา'!$B$6,$A53,$D$1,1,1)","v":0},1200,4,48,null,null,null,10,{"$f":"ROUND((OFFSET(Evap!$C$3,$M$2,$L53,1,1)*7/OFFSET($K$2,$L53,0,1,1))+OFFSET('input บ่อปลา'!$B$4,0,$D$1,1,1),2)","v":35.81},null,31,{"$f":"ROUND(OFFSET(ฝนใช้การ!$A$2,$O$2,$L53,1,1)*7/$O53,2)","v":32.92},null,null,null,null,null,null,null,null,null,null,null,null,null,null,null,null,null,null,null,null,null,null,null,null,null,null,null,null,null,null,null,null,null,null,null,null,null,null,null,null,null,null,null,null,null,null,null,null,null,null,null,null,null,null,null,null,null,null,null,null,null,null,null,null,null,null,null,null,null,null,null,null,null,null,null,null,null,null,null,null,null,null,null,null,null,null,null,null,null,null,null,null,null,null,null,null,null,null,null,null,null,null,null,null,null,null,null,null,null,null,null,null,null,null,null,null,null,null,null,null,null,null,null,null,null,null,null,null,null,null,null,null,null,null,null,null,null,null,null,null,null,null,null,null,null,null,null,null,null,null,null,null,null,null,null,null,null,null,null,null,null,null,null,null,null,null,null,null,null,null,null,null,null,null,null,null,null,null,null,null,null,null,null,null,null,null,null,null,null,null,null,null,null,null,null,null,null,null,null,null,null,null,null,null,0,0]
[52,"2018-10-24","2018-10-30","2018-10-30",{"$f":"OFFSET('input บ่อปลา'!$B$6,$A54,$D$1,1,1)","v":0},1200,4,48,null,null,null,10,{"$f":"ROUND((OFFSET(Evap!$C$3,$M$2,$L54,1,1)*7/OFFSET($K$2,$L54,0,1,1))+OFFSET('input บ่อปลา'!$B$4,0,$D$1,1,1),2)","v":35.81},null,31,{"$f":"ROUND(OFFSET(ฝนใช้การ!$A$2,$O$2,$L54,1,1)*7/$O54,2)","v":32.92},null,null,null,null,null,null,null,null,null,null,null,null,null,null,null,null,null,null,null,null,null,null,null,null,null,null,null,null,null,null,null,null,null,null,null,null,null,null,null,null,null,null,null,null,null,null,null,null,null,null,null,null,null,null,null,null,null,null,null,null,null,null,null,null,null,null,null,null,null,null,null,null,null,null,null,null,null,null,null,null,null,null,null,null,null,null,null,null,null,null,null,null,null,null,null,null,null,null,null,null,null,null,null,null,null,null,null,null,null,null,null,null,null,null,null,null,null,null,null,null,null,null,null,null,null,null,null,null,null,null,null,null,null,null,null,null,null,null,null,null,null,null,null,null,null,null,null,null,null,null,null,null,null,null,null,null,null,null,null,null,null,null,null,null,null,null,null,null,null,null,null,null,null,null,null,null,null,null,null,null,null,null,null,null,null,null,null,null,null,null,null,null,null,null,null,null,null,null,null,null,null,null,null,null,0,0]
[53,"2018-10-31","2018-11-06","2018-11-06",{"$f":"OFFSET('input บ่อปลา'!$B$6,$A55,$D$1,1,1)","v":0},1200,4,48,null,null,null,10,{"$f":"ROUND((OFFSET(Evap!$C$3,$M$2,$L55,1,1)*7/OFFSET($K$2,$L55,0,1,1))+OFFSET('input บ่อปลา'!$B$4,0,$D$1,1,1),2)","v":35.81},null,31,{"$f":"ROUND(OFFSET(ฝนใช้การ!$A$2,$O$2,$L55,1,1)*7/$O55,2)","v":32.92},null,null,null,null,null,null,null,null,null,null,null,null,null,null,null,null,null,null,null,null,null,null,null,null,null,null,null,null,null,null,null,null,null,null,null,null,null,null,null,null,null,null,null,null,null,null,null,null,null,null,null,null,null,null,null,null,null,null,null,null,null,null,null,null,null,null,null,null,null,null,null,null,null,null,null,null,null,null,null,null,null,null,null,null,null,null,null,null,null,null,null,null,null,null,null,null,null,null,null,null,null,null,null,null,null,null,null,null,null,null,null,null,null,null,null,null,null,null,null,null,null,null,null,null,null,null,null,null,null,null,null,null,null,null,null,null,null,null,null,null,null,null,null,null,null,null,null,null,null,null,null,null,null,null,null,null,null,null,null,null,null,null,null,null,null,null,null,null,null,null,null,null,null,null,null,null,null,null,null,null,null,null,null,null,null,null,null,null,null,null,null,null,null,null,null,null,null,null,null,null,null,null,null,null,0,0]

{"sheet":"บ่อกุ้ง","index":23,"n_rows":55,"n_cols":223,"rows_kept":55,"cut":false,"hidden":false,"merged":[]}
[null,"ช่วงเวลาสัปดาห์",null,{"$f":"รายงาน!O1","v":1},{"$f":"OFFSET('input บ่อกุ้ง'!$B$2,0,$D$1,1,1)","v":"พลเทพ"},"น้ำในบ่อลึก","เปลี่ยนน้ำ","ปริมาณน้ำที่เปลี่ยน+น้ำใส่บ่อใหม่",null,null,null,{"$f":"OFFSET('input บ่อกุ้ง'!$B$3,0,$D$1,1,1)","v":"ชัยนาท"},"ระเหย+รั่วซึม (มม./สัปดาห์)",null,{"$f":"L1","v":"ชัยนาท"},"ฝนใช้การ",null,null,null,null,null,null,null,null,null,null,null,null,null,null,null,null,null,null,null,null,null,null,null,null,null,null,null,null,null,null,null,null,null,null,null,null,null,null,null,null,null,null,null,null,null,null,null,null,null,null,null,null,null,null,null,null,null,null,null,null,null,null,null,null,null,null,null,null,null,null,null,null,null,null,null,null,null,null,null,null,null,null,null,null,null,null,null,null,null,null,null,null,null,null,null,null,null,null,null,null,null,null,null,null,null,null,null,null,null,null,null,null,null,null,null,null,null,null,null,null,null,null,null,null,null,null,null,null,null,null,null,null,null,null,null,null,null,null,null,null,null,null,null,null,null,null,null,null,null,null,null,null,null,null,null,null,null,null,null,null,null,null,null,null,null,null,null,null,null,null,null,null,null,null,null,null,null,null,null,null,null,null,null,null,null,null,null,null,null,null,null,null,null,null,null,null,null,null,null,null,null,null,null,null,"ความต้องการน้ำ (ลบ.ม.)","ปริมาณน้ำที่ต้องส่ง (ลบ.ม.)","ประสิทธิภาพชลประทาน"]
[null,"เริ่มต้น","สิ้นสุด","เดือน","จำนวนไร่","(มม.)","(%)","(มม.)",null,"เดือน","จำนวนวัน",{"$f":"VLOOKUP(L1,Evap!$T$4:$U$80,2,FALSE)","v":"ลพบุรี"},{"$f":"MATCH(L2,Evap!$B$4:$B$88,0)","v":42},null,{"$f":"MATCH(O1,ฝนใช้การ!$A$3:$A$78,0)","v":17},"มม./สัปดาห์",null,null,null,null,null,null,null,null,null,null,null,null,null,null,null,null,null,null,null,null,null,null,null,null,null,null,null,null,null,null,null,null,null,null,null,null,null,null,null,null,null,null,null,null,null,null,null,null,null,null,null,null,null,null,null,null,null,null,null,null,null,null,null,null,null,null,null,null,null,null,null,null,null,null,null,null,null,null,null,null,null,null,null,null,null,null,null,null,null,null,null,null,null,null,null,null,null,null,null,null,null,null,null,null,null,null,null,null,null,null,null,null,null,null,null,null,null,null,null,null,null,null,null,null,null,null,null,null,null,null,null,null,null,null,null,null,null,null,null,null,null,null,null,null,null,null,null,null,null,null,null,null,null,null,null,null,null,null,null,null,null,null,null,null,null,null,null,null,null,null,null,null,null,null,null,null,null,null,null,null,null,null,null,null,null,null,null,null,null,null,null,null,null,null,null,null,null,null,null,null,null,null,null,null,"รวม","รวม",{"$f":"OFFSET('input บ่อกุ้ง'!$B$5,0,$D$1,1,1)","v":90}]
[1,{"$f":"ข้าว!B16","v":"2017-11-01"},{"$f":"+B3+6","v":"2017-11-07"},{"$f":"+C3","v":"2017-11-07"},{"$f":"OFFSET('input บ่อกุ้ง'!$B$6,$A3,$D$1,1,1)","v":0},1200,3,{"$f":"(F3*G3/100)","v":36},null,1,31,{"$f":"MONTH(B3)","v":11},{"$f":"ROUND((OFFSET(Evap!$C$3,$M$2,$L3,1,1)*7/OFFSET($K$2,$L3,0,1,1))+OFFSET('input บ่อกุ้ง'!$B$4,0,$D$1,1,1),2)","v":40.479999999999997},null,{"$f":"VLOOKUP(L3,$J$3:$K$14,2,TRUE)","v":30},{"$f":"ROUND(OFFSET(ฝนใช้การ!$A$2,$O$2,$L3,1,1)*7/$O3,2)","v":7.3},null,null,null,null,null,null,null,null,null,null,null,null,null,null,null,null,null,null,null,null,null,null,null,null,null,null,null,null,null,null,null,null,null,null,null,null,null,null,null,null,null,null,null,null,null,null,null,null,null,null,null,null,null,null,null,null,null,null,null,null,null,null,null,null,null,null,null,null,null,null,null,null,null,null,null,null,null,null,null,null,null,null,null,null,null,null,null,null,null,null,null,null,null,null,null,null,null,null,null,null,null,null,null,null,null,null,null,null,null,null,null,null,null,null,null,null,null,null,null,null,null,null,null,null,null,null,null,null,null,null,null,null,null,null,null,null,null,null,null,null,null,null,null,null,null,null,null,null,null,null,null,null,null,null,null,null,null,null,null,null,null,null,null,null,null,null,null,null,null,null,null,null,null,null,null,null,null,null,null,null,null,null,null,null,null,null,null,null,null,null,null,null,null,null,null,null,null,null,null,null,null,null,null,null,{"$f":"IF(H3+M3-P3>0,H3+M3-P3,0)*$E3*1.6","v":0},{"$f":"HM3*100/$HO$2","v":0}]
[2,{"$f":"+B3+7","v":"2017-11-08"},{"$f":"+C3+7","v":"2017-11-14"},"2017-11-14",{"$f":"OFFSET('input บ่อกุ้ง'!$B$6,$A4,$D$1,1,1)","v":0},1200,3,{"$f":"(F4*G4/100)","v":36},null,2,28,{"$f":"MONTH(B4)","v":11},{"$f":"ROUND((OFFSET(Evap!$C$3,$M$2,$L4,1,1)*7/OFFSET($K$2,$L4,0,1,1))+OFFSET('input บ่อกุ้ง'!$B$4,0,$D$1,1,1),2)","v":40.479999999999997},null,{"$f":"VLOOKUP(L4,$J$3:$K$14,2,TRUE)","v":30},{"$f":"ROUND(OFFSET(ฝนใช้การ!$A$2,$O$2,$L4,1,1)*7/$O4,2)","v":7.3},null,null,null,null,null,null,null,null,null,null,null,null,null,null,null,null,null,null,null,null,null,null,null,null,null,null,null,null,null,null,null,null,null,null,null,null,null,null,null,null,null,null,null,null,null,null,null,null,null,null,null,null,null,null,null,null,null,null,null,null,null,null,null,null,null,null,null,null,null,null,null,null,null,null,null,null,null,null,null,null,null,null,null,null,null,null,null,null,null,null,null,null,null,null,null,null,null,null,null,null,null,null,null,null,null,null,null,null,null,null,null,null,null,null,null,null,null,null,null,null,null,null,null,null,null,null,null,null,null,null,null,null,null,null,null,null,null,null,null,null,null,null,null,null,null,null,null,null,null,null,null,null,null,null,null,null,null,null,null,null,null,null,null,null,null,null,null,null,null,null,null,null,null,null,null,null,null,null,null,null,null,null,null,null,null,null,null,null,null,null,null,null,null,null,null,null,null,null,null,null,null,null,null,null,0,0]
[3,{"$f":"+B4+7","v":"2017-11-15"},"2017-11-21","2017-11-21",{"$f":"OFFSET('input บ่อกุ้ง'!$B$6,$A5,$D$1,1,1)","v":0},1200,3,36,null,3,31,11,{"$f":"ROUND((OFFSET(Evap!$C$3,$M$2,$L5,1,1)*7/OFFSET($K$2,$L5,0,1,1))+OFFSET('input บ่อกุ้ง'!$B$4,0,$D$1,1,1),2)","v":40.479999999999997},null,30,{"$f":"ROUND(OFFSET(ฝนใช้การ!$A$2,$O$2,$L5,1,1)*7/$O5,2)","v":7.3},null,null,null,null,null,null,null,null,null,null,null,null,null,null,null,null,null,null,null,null,null,null,null,null,null,null,null,null,null,null,null,null,null,null,null,null,null,null,null,null,null,null,null,null,null,null,null,null,null,null,null,null,null,null,null,null,null,null,null,null,null,null,null,null,null,null,null,null,null,null,null,null,null,null,null,null,null,null,null,null,null,null,null,null,null,null,null,null,null,null,null,null,null,null,null,null,null,null,null,null,null,null,null,null,null,null,null,null,null,null,null,null,null,null,null,null,null,null,null,null,null,null,null,null,null,null,null,null,null,null,null,null,null,null,null,null,null,null,null,null,null,null,null,null,null,null,null,null,null,null,null,null,null,null,null,null,null,null,null,null,null,null,null,null,null,null,null,null,null,null,null,null,null,null,null,null,null,null,null,null,null,null,null,null,null,null,null,null,null,null,null,null,null,null,null,null,null,null,null,null,null,null,null,null,0,0]
[4,"2017-11-22","2017-11-28","2017-11-28",{"$f":"OFFSET('input บ่อกุ้ง'!$B$6,$A6,$D$1,1,1)","v":0},1200,3,36,null,4,30,11,{"$f":"ROUND((OFFSET(Evap!$C$3,$M$2,$L6,1,1)*7/OFFSET($K$2,$L6,0,1,1))+OFFSET('input บ่อกุ้ง'!$B$4,0,$D$1,1,1),2)","v":40.479999999999997},null,30,{"$f":"ROUND(OFFSET(ฝนใช้การ!$A$2,$O$2,$L6,1,1)*7/$O6,2)","v":7.3},null,null,null,null,null,null,null,null,null,null,null,null,null,null,null,null,null,null,null,null,null,null,null,null,null,null,null,null,null,null,null,null,null,null,null,null,null,null,null,null,null,null,null,null,null,null,null,null,null,null,null,null,null,null,null,null,null,null,null,null,null,null,null,null,null,null,null,null,null,null,null,null,null,null,null,null,null,null,null,null,null,null,null,null,null,null,null,null,null,null,null,null,null,null,null,null,null,null,null,null,null,null,null,null,null,null,null,null,null,null,null,null,null,null,null,null,null,null,null,null,null,null,null,null,null,null,null,null,null,null,null,null,null,null,null,null,null,null,null,null,null,null,null,null,null,null,null,null,null,null,null,null,null,null,null,null,null,null,null,null,null,null,null,null,null,null,null,null,null,null,null,null,null,null,null,null,null,null,null,null,null,null,null,null,null,null,null,null,null,null,null,null,null,null,null,null,null,null,null,null,null,null,null,null,0,0]
[5,"2017-11-29","2017-12-05","2017-12-05",{"$f":"OFFSET('input บ่อกุ้ง'!$B$6,$A7,$D$1,1,1)","v":0},1200,4,48,null,5,31,11,{"$f":"ROUND((OFFSET(Evap!$C$3,$M$2,$L7,1,1)*7/OFFSET($K$2,$L7,0,1,1))+OFFSET('input บ่อกุ้ง'!$B$4,0,$D$1,1,1),2)","v":40.479999999999997},null,30,{"$f":"ROUND(OFFSET(ฝนใช้การ!$A$2,$O$2,$L7,1,1)*7/$O7,2)","v":7.3},null,null,null,null,null,null,null,null,null,null,null,null,null,null,null,null,null,null,null,null,null,null,null,null,null,null,null,null,null,null,null,null,null,null,null,null,null,null,null,null,null,null,null,null,null,null,null,null,null,null,null,null,null,null,null,null,null,null,null,null,null,null,null,null,null,null,null,null,null,null,null,null,null,null,null,null,null,null,null,null,null,null,null,null,null,null,null,null,null,null,null,null,null,null,null,null,null,null,null,null,null,null,null,null,null,null,null,null,null,null,null,null,null,null,null,null,null,null,null,null,null,null,null,null,null,null,null,null,null,null,null,null,null,null,null,null,null,null,null,null,null,null,null,null,null,null,null,null,null,null,null,null,null,null,null,null,null,null,null,null,null,null,null,null,null,null,null,null,null,null,null,null,null,null,null,null,null,null,null,null,null,null,null,null,null,null,null,null,null,null,null,null,null,null,null,null,null,null,null,null,null,null,null,null,0,0]
[6,"2017-12-06","2017-12-12","2017-12-12",{"$f":"OFFSET('input บ่อกุ้ง'!$B$6,$A8,$D$1,1,1)","v":0},1200,4,48,null,6,30,12,{"$f":"ROUND((OFFSET(Evap!$C$3,$M$2,$L8,1,1)*7/OFFSET($K$2,$L8,0,1,1))+OFFSET('input บ่อกุ้ง'!$B$4,0,$D$1,1,1),2)","v":43.02},null,31,{"$f":"ROUND(OFFSET(ฝนใช้การ!$A$2,$O$2,$L8,1,1)*7/$O8,2)","v":1.1299999999999999},null,null,null,null,null,null,null,null,null,null,null,null,null,null,null,null,null,null,null,null,null,null,null,null,null,null,null,null,null,null,null,null,null,null,null,null,null,null,null,null,null,null,null,null,null,null,null,null,null,null,null,null,null,null,null,null,null,null,null,null,null,null,null,null,null,null,null,null,null,null,null,null,null,null,null,null,null,null,null,null,null,null,null,null,null,null,null,null,null,null,null,null,null,null,null,null,null,null,null,null,null,null,null,null,null,null,null,null,null,null,null,null,null,null,null,null,null,null,null,null,null,null,null,null,null,null,null,null,null,null,null,null,null,null,null,null,null,null,null,null,null,null,null,null,null,null,null,null,null,null,null,null,null,null,null,null,null,null,null,null,null,null,null,null,null,null,null,null,null,null,null,null,null,null,null,null,null,null,null,null,null,null,null,null,null,null,null,null,null,null,null,null,null,null,null,null,null,null,null,null,null,null,null,null,0,0]
[7,"2017-12-13","2017-12-19","2017-12-19",{"$f":"OFFSET('input บ่อกุ้ง'!$B$6,$A9,$D$1,1,1)","v":0},1200,4,48,null,7,31,12,{"$f":"ROUND((OFFSET(Evap!$C$3,$M$2,$L9,1,1)*7/OFFSET($K$2,$L9,0,1,1))+OFFSET('input บ่อกุ้ง'!$B$4,0,$D$1,1,1),2)","v":43.02},null,31,{"$f":"ROUND(OFFSET(ฝนใช้การ!$A$2,$O$2,$L9,1,1)*7/$O9,2)","v":1.1299999999999999},null,null,null,null,null,null,null,null,null,null,null,null,null,null,null,null,null,null,null,null,null,null,null,null,null,null,null,null,null,null,null,null,null,null,null,null,null,null,null,null,null,null,null,null,null,null,null,null,null,null,null,null,null,null,null,null,null,null,null,null,null,null,null,null,null,null,null,null,null,null,null,null,null,null,null,null,null,null,null,null,null,null,null,null,null,null,null,null,null,null,null,null,null,null,null,null,null,null,null,null,null,null,null,null,null,null,null,null,null,null,null,null,null,null,null,null,null,null,null,null,null,null,null,null,null,null,null,null,null,null,null,null,null,null,null,null,null,null,null,null,null,null,null,null,null,null,null,null,null,null,null,null,null,null,null,null,null,null,null,null,null,null,null,null,null,null,null,null,null,null,null,null,null,null,null,null,null,null,null,null,null,null,null,null,null,null,null,null,null,null,null,null,null,null,null,null,null,null,null,null,null,null,null,null,0,0]
[8,"2017-12-20","2017-12-26","2017-12-26",{"$f":"OFFSET('input บ่อกุ้ง'!$B$6,$A10,$D$1,1,1)","v":0},1200,4,48,null,8,31,12,{"$f":"ROUND((OFFSET(Evap!$C$3,$M$2,$L10,1,1)*7/OFFSET($K$2,$L10,0,1,1))+OFFSET('input บ่อกุ้ง'!$B$4,0,$D$1,1,1),2)","v":43.02},null,31,{"$f":"ROUND(OFFSET(ฝนใช้การ!$A$2,$O$2,$L10,1,1)*7/$O10,2)","v":1.1299999999999999},null,null,null,null,null,null,null,null,null,null,null,null,null,null,null,null,null,null,null,null,null,null,null,null,null,null,null,null,null,null,null,null,null,null,null,null,null,null,null,null,null,null,null,null,null,null,null,null,null,null,null,null,null,null,null,null,null,null,null,null,null,null,null,null,null,null,null,null,null,null,null,null,null,null,null,null,null,null,null,null,null,null,null,null,null,null,null,null,null,null,null,null,null,null,null,null,null,null,null,null,null,null,null,null,null,null,null,null,null,null,null,null,null,null,null,null,null,null,null,null,null,null,null,null,null,null,null,null,null,null,null,null,null,null,null,null,null,null,null,null,null,null,null,null,null,null,null,null,null,null,null,null,null,null,null,null,null,null,null,null,null,null,null,null,null,null,null,null,null,null,null,null,null,null,null,null,null,null,null,null,null,null,null,null,null,null,null,null,null,null,null,null,null,null,null,null,null,null,null,null,null,null,null,null,0,0]
[9,"2017-12-27","2018-01-02","2018-01-02",{"$f":"OFFSET('input บ่อกุ้ง'!$B$6,$A11,$D$1,1,1)","v":0},1200,4,48,null,9,30,12,{"$f":"ROUND((OFFSET(Evap!$C$3,$M$2,$L11,1,1)*7/OFFSET($K$2,$L11,0,1,1))+OFFSET('input บ่อกุ้ง'!$B$4,0,$D$1,1,1),2)","v":43.02},null,31,{"$f":"ROUND(OFFSET(ฝนใช้การ!$A$2,$O$2,$L11,1,1)*7/$O11,2)","v":1.1299999999999999},null,null,null,null,null,null,null,null,null,null,null,null,null,null,null,null,null,null,null,null,null,null,null,null,null,null,null,null,null,null,null,null,null,null,null,null,null,null,null,null,null,null,null,null,null,null,null,null,null,null,null,null,null,null,null,null,null,null,null,null,null,null,null,null,null,null,null,null,null,null,null,null,null,null,null,null,null,null,null,null,null,null,null,null,null,null,null,null,null,null,null,null,null,null,null,null,null,null,null,null,null,null,null,null,null,null,null,null,null,null,null,null,null,null,null,null,null,null,null,null,null,null,null,null,null,null,null,null,null,null,null,null,null,null,null,null,null,null,null,null,null,null,null,null,null,null,null,null,null,null,null,null,null,null,null,null,null,null,null,null,null,null,null,null,null,null,null,null,null,null,null,null,null,null,null,null,null,null,null,null,null,null,null,null,null,null,null,null,null,null,null,null,null,null,null,null,null,null,null,null,null,null,null,null,0,0]
[10,"2018-01-03","2018-01-09","2018-01-09",{"$f":"OFFSET('input บ่อกุ้ง'!$B$6,$A12,$D$1,1,1)","v":0},1200,4,48,null,10,31,1,{"$f":"ROUND((OFFSET(Evap!$C$3,$M$2,$L12,1,1)*7/OFFSET($K$2,$L12,0,1,1))+OFFSET('input บ่อกุ้ง'!$B$4,0,$D$1,1,1),2)","v":41.19},null,31,{"$f":"ROUND(OFFSET(ฝนใช้การ!$A$2,$O$2,$L12,1,1)*7/$O12,2)","v":1.29},null,null,null,null,null,null,null,null,null,null,null,null,null,null,null,null,null,null,null,null,null,null,null,null,null,null,null,null,null,null,null,null,null,null,null,null,null,null,null,null,null,null,null,null,null,null,null,null,null,null,null,null,null,null,null,null,null,null,null,null,null,null,null,null,null,null,null,null,null,null,null,null,null,null,null,null,null,null,null,null,null,null,null,null,null,null,null,null,null,null,null,null,null,null,null,null,null,null,null,null,null,null,null,null,null,null,null,null,null,null,null,null,null,null,null,null,null,null,null,null,null,null,null,null,null,null,null,null,null,null,null,null,null,null,null,null,null,null,null,null,null,null,null,null,null,null,null,null,null,null,null,null,null,null,null,null,null,null,null,null,null,null,null,null,null,null,null,null,null,null,null,null,null,null,null,null,null,null,null,null,null,null,null,null,null,null,null,null,null,null,null,null,null,null,null,null,null,null,null,null,null,null,null,null,0,0]
[11,"2018-01-10","2018-01-16","2018-01-16",{"$f":"OFFSET('input บ่อกุ้ง'!$B$6,$A13,$D$1,1,1)","v":0},1200,4,48,null,11,30,1,{"$f":"ROUND((OFFSET(Evap!$C$3,$M$2,$L13,1,1)*7/OFFSET($K$2,$L13,0,1,1))+OFFSET('input บ่อกุ้ง'!$B$4,0,$D$1,1,1),2)","v":41.19},null,31,{"$f":"ROUND(OFFSET(ฝนใช้การ!$A$2,$O$2,$L13,1,1)*7/$O13,2)","v":1.29},null,null,null,null,null,null,null,null,null,null,null,null,null,null,null,null,null,null,null,null,null,null,null,null,null,null,null,null,null,null,null,null,null,null,null,null,null,null,null,null,null,null,null,null,null,null,null,null,null,null,null,null,null,null,null,null,null,null,null,null,null,null,null,null,null,null,null,null,null,null,null,null,null,null,null,null,null,null,null,null,null,null,null,null,null,null,null,null,null,null,null,null,null,null,null,null,null,null,null,null,null,null,null,null,null,null,null,null,null,null,null,null,null,null,null,null,null,null,null,null,null,null,null,null,null,null,null,null,null,null,null,null,null,null,null,null,null,null,null,null,null,null,null,null,null,null,null,null,null,null,null,null,null,null,null,null,null,null,null,null,null,null,null,null,null,null,null,null,null,null,null,null,null,null,null,null,null,null,null,null,null,null,null,null,null,null,null,null,null,null,null,null,null,null,null,null,null,null,null,null,null,null,null,null,0,0]
[12,"2018-01-17","2018-01-23","2018-01-23",{"$f":"OFFSET('input บ่อกุ้ง'!$B$6,$A14,$D$1,1,1)","v":0},1200,4,48,null,12,31,1,{"$f":"ROUND((OFFSET(Evap!$C$3,$M$2,$L14,1,1)*7/OFFSET($K$2,$L14,0,1,1))+OFFSET('input บ่อกุ้ง'!$B$4,0,$D$1,1,1),2)","v":41.19},null,31,{"$f":"ROUND(OFFSET(ฝนใช้การ!$A$2,$O$2,$L14,1,1)*7/$O14,2)","v":1.29},null,null,null,null,null,null,null,null,null,null,null,null,null,null,null,null,null,null,null,null,null,null,null,null,null,null,null,null,null,null,null,null,null,null,null,null,null,null,null,null,null,null,null,null,null,null,null,null,null,null,null,null,null,null,null,null,null,null,null,null,null,null,null,null,null,null,null,null,null,null,null,null,null,null,null,null,null,null,null,null,null,null,null,null,null,null,null,null,null,null,null,null,null,null,null,null,null,null,null,null,null,null,null,null,null,null,null,null,null,null,null,null,null,null,null,null,null,null,null,null,null,null,null,null,null,null,null,null,null,null,null,null,null,null,null,null,null,null,null,null,null,null,null,null,null,null,null,null,null,null,null,null,null,null,null,null,null,null,null,null,null,null,null,null,null,null,null,null,null,null,null,null,null,null,null,null,null,null,null,null,null,null,null,null,null,null,null,null,null,null,null,null,null,null,null,null,null,null,null,null,null,null,null,null,0,0]
[13,"2018-01-24","2018-01-30","2018-01-30",{"$f":"OFFSET('input บ่อกุ้ง'!$B$6,$A15,$D$1,1,1)","v":0},1200,4,48,null,null,null,1,{"$f":"ROUND((OFFSET(Evap!$C$3,$M$2,$L15,1,1)*7/OFFSET($K$2,$L15,0,1,1))+OFFSET('input บ่อกุ้ง'!$B$4,0,$D$1,1,1),2)","v":41.19},null,31,{"$f":"ROUND(OFFSET(ฝนใช้การ!$A$2,$O$2,$L15,1,1)*7/$O15,2)","v":1.29},null,null,null,null,null,null,null,null,null,null,null,null,null,null,null,null,null,null,null,null,null,null,null,null,null,null,null,null,null,null,null,null,null,null,null,null,null,null,null,null,null,null,null,null,null,null,null,null,null,null,null,null,null,null,null,null,null,null,null,null,null,null,null,null,null,null,null,null,null,null,null,null,null,null,null,null,null,null,null,null,null,null,null,null,null,null,null,null,null,null,null,null,null,null,null,null,null,null,null,null,null,null,null,null,null,null,null,null,null,null,null,null,null,null,null,null,null,null,null,null,null,null,null,null,null,null,null,null,null,null,null,null,null,null,null,null,null,null,null,null,null,null,null,null,null,null,null,null,null,null,null,null,null,null,null,null,null,null,null,null,null,null,null,null,null,null,null,null,null,null,null,null,null,null,null,null,null,null,null,null,null,null,null,null,null,null,null,null,null,null,null,null,null,null,null,null,null,null,null,null,null,null,null,null,0,0]
[14,"2018-01-31","2018-02-06","2018-02-06",{"$f":"OFFSET('input บ่อกุ้ง'!$B$6,$A16,$D$1,1,1)","v":0},1200,4,48,null,null,null,1,{"$f":"ROUND((OFFSET(Evap!$C$3,$M$2,$L16,1,1)*7/OFFSET($K$2,$L16,0,1,1))+OFFSET('input บ่อกุ้ง'!$B$4,0,$D$1,1,1),2)","v":41.19},null,31,{"$f":"ROUND(OFFSET(ฝนใช้การ!$A$2,$O$2,$L16,1,1)*7/$O16,2)","v":1.29},null,null,null,null,null,null,null,null,null,null,null,null,null,null,null,null,null,null,null,null,null,null,null,null,null,null,null,null,null,null,null,null,null,null,null,null,null,null,null,null,null,null,null,null,null,null,null,null,null,null,null,null,null,null,null,null,null,null,null,null,null,null,null,null,null,null,null,null,null,null,null,null,null,null,null,null,null,null,null,null,null,null,null,null,null,null,null,null,null,null,null,null,null,null,null,null,null,null,null,null,null,null,null,null,null,null,null,null,null,null,null,null,null,null,null,null,null,null,null,null,null,null,null,null,null,null,null,null,null,null,null,null,null,null,null,null,null,null,null,null,null,null,null,null,null,null,null,null,null,null,null,null,null,null,null,null,null,null,null,null,null,null,null,null,null,null,null,null,null,null,null,null,null,null,null,null,null,null,null,null,null,null,null,null,null,null,null,null,null,null,null,null,null,null,null,null,null,null,null,null,null,null,null,null,0,0]
[15,"2018-02-07","2018-02-13","2018-02-13",{"$f":"OFFSET('input บ่อกุ้ง'!$B$6,$A17,$D$1,1,1)","v":0},1200,4,48,null,null,null,2,{"$f":"ROUND((OFFSET(Evap!$C$3,$M$2,$L17,1,1)*7/OFFSET($K$2,$L17,0,1,1))+OFFSET('input บ่อกุ้ง'!$B$4,0,$D$1,1,1),2)","v":44.95},null,28,{"$f":"ROUND(OFFSET(ฝนใช้การ!$A$2,$O$2,$L17,1,1)*7/$O17,2)","v":2.7},null,null,null,null,null,null,null,null,null,null,null,null,null,null,null,null,null,null,null,null,null,null,null,null,null,null,null,null,null,null,null,null,null,null,null,null,null,null,null,null,null,null,null,null,null,null,null,null,null,null,null,null,null,null,null,null,null,null,null,null,null,null,null,null,null,null,null,null,null,null,null,null,null,null,null,null,null,null,null,null,null,null,null,null,null,null,null,null,null,null,null,null,null,null,null,null,null,null,null,null,null,null,null,null,null,null,null,null,null,null,null,null,null,null,null,null,null,null,null,null,null,null,null,null,null,null,null,null,null,null,null,null,null,null,null,null,null,null,null,null,null,null,null,null,null,null,null,null,null,null,null,null,null,null,null,null,null,null,null,null,null,null,null,null,null,null,null,null,null,null,null,null,null,null,null,null,null,null,null,null,null,null,null,null,null,null,null,null,null,null,null,null,null,null,null,null,null,null,null,null,null,null,null,null,0,0]
[16,"2018-02-14","2018-02-20","2018-02-20",{"$f":"OFFSET('input บ่อกุ้ง'!$B$6,$A18,$D$1,1,1)","v":0},1200,4,48,null,null,null,2,{"$f":"ROUND((OFFSET(Evap!$C$3,$M$2,$L18,1,1)*7/OFFSET($K$2,$L18,0,1,1))+OFFSET('input บ่อกุ้ง'!$B$4,0,$D$1,1,1),2)","v":44.95},null,28,{"$f":"ROUND(OFFSET(ฝนใช้การ!$A$2,$O$2,$L18,1,1)*7/$O18,2)","v":2.7},null,null,null,null,null,null,null,null,null,null,null,null,null,null,null,null,null,null,null,null,null,null,null,null,null,null,null,null,null,null,null,null,null,null,null,null,null,null,null,null,null,null,null,null,null,null,null,null,null,null,null,null,null,null,null,null,null,null,null,null,null,null,null,null,null,null,null,null,null,null,null,null,null,null,null,null,null,null,null,null,null,null,null,null,null,null,null,null,null,null,null,null,null,null,null,null,null,null,null,null,null,null,null,null,null,null,null,null,null,null,null,null,null,null,null,null,null,null,null,null,null,null,null,null,null,null,null,null,null,null,null,null,null,null,null,null,null,null,null,null,null,null,null,null,null,null,null,null,null,null,null,null,null,null,null,null,null,null,null,null,null,null,null,null,null,null,null,null,null,null,null,null,null,null,null,null,null,null,null,null,null,null,null,null,null,null,null,null,null,null,null,null,null,null,null,null,null,null,null,null,null,null,null,null,0,0]
[17,"2018-02-21","2018-02-27","2018-02-27",{"$f":"OFFSET('input บ่อกุ้ง'!$B$6,$A19,$D$1,1,1)","v":0},1200,4,48,null,null,null,2,{"$f":"ROUND((OFFSET(Evap!$C$3,$M$2,$L19,1,1)*7/OFFSET($K$2,$L19,0,1,1))+OFFSET('input บ่อกุ้ง'!$B$4,0,$D$1,1,1),2)","v":44.95},null,28,{"$f":"ROUND(OFFSET(ฝนใช้การ!$A$2,$O$2,$L19,1,1)*7/$O19,2)","v":2.7},null,null,null,null,null,null,null,null,null,null,null,null,null,null,null,null,null,null,null,null,null,null,null,null,null,null,null,null,null,null,null,null,null,null,null,null,null,null,null,null,null,null,null,null,null,null,null,null,null,null,null,null,null,null,null,null,null,null,null,null,null,null,null,null,null,null,null,null,null,null,null,null,null,null,null,null,null,null,null,null,null,null,null,null,null,null,null,null,null,null,null,null,null,null,null,null,null,null,null,null,null,null,null,null,null,null,null,null,null,null,null,null,null,null,null,null,null,null,null,null,null,null,null,null,null,null,null,null,null,null,null,null,null,null,null,null,null,null,null,null,null,null,null,null,null,null,null,null,null,null,null,null,null,null,null,null,null,null,null,null,null,null,null,null,null,null,null,null,null,null,null,null,null,null,null,null,null,null,null,null,null,null,null,null,null,null,null,null,null,null,null,null,null,null,null,null,null,null,null,null,null,null,null,null,0,0]
[18,"2018-02-28","2018-03-06","2018-03-06",{"$f":"OFFSET('input บ่อกุ้ง'!$B$6,$A20,$D$1,1,1)","v":0},1200,4,48,null,null,null,2,{"$f":"ROUND((OFFSET(Evap!$C$3,$M$2,$L20,1,1)*7/OFFSET($K$2,$L20,0,1,1))+OFFSET('input บ่อกุ้ง'!$B$4,0,$D$1,1,1),2)","v":44.95},null,28,{"$f":"ROUND(OFFSET(ฝนใช้การ!$A$2,$O$2,$L20,1,1)*7/$O20,2)","v":2.7},null,null,null,null,null,null,null,null,null,null,null,null,null,null,null,null,null,null,null,null,null,null,null,null,null,null,null,null,null,null,null,null,null,null,null,null,null,null,null,null,null,null,null,null,null,null,null,null,null,null,null,null,null,null,null,null,null,null,null,null,null,null,null,null,null,null,null,null,null,null,null,null,null,null,null,null,null,null,null,null,null,null,null,null,null,null,null,null,null,null,null,null,null,null,null,null,null,null,null,null,null,null,null,null,null,null,null,null,null,null,null,null,null,null,null,null,null,null,null,null,null,null,null,null,null,null,null,null,null,null,null,null,null,null,null,null,null,null,null,null,null,null,null,null,null,null,null,null,null,null,null,null,null,null,null,null,null,null,null,null,null,null,null,null,null,null,null,null,null,null,null,null,null,null,null,null,null,null,null,null,null,null,null,null,null,null,null,null,null,null,null,null,null,null,null,null,null,null,null,null,null,null,null,null,0,0]
[19,"2018-03-07","2018-03-13","2018-03-13",{"$f":"OFFSET('input บ่อกุ้ง'!$B$6,$A21,$D$1,1,1)","v":0},1200,4,48,null,null,null,3,{"$f":"ROUND((OFFSET(Evap!$C$3,$M$2,$L21,1,1)*7/OFFSET($K$2,$L21,0,1,1))+OFFSET('input บ่อกุ้ง'!$B$4,0,$D$1,1,1),2)","v":51.01},null,31,{"$f":"ROUND(OFFSET(ฝนใช้การ!$A$2,$O$2,$L21,1,1)*7/$O21,2)","v":6.44},null,null,null,null,null,null,null,null,null,null,null,null,null,null,null,null,null,null,null,null,null,null,null,null,null,null,null,null,null,null,null,null,null,null,null,null,null,null,null,null,null,null,null,null,null,null,null,null,null,null,null,null,null,null,null,null,null,null,null,null,null,null,null,null,null,null,null,null,null,null,null,null,null,null,null,null,null,null,null,null,null,null,null,null,null,null,null,null,null,null,null,null,null,null,null,null,null,null,null,null,null,null,null,null,null,null,null,null,null,null,null,null,null,null,null,null,null,null,null,null,null,null,null,null,null,null,null,null,null,null,null,null,null,null,null,null,null,null,null,null,null,null,null,null,null,null,null,null,null,null,null,null,null,null,null,null,null,null,null,null,null,null,null,null,null,null,null,null,null,null,null,null,null,null,null,null,null,null,null,null,null,null,null,null,null,null,null,null,null,null,null,null,null,null,null,null,null,null,null,null,null,null,null,null,0,0]
[20,"2018-03-14","2018-03-20","2018-03-20",{"$f":"OFFSET('input บ่อกุ้ง'!$B$6,$A22,$D$1,1,1)","v":0},1200,4,48,null,null,null,3,{"$f":"ROUND((OFFSET(Evap!$C$3,$M$2,$L22,1,1)*7/OFFSET($K$2,$L22,0,1,1))+OFFSET('input บ่อกุ้ง'!$B$4,0,$D$1,1,1),2)","v":51.01},null,31,{"$f":"ROUND(OFFSET(ฝนใช้การ!$A$2,$O$2,$L22,1,1)*7/$O22,2)","v":6.44},null,null,null,null,null,null,null,null,null,null,null,null,null,null,null,null,null,null,null,null,null,null,null,null,null,null,null,null,null,null,null,null,null,null,null,null,null,null,null,null,null,null,null,null,null,null,null,null,null,null,null,null,null,null,null,null,null,null,null,null,null,null,null,null,null,null,null,null,null,null,null,null,null,null,null,null,null,null,null,null,null,null,null,null,null,null,null,null,null,null,null,null,null,null,null,null,null,null,null,null,null,null,null,null,null,null,null,null,null,null,null,null,null,null,null,null,null,null,null,null,null,null,null,null,null,null,null,null,null,null,null,null,null,null,null,null,null,null,null,null,null,null,null,null,null,null,null,null,null,null,null,null,null,null,null,null,null,null,null,null,null,null,null,null,null,null,null,null,null,null,null,null,null,null,null,null,null,null,null,null,null,null,null,null,null,null,null,null,null,null,null,null,null,null,null,null,null,null,null,null,null,null,null,null,0,0]
[21,"2018-03-21","2018-03-27","2018-03-27",{"$f":"OFFSET('input บ่อกุ้ง'!$B$6,$A23,$D$1,1,1)","v":0},1200,4,48,null,null,null,3,{"$f":"ROUND((OFFSET(Evap!$C$3,$M$2,$L23,1,1)*7/OFFSET($K$2,$L23,0,1,1))+OFFSET('input บ่อกุ้ง'!$B$4,0,$D$1,1,1),2)","v":51.01},null,31,{"$f":"ROUND(OFFSET(ฝนใช้การ!$A$2,$O$2,$L23,1,1)*7/$O23,2)","v":6.44},null,null,null,null,null,null,null,null,null,null,null,null,null,null,null,null,null,null,null,null,null,null,null,null,null,null,null,null,null,null,null,null,null,null,null,null,null,null,null,null,null,null,null,null,null,null,null,null,null,null,null,null,null,null,null,null,null,null,null,null,null,null,null,null,null,null,null,null,null,null,null,null,null,null,null,null,null,null,null,null,null,null,null,null,null,null,null,null,null,null,null,null,null,null,null,null,null,null,null,null,null,null,null,null,null,null,null,null,null,null,null,null,null,null,null,null,null,null,null,null,null,null,null,null,null,null,null,null,null,null,null,null,null,null,null,null,null,null,null,null,null,null,null,null,null,null,null,null,null,null,null,null,null,null,null,null,null,null,null,null,null,null,null,null,null,null,null,null,null,null,null,null,null,null,null,null,null,null,null,null,null,null,null,null,null,null,null,null,null,null,null,null,null,null,null,null,null,null,null,null,null,null,null,null,0,0]
[22,"2018-03-28","2018-04-03","2018-04-03",{"$f":"OFFSET('input บ่อกุ้ง'!$B$6,$A24,$D$1,1,1)","v":0},1200,4,48,null,null,null,3,{"$f":"ROUND((OFFSET(Evap!$C$3,$M$2,$L24,1,1)*7/OFFSET($K$2,$L24,0,1,1))+OFFSET('input บ่อกุ้ง'!$B$4,0,$D$1,1,1),2)","v":51.01},null,31,{"$f":"ROUND(OFFSET(ฝนใช้การ!$A$2,$O$2,$L24,1,1)*7/$O24,2)","v":6.44},null,null,null,null,null,null,null,null,null,null,null,null,null,null,null,null,null,null,null,null,null,null,null,null,null,null,null,null,null,null,null,null,null,null,null,null,null,null,null,null,null,null,null,null,null,null,null,null,null,null,null,null,null,null,null,null,null,null,null,null,null,null,null,null,null,null,null,null,null,null,null,null,null,null,null,null,null,null,null,null,null,null,null,null,null,null,null,null,null,null,null,null,null,null,null,null,null,null,null,null,null,null,null,null,null,null,null,null,null,null,null,null,null,null,null,null,null,null,null,null,null,null,null,null,null,null,null,null,null,null,null,null,null,null,null,null,null,null,null,null,null,null,null,null,null,null,null,null,null,null,null,null,null,null,null,null,null,null,null,null,null,null,null,null,null,null,null,null,null,null,null,null,null,null,null,null,null,null,null,null,null,null,null,null,null,null,null,null,null,null,null,null,null,null,null,null,null,null,null,null,null,null,null,null,0,0]
[23,"2018-04-04","2018-04-10","2018-04-10",{"$f":"OFFSET('input บ่อกุ้ง'!$B$6,$A25,$D$1,1,1)","v":0},1200,4,48,null,null,null,4,{"$f":"ROUND((OFFSET(Evap!$C$3,$M$2,$L25,1,1)*7/OFFSET($K$2,$L25,0,1,1))+OFFSET('input บ่อกุ้ง'!$B$4,0,$D$1,1,1),2)","v":52.31},null,30,{"$f":"ROUND(OFFSET(ฝนใช้การ!$A$2,$O$2,$L25,1,1)*7/$O25,2)","v":11.74},null,null,null,null,null,null,null,null,null,null,null,null,null,null,null,null,null,null,null,null,null,null,null,null,null,null,null,null,null,null,null,null,null,null,null,null,null,null,null,null,null,null,null,null,null,null,null,null,null,null,null,null,null,null,null,null,null,null,null,null,null,null,null,null,null,null,null,null,null,null,null,null,null,null,null,null,null,null,null,null,null,null,null,null,null,null,null,null,null,null,null,null,null,null,null,null,null,null,null,null,null,null,null,null,null,null,null,null,null,null,null,null,null,null,null,null,null,null,null,null,null,null,null,null,null,null,null,null,null,null,null,null,null,null,null,null,null,null,null,null,null,null,null,null,null,null,null,null,null,null,null,null,null,null,null,null,null,null,null,null,null,null,null,null,null,null,null,null,null,null,null,null,null,null,null,null,null,null,null,null,null,null,null,null,null,null,null,null,null,null,null,null,null,null,null,null,null,null,null,null,null,null,null,null,0,0]
[24,"2018-04-11","2018-04-17","2018-04-17",{"$f":"OFFSET('input บ่อกุ้ง'!$B$6,$A26,$D$1,1,1)","v":0},1200,4,48,null,null,null,4,{"$f":"ROUND((OFFSET(Evap!$C$3,$M$2,$L26,1,1)*7/OFFSET($K$2,$L26,0,1,1))+OFFSET('input บ่อกุ้ง'!$B$4,0,$D$1,1,1),2)","v":52.31},null,30,{"$f":"ROUND(OFFSET(ฝนใช้การ!$A$2,$O$2,$L26,1,1)*7/$O26,2)","v":11.74},null,null,null,null,null,null,null,null,null,null,null,null,null,null,null,null,null,null,null,null,null,null,null,null,null,null,null,null,null,null,null,null,null,null,null,null,null,null,null,null,null,null,null,null,null,null,null,null,null,null,null,null,null,null,null,null,null,null,null,null,null,null,null,null,null,null,null,null,null,null,null,null,null,null,null,null,null,null,null,null,null,null,null,null,null,null,null,null,null,null,null,null,null,null,null,null,null,null,null,null,null,null,null,null,null,null,null,null,null,null,null,null,null,null,null,null,null,null,null,null,null,null,null,null,null,null,null,null,null,null,null,null,null,null,null,null,null,null,null,null,null,null,null,null,null,null,null,null,null,null,null,null,null,null,null,null,null,null,null,null,null,null,null,null,null,null,null,null,null,null,null,null,null,null,null,null,null,null,null,null,null,null,null,null,null,null,null,null,null,null,null,null,null,null,null,null,null,null,null,null,null,null,null,null,0,0]
[25,"2018-04-18","2018-04-24","2018-04-24",{"$f":"OFFSET('input บ่อกุ้ง'!$B$6,$A27,$D$1,1,1)","v":0},1200,4,48,null,null,null,4,{"$f":"ROUND((OFFSET(Evap!$C$3,$M$2,$L27,1,1)*7/OFFSET($K$2,$L27,0,1,1))+OFFSET('input บ่อกุ้ง'!$B$4,0,$D$1,1,1),2)","v":52.31},null,30,{"$f":"ROUND(OFFSET(ฝนใช้การ!$A$2,$O$2,$L27,1,1)*7/$O27,2)","v":11.74},null,null,null,null,null,null,null,null,null,null,null,null,null,null,null,null,null,null,null,null,null,null,null,null,null,null,null,null,null,null,null,null,null,null,null,null,null,null,null,null,null,null,null,null,null,null,null,null,null,null,null,null,null,null,null,null,null,null,null,null,null,null,null,null,null,null,null,null,null,null,null,null,null,null,null,null,null,null,null,null,null,null,null,null,null,null,null,null,null,null,null,null,null,null,null,null,null,null,null,null,null,null,null,null,null,null,null,null,null,null,null,null,null,null,null,null,null,null,null,null,null,null,null,null,null,null,null,null,null,null,null,null,null,null,null,null,null,null,null,null,null,null,null,null,null,null,null,null,null,null,null,null,null,null,null,null,null,null,null,null,null,null,null,null,null,null,null,null,null,null,null,null,null,null,null,null,null,null,null,null,null,null,null,null,null,null,null,null,null,null,null,null,null,null,null,null,null,null,null,null,null,null,null,null,0,0]
[26,"2018-04-25","2018-05-01","2018-05-01",{"$f":"OFFSET('input บ่อกุ้ง'!$B$6,$A28,$D$1,1,1)","v":0},1200,4,48,null,null,null,4,{"$f":"ROUND((OFFSET(Evap!$C$3,$M$2,$L28,1,1)*7/OFFSET($K$2,$L28,0,1,1))+OFFSET('input บ่อกุ้ง'!$B$4,0,$D$1,1,1),2)","v":52.31},null,30,{"$f":"ROUND(OFFSET(ฝนใช้การ!$A$2,$O$2,$L28,1,1)*7/$O28,2)","v":11.74},null,null,null,null,null,null,null,null,null,null,null,null,null,null,null,null,null,null,null,null,null,null,null,null,null,null,null,null,null,null,null,null,null,null,null,null,null,null,null,null,null,null,null,null,null,null,null,null,null,null,null,null,null,null,null,null,null,null,null,null,null,null,null,null,null,null,null,null,null,null,null,null,null,null,null,null,null,null,null,null,null,null,null,null,null,null,null,null,null,null,null,null,null,null,null,null,null,null,null,null,null,null,null,null,null,null,null,null,null,null,null,null,null,null,null,null,null,null,null,null,null,null,null,null,null,null,null,null,null,null,null,null,null,null,null,null,null,null,null,null,null,null,null,null,null,null,null,null,null,null,null,null,null,null,null,null,null,null,null,null,null,null,null,null,null,null,null,null,null,null,null,null,null,null,null,null,null,null,null,null,null,null,null,null,null,null,null,null,null,null,null,null,null,null,null,null,null,null,null,null,null,null,null,null,0,0]
[27,"2018-05-02","2018-05-08","2018-05-08",{"$f":"OFFSET('input บ่อกุ้ง'!$B$6,$A29,$D$1,1,1)","v":0},1200,3,36,null,null,null,5,{"$f":"ROUND((OFFSET(Evap!$C$3,$M$2,$L29,1,1)*7/OFFSET($K$2,$L29,0,1,1))+OFFSET('input บ่อกุ้ง'!$B$4,0,$D$1,1,1),2)","v":48.62},null,31,{"$f":"ROUND(OFFSET(ฝนใช้การ!$A$2,$O$2,$L29,1,1)*7/$O29,2)","v":26.51},null,null,null,null,null,null,null,null,null,null,null,null,null,null,null,null,null,null,null,null,null,null,null,null,null,null,null,null,null,null,null,null,null,null,null,null,null,null,null,null,null,null,null,null,null,null,null,null,null,null,null,null,null,null,null,null,null,null,null,null,null,null,null,null,null,null,null,null,null,null,null,null,null,null,null,null,null,null,null,null,null,null,null,null,null,null,null,null,null,null,null,null,null,null,null,null,null,null,null,null,null,null,null,null,null,null,null,null,null,null,null,null,null,null,null,null,null,null,null,null,null,null,null,null,null,null,null,null,null,null,null,null,null,null,null,null,null,null,null,null,null,null,null,null,null,null,null,null,null,null,null,null,null,null,null,null,null,null,null,null,null,null,null,null,null,null,null,null,null,null,null,null,null,null,null,null,null,null,null,null,null,null,null,null,null,null,null,null,null,null,null,null,null,null,null,null,null,null,null,null,null,null,null,null,0,0]
[28,"2018-05-09","2018-05-15","2018-05-15",{"$f":"OFFSET('input บ่อกุ้ง'!$B$6,$A30,$D$1,1,1)","v":0},1200,3,36,null,null,null,5,{"$f":"ROUND((OFFSET(Evap!$C$3,$M$2,$L30,1,1)*7/OFFSET($K$2,$L30,0,1,1))+OFFSET('input บ่อกุ้ง'!$B$4,0,$D$1,1,1),2)","v":48.62},null,31,{"$f":"ROUND(OFFSET(ฝนใช้การ!$A$2,$O$2,$L30,1,1)*7/$O30,2)","v":26.51},null,null,null,null,null,null,null,null,null,null,null,null,null,null,null,null,null,null,null,null,null,null,null,null,null,null,null,null,null,null,null,null,null,null,null,null,null,null,null,null,null,null,null,null,null,null,null,null,null,null,null,null,null,null,null,null,null,null,null,null,null,null,null,null,null,null,null,null,null,null,null,null,null,null,null,null,null,null,null,null,null,null,null,null,null,null,null,null,null,null,null,null,null,null,null,null,null,null,null,null,null,null,null,null,null,null,null,null,null,null,null,null,null,null,null,null,null,null,null,null,null,null,null,null,null,null,null,null,null,null,null,null,null,null,null,null,null,null,null,null,null,null,null,null,null,null,null,null,null,null,null,null,null,null,null,null,null,null,null,null,null,null,null,null,null,null,null,null,null,null,null,null,null,null,null,null,null,null,null,null,null,null,null,null,null,null,null,null,null,null,null,null,null,null,null,null,null,null,null,null,null,null,null,null,0,0]
[29,"2018-05-16","2018-05-22","2018-05-22",{"$f":"OFFSET('input บ่อกุ้ง'!$B$6,$A31,$D$1,1,1)","v":0},1200,3,36,null,null,null,5,{"$f":"ROUND((OFFSET(Evap!$C$3,$M$2,$L31,1,1)*7/OFFSET($K$2,$L31,0,1,1))+OFFSET('input บ่อกุ้ง'!$B$4,0,$D$1,1,1),2)","v":48.62},null,31,{"$f":"ROUND(OFFSET(ฝนใช้การ!$A$2,$O$2,$L31,1,1)*7/$O31,2)","v":26.51},null,null,null,null,null,null,null,null,null,null,null,null,null,null,null,null,null,null,null,null,null,null,null,null,null,null,null,null,null,null,null,null,null,null,null,null,null,null,null,null,null,null,null,null,null,null,null,null,null,null,null,null,null,null,null,null,null,null,null,null,null,null,null,null,null,null,null,null,null,null,null,null,null,null,null,null,null,null,null,null,null,null,null,null,null,null,null,null,null,null,null,null,null,null,null,null,null,null,null,null,null,null,null,null,null,null,null,null,null,null,null,null,null,null,null,null,null,null,null,null,null,null,null,null,null,null,null,null,null,null,null,null,null,null,null,null,null,null,null,null,null,null,null,null,null,null,null,null,null,null,null,null,null,null,null,null,null,null,null,null,null,null,null,null,null,null,null,null,null,null,null,null,null,null,null,null,null,null,null,null,null,null,null,null,null,null,null,null,null,null,null,null,null,null,null,null,null,null,null,null,null,null,null,null,0,0]
[30,"2018-05-23","2018-05-29","2018-05-29",{"$f":"OFFSET('input บ่อกุ้ง'!$B$6,$A32,$D$1,1,1)","v":0},1200,3,36,null,null,null,5,{"$f":"ROUND((OFFSET(Evap!$C$3,$M$2,$L32,1,1)*7/OFFSET($K$2,$L32,0,1,1))+OFFSET('input บ่อกุ้ง'!$B$4,0,$D$1,1,1),2)","v":48.62},null,31,{"$f":"ROUND(OFFSET(ฝนใช้การ!$A$2,$O$2,$L32,1,1)*7/$O32,2)","v":26.51},null,null,null,null,null,null,null,null,null,null,null,null,null,null,null,null,null,null,null,null,null,null,null,null,null,null,null,null,null,null,null,null,null,null,null,null,null,null,null,null,null,null,null,null,null,null,null,null,null,null,null,null,null,null,null,null,null,null,null,null,null,null,null,null,null,null,null,null,null,null,null,null,null,null,null,null,null,null,null,null,null,null,null,null,null,null,null,null,null,null,null,null,null,null,null,null,null,null,null,null,null,null,null,null,null,null,null,null,null,null,null,null,null,null,null,null,null,null,null,null,null,null,null,null,null,null,null,null,null,null,null,null,null,null,null,null,null,null,null,null,null,null,null,null,null,null,null,null,null,null,null,null,null,null,null,null,null,null,null,null,null,null,null,null,null,null,null,null,null,null,null,null,null,null,null,null,null,null,null,null,null,null,null,null,null,null,null,null,null,null,null,null,null,null,null,null,null,null,null,null,null,null,null,null,0,0]
[31,"2018-05-30","2018-06-05","2018-06-05",{"$f":"OFFSET('input บ่อกุ้ง'!$B$6,$A33,$D$1,1,1)","v":0},1200,4,48,null,null,null,5,{"$f":"ROUND((OFFSET(Evap!$C$3,$M$2,$L33,1,1)*7/OFFSET($K$2,$L33,0,1,1))+OFFSET('input บ่อกุ้ง'!$B$4,0,$D$1,1,1),2)","v":48.62},null,31,{"$f":"ROUND(OFFSET(ฝนใช้การ!$A$2,$O$2,$L33,1,1)*7/$O33,2)","v":26.51},null,null,null,null,null,null,null,null,null,null,null,null,null,null,null,null,null,null,null,null,null,null,null,null,null,null,null,null,null,null,null,null,null,null,null,null,null,null,null,null,null,null,null,null,null,null,null,null,null,null,null,null,null,null,null,null,null,null,null,null,null,null,null,null,null,null,null,null,null,null,null,null,null,null,null,null,null,null,null,null,null,null,null,null,null,null,null,null,null,null,null,null,null,null,null,null,null,null,null,null,null,null,null,null,null,null,null,null,null,null,null,null,null,null,null,null,null,null,null,null,null,null,null,null,null,null,null,null,null,null,null,null,null,null,null,null,null,null,null,null,null,null,null,null,null,null,null,null,null,null,null,null,null,null,null,null,null,null,null,null,null,null,null,null,null,null,null,null,null,null,null,null,null,null,null,null,null,null,null,null,null,null,null,null,null,null,null,null,null,null,null,null,null,null,null,null,null,null,null,null,null,null,null,null,0,0]
[32,"2018-06-06","2018-06-12","2018-06-12",{"$f":"OFFSET('input บ่อกุ้ง'!$B$6,$A34,$D$1,1,1)","v":0},1200,4,48,null,null,null,6,{"$f":"ROUND((OFFSET(Evap!$C$3,$M$2,$L34,1,1)*7/OFFSET($K$2,$L34,0,1,1))+OFFSET('input บ่อกุ้ง'!$B$4,0,$D$1,1,1),2)","v":45.22},null,30,{"$f":"ROUND(OFFSET(ฝนใช้การ!$A$2,$O$2,$L34,1,1)*7/$O34,2)","v":21.07},null,null,null,null,null,null,null,null,null,null,null,null,null,null,null,null,null,null,null,null,null,null,null,null,null,null,null,null,null,null,null,null,null,null,null,null,null,null,null,null,null,null,null,null,null,null,null,null,null,null,null,null,null,null,null,null,null,null,null,null,null,null,null,null,null,null,null,null,null,null,null,null,null,null,null,null,null,null,null,null,null,null,null,null,null,null,null,null,null,null,null,null,null,null,null,null,null,null,null,null,null,null,null,null,null,null,null,null,null,null,null,null,null,null,null,null,null,null,null,null,null,null,null,null,null,null,null,null,null,null,null,null,null,null,null,null,null,null,null,null,null,null,null,null,null,null,null,null,null,null,null,null,null,null,null,null,null,null,null,null,null,null,null,null,null,null,null,null,null,null,null,null,null,null,null,null,null,null,null,null,null,null,null,null,null,null,null,null,null,null,null,null,null,null,null,null,null,null,null,null,null,null,null,null,0,0]
[33,"2018-06-13","2018-06-19","2018-06-19",{"$f":"OFFSET('input บ่อกุ้ง'!$B$6,$A35,$D$1,1,1)","v":0},1200,4,48,null,null,null,6,{"$f":"ROUND((OFFSET(Evap!$C$3,$M$2,$L35,1,1)*7/OFFSET($K$2,$L35,0,1,1))+OFFSET('input บ่อกุ้ง'!$B$4,0,$D$1,1,1),2)","v":45.22},null,30,{"$f":"ROUND(OFFSET(ฝนใช้การ!$A$2,$O$2,$L35,1,1)*7/$O35,2)","v":21.07},null,null,null,null,null,null,null,null,null,null,null,null,null,null,null,null,null,null,null,null,null,null,null,null,null,null,null,null,null,null,null,null,null,null,null,null,null,null,null,null,null,null,null,null,null,null,null,null,null,null,null,null,null,null,null,null,null,null,null,null,null,null,null,null,null,null,null,null,null,null,null,null,null,null,null,null,null,null,null,null,null,null,null,null,null,null,null,null,null,null,null,null,null,null,null,null,null,null,null,null,null,null,null,null,null,null,null,null,null,null,null,null,null,null,null,null,null,null,null,null,null,null,null,null,null,null,null,null,null,null,null,null,null,null,null,null,null,null,null,null,null,null,null,null,null,null,null,null,null,null,null,null,null,null,null,null,null,null,null,null,null,null,null,null,null,null,null,null,null,null,null,null,null,null,null,null,null,null,null,null,null,null,null,null,null,null,null,null,null,null,null,null,null,null,null,null,null,null,null,null,null,null,null,null,0,0]
[34,"2018-06-20","2018-06-26","2018-06-26",{"$f":"OFFSET('input บ่อกุ้ง'!$B$6,$A36,$D$1,1,1)","v":0},1200,4,48,null,null,null,6,{"$f":"ROUND((OFFSET(Evap!$C$3,$M$2,$L36,1,1)*7/OFFSET($K$2,$L36,0,1,1))+OFFSET('input บ่อกุ้ง'!$B$4,0,$D$1,1,1),2)","v":45.22},null,30,{"$f":"ROUND(OFFSET(ฝนใช้การ!$A$2,$O$2,$L36,1,1)*7/$O36,2)","v":21.07},null,null,null,null,null,null,null,null,null,null,null,null,null,null,null,null,null,null,null,null,null,null,null,null,null,null,null,null,null,null,null,null,null,null,null,null,null,null,null,null,null,null,null,null,null,null,null,null,null,null,null,null,null,null,null,null,null,null,null,null,null,null,null,null,null,null,null,null,null,null,null,null,null,null,null,null,null,null,null,null,null,null,null,null,null,null,null,null,null,null,null,null,null,null,null,null,null,null,null,null,null,null,null,null,null,null,null,null,null,null,null,null,null,null,null,null,null,null,null,null,null,null,null,null,null,null,null,null,null,null,null,null,null,null,null,null,null,null,null,null,null,null,null,null,null,null,null,null,null,null,null,null,null,null,null,null,null,null,null,null,null,null,null,null,null,null,null,null,null,null,null,null,null,null,null,null,null,null,null,null,null,null,null,null,null,null,null,null,null,null,null,null,null,null,null,null,null,null,null,null,null,null,null,null,0,0]
[35,"2018-06-27","2018-07-03","2018-07-03",{"$f":"OFFSET('input บ่อกุ้ง'!$B$6,$A37,$D$1,1,1)","v":0},1200,4,48,null,null,null,6,{"$f":"ROUND((OFFSET(Evap!$C$3,$M$2,$L37,1,1)*7/OFFSET($K$2,$L37,0,1,1))+OFFSET('input บ่อกุ้ง'!$B$4,0,$D$1,1,1),2)","v":45.22},null,30,{"$f":"ROUND(OFFSET(ฝนใช้การ!$A$2,$O$2,$L37,1,1)*7/$O37,2)","v":21.07},null,null,null,null,null,null,null,null,null,null,null,null,null,null,null,null,null,null,null,null,null,null,null,null,null,null,null,null,null,null,null,null,null,null,null,null,null,null,null,null,null,null,null,null,null,null,null,null,null,null,null,null,null,null,null,null,null,null,null,null,null,null,null,null,null,null,null,null,null,null,null,null,null,null,null,null,null,null,null,null,null,null,null,null,null,null,null,null,null,null,null,null,null,null,null,null,null,null,null,null,null,null,null,null,null,null,null,null,null,null,null,null,null,null,null,null,null,null,null,null,null,null,null,null,null,null,null,null,null,null,null,null,null,null,null,null,null,null,null,null,null,null,null,null,null,null,null,null,null,null,null,null,null,null,null,null,null,null,null,null,null,null,null,null,null,null,null,null,null,null,null,null,null,null,null,null,null,null,null,null,null,null,null,null,null,null,null,null,null,null,null,null,null,null,null,null,null,null,null,null,null,null,null,null,0,0]
[36,"2018-07-04","2018-07-10","2018-07-10",{"$f":"OFFSET('input บ่อกุ้ง'!$B$6,$A38,$D$1,1,1)","v":0},1200,4,48,null,null,null,7,{"$f":"ROUND((OFFSET(Evap!$C$3,$M$2,$L38,1,1)*7/OFFSET($K$2,$L38,0,1,1))+OFFSET('input บ่อกุ้ง'!$B$4,0,$D$1,1,1),2)","v":42.68},null,31,{"$f":"ROUND(OFFSET(ฝนใช้การ!$A$2,$O$2,$L38,1,1)*7/$O38,2)","v":27.8},null,null,null,null,null,null,null,null,null,null,null,null,null,null,null,null,null,null,null,null,null,null,null,null,null,null,null,null,null,null,null,null,null,null,null,null,null,null,null,null,null,null,null,null,null,null,null,null,null,null,null,null,null,null,null,null,null,null,null,null,null,null,null,null,null,null,null,null,null,null,null,null,null,null,null,null,null,null,null,null,null,null,null,null,null,null,null,null,null,null,null,null,null,null,null,null,null,null,null,null,null,null,null,null,null,null,null,null,null,null,null,null,null,null,null,null,null,null,null,null,null,null,null,null,null,null,null,null,null,null,null,null,null,null,null,null,null,null,null,null,null,null,null,null,null,null,null,null,null,null,null,null,null,null,null,null,null,null,null,null,null,null,null,null,null,null,null,null,null,null,null,null,null,null,null,null,null,null,null,null,null,null,null,null,null,null,null,null,null,null,null,null,null,null,null,null,null,null,null,null,null,null,null,null,0,0]
[37,"2018-07-11","2018-07-17","2018-07-17",{"$f":"OFFSET('input บ่อกุ้ง'!$B$6,$A39,$D$1,1,1)","v":0},1200,4,48,null,null,null,7,{"$f":"ROUND((OFFSET(Evap!$C$3,$M$2,$L39,1,1)*7/OFFSET($K$2,$L39,0,1,1))+OFFSET('input บ่อกุ้ง'!$B$4,0,$D$1,1,1),2)","v":42.68},null,31,{"$f":"ROUND(OFFSET(ฝนใช้การ!$A$2,$O$2,$L39,1,1)*7/$O39,2)","v":27.8},null,null,null,null,null,null,null,null,null,null,null,null,null,null,null,null,null,null,null,null,null,null,null,null,null,null,null,null,null,null,null,null,null,null,null,null,null,null,null,null,null,null,null,null,null,null,null,null,null,null,null,null,null,null,null,null,null,null,null,null,null,null,null,null,null,null,null,null,null,null,null,null,null,null,null,null,null,null,null,null,null,null,null,null,null,null,null,null,null,null,null,null,null,null,null,null,null,null,null,null,null,null,null,null,null,null,null,null,null,null,null,null,null,null,null,null,null,null,null,null,null,null,null,null,null,null,null,null,null,null,null,null,null,null,null,null,null,null,null,null,null,null,null,null,null,null,null,null,null,null,null,null,null,null,null,null,null,null,null,null,null,null,null,null,null,null,null,null,null,null,null,null,null,null,null,null,null,null,null,null,null,null,null,null,null,null,null,null,null,null,null,null,null,null,null,null,null,null,null,null,null,null,null,null,0,0]
[38,"2018-07-18","2018-07-24","2018-07-24",{"$f":"OFFSET('input บ่อกุ้ง'!$B$6,$A40,$D$1,1,1)","v":0},1200,4,48,null,null,null,7,{"$f":"ROUND((OFFSET(Evap!$C$3,$M$2,$L40,1,1)*7/OFFSET($K$2,$L40,0,1,1))+OFFSET('input บ่อกุ้ง'!$B$4,0,$D$1,1,1),2)","v":42.68},null,31,{"$f":"ROUND(OFFSET(ฝนใช้การ!$A$2,$O$2,$L40,1,1)*7/$O40,2)","v":27.8},null,null,null,null,null,null,null,null,null,null,null,null,null,null,null,null,null,null,null,null,null,null,null,null,null,null,null,null,null,null,null,null,null,null,null,null,null,null,null,null,null,null,null,null,null,null,null,null,null,null,null,null,null,null,null,null,null,null,null,null,null,null,null,null,null,null,null,null,null,null,null,null,null,null,null,null,null,null,null,null,null,null,null,null,null,null,null,null,null,null,null,null,null,null,null,null,null,null,null,null,null,null,null,null,null,null,null,null,null,null,null,null,null,null,null,null,null,null,null,null,null,null,null,null,null,null,null,null,null,null,null,null,null,null,null,null,null,null,null,null,null,null,null,null,null,null,null,null,null,null,null,null,null,null,null,null,null,null,null,null,null,null,null,null,null,null,null,null,null,null,null,null,null,null,null,null,null,null,null,null,null,null,null,null,null,null,null,null,null,null,null,null,null,null,null,null,null,null,null,null,null,null,null,null,0,0]
[39,"2018-07-25","2018-07-31","2018-07-31",{"$f":"OFFSET('input บ่อกุ้ง'!$B$6,$A41,$D$1,1,1)","v":0},1200,4,48,null,null,null,7,{"$f":"ROUND((OFFSET(Evap!$C$3,$M$2,$L41,1,1)*7/OFFSET($K$2,$L41,0,1,1))+OFFSET('input บ่อกุ้ง'!$B$4,0,$D$1,1,1),2)","v":42.68},null,31,{"$f":"ROUND(OFFSET(ฝนใช้การ!$A$2,$O$2,$L41,1,1)*7/$O41,2)","v":27.8},null,null,null,null,null,null,null,null,null,null,null,null,null,null,null,null,null,null,null,null,null,null,null,null,null,null,null,null,null,null,null,null,null,null,null,null,null,null,null,null,null,null,null,null,null,null,null,null,null,null,null,null,null,null,null,null,null,null,null,null,null,null,null,null,null,null,null,null,null,null,null,null,null,null,null,null,null,null,null,null,null,null,null,null,null,null,null,null,null,null,null,null,null,null,null,null,null,null,null,null,null,null,null,null,null,null,null,null,null,null,null,null,null,null,null,null,null,null,null,null,null,null,null,null,null,null,null,null,null,null,null,null,null,null,null,null,null,null,null,null,null,null,null,null,null,null,null,null,null,null,null,null,null,null,null,null,null,null,null,null,null,null,null,null,null,null,null,null,null,null,null,null,null,null,null,null,null,null,null,null,null,null,null,null,null,null,null,null,null,null,null,null,null,null,null,null,null,null,null,null,null,null,null,null,0,0]
[40,"2018-08-01","2018-08-07","2018-08-07",{"$f":"OFFSET('input บ่อกุ้ง'!$B$6,$A42,$D$1,1,1)","v":0},1200,4,48,null,null,null,8,{"$f":"ROUND((OFFSET(Evap!$C$3,$M$2,$L42,1,1)*7/OFFSET($K$2,$L42,0,1,1))+OFFSET('input บ่อกุ้ง'!$B$4,0,$D$1,1,1),2)","v":39.72},null,31,{"$f":"ROUND(OFFSET(ฝนใช้การ!$A$2,$O$2,$L42,1,1)*7/$O42,2)","v":33.17},null,null,null,null,null,null,null,null,null,null,null,null,null,null,null,null,null,null,null,null,null,null,null,null,null,null,null,null,null,null,null,null,null,null,null,null,null,null,null,null,null,null,null,null,null,null,null,null,null,null,null,null,null,null,null,null,null,null,null,null,null,null,null,null,null,null,null,null,null,null,null,null,null,null,null,null,null,null,null,null,null,null,null,null,null,null,null,null,null,null,null,null,null,null,null,null,null,null,null,null,null,null,null,null,null,null,null,null,null,null,null,null,null,null,null,null,null,null,null,null,null,null,null,null,null,null,null,null,null,null,null,null,null,null,null,null,null,null,null,null,null,null,null,null,null,null,null,null,null,null,null,null,null,null,null,null,null,null,null,null,null,null,null,null,null,null,null,null,null,null,null,null,null,null,null,null,null,null,null,null,null,null,null,null,null,null,null,null,null,null,null,null,null,null,null,null,null,null,null,null,null,null,null,null,0,0]
[41,"2018-08-08","2018-08-14","2018-08-14",{"$f":"OFFSET('input บ่อกุ้ง'!$B$6,$A43,$D$1,1,1)","v":0},1200,4,48,null,null,null,8,{"$f":"ROUND((OFFSET(Evap!$C$3,$M$2,$L43,1,1)*7/OFFSET($K$2,$L43,0,1,1))+OFFSET('input บ่อกุ้ง'!$B$4,0,$D$1,1,1),2)","v":39.72},null,31,{"$f":"ROUND(OFFSET(ฝนใช้การ!$A$2,$O$2,$L43,1,1)*7/$O43,2)","v":33.17},null,null,null,null,null,null,null,null,null,null,null,null,null,null,null,null,null,null,null,null,null,null,null,null,null,null,null,null,null,null,null,null,null,null,null,null,null,null,null,null,null,null,null,null,null,null,null,null,null,null,null,null,null,null,null,null,null,null,null,null,null,null,null,null,null,null,null,null,null,null,null,null,null,null,null,null,null,null,null,null,null,null,null,null,null,null,null,null,null,null,null,null,null,null,null,null,null,null,null,null,null,null,null,null,null,null,null,null,null,null,null,null,null,null,null,null,null,null,null,null,null,null,null,null,null,null,null,null,null,null,null,null,null,null,null,null,null,null,null,null,null,null,null,null,null,null,null,null,null,null,null,null,null,null,null,null,null,null,null,null,null,null,null,null,null,null,null,null,null,null,null,null,null,null,null,null,null,null,null,null,null,null,null,null,null,null,null,null,null,null,null,null,null,null,null,null,null,null,null,null,null,null,null,null,0,0]
[42,"2018-08-15","2018-08-21","2018-08-21",{"$f":"OFFSET('input บ่อกุ้ง'!$B$6,$A44,$D$1,1,1)","v":0},1200,4,48,null,null,null,8,{"$f":"ROUND((OFFSET(Evap!$C$3,$M$2,$L44,1,1)*7/OFFSET($K$2,$L44,0,1,1))+OFFSET('input บ่อกุ้ง'!$B$4,0,$D$1,1,1),2)","v":39.72},null,31,{"$f":"ROUND(OFFSET(ฝนใช้การ!$A$2,$O$2,$L44,1,1)*7/$O44,2)","v":33.17},null,null,null,null,null,null,null,null,null,null,null,null,null,null,null,null,null,null,null,null,null,null,null,null,null,null,null,null,null,null,null,null,null,null,null,null,null,null,null,null,null,null,null,null,null,null,null,null,null,null,null,null,null,null,null,null,null,null,null,null,null,null,null,null,null,null,null,null,null,null,null,null,null,null,null,null,null,null,null,null,null,null,null,null,null,null,null,null,null,null,null,null,null,null,null,null,null,null,null,null,null,null,null,null,null,null,null,null,null,null,null,null,null,null,null,null,null,null,null,null,null,null,null,null,null,null,null,null,null,null,null,null,null,null,null,null,null,null,null,null,null,null,null,null,null,null,null,null,null,null,null,null,null,null,null,null,null,null,null,null,null,null,null,null,null,null,null,null,null,null,null,null,null,null,null,null,null,null,null,null,null,null,null,null,null,null,null,null,null,null,null,null,null,null,null,null,null,null,null,null,null,null,null,null,0,0]
[43,"2018-08-22","2018-08-28","2018-08-28",{"$f":"OFFSET('input บ่อกุ้ง'!$B$6,$A45,$D$1,1,1)","v":0},1200,4,48,null,null,null,8,{"$f":"ROUND((OFFSET(Evap!$C$3,$M$2,$L45,1,1)*7/OFFSET($K$2,$L45,0,1,1))+OFFSET('input บ่อกุ้ง'!$B$4,0,$D$1,1,1),2)","v":39.72},null,31,{"$f":"ROUND(OFFSET(ฝนใช้การ!$A$2,$O$2,$L45,1,1)*7/$O45,2)","v":33.17},null,null,null,null,null,null,null,null,null,null,null,null,null,null,null,null,null,null,null,null,null,null,null,null,null,null,null,null,null,null,null,null,null,null,null,null,null,null,null,null,null,null,null,null,null,null,null,null,null,null,null,null,null,null,null,null,null,null,null,null,null,null,null,null,null,null,null,null,null,null,null,null,null,null,null,null,null,null,null,null,null,null,null,null,null,null,null,null,null,null,null,null,null,null,null,null,null,null,null,null,null,null,null,null,null,null,null,null,null,null,null,null,null,null,null,null,null,null,null,null,null,null,null,null,null,null,null,null,null,null,null,null,null,null,null,null,null,null,null,null,null,null,null,null,null,null,null,null,null,null,null,null,null,null,null,null,null,null,null,null,null,null,null,null,null,null,null,null,null,null,null,null,null,null,null,null,null,null,null,null,null,null,null,null,null,null,null,null,null,null,null,null,null,null,null,null,null,null,null,null,null,null,null,null,0,0]
[44,"2018-08-29","2018-09-04","2018-09-04",{"$f":"OFFSET('input บ่อกุ้ง'!$B$6,$A46,$D$1,1,1)","v":0},1200,4,48,null,null,null,8,{"$f":"ROUND((OFFSET(Evap!$C$3,$M$2,$L46,1,1)*7/OFFSET($K$2,$L46,0,1,1))+OFFSET('input บ่อกุ้ง'!$B$4,0,$D$1,1,1),2)","v":39.72},null,31,{"$f":"ROUND(OFFSET(ฝนใช้การ!$A$2,$O$2,$L46,1,1)*7/$O46,2)","v":33.17},null,null,null,null,null,null,null,null,null,null,null,null,null,null,null,null,null,null,null,null,null,null,null,null,null,null,null,null,null,null,null,null,null,null,null,null,null,null,null,null,null,null,null,null,null,null,null,null,null,null,null,null,null,null,null,null,null,null,null,null,null,null,null,null,null,null,null,null,null,null,null,null,null,null,null,null,null,null,null,null,null,null,null,null,null,null,null,null,null,null,null,null,null,null,null,null,null,null,null,null,null,null,null,null,null,null,null,null,null,null,null,null,null,null,null,null,null,null,null,null,null,null,null,null,null,null,null,null,null,null,null,null,null,null,null,null,null,null,null,null,null,null,null,null,null,null,null,null,null,null,null,null,null,null,null,null,null,null,null,null,null,null,null,null,null,null,null,null,null,null,null,null,null,null,null,null,null,null,null,null,null,null,null,null,null,null,null,null,null,null,null,null,null,null,null,null,null,null,null,null,null,null,null,null,0,0]
[45,"2018-09-05","2018-09-11","2018-09-11",{"$f":"OFFSET('input บ่อกุ้ง'!$B$6,$A47,$D$1,1,1)","v":0},1200,4,48,null,null,null,9,{"$f":"ROUND((OFFSET(Evap!$C$3,$M$2,$L47,1,1)*7/OFFSET($K$2,$L47,0,1,1))+OFFSET('input บ่อกุ้ง'!$B$4,0,$D$1,1,1),2)","v":37.78},null,30,{"$f":"ROUND(OFFSET(ฝนใช้การ!$A$2,$O$2,$L47,1,1)*7/$O47,2)","v":57.8},null,null,null,null,null,null,null,null,null,null,null,null,null,null,null,null,null,null,null,null,null,null,null,null,null,null,null,null,null,null,null,null,null,null,null,null,null,null,null,null,null,null,null,null,null,null,null,null,null,null,null,null,null,null,null,null,null,null,null,null,null,null,null,null,null,null,null,null,null,null,null,null,null,null,null,null,null,null,null,null,null,null,null,null,null,null,null,null,null,null,null,null,null,null,null,null,null,null,null,null,null,null,null,null,null,null,null,null,null,null,null,null,null,null,null,null,null,null,null,null,null,null,null,null,null,null,null,null,null,null,null,null,null,null,null,null,null,null,null,null,null,null,null,null,null,null,null,null,null,null,null,null,null,null,null,null,null,null,null,null,null,null,null,null,null,null,null,null,null,null,null,null,null,null,null,null,null,null,null,null,null,null,null,null,null,null,null,null,null,null,null,null,null,null,null,null,null,null,null,null,null,null,null,null,0,0]
[46,"2018-09-12","2018-09-18","2018-09-18",{"$f":"OFFSET('input บ่อกุ้ง'!$B$6,$A48,$D$1,1,1)","v":0},1200,4,48,null,null,null,9,{"$f":"ROUND((OFFSET(Evap!$C$3,$M$2,$L48,1,1)*7/OFFSET($K$2,$L48,0,1,1))+OFFSET('input บ่อกุ้ง'!$B$4,0,$D$1,1,1),2)","v":37.78},null,30,{"$f":"ROUND(OFFSET(ฝนใช้การ!$A$2,$O$2,$L48,1,1)*7/$O48,2)","v":57.8},null,null,null,null,null,null,null,null,null,null,null,null,null,null,null,null,null,null,null,null,null,null,null,null,null,null,null,null,null,null,null,null,null,null,null,null,null,null,null,null,null,null,null,null,null,null,null,null,null,null,null,null,null,null,null,null,null,null,null,null,null,null,null,null,null,null,null,null,null,null,null,null,null,null,null,null,null,null,null,null,null,null,null,null,null,null,null,null,null,null,null,null,null,null,null,null,null,null,null,null,null,null,null,null,null,null,null,null,null,null,null,null,null,null,null,null,null,null,null,null,null,null,null,null,null,null,null,null,null,null,null,null,null,null,null,null,null,null,null,null,null,null,null,null,null,null,null,null,null,null,null,null,null,null,null,null,null,null,null,null,null,null,null,null,null,null,null,null,null,null,null,null,null,null,null,null,null,null,null,null,null,null,null,null,null,null,null,null,null,null,null,null,null,null,null,null,null,null,null,null,null,null,null,null,0,0]
[47,"2018-09-19","2018-09-25","2018-09-25",{"$f":"OFFSET('input บ่อกุ้ง'!$B$6,$A49,$D$1,1,1)","v":0},1200,4,48,null,null,null,9,{"$f":"ROUND((OFFSET(Evap!$C$3,$M$2,$L49,1,1)*7/OFFSET($K$2,$L49,0,1,1))+OFFSET('input บ่อกุ้ง'!$B$4,0,$D$1,1,1),2)","v":37.78},null,30,{"$f":"ROUND(OFFSET(ฝนใช้การ!$A$2,$O$2,$L49,1,1)*7/$O49,2)","v":57.8},null,null,null,null,null,null,null,null,null,null,null,null,null,null,null,null,null,null,null,null,null,null,null,null,null,null,null,null,null,null,null,null,null,null,null,null,null,null,null,null,null,null,null,null,null,null,null,null,null,null,null,null,null,null,null,null,null,null,null,null,null,null,null,null,null,null,null,null,null,null,null,null,null,null,null,null,null,null,null,null,null,null,null,null,null,null,null,null,null,null,null,null,null,null,null,null,null,null,null,null,null,null,null,null,null,null,null,null,null,null,null,null,null,null,null,null,null,null,null,null,null,null,null,null,null,null,null,null,null,null,null,null,null,null,null,null,null,null,null,null,null,null,null,null,null,null,null,null,null,null,null,null,null,null,null,null,null,null,null,null,null,null,null,null,null,null,null,null,null,null,null,null,null,null,null,null,null,null,null,null,null,null,null,null,null,null,null,null,null,null,null,null,null,null,null,null,null,null,null,null,null,null,null,null,0,0]
[48,"2018-09-26","2018-10-02","2018-10-02",{"$f":"OFFSET('input บ่อกุ้ง'!$B$6,$A50,$D$1,1,1)","v":0},1200,4,48,null,null,null,9,{"$f":"ROUND((OFFSET(Evap!$C$3,$M$2,$L50,1,1)*7/OFFSET($K$2,$L50,0,1,1))+OFFSET('input บ่อกุ้ง'!$B$4,0,$D$1,1,1),2)","v":37.78},null,30,{"$f":"ROUND(OFFSET(ฝนใช้การ!$A$2,$O$2,$L50,1,1)*7/$O50,2)","v":57.8},null,null,null,null,null,null,null,null,null,null,null,null,null,null,null,null,null,null,null,null,null,null,null,null,null,null,null,null,null,null,null,null,null,null,null,null,null,null,null,null,null,null,null,null,null,null,null,null,null,null,null,null,null,null,null,null,null,null,null,null,null,null,null,null,null,null,null,null,null,null,null,null,null,null,null,null,null,null,null,null,null,null,null,null,null,null,null,null,null,null,null,null,null,null,null,null,null,null,null,null,null,null,null,null,null,null,null,null,null,null,null,null,null,null,null,null,null,null,null,null,null,null,null,null,null,null,null,null,null,null,null,null,null,null,null,null,null,null,null,null,null,null,null,null,null,null,null,null,null,null,null,null,null,null,null,null,null,null,null,null,null,null,null,null,null,null,null,null,null,null,null,null,null,null,null,null,null,null,null,null,null,null,null,null,null,null,null,null,null,null,null,null,null,null,null,null,null,null,null,null,null,null,null,null,0,0]
[49,"2018-10-03","2018-10-09","2018-10-09",{"$f":"OFFSET('input บ่อกุ้ง'!$B$6,$A51,$D$1,1,1)","v":0},1200,4,48,null,null,null,10,{"$f":"ROUND((OFFSET(Evap!$C$3,$M$2,$L51,1,1)*7/OFFSET($K$2,$L51,0,1,1))+OFFSET('input บ่อกุ้ง'!$B$4,0,$D$1,1,1),2)","v":35.81},null,31,{"$f":"ROUND(OFFSET(ฝนใช้การ!$A$2,$O$2,$L51,1,1)*7/$O51,2)","v":32.92},null,null,null,null,null,null,null,null,null,null,null,null,null,null,null,null,null,null,null,null,null,null,null,null,null,null,null,null,null,null,null,null,null,null,null,null,null,null,null,null,null,null,null,null,null,null,null,null,null,null,null,null,null,null,null,null,null,null,null,null,null,null,null,null,null,null,null,null,null,null,null,null,null,null,null,null,null,null,null,null,null,null,null,null,null,null,null,null,null,null,null,null,null,null,null,null,null,null,null,null,null,null,null,null,null,null,null,null,null,null,null,null,null,null,null,null,null,null,null,null,null,null,null,null,null,null,null,null,null,null,null,null,null,null,null,null,null,null,null,null,null,null,null,null,null,null,null,null,null,null,null,null,null,null,null,null,null,null,null,null,null,null,null,null,null,null,null,null,null,null,null,null,null,null,null,null,null,null,null,null,null,null,null,null,null,null,null,null,null,null,null,null,null,null,null,null,null,null,null,null,null,null,null,null,0,0]
[50,"2018-10-10","2018-10-16","2018-10-16",{"$f":"OFFSET('input บ่อกุ้ง'!$B$6,$A52,$D$1,1,1)","v":0},1200,4,48,null,null,null,10,{"$f":"ROUND((OFFSET(Evap!$C$3,$M$2,$L52,1,1)*7/OFFSET($K$2,$L52,0,1,1))+OFFSET('input บ่อกุ้ง'!$B$4,0,$D$1,1,1),2)","v":35.81},null,31,{"$f":"ROUND(OFFSET(ฝนใช้การ!$A$2,$O$2,$L52,1,1)*7/$O52,2)","v":32.92},null,null,null,null,null,null,null,null,null,null,null,null,null,null,null,null,null,null,null,null,null,null,null,null,null,null,null,null,null,null,null,null,null,null,null,null,null,null,null,null,null,null,null,null,null,null,null,null,null,null,null,null,null,null,null,null,null,null,null,null,null,null,null,null,null,null,null,null,null,null,null,null,null,null,null,null,null,null,null,null,null,null,null,null,null,null,null,null,null,null,null,null,null,null,null,null,null,null,null,null,null,null,null,null,null,null,null,null,null,null,null,null,null,null,null,null,null,null,null,null,null,null,null,null,null,null,null,null,null,null,null,null,null,null,null,null,null,null,null,null,null,null,null,null,null,null,null,null,null,null,null,null,null,null,null,null,null,null,null,null,null,null,null,null,null,null,null,null,null,null,null,null,null,null,null,null,null,null,null,null,null,null,null,null,null,null,null,null,null,null,null,null,null,null,null,null,null,null,null,null,null,null,null,null,0,0]
[51,"2018-10-17","2018-10-23","2018-10-23",{"$f":"OFFSET('input บ่อกุ้ง'!$B$6,$A53,$D$1,1,1)","v":0},1200,4,48,null,null,null,10,{"$f":"ROUND((OFFSET(Evap!$C$3,$M$2,$L53,1,1)*7/OFFSET($K$2,$L53,0,1,1))+OFFSET('input บ่อกุ้ง'!$B$4,0,$D$1,1,1),2)","v":35.81},null,31,{"$f":"ROUND(OFFSET(ฝนใช้การ!$A$2,$O$2,$L53,1,1)*7/$O53,2)","v":32.92},null,null,null,null,null,null,null,null,null,null,null,null,null,null,null,null,null,null,null,null,null,null,null,null,null,null,null,null,null,null,null,null,null,null,null,null,null,null,null,null,null,null,null,null,null,null,null,null,null,null,null,null,null,null,null,null,null,null,null,null,null,null,null,null,null,null,null,null,null,null,null,null,null,null,null,null,null,null,null,null,null,null,null,null,null,null,null,null,null,null,null,null,null,null,null,null,null,null,null,null,null,null,null,null,null,null,null,null,null,null,null,null,null,null,null,null,null,null,null,null,null,null,null,null,null,null,null,null,null,null,null,null,null,null,null,null,null,null,null,null,null,null,null,null,null,null,null,null,null,null,null,null,null,null,null,null,null,null,null,null,null,null,null,null,null,null,null,null,null,null,null,null,null,null,null,null,null,null,null,null,null,null,null,null,null,null,null,null,null,null,null,null,null,null,null,null,null,null,null,null,null,null,null,null,0,0]
[52,"2018-10-24","2018-10-30","2018-10-30",{"$f":"OFFSET('input บ่อกุ้ง'!$B$6,$A54,$D$1,1,1)","v":0},1200,4,48,null,null,null,10,{"$f":"ROUND((OFFSET(Evap!$C$3,$M$2,$L54,1,1)*7/OFFSET($K$2,$L54,0,1,1))+OFFSET('input บ่อกุ้ง'!$B$4,0,$D$1,1,1),2)","v":35.81},null,31,{"$f":"ROUND(OFFSET(ฝนใช้การ!$A$2,$O$2,$L54,1,1)*7/$O54,2)","v":32.92},null,null,null,null,null,null,null,null,null,null,null,null,null,null,null,null,null,null,null,null,null,null,null,null,null,null,null,null,null,null,null,null,null,null,null,null,null,null,null,null,null,null,null,null,null,null,null,null,null,null,null,null,null,null,null,null,null,null,null,null,null,null,null,null,null,null,null,null,null,null,null,null,null,null,null,null,null,null,null,null,null,null,null,null,null,null,null,null,null,null,null,null,null,null,null,null,null,null,null,null,null,null,null,null,null,null,null,null,null,null,null,null,null,null,null,null,null,null,null,null,null,null,null,null,null,null,null,null,null,null,null,null,null,null,null,null,null,null,null,null,null,null,null,null,null,null,null,null,null,null,null,null,null,null,null,null,null,null,null,null,null,null,null,null,null,null,null,null,null,null,null,null,null,null,null,null,null,null,null,null,null,null,null,null,null,null,null,null,null,null,null,null,null,null,null,null,null,null,null,null,null,null,null,null,0,0]
[53,"2018-10-31","2018-11-06","2018-11-06",{"$f":"OFFSET('input บ่อกุ้ง'!$B$6,$A55,$D$1,1,1)","v":0},1200,4,48,null,null,null,10,{"$f":"ROUND((OFFSET(Evap!$C$3,$M$2,$L55,1,1)*7/OFFSET($K$2,$L55,0,1,1))+OFFSET('input บ่อกุ้ง'!$B$4,0,$D$1,1,1),2)","v":35.81},null,31,{"$f":"ROUND(OFFSET(ฝนใช้การ!$A$2,$O$2,$L55,1,1)*7/$O55,2)","v":32.92},null,null,null,null,null,null,null,null,null,null,null,null,null,null,null,null,null,null,null,null,null,null,null,null,null,null,null,null,null,null,null,null,null,null,null,null,null,null,null,null,null,null,null,null,null,null,null,null,null,null,null,null,null,null,null,null,null,null,null,null,null,null,null,null,null,null,null,null,null,null,null,null,null,null,null,null,null,null,null,null,null,null,null,null,null,null,null,null,null,null,null,null,null,null,null,null,null,null,null,null,null,null,null,null,null,null,null,null,null,null,null,null,null,null,null,null,null,null,null,null,null,null,null,null,null,null,null,null,null,null,null,null,null,null,null,null,null,null,null,null,null,null,null,null,null,null,null,null,null,null,null,null,null,null,null,null,null,null,null,null,null,null,null,null,null,null,null,null,null,null,null,null,null,null,null,null,null,null,null,null,null,null,null,null,null,null,null,null,null,null,null,null,null,null,null,null,null,null,null,null,null,null,null,null,0,0]

{"sheet":"อื่นๆ","index":24,"n_rows":82,"n_cols":223,"rows_kept":82,"cut":false,"hidden":false,"merged":[[0,154,0,219],[0,5,0,69],[0,73,0,137],[0,144,0,145],[0,147,0,148],[0,151,0,152]]}
[null,"ช่วงเวลาสัปดาห์",null,{"$f":"รายงาน!O1","v":1},{"$f":"OFFSET('input พืชอื่น'!$B$2,0,$D$1,1,1)","v":"พลเทพ"},"พื้นที่เพาะปลูกในแต่ละสัปดาห์ (ไร่)",null,null,null,null,null,null,null,null,null,null,null,null,null,null,null,null,null,null,null,null,null,null,null,null,null,null,null,null,null,null,null,null,null,null,null,null,null,null,null,null,null,null,null,null,null,null,null,null,null,null,null,null,null,null,null,null,null,null,null,null,null,null,null,null,null,{"$f":"OFFSET(Kc!$A$2,0,MATCH($BU$1,List_Kc_ALL,0),1,1)","v":9},{"$f":"OFFSET('input พืชอื่น'!$B$8,0,$D$1,1,1)","v":"ไม้ดอก (บานชื่น)"},"Kc",null,null,null,null,null,null,null,null,null,null,null,null,null,null,null,null,null,null,null,null,null,null,null,null,null,null,null,null,null,null,null,null,null,null,null,null,null,null,null,null,null,null,null,null,null,null,null,null,null,null,null,null,null,null,null,null,null,null,null,null,null,null,null,null,null,null,null,{"$f":"OFFSET('input พืชอื่น'!$B$3,0,$D$1,1,1)","v":"ชัยนาท"},"ETO/Week",null,"รั่วซึม",null,null,"น้ำเตรียมแปลง ",null,null,{"$f":"EL1","v":"ชัยนาท"},"ฝนใช้การ",null,null,"KC*Eto*ไร่ (ลบ.ม./สัปดาห์)",null,null,null,null,null,null,null,null,null,null,null,null,null,null,null,null,null,null,null,null,null,null,null,null,null,null,null,null,null,null,null,null,null,null,null,null,null,null,null,null,null,null,null,null,null,null,null,null,null,null,null,null,null,null,null,null,null,null,null,null,null,null,null,null,null,"ความต้องการน้ำ (ลบ.ม.)","ปริมาณน้ำที่ต้องส่ง","ประสิทธิภาพชลประทาน"]
[null,"เริ่มต้น","สิ้นสุด","เดือน","จำนวนไร่",1,2,3,4,5,6,7,8,9,10,11,12,13,14,15,16,17,18,19,20,21,22,23,24,25,26,27,28,29,30,31,32,33,34,35,36,37,38,39,40,41,42,43,44,45,46,47,48,49,50,51,52,53,54,55,56,57,58,59,60,61,62,63,64,65,"Sum","N.Week","KC/Week",1,2,3,4,5,6,7,8,9,10,11,12,13,14,15,16,17,18,19,20,21,22,23,24,25,26,27,28,29,30,31,32,33,34,35,36,37,38,39,40,41,42,43,44,45,46,47,48,49,50,51,52,53,54,55,56,57,58,59,60,61,62,63,64,65,null,"เดือน","จำนวนวัน",{"$f":"VLOOKUP(EL1,ETO!$T$4:$U$80,2,FALSE)","v":"สถานีฯเกษตร ชัยนาท"},{"$f":"MATCH($EL$2,ETO!$B$4:$B$131,0)","v":64},null,"มม./สัปดาห์","ลบ.ม.",null,"มม./สัปดาห์","ลบ.ม.",null,{"$f":"MATCH(EU1,ฝนใช้การ!$A$3:$A$78,0)","v":17},"มม./สัปดาห์","ลบ.ม.",null,1,2,3,4,5,6,7,8,9,10,11,12,13,14,15,16,17,18,19,20,21,22,23,24,25,26,27,28,29,30,31,32,33,34,35,36,37,38,39,40,41,42,43,44,45,46,47,48,49,50,51,52,53,54,55,56,57,58,59,60,61,62,63,64,65,"รวม","รวม","รวม (ลบ.ม.)",{"$f":"OFFSET('input พืชอื่น'!$B$7,0,$D$1,1,1)","v":90}]
[1,{"$f":"+'input ข้าว'!A9","v":"2017-08-02"},{"$f":"+'input ข้าว'!B9","v":"2017-08-08"},{"$f":"+C3","v":"2017-08-08"},{"$f":"OFFSET('input พืชอื่น'!$B$8,A3,$D$1,1,1)","v":0},{"$f":"IF($A3=F$2,$E3,0)","v":0},0,0,0,0,0,0,0,0,0,0,0,0,0,0,0,0,0,0,0,0,0,0,0,0,0,0,0,0,0,0,0,0,0,0,0,0,0,0,0,0,0,0,0,0,0,0,0,0,0,0,0,0,0,0,0,0,0,0,0,0,0,0,0,{"$f":"IF($A3=BR$2,$E3,0)","v":0},{"$f":"SUM(F3:BR3)","v":0},{"$f":"IF(A3<=$BT$1,A3,0)","v":1},{"$f":"IF(BT3=0,0,OFFSET(Kc!$A$2,1+BT3,MATCH($BU$1,List_Kc_ALL,0),1,1))","v":0.36},{"$f":"ROUND(IF($A3=BV$2,$BU$3,0),2)","v":0.36},{"$f":"IF($A3=BW$2,$BU3,0)","v":0},0,0,0,0,0,0,0,0,0,0,0,0,0,0,0,0,0,0,0,0,0,0,0,0,0,0,0,0,0,0,0,0,0,0,0,0,0,0,0,0,0,0,0,0,0,0,0,0,0,0,0,0,0,0,0,0,0,0,0,0,0,0,0,null,1,31,{"$f":"MONTH(D3)","v":8},{"$f":"OFFSET(ETO!$C$3,$EM$2,$EL3,1,1)*7","v":24.290000000000003},null,{"$f":"OFFSET('input พืชอื่น'!$B$4,0,$D$1,1,1)","v":7},{"$f":"($EO3/1000)*$BS3*1600","v":0},null,{"$f":"IF(OR(EL3=11,EL3=12,EL3<5),OFFSET('input พืชอื่น'!$B$5,0,$D$1,1,1),OFFSET('input พืชอื่น'!$B$6,0,$D$1,1,1))","v":10},{"$f":"($ER3/1000)*$E3*1600","v":0},null,{"$f":"VLOOKUP(EL3,$EJ$3:$EK$14,2,TRUE)","v":31},{"$f":"ROUND(OFFSET(ฝนใช้การ!$P$2,$EU$2,$EL3,1,1)*7/$EU3,2)","v":22.02},{"$f":"ROUND((EV3/1000)*BS3*1600,2)","v":0},null,{"$f":"ROUND(BV3*$EM3*F3*1.6,2)","v":0},0,0,0,0,0,0,0,0,0,0,0,0,0,0,0,{"$f":"ROUND(CL3*$EM3*V3*1.6,2)","v":0},0,0,0,0,0,0,0,0,0,0,0,0,0,0,0,{"$f":"ROUND(DB3*$EM3*AL3*1.6,2)","v":0},0,0,0,0,0,0,0,0,0,0,0,0,0,0,0,{"$f":"ROUND(DR3*$EM3*BB3*1.6,2)","v":0},0,0,0,0,0,0,0,0,0,0,0,0,0,0,0,{"$f":"ROUND(EH3*$EM3*BR3*1.6,2)","v":0},{"$f":"SUM(EY3:HK3)","v":0},{"$f":"IF(EP3+ES3+HL3-EW3>0,EP3+ES3+HL3-EW3,0)","v":0},{"$f":"HM3*100/$HO$2","v":0}]
[2,{"$f":"+'input ข้าว'!A10","v":"2017-08-09"},{"$f":"+'input ข้าว'!B10","v":"2017-08-15"},"2017-08-15",{"$f":"OFFSET('input พืชอื่น'!$B$8,A4,$D$1,1,1)","v":0},{"$f":"IF($A4=F$2,$E4,IF(F3=0,0,IF($A4<F$2+$BT$1,F3,0)))","v":0},0,0,0,0,0,0,0,0,0,0,0,0,0,0,0,0,0,0,0,0,0,0,0,0,0,0,0,0,0,0,0,0,0,0,0,0,0,0,0,0,0,0,0,0,0,0,0,0,0,0,0,0,0,0,0,0,0,0,0,0,0,0,0,{"$f":"IF($A4=BR$2,$E4,IF(BR3=0,0,IF($A4<BR$2+$BT$1,BR3,0)))","v":0},{"$f":"SUM(F4:BR4)","v":0},2,{"$f":"IF(BT4=0,0,OFFSET(Kc!$A$2,1+BT4,MATCH($BU$1,List_Kc_ALL,0),1,1))","v":0.57999999999999996},{"$f":"IF($A4=BV$2,$BU$3,IF(BV3=0,0,OFFSET($BU$2,MATCH(BV3,$BU$3:$BU$67,0)+1,0,1,1)))","v":0.57999999999999996},0.36,0,0,0,0,0,0,0,0,0,0,0,0,0,0,0,0,0,0,0,0,0,0,0,0,0,0,0,0,0,0,0,0,0,0,0,0,0,0,0,0,0,0,0,0,0,0,0,0,0,0,0,0,0,0,0,0,0,0,0,0,0,0,{"$f":"IF($A4=EH$2,$BU$3,IF(EH3=0,0,OFFSET($BU$2,MATCH(EH3,$BU$3:$BU$67,0)+1,0,1,1)))","v":0},null,2,28,8,{"$f":"OFFSET(ETO!$C$3,$EM$2,$EL4,1,1)*7","v":24.290000000000003},null,{"$f":"OFFSET('input พืชอื่น'!$B$4,0,$D$1,1,1)","v":7},{"$f":"($EO4/1000)*$BS4*1600","v":0},null,{"$f":"IF(OR(EL4=11,EL4=12,EL4<5),OFFSET('input พืชอื่น'!$B$5,0,$D$1,1,1),OFFSET('input พืชอื่น'!$B$6,0,$D$1,1,1))","v":10},{"$f":"($ER4/1000)*$E4*1600","v":0},null,31,{"$f":"ROUND(OFFSET(ฝนใช้การ!$P$2,$EU$2,$EL4,1,1)*7/$EU4,2)","v":22.02},{"$f":"ROUND((EV4/1000)*BS4*1600,2)","v":0},null,0,0,0,0,0,0,0,0,0,0,0,0,0,0,0,0,0,0,0,0,0,0,0,0,0,0,0,0,0,0,0,0,0,0,0,0,0,0,0,0,0,0,0,0,0,0,0,0,0,0,0,0,0,0,0,0,0,0,0,0,0,0,0,0,0,{"$f":"SUM(EY4:HK4)","v":0},{"$f":"IF(EP4+ES4+HL4-EW4>0,EP4+ES4+HL4-EW4,0)","v":0},{"$f":"HM4*100/$HO$2","v":0}]
[3,{"$f":"+'input ข้าว'!A11","v":"2017-08-16"},{"$f":"+'input ข้าว'!B11","v":"2017-08-22"},"2017-08-22",{"$f":"OFFSET('input พืชอื่น'!$B$8,A5,$D$1,1,1)","v":0},0,0,0,0,0,0,0,0,0,0,0,0,0,0,0,0,0,0,0,0,0,0,0,0,0,0,0,0,0,0,0,0,0,0,0,0,0,0,0,0,0,0,0,0,0,0,0,0,0,0,0,0,0,0,0,0,0,0,0,0,0,0,0,0,0,0,3,{"$f":"IF(BT5=0,0,OFFSET(Kc!$A$2,1+BT5,MATCH($BU$1,List_Kc_ALL,0),1,1))","v":0.77},0.77,0.57999999999999996,0.36,0,0,0,0,0,0,0,0,0,0,0,0,0,0,0,0,0,0,0,0,0,0,0,0,0,0,0,0,0,0,0,0,0,0,0,0,0,0,0,0,0,0,0,0,0,0,0,0,0,0,0,0,0,0,0,0,0,0,0,0,0,0,null,3,31,8,{"$f":"OFFSET(ETO!$C$3,$EM$2,$EL5,1,1)*7","v":24.290000000000003},null,{"$f":"OFFSET('input พืชอื่น'!$B$4,0,$D$1,1,1)","v":7},0,null,{"$f":"IF(OR(EL5=11,EL5=12,EL5<5),OFFSET('input พืชอื่น'!$B$5,0,$D$1,1,1),OFFSET('input พืชอื่น'!$B$6,0,$D$1,1,1))","v":10},0,null,31,{"$f":"ROUND(OFFSET(ฝนใช้การ!$P$2,$EU$2,$EL5,1,1)*7/$EU5,2)","v":22.02},0,null,0,0,0,0,0,0,0,0,0,0,0,0,0,0,0,0,0,0,0,0,0,0,0,0,0,0,0,0,0,0,0,0,0,0,0,0,0,0,0,0,0,0,0,0,0,0,0,0,0,0,0,0,0,0,0,0,0,0,0,0,0,0,0,0,0,0,0,0]
[4,{"$f":"+'input ข้าว'!A12","v":"2017-08-23"},{"$f":"+'input ข้าว'!B12","v":"2017-08-29"},"2017-08-29",{"$f":"OFFSET('input พืชอื่น'!$B$8,A6,$D$1,1,1)","v":0},0,0,0,0,0,0,0,0,0,0,0,0,0,0,0,0,0,0,0,0,0,0,0,0,0,0,0,0,0,0,0,0,0,0,0,0,0,0,0,0,0,0,0,0,0,0,0,0,0,0,0,0,0,0,0,0,0,0,0,0,0,0,0,0,0,0,4,{"$f":"IF(BT6=0,0,OFFSET(Kc!$A$2,1+BT6,MATCH($BU$1,List_Kc_ALL,0),1,1))","v":0.93},0.93,0.77,0.57999999999999996,0.36,0,0,0,0,0,0,0,0,0,0,0,0,0,0,0,0,0,0,0,0,0,0,0,0,0,0,0,0,0,0,0,0,0,0,0,0,0,0,0,0,0,0,0,0,0,0,0,0,0,0,0,0,0,0,0,0,0,0,0,0,0,null,4,30,8,{"$f":"OFFSET(ETO!$C$3,$EM$2,$EL6,1,1)*7","v":24.290000000000003},null,{"$f":"OFFSET('input พืชอื่น'!$B$4,0,$D$1,1,1)","v":7},0,null,{"$f":"IF(OR(EL6=11,EL6=12,EL6<5),OFFSET('input พืชอื่น'!$B$5,0,$D$1,1,1),OFFSET('input พืชอื่น'!$B$6,0,$D$1,1,1))","v":10},0,null,31,{"$f":"ROUND(OFFSET(ฝนใช้การ!$P$2,$EU$2,$EL6,1,1)*7/$EU6,2)","v":22.02},0,null,0,0,0,0,0,0,0,0,0,0,0,0,0,0,0,0,0,0,0,0,0,0,0,0,0,0,0,0,0,0,0,0,0,0,0,0,0,0,0,0,0,0,0,0,0,0,0,0,0,0,0,0,0,0,0,0,0,0,0,0,0,0,0,0,0,0,0,0]
[5,{"$f":"+'input ข้าว'!A13","v":"2017-08-30"},{"$f":"+'input ข้าว'!B13","v":"2017-09-05"},"2017-09-05",{"$f":"OFFSET('input พืชอื่น'!$B$8,A7,$D$1,1,1)","v":0},0,0,0,0,0,0,0,0,0,0,0,0,0,0,0,0,0,0,0,0,0,0,0,0,0,0,0,0,0,0,0,0,0,0,0,0,0,0,0,0,0,0,0,0,0,0,0,0,0,0,0,0,0,0,0,0,0,0,0,0,0,0,0,{"$f":"IF($A7=BQ$2,$E7,IF(BQ6=0,0,IF($A7<BQ$2+$BT$1,BQ6,0)))","v":0},0,0,5,{"$f":"IF(BT7=0,0,OFFSET(Kc!$A$2,1+BT7,MATCH($BU$1,List_Kc_ALL,0),1,1))","v":1.07},1.07,0.93,0.77,0.57999999999999996,0.36,0,0,0,0,0,0,0,0,0,0,0,0,0,0,0,0,0,0,0,0,0,0,0,0,0,0,0,0,0,0,0,0,0,0,0,0,0,0,0,0,0,0,0,0,0,0,0,0,0,0,0,0,0,0,0,0,0,0,{"$f":"IF($A7=EG$2,$BU$3,IF(EG6=0,0,OFFSET($BU$2,MATCH(EG6,$BU$3:$BU$67,0)+1,0,1,1)))","v":0},0,null,5,31,9,{"$f":"OFFSET(ETO!$C$3,$EM$2,$EL7,1,1)*7","v":23.939999999999998},null,{"$f":"OFFSET('input พืชอื่น'!$B$4,0,$D$1,1,1)","v":7},0,null,{"$f":"IF(OR(EL7=11,EL7=12,EL7<5),OFFSET('input พืชอื่น'!$B$5,0,$D$1,1,1),OFFSET('input พืชอื่น'!$B$6,0,$D$1,1,1))","v":10},0,null,30,{"$f":"ROUND(OFFSET(ฝนใช้การ!$P$2,$EU$2,$EL7,1,1)*7/$EU7,2)","v":29.8},0,null,0,0,0,0,0,0,0,0,0,0,0,0,0,0,0,0,0,0,0,0,0,0,0,0,0,0,0,0,0,0,0,0,0,0,0,0,0,0,0,0,0,0,0,0,0,0,0,0,0,0,0,0,0,0,0,0,0,0,0,0,0,0,0,0,0,0,0,0]
[6,{"$f":"+'input ข้าว'!A14","v":"2017-09-06"},{"$f":"+'input ข้าว'!B14","v":"2017-09-12"},"2017-09-12",{"$f":"OFFSET('input พืชอื่น'!$B$8,A8,$D$1,1,1)","v":0},{"$f":"IF($A8=F$2,$E8,IF(F7=0,0,IF($A8<F$2+$BT$1,F7,0)))","v":0},0,0,0,0,0,0,0,0,0,0,0,0,0,0,0,0,0,0,0,0,0,0,0,0,0,0,0,0,0,0,0,0,0,0,0,0,0,0,0,0,0,0,0,0,0,0,0,0,0,0,0,0,0,0,0,0,0,0,0,0,0,0,0,0,0,6,{"$f":"IF(BT8=0,0,OFFSET(Kc!$A$2,1+BT8,MATCH($BU$1,List_Kc_ALL,0),1,1))","v":1.18},{"$f":"IF($A8=BV$2,$BU$3,IF(BV7=0,0,OFFSET($BU$2,MATCH(BV7,$BU$3:$BU$67,0)+1,0,1,1)))","v":1.18},1.07,0.93,0.77,0.57999999999999996,0.36,0,0,0,0,0,0,0,0,0,0,0,0,0,0,0,0,0,0,0,0,0,0,0,0,0,0,0,0,0,0,0,0,0,0,0,0,0,0,0,0,0,0,0,0,0,0,0,0,0,0,0,0,0,0,0,0,0,0,0,null,6,30,9,{"$f":"OFFSET(ETO!$C$3,$EM$2,$EL8,1,1)*7","v":23.939999999999998},null,{"$f":"OFFSET('input พืชอื่น'!$B$4,0,$D$1,1,1)","v":7},0,null,{"$f":"IF(OR(EL8=11,EL8=12,EL8<5),OFFSET('input พืชอื่น'!$B$5,0,$D$1,1,1),OFFSET('input พืชอื่น'!$B$6,0,$D$1,1,1))","v":10},0,null,30,{"$f":"ROUND(OFFSET(ฝนใช้การ!$P$2,$EU$2,$EL8,1,1)*7/$EU8,2)","v":29.8},0,null,0,0,0,0,0,0,0,0,0,0,0,0,0,0,0,0,0,0,0,0,0,0,0,0,0,0,0,0,0,0,0,0,0,0,0,0,0,0,0,0,0,0,0,0,0,0,0,0,0,0,0,0,0,0,0,0,0,0,0,0,0,0,0,0,0,0,0,0]
[7,{"$f":"+'input ข้าว'!A15","v":"2017-09-13"},{"$f":"+'input ข้าว'!B15","v":"2017-09-19"},"2017-09-19",{"$f":"OFFSET('input พืชอื่น'!$B$8,A9,$D$1,1,1)","v":0},0,0,0,0,0,0,0,0,0,0,0,0,0,0,0,0,0,0,0,0,0,0,0,0,0,0,0,0,0,0,0,0,0,0,0,0,0,0,0,0,0,0,0,0,0,0,0,0,0,0,0,0,0,0,0,0,0,0,0,0,0,0,0,0,0,0,7,{"$f":"IF(BT9=0,0,OFFSET(Kc!$A$2,1+BT9,MATCH($BU$1,List_Kc_ALL,0),1,1))","v":1.27},1.27,1.18,1.07,0.93,0.77,0.57999999999999996,0.36,0,0,0,0,0,0,0,0,0,0,0,0,0,0,0,0,0,0,0,0,0,0,0,0,0,0,0,0,0,0,0,0,0,0,0,0,0,0,0,0,0,0,0,0,0,0,0,0,0,0,0,0,0,0,0,0,0,0,null,7,31,9,{"$f":"OFFSET(ETO!$C$3,$EM$2,$EL9,1,1)*7","v":23.939999999999998},null,{"$f":"OFFSET('input พืชอื่น'!$B$4,0,$D$1,1,1)","v":7},0,null,{"$f":"IF(OR(EL9=11,EL9=12,EL9<5),OFFSET('input พืชอื่น'!$B$5,0,$D$1,1,1),OFFSET('input พืชอื่น'!$B$6,0,$D$1,1,1))","v":10},0,null,30,{"$f":"ROUND(OFFSET(ฝนใช้การ!$P$2,$EU$2,$EL9,1,1)*7/$EU9,2)","v":29.8},0,null,0,0,0,0,0,0,0,0,0,0,0,0,0,0,0,0,0,0,0,0,0,0,0,0,0,0,0,0,0,0,0,0,0,0,0,0,0,0,0,0,0,0,0,0,0,0,0,0,0,0,0,0,0,0,0,0,0,0,0,0,0,0,0,0,0,0,0,0]
[8,{"$f":"+'input ข้าว'!A16","v":"2017-09-20"},{"$f":"+'input ข้าว'!B16","v":"2017-09-26"},"2017-09-26",{"$f":"OFFSET('input พืชอื่น'!$B$8,A10,$D$1,1,1)","v":0},0,0,0,0,0,0,0,0,0,0,0,0,0,0,0,0,0,0,0,0,0,0,0,0,0,0,0,0,0,0,0,0,0,0,0,0,0,0,0,0,0,0,0,0,0,0,0,0,0,0,0,0,0,0,0,0,0,0,0,0,0,0,0,0,0,0,8,{"$f":"IF(BT10=0,0,OFFSET(Kc!$A$2,1+BT10,MATCH($BU$1,List_Kc_ALL,0),1,1))","v":1.33},1.33,1.27,1.18,1.07,0.93,0.77,0.57999999999999996,0.36,0,0,0,0,0,0,0,0,0,0,0,0,0,0,0,0,0,0,0,0,0,0,0,0,0,0,0,0,0,0,0,0,0,0,0,0,0,0,0,0,0,0,0,0,0,0,0,0,0,0,0,0,0,0,0,0,0,null,8,31,9,{"$f":"OFFSET(ETO!$C$3,$EM$2,$EL10,1,1)*7","v":23.939999999999998},null,{"$f":"OFFSET('input พืชอื่น'!$B$4,0,$D$1,1,1)","v":7},0,null,{"$f":"IF(OR(EL10=11,EL10=12,EL10<5),OFFSET('input พืชอื่น'!$B$5,0,$D$1,1,1),OFFSET('input พืชอื่น'!$B$6,0,$D$1,1,1))","v":10},0,null,30,{"$f":"ROUND(OFFSET(ฝนใช้การ!$P$2,$EU$2,$EL10,1,1)*7/$EU10,2)","v":29.8},0,null,0,0,0,0,0,0,0,0,0,0,0,0,0,0,0,0,0,0,0,0,0,0,0,0,0,0,0,0,0,0,0,0,0,0,0,0,0,0,0,0,0,0,0,0,0,0,0,0,0,0,0,0,0,0,0,0,0,0,0,0,0,0,0,0,0,0,0,0]
[9,{"$f":"+'input ข้าว'!A17","v":"2017-09-27"},{"$f":"+'input ข้าว'!B17","v":"2017-10-03"},"2017-10-03",{"$f":"OFFSET('input พืชอื่น'!$B$8,A11,$D$1,1,1)","v":0},0,0,0,0,0,0,0,0,0,0,0,0,0,0,0,0,0,0,0,0,0,0,0,0,0,0,0,0,0,0,0,0,0,0,0,0,0,0,0,0,0,0,0,0,0,0,0,0,0,0,0,0,0,0,0,0,0,0,0,0,0,0,0,0,0,0,9,{"$f":"IF(BT11=0,0,OFFSET(Kc!$A$2,1+BT11,MATCH($BU$1,List_Kc_ALL,0),1,1))","v":1.38},1.38,1.33,1.27,1.18,1.07,0.93,0.77,0.57999999999999996,0.36,0,0,0,0,0,0,0,0,0,0,0,0,0,0,0,0,0,0,0,0,0,0,0,0,0,0,0,0,0,0,0,0,0,0,0,0,0,0,0,0,0,0,0,0,0,0,0,0,0,0,0,0,0,0,0,0,null,9,30,10,{"$f":"OFFSET(ETO!$C$3,$EM$2,$EL11,1,1)*7","v":22.82},null,{"$f":"OFFSET('input พืชอื่น'!$B$4,0,$D$1,1,1)","v":7},0,null,{"$f":"IF(OR(EL11=11,EL11=12,EL11<5),OFFSET('input พืชอื่น'!$B$5,0,$D$1,1,1),OFFSET('input พืชอื่น'!$B$6,0,$D$1,1,1))","v":10},0,null,31,{"$f":"ROUND(OFFSET(ฝนใช้การ!$P$2,$EU$2,$EL11,1,1)*7/$EU11,2)","v":16.55},0,null,0,0,0,0,0,0,0,0,0,0,0,0,0,0,0,0,0,0,0,0,0,0,0,0,0,0,0,0,0,0,0,0,0,0,0,0,0,0,0,0,0,0,0,0,0,0,0,0,0,0,0,0,0,0,0,0,0,0,0,0,0,0,0,0,0,0,0,0]
[10,{"$f":"+'input ข้าว'!A18","v":"2017-10-04"},{"$f":"+'input ข้าว'!B18","v":"2017-10-10"},"2017-10-10",{"$f":"OFFSET('input พืชอื่น'!$B$8,A12,$D$1,1,1)","v":0},0,0,0,{"$f":"IF($A12=I$2,$E12,IF(I11=0,0,IF($A12<I$2+$BT$1,I11,0)))","v":0},0,0,0,0,0,0,0,0,0,0,0,0,0,0,0,0,0,0,0,0,0,0,0,0,0,0,0,0,0,0,0,0,0,0,0,0,0,0,0,0,0,0,0,0,0,0,0,0,0,0,0,0,0,0,0,0,0,0,0,0,0,0,0,{"$f":"IF(BT12=0,0,OFFSET(Kc!$A$2,1+BT12,MATCH($BU$1,List_Kc_ALL,0),1,1))","v":0},0,1.38,1.33,{"$f":"IF($A12=BY$2,$BU$3,IF(BY11=0,0,OFFSET($BU$2,MATCH(BY11,$BU$3:$BU$67,0)+1,0,1,1)))","v":1.27},1.18,1.07,0.93,0.77,0.57999999999999996,0.36,0,0,0,0,0,0,0,0,0,0,0,0,0,0,0,0,0,0,0,0,0,0,0,0,0,0,0,0,0,0,0,0,0,0,0,0,0,0,0,0,0,0,0,0,0,0,0,0,0,0,0,0,0,0,0,null,10,31,10,{"$f":"OFFSET(ETO!$C$3,$EM$2,$EL12,1,1)*7","v":22.82},null,{"$f":"OFFSET('input พืชอื่น'!$B$4,0,$D$1,1,1)","v":7},0,null,{"$f":"IF(OR(EL12=11,EL12=12,EL12<5),OFFSET('input พืชอื่น'!$B$5,0,$D$1,1,1),OFFSET('input พืชอื่น'!$B$6,0,$D$1,1,1))","v":10},0,null,31,{"$f":"ROUND(OFFSET(ฝนใช้การ!$P$2,$EU$2,$EL12,1,1)*7/$EU12,2)","v":16.55},0,null,0,0,0,0,0,0,0,0,0,0,0,0,0,0,0,0,0,0,0,0,0,0,0,0,0,0,0,0,0,0,0,0,0,0,0,0,0,0,0,0,0,0,0,0,0,0,0,0,0,0,0,0,0,0,0,0,0,0,0,0,0,0,0,0,0,0,0,0]
[11,{"$f":"+'input ข้าว'!A19","v":"2017-10-11"},{"$f":"+'input ข้าว'!B19","v":"2017-10-17"},"2017-10-17",{"$f":"OFFSET('input พืชอื่น'!$B$8,A13,$D$1,1,1)","v":0},{"$f":"IF($A13=F$2,$E13,IF(F12=0,0,IF($A13<F$2+$BT$1,F12,0)))","v":0},0,0,0,0,0,0,0,0,0,0,0,0,0,0,0,0,0,0,0,0,0,0,0,0,0,0,0,0,0,0,0,0,0,0,0,0,0,0,0,0,0,0,0,0,0,0,0,0,0,0,0,0,0,0,0,0,0,0,0,0,0,0,0,0,0,0,{"$f":"IF(BT13=0,0,OFFSET(Kc!$A$2,1+BT13,MATCH($BU$1,List_Kc_ALL,0),1,1))","v":0},{"$f":"IF($A13=BV$2,$BU$3,IF(BV12=0,0,OFFSET($BU$2,MATCH(BV12,$BU$3:$BU$67,0)+1,0,1,1)))","v":0},0,1.38,1.33,1.27,1.18,1.07,0.93,0.77,0.57999999999999996,0.36,0,0,0,0,0,0,0,0,0,0,0,0,0,0,0,0,0,0,0,0,0,0,0,0,0,0,0,0,0,0,0,0,0,0,0,0,0,0,0,0,0,0,0,0,0,0,0,0,0,0,0,0,0,0,null,11,30,10,{"$f":"OFFSET(ETO!$C$3,$EM$2,$EL13,1,1)*7","v":22.82},null,{"$f":"OFFSET('input พืชอื่น'!$B$4,0,$D$1,1,1)","v":7},0,null,{"$f":"IF(OR(EL13=11,EL13=12,EL13<5),OFFSET('input พืชอื่น'!$B$5,0,$D$1,1,1),OFFSET('input พืชอื่น'!$B$6,0,$D$1,1,1))","v":10},0,null,31,{"$f":"ROUND(OFFSET(ฝนใช้การ!$P$2,$EU$2,$EL13,1,1)*7/$EU13,2)","v":16.55},0,null,0,0,0,0,0,0,0,0,0,0,0,0,0,0,0,0,0,0,0,0,0,0,0,0,0,0,0,0,0,0,0,0,0,0,0,0,0,0,0,0,0,0,0,0,0,0,0,0,0,0,0,0,0,0,0,0,0,0,0,0,0,0,0,0,0,0,0,0]
[12,{"$f":"+'input ข้าว'!A20","v":"2017-10-18"},{"$f":"+'input ข้าว'!B20","v":"2017-10-24"},"2017-10-24",{"$f":"OFFSET('input พืชอื่น'!$B$8,A14,$D$1,1,1)","v":0},0,0,0,0,0,0,0,0,0,0,0,0,0,0,0,0,0,0,0,0,0,0,0,0,0,0,0,0,0,0,0,0,0,0,0,0,0,0,0,0,0,0,0,0,0,0,0,0,0,0,0,0,0,0,0,0,0,0,0,0,0,0,0,0,0,0,0,{"$f":"IF(BT14=0,0,OFFSET(Kc!$A$2,1+BT14,MATCH($BU$1,List_Kc_ALL,0),1,1))","v":0},0,0,0,1.38,1.33,1.27,1.18,1.07,0.93,0.77,0.57999999999999996,0.36,0,0,0,0,0,0,0,0,0,0,0,0,0,0,0,0,0,0,0,0,0,0,0,0,0,0,0,0,0,0,0,0,0,0,0,0,0,0,0,0,0,0,0,0,0,0,0,0,0,0,0,0,0,null,12,31,10,{"$f":"OFFSET(ETO!$C$3,$EM$2,$EL14,1,1)*7","v":22.82},null,{"$f":"OFFSET('input พืชอื่น'!$B$4,0,$D$1,1,1)","v":7},0,null,{"$f":"IF(OR(EL14=11,EL14=12,EL14<5),OFFSET('input พืชอื่น'!$B$5,0,$D$1,1,1),OFFSET('input พืชอื่น'!$B$6,0,$D$1,1,1))","v":10},0,null,31,{"$f":"ROUND(OFFSET(ฝนใช้การ!$P$2,$EU$2,$EL14,1,1)*7/$EU14,2)","v":16.55},0,null,0,0,0,0,0,0,0,0,0,0,0,0,0,0,0,0,0,0,0,0,0,0,0,0,0,0,0,0,0,0,0,0,0,0,0,0,0,0,0,0,0,0,0,0,0,0,0,0,0,0,0,0,0,0,0,0,0,0,0,0,0,0,0,0,0,0,0,0]
[13,{"$f":"+'input ข้าว'!A21","v":"2017-10-25"},{"$f":"+'input ข้าว'!B21","v":"2017-10-31"},"2017-10-31",{"$f":"OFFSET('input พืชอื่น'!$B$8,A15,$D$1,1,1)","v":0},0,0,0,0,0,0,0,0,0,0,0,0,0,0,0,0,0,0,0,0,0,0,0,0,0,0,0,0,0,0,0,0,0,0,0,0,0,0,0,0,0,0,0,0,0,0,0,0,0,0,0,0,0,0,0,0,0,0,0,0,0,0,0,0,0,0,0,{"$f":"IF(BT15=0,0,OFFSET(Kc!$A$2,1+BT15,MATCH($BU$1,List_Kc_ALL,0),1,1))","v":0},0,0,0,0,1.38,1.33,1.27,1.18,1.07,0.93,0.77,0.57999999999999996,0.36,0,0,0,0,0,0,0,0,0,0,0,0,0,0,0,0,0,0,0,0,0,0,0,0,0,0,0,0,0,0,0,0,0,0,0,0,0,0,0,0,0,0,0,0,0,0,0,0,0,0,0,0,null,null,null,10,{"$f":"OFFSET(ETO!$C$3,$EM$2,$EL15,1,1)*7","v":22.82},null,{"$f":"OFFSET('input พืชอื่น'!$B$4,0,$D$1,1,1)","v":7},0,null,{"$f":"IF(OR(EL15=11,EL15=12,EL15<5),OFFSET('input พืชอื่น'!$B$5,0,$D$1,1,1),OFFSET('input พืชอื่น'!$B$6,0,$D$1,1,1))","v":10},0,null,31,{"$f":"ROUND(OFFSET(ฝนใช้การ!$P$2,$EU$2,$EL15,1,1)*7/$EU15,2)","v":16.55},0,null,0,0,0,0,0,0,0,0,0,0,0,0,0,0,0,0,0,0,0,0,0,0,0,0,0,0,0,0,0,0,0,0,0,0,0,0,0,0,0,0,0,0,0,0,0,0,0,0,0,0,0,0,0,0,0,0,0,0,0,0,0,0,0,0,0,0,0,0]
[14,{"$f":"+'input ข้าว'!A22","v":"2017-11-01"},{"$f":"+'input ข้าว'!B22","v":"2017-11-07"},"2017-11-07",{"$f":"OFFSET('input พืชอื่น'!$B$8,A16,$D$1,1,1)","v":0},0,0,0,0,0,0,0,0,0,0,0,0,0,0,0,0,0,0,{"$f":"IF($A16=X$2,$E16,IF(X15=0,0,IF($A16<X$2+$BT$1,X15,0)))","v":0},0,0,0,0,0,0,0,0,0,0,0,0,0,0,0,0,0,0,0,0,0,0,0,0,0,0,0,0,0,0,0,0,0,0,0,0,0,0,0,0,0,0,0,0,0,0,0,0,{"$f":"IF(BT16=0,0,OFFSET(Kc!$A$2,1+BT16,MATCH($BU$1,List_Kc_ALL,0),1,1))","v":0},0,0,0,0,0,1.38,1.33,1.27,1.18,1.07,0.93,0.77,0.57999999999999996,0.36,0,0,0,0,{"$f":"IF($A16=CN$2,$BU$3,IF(CN15=0,0,OFFSET($BU$2,MATCH(CN15,$BU$3:$BU$67,0)+1,0,1,1)))","v":0},0,0,0,0,0,0,0,0,0,0,0,0,0,0,0,0,0,0,0,0,0,0,0,0,0,0,0,0,0,0,0,0,0,0,0,0,0,0,0,0,0,0,0,0,0,0,null,null,null,11,{"$f":"OFFSET(ETO!$C$3,$EM$2,$EL16,1,1)*7","v":23.17},null,{"$f":"OFFSET('input พืชอื่น'!$B$4,0,$D$1,1,1)","v":7},0,null,{"$f":"IF(OR(EL16=11,EL16=12,EL16<5),OFFSET('input พืชอื่น'!$B$5,0,$D$1,1,1),OFFSET('input พืชอื่น'!$B$6,0,$D$1,1,1))","v":20},0,null,30,{"$f":"ROUND(OFFSET(ฝนใช้การ!$P$2,$EU$2,$EL16,1,1)*7/$EU16,2)","v":5.04},0,null,0,0,0,0,0,0,0,0,0,0,0,0,0,0,0,0,0,0,0,0,0,0,0,0,0,0,0,0,0,0,0,0,0,0,0,0,0,0,0,0,0,0,0,0,0,0,0,0,0,0,0,0,0,0,0,0,0,0,0,0,0,0,0,0,0,0,0,0]
[15,{"$f":"+'input ข้าว'!A23","v":"2017-11-08"},{"$f":"+'input ข้าว'!B23","v":"2017-11-14"},"2017-11-14",{"$f":"OFFSET('input พืชอื่น'!$B$8,A17,$D$1,1,1)","v":0},0,0,0,0,0,0,0,0,0,0,0,0,0,0,0,0,{"$f":"IF($A17=V$2,$E17,IF(V16=0,0,IF($A17<V$2+$BT$1,V16,0)))","v":0},0,0,0,0,0,0,0,0,0,0,0,0,0,0,0,0,0,0,0,0,0,0,0,0,0,0,0,0,0,0,0,0,0,0,0,0,0,0,0,0,0,0,0,0,0,0,0,0,0,0,{"$f":"IF(BT17=0,0,OFFSET(Kc!$A$2,1+BT17,MATCH($BU$1,List_Kc_ALL,0),1,1))","v":0},0,0,0,0,0,0,1.38,1.33,1.27,1.18,1.07,0.93,0.77,0.57999999999999996,0.36,0,{"$f":"IF($A17=CL$2,$BU$3,IF(CL16=0,0,OFFSET($BU$2,MATCH(CL16,$BU$3:$BU$67,0)+1,0,1,1)))","v":0},0,0,0,0,0,0,0,0,0,0,0,0,0,0,0,0,0,0,0,0,0,0,0,0,0,0,0,0,0,0,0,0,0,0,0,0,0,0,0,0,0,0,0,0,0,0,0,0,null,null,null,11,{"$f":"OFFSET(ETO!$C$3,$EM$2,$EL17,1,1)*7","v":23.17},null,{"$f":"OFFSET('input พืชอื่น'!$B$4,0,$D$1,1,1)","v":7},0,null,{"$f":"IF(OR(EL17=11,EL17=12,EL17<5),OFFSET('input พืชอื่น'!$B$5,0,$D$1,1,1),OFFSET('input พืชอื่น'!$B$6,0,$D$1,1,1))","v":20},0,null,30,{"$f":"ROUND(OFFSET(ฝนใช้การ!$P$2,$EU$2,$EL17,1,1)*7/$EU17,2)","v":5.04},0,null,0,0,0,0,0,0,0,0,0,0,0,0,0,0,0,0,0,0,0,0,0,0,0,0,0,0,0,0,0,0,0,0,0,0,0,0,0,0,0,0,0,0,0,0,0,0,0,0,0,0,0,0,0,0,0,0,0,0,0,0,0,0,0,0,0,0,0,0]
[16,{"$f":"+'input ข้าว'!A24","v":"2017-11-15"},{"$f":"+'input ข้าว'!B24","v":"2017-11-21"},"2017-11-21",{"$f":"OFFSET('input พืชอื่น'!$B$8,A18,$D$1,1,1)","v":0},0,0,0,0,0,0,0,0,0,0,0,0,0,0,0,0,0,0,0,0,0,0,0,0,0,0,0,0,0,0,0,0,0,0,0,0,0,0,0,0,0,0,0,0,0,0,0,0,0,0,0,0,0,0,0,0,0,0,0,0,0,0,0,0,0,0,0,{"$f":"IF(BT18=0,0,OFFSET(Kc!$A$2,1+BT18,MATCH($BU$1,List_Kc_ALL,0),1,1))","v":0},0,0,0,0,0,0,0,1.38,1.33,1.27,1.18,1.07,0.93,0.77,0.57999999999999996,0.36,0,0,0,0,0,0,0,0,0,0,0,0,0,0,0,0,0,0,0,0,0,0,0,0,0,0,0,0,0,0,0,0,0,0,0,0,0,0,0,0,0,0,0,0,0,0,0,0,0,null,null,null,11,{"$f":"OFFSET(ETO!$C$3,$EM$2,$EL18,1,1)*7","v":23.17},null,{"$f":"OFFSET('input พืชอื่น'!$B$4,0,$D$1,1,1)","v":7},0,null,{"$f":"IF(OR(EL18=11,EL18=12,EL18<5),OFFSET('input พืชอื่น'!$B$5,0,$D$1,1,1),OFFSET('input พืชอื่น'!$B$6,0,$D$1,1,1))","v":20},0,null,30,{"$f":"ROUND(OFFSET(ฝนใช้การ!$P$2,$EU$2,$EL18,1,1)*7/$EU18,2)","v":5.04},0,null,0,0,0,0,0,0,0,0,0,0,0,0,0,0,0,{"$f":"ROUND(CK18*$EM18*U18*1.6,2)","v":0},0,0,0,0,0,0,0,0,0,0,0,0,0,0,0,{"$f":"ROUND(DA18*$EM18*AK18*1.6,2)","v":0},0,0,0,0,0,0,0,0,0,0,0,0,0,0,0,{"$f":"ROUND(DQ18*$EM18*BA18*1.6,2)","v":0},0,0,0,0,0,0,0,0,0,0,0,0,0,0,0,{"$f":"ROUND(EG18*$EM18*BQ18*1.6,2)","v":0},0,0,0,0]
[17,{"$f":"+'input ข้าว'!A25","v":"2017-11-22"},{"$f":"+'input ข้าว'!B25","v":"2017-11-28"},"2017-11-28",{"$f":"OFFSET('input พืชอื่น'!$B$8,A19,$D$1,1,1)","v":0},0,0,0,0,0,0,0,0,0,0,0,0,0,0,0,0,0,0,0,0,0,0,0,0,0,0,0,0,0,0,0,0,0,0,0,0,0,0,0,0,0,0,0,0,0,0,0,0,0,0,0,0,0,0,0,0,0,0,0,0,0,0,0,0,0,0,0,{"$f":"IF(BT19=0,0,OFFSET(Kc!$A$2,1+BT19,MATCH($BU$1,List_Kc_ALL,0),1,1))","v":0},0,0,0,0,0,0,0,0,1.38,1.33,1.27,1.18,1.07,0.93,0.77,0.57999999999999996,0.36,0,0,0,0,0,0,0,0,0,0,0,0,0,0,0,0,0,0,0,0,0,0,0,0,0,0,0,0,0,0,0,0,0,0,0,0,0,0,0,0,0,0,0,0,0,0,0,0,null,null,null,11,{"$f":"OFFSET(ETO!$C$3,$EM$2,$EL19,1,1)*7","v":23.17},null,{"$f":"OFFSET('input พืชอื่น'!$B$4,0,$D$1,1,1)","v":7},0,null,{"$f":"IF(OR(EL19=11,EL19=12,EL19<5),OFFSET('input พืชอื่น'!$B$5,0,$D$1,1,1),OFFSET('input พืชอื่น'!$B$6,0,$D$1,1,1))","v":20},0,null,30,{"$f":"ROUND(OFFSET(ฝนใช้การ!$P$2,$EU$2,$EL19,1,1)*7/$EU19,2)","v":5.04},0,null,{"$f":"ROUND(BV19*$EM19*F19*1.6,2)","v":0},0,0,0,0,0,0,0,0,0,0,0,0,0,0,0,0,0,0,0,0,0,0,0,0,0,0,0,0,0,0,0,0,0,0,0,0,0,0,0,0,0,0,0,0,0,0,0,0,0,0,0,0,0,0,0,0,0,0,0,0,0,0,0,0,0,0,0]
[18,{"$f":"+'input ข้าว'!A26","v":"2017-11-29"},{"$f":"+'input ข้าว'!B26","v":"2017-12-05"},"2017-12-05",{"$f":"OFFSET('input พืชอื่น'!$B$8,A20,$D$1,1,1)","v":0},0,0,0,0,0,0,0,0,0,0,0,0,0,0,0,0,0,0,0,0,0,0,0,0,0,0,0,0,0,0,0,0,0,0,0,0,0,0,0,0,0,0,0,0,0,0,0,0,0,0,0,0,0,0,0,0,0,0,0,0,0,0,0,0,0,0,0,{"$f":"IF(BT20=0,0,OFFSET(Kc!$A$2,1+BT20,MATCH($BU$1,List_Kc_ALL,0),1,1))","v":0},0,0,0,0,0,0,0,0,0,1.38,1.33,1.27,1.18,1.07,0.93,0.77,0.57999999999999996,0.36,0,0,0,0,0,0,0,0,0,0,0,0,0,0,0,0,0,0,0,0,0,0,0,0,0,0,0,0,0,0,0,0,0,0,0,0,0,0,0,0,0,0,0,0,0,0,0,null,null,null,12,{"$f":"OFFSET(ETO!$C$3,$EM$2,$EL20,1,1)*7","v":22.47},null,{"$f":"OFFSET('input พืชอื่น'!$B$4,0,$D$1,1,1)","v":7},0,null,{"$f":"IF(OR(EL20=11,EL20=12,EL20<5),OFFSET('input พืชอื่น'!$B$5,0,$D$1,1,1),OFFSET('input พืชอื่น'!$B$6,0,$D$1,1,1))","v":20},0,null,31,{"$f":"ROUND(OFFSET(ฝนใช้การ!$P$2,$EU$2,$EL20,1,1)*7/$EU20,2)","v":1.1299999999999999},0,null,0,0,0,0,0,0,0,0,0,0,0,0,0,0,0,0,0,0,0,0,0,0,0,0,0,0,0,0,0,0,0,0,0,0,0,0,0,0,0,0,0,0,0,0,0,0,0,0,0,0,0,0,0,0,0,0,0,0,0,0,0,0,0,0,0,0,0,0]
[19,{"$f":"+'input ข้าว'!A27","v":"2017-12-06"},{"$f":"+'input ข้าว'!B27","v":"2017-12-12"},"2017-12-12",{"$f":"OFFSET('input พืชอื่น'!$B$8,A21,$D$1,1,1)","v":0},0,0,0,0,0,0,0,0,0,0,0,0,0,0,0,0,0,0,0,0,0,0,0,0,0,0,0,0,0,0,0,0,0,0,0,0,0,0,0,0,0,0,0,0,0,0,0,0,{"$f":"IF($A21=BB$2,$E21,IF(BB20=0,0,IF($A21<BB$2+$BT$1,BB20,0)))","v":0},0,0,0,0,0,0,0,0,0,0,0,0,0,0,0,0,0,0,{"$f":"IF(BT21=0,0,OFFSET(Kc!$A$2,1+BT21,MATCH($BU$1,List_Kc_ALL,0),1,1))","v":0},0,0,0,0,0,0,0,0,0,0,1.38,1.33,1.27,1.18,1.07,0.93,0.77,0.57999999999999996,0.36,0,0,0,0,0,0,0,0,0,0,0,0,0,0,0,0,0,0,0,0,0,0,0,0,0,0,0,0,0,{"$f":"IF($A21=DR$2,$BU$3,IF(DR20=0,0,OFFSET($BU$2,MATCH(DR20,$BU$3:$BU$67,0)+1,0,1,1)))","v":0},0,0,0,0,0,0,0,0,0,0,0,0,0,0,0,0,null,null,null,12,{"$f":"OFFSET(ETO!$C$3,$EM$2,$EL21,1,1)*7","v":22.47},null,{"$f":"OFFSET('input พืชอื่น'!$B$4,0,$D$1,1,1)","v":7},0,null,{"$f":"IF(OR(EL21=11,EL21=12,EL21<5),OFFSET('input พืชอื่น'!$B$5,0,$D$1,1,1),OFFSET('input พืชอื่น'!$B$6,0,$D$1,1,1))","v":20},0,null,31,{"$f":"ROUND(OFFSET(ฝนใช้การ!$P$2,$EU$2,$EL21,1,1)*7/$EU21,2)","v":1.1299999999999999},0,null,0,0,0,0,0,0,0,0,0,0,0,0,0,0,0,0,0,0,0,0,0,0,0,0,0,0,0,0,0,0,0,0,0,0,0,0,0,0,0,0,0,0,0,0,0,0,0,0,0,0,0,0,0,0,0,0,0,0,0,0,0,0,0,0,0,0,0,0]
[20,{"$f":"+'input ข้าว'!A28","v":"2017-12-13"},{"$f":"+'input ข้าว'!B28","v":"2017-12-19"},"2017-12-19",{"$f":"OFFSET('input พืชอื่น'!$B$8,A22,$D$1,1,1)","v":0},0,0,0,0,0,0,0,0,0,0,0,0,0,0,0,0,0,0,0,0,0,0,0,0,0,0,0,0,0,0,0,0,{"$f":"IF($A22=AL$2,$E22,IF(AL21=0,0,IF($A22<AL$2+$BT$1,AL21,0)))","v":0},0,0,0,0,0,0,0,0,0,0,0,0,0,0,0,0,0,0,0,0,0,0,0,0,0,0,0,0,0,0,0,0,0,0,{"$f":"IF(BT22=0,0,OFFSET(Kc!$A$2,1+BT22,MATCH($BU$1,List_Kc_ALL,0),1,1))","v":0},0,0,0,0,0,0,0,0,0,0,0,1.38,1.33,1.27,1.18,1.07,0.93,0.77,0.57999999999999996,0.36,0,0,0,0,0,0,0,0,0,0,0,0,{"$f":"IF($A22=DB$2,$BU$3,IF(DB21=0,0,OFFSET($BU$2,MATCH(DB21,$BU$3:$BU$67,0)+1,0,1,1)))","v":0},0,0,0,0,0,0,0,0,0,0,0,0,0,0,0,0,0,0,0,0,0,0,0,0,0,0,0,0,0,0,0,0,null,null,null,12,{"$f":"OFFSET(ETO!$C$3,$EM$2,$EL22,1,1)*7","v":22.47},null,{"$f":"OFFSET('input พืชอื่น'!$B$4,0,$D$1,1,1)","v":7},0,null,{"$f":"IF(OR(EL22=11,EL22=12,EL22<5),OFFSET('input พืชอื่น'!$B$5,0,$D$1,1,1),OFFSET('input พืชอื่น'!$B$6,0,$D$1,1,1))","v":20},0,null,31,{"$f":"ROUND(OFFSET(ฝนใช้การ!$P$2,$EU$2,$EL22,1,1)*7/$EU22,2)","v":1.1299999999999999},0,null,0,0,0,0,0,0,0,0,0,0,0,0,0,0,0,0,0,0,0,0,0,0,0,0,0,0,0,0,0,0,0,0,0,0,0,0,0,0,0,0,0,0,0,0,0,0,0,0,0,0,0,0,0,0,0,0,0,0,0,0,0,0,0,0,0,0,0,0]
[21,{"$f":"+'input ข้าว'!A29","v":"2017-12-20"},{"$f":"+'input ข้าว'!B29","v":"2017-12-26"},"2017-12-26",{"$f":"OFFSET('input พืชอื่น'!$B$8,A23,$D$1,1,1)","v":0},0,0,0,0,0,0,0,0,0,0,0,0,0,0,0,0,0,0,0,0,0,0,0,0,0,0,0,0,0,0,0,0,0,0,0,0,0,0,0,0,0,0,0,0,0,0,0,0,0,0,0,0,0,0,0,0,0,0,0,0,0,0,0,0,0,0,0,{"$f":"IF(BT23=0,0,OFFSET(Kc!$A$2,1+BT23,MATCH($BU$1,List_Kc_ALL,0),1,1))","v":0},0,0,0,0,0,0,0,0,0,0,0,0,1.38,1.33,1.27,1.18,1.07,0.93,0.77,0.57999999999999996,0.36,0,0,0,0,0,0,0,0,0,0,0,0,0,0,0,0,0,0,0,0,0,0,0,0,0,0,0,0,0,0,0,0,0,0,0,0,0,0,0,0,0,0,0,0,null,null,null,12,{"$f":"OFFSET(ETO!$C$3,$EM$2,$EL23,1,1)*7","v":22.47},null,{"$f":"OFFSET('input พืชอื่น'!$B$4,0,$D$1,1,1)","v":7},0,null,{"$f":"IF(OR(EL23=11,EL23=12,EL23<5),OFFSET('input พืชอื่น'!$B$5,0,$D$1,1,1),OFFSET('input พืชอื่น'!$B$6,0,$D$1,1,1))","v":20},0,null,31,{"$f":"ROUND(OFFSET(ฝนใช้การ!$P$2,$EU$2,$EL23,1,1)*7/$EU23,2)","v":1.1299999999999999},0,null,0,0,0,0,0,0,0,0,0,0,0,0,0,0,0,0,0,0,0,0,0,0,0,0,0,0,0,0,0,0,0,0,0,0,0,0,0,0,0,0,0,0,0,0,0,0,0,0,0,0,0,0,0,0,0,0,0,0,0,0,0,0,0,0,0,0,0,0]
[22,{"$f":"+'input ข้าว'!A30","v":"2017-12-27"},{"$f":"+'input ข้าว'!B30","v":"2018-01-02"},"2018-01-02",{"$f":"OFFSET('input พืชอื่น'!$B$8,A24,$D$1,1,1)","v":0},0,0,0,0,0,0,0,0,0,0,0,0,0,0,0,0,0,0,0,0,0,0,0,0,0,0,0,0,0,0,0,0,0,0,0,0,0,0,0,0,0,0,0,0,0,0,0,0,0,0,0,0,0,0,0,0,0,0,0,0,0,0,0,0,0,0,0,{"$f":"IF(BT24=0,0,OFFSET(Kc!$A$2,1+BT24,MATCH($BU$1,List_Kc_ALL,0),1,1))","v":0},0,0,0,0,0,0,0,0,0,0,0,0,0,1.38,1.33,1.27,1.18,1.07,0.93,0.77,0.57999999999999996,0.36,0,0,0,0,0,0,0,0,0,0,0,0,0,0,0,0,0,0,0,0,0,0,0,0,0,0,0,0,0,0,0,0,0,0,0,0,0,0,0,0,0,0,0,null,null,null,1,{"$f":"OFFSET(ETO!$C$3,$EM$2,$EL24,1,1)*7","v":23.099999999999998},null,{"$f":"OFFSET('input พืชอื่น'!$B$4,0,$D$1,1,1)","v":7},0,null,{"$f":"IF(OR(EL24=11,EL24=12,EL24<5),OFFSET('input พืชอื่น'!$B$5,0,$D$1,1,1),OFFSET('input พืชอื่น'!$B$6,0,$D$1,1,1))","v":20},0,null,31,{"$f":"ROUND(OFFSET(ฝนใช้การ!$P$2,$EU$2,$EL24,1,1)*7/$EU24,2)","v":1.29},0,null,0,0,0,0,0,0,0,0,0,0,0,0,0,0,0,0,0,0,0,0,0,0,0,0,0,0,0,0,0,0,0,0,0,0,0,0,0,0,0,0,0,0,0,0,0,0,0,0,0,0,0,0,0,0,0,0,0,0,0,0,0,0,0,0,0,0,0,0]
[23,{"$f":"+'input ข้าว'!A31","v":"2018-01-03"},{"$f":"+'input ข้าว'!B31","v":"2018-01-09"},"2018-01-09",{"$f":"OFFSET('input พืชอื่น'!$B$8,A25,$D$1,1,1)","v":0},0,0,0,0,0,0,0,0,0,0,0,0,0,0,0,0,0,0,0,0,0,0,0,0,0,0,0,0,0,0,0,0,0,0,0,0,0,0,0,0,0,0,0,0,0,0,0,0,0,0,0,0,0,0,0,0,0,0,0,0,0,0,0,0,0,0,0,{"$f":"IF(BT25=0,0,OFFSET(Kc!$A$2,1+BT25,MATCH($BU$1,List_Kc_ALL,0),1,1))","v":0},0,0,0,0,0,0,0,0,0,0,0,0,0,0,1.38,1.33,1.27,1.18,1.07,0.93,0.77,0.57999999999999996,0.36,0,0,0,0,0,0,0,0,0,0,0,0,0,0,0,0,0,0,0,0,0,0,0,0,0,0,0,0,0,0,0,0,0,0,0,0,0,0,0,0,0,0,null,null,null,1,{"$f":"OFFSET(ETO!$C$3,$EM$2,$EL25,1,1)*7","v":23.099999999999998},null,{"$f":"OFFSET('input พืชอื่น'!$B$4,0,$D$1,1,1)","v":7},0,null,{"$f":"IF(OR(EL25=11,EL25=12,EL25<5),OFFSET('input พืชอื่น'!$B$5,0,$D$1,1,1),OFFSET('input พืชอื่น'!$B$6,0,$D$1,1,1))","v":20},0,null,31,{"$f":"ROUND(OFFSET(ฝนใช้การ!$P$2,$EU$2,$EL25,1,1)*7/$EU25,2)","v":1.29},0,null,0,0,0,0,0,0,0,0,0,0,0,0,0,0,0,0,0,0,0,0,0,0,0,0,0,0,0,0,0,0,0,0,0,0,0,0,0,0,0,0,0,0,0,0,0,0,0,0,0,0,0,0,0,0,0,0,0,0,0,0,0,0,0,0,0,0,0,0]
[24,{"$f":"+'input ข้าว'!A32","v":"2018-01-10"},{"$f":"+'input ข้าว'!B32","v":"2018-01-16"},"2018-01-16",{"$f":"OFFSET('input พืชอื่น'!$B$8,A26,$D$1,1,1)","v":0},0,0,0,0,0,0,0,0,0,0,0,0,0,0,0,0,0,0,0,0,0,0,0,0,0,0,0,0,0,0,0,0,0,0,0,0,0,0,0,0,0,0,0,0,0,0,0,0,0,0,0,0,0,0,0,0,0,0,0,0,0,0,0,0,0,0,0,{"$f":"IF(BT26=0,0,OFFSET(Kc!$A$2,1+BT26,MATCH($BU$1,List_Kc_ALL,0),1,1))","v":0},0,0,0,0,0,0,0,0,0,0,0,0,0,0,0,1.38,1.33,1.27,1.18,1.07,0.93,0.77,0.57999999999999996,0.36,0,0,0,0,0,0,0,0,0,0,0,0,0,0,0,0,0,0,0,0,0,0,0,0,0,0,0,0,0,0,0,0,0,0,0,0,0,0,0,0,0,null,null,null,1,{"$f":"OFFSET(ETO!$C$3,$EM$2,$EL26,1,1)*7","v":23.099999999999998},null,{"$f":"OFFSET('input พืชอื่น'!$B$4,0,$D$1,1,1)","v":7},0,null,{"$f":"IF(OR(EL26=11,EL26=12,EL26<5),OFFSET('input พืชอื่น'!$B$5,0,$D$1,1,1),OFFSET('input พืชอื่น'!$B$6,0,$D$1,1,1))","v":20},0,null,31,{"$f":"ROUND(OFFSET(ฝนใช้การ!$P$2,$EU$2,$EL26,1,1)*7/$EU26,2)","v":1.29},0,null,0,0,0,0,0,0,0,0,0,0,0,0,0,0,0,0,0,0,0,0,0,0,0,0,0,0,0,0,0,0,0,0,0,0,0,0,0,0,0,0,0,0,0,0,0,0,0,0,0,0,0,0,0,0,0,0,0,0,0,0,0,0,0,0,0,0,0,0]
[25,{"$f":"+'input ข้าว'!A33","v":"2018-01-17"},{"$f":"+'input ข้าว'!B33","v":"2018-01-23"},"2018-01-23",{"$f":"OFFSET('input พืชอื่น'!$B$8,A27,$D$1,1,1)","v":0},0,0,0,0,0,0,0,0,0,0,0,0,0,0,0,0,0,0,0,0,0,0,0,0,0,0,0,0,0,0,0,0,0,0,0,0,0,0,0,0,0,0,0,0,0,0,0,0,0,0,0,0,0,0,0,0,0,0,0,0,0,0,0,0,0,0,0,{"$f":"IF(BT27=0,0,OFFSET(Kc!$A$2,1+BT27,MATCH($BU$1,List_Kc_ALL,0),1,1))","v":0},0,0,0,0,0,0,0,0,0,0,0,0,0,0,0,0,1.38,1.33,1.27,1.18,1.07,0.93,0.77,0.57999999999999996,0.36,0,0,0,0,0,0,0,0,0,0,0,0,0,0,0,0,0,0,0,0,0,0,0,0,0,0,0,0,0,0,0,0,0,0,0,0,0,0,0,0,null,null,null,1,{"$f":"OFFSET(ETO!$C$3,$EM$2,$EL27,1,1)*7","v":23.099999999999998},null,{"$f":"OFFSET('input พืชอื่น'!$B$4,0,$D$1,1,1)","v":7},0,null,{"$f":"IF(OR(EL27=11,EL27=12,EL27<5),OFFSET('input พืชอื่น'!$B$5,0,$D$1,1,1),OFFSET('input พืชอื่น'!$B$6,0,$D$1,1,1))","v":20},0,null,31,{"$f":"ROUND(OFFSET(ฝนใช้การ!$P$2,$EU$2,$EL27,1,1)*7/$EU27,2)","v":1.29},0,null,0,0,0,0,0,0,0,0,0,0,0,0,0,0,0,0,0,0,0,0,0,0,0,0,0,0,0,0,0,0,0,0,0,0,0,0,0,0,0,0,0,0,0,0,0,0,0,0,0,0,0,0,0,0,0,0,0,0,0,0,0,0,0,0,0,0,0,0]
[26,{"$f":"+'input ข้าว'!A34","v":"2018-01-24"},{"$f":"+'input ข้าว'!B34","v":"2018-01-30"},"2018-01-30",{"$f":"OFFSET('input พืชอื่น'!$B$8,A28,$D$1,1,1)","v":0},0,0,0,0,0,0,0,0,0,0,0,0,0,0,0,0,0,0,0,0,0,0,0,0,0,0,0,0,0,0,0,0,0,0,0,0,0,0,0,0,0,0,0,0,0,0,0,0,0,0,0,0,0,0,0,0,0,0,0,0,0,0,0,0,0,0,0,{"$f":"IF(BT28=0,0,OFFSET(Kc!$A$2,1+BT28,MATCH($BU$1,List_Kc_ALL,0),1,1))","v":0},0,0,0,0,0,0,0,0,0,0,0,0,0,0,0,0,0,1.38,1.33,1.27,1.18,1.07,0.93,0.77,0.57999999999999996,0.36,0,0,0,0,0,0,0,0,0,0,0,0,0,0,0,0,0,0,0,0,0,0,0,0,0,0,0,0,0,0,0,0,0,0,0,0,0,0,0,null,null,null,1,{"$f":"OFFSET(ETO!$C$3,$EM$2,$EL28,1,1)*7","v":23.099999999999998},null,{"$f":"OFFSET('input พืชอื่น'!$B$4,0,$D$1,1,1)","v":7},0,null,{"$f":"IF(OR(EL28=11,EL28=12,EL28<5),OFFSET('input พืชอื่น'!$B$5,0,$D$1,1,1),OFFSET('input พืชอื่น'!$B$6,0,$D$1,1,1))","v":20},0,null,31,{"$f":"ROUND(OFFSET(ฝนใช้การ!$P$2,$EU$2,$EL28,1,1)*7/$EU28,2)","v":1.29},0,null,0,0,0,0,0,0,0,0,0,0,0,0,0,0,0,0,0,0,0,0,0,0,0,0,0,0,0,0,0,0,0,0,0,0,0,0,0,0,0,0,0,0,0,0,0,0,0,0,0,0,0,0,0,0,0,0,0,0,0,0,0,0,0,0,0,0,0,0]
[27,{"$f":"+'input ข้าว'!A35","v":"2018-01-31"},{"$f":"+'input ข้าว'!B35","v":"2018-02-06"},"2018-02-06",{"$f":"OFFSET('input พืชอื่น'!$B$8,A29,$D$1,1,1)","v":0},{"$f":"IF($A29=F$2,$E29,IF(F28=0,0,IF($A29<F$2+$BT$1,F28,0)))","v":0},0,0,0,0,0,0,0,0,0,0,0,0,0,0,0,0,0,0,0,0,0,0,0,0,0,0,0,0,0,0,0,0,0,0,0,0,0,0,0,0,0,0,0,0,0,0,0,0,0,0,0,0,0,0,0,0,0,0,0,0,0,0,0,0,0,0,{"$f":"IF(BT29=0,0,OFFSET(Kc!$A$2,1+BT29,MATCH($BU$1,List_Kc_ALL,0),1,1))","v":0},{"$f":"IF($A29=BV$2,$BU$3,IF(BV28=0,0,OFFSET($BU$2,MATCH(BV28,$BU$3:$BU$67,0)+1,0,1,1)))","v":0},0,0,0,0,0,0,0,0,0,0,0,0,0,0,0,0,0,1.38,1.33,1.27,1.18,1.07,0.93,0.77,0.57999999999999996,0.36,0,0,0,0,0,0,0,0,0,0,0,0,0,0,0,0,0,0,0,0,0,0,0,0,0,0,0,0,0,0,0,0,0,0,0,0,0,0,null,null,null,2,{"$f":"OFFSET(ETO!$C$3,$EM$2,$EL29,1,1)*7","v":25.76},null,{"$f":"OFFSET('input พืชอื่น'!$B$4,0,$D$1,1,1)","v":7},0,null,{"$f":"IF(OR(EL29=11,EL29=12,EL29<5),OFFSET('input พืชอื่น'!$B$5,0,$D$1,1,1),OFFSET('input พืชอื่น'!$B$6,0,$D$1,1,1))","v":20},0,null,28,{"$f":"ROUND(OFFSET(ฝนใช้การ!$P$2,$EU$2,$EL29,1,1)*7/$EU29,2)","v":2.7},0,null,0,0,0,0,0,0,0,0,0,0,0,0,0,0,0,0,0,0,0,0,0,0,0,0,0,0,0,0,0,0,0,0,0,0,0,0,0,0,0,0,0,0,0,0,0,0,0,0,0,0,0,0,0,0,0,0,0,0,0,0,0,0,0,0,0,0,0,0]
[28,{"$f":"+'input ข้าว'!A36","v":"2018-02-07"},{"$f":"+'input ข้าว'!B36","v":"2018-02-13"},"2018-02-13",{"$f":"OFFSET('input พืชอื่น'!$B$8,A30,$D$1,1,1)","v":0},0,0,0,0,0,0,0,0,0,0,0,0,0,0,0,0,0,0,0,0,0,0,0,0,0,0,0,0,0,0,0,0,0,0,0,0,0,0,0,0,0,0,0,0,0,0,0,0,0,0,0,0,0,0,0,0,0,0,0,0,0,0,0,0,0,0,0,{"$f":"IF(BT30=0,0,OFFSET(Kc!$A$2,1+BT30,MATCH($BU$1,List_Kc_ALL,0),1,1))","v":0},0,0,0,0,0,0,0,0,0,0,0,0,0,0,0,0,0,0,0,1.38,1.33,1.27,1.18,1.07,0.93,0.77,0.57999999999999996,0.36,0,0,0,0,0,0,0,0,0,0,0,0,0,0,0,0,0,0,0,0,0,0,0,0,0,0,0,0,0,0,0,0,0,0,0,0,0,null,null,null,2,{"$f":"OFFSET(ETO!$C$3,$EM$2,$EL30,1,1)*7","v":25.76},null,{"$f":"OFFSET('input พืชอื่น'!$B$4,0,$D$1,1,1)","v":7},0,null,{"$f":"IF(OR(EL30=11,EL30=12,EL30<5),OFFSET('input พืชอื่น'!$B$5,0,$D$1,1,1),OFFSET('input พืชอื่น'!$B$6,0,$D$1,1,1))","v":20},0,null,28,{"$f":"ROUND(OFFSET(ฝนใช้การ!$P$2,$EU$2,$EL30,1,1)*7/$EU30,2)","v":2.7},0,null,0,0,0,0,0,0,0,0,0,0,0,0,0,0,0,0,0,0,0,0,0,0,0,0,0,0,0,0,0,0,0,0,0,0,0,0,0,0,0,0,0,0,0,0,0,0,0,0,0,0,0,0,0,0,0,0,0,0,0,0,0,0,0,0,0,0,0,0]
[29,{"$f":"+'input ข้าว'!A37","v":"2018-02-14"},{"$f":"+'input ข้าว'!B37","v":"2018-02-20"},"2018-02-20",{"$f":"OFFSET('input พืชอื่น'!$B$8,A31,$D$1,1,1)","v":0},0,0,0,0,0,0,0,0,0,0,0,0,0,0,0,0,0,0,0,0,0,0,0,0,0,0,0,0,0,0,0,0,0,0,0,0,0,0,0,0,0,0,0,0,0,0,0,0,0,0,0,0,0,0,0,0,0,0,0,0,0,0,0,0,0,0,0,{"$f":"IF(BT31=0,0,OFFSET(Kc!$A$2,1+BT31,MATCH($BU$1,List_Kc_ALL,0),1,1))","v":0},0,0,0,0,0,0,0,0,0,0,0,0,0,0,0,0,0,0,0,0,1.38,1.33,1.27,1.18,1.07,0.93,0.77,0.57999999999999996,0.36,0,0,0,0,0,0,0,0,0,0,0,0,0,0,0,0,0,0,0,0,0,0,0,0,0,0,0,0,0,0,0,0,0,0,0,0,null,null,null,2,{"$f":"OFFSET(ETO!$C$3,$EM$2,$EL31,1,1)*7","v":25.76},null,{"$f":"OFFSET('input พืชอื่น'!$B$4,0,$D$1,1,1)","v":7},0,null,{"$f":"IF(OR(EL31=11,EL31=12,EL31<5),OFFSET('input พืชอื่น'!$B$5,0,$D$1,1,1),OFFSET('input พืชอื่น'!$B$6,0,$D$1,1,1))","v":20},0,null,28,{"$f":"ROUND(OFFSET(ฝนใช้การ!$P$2,$EU$2,$EL31,1,1)*7/$EU31,2)","v":2.7},0,null,0,0,0,0,0,0,0,0,0,0,0,0,0,0,0,0,0,0,0,0,0,0,0,0,0,0,0,0,0,0,0,0,0,0,0,0,0,0,0,0,0,0,0,0,0,0,0,0,0,0,0,0,0,0,0,0,0,0,0,0,0,0,0,0,0,0,0,0]
[30,{"$f":"+'input ข้าว'!A38","v":"2018-02-21"},{"$f":"+'input ข้าว'!B38","v":"2018-02-27"},"2018-02-27",{"$f":"OFFSET('input พืชอื่น'!$B$8,A32,$D$1,1,1)","v":0},0,0,0,0,0,0,0,0,0,0,0,0,0,0,0,0,0,0,0,0,0,0,0,0,0,0,0,0,0,0,0,0,0,0,0,0,0,0,0,0,0,0,0,0,0,0,0,0,0,0,0,0,0,0,0,0,0,0,0,0,0,0,0,0,0,0,0,{"$f":"IF(BT32=0,0,OFFSET(Kc!$A$2,1+BT32,MATCH($BU$1,List_Kc_ALL,0),1,1))","v":0},0,0,0,0,0,0,0,0,0,0,0,0,0,0,0,0,0,0,0,0,0,1.38,1.33,1.27,1.18,1.07,0.93,0.77,0.57999999999999996,0.36,0,0,0,0,0,0,0,0,0,0,0,0,0,0,0,0,0,0,0,0,0,0,0,0,0,0,0,0,0,0,0,0,0,0,0,null,null,null,2,{"$f":"OFFSET(ETO!$C$3,$EM$2,$EL32,1,1)*7","v":25.76},null,{"$f":"OFFSET('input พืชอื่น'!$B$4,0,$D$1,1,1)","v":7},0,null,{"$f":"IF(OR(EL32=11,EL32=12,EL32<5),OFFSET('input พืชอื่น'!$B$5,0,$D$1,1,1),OFFSET('input พืชอื่น'!$B$6,0,$D$1,1,1))","v":20},0,null,28,{"$f":"ROUND(OFFSET(ฝนใช้การ!$P$2,$EU$2,$EL32,1,1)*7/$EU32,2)","v":2.7},0,null,0,0,0,0,0,0,0,0,0,0,0,0,0,0,0,0,0,0,0,0,0,0,0,0,0,0,0,0,0,0,0,0,0,0,0,0,0,0,0,0,0,0,0,0,0,0,0,0,0,0,0,0,0,0,0,0,0,0,0,0,0,0,0,0,0,0,0,0]
[31,{"$f":"+'input ข้าว'!A39","v":"2018-02-28"},{"$f":"+'input ข้าว'!B39","v":"2018-03-06"},"2018-03-06",{"$f":"OFFSET('input พืชอื่น'!$B$8,A33,$D$1,1,1)","v":0},0,0,0,0,0,0,0,0,0,0,0,0,0,0,0,0,{"$f":"IF($A33=V$2,$E33,IF(V32=0,0,IF($A33<V$2+$BT$1,V32,0)))","v":0},0,0,0,0,0,0,0,0,0,0,0,0,0,0,0,0,0,0,0,0,0,0,0,0,0,0,0,0,0,0,0,0,0,0,0,0,0,0,0,0,0,0,0,0,0,0,0,0,0,0,{"$f":"IF(BT33=0,0,OFFSET(Kc!$A$2,1+BT33,MATCH($BU$1,List_Kc_ALL,0),1,1))","v":0},0,0,0,0,0,0,0,0,0,0,0,0,0,0,0,0,{"$f":"IF($A33=CL$2,$BU$3,IF(CL32=0,0,OFFSET($BU$2,MATCH(CL32,$BU$3:$BU$67,0)+1,0,1,1)))","v":0},0,0,0,0,0,1.38,1.33,1.27,1.18,1.07,0.93,0.77,0.57999999999999996,0.36,0,0,0,0,0,0,0,0,0,0,0,0,0,0,0,0,0,0,0,0,0,0,0,0,0,0,0,0,0,0,0,0,0,0,null,null,null,3,{"$f":"OFFSET(ETO!$C$3,$EM$2,$EL33,1,1)*7","v":30.38},null,{"$f":"OFFSET('input พืชอื่น'!$B$4,0,$D$1,1,1)","v":7},0,null,{"$f":"IF(OR(EL33=11,EL33=12,EL33<5),OFFSET('input พืชอื่น'!$B$5,0,$D$1,1,1),OFFSET('input พืชอื่น'!$B$6,0,$D$1,1,1))","v":20},0,null,31,{"$f":"ROUND(OFFSET(ฝนใช้การ!$P$2,$EU$2,$EL33,1,1)*7/$EU33,2)","v":4.29},0,null,0,0,0,0,0,0,0,0,0,0,0,0,0,0,0,0,0,0,0,0,0,0,0,0,0,0,0,0,0,0,0,0,0,0,0,0,0,0,0,0,0,0,0,0,0,0,0,0,0,0,0,0,0,0,0,0,0,0,0,0,0,0,0,0,0,0,0,0]
[32,{"$f":"+'input ข้าว'!A40","v":"2018-03-07"},{"$f":"+'input ข้าว'!B40","v":"2018-03-13"},"2018-03-13",{"$f":"OFFSET('input พืชอื่น'!$B$8,A34,$D$1,1,1)","v":0},0,0,0,0,0,0,0,0,0,0,0,0,0,0,0,0,0,0,0,0,0,0,0,0,0,0,0,0,0,0,0,0,0,0,0,0,0,0,0,0,0,0,0,0,0,0,0,0,0,0,0,0,0,0,0,0,0,0,0,0,0,0,0,0,0,0,0,{"$f":"IF(BT34=0,0,OFFSET(Kc!$A$2,1+BT34,MATCH($BU$1,List_Kc_ALL,0),1,1))","v":0},0,0,0,0,0,0,0,0,0,0,0,0,0,0,0,0,0,0,0,0,0,0,0,1.38,1.33,1.27,1.18,1.07,0.93,0.77,0.57999999999999996,0.36,0,0,0,0,0,0,0,0,0,0,0,0,0,0,0,0,0,0,0,0,0,0,0,0,0,0,0,0,0,0,0,0,0,null,null,null,3,{"$f":"OFFSET(ETO!$C$3,$EM$2,$EL34,1,1)*7","v":30.38},null,{"$f":"OFFSET('input พืชอื่น'!$B$4,0,$D$1,1,1)","v":7},0,null,{"$f":"IF(OR(EL34=11,EL34=12,EL34<5),OFFSET('input พืชอื่น'!$B$5,0,$D$1,1,1),OFFSET('input พืชอื่น'!$B$6,0,$D$1,1,1))","v":20},0,null,31,{"$f":"ROUND(OFFSET(ฝนใช้การ!$P$2,$EU$2,$EL34,1,1)*7/$EU34,2)","v":4.29},0,null,0,0,0,0,0,0,0,0,0,0,0,0,0,0,0,0,0,0,0,0,0,0,0,0,0,0,0,0,0,{"$f":"ROUND(CY34*$EM34*AI34*1.6,2)","v":0},0,0,0,0,0,0,0,0,0,0,0,0,0,0,0,{"$f":"ROUND(DO34*$EM34*AY34*1.6,2)","v":0},0,0,0,0,0,0,0,0,0,0,0,0,0,0,0,{"$f":"ROUND(EE34*$EM34*BO34*1.6,2)","v":0},0,0,0,0,0,0]
[33,{"$f":"+'input ข้าว'!A41","v":"2018-03-14"},{"$f":"+'input ข้าว'!B41","v":"2018-03-20"},"2018-03-20",{"$f":"OFFSET('input พืชอื่น'!$B$8,A35,$D$1,1,1)","v":0},0,0,0,0,0,0,0,0,0,0,0,0,0,0,0,0,0,0,0,0,0,0,0,0,0,0,0,0,0,0,0,0,0,0,0,0,0,0,0,0,0,0,0,0,0,0,0,0,0,0,0,0,0,0,0,0,0,0,0,0,0,0,0,0,0,0,0,{"$f":"IF(BT35=0,0,OFFSET(Kc!$A$2,1+BT35,MATCH($BU$1,List_Kc_ALL,0),1,1))","v":0},0,0,0,0,0,0,0,0,0,0,0,0,0,0,0,0,0,0,0,0,0,0,0,0,1.38,1.33,1.27,1.18,1.07,0.93,0.77,0.57999999999999996,0.36,0,0,0,0,0,0,0,0,0,0,0,0,0,0,0,0,0,0,0,0,0,0,0,0,0,0,0,0,0,0,0,0,null,null,null,3,{"$f":"OFFSET(ETO!$C$3,$EM$2,$EL35,1,1)*7","v":30.38},null,{"$f":"OFFSET('input พืชอื่น'!$B$4,0,$D$1,1,1)","v":7},0,null,{"$f":"IF(OR(EL35=11,EL35=12,EL35<5),OFFSET('input พืชอื่น'!$B$5,0,$D$1,1,1),OFFSET('input พืชอื่น'!$B$6,0,$D$1,1,1))","v":20},0,null,31,{"$f":"ROUND(OFFSET(ฝนใช้การ!$P$2,$EU$2,$EL35,1,1)*7/$EU35,2)","v":4.29},0,null,0,0,0,0,0,0,0,0,0,0,0,0,0,0,0,{"$f":"ROUND(CK35*$EM35*U35*1.6,2)","v":0},0,0,0,0,0,0,0,0,0,0,0,0,0,0,0,0,0,0,0,0,0,0,0,0,0,0,0,0,0,0,0,0,0,0,0,0,0,0,0,0,0,0,0,0,0,0,0,0,0,0,0,0]
[34,{"$f":"+'input ข้าว'!A42","v":"2018-03-21"},{"$f":"+'input ข้าว'!B42","v":"2018-03-27"},"2018-03-27",{"$f":"OFFSET('input พืชอื่น'!$B$8,A36,$D$1,1,1)","v":0},0,0,0,0,0,0,0,0,0,0,0,0,0,0,0,0,0,0,0,0,0,0,0,0,0,0,0,0,0,0,0,0,0,0,0,0,0,0,0,0,0,0,0,0,0,0,0,0,0,0,0,0,0,0,0,0,0,0,0,0,0,0,0,0,0,0,0,{"$f":"IF(BT36=0,0,OFFSET(Kc!$A$2,1+BT36,MATCH($BU$1,List_Kc_ALL,0),1,1))","v":0},0,0,0,0,0,0,0,0,0,0,0,0,0,0,0,0,0,0,0,0,0,0,0,0,0,1.38,1.33,1.27,1.18,1.07,0.93,0.77,0.57999999999999996,0.36,0,0,0,0,0,0,0,0,0,0,0,0,0,0,0,0,0,0,0,0,0,0,0,0,0,0,0,0,0,0,0,null,null,null,3,{"$f":"OFFSET(ETO!$C$3,$EM$2,$EL36,1,1)*7","v":30.38},null,{"$f":"OFFSET('input พืชอื่น'!$B$4,0,$D$1,1,1)","v":7},0,null,{"$f":"IF(OR(EL36=11,EL36=12,EL36<5),OFFSET('input พืชอื่น'!$B$5,0,$D$1,1,1),OFFSET('input พืชอื่น'!$B$6,0,$D$1,1,1))","v":20},0,null,31,{"$f":"ROUND(OFFSET(ฝนใช้การ!$P$2,$EU$2,$EL36,1,1)*7/$EU36,2)","v":4.29},0,null,{"$f":"ROUND(BV36*$EM36*F36*1.6,2)","v":0},0,0,0,0,0,0,0,0,0,0,0,0,0,0,0,0,0,0,0,0,0,0,0,0,0,0,0,0,0,0,0,0,0,0,0,0,0,0,0,0,0,0,0,0,0,0,0,0,0,0,0,0,0,0,0,0,0,0,0,0,0,0,0,0,0,0,0]
[35,{"$f":"+'input ข้าว'!A43","v":"2018-03-28"},{"$f":"+'input ข้าว'!B43","v":"2018-04-03"},"2018-04-03",{"$f":"OFFSET('input พืชอื่น'!$B$8,A37,$D$1,1,1)","v":0},0,0,0,0,0,0,0,0,0,0,0,0,0,0,0,0,0,0,0,0,0,0,0,0,0,0,0,0,0,0,0,0,0,0,0,0,0,0,0,0,0,0,0,0,0,0,0,{"$f":"IF($A37=BA$2,$E37,IF(BA36=0,0,IF($A37<BA$2+$BT$1,BA36,0)))","v":0},0,0,0,0,0,0,0,0,0,0,0,0,0,0,0,0,0,0,0,{"$f":"IF(BT37=0,0,OFFSET(Kc!$A$2,1+BT37,MATCH($BU$1,List_Kc_ALL,0),1,1))","v":0},0,0,0,0,0,0,0,0,0,0,0,0,0,0,0,0,0,0,0,0,0,0,0,0,0,0,1.38,1.33,1.27,1.18,1.07,0.93,0.77,0.57999999999999996,0.36,0,0,0,0,0,0,0,0,0,0,0,0,{"$f":"IF($A37=DQ$2,$BU$3,IF(DQ36=0,0,OFFSET($BU$2,MATCH(DQ36,$BU$3:$BU$67,0)+1,0,1,1)))","v":0},0,0,0,0,0,0,0,0,0,0,0,0,0,0,0,0,0,null,null,null,4,{"$f":"OFFSET(ETO!$C$3,$EM$2,$EL37,1,1)*7","v":31.919999999999998},null,{"$f":"OFFSET('input พืชอื่น'!$B$4,0,$D$1,1,1)","v":7},0,null,{"$f":"IF(OR(EL37=11,EL37=12,EL37<5),OFFSET('input พืชอื่น'!$B$5,0,$D$1,1,1),OFFSET('input พืชอื่น'!$B$6,0,$D$1,1,1))","v":20},0,null,30,{"$f":"ROUND(OFFSET(ฝนใช้การ!$P$2,$EU$2,$EL37,1,1)*7/$EU37,2)","v":8},0,null,0,0,0,0,0,0,0,0,0,0,0,0,0,0,0,0,0,0,0,0,0,0,0,0,0,0,0,0,0,0,0,0,0,0,0,0,0,0,0,0,0,0,0,0,0,0,0,0,0,0,0,0,0,0,0,0,0,0,0,0,0,0,0,0,0,0,0,0]
[36,{"$f":"+'input ข้าว'!A44","v":"2018-04-04"},{"$f":"+'input ข้าว'!B44","v":"2018-04-10"},"2018-04-10",{"$f":"OFFSET('input พืชอื่น'!$B$8,A38,$D$1,1,1)","v":0},0,0,0,0,0,0,0,0,0,0,0,0,0,0,0,0,0,0,0,0,0,0,0,0,0,0,0,0,0,0,0,0,{"$f":"IF($A38=AL$2,$E38,IF(AL37=0,0,IF($A38<AL$2+$BT$1,AL37,0)))","v":0},0,0,0,0,0,0,0,0,0,0,0,0,0,0,0,0,0,0,0,0,0,0,0,0,0,0,0,0,0,0,0,0,0,0,{"$f":"IF(BT38=0,0,OFFSET(Kc!$A$2,1+BT38,MATCH($BU$1,List_Kc_ALL,0),1,1))","v":0},0,0,0,0,0,0,0,0,0,0,0,0,0,0,0,0,0,0,0,0,0,0,0,0,0,0,0,1.38,1.33,1.27,1.18,1.07,{"$f":"IF($A38=DB$2,$BU$3,IF(DB37=0,0,OFFSET($BU$2,MATCH(DB37,$BU$3:$BU$67,0)+1,0,1,1)))","v":0.93},0.77,0.57999999999999996,0.36,0,0,0,0,0,0,0,0,0,0,0,0,0,0,0,0,0,0,0,0,0,0,0,0,0,0,0,0,0,null,null,null,4,{"$f":"OFFSET(ETO!$C$3,$EM$2,$EL38,1,1)*7","v":31.919999999999998},null,{"$f":"OFFSET('input พืชอื่น'!$B$4,0,$D$1,1,1)","v":7},0,null,{"$f":"IF(OR(EL38=11,EL38=12,EL38<5),OFFSET('input พืชอื่น'!$B$5,0,$D$1,1,1),OFFSET('input พืชอื่น'!$B$6,0,$D$1,1,1))","v":20},0,null,30,{"$f":"ROUND(OFFSET(ฝนใช้การ!$P$2,$EU$2,$EL38,1,1)*7/$EU38,2)","v":8},0,null,0,0,0,0,0,0,0,0,0,0,0,0,0,0,0,0,0,0,0,0,0,0,0,0,0,0,0,0,0,0,0,0,0,0,0,0,0,0,0,0,0,0,0,0,0,0,0,0,0,0,0,0,0,0,0,0,0,0,0,0,0,0,0,0,0,0,0,0]
[37,{"$f":"+'input ข้าว'!A45","v":"2018-04-11"},{"$f":"+'input ข้าว'!B45","v":"2018-04-17"},"2018-04-17",{"$f":"OFFSET('input พืชอื่น'!$B$8,A39,$D$1,1,1)","v":0},0,0,0,0,0,0,0,0,0,0,0,0,0,0,0,0,0,0,0,0,0,0,0,0,0,0,0,0,0,0,0,0,0,0,0,0,0,0,0,0,0,0,0,0,0,0,0,0,0,0,0,0,0,0,0,0,0,0,0,0,0,0,0,0,0,0,0,{"$f":"IF(BT39=0,0,OFFSET(Kc!$A$2,1+BT39,MATCH($BU$1,List_Kc_ALL,0),1,1))","v":0},0,0,0,0,0,0,0,0,0,0,0,0,0,0,0,0,0,0,0,0,0,0,0,0,0,0,0,0,1.38,1.33,1.27,1.18,1.07,0.93,0.77,0.57999999999999996,0.36,0,0,0,0,0,0,0,0,0,0,0,0,0,0,0,0,0,0,0,0,0,0,0,0,0,0,0,0,null,null,null,4,{"$f":"OFFSET(ETO!$C$3,$EM$2,$EL39,1,1)*7","v":31.919999999999998},null,{"$f":"OFFSET('input พืชอื่น'!$B$4,0,$D$1,1,1)","v":7},0,null,{"$f":"IF(OR(EL39=11,EL39=12,EL39<5),OFFSET('input พืชอื่น'!$B$5,0,$D$1,1,1),OFFSET('input พืชอื่น'!$B$6,0,$D$1,1,1))","v":20},0,null,30,{"$f":"ROUND(OFFSET(ฝนใช้การ!$P$2,$EU$2,$EL39,1,1)*7/$EU39,2)","v":8},0,null,0,0,0,0,0,0,0,0,0,0,0,0,0,0,0,0,0,0,0,0,0,0,0,0,0,0,0,0,0,0,0,0,0,0,0,0,0,0,0,0,0,0,0,0,0,0,0,0,0,0,0,0,0,0,0,0,0,0,0,0,0,0,0,0,0,0,0,0]
[38,{"$f":"+'input ข้าว'!A46","v":"2018-04-18"},{"$f":"+'input ข้าว'!B46","v":"2018-04-24"},"2018-04-24",{"$f":"OFFSET('input พืชอื่น'!$B$8,A40,$D$1,1,1)","v":0},0,0,0,0,0,0,0,0,0,0,0,0,0,0,0,0,0,0,0,0,0,0,0,0,0,0,0,0,0,0,0,0,0,0,0,0,0,0,0,0,0,0,0,0,0,0,0,0,0,0,0,0,0,0,0,0,0,0,0,0,0,0,0,0,0,0,0,{"$f":"IF(BT40=0,0,OFFSET(Kc!$A$2,1+BT40,MATCH($BU$1,List_Kc_ALL,0),1,1))","v":0},0,0,0,0,0,0,0,0,0,0,0,0,0,0,0,0,0,0,0,0,0,0,0,0,0,0,0,0,0,1.38,1.33,1.27,1.18,1.07,0.93,0.77,0.57999999999999996,0.36,0,0,0,0,0,0,0,0,0,0,0,0,0,0,0,0,0,0,0,0,0,0,0,0,0,0,0,null,null,null,4,{"$f":"OFFSET(ETO!$C$3,$EM$2,$EL40,1,1)*7","v":31.919999999999998},null,{"$f":"OFFSET('input พืชอื่น'!$B$4,0,$D$1,1,1)","v":7},0,null,{"$f":"IF(OR(EL40=11,EL40=12,EL40<5),OFFSET('input พืชอื่น'!$B$5,0,$D$1,1,1),OFFSET('input พืชอื่น'!$B$6,0,$D$1,1,1))","v":20},0,null,30,{"$f":"ROUND(OFFSET(ฝนใช้การ!$P$2,$EU$2,$EL40,1,1)*7/$EU40,2)","v":8},0,null,0,0,0,0,0,0,0,0,0,0,0,0,0,0,0,0,0,0,0,0,0,0,0,0,0,0,0,0,0,0,0,0,0,0,0,0,0,0,0,0,0,0,0,0,0,0,0,0,0,0,0,0,0,0,0,0,0,0,0,0,0,0,0,0,0,0,0,0]
[39,{"$f":"+'input ข้าว'!A47","v":"2018-04-25"},{"$f":"+'input ข้าว'!B47","v":"2018-05-01"},"2018-05-01",{"$f":"OFFSET('input พืชอื่น'!$B$8,A41,$D$1,1,1)","v":0},0,0,0,0,0,0,0,0,0,0,0,0,0,0,0,0,0,0,0,0,0,0,0,0,0,0,0,0,0,0,0,0,0,0,0,0,0,0,0,0,0,0,0,0,0,0,0,0,0,0,0,0,0,0,0,0,0,0,0,0,0,0,0,0,0,0,0,{"$f":"IF(BT41=0,0,OFFSET(Kc!$A$2,1+BT41,MATCH($BU$1,List_Kc_ALL,0),1,1))","v":0},0,0,0,0,0,0,0,0,0,0,0,0,0,0,0,0,0,0,0,0,0,0,0,0,0,0,0,0,0,0,1.38,1.33,1.27,1.18,1.07,0.93,0.77,0.57999999999999996,0.36,0,0,0,0,0,0,0,0,0,0,0,0,0,0,0,0,0,0,0,0,0,0,0,0,0,0,null,null,null,5,{"$f":"OFFSET(ETO!$C$3,$EM$2,$EL41,1,1)*7","v":30.169999999999998},null,{"$f":"OFFSET('input พืชอื่น'!$B$4,0,$D$1,1,1)","v":7},0,null,{"$f":"IF(OR(EL41=11,EL41=12,EL41<5),OFFSET('input พืชอื่น'!$B$5,0,$D$1,1,1),OFFSET('input พืชอื่น'!$B$6,0,$D$1,1,1))","v":10},0,null,31,{"$f":"ROUND(OFFSET(ฝนใช้การ!$P$2,$EU$2,$EL41,1,1)*7/$EU41,2)","v":11.79},0,null,0,0,0,0,0,0,0,0,0,0,0,0,0,0,0,0,0,0,0,0,0,0,0,0,0,0,0,0,0,0,0,0,0,0,0,0,0,0,0,0,0,0,0,0,0,0,0,0,0,0,0,0,0,0,0,0,0,0,0,0,0,0,0,0,0,0,0,0]
[40,{"$f":"+'input ข้าว'!A48","v":"2018-05-02"},{"$f":"+'input ข้าว'!B48","v":"2018-05-08"},"2018-05-08",{"$f":"OFFSET('input พืชอื่น'!$B$8,A42,$D$1,1,1)","v":0},0,0,0,0,0,0,0,0,0,0,0,0,0,0,0,0,0,0,0,0,0,0,0,0,0,0,0,0,0,0,0,0,0,0,0,0,0,0,0,0,0,0,0,0,0,0,0,0,0,0,0,0,0,0,0,0,0,0,0,0,0,0,0,0,0,0,0,{"$f":"IF(BT42=0,0,OFFSET(Kc!$A$2,1+BT42,MATCH($BU$1,List_Kc_ALL,0),1,1))","v":0},0,0,0,0,0,0,0,0,0,0,0,0,0,0,0,0,0,0,0,0,0,0,0,0,0,0,0,0,0,0,0,1.38,1.33,1.27,1.18,1.07,0.93,0.77,0.57999999999999996,0.36,0,0,0,0,0,0,0,0,0,0,0,0,0,0,0,0,0,0,0,0,0,0,0,0,0,null,null,null,5,{"$f":"OFFSET(ETO!$C$3,$EM$2,$EL42,1,1)*7","v":30.169999999999998},null,{"$f":"OFFSET('input พืชอื่น'!$B$4,0,$D$1,1,1)","v":7},0,null,{"$f":"IF(OR(EL42=11,EL42=12,EL42<5),OFFSET('input พืชอื่น'!$B$5,0,$D$1,1,1),OFFSET('input พืชอื่น'!$B$6,0,$D$1,1,1))","v":10},0,null,31,{"$f":"ROUND(OFFSET(ฝนใช้การ!$P$2,$EU$2,$EL42,1,1)*7/$EU42,2)","v":11.79},0,null,0,0,0,0,0,0,0,0,0,0,0,0,0,0,0,0,0,0,0,0,0,0,0,0,0,0,0,0,0,0,0,0,0,0,0,0,0,0,0,0,0,0,0,0,0,0,0,0,0,0,0,0,0,0,0,0,0,0,0,0,0,0,0,0,0,0,0,0]
[41,{"$f":"+'input ข้าว'!A49","v":"2018-05-09"},{"$f":"+'input ข้าว'!B49","v":"2018-05-15"},"2018-05-15",{"$f":"OFFSET('input พืชอื่น'!$B$8,A43,$D$1,1,1)","v":0},0,0,0,0,0,0,0,0,0,0,0,0,0,0,0,0,0,0,0,0,0,0,0,0,0,0,0,0,0,0,0,0,0,0,0,0,0,0,0,0,0,0,0,0,0,0,0,0,0,0,0,0,0,0,0,0,0,0,0,0,0,0,0,0,0,0,0,{"$f":"IF(BT43=0,0,OFFSET(Kc!$A$2,1+BT43,MATCH($BU$1,List_Kc_ALL,0),1,1))","v":0},0,0,0,0,0,0,0,0,0,0,0,0,0,0,0,0,0,0,0,0,0,0,0,0,0,0,0,0,0,0,0,0,1.38,1.33,1.27,1.18,1.07,0.93,0.77,0.57999999999999996,0.36,0,0,0,0,0,0,0,0,0,0,0,0,0,0,0,0,0,0,0,0,0,0,0,0,null,null,null,5,{"$f":"OFFSET(ETO!$C$3,$EM$2,$EL43,1,1)*7","v":30.169999999999998},null,{"$f":"OFFSET('input พืชอื่น'!$B$4,0,$D$1,1,1)","v":7},0,null,{"$f":"IF(OR(EL43=11,EL43=12,EL43<5),OFFSET('input พืชอื่น'!$B$5,0,$D$1,1,1),OFFSET('input พืชอื่น'!$B$6,0,$D$1,1,1))","v":10},0,null,31,{"$f":"ROUND(OFFSET(ฝนใช้การ!$P$2,$EU$2,$EL43,1,1)*7/$EU43,2)","v":11.79},0,null,0,0,0,0,0,0,0,0,0,0,0,0,0,0,0,0,0,0,0,0,0,0,0,0,0,0,0,0,0,0,0,0,0,0,0,0,0,0,0,0,0,0,0,0,0,0,0,0,0,0,0,0,0,0,0,0,0,0,0,0,0,0,0,0,0,0,0,0]
[42,{"$f":"+'input ข้าว'!A50","v":"2018-05-16"},{"$f":"+'input ข้าว'!B50","v":"2018-05-22"},"2018-05-22",{"$f":"OFFSET('input พืชอื่น'!$B$8,A44,$D$1,1,1)","v":0},0,0,0,0,0,0,0,0,0,0,0,0,0,0,0,{"$f":"IF($A44=U$2,$E44,IF(U43=0,0,IF($A44<U$2+$BT$1,U43,0)))","v":0},0,0,0,0,0,0,0,0,0,0,0,0,0,0,0,0,0,0,0,0,0,0,0,0,0,0,0,0,0,0,0,0,0,0,0,0,0,0,0,0,0,0,0,0,0,0,0,0,0,0,0,{"$f":"IF(BT44=0,0,OFFSET(Kc!$A$2,1+BT44,MATCH($BU$1,List_Kc_ALL,0),1,1))","v":0},0,0,0,0,0,0,0,0,0,0,0,0,0,0,0,{"$f":"IF($A44=CK$2,$BU$3,IF(CK43=0,0,OFFSET($BU$2,MATCH(CK43,$BU$3:$BU$67,0)+1,0,1,1)))","v":0},0,0,0,0,0,0,0,0,0,0,0,0,0,0,0,0,0,1.38,1.33,1.27,1.18,1.07,0.93,0.77,0.57999999999999996,0.36,0,0,0,0,0,0,0,0,0,0,0,0,0,0,0,0,0,0,0,0,0,0,0,null,null,null,5,{"$f":"OFFSET(ETO!$C$3,$EM$2,$EL44,1,1)*7","v":30.169999999999998},null,{"$f":"OFFSET('input พืชอื่น'!$B$4,0,$D$1,1,1)","v":7},0,null,{"$f":"IF(OR(EL44=11,EL44=12,EL44<5),OFFSET('input พืชอื่น'!$B$5,0,$D$1,1,1),OFFSET('input พืชอื่น'!$B$6,0,$D$1,1,1))","v":10},0,null,31,{"$f":"ROUND(OFFSET(ฝนใช้การ!$P$2,$EU$2,$EL44,1,1)*7/$EU44,2)","v":11.79},0,null,0,0,0,0,0,0,0,0,0,0,0,0,0,0,0,0,0,0,0,0,0,0,0,0,0,0,0,0,0,0,0,0,0,0,0,0,0,0,0,0,0,0,0,0,0,0,0,0,0,0,0,0,0,0,0,0,0,0,0,0,0,0,0,0,0,0,0,0]
[43,{"$f":"+'input ข้าว'!A51","v":"2018-05-23"},{"$f":"+'input ข้าว'!B51","v":"2018-05-29"},"2018-05-29",{"$f":"OFFSET('input พืชอื่น'!$B$8,A45,$D$1,1,1)","v":0},{"$f":"IF($A45=F$2,$E45,IF(F44=0,0,IF($A45<F$2+$BT$1,F44,0)))","v":0},0,0,0,0,0,0,0,0,0,0,0,0,0,0,0,0,0,0,0,0,0,0,0,0,0,0,0,0,0,0,0,0,0,0,0,0,0,0,0,0,0,0,0,0,0,0,0,0,0,0,0,0,0,0,0,0,0,0,0,0,0,0,0,0,0,0,{"$f":"IF(BT45=0,0,OFFSET(Kc!$A$2,1+BT45,MATCH($BU$1,List_Kc_ALL,0),1,1))","v":0},{"$f":"IF($A45=BV$2,$BU$3,IF(BV44=0,0,OFFSET($BU$2,MATCH(BV44,$BU$3:$BU$67,0)+1,0,1,1)))","v":0},0,0,0,0,0,0,0,0,0,0,0,0,0,0,0,0,0,0,0,0,0,0,0,0,0,0,0,0,0,0,0,0,0,1.38,1.33,1.27,1.18,1.07,0.93,0.77,0.57999999999999996,0.36,0,0,0,0,0,0,0,0,0,0,0,0,0,0,0,0,0,0,0,0,0,0,null,null,null,5,{"$f":"OFFSET(ETO!$C$3,$EM$2,$EL45,1,1)*7","v":30.169999999999998},null,{"$f":"OFFSET('input พืชอื่น'!$B$4,0,$D$1,1,1)","v":7},0,null,{"$f":"IF(OR(EL45=11,EL45=12,EL45<5),OFFSET('input พืชอื่น'!$B$5,0,$D$1,1,1),OFFSET('input พืชอื่น'!$B$6,0,$D$1,1,1))","v":10},0,null,31,{"$f":"ROUND(OFFSET(ฝนใช้การ!$P$2,$EU$2,$EL45,1,1)*7/$EU45,2)","v":11.79},0,null,0,0,0,0,0,0,0,0,0,0,0,0,0,0,0,0,0,0,0,0,0,0,0,0,0,0,0,0,0,0,0,0,0,0,0,0,0,0,0,0,0,0,0,0,0,0,0,0,0,0,0,0,0,0,0,0,0,0,0,0,0,0,0,0,0,0,0,0]
[44,{"$f":"+'input ข้าว'!A52","v":"2018-05-30"},{"$f":"+'input ข้าว'!B52","v":"2018-06-05"},"2018-06-05",{"$f":"OFFSET('input พืชอื่น'!$B$8,A46,$D$1,1,1)","v":0},0,0,0,0,0,0,0,0,0,0,0,0,0,0,0,0,0,0,0,0,0,0,0,0,0,0,0,0,0,0,0,0,0,0,0,0,0,0,0,0,0,0,0,0,0,0,0,0,0,0,0,0,0,0,0,0,0,0,0,0,0,0,0,0,0,0,0,{"$f":"IF(BT46=0,0,OFFSET(Kc!$A$2,1+BT46,MATCH($BU$1,List_Kc_ALL,0),1,1))","v":0},0,0,0,0,0,0,0,0,0,0,0,0,0,0,0,0,0,0,0,0,0,0,0,0,0,0,0,0,0,0,0,0,0,0,0,1.38,1.33,1.27,1.18,1.07,0.93,0.77,0.57999999999999996,0.36,0,0,0,0,0,0,0,0,0,0,0,0,0,0,0,0,0,0,0,0,0,null,null,null,6,{"$f":"OFFSET(ETO!$C$3,$EM$2,$EL46,1,1)*7","v":29.889999999999997},null,{"$f":"OFFSET('input พืชอื่น'!$B$4,0,$D$1,1,1)","v":7},0,null,{"$f":"IF(OR(EL46=11,EL46=12,EL46<5),OFFSET('input พืชอื่น'!$B$5,0,$D$1,1,1),OFFSET('input พืชอื่น'!$B$6,0,$D$1,1,1))","v":10},0,null,30,{"$f":"ROUND(OFFSET(ฝนใช้การ!$P$2,$EU$2,$EL46,1,1)*7/$EU46,2)","v":9.3699999999999992},0,null,0,0,0,0,0,0,0,0,0,0,0,0,0,0,0,0,0,0,0,0,0,0,0,0,0,0,0,0,0,0,0,0,0,0,0,0,0,0,0,0,0,0,0,0,0,0,0,0,0,0,0,0,0,0,0,0,0,0,0,0,0,0,0,0,0,0,0,0]
[45,{"$f":"+'input ข้าว'!A53","v":"2018-06-06"},{"$f":"+'input ข้าว'!B53","v":"2018-06-12"},"2018-06-12",{"$f":"OFFSET('input พืชอื่น'!$B$8,A47,$D$1,1,1)","v":0},0,0,0,0,0,0,0,0,0,0,0,0,0,0,0,0,0,0,0,0,0,0,0,0,0,0,0,0,0,0,0,0,0,0,0,0,0,0,0,0,0,0,0,0,0,0,0,0,0,0,0,0,0,0,0,0,0,0,0,0,0,0,0,0,0,0,0,{"$f":"IF(BT47=0,0,OFFSET(Kc!$A$2,1+BT47,MATCH($BU$1,List_Kc_ALL,0),1,1))","v":0},0,0,0,0,0,0,0,0,0,0,0,0,0,0,0,0,0,0,0,0,0,0,0,0,0,0,0,0,0,0,0,0,0,0,0,0,1.38,1.33,1.27,1.18,1.07,0.93,0.77,0.57999999999999996,0.36,0,0,0,0,0,0,0,0,0,0,0,0,0,0,0,0,0,0,0,0,null,null,null,6,{"$f":"OFFSET(ETO!$C$3,$EM$2,$EL47,1,1)*7","v":29.889999999999997},null,{"$f":"OFFSET('input พืชอื่น'!$B$4,0,$D$1,1,1)","v":7},0,null,{"$f":"IF(OR(EL47=11,EL47=12,EL47<5),OFFSET('input พืชอื่น'!$B$5,0,$D$1,1,1),OFFSET('input พืชอื่น'!$B$6,0,$D$1,1,1))","v":10},0,null,30,{"$f":"ROUND(OFFSET(ฝนใช้การ!$P$2,$EU$2,$EL47,1,1)*7/$EU47,2)","v":9.3699999999999992},0,null,0,0,0,0,0,0,0,0,0,0,0,0,0,0,0,0,0,0,0,0,0,0,0,0,0,0,0,0,0,0,0,0,0,0,0,0,0,0,0,0,0,0,0,0,0,0,0,0,0,0,0,0,0,0,0,0,0,0,0,0,0,0,0,0,0,0,0,0]
[46,{"$f":"+'input ข้าว'!A54","v":"2018-06-13"},{"$f":"+'input ข้าว'!B54","v":"2018-06-19"},"2018-06-19",{"$f":"OFFSET('input พืชอื่น'!$B$8,A48,$D$1,1,1)","v":0},0,0,0,0,0,0,0,0,0,0,0,0,0,0,0,0,0,0,0,0,0,0,0,0,0,0,0,0,0,0,0,{"$f":"IF($A48=AK$2,$E48,IF(AK47=0,0,IF($A48<AK$2+$BT$1,AK47,0)))","v":0},0,0,0,0,0,0,0,0,0,0,0,0,0,0,0,0,0,0,0,0,0,0,0,0,0,0,0,0,0,0,0,0,0,0,0,{"$f":"IF(BT48=0,0,OFFSET(Kc!$A$2,1+BT48,MATCH($BU$1,List_Kc_ALL,0),1,1))","v":0},0,0,0,0,0,0,0,0,0,0,0,0,0,0,0,0,0,0,0,0,0,0,0,0,0,0,0,0,0,0,0,{"$f":"IF($A48=DA$2,$BU$3,IF(DA47=0,0,OFFSET($BU$2,MATCH(DA47,$BU$3:$BU$67,0)+1,0,1,1)))","v":0},0,0,0,0,0,1.38,1.33,1.27,1.18,1.07,0.93,0.77,0.57999999999999996,0.36,0,0,0,0,0,0,0,0,0,0,0,0,0,0,0,0,0,0,0,null,null,null,6,{"$f":"OFFSET(ETO!$C$3,$EM$2,$EL48,1,1)*7","v":29.889999999999997},null,{"$f":"OFFSET('input พืชอื่น'!$B$4,0,$D$1,1,1)","v":7},0,null,{"$f":"IF(OR(EL48=11,EL48=12,EL48<5),OFFSET('input พืชอื่น'!$B$5,0,$D$1,1,1),OFFSET('input พืชอื่น'!$B$6,0,$D$1,1,1))","v":10},0,null,30,{"$f":"ROUND(OFFSET(ฝนใช้การ!$P$2,$EU$2,$EL48,1,1)*7/$EU48,2)","v":9.3699999999999992},0,null,0,0,0,0,0,0,0,0,0,0,0,0,0,0,0,0,0,0,0,0,0,0,0,0,0,0,0,0,0,0,0,0,0,0,0,0,0,0,0,0,0,0,0,0,0,0,0,0,0,0,0,0,0,0,0,0,0,0,0,0,0,0,0,0,0,0,0,0]
[47,{"$f":"+'input ข้าว'!A55","v":"2018-06-20"},{"$f":"+'input ข้าว'!B55","v":"2018-06-26"},"2018-06-26",{"$f":"OFFSET('input พืชอื่น'!$B$8,A49,$D$1,1,1)","v":0},0,0,0,0,0,0,0,0,0,0,0,0,0,0,0,0,0,0,0,0,0,0,0,0,0,0,0,0,0,0,0,0,0,0,0,0,0,0,0,0,0,0,0,0,0,0,0,0,0,0,0,0,0,0,0,0,0,0,0,0,0,0,0,0,0,0,0,{"$f":"IF(BT49=0,0,OFFSET(Kc!$A$2,1+BT49,MATCH($BU$1,List_Kc_ALL,0),1,1))","v":0},0,0,0,0,0,0,0,0,0,0,0,0,0,0,0,0,0,0,0,0,0,0,0,0,0,0,0,0,0,0,0,0,0,0,0,0,0,0,1.38,1.33,1.27,1.18,1.07,0.93,0.77,0.57999999999999996,0.36,0,0,0,0,0,0,0,0,0,0,0,0,0,0,0,0,0,0,null,null,null,6,{"$f":"OFFSET(ETO!$C$3,$EM$2,$EL49,1,1)*7","v":29.889999999999997},null,{"$f":"OFFSET('input พืชอื่น'!$B$4,0,$D$1,1,1)","v":7},0,null,{"$f":"IF(OR(EL49=11,EL49=12,EL49<5),OFFSET('input พืชอื่น'!$B$5,0,$D$1,1,1),OFFSET('input พืชอื่น'!$B$6,0,$D$1,1,1))","v":10},0,null,30,{"$f":"ROUND(OFFSET(ฝนใช้การ!$P$2,$EU$2,$EL49,1,1)*7/$EU49,2)","v":9.3699999999999992},0,null,0,0,0,0,0,0,0,0,0,0,0,0,0,0,0,0,0,0,0,0,0,0,0,0,0,0,0,0,0,0,0,0,0,0,0,0,0,0,0,0,0,0,0,0,0,0,0,0,0,0,0,0,0,0,0,0,0,0,0,0,0,0,0,0,0,0,0,0]
[48,{"$f":"+'input ข้าว'!A56","v":"2018-06-27"},{"$f":"+'input ข้าว'!B56","v":"2018-07-03"},"2018-07-03",{"$f":"OFFSET('input พืชอื่น'!$B$8,A50,$D$1,1,1)","v":0},0,0,0,0,0,0,0,0,0,0,0,0,0,0,0,0,0,0,0,0,0,0,0,0,0,0,0,0,0,0,0,0,0,0,0,0,0,0,0,0,0,0,0,0,0,0,0,0,0,0,0,0,0,0,0,0,0,0,0,0,0,0,0,0,0,0,0,{"$f":"IF(BT50=0,0,OFFSET(Kc!$A$2,1+BT50,MATCH($BU$1,List_Kc_ALL,0),1,1))","v":0},0,0,0,0,0,0,0,0,0,0,0,0,0,0,0,0,0,0,0,0,0,0,0,0,0,0,0,0,0,0,0,0,0,0,0,0,0,0,0,1.38,1.33,1.27,1.18,1.07,0.93,0.77,0.57999999999999996,0.36,0,0,0,0,0,0,0,0,0,0,0,0,0,0,0,0,0,null,null,null,7,{"$f":"OFFSET(ETO!$C$3,$EM$2,$EL50,1,1)*7","v":26.88},null,{"$f":"OFFSET('input พืชอื่น'!$B$4,0,$D$1,1,1)","v":7},0,null,{"$f":"IF(OR(EL50=11,EL50=12,EL50<5),OFFSET('input พืชอื่น'!$B$5,0,$D$1,1,1),OFFSET('input พืชอื่น'!$B$6,0,$D$1,1,1))","v":10},0,null,31,{"$f":"ROUND(OFFSET(ฝนใช้การ!$P$2,$EU$2,$EL50,1,1)*7/$EU50,2)","v":16.62},0,null,0,0,0,0,0,0,0,0,0,0,0,0,0,0,0,0,0,0,0,0,0,0,0,0,0,0,0,0,0,0,0,0,0,0,0,0,0,0,0,0,0,0,{"$f":"ROUND(DL50*$EM50*AV50*1.6,2)","v":0},0,0,0,0,0,0,0,0,0,0,0,0,0,0,0,{"$f":"ROUND(EB50*$EM50*BL50*1.6,2)","v":0},0,0,0,0,0,0,0,0,0]
[49,{"$f":"+'input ข้าว'!A57","v":"2018-07-04"},{"$f":"+'input ข้าว'!B57","v":"2018-07-10"},"2018-07-10",{"$f":"OFFSET('input พืชอื่น'!$B$8,A51,$D$1,1,1)","v":0},0,0,0,0,0,0,0,0,0,0,0,0,0,0,0,0,0,0,0,0,0,0,0,0,0,0,0,0,0,0,0,0,0,0,0,0,0,0,0,0,0,0,0,0,0,0,0,0,0,0,0,0,0,0,0,0,0,0,0,0,0,0,0,0,0,0,0,{"$f":"IF(BT51=0,0,OFFSET(Kc!$A$2,1+BT51,MATCH($BU$1,List_Kc_ALL,0),1,1))","v":0},0,0,0,0,0,0,0,0,0,0,0,0,0,0,0,0,0,0,0,0,0,0,0,0,0,0,0,0,0,0,0,0,0,0,0,0,0,0,0,0,1.38,1.33,1.27,1.18,1.07,0.93,0.77,0.57999999999999996,0.36,0,0,0,0,0,0,0,0,0,0,0,0,0,0,0,0,null,null,null,7,{"$f":"OFFSET(ETO!$C$3,$EM$2,$EL51,1,1)*7","v":26.88},null,{"$f":"OFFSET('input พืชอื่น'!$B$4,0,$D$1,1,1)","v":7},0,null,{"$f":"IF(OR(EL51=11,EL51=12,EL51<5),OFFSET('input พืชอื่น'!$B$5,0,$D$1,1,1),OFFSET('input พืชอื่น'!$B$6,0,$D$1,1,1))","v":10},0,null,31,{"$f":"ROUND(OFFSET(ฝนใช้การ!$P$2,$EU$2,$EL51,1,1)*7/$EU51,2)","v":16.62},0,null,0,0,0,0,0,0,0,0,0,0,0,0,0,0,0,0,0,0,0,0,0,0,0,0,0,0,0,0,0,0,0,{"$f":"ROUND(DA51*$EM51*AK51*1.6,2)","v":0},0,0,0,0,0,0,0,0,0,0,0,0,0,0,0,0,0,0,0,0,0,0,0,0,0,0,0,0,0,0,0,0,0,0,0,0]
[50,{"$f":"+'input ข้าว'!A58","v":"2018-07-11"},{"$f":"+'input ข้าว'!B58","v":"2018-07-17"},"2018-07-17",{"$f":"OFFSET('input พืชอื่น'!$B$8,A52,$D$1,1,1)","v":0},0,0,0,0,0,0,0,0,0,0,0,0,0,0,0,0,0,0,0,0,0,0,0,0,0,0,0,0,0,0,0,0,0,0,0,0,0,0,0,0,0,0,0,0,0,0,0,0,{"$f":"IF($A52=BB$2,$E52,IF(BB51=0,0,IF($A52<BB$2+$BT$1,BB51,0)))","v":0},0,0,0,0,0,0,0,0,0,0,0,0,0,0,0,0,0,0,{"$f":"IF(BT52=0,0,OFFSET(Kc!$A$2,1+BT52,MATCH($BU$1,List_Kc_ALL,0),1,1))","v":0},0,0,0,0,0,0,0,0,0,0,0,0,0,0,0,0,0,0,0,0,0,0,0,0,0,0,0,0,0,0,0,0,0,0,0,0,0,0,0,0,0,1.38,1.33,1.27,1.18,1.07,0.93,0.77,{"$f":"IF($A52=DR$2,$BU$3,IF(DR51=0,0,OFFSET($BU$2,MATCH(DR51,$BU$3:$BU$67,0)+1,0,1,1)))","v":0.57999999999999996},0.36,0,0,0,0,0,0,0,0,0,0,0,0,0,0,0,null,null,null,7,{"$f":"OFFSET(ETO!$C$3,$EM$2,$EL52,1,1)*7","v":26.88},null,{"$f":"OFFSET('input พืชอื่น'!$B$4,0,$D$1,1,1)","v":7},0,null,{"$f":"IF(OR(EL52=11,EL52=12,EL52<5),OFFSET('input พืชอื่น'!$B$5,0,$D$1,1,1),OFFSET('input พืชอื่น'!$B$6,0,$D$1,1,1))","v":10},0,null,31,{"$f":"ROUND(OFFSET(ฝนใช้การ!$P$2,$EU$2,$EL52,1,1)*7/$EU52,2)","v":16.62},0,null,0,0,0,0,0,0,0,0,0,0,0,0,0,0,0,0,0,0,0,0,0,0,0,0,0,0,0,0,0,0,{"$f":"ROUND(CZ52*$EM52*AJ52*1.6,2)","v":0},0,0,0,0,0,0,0,0,0,0,0,0,0,0,0,0,0,0,0,0,0,0,0,0,0,0,0,0,0,0,0,0,0,0,0,0,0]
[51,{"$f":"+'input ข้าว'!A59","v":"2018-07-18"},{"$f":"+'input ข้าว'!B59","v":"2018-07-24"},"2018-07-24",{"$f":"OFFSET('input พืชอื่น'!$B$8,A53,$D$1,1,1)","v":0},0,0,0,0,0,0,0,0,0,0,0,0,0,0,0,0,0,0,0,0,0,0,0,0,0,0,0,0,0,0,0,0,0,0,0,0,0,0,0,0,0,0,0,0,0,0,0,0,0,0,0,0,0,0,0,0,0,0,0,0,0,0,0,0,0,0,0,{"$f":"IF(BT53=0,0,OFFSET(Kc!$A$2,1+BT53,MATCH($BU$1,List_Kc_ALL,0),1,1))","v":0},0,0,0,0,0,0,0,0,0,0,0,0,0,0,0,0,0,0,0,0,0,0,0,0,0,0,0,0,0,0,0,0,0,0,0,0,0,0,0,0,0,0,1.38,1.33,1.27,1.18,1.07,0.93,0.77,0.57999999999999996,0.36,0,0,0,0,0,0,0,0,0,0,0,0,0,0,null,null,null,7,{"$f":"OFFSET(ETO!$C$3,$EM$2,$EL53,1,1)*7","v":26.88},null,{"$f":"OFFSET('input พืชอื่น'!$B$4,0,$D$1,1,1)","v":7},0,null,{"$f":"IF(OR(EL53=11,EL53=12,EL53<5),OFFSET('input พืชอื่น'!$B$5,0,$D$1,1,1),OFFSET('input พืชอื่น'!$B$6,0,$D$1,1,1))","v":10},0,null,31,{"$f":"ROUND(OFFSET(ฝนใช้การ!$P$2,$EU$2,$EL53,1,1)*7/$EU53,2)","v":16.62},0,null,{"$f":"ROUND(BV53*$EM53*F53*1.6,2)","v":0},0,0,0,0,0,0,0,0,0,0,0,0,0,0,0,{"$f":"ROUND(CL53*$EM53*V53*1.6,2)","v":0},0,0,0,0,0,0,0,0,0,0,0,0,0,0,0,0,0,0,0,0,0,0,0,0,0,0,0,0,0,0,0,0,0,0,0,0,0,0,0,0,0,0,0,0,0,0,0,0,0,0,0]
[52,{"$f":"+'input ข้าว'!A60","v":"2018-07-25"},{"$f":"+'input ข้าว'!B60","v":"2018-07-31"},"2018-07-31",{"$f":"OFFSET('input พืชอื่น'!$B$8,A54,$D$1,1,1)","v":0},0,0,0,0,0,0,0,0,0,0,0,0,0,0,0,0,0,0,0,0,0,0,0,0,0,0,0,0,0,0,0,0,0,0,0,0,0,0,0,0,0,0,0,0,0,0,0,{"$f":"IF($A54=BA$2,$E54,IF(BA53=0,0,IF($A54<BA$2+$BT$1,BA53,0)))","v":0},0,0,0,0,0,0,0,0,0,0,0,0,0,0,0,0,0,0,0,{"$f":"IF(BT54=0,0,OFFSET(Kc!$A$2,1+BT54,MATCH($BU$1,List_Kc_ALL,0),1,1))","v":0},0,0,0,0,0,0,0,0,0,0,0,0,0,0,0,0,0,0,0,0,0,0,0,0,0,0,0,0,0,0,0,0,0,0,0,0,0,0,0,0,0,0,0,1.38,1.33,1.27,1.18,{"$f":"IF($A54=DQ$2,$BU$3,IF(DQ53=0,0,OFFSET($BU$2,MATCH(DQ53,$BU$3:$BU$67,0)+1,0,1,1)))","v":1.07},0.93,0.77,0.57999999999999996,0.36,0,0,0,0,0,0,0,0,0,0,0,0,0,null,null,null,7,{"$f":"OFFSET(ETO!$C$3,$EM$2,$EL54,1,1)*7","v":26.88},null,{"$f":"OFFSET('input พืชอื่น'!$B$4,0,$D$1,1,1)","v":7},0,null,{"$f":"IF(OR(EL54=11,EL54=12,EL54<5),OFFSET('input พืชอื่น'!$B$5,0,$D$1,1,1),OFFSET('input พืชอื่น'!$B$6,0,$D$1,1,1))","v":10},0,null,31,{"$f":"ROUND(OFFSET(ฝนใช้การ!$P$2,$EU$2,$EL54,1,1)*7/$EU54,2)","v":16.62},0,null,0,0,0,0,0,0,0,0,0,0,0,0,0,0,0,0,0,0,0,0,0,0,0,0,0,0,0,0,0,0,0,0,0,0,0,0,0,0,0,0,0,0,0,0,0,0,0,0,0,0,0,0,0,0,0,0,0,0,0,0,0,0,0,0,0,0,0,0]
[53,{"$f":"+'input ข้าว'!A61","v":"2018-08-01"},{"$f":"+'input ข้าว'!B61","v":"2018-08-07"},"2018-08-07",{"$f":"OFFSET('input พืชอื่น'!$B$8,A55,$D$1,1,1)","v":0},0,0,0,0,0,0,0,0,0,0,0,0,0,0,0,0,0,0,0,0,0,0,0,0,0,0,0,0,0,0,0,0,0,0,0,0,0,0,0,0,0,0,0,0,0,0,0,0,0,0,0,0,0,0,0,0,0,0,0,0,0,0,0,0,0,0,0,{"$f":"IF(BT55=0,0,OFFSET(Kc!$A$2,1+BT55,MATCH($BU$1,List_Kc_ALL,0),1,1))","v":0},0,0,0,0,0,0,0,0,0,0,0,0,0,0,0,0,0,0,0,0,0,0,0,0,0,0,0,0,0,0,0,0,0,0,0,0,0,0,0,0,0,0,0,0,1.38,1.33,1.27,1.18,1.07,0.93,0.77,0.57999999999999996,0.36,0,0,0,0,0,0,0,0,0,0,0,0,null,null,null,8,{"$f":"OFFSET(ETO!$C$3,$EM$2,$EL55,1,1)*7","v":24.290000000000003},null,{"$f":"OFFSET('input พืชอื่น'!$B$4,0,$D$1,1,1)","v":7},0,null,{"$f":"IF(OR(EL55=11,EL55=12,EL55<5),OFFSET('input พืชอื่น'!$B$5,0,$D$1,1,1),OFFSET('input พืชอื่น'!$B$6,0,$D$1,1,1))","v":10},0,null,31,{"$f":"ROUND(OFFSET(ฝนใช้การ!$P$2,$EU$2,$EL55,1,1)*7/$EU55,2)","v":22.02},0,null,0,0,0,0,0,0,0,0,0,0,0,0,0,0,0,0,0,0,0,0,0,0,0,0,0,0,0,0,0,0,0,0,0,0,0,0,0,0,0,0,0,0,0,0,0,0,0,0,0,0,0,0,0,0,0,0,0,0,0,0,0,0,0,0,0,0,0,0]
[54,{"$f":"+'input ข้าว'!A62","v":"2018-08-08"},{"$f":"+'input ข้าว'!B62","v":"2018-08-14"},"2018-08-14",{"$f":"OFFSET('input พืชอื่น'!$B$8,A56,$D$1,1,1)","v":0},0,0,0,0,0,0,0,0,0,0,0,0,0,0,0,0,0,0,0,0,0,0,0,0,0,0,0,0,0,0,0,0,0,0,0,0,0,0,0,0,0,0,0,0,0,0,0,0,0,0,0,0,0,0,0,0,0,0,0,0,0,0,0,0,0,0,0,{"$f":"IF(BT56=0,0,OFFSET(Kc!$A$2,1+BT56,MATCH($BU$1,List_Kc_ALL,0),1,1))","v":0},0,0,0,0,0,0,0,0,0,0,0,0,0,0,0,0,0,0,0,0,0,0,0,0,0,0,0,0,0,0,0,0,0,0,0,0,0,0,0,0,0,0,0,0,0,1.38,1.33,1.27,1.18,1.07,0.93,0.77,0.57999999999999996,0.36,0,0,0,0,0,0,0,0,0,0,0,null,null,null,8,{"$f":"OFFSET(ETO!$C$3,$EM$2,$EL56,1,1)*7","v":24.290000000000003},null,{"$f":"OFFSET('input พืชอื่น'!$B$4,0,$D$1,1,1)","v":7},0,null,{"$f":"IF(OR(EL56=11,EL56=12,EL56<5),OFFSET('input พืชอื่น'!$B$5,0,$D$1,1,1),OFFSET('input พืชอื่น'!$B$6,0,$D$1,1,1))","v":10},0,null,31,{"$f":"ROUND(OFFSET(ฝนใช้การ!$P$2,$EU$2,$EL56,1,1)*7/$EU56,2)","v":22.02},0,null,0,0,0,0,0,0,0,0,0,0,0,0,0,0,0,0,0,0,0,0,0,0,0,0,0,0,0,0,0,0,0,0,0,0,0,0,0,0,0,0,0,0,0,0,0,0,0,0,0,0,0,0,0,0,0,0,0,0,0,0,0,0,0,0,0,0,0,0]
[55,{"$f":"+'input ข้าว'!A63","v":"2018-08-15"},{"$f":"+'input ข้าว'!B63","v":"2018-08-21"},"2018-08-21",{"$f":"OFFSET('input พืชอื่น'!$B$8,A57,$D$1,1,1)","v":0},0,0,0,0,0,0,0,0,0,0,0,0,0,0,0,0,0,0,0,0,0,0,0,0,0,0,0,0,0,0,0,0,0,0,0,0,0,0,0,0,0,0,0,0,0,0,0,0,0,0,0,0,0,0,0,0,0,0,0,0,0,0,0,0,0,0,0,{"$f":"IF(BT57=0,0,OFFSET(Kc!$A$2,1+BT57,MATCH($BU$1,List_Kc_ALL,0),1,1))","v":0},0,0,0,0,0,0,0,0,0,0,0,0,0,0,0,0,0,0,0,0,0,0,0,0,0,0,0,0,0,0,0,0,0,0,0,0,0,0,0,0,0,0,0,0,0,0,1.38,1.33,1.27,1.18,1.07,0.93,0.77,0.57999999999999996,0.36,0,0,0,0,0,0,0,0,0,0,null,null,null,8,{"$f":"OFFSET(ETO!$C$3,$EM$2,$EL57,1,1)*7","v":24.290000000000003},null,{"$f":"OFFSET('input พืชอื่น'!$B$4,0,$D$1,1,1)","v":7},0,null,{"$f":"IF(OR(EL57=11,EL57=12,EL57<5),OFFSET('input พืชอื่น'!$B$5,0,$D$1,1,1),OFFSET('input พืชอื่น'!$B$6,0,$D$1,1,1))","v":10},0,null,31,{"$f":"ROUND(OFFSET(ฝนใช้การ!$P$2,$EU$2,$EL57,1,1)*7/$EU57,2)","v":22.02},0,null,0,0,0,0,0,0,0,0,0,0,0,0,0,0,0,0,0,0,0,0,0,0,0,0,0,0,0,0,0,0,0,0,0,0,0,0,0,0,0,0,0,0,0,0,0,0,0,0,0,0,0,0,0,0,0,0,0,0,0,0,0,0,0,0,0,0,0,0]
[56,{"$f":"+'input ข้าว'!A64","v":"2018-08-22"},{"$f":"+'input ข้าว'!B64","v":"2018-08-28"},"2018-08-28",{"$f":"OFFSET('input พืชอื่น'!$B$8,A58,$D$1,1,1)","v":0},0,0,0,0,0,0,0,0,0,0,0,0,0,0,0,0,0,0,0,0,0,0,0,0,0,0,0,0,0,0,0,0,0,0,0,0,0,0,0,0,0,0,0,0,0,0,0,0,0,0,0,0,0,0,0,0,0,0,0,0,0,0,0,0,0,0,0,{"$f":"IF(BT58=0,0,OFFSET(Kc!$A$2,1+BT58,MATCH($BU$1,List_Kc_ALL,0),1,1))","v":0},0,0,0,0,0,0,0,0,0,0,0,0,0,0,0,0,0,0,0,0,0,0,0,0,0,0,0,0,0,0,0,0,0,0,0,0,0,0,0,0,0,0,0,0,0,0,0,1.38,1.33,1.27,1.18,1.07,0.93,0.77,0.57999999999999996,0.36,0,0,0,0,0,0,0,0,0,null,null,null,8,{"$f":"OFFSET(ETO!$C$3,$EM$2,$EL58,1,1)*7","v":24.290000000000003},null,{"$f":"OFFSET('input พืชอื่น'!$B$4,0,$D$1,1,1)","v":7},0,null,{"$f":"IF(OR(EL58=11,EL58=12,EL58<5),OFFSET('input พืชอื่น'!$B$5,0,$D$1,1,1),OFFSET('input พืชอื่น'!$B$6,0,$D$1,1,1))","v":10},0,null,31,{"$f":"ROUND(OFFSET(ฝนใช้การ!$P$2,$EU$2,$EL58,1,1)*7/$EU58,2)","v":22.02},0,null,0,0,0,0,0,0,0,0,0,0,0,0,0,0,0,0,0,0,0,0,0,0,0,0,0,0,0,0,0,0,0,0,0,0,0,0,0,0,0,0,0,0,0,0,0,0,0,0,0,0,0,0,0,0,0,0,0,0,0,0,0,0,0,0,0,0,0,0]
[57,{"$f":"+'input ข้าว'!A65","v":"2018-08-29"},{"$f":"+'input ข้าว'!B65","v":"2018-09-04"},"2018-09-04",{"$f":"OFFSET('input พืชอื่น'!$B$8,A59,$D$1,1,1)","v":0},0,0,0,0,0,0,0,0,0,0,0,0,0,0,0,0,0,0,0,0,0,0,0,0,0,0,0,0,0,0,0,0,0,0,0,0,0,0,0,0,0,0,0,0,0,0,0,0,0,0,0,0,0,0,0,0,0,0,0,0,0,0,0,0,0,0,0,{"$f":"IF(BT59=0,0,OFFSET(Kc!$A$2,1+BT59,MATCH($BU$1,List_Kc_ALL,0),1,1))","v":0},0,0,0,0,0,0,0,0,0,0,0,0,0,0,0,0,0,0,0,0,0,0,0,0,0,0,0,0,0,0,0,0,0,0,0,0,0,0,0,0,0,0,0,0,0,0,0,0,1.38,1.33,1.27,1.18,1.07,0.93,0.77,0.57999999999999996,0.36,0,0,0,0,0,0,0,0,null,null,null,9,{"$f":"OFFSET(ETO!$C$3,$EM$2,$EL59,1,1)*7","v":23.939999999999998},null,{"$f":"OFFSET('input พืชอื่น'!$B$4,0,$D$1,1,1)","v":7},0,null,{"$f":"IF(OR(EL59=11,EL59=12,EL59<5),OFFSET('input พืชอื่น'!$B$5,0,$D$1,1,1),OFFSET('input พืชอื่น'!$B$6,0,$D$1,1,1))","v":10},0,null,30,{"$f":"ROUND(OFFSET(ฝนใช้การ!$P$2,$EU$2,$EL59,1,1)*7/$EU59,2)","v":29.8},0,null,0,0,0,0,0,0,0,0,0,0,0,0,0,0,0,0,0,0,0,0,0,0,0,0,0,0,0,0,0,0,0,0,0,0,0,0,0,0,0,0,0,0,0,0,0,0,0,0,0,0,0,0,0,0,0,0,0,0,0,0,0,0,0,0,0,0,0,0]
[58,{"$f":"+'input ข้าว'!A66","v":"2018-09-05"},{"$f":"+'input ข้าว'!B66","v":"2018-09-11"},"2018-09-11",{"$f":"OFFSET('input พืชอื่น'!$B$8,A60,$D$1,1,1)","v":0},0,0,0,0,0,0,0,0,0,0,0,0,0,0,0,0,{"$f":"IF($A60=V$2,$E60,IF(V59=0,0,IF($A60<V$2+$BT$1,V59,0)))","v":0},0,0,0,0,0,0,0,0,0,0,0,0,0,0,0,0,0,0,0,0,0,0,0,0,0,0,0,0,0,0,0,0,0,0,0,0,0,0,0,0,0,0,0,0,0,0,0,0,0,0,{"$f":"IF(BT60=0,0,OFFSET(Kc!$A$2,1+BT60,MATCH($BU$1,List_Kc_ALL,0),1,1))","v":0},0,0,0,0,0,0,0,0,0,0,0,0,0,0,0,0,{"$f":"IF($A60=CL$2,$BU$3,IF(CL59=0,0,OFFSET($BU$2,MATCH(CL59,$BU$3:$BU$67,0)+1,0,1,1)))","v":0},0,0,0,0,0,0,0,0,0,0,0,0,0,0,0,0,0,0,0,0,0,0,0,0,0,0,0,0,0,0,0,0,1.38,1.33,1.27,1.18,1.07,0.93,0.77,0.57999999999999996,0.36,0,0,0,0,0,0,0,null,null,null,9,{"$f":"OFFSET(ETO!$C$3,$EM$2,$EL60,1,1)*7","v":23.939999999999998},null,{"$f":"OFFSET('input พืชอื่น'!$B$4,0,$D$1,1,1)","v":7},0,null,{"$f":"IF(OR(EL60=11,EL60=12,EL60<5),OFFSET('input พืชอื่น'!$B$5,0,$D$1,1,1),OFFSET('input พืชอื่น'!$B$6,0,$D$1,1,1))","v":10},0,null,30,{"$f":"ROUND(OFFSET(ฝนใช้การ!$P$2,$EU$2,$EL60,1,1)*7/$EU60,2)","v":29.8},0,null,0,0,0,0,0,0,0,0,0,0,0,0,0,0,0,0,0,0,0,0,0,0,0,0,0,0,0,0,0,0,0,0,0,0,0,0,0,0,0,0,0,0,0,0,0,0,0,0,0,0,0,0,0,0,0,0,0,0,0,0,0,0,0,0,0,0,0,0]
[59,{"$f":"+'input ข้าว'!A67","v":"2018-09-12"},{"$f":"+'input ข้าว'!B67","v":"2018-09-18"},"2018-09-18",{"$f":"OFFSET('input พืชอื่น'!$B$8,A61,$D$1,1,1)","v":0},{"$f":"IF($A61=F$2,$E61,IF(F60=0,0,IF($A61<F$2+$BT$1,F60,0)))","v":0},0,0,0,0,0,0,0,0,0,0,0,0,0,0,0,0,0,0,0,0,0,0,0,0,0,0,0,0,0,0,0,0,0,0,0,0,0,0,0,0,0,0,0,0,0,0,0,0,0,0,0,0,0,0,0,0,0,0,0,0,0,0,0,0,0,0,{"$f":"IF(BT61=0,0,OFFSET(Kc!$A$2,1+BT61,MATCH($BU$1,List_Kc_ALL,0),1,1))","v":0},{"$f":"IF($A61=BV$2,$BU$3,IF(BV60=0,0,OFFSET($BU$2,MATCH(BV60,$BU$3:$BU$67,0)+1,0,1,1)))","v":0},0,0,0,0,0,0,0,0,0,0,0,0,0,0,0,0,0,0,0,0,0,0,0,0,0,0,0,0,0,0,0,0,0,0,0,0,0,0,0,0,0,0,0,0,0,0,0,0,0,1.38,1.33,1.27,1.18,1.07,0.93,0.77,0.57999999999999996,0.36,0,0,0,0,0,0,null,null,null,9,{"$f":"OFFSET(ETO!$C$3,$EM$2,$EL61,1,1)*7","v":23.939999999999998},null,{"$f":"OFFSET('input พืชอื่น'!$B$4,0,$D$1,1,1)","v":7},0,null,{"$f":"IF(OR(EL61=11,EL61=12,EL61<5),OFFSET('input พืชอื่น'!$B$5,0,$D$1,1,1),OFFSET('input พืชอื่น'!$B$6,0,$D$1,1,1))","v":10},0,null,30,{"$f":"ROUND(OFFSET(ฝนใช้การ!$P$2,$EU$2,$EL61,1,1)*7/$EU61,2)","v":29.8},0,null,0,0,0,0,0,0,0,0,0,0,0,0,0,0,0,0,0,0,0,0,0,0,0,0,0,0,0,0,0,0,0,0,0,0,0,0,0,0,0,0,0,0,0,0,0,0,0,0,0,0,0,0,0,0,0,0,0,0,0,0,0,0,0,0,0,0,0,0]
[60,{"$f":"+'input ข้าว'!A68","v":"2018-09-19"},{"$f":"+'input ข้าว'!B68","v":"2018-09-25"},"2018-09-25",{"$f":"OFFSET('input พืชอื่น'!$B$8,A62,$D$1,1,1)","v":0},0,0,0,0,0,0,0,0,0,0,0,0,0,0,0,0,0,0,0,0,0,0,0,0,0,0,0,0,0,0,0,0,0,0,0,0,0,0,0,0,0,0,0,0,0,0,0,0,0,0,0,0,0,0,0,0,0,0,0,0,0,0,0,0,0,0,0,{"$f":"IF(BT62=0,0,OFFSET(Kc!$A$2,1+BT62,MATCH($BU$1,List_Kc_ALL,0),1,1))","v":0},0,0,0,0,0,0,0,0,0,0,0,0,0,0,0,0,0,0,0,0,0,0,0,0,0,0,0,0,0,0,0,0,0,0,0,0,0,0,0,0,0,0,0,0,0,0,0,0,0,0,0,1.38,1.33,1.27,1.18,1.07,0.93,0.77,0.57999999999999996,0.36,0,0,0,0,0,null,null,null,9,{"$f":"OFFSET(ETO!$C$3,$EM$2,$EL62,1,1)*7","v":23.939999999999998},null,{"$f":"OFFSET('input พืชอื่น'!$B$4,0,$D$1,1,1)","v":7},0,null,{"$f":"IF(OR(EL62=11,EL62=12,EL62<5),OFFSET('input พืชอื่น'!$B$5,0,$D$1,1,1),OFFSET('input พืชอื่น'!$B$6,0,$D$1,1,1))","v":10},0,null,30,{"$f":"ROUND(OFFSET(ฝนใช้การ!$P$2,$EU$2,$EL62,1,1)*7/$EU62,2)","v":29.8},0,null,0,0,0,0,0,0,0,0,0,0,0,0,0,0,0,0,0,0,0,0,0,0,0,0,0,0,0,0,0,0,0,0,0,0,0,0,0,0,0,0,0,0,0,0,0,0,0,0,0,0,0,0,0,0,0,0,0,0,0,0,0,0,0,0,0,0,0,0]
[61,{"$f":"+'input ข้าว'!A69","v":"2018-09-26"},{"$f":"+'input ข้าว'!B69","v":"2018-10-02"},"2018-10-02",{"$f":"OFFSET('input พืชอื่น'!$B$8,A63,$D$1,1,1)","v":0},0,0,0,0,0,0,0,0,0,0,0,0,0,0,0,0,0,0,0,0,0,0,0,0,0,0,0,0,0,0,0,0,0,0,0,0,0,0,0,0,0,0,0,0,0,0,0,0,0,0,0,0,0,0,0,0,0,0,0,0,0,0,0,0,0,0,0,{"$f":"IF(BT63=0,0,OFFSET(Kc!$A$2,1+BT63,MATCH($BU$1,List_Kc_ALL,0),1,1))","v":0},0,0,0,0,0,0,0,0,0,0,0,0,0,0,0,0,0,0,0,0,0,0,0,0,0,0,0,0,0,0,0,0,0,0,0,0,0,0,0,0,0,0,0,0,0,0,0,0,0,0,0,0,1.38,1.33,1.27,1.18,1.07,0.93,0.77,0.57999999999999996,0.36,0,0,0,0,null,null,null,10,{"$f":"OFFSET(ETO!$C$3,$EM$2,$EL63,1,1)*7","v":22.82},null,{"$f":"OFFSET('input พืชอื่น'!$B$4,0,$D$1,1,1)","v":7},0,null,{"$f":"IF(OR(EL63=11,EL63=12,EL63<5),OFFSET('input พืชอื่น'!$B$5,0,$D$1,1,1),OFFSET('input พืชอื่น'!$B$6,0,$D$1,1,1))","v":10},0,null,31,{"$f":"ROUND(OFFSET(ฝนใช้การ!$P$2,$EU$2,$EL63,1,1)*7/$EU63,2)","v":16.55},0,null,0,0,0,0,0,0,0,0,0,0,0,0,0,0,0,0,0,0,0,0,0,0,0,0,0,0,0,0,0,0,0,0,0,0,0,0,0,0,0,0,0,0,0,0,0,0,0,0,0,0,0,0,0,0,0,0,0,0,0,0,0,0,0,0,0,0,0,0]
[62,{"$f":"+'input ข้าว'!A70","v":"2018-10-03"},{"$f":"+'input ข้าว'!B70","v":"2018-10-09"},"2018-10-09",{"$f":"OFFSET('input พืชอื่น'!$B$8,A64,$D$1,1,1)","v":0},0,0,0,0,0,0,0,0,0,0,0,0,0,0,0,0,0,0,0,0,0,0,0,0,0,0,0,0,0,0,0,0,{"$f":"IF($A64=AL$2,$E64,IF(AL63=0,0,IF($A64<AL$2+$BT$1,AL63,0)))","v":0},0,0,0,0,0,0,0,0,0,0,0,0,0,0,0,0,0,0,0,0,0,0,0,0,0,0,0,0,0,0,0,0,0,0,{"$f":"IF(BT64=0,0,OFFSET(Kc!$A$2,1+BT64,MATCH($BU$1,List_Kc_ALL,0),1,1))","v":0},0,0,0,0,0,0,0,0,0,0,0,0,0,0,0,0,0,0,0,0,0,0,0,0,0,0,0,0,0,0,0,0,{"$f":"IF($A64=DB$2,$BU$3,IF(DB63=0,0,OFFSET($BU$2,MATCH(DB63,$BU$3:$BU$67,0)+1,0,1,1)))","v":0},0,0,0,0,0,0,0,0,0,0,0,0,0,0,0,0,0,0,0,0,1.38,1.33,1.27,1.18,1.07,0.93,0.77,0.57999999999999996,0.36,0,0,0,null,null,null,10,{"$f":"OFFSET(ETO!$C$3,$EM$2,$EL64,1,1)*7","v":22.82},null,{"$f":"OFFSET('input พืชอื่น'!$B$4,0,$D$1,1,1)","v":7},0,null,{"$f":"IF(OR(EL64=11,EL64=12,EL64<5),OFFSET('input พืชอื่น'!$B$5,0,$D$1,1,1),OFFSET('input พืชอื่น'!$B$6,0,$D$1,1,1))","v":10},0,null,31,{"$f":"ROUND(OFFSET(ฝนใช้การ!$P$2,$EU$2,$EL64,1,1)*7/$EU64,2)","v":16.55},0,null,0,0,0,0,0,0,0,0,0,0,0,0,0,0,0,0,0,0,0,0,0,0,0,0,0,0,0,0,0,0,0,0,0,0,0,0,0,0,0,0,0,0,0,0,0,0,0,0,0,0,0,0,0,0,0,0,0,0,0,0,0,0,0,0,0,0,0,0]
[63,{"$f":"+'input ข้าว'!A71","v":"2018-10-10"},{"$f":"+'input ข้าว'!B71","v":"2018-10-16"},"2018-10-16",{"$f":"OFFSET('input พืชอื่น'!$B$8,A65,$D$1,1,1)","v":0},0,0,0,0,0,0,0,0,0,0,0,0,0,0,0,0,0,0,0,0,0,0,0,0,0,0,0,0,0,0,0,0,0,0,0,0,0,0,0,0,0,0,0,0,0,0,0,0,0,0,0,0,0,0,0,0,0,0,0,0,0,0,0,0,0,0,0,{"$f":"IF(BT65=0,0,OFFSET(Kc!$A$2,1+BT65,MATCH($BU$1,List_Kc_ALL,0),1,1))","v":0},0,0,0,0,0,0,0,0,0,0,0,0,0,0,0,0,0,0,0,0,0,0,0,0,0,0,0,0,0,0,0,0,0,0,0,0,0,0,0,0,0,0,0,0,0,0,0,0,0,0,0,0,0,0,1.38,1.33,1.27,1.18,1.07,0.93,0.77,0.57999999999999996,0.36,0,0,null,null,null,10,{"$f":"OFFSET(ETO!$C$3,$EM$2,$EL65,1,1)*7","v":22.82},null,{"$f":"OFFSET('input พืชอื่น'!$B$4,0,$D$1,1,1)","v":7},0,null,{"$f":"IF(OR(EL65=11,EL65=12,EL65<5),OFFSET('input พืชอื่น'!$B$5,0,$D$1,1,1),OFFSET('input พืชอื่น'!$B$6,0,$D$1,1,1))","v":10},0,null,31,{"$f":"ROUND(OFFSET(ฝนใช้การ!$P$2,$EU$2,$EL65,1,1)*7/$EU65,2)","v":16.55},0,null,0,0,0,0,0,0,0,0,0,0,0,0,0,0,0,0,0,0,0,0,0,0,0,0,0,0,0,0,0,0,0,0,0,0,0,0,0,0,0,0,0,0,0,0,0,0,0,0,0,0,0,0,0,0,0,0,0,0,0,0,0,0,0,0,0,0,0,0]
[64,{"$f":"+'input ข้าว'!A72","v":"2018-10-17"},{"$f":"+'input ข้าว'!B72","v":"2018-10-23"},"2018-10-23",{"$f":"OFFSET('input พืชอื่น'!$B$8,A66,$D$1,1,1)","v":0},0,0,0,0,0,0,0,0,0,0,0,0,0,0,0,0,0,0,0,0,0,0,0,0,0,0,0,0,0,0,0,0,0,0,0,0,0,0,0,0,0,0,0,0,0,0,0,0,0,0,0,0,0,0,0,0,0,0,0,0,0,0,0,0,0,0,0,{"$f":"IF(BT66=0,0,OFFSET(Kc!$A$2,1+BT66,MATCH($BU$1,List_Kc_ALL,0),1,1))","v":0},0,0,0,0,0,0,0,0,0,0,0,0,0,0,0,0,0,0,0,0,0,0,0,0,0,0,0,0,0,0,0,0,0,0,0,0,0,0,0,0,0,0,0,0,0,0,0,0,0,0,0,0,0,0,0,1.38,1.33,1.27,1.18,1.07,0.93,0.77,0.57999999999999996,0.36,0,null,null,null,10,{"$f":"OFFSET(ETO!$C$3,$EM$2,$EL66,1,1)*7","v":22.82},null,{"$f":"OFFSET('input พืชอื่น'!$B$4,0,$D$1,1,1)","v":7},0,null,{"$f":"IF(OR(EL66=11,EL66=12,EL66<5),OFFSET('input พืชอื่น'!$B$5,0,$D$1,1,1),OFFSET('input พืชอื่น'!$B$6,0,$D$1,1,1))","v":10},0,null,31,{"$f":"ROUND(OFFSET(ฝนใช้การ!$P$2,$EU$2,$EL66,1,1)*7/$EU66,2)","v":16.55},0,null,0,0,0,0,0,0,0,0,0,0,0,0,0,0,0,0,0,0,0,0,0,0,0,0,0,0,0,0,0,0,0,0,0,0,0,0,0,0,0,0,0,0,0,0,0,0,0,0,0,0,0,0,0,0,{"$f":"ROUND(DX66*$EM66*BH66*1.6,2)","v":0},0,0,0,0,0,0,0,0,0,0,0,0,0]
[65,{"$f":"+'input ข้าว'!A73","v":"2018-10-24"},{"$f":"+'input ข้าว'!B73","v":"2018-10-30"},{"$f":"+C67","v":"2018-10-30"},{"$f":"OFFSET('input พืชอื่น'!$B$8,A67,$D$1,1,1)","v":0},0,0,0,0,0,0,0,0,0,0,0,0,0,0,0,0,0,0,0,0,0,0,0,0,0,0,0,0,0,0,0,0,0,0,0,0,0,0,0,0,0,0,0,0,0,0,0,0,0,0,0,0,0,0,0,0,0,0,0,0,0,0,0,{"$f":"IF($A67=BQ$2,$E67,IF(BQ66=0,0,IF($A67<BQ$2+$BT$1,BQ66,0)))","v":0},0,0,{"$f":"IF(A67<=$BT$1,A67,0)","v":0},{"$f":"IF(BT67=0,0,OFFSET(Kc!$A$2,1+BT67,MATCH($BU$1,List_Kc_ALL,0),1,1))","v":0},0,0,0,0,0,0,0,0,0,0,0,0,0,0,0,0,0,0,0,0,0,0,0,0,0,0,0,0,0,0,0,0,0,0,0,0,0,0,0,0,0,0,0,0,0,0,0,0,0,0,0,0,0,0,0,0,1.38,1.33,1.27,1.18,1.07,0.93,0.77,{"$f":"IF($A67=EG$2,$BU$3,IF(EG66=0,0,OFFSET($BU$2,MATCH(EG66,$BU$3:$BU$67,0)+1,0,1,1)))","v":0.57999999999999996},0.36,null,null,null,{"$f":"MONTH(D67)","v":10},{"$f":"OFFSET(ETO!$C$3,$EM$2,$EL67,1,1)*7","v":22.82},null,{"$f":"OFFSET('input พืชอื่น'!$B$4,0,$D$1,1,1)","v":7},0,null,{"$f":"IF(OR(EL67=11,EL67=12,EL67<5),OFFSET('input พืชอื่น'!$B$5,0,$D$1,1,1),OFFSET('input พืชอื่น'!$B$6,0,$D$1,1,1))","v":10},0,null,{"$f":"VLOOKUP(EL67,$EJ$3:$EK$14,2,TRUE)","v":31},{"$f":"ROUND(OFFSET(ฝนใช้การ!$P$2,$EU$2,$EL67,1,1)*7/$EU67,2)","v":16.55},0,null,0,0,0,0,0,0,0,0,0,0,0,0,0,0,0,0,0,0,0,0,0,0,0,0,0,0,0,0,0,0,0,0,0,0,0,0,0,0,0,0,0,0,0,0,0,0,0,{"$f":"ROUND(DQ67*$EM67*BA67*1.6,2)","v":0},0,0,0,0,0,0,0,0,0,0,0,0,0,0,0,0,0,0,0,0]
[66,{"$f":"+B67+7","v":"2018-10-31"},{"$f":"+C67+7","v":"2018-11-06"},"2018-11-06",{"$f":"OFFSET('input พืชอื่น'!$B$8,A68,$D$1,1,1)","v":0},0,0,0,0,0,0,0,0,0,0,0,0,0,0,0,0,0,0,0,0,0,0,0,0,0,0,0,0,0,0,0,0,0,0,0,0,0,0,0,0,0,0,0,0,0,0,0,0,0,0,0,0,0,0,0,0,0,0,0,0,0,0,0,0,0,{"$f":"SUM(F68:BR68)","v":0},null,null,0,0,0,0,0,0,0,0,0,0,0,0,0,0,0,0,0,0,0,0,0,0,0,0,0,0,0,0,0,0,0,0,0,0,0,0,0,0,0,0,0,0,0,0,0,0,0,0,0,0,0,0,0,0,0,0,0,1.38,1.33,1.27,1.18,1.07,0.93,0.77,0.57999999999999996,null,null,null,11,{"$f":"OFFSET(ETO!$C$3,$EM$2,$EL68,1,1)*7","v":23.17},null,{"$f":"OFFSET('input พืชอื่น'!$B$4,0,$D$1,1,1)","v":7},{"$f":"($EO68/1000)*$BS68*1600","v":0},null,{"$f":"IF(OR(EL68=11,EL68=12,EL68<5),OFFSET('input พืชอื่น'!$B$5,0,$D$1,1,1),OFFSET('input พืชอื่น'!$B$6,0,$D$1,1,1))","v":20},{"$f":"($ER68/1000)*$E68*1600","v":0},null,30,{"$f":"ROUND(OFFSET(ฝนใช้การ!$P$2,$EU$2,$EL68,1,1)*7/$EU68,2)","v":5.04},{"$f":"ROUND((EV68/1000)*BS68*1600,2)","v":0},null,0,0,0,0,0,0,0,0,0,0,0,0,0,0,0,{"$f":"ROUND(CK68*$EM68*U68*1.6,2)","v":0},0,0,0,0,0,0,0,0,0,0,0,0,0,0,0,0,0,0,0,0,0,0,0,0,0,0,0,0,0,0,0,0,0,0,0,0,0,0,0,0,0,0,0,0,0,0,0,0,0,{"$f":"SUM(EY68:HK68)","v":0},{"$f":"IF(EP68+ES68+HL68-EW68>0,EP68+ES68+HL68-EW68,0)","v":0},{"$f":"HM68*100/$HO$2","v":0}]
[67,{"$f":"+B68+7","v":"2018-11-07"},"2018-11-13","2018-11-13",{"$f":"OFFSET('input พืชอื่น'!$B$8,A69,$D$1,1,1)","v":0},0,0,0,0,0,0,0,0,0,0,0,0,0,0,0,0,0,0,0,0,0,0,0,0,0,0,0,0,0,0,0,0,0,0,0,0,0,0,0,0,0,0,0,0,0,0,0,0,0,0,0,0,0,0,0,0,0,0,0,0,0,0,0,0,0,0,null,null,0,0,0,0,0,0,0,0,0,0,0,0,0,0,0,0,0,0,0,0,0,0,0,0,0,0,0,0,0,0,0,0,0,0,0,0,0,0,0,0,0,0,0,0,0,0,0,0,0,0,0,0,0,0,0,0,0,0,1.38,1.33,1.27,1.18,1.07,0.93,0.77,null,null,null,11,{"$f":"OFFSET(ETO!$C$3,$EM$2,$EL69,1,1)*7","v":23.17},null,{"$f":"OFFSET('input พืชอื่น'!$B$4,0,$D$1,1,1)","v":7},0,null,{"$f":"IF(OR(EL69=11,EL69=12,EL69<5),OFFSET('input พืชอื่น'!$B$5,0,$D$1,1,1),OFFSET('input พืชอื่น'!$B$6,0,$D$1,1,1))","v":20},0,null,30,{"$f":"ROUND(OFFSET(ฝนใช้การ!$P$2,$EU$2,$EL69,1,1)*7/$EU69,2)","v":5.04},0,null,{"$f":"ROUND(BV69*$EM69*F69*1.6,2)","v":0},0,0,0,0,0,0,0,0,0,0,0,0,0,0,0,0,0,0,0,0,0,0,0,0,0,0,0,0,0,0,0,0,0,0,0,0,0,0,0,0,0,0,0,0,0,0,0,0,0,0,0,0,0,0,0,0,0,0,0,0,0,0,0,0,0,0,0]
[68,"2018-11-14","2018-11-20","2018-11-20",{"$f":"OFFSET('input พืชอื่น'!$B$8,A70,$D$1,1,1)","v":0},0,0,0,0,0,0,0,0,0,0,0,0,0,0,0,0,0,0,0,0,0,0,0,0,0,0,0,0,0,0,0,0,0,0,0,0,0,0,0,0,0,0,0,0,0,0,0,0,{"$f":"IF($A70=BB$2,$E70,IF(BB69=0,0,IF($A70<BB$2+$BT$1,BB69,0)))","v":0},0,0,0,0,0,0,0,0,0,0,0,0,0,0,0,0,0,null,null,0,0,0,0,0,0,0,0,0,0,0,0,0,0,0,0,0,0,0,0,0,0,0,0,0,0,0,0,0,0,0,0,0,0,0,0,0,0,0,0,0,0,0,0,0,0,0,0,{"$f":"IF($A70=DR$2,$BU$3,IF(DR69=0,0,OFFSET($BU$2,MATCH(DR69,$BU$3:$BU$67,0)+1,0,1,1)))","v":0},0,0,0,0,0,0,0,0,0,0,1.38,1.33,1.27,1.18,1.07,0.93,null,null,null,11,{"$f":"OFFSET(ETO!$C$3,$EM$2,$EL70,1,1)*7","v":23.17},null,{"$f":"OFFSET('input พืชอื่น'!$B$4,0,$D$1,1,1)","v":7},0,null,{"$f":"IF(OR(EL70=11,EL70=12,EL70<5),OFFSET('input พืชอื่น'!$B$5,0,$D$1,1,1),OFFSET('input พืชอื่น'!$B$6,0,$D$1,1,1))","v":20},0,null,30,{"$f":"ROUND(OFFSET(ฝนใช้การ!$P$2,$EU$2,$EL70,1,1)*7/$EU70,2)","v":5.04},0,null,0,0,0,0,0,0,0,0,0,0,0,0,0,0,0,0,0,0,0,0,0,0,0,0,0,0,0,0,0,0,0,0,0,0,0,0,0,0,0,0,0,0,0,0,0,0,0,0,0,0,0,0,0,0,0,0,0,0,0,0,0,0,0,0,0,0,0,0]
[69,"2018-11-21","2018-11-27","2018-11-27",{"$f":"OFFSET('input พืชอื่น'!$B$8,A71,$D$1,1,1)","v":0},0,0,0,0,0,0,0,0,0,0,0,0,0,0,0,0,0,0,0,0,0,0,0,0,0,0,0,0,0,0,0,0,0,0,0,0,0,0,0,0,0,0,0,0,0,0,0,0,0,0,0,0,0,0,0,0,0,0,0,0,0,0,0,0,0,0,null,null,0,0,0,0,0,0,0,0,0,0,0,0,0,0,0,0,0,0,0,0,0,0,0,0,0,0,0,0,0,0,0,0,0,0,0,0,0,0,0,0,0,0,0,0,0,0,0,0,0,0,0,0,0,0,0,0,0,0,0,0,1.38,1.33,1.27,1.18,1.07,null,null,null,11,{"$f":"OFFSET(ETO!$C$3,$EM$2,$EL71,1,1)*7","v":23.17},null,{"$f":"OFFSET('input พืชอื่น'!$B$4,0,$D$1,1,1)","v":7},0,null,{"$f":"IF(OR(EL71=11,EL71=12,EL71<5),OFFSET('input พืชอื่น'!$B$5,0,$D$1,1,1),OFFSET('input พืชอื่น'!$B$6,0,$D$1,1,1))","v":20},0,null,30,{"$f":"ROUND(OFFSET(ฝนใช้การ!$P$2,$EU$2,$EL71,1,1)*7/$EU71,2)","v":5.04},0,null,0,0,0,0,0,0,0,0,0,0,0,0,0,0,0,0,0,0,0,{"$f":"ROUND(CO71*$EM71*Y71*1.6,2)","v":0},0,0,0,0,0,0,0,0,0,0,0,0,0,0,0,0,0,0,0,0,0,0,0,0,0,0,{"$f":"ROUND(DP71*$EM71*AZ71*1.6,2)","v":0},0,0,0,0,0,0,0,0,0,0,0,0,0,0,0,0,0,0,0,0,0]
[70,"2018-11-28","2018-12-04","2018-12-04",{"$f":"OFFSET('input พืชอื่น'!$B$8,A72,$D$1,1,1)","v":0},0,0,0,0,0,0,0,0,0,0,0,0,0,0,0,0,0,0,0,0,0,0,0,0,0,0,0,0,0,0,0,0,0,0,0,0,0,0,0,0,0,0,0,0,0,0,0,0,0,0,0,0,0,0,0,0,0,0,0,0,0,0,0,0,0,0,null,null,0,0,0,0,0,0,0,0,0,0,0,0,0,0,0,0,0,0,0,0,0,0,0,0,0,0,0,0,0,0,0,0,0,0,0,0,0,0,0,0,0,0,0,0,0,0,0,0,0,0,0,0,0,0,0,0,0,0,0,0,0,1.38,1.33,1.27,1.18,null,null,null,12,{"$f":"OFFSET(ETO!$C$3,$EM$2,$EL72,1,1)*7","v":22.47},null,{"$f":"OFFSET('input พืชอื่น'!$B$4,0,$D$1,1,1)","v":7},0,null,{"$f":"IF(OR(EL72=11,EL72=12,EL72<5),OFFSET('input พืชอื่น'!$B$5,0,$D$1,1,1),OFFSET('input พืชอื่น'!$B$6,0,$D$1,1,1))","v":20},0,null,31,{"$f":"ROUND(OFFSET(ฝนใช้การ!$P$2,$EU$2,$EL72,1,1)*7/$EU72,2)","v":1.1299999999999999},0,null,0,0,0,0,0,0,0,0,0,0,0,0,0,0,0,0,0,0,0,0,0,0,0,0,0,0,0,0,0,0,0,0,0,0,0,0,0,0,0,0,0,0,0,0,0,0,0,0,0,0,0,0,0,0,0,0,0,0,0,0,0,0,0,0,0,0,0,0]
[71,"2018-12-05","2018-12-11","2018-12-11",{"$f":"OFFSET('input พืชอื่น'!$B$8,A73,$D$1,1,1)","v":0},0,0,0,0,0,0,0,0,0,0,0,0,0,0,0,0,0,0,0,0,0,0,0,0,0,0,0,0,0,0,0,0,0,0,0,0,0,0,0,0,0,0,0,0,0,0,0,0,0,0,0,0,0,0,0,0,0,0,0,0,0,0,0,0,0,0,null,null,0,0,0,0,0,0,0,0,0,0,0,0,0,0,0,0,0,0,0,0,0,0,0,0,0,0,0,0,0,0,0,0,0,0,0,0,0,0,0,0,0,0,0,0,0,0,0,0,0,0,0,0,0,0,0,0,0,0,0,0,0,0,1.38,1.33,1.27,null,null,null,12,{"$f":"OFFSET(ETO!$C$3,$EM$2,$EL73,1,1)*7","v":22.47},null,{"$f":"OFFSET('input พืชอื่น'!$B$4,0,$D$1,1,1)","v":7},0,null,{"$f":"IF(OR(EL73=11,EL73=12,EL73<5),OFFSET('input พืชอื่น'!$B$5,0,$D$1,1,1),OFFSET('input พืชอื่น'!$B$6,0,$D$1,1,1))","v":20},0,null,31,{"$f":"ROUND(OFFSET(ฝนใช้การ!$P$2,$EU$2,$EL73,1,1)*7/$EU73,2)","v":1.1299999999999999},0,null,0,0,0,0,0,0,0,0,0,0,0,0,0,0,0,0,0,0,0,0,0,0,0,0,0,0,0,0,0,0,0,0,0,0,0,0,0,0,0,0,0,0,0,0,0,0,0,0,0,0,0,0,0,0,0,0,0,0,0,0,0,0,0,0,0,0,0,0]
[72,"2018-12-12","2018-12-18","2018-12-18",{"$f":"OFFSET('input พืชอื่น'!$B$8,A74,$D$1,1,1)","v":0},0,0,0,0,0,0,0,0,0,0,0,0,0,0,0,0,0,0,0,0,0,0,0,0,0,0,0,0,0,0,0,0,0,0,0,0,0,0,0,0,0,0,0,0,0,0,0,0,0,0,0,0,0,0,0,0,0,0,0,0,0,0,0,0,0,0,null,null,0,0,0,0,0,0,0,0,0,0,0,0,0,0,0,0,0,0,0,0,0,0,0,0,0,0,0,0,0,0,0,0,0,0,0,0,0,0,0,0,0,0,0,0,0,0,0,0,0,0,0,0,0,0,0,0,0,0,0,0,0,0,0,1.38,1.33,null,null,null,12,{"$f":"OFFSET(ETO!$C$3,$EM$2,$EL74,1,1)*7","v":22.47},null,{"$f":"OFFSET('input พืชอื่น'!$B$4,0,$D$1,1,1)","v":7},0,null,{"$f":"IF(OR(EL74=11,EL74=12,EL74<5),OFFSET('input พืชอื่น'!$B$5,0,$D$1,1,1),OFFSET('input พืชอื่น'!$B$6,0,$D$1,1,1))","v":20},0,null,31,{"$f":"ROUND(OFFSET(ฝนใช้การ!$P$2,$EU$2,$EL74,1,1)*7/$EU74,2)","v":1.1299999999999999},0,null,0,0,0,0,0,0,0,0,0,0,0,0,0,0,0,0,0,0,0,0,0,0,0,0,0,0,0,0,0,0,0,0,0,0,0,0,0,0,0,0,0,0,0,0,0,0,0,0,0,0,0,0,0,0,0,0,0,0,0,0,0,0,0,0,0,0,0,0]
[73,"2018-12-19","2018-12-25","2018-12-25",{"$f":"OFFSET('input พืชอื่น'!$B$8,A75,$D$1,1,1)","v":0},0,0,0,0,0,0,0,0,0,0,0,0,0,0,0,0,0,0,0,0,0,0,0,0,0,0,0,0,0,0,0,0,0,0,0,0,0,0,0,0,0,0,0,0,0,0,0,0,0,0,0,0,0,0,0,0,0,0,0,0,0,0,0,0,0,0,null,null,0,0,0,0,0,0,0,0,0,0,0,0,0,0,0,0,0,0,0,0,0,0,0,0,0,0,0,0,0,0,0,0,0,0,0,0,0,0,0,0,0,0,0,0,0,0,0,0,0,0,0,0,0,0,0,0,0,0,0,0,0,0,0,0,1.38,null,null,null,12,{"$f":"OFFSET(ETO!$C$3,$EM$2,$EL75,1,1)*7","v":22.47},null,{"$f":"OFFSET('input พืชอื่น'!$B$4,0,$D$1,1,1)","v":7},0,null,{"$f":"IF(OR(EL75=11,EL75=12,EL75<5),OFFSET('input พืชอื่น'!$B$5,0,$D$1,1,1),OFFSET('input พืชอื่น'!$B$6,0,$D$1,1,1))","v":20},0,null,31,{"$f":"ROUND(OFFSET(ฝนใช้การ!$P$2,$EU$2,$EL75,1,1)*7/$EU75,2)","v":1.1299999999999999},0,null,0,0,0,0,0,0,0,0,0,0,0,0,0,0,0,0,0,0,0,0,0,0,0,0,0,0,0,0,0,0,0,0,0,0,0,0,0,0,0,0,0,0,0,0,0,0,0,0,0,0,0,0,0,0,0,0,0,0,0,0,0,0,0,0,0,0,0,0]
[74,"2018-12-26","2019-01-01","2019-01-01",{"$f":"OFFSET('input พืชอื่น'!$B$8,A76,$D$1,1,1)","v":0},0,0,0,0,0,0,0,0,0,0,0,0,0,0,0,{"$f":"IF($A76=U$2,$E76,IF(U75=0,0,IF($A76<U$2+$BT$1,U75,0)))","v":0},0,0,0,0,0,0,0,0,0,0,0,0,0,0,0,0,0,0,0,0,0,0,0,0,0,0,0,0,0,0,0,0,0,0,0,0,0,0,0,0,0,0,0,0,0,0,0,0,0,0,null,null,0,0,0,0,0,0,0,0,0,0,0,0,0,0,0,{"$f":"IF($A76=CK$2,$BU$3,IF(CK75=0,0,OFFSET($BU$2,MATCH(CK75,$BU$3:$BU$67,0)+1,0,1,1)))","v":0},0,0,0,0,0,0,0,0,0,0,0,0,0,0,0,0,0,0,0,0,0,0,0,0,0,0,0,0,0,0,0,0,0,0,0,0,0,0,0,0,0,0,0,0,0,0,0,0,0,null,null,null,1,{"$f":"OFFSET(ETO!$C$3,$EM$2,$EL76,1,1)*7","v":23.099999999999998},null,{"$f":"OFFSET('input พืชอื่น'!$B$4,0,$D$1,1,1)","v":7},0,null,{"$f":"IF(OR(EL76=11,EL76=12,EL76<5),OFFSET('input พืชอื่น'!$B$5,0,$D$1,1,1),OFFSET('input พืชอื่น'!$B$6,0,$D$1,1,1))","v":20},0,null,31,{"$f":"ROUND(OFFSET(ฝนใช้การ!$P$2,$EU$2,$EL76,1,1)*7/$EU76,2)","v":1.29},0,null,0,0,0,0,0,0,0,0,0,0,0,0,0,0,0,0,0,0,0,0,0,0,0,0,0,0,0,0,0,0,0,0,0,0,0,0,0,0,0,0,0,0,0,0,0,0,0,0,0,0,0,0,0,0,0,0,0,0,0,0,0,0,0,0,0,0,0,0]
[75,"2019-01-02","2019-01-08","2019-01-08",{"$f":"OFFSET('input พืชอื่น'!$B$8,A77,$D$1,1,1)","v":0},{"$f":"IF($A77=F$2,$E77,IF(F76=0,0,IF($A77<F$2+$BT$1,F76,0)))","v":0},0,0,0,0,0,0,0,0,0,0,0,0,0,0,0,0,0,0,0,0,0,0,0,0,0,0,0,0,0,0,0,0,0,0,0,0,0,0,0,0,0,0,0,0,0,0,0,0,0,0,0,0,0,0,0,0,0,0,0,0,0,0,0,0,0,null,null,{"$f":"IF($A77=BV$2,$BU$3,IF(BV76=0,0,OFFSET($BU$2,MATCH(BV76,$BU$3:$BU$67,0)+1,0,1,1)))","v":0},0,0,0,0,0,0,0,0,0,0,0,0,0,0,0,0,0,0,0,0,0,0,0,0,0,0,0,0,0,0,0,0,0,0,0,0,0,0,0,0,0,0,0,0,0,0,0,0,0,0,0,0,0,0,0,0,0,0,0,0,0,0,0,0,null,null,null,1,{"$f":"OFFSET(ETO!$C$3,$EM$2,$EL77,1,1)*7","v":23.099999999999998},null,{"$f":"OFFSET('input พืชอื่น'!$B$4,0,$D$1,1,1)","v":7},0,null,{"$f":"IF(OR(EL77=11,EL77=12,EL77<5),OFFSET('input พืชอื่น'!$B$5,0,$D$1,1,1),OFFSET('input พืชอื่น'!$B$6,0,$D$1,1,1))","v":20},0,null,31,{"$f":"ROUND(OFFSET(ฝนใช้การ!$P$2,$EU$2,$EL77,1,1)*7/$EU77,2)","v":1.29},0,null,0,0,0,0,0,0,0,0,0,0,0,0,0,0,0,0,0,0,0,0,0,0,0,0,0,0,0,0,0,0,0,0,0,0,0,0,0,0,0,0,0,0,0,0,0,0,0,0,0,0,0,0,0,0,0,0,0,0,0,0,0,0,0,0,0,0,0,0]
[76,"2019-01-09","2019-01-15","2019-01-15",{"$f":"OFFSET('input พืชอื่น'!$B$8,A78,$D$1,1,1)","v":0},0,0,0,0,0,0,0,0,0,0,0,0,0,0,0,0,0,0,0,0,0,0,0,0,0,0,0,0,0,0,0,0,0,0,0,0,0,0,0,0,0,0,0,0,0,0,0,0,0,0,0,0,0,0,0,0,0,0,0,0,0,0,0,0,0,0,null,null,0,0,0,0,0,0,0,0,0,0,0,0,0,0,0,0,0,0,0,0,0,0,0,0,0,0,0,0,0,0,0,0,0,0,0,0,0,0,0,0,0,0,0,0,0,0,0,0,0,0,0,0,0,0,0,0,0,0,0,0,0,0,0,0,0,null,null,null,1,{"$f":"OFFSET(ETO!$C$3,$EM$2,$EL78,1,1)*7","v":23.099999999999998},null,{"$f":"OFFSET('input พืชอื่น'!$B$4,0,$D$1,1,1)","v":7},0,null,{"$f":"IF(OR(EL78=11,EL78=12,EL78<5),OFFSET('input พืชอื่น'!$B$5,0,$D$1,1,1),OFFSET('input พืชอื่น'!$B$6,0,$D$1,1,1))","v":20},0,null,31,{"$f":"ROUND(OFFSET(ฝนใช้การ!$P$2,$EU$2,$EL78,1,1)*7/$EU78,2)","v":1.29},0,null,0,0,0,0,0,0,0,0,0,0,0,0,0,0,0,0,0,0,0,0,0,0,0,0,0,0,0,0,0,0,0,0,0,0,0,0,0,0,0,0,0,0,0,0,0,0,0,0,0,0,0,0,0,0,0,0,0,0,0,0,0,0,0,0,0,0,0,0]
[77,"2019-01-16","2019-01-22","2019-01-22",{"$f":"OFFSET('input พืชอื่น'!$B$8,A79,$D$1,1,1)","v":0},0,0,0,0,0,0,0,0,0,0,0,0,0,0,0,0,0,0,0,0,0,0,0,0,0,0,0,0,0,0,0,0,0,0,0,0,0,0,0,0,0,0,0,0,0,0,0,0,0,0,0,0,0,0,0,0,0,0,0,0,0,0,0,0,0,0,null,null,0,0,0,0,0,0,0,0,0,0,0,0,0,0,0,0,0,0,0,0,0,0,0,0,0,0,0,0,0,0,0,0,0,0,0,0,0,0,0,0,0,0,0,0,0,0,0,0,0,0,0,0,0,0,0,0,0,0,0,0,0,0,0,0,0,null,null,null,1,{"$f":"OFFSET(ETO!$C$3,$EM$2,$EL79,1,1)*7","v":23.099999999999998},null,{"$f":"OFFSET('input พืชอื่น'!$B$4,0,$D$1,1,1)","v":7},0,null,{"$f":"IF(OR(EL79=11,EL79=12,EL79<5),OFFSET('input พืชอื่น'!$B$5,0,$D$1,1,1),OFFSET('input พืชอื่น'!$B$6,0,$D$1,1,1))","v":20},0,null,31,{"$f":"ROUND(OFFSET(ฝนใช้การ!$P$2,$EU$2,$EL79,1,1)*7/$EU79,2)","v":1.29},0,null,0,0,0,0,0,0,0,0,0,0,0,0,0,0,0,0,0,0,0,0,0,0,0,0,0,0,0,0,0,0,0,0,0,0,0,0,0,0,0,0,0,0,0,0,0,0,0,0,0,0,0,0,0,0,0,0,0,0,0,0,0,0,0,0,0,0,0,0]
[78,"2019-01-23","2019-01-29","2019-01-29",{"$f":"OFFSET('input พืชอื่น'!$B$8,A80,$D$1,1,1)","v":0},0,0,0,0,0,0,0,0,0,0,0,0,0,0,0,0,0,0,0,0,0,0,0,0,0,0,0,0,0,0,0,0,{"$f":"IF($A80=AL$2,$E80,IF(AL79=0,0,IF($A80<AL$2+$BT$1,AL79,0)))","v":0},0,0,0,0,0,0,0,0,0,0,0,0,0,0,0,0,0,0,0,0,0,0,0,0,0,0,0,0,0,0,0,0,0,null,null,0,0,0,0,0,0,0,0,0,0,0,0,0,0,0,0,0,0,0,0,0,0,0,0,0,0,0,0,0,0,0,0,{"$f":"IF($A80=DB$2,$BU$3,IF(DB79=0,0,OFFSET($BU$2,MATCH(DB79,$BU$3:$BU$67,0)+1,0,1,1)))","v":0},0,0,0,0,0,0,0,0,0,0,0,0,0,0,0,0,0,0,0,0,0,0,0,0,0,0,0,0,0,0,0,0,null,null,null,1,{"$f":"OFFSET(ETO!$C$3,$EM$2,$EL80,1,1)*7","v":23.099999999999998},null,{"$f":"OFFSET('input พืชอื่น'!$B$4,0,$D$1,1,1)","v":7},0,null,{"$f":"IF(OR(EL80=11,EL80=12,EL80<5),OFFSET('input พืชอื่น'!$B$5,0,$D$1,1,1),OFFSET('input พืชอื่น'!$B$6,0,$D$1,1,1))","v":20},0,null,31,{"$f":"ROUND(OFFSET(ฝนใช้การ!$P$2,$EU$2,$EL80,1,1)*7/$EU80,2)","v":1.29},0,null,0,0,0,0,0,0,0,0,0,0,0,0,0,0,0,0,0,0,0,0,0,0,0,0,0,0,0,0,0,0,0,0,0,0,0,0,0,0,0,0,0,0,0,0,0,0,0,0,0,0,0,0,0,0,0,0,0,0,0,0,0,0,0,0,0,0,0,0]
[79,"2019-01-30","2019-02-05","2019-02-05",{"$f":"OFFSET('input พืชอื่น'!$B$8,A81,$D$1,1,1)","v":0},0,0,0,0,0,0,0,0,0,0,0,0,0,0,0,0,0,0,0,0,0,0,0,0,0,0,0,0,0,0,0,0,0,0,0,0,0,0,0,0,0,0,0,0,0,0,0,0,0,0,0,0,0,0,0,0,0,0,0,0,0,0,0,0,0,0,null,null,0,0,0,0,0,0,0,0,0,0,0,0,0,0,0,0,0,0,0,0,0,0,0,0,0,0,0,0,0,0,0,0,0,0,0,0,0,0,0,0,0,0,0,0,0,0,0,0,0,0,0,0,0,0,0,0,0,0,0,0,0,0,0,0,0,null,null,null,2,{"$f":"OFFSET(ETO!$C$3,$EM$2,$EL81,1,1)*7","v":25.76},null,{"$f":"OFFSET('input พืชอื่น'!$B$4,0,$D$1,1,1)","v":7},0,null,{"$f":"IF(OR(EL81=11,EL81=12,EL81<5),OFFSET('input พืชอื่น'!$B$5,0,$D$1,1,1),OFFSET('input พืชอื่น'!$B$6,0,$D$1,1,1))","v":20},0,null,28,{"$f":"ROUND(OFFSET(ฝนใช้การ!$P$2,$EU$2,$EL81,1,1)*7/$EU81,2)","v":2.7},0,null,0,0,0,0,0,0,0,0,0,0,0,0,0,0,0,0,0,0,0,0,0,0,0,0,0,0,0,0,0,0,0,0,0,0,0,0,0,0,0,0,0,0,0,0,0,0,0,0,0,0,0,0,0,0,0,0,0,0,0,0,0,0,0,0,0,0,0,0]
[80,"2019-02-06","2019-02-12","2019-02-12",{"$f":"OFFSET('input พืชอื่น'!$B$8,A82,$D$1,1,1)","v":0},0,0,0,0,0,0,0,0,0,0,0,0,0,0,0,0,0,0,0,0,0,0,0,0,0,0,0,0,0,0,0,0,0,0,0,0,0,0,0,0,0,0,0,0,0,0,0,0,0,0,0,0,0,0,0,0,0,0,0,0,0,0,0,0,0,0,null,null,0,0,0,0,0,0,0,0,0,0,0,0,0,0,0,0,0,0,0,0,0,0,0,0,0,0,0,0,0,0,0,0,0,0,0,0,0,0,0,0,0,0,0,0,0,0,0,0,0,0,0,0,0,0,0,0,0,0,0,0,0,0,0,0,0,null,null,null,2,{"$f":"OFFSET(ETO!$C$3,$EM$2,$EL82,1,1)*7","v":25.76},null,{"$f":"OFFSET('input พืชอื่น'!$B$4,0,$D$1,1,1)","v":7},0,null,{"$f":"IF(OR(EL82=11,EL82=12,EL82<5),OFFSET('input พืชอื่น'!$B$5,0,$D$1,1,1),OFFSET('input พืชอื่น'!$B$6,0,$D$1,1,1))","v":20},0,null,28,{"$f":"ROUND(OFFSET(ฝนใช้การ!$P$2,$EU$2,$EL82,1,1)*7/$EU82,2)","v":2.7},0,null,0,0,0,0,0,0,0,0,0,0,0,0,0,0,0,0,0,0,0,0,0,0,0,0,0,0,0,0,0,0,0,0,0,0,0,0,0,0,0,0,0,0,0,0,0,0,0,0,0,0,0,0,0,0,0,0,0,0,0,0,0,0,0,0,0,0,0,0]

{"sheet":"อุปโภค","index":25,"n_rows":82,"n_cols":223,"rows_kept":82,"cut":false,"hidden":false,"merged":[]}
[null,"ช่วงเวลาสัปดาห์",null,{"$f":"รายงาน!O1","v":1},{"$f":"OFFSET('input ข้าว'!$B$2,0,$D$1,1,1)","v":"พลเทพ"},"อุปโภค-บริโภค อุตสาหกรรม รักษาระบบนิเวศน์ และอื่นๆ",null,null,null,null,null,null,null,null,null,null,null,null,null,null,null,null,null,null,null,null,null,null,null,null,null,null,null,null,null,null,null,null,null,null,null,null,null,null,null,null,null,null,null,null,null,null,null,null,null,null,null,null,null,null,null,null,null,null,null,null,null,null,null,null,null,null,null,null,null,null,null,null,null,null,null,null,null,null,null,null,null,null,null,null,null,null,null,null,null,null,null,null,null,null,null,null,null,null,null,null,null,null,null,null,null,null,null,null,null,null,null,null,null,null,null,null,null,null,null,null,null,null,null,null,null,null,null,null,null,null,null,null,null,null,null,null,null,null,null,null,null,null,null,null,null,null,null,null,null,null,null,null,null,null,null,null,null,null,null,null,null,null,null,null,null,null,null,null,null,null,null,null,null,null,null,null,null,null,null,null,null,null,null,null,null,null,null,null,null,null,null,null,null,null,null,null,null,null,null,null,null,null,null,null,null,null,null,null,null,null,null,null,null,null,null,"ปริมาณน้ำที่ต้องส่ง (ลบ.ม.)","ประสิทธิภาพชลประทาน"]
[null,"เริ่มต้น","สิ้นสุด","เดือน",null,"ลบ.ม.",null,null,null,null,null,null,null,null,null,null,null,null,null,null,null,null,null,null,null,null,null,null,null,null,null,null,null,null,null,null,null,null,null,null,null,null,null,null,null,null,null,null,null,null,null,null,null,null,null,null,null,null,null,null,null,null,null,null,null,null,null,null,null,null,null,null,null,null,null,null,null,null,null,null,null,null,null,null,null,null,null,null,null,null,null,null,null,null,null,null,null,null,null,null,null,null,null,null,null,null,null,null,null,null,null,null,null,null,null,null,null,null,null,null,null,null,null,null,null,null,null,null,null,null,null,null,null,null,null,null,null,null,null,null,null,null,null,null,null,null,null,null,null,null,null,null,null,null,null,null,null,null,null,null,null,null,null,null,null,null,null,null,null,null,null,null,null,null,null,null,null,null,null,null,null,null,null,null,null,null,null,null,null,null,null,null,null,null,null,null,null,null,null,null,null,null,null,null,null,null,null,null,null,null,null,null,null,null,null,null,null,null,null,null,null,"รวม",{"$f":"OFFSET('input บ่อปลา'!$B$5,0,$D$1,1,1)","v":90}]
[1,{"$f":"ข้าว!B16","v":"2017-11-01"},{"$f":"+B3+6","v":"2017-11-07"},{"$f":"+C3","v":"2017-11-07"},null,{"$f":"OFFSET('input อุปโภค'!$B$6,$A3,$D$1,1,1)","v":1E-3},null,null,null,null,null,null,null,null,null,null,null,null,null,null,null,null,null,null,null,null,null,null,null,null,null,null,null,null,null,null,null,null,null,null,null,null,null,null,null,null,null,null,null,null,null,null,null,null,null,null,null,null,null,null,null,null,null,null,null,null,null,null,null,null,null,null,null,null,null,null,null,null,null,null,null,null,null,null,null,null,null,null,null,null,null,null,null,null,null,null,null,null,null,null,null,null,null,null,null,null,null,null,null,null,null,null,null,null,null,null,null,null,null,null,null,null,null,null,null,null,null,null,null,null,null,null,null,null,null,null,null,null,null,null,null,null,null,null,null,null,null,null,null,null,null,null,null,null,null,null,null,null,null,null,null,null,null,null,null,null,null,null,null,null,null,null,null,null,null,null,null,null,null,null,null,null,null,null,null,null,null,null,null,null,null,null,null,null,null,null,null,null,null,null,null,null,null,null,null,null,null,null,null,null,null,null,null,null,null,null,null,null,null,null,null,{"$f":"F3*100/$HO$2","v":1.1111111111111111E-3}]
[2,{"$f":"+B3+7","v":"2017-11-08"},{"$f":"+C3+7","v":"2017-11-14"},"2017-11-14",null,{"$f":"OFFSET('input อุปโภค'!$B$6,$A4,$D$1,1,1)","v":1E-3},null,null,null,null,null,null,null,null,null,null,null,null,null,null,null,null,null,null,null,null,null,null,null,null,null,null,null,null,null,null,null,null,null,null,null,null,null,null,null,null,null,null,null,null,null,null,null,null,null,null,null,null,null,null,null,null,null,null,null,null,null,null,null,null,null,null,null,null,null,null,null,null,null,null,null,null,null,null,null,null,null,null,null,null,null,null,null,null,null,null,null,null,null,null,null,null,null,null,null,null,null,null,null,null,null,null,null,null,null,null,null,null,null,null,null,null,null,null,null,null,null,null,null,null,null,null,null,null,null,null,null,null,null,null,null,null,null,null,null,null,null,null,null,null,null,null,null,null,null,null,null,null,null,null,null,null,null,null,null,null,null,null,null,null,null,null,null,null,null,null,null,null,null,null,null,null,null,null,null,null,null,null,null,null,null,null,null,null,null,null,null,null,null,null,null,null,null,null,null,null,null,null,null,null,null,null,null,null,null,null,null,null,null,null,null,{"$f":"F4*100/$HO$2","v":1.1111111111111111E-3}]
[3,{"$f":"+B4+7","v":"2017-11-15"},"2017-11-21","2017-11-21",null,{"$f":"OFFSET('input อุปโภค'!$B$6,$A5,$D$1,1,1)","v":1E-3},null,null,null,null,null,null,null,null,null,null,null,null,null,null,null,null,null,null,null,null,null,null,null,null,null,null,null,null,null,null,null,null,null,null,null,null,null,null,null,null,null,null,null,null,null,null,null,null,null,null,null,null,null,null,null,null,null,null,null,null,null,null,null,null,null,null,null,null,null,null,null,null,null,null,null,null,null,null,null,null,null,null,null,null,null,null,null,null,null,null,null,null,null,null,null,null,null,null,null,null,null,null,null,null,null,null,null,null,null,null,null,null,null,null,null,null,null,null,null,null,null,null,null,null,null,null,null,null,null,null,null,null,null,null,null,null,null,null,null,null,null,null,null,null,null,null,null,null,null,null,null,null,null,null,null,null,null,null,null,null,null,null,null,null,null,null,null,null,null,null,null,null,null,null,null,null,null,null,null,null,null,null,null,null,null,null,null,null,null,null,null,null,null,null,null,null,null,null,null,null,null,null,null,null,null,null,null,null,null,null,null,null,null,null,null,1.1111111111111111E-3]
[4,"2017-11-22","2017-11-28","2017-11-28",null,{"$f":"OFFSET('input อุปโภค'!$B$6,$A6,$D$1,1,1)","v":1E-3},null,null,null,null,null,null,null,null,null,null,null,null,null,null,null,null,null,null,null,null,null,null,null,null,null,null,null,null,null,null,null,null,null,null,null,null,null,null,null,null,null,null,null,null,null,null,null,null,null,null,null,null,null,null,null,null,null,null,null,null,null,null,null,null,null,null,null,null,null,null,null,null,null,null,null,null,null,null,null,null,null,null,null,null,null,null,null,null,null,null,null,null,null,null,null,null,null,null,null,null,null,null,null,null,null,null,null,null,null,null,null,null,null,null,null,null,null,null,null,null,null,null,null,null,null,null,null,null,null,null,null,null,null,null,null,null,null,null,null,null,null,null,null,null,null,null,null,null,null,null,null,null,null,null,null,null,null,null,null,null,null,null,null,null,null,null,null,null,null,null,null,null,null,null,null,null,null,null,null,null,null,null,null,null,null,null,null,null,null,null,null,null,null,null,null,null,null,null,null,null,null,null,null,null,null,null,null,null,null,null,null,null,null,null,null,1.1111111111111111E-3]
[5,"2017-11-29","2017-12-05","2017-12-05",null,{"$f":"OFFSET('input อุปโภค'!$B$6,$A7,$D$1,1,1)","v":1E-3},null,null,null,null,null,null,null,null,null,null,null,null,null,null,null,null,null,null,null,null,null,null,null,null,null,null,null,null,null,null,null,null,null,null,null,null,null,null,null,null,null,null,null,null,null,null,null,null,null,null,null,null,null,null,null,null,null,null,null,null,null,null,null,null,null,null,null,null,null,null,null,null,null,null,null,null,null,null,null,null,null,null,null,null,null,null,null,null,null,null,null,null,null,null,null,null,null,null,null,null,null,null,null,null,null,null,null,null,null,null,null,null,null,null,null,null,null,null,null,null,null,null,null,null,null,null,null,null,null,null,null,null,null,null,null,null,null,null,null,null,null,null,null,null,null,null,null,null,null,null,null,null,null,null,null,null,null,null,null,null,null,null,null,null,null,null,null,null,null,null,null,null,null,null,null,null,null,null,null,null,null,null,null,null,null,null,null,null,null,null,null,null,null,null,null,null,null,null,null,null,null,null,null,null,null,null,null,null,null,null,null,null,null,null,null,1.1111111111111111E-3]
[6,"2017-12-06","2017-12-12","2017-12-12",null,{"$f":"OFFSET('input อุปโภค'!$B$6,$A8,$D$1,1,1)","v":1E-3},null,null,null,null,null,null,null,null,null,null,null,null,null,null,null,null,null,null,null,null,null,null,null,null,null,null,null,null,null,null,null,null,null,null,null,null,null,null,null,null,null,null,null,null,null,null,null,null,null,null,null,null,null,null,null,null,null,null,null,null,null,null,null,null,null,null,null,null,null,null,null,null,null,null,null,null,null,null,null,null,null,null,null,null,null,null,null,null,null,null,null,null,null,null,null,null,null,null,null,null,null,null,null,null,null,null,null,null,null,null,null,null,null,null,null,null,null,null,null,null,null,null,null,null,null,null,null,null,null,null,null,null,null,null,null,null,null,null,null,null,null,null,null,null,null,null,null,null,null,null,null,null,null,null,null,null,null,null,null,null,null,null,null,null,null,null,null,null,null,null,null,null,null,null,null,null,null,null,null,null,null,null,null,null,null,null,null,null,null,null,null,null,null,null,null,null,null,null,null,null,null,null,null,null,null,null,null,null,null,null,null,null,null,null,null,1.1111111111111111E-3]
[7,"2017-12-13","2017-12-19","2017-12-19",null,{"$f":"OFFSET('input อุปโภค'!$B$6,$A9,$D$1,1,1)","v":1E-3},null,null,null,null,null,null,null,null,null,null,null,null,null,null,null,null,null,null,null,null,null,null,null,null,null,null,null,null,null,null,null,null,null,null,null,null,null,null,null,null,null,null,null,null,null,null,null,null,null,null,null,null,null,null,null,null,null,null,null,null,null,null,null,null,null,null,null,null,null,null,null,null,null,null,null,null,null,null,null,null,null,null,null,null,null,null,null,null,null,null,null,null,null,null,null,null,null,null,null,null,null,null,null,null,null,null,null,null,null,null,null,null,null,null,null,null,null,null,null,null,null,null,null,null,null,null,null,null,null,null,null,null,null,null,null,null,null,null,null,null,null,null,null,null,null,null,null,null,null,null,null,null,null,null,null,null,null,null,null,null,null,null,null,null,null,null,null,null,null,null,null,null,null,null,null,null,null,null,null,null,null,null,null,null,null,null,null,null,null,null,null,null,null,null,null,null,null,null,null,null,null,null,null,null,null,null,null,null,null,null,null,null,null,null,null,1.1111111111111111E-3]
[8,"2017-12-20","2017-12-26","2017-12-26",null,{"$f":"OFFSET('input อุปโภค'!$B$6,$A10,$D$1,1,1)","v":1E-3},null,null,null,null,null,null,null,null,null,null,null,null,null,null,null,null,null,null,null,null,null,null,null,null,null,null,null,null,null,null,null,null,null,null,null,null,null,null,null,null,null,null,null,null,null,null,null,null,null,null,null,null,null,null,null,null,null,null,null,null,null,null,null,null,null,null,null,null,null,null,null,null,null,null,null,null,null,null,null,null,null,null,null,null,null,null,null,null,null,null,null,null,null,null,null,null,null,null,null,null,null,null,null,null,null,null,null,null,null,null,null,null,null,null,null,null,null,null,null,null,null,null,null,null,null,null,null,null,null,null,null,null,null,null,null,null,null,null,null,null,null,null,null,null,null,null,null,null,null,null,null,null,null,null,null,null,null,null,null,null,null,null,null,null,null,null,null,null,null,null,null,null,null,null,null,null,null,null,null,null,null,null,null,null,null,null,null,null,null,null,null,null,null,null,null,null,null,null,null,null,null,null,null,null,null,null,null,null,null,null,null,null,null,null,null,1.1111111111111111E-3]
[9,"2017-12-27","2018-01-02","2018-01-02",null,{"$f":"OFFSET('input อุปโภค'!$B$6,$A11,$D$1,1,1)","v":1E-3},null,null,null,null,null,null,null,null,null,null,null,null,null,null,null,null,null,null,null,null,null,null,null,null,null,null,null,null,null,null,null,null,null,null,null,null,null,null,null,null,null,null,null,null,null,null,null,null,null,null,null,null,null,null,null,null,null,null,null,null,null,null,null,null,null,null,null,null,null,null,null,null,null,null,null,null,null,null,null,null,null,null,null,null,null,null,null,null,null,null,null,null,null,null,null,null,null,null,null,null,null,null,null,null,null,null,null,null,null,null,null,null,null,null,null,null,null,null,null,null,null,null,null,null,null,null,null,null,null,null,null,null,null,null,null,null,null,null,null,null,null,null,null,null,null,null,null,null,null,null,null,null,null,null,null,null,null,null,null,null,null,null,null,null,null,null,null,null,null,null,null,null,null,null,null,null,null,null,null,null,null,null,null,null,null,null,null,null,null,null,null,null,null,null,null,null,null,null,null,null,null,null,null,null,null,null,null,null,null,null,null,null,null,null,null,1.1111111111111111E-3]
[10,"2018-01-03","2018-01-09","2018-01-09",null,{"$f":"OFFSET('input อุปโภค'!$B$6,$A12,$D$1,1,1)","v":1E-3},null,null,null,null,null,null,null,null,null,null,null,null,null,null,null,null,null,null,null,null,null,null,null,null,null,null,null,null,null,null,null,null,null,null,null,null,null,null,null,null,null,null,null,null,null,null,null,null,null,null,null,null,null,null,null,null,null,null,null,null,null,null,null,null,null,null,null,null,null,null,null,null,null,null,null,null,null,null,null,null,null,null,null,null,null,null,null,null,null,null,null,null,null,null,null,null,null,null,null,null,null,null,null,null,null,null,null,null,null,null,null,null,null,null,null,null,null,null,null,null,null,null,null,null,null,null,null,null,null,null,null,null,null,null,null,null,null,null,null,null,null,null,null,null,null,null,null,null,null,null,null,null,null,null,null,null,null,null,null,null,null,null,null,null,null,null,null,null,null,null,null,null,null,null,null,null,null,null,null,null,null,null,null,null,null,null,null,null,null,null,null,null,null,null,null,null,null,null,null,null,null,null,null,null,null,null,null,null,null,null,null,null,null,null,null,1.1111111111111111E-3]
[11,"2018-01-10","2018-01-16","2018-01-16",null,{"$f":"OFFSET('input อุปโภค'!$B$6,$A13,$D$1,1,1)","v":1E-3},null,null,null,null,null,null,null,null,null,null,null,null,null,null,null,null,null,null,null,null,null,null,null,null,null,null,null,null,null,null,null,null,null,null,null,null,null,null,null,null,null,null,null,null,null,null,null,null,null,null,null,null,null,null,null,null,null,null,null,null,null,null,null,null,null,null,null,null,null,null,null,null,null,null,null,null,null,null,null,null,null,null,null,null,null,null,null,null,null,null,null,null,null,null,null,null,null,null,null,null,null,null,null,null,null,null,null,null,null,null,null,null,null,null,null,null,null,null,null,null,null,null,null,null,null,null,null,null,null,null,null,null,null,null,null,null,null,null,null,null,null,null,null,null,null,null,null,null,null,null,null,null,null,null,null,null,null,null,null,null,null,null,null,null,null,null,null,null,null,null,null,null,null,null,null,null,null,null,null,null,null,null,null,null,null,null,null,null,null,null,null,null,null,null,null,null,null,null,null,null,null,null,null,null,null,null,null,null,null,null,null,null,null,null,null,1.1111111111111111E-3]
[12,"2018-01-17","2018-01-23","2018-01-23",null,{"$f":"OFFSET('input อุปโภค'!$B$6,$A14,$D$1,1,1)","v":1E-3},null,null,null,null,null,null,null,null,null,null,null,null,null,null,null,null,null,null,null,null,null,null,null,null,null,null,null,null,null,null,null,null,null,null,null,null,null,null,null,null,null,null,null,null,null,null,null,null,null,null,null,null,null,null,null,null,null,null,null,null,null,null,null,null,null,null,null,null,null,null,null,null,null,null,null,null,null,null,null,null,null,null,null,null,null,null,null,null,null,null,null,null,null,null,null,null,null,null,null,null,null,null,null,null,null,null,null,null,null,null,null,null,null,null,null,null,null,null,null,null,null,null,null,null,null,null,null,null,null,null,null,null,null,null,null,null,null,null,null,null,null,null,null,null,null,null,null,null,null,null,null,null,null,null,null,null,null,null,null,null,null,null,null,null,null,null,null,null,null,null,null,null,null,null,null,null,null,null,null,null,null,null,null,null,null,null,null,null,null,null,null,null,null,null,null,null,null,null,null,null,null,null,null,null,null,null,null,null,null,null,null,null,null,null,null,1.1111111111111111E-3]
[13,"2018-01-24","2018-01-30","2018-01-30",null,{"$f":"OFFSET('input อุปโภค'!$B$6,$A15,$D$1,1,1)","v":1E-3},null,null,null,null,null,null,null,null,null,null,null,null,null,null,null,null,null,null,null,null,null,null,null,null,null,null,null,null,null,null,null,null,null,null,null,null,null,null,null,null,null,null,null,null,null,null,null,null,null,null,null,null,null,null,null,null,null,null,null,null,null,null,null,null,null,null,null,null,null,null,null,null,null,null,null,null,null,null,null,null,null,null,null,null,null,null,null,null,null,null,null,null,null,null,null,null,null,null,null,null,null,null,null,null,null,null,null,null,null,null,null,null,null,null,null,null,null,null,null,null,null,null,null,null,null,null,null,null,null,null,null,null,null,null,null,null,null,null,null,null,null,null,null,null,null,null,null,null,null,null,null,null,null,null,null,null,null,null,null,null,null,null,null,null,null,null,null,null,null,null,null,null,null,null,null,null,null,null,null,null,null,null,null,null,null,null,null,null,null,null,null,null,null,null,null,null,null,null,null,null,null,null,null,null,null,null,null,null,null,null,null,null,null,null,null,1.1111111111111111E-3]
[14,"2018-01-31","2018-02-06","2018-02-06",null,{"$f":"OFFSET('input อุปโภค'!$B$6,$A16,$D$1,1,1)","v":1E-3},null,null,null,null,null,null,null,null,null,null,null,null,null,null,null,null,null,null,null,null,null,null,null,null,null,null,null,null,null,null,null,null,null,null,null,null,null,null,null,null,null,null,null,null,null,null,null,null,null,null,null,null,null,null,null,null,null,null,null,null,null,null,null,null,null,null,null,null,null,null,null,null,null,null,null,null,null,null,null,null,null,null,null,null,null,null,null,null,null,null,null,null,null,null,null,null,null,null,null,null,null,null,null,null,null,null,null,null,null,null,null,null,null,null,null,null,null,null,null,null,null,null,null,null,null,null,null,null,null,null,null,null,null,null,null,null,null,null,null,null,null,null,null,null,null,null,null,null,null,null,null,null,null,null,null,null,null,null,null,null,null,null,null,null,null,null,null,null,null,null,null,null,null,null,null,null,null,null,null,null,null,null,null,null,null,null,null,null,null,null,null,null,null,null,null,null,null,null,null,null,null,null,null,null,null,null,null,null,null,null,null,null,null,null,null,1.1111111111111111E-3]
[15,"2018-02-07","2018-02-13","2018-02-13",null,{"$f":"OFFSET('input อุปโภค'!$B$6,$A17,$D$1,1,1)","v":1E-3},null,null,null,null,null,null,null,null,null,null,null,null,null,null,null,null,null,null,null,null,null,null,null,null,null,null,null,null,null,null,null,null,null,null,null,null,null,null,null,null,null,null,null,null,null,null,null,null,null,null,null,null,null,null,null,null,null,null,null,null,null,null,null,null,null,null,null,null,null,null,null,null,null,null,null,null,null,null,null,null,null,null,null,null,null,null,null,null,null,null,null,null,null,null,null,null,null,null,null,null,null,null,null,null,null,null,null,null,null,null,null,null,null,null,null,null,null,null,null,null,null,null,null,null,null,null,null,null,null,null,null,null,null,null,null,null,null,null,null,null,null,null,null,null,null,null,null,null,null,null,null,null,null,null,null,null,null,null,null,null,null,null,null,null,null,null,null,null,null,null,null,null,null,null,null,null,null,null,null,null,null,null,null,null,null,null,null,null,null,null,null,null,null,null,null,null,null,null,null,null,null,null,null,null,null,null,null,null,null,null,null,null,null,null,null,1.1111111111111111E-3]
[16,"2018-02-14","2018-02-20","2018-02-20",null,{"$f":"OFFSET('input อุปโภค'!$B$6,$A18,$D$1,1,1)","v":1E-3},null,null,null,null,null,null,null,null,null,null,null,null,null,null,null,null,null,null,null,null,null,null,null,null,null,null,null,null,null,null,null,null,null,null,null,null,null,null,null,null,null,null,null,null,null,null,null,null,null,null,null,null,null,null,null,null,null,null,null,null,null,null,null,null,null,null,null,null,null,null,null,null,null,null,null,null,null,null,null,null,null,null,null,null,null,null,null,null,null,null,null,null,null,null,null,null,null,null,null,null,null,null,null,null,null,null,null,null,null,null,null,null,null,null,null,null,null,null,null,null,null,null,null,null,null,null,null,null,null,null,null,null,null,null,null,null,null,null,null,null,null,null,null,null,null,null,null,null,null,null,null,null,null,null,null,null,null,null,null,null,null,null,null,null,null,null,null,null,null,null,null,null,null,null,null,null,null,null,null,null,null,null,null,null,null,null,null,null,null,null,null,null,null,null,null,null,null,null,null,null,null,null,null,null,null,null,null,null,null,null,null,null,null,null,null,1.1111111111111111E-3]
[17,"2018-02-21","2018-02-27","2018-02-27",null,{"$f":"OFFSET('input อุปโภค'!$B$6,$A19,$D$1,1,1)","v":1E-3},null,null,null,null,null,null,null,null,null,null,null,null,null,null,null,null,null,null,null,null,null,null,null,null,null,null,null,null,null,null,null,null,null,null,null,null,null,null,null,null,null,null,null,null,null,null,null,null,null,null,null,null,null,null,null,null,null,null,null,null,null,null,null,null,null,null,null,null,null,null,null,null,null,null,null,null,null,null,null,null,null,null,null,null,null,null,null,null,null,null,null,null,null,null,null,null,null,null,null,null,null,null,null,null,null,null,null,null,null,null,null,null,null,null,null,null,null,null,null,null,null,null,null,null,null,null,null,null,null,null,null,null,null,null,null,null,null,null,null,null,null,null,null,null,null,null,null,null,null,null,null,null,null,null,null,null,null,null,null,null,null,null,null,null,null,null,null,null,null,null,null,null,null,null,null,null,null,null,null,null,null,null,null,null,null,null,null,null,null,null,null,null,null,null,null,null,null,null,null,null,null,null,null,null,null,null,null,null,null,null,null,null,null,null,null,1.1111111111111111E-3]
[18,"2018-02-28","2018-03-06","2018-03-06",null,{"$f":"OFFSET('input อุปโภค'!$B$6,$A20,$D$1,1,1)","v":1E-3},null,null,null,null,null,null,null,null,null,null,null,null,null,null,null,null,null,null,null,null,null,null,null,null,null,null,null,null,null,null,null,null,null,null,null,null,null,null,null,null,null,null,null,null,null,null,null,null,null,null,null,null,null,null,null,null,null,null,null,null,null,null,null,null,null,null,null,null,null,null,null,null,null,null,null,null,null,null,null,null,null,null,null,null,null,null,null,null,null,null,null,null,null,null,null,null,null,null,null,null,null,null,null,null,null,null,null,null,null,null,null,null,null,null,null,null,null,null,null,null,null,null,null,null,null,null,null,null,null,null,null,null,null,null,null,null,null,null,null,null,null,null,null,null,null,null,null,null,null,null,null,null,null,null,null,null,null,null,null,null,null,null,null,null,null,null,null,null,null,null,null,null,null,null,null,null,null,null,null,null,null,null,null,null,null,null,null,null,null,null,null,null,null,null,null,null,null,null,null,null,null,null,null,null,null,null,null,null,null,null,null,null,null,null,null,1.1111111111111111E-3]
[19,"2018-03-07","2018-03-13","2018-03-13",null,{"$f":"OFFSET('input อุปโภค'!$B$6,$A21,$D$1,1,1)","v":1E-3},null,null,null,null,null,null,null,null,null,null,null,null,null,null,null,null,null,null,null,null,null,null,null,null,null,null,null,null,null,null,null,null,null,null,null,null,null,null,null,null,null,null,null,null,null,null,null,null,null,null,null,null,null,null,null,null,null,null,null,null,null,null,null,null,null,null,null,null,null,null,null,null,null,null,null,null,null,null,null,null,null,null,null,null,null,null,null,null,null,null,null,null,null,null,null,null,null,null,null,null,null,null,null,null,null,null,null,null,null,null,null,null,null,null,null,null,null,null,null,null,null,null,null,null,null,null,null,null,null,null,null,null,null,null,null,null,null,null,null,null,null,null,null,null,null,null,null,null,null,null,null,null,null,null,null,null,null,null,null,null,null,null,null,null,null,null,null,null,null,null,null,null,null,null,null,null,null,null,null,null,null,null,null,null,null,null,null,null,null,null,null,null,null,null,null,null,null,null,null,null,null,null,null,null,null,null,null,null,null,null,null,null,null,null,null,1.1111111111111111E-3]
[20,"2018-03-14","2018-03-20","2018-03-20",null,{"$f":"OFFSET('input อุปโภค'!$B$6,$A22,$D$1,1,1)","v":1E-3},null,null,null,null,null,null,null,null,null,null,null,null,null,null,null,null,null,null,null,null,null,null,null,null,null,null,null,null,null,null,null,null,null,null,null,null,null,null,null,null,null,null,null,null,null,null,null,null,null,null,null,null,null,null,null,null,null,null,null,null,null,null,null,null,null,null,null,null,null,null,null,null,null,null,null,null,null,null,null,null,null,null,null,null,null,null,null,null,null,null,null,null,null,null,null,null,null,null,null,null,null,null,null,null,null,null,null,null,null,null,null,null,null,null,null,null,null,null,null,null,null,null,null,null,null,null,null,null,null,null,null,null,null,null,null,null,null,null,null,null,null,null,null,null,null,null,null,null,null,null,null,null,null,null,null,null,null,null,null,null,null,null,null,null,null,null,null,null,null,null,null,null,null,null,null,null,null,null,null,null,null,null,null,null,null,null,null,null,null,null,null,null,null,null,null,null,null,null,null,null,null,null,null,null,null,null,null,null,null,null,null,null,null,null,null,1.1111111111111111E-3]
[21,"2018-03-21","2018-03-27","2018-03-27",null,{"$f":"OFFSET('input อุปโภค'!$B$6,$A23,$D$1,1,1)","v":1E-3},null,null,null,null,null,null,null,null,null,null,null,null,null,null,null,null,null,null,null,null,null,null,null,null,null,null,null,null,null,null,null,null,null,null,null,null,null,null,null,null,null,null,null,null,null,null,null,null,null,null,null,null,null,null,null,null,null,null,null,null,null,null,null,null,null,null,null,null,null,null,null,null,null,null,null,null,null,null,null,null,null,null,null,null,null,null,null,null,null,null,null,null,null,null,null,null,null,null,null,null,null,null,null,null,null,null,null,null,null,null,null,null,null,null,null,null,null,null,null,null,null,null,null,null,null,null,null,null,null,null,null,null,null,null,null,null,null,null,null,null,null,null,null,null,null,null,null,null,null,null,null,null,null,null,null,null,null,null,null,null,null,null,null,null,null,null,null,null,null,null,null,null,null,null,null,null,null,null,null,null,null,null,null,null,null,null,null,null,null,null,null,null,null,null,null,null,null,null,null,null,null,null,null,null,null,null,null,null,null,null,null,null,null,null,null,1.1111111111111111E-3]
[22,"2018-03-28","2018-04-03","2018-04-03",null,{"$f":"OFFSET('input อุปโภค'!$B$6,$A24,$D$1,1,1)","v":1E-3},null,null,null,null,null,null,null,null,null,null,null,null,null,null,null,null,null,null,null,null,null,null,null,null,null,null,null,null,null,null,null,null,null,null,null,null,null,null,null,null,null,null,null,null,null,null,null,null,null,null,null,null,null,null,null,null,null,null,null,null,null,null,null,null,null,null,null,null,null,null,null,null,null,null,null,null,null,null,null,null,null,null,null,null,null,null,null,null,null,null,null,null,null,null,null,null,null,null,null,null,null,null,null,null,null,null,null,null,null,null,null,null,null,null,null,null,null,null,null,null,null,null,null,null,null,null,null,null,null,null,null,null,null,null,null,null,null,null,null,null,null,null,null,null,null,null,null,null,null,null,null,null,null,null,null,null,null,null,null,null,null,null,null,null,null,null,null,null,null,null,null,null,null,null,null,null,null,null,null,null,null,null,null,null,null,null,null,null,null,null,null,null,null,null,null,null,null,null,null,null,null,null,null,null,null,null,null,null,null,null,null,null,null,null,null,1.1111111111111111E-3]
[23,"2018-04-04","2018-04-10","2018-04-10",null,{"$f":"OFFSET('input อุปโภค'!$B$6,$A25,$D$1,1,1)","v":1E-3},null,null,null,null,null,null,null,null,null,null,null,null,null,null,null,null,null,null,null,null,null,null,null,null,null,null,null,null,null,null,null,null,null,null,null,null,null,null,null,null,null,null,null,null,null,null,null,null,null,null,null,null,null,null,null,null,null,null,null,null,null,null,null,null,null,null,null,null,null,null,null,null,null,null,null,null,null,null,null,null,null,null,null,null,null,null,null,null,null,null,null,null,null,null,null,null,null,null,null,null,null,null,null,null,null,null,null,null,null,null,null,null,null,null,null,null,null,null,null,null,null,null,null,null,null,null,null,null,null,null,null,null,null,null,null,null,null,null,null,null,null,null,null,null,null,null,null,null,null,null,null,null,null,null,null,null,null,null,null,null,null,null,null,null,null,null,null,null,null,null,null,null,null,null,null,null,null,null,null,null,null,null,null,null,null,null,null,null,null,null,null,null,null,null,null,null,null,null,null,null,null,null,null,null,null,null,null,null,null,null,null,null,null,null,null,1.1111111111111111E-3]
[24,"2018-04-11","2018-04-17","2018-04-17",null,{"$f":"OFFSET('input อุปโภค'!$B$6,$A26,$D$1,1,1)","v":1E-3},null,null,null,null,null,null,null,null,null,null,null,null,null,null,null,null,null,null,null,null,null,null,null,null,null,null,null,null,null,null,null,null,null,null,null,null,null,null,null,null,null,null,null,null,null,null,null,null,null,null,null,null,null,null,null,null,null,null,null,null,null,null,null,null,null,null,null,null,null,null,null,null,null,null,null,null,null,null,null,null,null,null,null,null,null,null,null,null,null,null,null,null,null,null,null,null,null,null,null,null,null,null,null,null,null,null,null,null,null,null,null,null,null,null,null,null,null,null,null,null,null,null,null,null,null,null,null,null,null,null,null,null,null,null,null,null,null,null,null,null,null,null,null,null,null,null,null,null,null,null,null,null,null,null,null,null,null,null,null,null,null,null,null,null,null,null,null,null,null,null,null,null,null,null,null,null,null,null,null,null,null,null,null,null,null,null,null,null,null,null,null,null,null,null,null,null,null,null,null,null,null,null,null,null,null,null,null,null,null,null,null,null,null,null,null,1.1111111111111111E-3]
[25,"2018-04-18","2018-04-24","2018-04-24",null,{"$f":"OFFSET('input อุปโภค'!$B$6,$A27,$D$1,1,1)","v":1E-3},null,null,null,null,null,null,null,null,null,null,null,null,null,null,null,null,null,null,null,null,null,null,null,null,null,null,null,null,null,null,null,null,null,null,null,null,null,null,null,null,null,null,null,null,null,null,null,null,null,null,null,null,null,null,null,null,null,null,null,null,null,null,null,null,null,null,null,null,null,null,null,null,null,null,null,null,null,null,null,null,null,null,null,null,null,null,null,null,null,null,null,null,null,null,null,null,null,null,null,null,null,null,null,null,null,null,null,null,null,null,null,null,null,null,null,null,null,null,null,null,null,null,null,null,null,null,null,null,null,null,null,null,null,null,null,null,null,null,null,null,null,null,null,null,null,null,null,null,null,null,null,null,null,null,null,null,null,null,null,null,null,null,null,null,null,null,null,null,null,null,null,null,null,null,null,null,null,null,null,null,null,null,null,null,null,null,null,null,null,null,null,null,null,null,null,null,null,null,null,null,null,null,null,null,null,null,null,null,null,null,null,null,null,null,null,1.1111111111111111E-3]
[26,"2018-04-25","2018-05-01","2018-05-01",null,{"$f":"OFFSET('input อุปโภค'!$B$6,$A28,$D$1,1,1)","v":1E-3},null,null,null,null,null,null,null,null,null,null,null,null,null,null,null,null,null,null,null,null,null,null,null,null,null,null,null,null,null,null,null,null,null,null,null,null,null,null,null,null,null,null,null,null,null,null,null,null,null,null,null,null,null,null,null,null,null,null,null,null,null,null,null,null,null,null,null,null,null,null,null,null,null,null,null,null,null,null,null,null,null,null,null,null,null,null,null,null,null,null,null,null,null,null,null,null,null,null,null,null,null,null,null,null,null,null,null,null,null,null,null,null,null,null,null,null,null,null,null,null,null,null,null,null,null,null,null,null,null,null,null,null,null,null,null,null,null,null,null,null,null,null,null,null,null,null,null,null,null,null,null,null,null,null,null,null,null,null,null,null,null,null,null,null,null,null,null,null,null,null,null,null,null,null,null,null,null,null,null,null,null,null,null,null,null,null,null,null,null,null,null,null,null,null,null,null,null,null,null,null,null,null,null,null,null,null,null,null,null,null,null,null,null,null,null,1.1111111111111111E-3]
[27,"2018-05-02","2018-05-08","2018-05-08",null,{"$f":"OFFSET('input อุปโภค'!$B$6,$A29,$D$1,1,1)","v":1E-3},null,null,null,null,null,null,null,null,null,null,null,null,null,null,null,null,null,null,null,null,null,null,null,null,null,null,null,null,null,null,null,null,null,null,null,null,null,null,null,null,null,null,null,null,null,null,null,null,null,null,null,null,null,null,null,null,null,null,null,null,null,null,null,null,null,null,null,null,null,null,null,null,null,null,null,null,null,null,null,null,null,null,null,null,null,null,null,null,null,null,null,null,null,null,null,null,null,null,null,null,null,null,null,null,null,null,null,null,null,null,null,null,null,null,null,null,null,null,null,null,null,null,null,null,null,null,null,null,null,null,null,null,null,null,null,null,null,null,null,null,null,null,null,null,null,null,null,null,null,null,null,null,null,null,null,null,null,null,null,null,null,null,null,null,null,null,null,null,null,null,null,null,null,null,null,null,null,null,null,null,null,null,null,null,null,null,null,null,null,null,null,null,null,null,null,null,null,null,null,null,null,null,null,null,null,null,null,null,null,null,null,null,null,null,null,1.1111111111111111E-3]
[28,"2018-05-09","2018-05-15","2018-05-15",null,{"$f":"OFFSET('input อุปโภค'!$B$6,$A30,$D$1,1,1)","v":1E-3},null,null,null,null,null,null,null,null,null,null,null,null,null,null,null,null,null,null,null,null,null,null,null,null,null,null,null,null,null,null,null,null,null,null,null,null,null,null,null,null,null,null,null,null,null,null,null,null,null,null,null,null,null,null,null,null,null,null,null,null,null,null,null,null,null,null,null,null,null,null,null,null,null,null,null,null,null,null,null,null,null,null,null,null,null,null,null,null,null,null,null,null,null,null,null,null,null,null,null,null,null,null,null,null,null,null,null,null,null,null,null,null,null,null,null,null,null,null,null,null,null,null,null,null,null,null,null,null,null,null,null,null,null,null,null,null,null,null,null,null,null,null,null,null,null,null,null,null,null,null,null,null,null,null,null,null,null,null,null,null,null,null,null,null,null,null,null,null,null,null,null,null,null,null,null,null,null,null,null,null,null,null,null,null,null,null,null,null,null,null,null,null,null,null,null,null,null,null,null,null,null,null,null,null,null,null,null,null,null,null,null,null,null,null,null,1.1111111111111111E-3]
[29,"2018-05-16","2018-05-22","2018-05-22",null,{"$f":"OFFSET('input อุปโภค'!$B$6,$A31,$D$1,1,1)","v":1E-3},null,null,null,null,null,null,null,null,null,null,null,null,null,null,null,null,null,null,null,null,null,null,null,null,null,null,null,null,null,null,null,null,null,null,null,null,null,null,null,null,null,null,null,null,null,null,null,null,null,null,null,null,null,null,null,null,null,null,null,null,null,null,null,null,null,null,null,null,null,null,null,null,null,null,null,null,null,null,null,null,null,null,null,null,null,null,null,null,null,null,null,null,null,null,null,null,null,null,null,null,null,null,null,null,null,null,null,null,null,null,null,null,null,null,null,null,null,null,null,null,null,null,null,null,null,null,null,null,null,null,null,null,null,null,null,null,null,null,null,null,null,null,null,null,null,null,null,null,null,null,null,null,null,null,null,null,null,null,null,null,null,null,null,null,null,null,null,null,null,null,null,null,null,null,null,null,null,null,null,null,null,null,null,null,null,null,null,null,null,null,null,null,null,null,null,null,null,null,null,null,null,null,null,null,null,null,null,null,null,null,null,null,null,null,null,1.1111111111111111E-3]
[30,"2018-05-23","2018-05-29","2018-05-29",null,{"$f":"OFFSET('input อุปโภค'!$B$6,$A32,$D$1,1,1)","v":1E-3},null,null,null,null,null,null,null,null,null,null,null,null,null,null,null,null,null,null,null,null,null,null,null,null,null,null,null,null,null,null,null,null,null,null,null,null,null,null,null,null,null,null,null,null,null,null,null,null,null,null,null,null,null,null,null,null,null,null,null,null,null,null,null,null,null,null,null,null,null,null,null,null,null,null,null,null,null,null,null,null,null,null,null,null,null,null,null,null,null,null,null,null,null,null,null,null,null,null,null,null,null,null,null,null,null,null,null,null,null,null,null,null,null,null,null,null,null,null,null,null,null,null,null,null,null,null,null,null,null,null,null,null,null,null,null,null,null,null,null,null,null,null,null,null,null,null,null,null,null,null,null,null,null,null,null,null,null,null,null,null,null,null,null,null,null,null,null,null,null,null,null,null,null,null,null,null,null,null,null,null,null,null,null,null,null,null,null,null,null,null,null,null,null,null,null,null,null,null,null,null,null,null,null,null,null,null,null,null,null,null,null,null,null,null,null,1.1111111111111111E-3]
[31,"2018-05-30","2018-06-05","2018-06-05",null,{"$f":"OFFSET('input อุปโภค'!$B$6,$A33,$D$1,1,1)","v":1E-3},null,null,null,null,null,null,null,null,null,null,null,null,null,null,null,null,null,null,null,null,null,null,null,null,null,null,null,null,null,null,null,null,null,null,null,null,null,null,null,null,null,null,null,null,null,null,null,null,null,null,null,null,null,null,null,null,null,null,null,null,null,null,null,null,null,null,null,null,null,null,null,null,null,null,null,null,null,null,null,null,null,null,null,null,null,null,null,null,null,null,null,null,null,null,null,null,null,null,null,null,null,null,null,null,null,null,null,null,null,null,null,null,null,null,null,null,null,null,null,null,null,null,null,null,null,null,null,null,null,null,null,null,null,null,null,null,null,null,null,null,null,null,null,null,null,null,null,null,null,null,null,null,null,null,null,null,null,null,null,null,null,null,null,null,null,null,null,null,null,null,null,null,null,null,null,null,null,null,null,null,null,null,null,null,null,null,null,null,null,null,null,null,null,null,null,null,null,null,null,null,null,null,null,null,null,null,null,null,null,null,null,null,null,null,null,1.1111111111111111E-3]
[32,"2018-06-06","2018-06-12","2018-06-12",null,{"$f":"OFFSET('input อุปโภค'!$B$6,$A34,$D$1,1,1)","v":1E-3},null,null,null,null,null,null,null,null,null,null,null,null,null,null,null,null,null,null,null,null,null,null,null,null,null,null,null,null,null,null,null,null,null,null,null,null,null,null,null,null,null,null,null,null,null,null,null,null,null,null,null,null,null,null,null,null,null,null,null,null,null,null,null,null,null,null,null,null,null,null,null,null,null,null,null,null,null,null,null,null,null,null,null,null,null,null,null,null,null,null,null,null,null,null,null,null,null,null,null,null,null,null,null,null,null,null,null,null,null,null,null,null,null,null,null,null,null,null,null,null,null,null,null,null,null,null,null,null,null,null,null,null,null,null,null,null,null,null,null,null,null,null,null,null,null,null,null,null,null,null,null,null,null,null,null,null,null,null,null,null,null,null,null,null,null,null,null,null,null,null,null,null,null,null,null,null,null,null,null,null,null,null,null,null,null,null,null,null,null,null,null,null,null,null,null,null,null,null,null,null,null,null,null,null,null,null,null,null,null,null,null,null,null,null,null,1.1111111111111111E-3]
[33,"2018-06-13","2018-06-19","2018-06-19",null,{"$f":"OFFSET('input อุปโภค'!$B$6,$A35,$D$1,1,1)","v":1E-3},null,null,null,null,null,null,null,null,null,null,null,null,null,null,null,null,null,null,null,null,null,null,null,null,null,null,null,null,null,null,null,null,null,null,null,null,null,null,null,null,null,null,null,null,null,null,null,null,null,null,null,null,null,null,null,null,null,null,null,null,null,null,null,null,null,null,null,null,null,null,null,null,null,null,null,null,null,null,null,null,null,null,null,null,null,null,null,null,null,null,null,null,null,null,null,null,null,null,null,null,null,null,null,null,null,null,null,null,null,null,null,null,null,null,null,null,null,null,null,null,null,null,null,null,null,null,null,null,null,null,null,null,null,null,null,null,null,null,null,null,null,null,null,null,null,null,null,null,null,null,null,null,null,null,null,null,null,null,null,null,null,null,null,null,null,null,null,null,null,null,null,null,null,null,null,null,null,null,null,null,null,null,null,null,null,null,null,null,null,null,null,null,null,null,null,null,null,null,null,null,null,null,null,null,null,null,null,null,null,null,null,null,null,null,null,1.1111111111111111E-3]
[34,"2018-06-20","2018-06-26","2018-06-26",null,{"$f":"OFFSET('input อุปโภค'!$B$6,$A36,$D$1,1,1)","v":1E-3},null,null,null,null,null,null,null,null,null,null,null,null,null,null,null,null,null,null,null,null,null,null,null,null,null,null,null,null,null,null,null,null,null,null,null,null,null,null,null,null,null,null,null,null,null,null,null,null,null,null,null,null,null,null,null,null,null,null,null,null,null,null,null,null,null,null,null,null,null,null,null,null,null,null,null,null,null,null,null,null,null,null,null,null,null,null,null,null,null,null,null,null,null,null,null,null,null,null,null,null,null,null,null,null,null,null,null,null,null,null,null,null,null,null,null,null,null,null,null,null,null,null,null,null,null,null,null,null,null,null,null,null,null,null,null,null,null,null,null,null,null,null,null,null,null,null,null,null,null,null,null,null,null,null,null,null,null,null,null,null,null,null,null,null,null,null,null,null,null,null,null,null,null,null,null,null,null,null,null,null,null,null,null,null,null,null,null,null,null,null,null,null,null,null,null,null,null,null,null,null,null,null,null,null,null,null,null,null,null,null,null,null,null,null,null,1.1111111111111111E-3]
[35,"2018-06-27","2018-07-03","2018-07-03",null,{"$f":"OFFSET('input อุปโภค'!$B$6,$A37,$D$1,1,1)","v":1E-3},null,null,null,null,null,null,null,null,null,null,null,null,null,null,null,null,null,null,null,null,null,null,null,null,null,null,null,null,null,null,null,null,null,null,null,null,null,null,null,null,null,null,null,null,null,null,null,null,null,null,null,null,null,null,null,null,null,null,null,null,null,null,null,null,null,null,null,null,null,null,null,null,null,null,null,null,null,null,null,null,null,null,null,null,null,null,null,null,null,null,null,null,null,null,null,null,null,null,null,null,null,null,null,null,null,null,null,null,null,null,null,null,null,null,null,null,null,null,null,null,null,null,null,null,null,null,null,null,null,null,null,null,null,null,null,null,null,null,null,null,null,null,null,null,null,null,null,null,null,null,null,null,null,null,null,null,null,null,null,null,null,null,null,null,null,null,null,null,null,null,null,null,null,null,null,null,null,null,null,null,null,null,null,null,null,null,null,null,null,null,null,null,null,null,null,null,null,null,null,null,null,null,null,null,null,null,null,null,null,null,null,null,null,null,null,1.1111111111111111E-3]
[36,"2018-07-04","2018-07-10","2018-07-10",null,{"$f":"OFFSET('input อุปโภค'!$B$6,$A38,$D$1,1,1)","v":1E-3},null,null,null,null,null,null,null,null,null,null,null,null,null,null,null,null,null,null,null,null,null,null,null,null,null,null,null,null,null,null,null,null,null,null,null,null,null,null,null,null,null,null,null,null,null,null,null,null,null,null,null,null,null,null,null,null,null,null,null,null,null,null,null,null,null,null,null,null,null,null,null,null,null,null,null,null,null,null,null,null,null,null,null,null,null,null,null,null,null,null,null,null,null,null,null,null,null,null,null,null,null,null,null,null,null,null,null,null,null,null,null,null,null,null,null,null,null,null,null,null,null,null,null,null,null,null,null,null,null,null,null,null,null,null,null,null,null,null,null,null,null,null,null,null,null,null,null,null,null,null,null,null,null,null,null,null,null,null,null,null,null,null,null,null,null,null,null,null,null,null,null,null,null,null,null,null,null,null,null,null,null,null,null,null,null,null,null,null,null,null,null,null,null,null,null,null,null,null,null,null,null,null,null,null,null,null,null,null,null,null,null,null,null,null,null,1.1111111111111111E-3]
[37,"2018-07-11","2018-07-17","2018-07-17",null,{"$f":"OFFSET('input อุปโภค'!$B$6,$A39,$D$1,1,1)","v":1E-3},null,null,null,null,null,null,null,null,null,null,null,null,null,null,null,null,null,null,null,null,null,null,null,null,null,null,null,null,null,null,null,null,null,null,null,null,null,null,null,null,null,null,null,null,null,null,null,null,null,null,null,null,null,null,null,null,null,null,null,null,null,null,null,null,null,null,null,null,null,null,null,null,null,null,null,null,null,null,null,null,null,null,null,null,null,null,null,null,null,null,null,null,null,null,null,null,null,null,null,null,null,null,null,null,null,null,null,null,null,null,null,null,null,null,null,null,null,null,null,null,null,null,null,null,null,null,null,null,null,null,null,null,null,null,null,null,null,null,null,null,null,null,null,null,null,null,null,null,null,null,null,null,null,null,null,null,null,null,null,null,null,null,null,null,null,null,null,null,null,null,null,null,null,null,null,null,null,null,null,null,null,null,null,null,null,null,null,null,null,null,null,null,null,null,null,null,null,null,null,null,null,null,null,null,null,null,null,null,null,null,null,null,null,null,null,1.1111111111111111E-3]
[38,"2018-07-18","2018-07-24","2018-07-24",null,{"$f":"OFFSET('input อุปโภค'!$B$6,$A40,$D$1,1,1)","v":1E-3},null,null,null,null,null,null,null,null,null,null,null,null,null,null,null,null,null,null,null,null,null,null,null,null,null,null,null,null,null,null,null,null,null,null,null,null,null,null,null,null,null,null,null,null,null,null,null,null,null,null,null,null,null,null,null,null,null,null,null,null,null,null,null,null,null,null,null,null,null,null,null,null,null,null,null,null,null,null,null,null,null,null,null,null,null,null,null,null,null,null,null,null,null,null,null,null,null,null,null,null,null,null,null,null,null,null,null,null,null,null,null,null,null,null,null,null,null,null,null,null,null,null,null,null,null,null,null,null,null,null,null,null,null,null,null,null,null,null,null,null,null,null,null,null,null,null,null,null,null,null,null,null,null,null,null,null,null,null,null,null,null,null,null,null,null,null,null,null,null,null,null,null,null,null,null,null,null,null,null,null,null,null,null,null,null,null,null,null,null,null,null,null,null,null,null,null,null,null,null,null,null,null,null,null,null,null,null,null,null,null,null,null,null,null,null,1.1111111111111111E-3]
[39,"2018-07-25","2018-07-31","2018-07-31",null,{"$f":"OFFSET('input อุปโภค'!$B$6,$A41,$D$1,1,1)","v":1E-3},null,null,null,null,null,null,null,null,null,null,null,null,null,null,null,null,null,null,null,null,null,null,null,null,null,null,null,null,null,null,null,null,null,null,null,null,null,null,null,null,null,null,null,null,null,null,null,null,null,null,null,null,null,null,null,null,null,null,null,null,null,null,null,null,null,null,null,null,null,null,null,null,null,null,null,null,null,null,null,null,null,null,null,null,null,null,null,null,null,null,null,null,null,null,null,null,null,null,null,null,null,null,null,null,null,null,null,null,null,null,null,null,null,null,null,null,null,null,null,null,null,null,null,null,null,null,null,null,null,null,null,null,null,null,null,null,null,null,null,null,null,null,null,null,null,null,null,null,null,null,null,null,null,null,null,null,null,null,null,null,null,null,null,null,null,null,null,null,null,null,null,null,null,null,null,null,null,null,null,null,null,null,null,null,null,null,null,null,null,null,null,null,null,null,null,null,null,null,null,null,null,null,null,null,null,null,null,null,null,null,null,null,null,null,null,1.1111111111111111E-3]
[40,"2018-08-01","2018-08-07","2018-08-07",null,{"$f":"OFFSET('input อุปโภค'!$B$6,$A42,$D$1,1,1)","v":1E-3},null,null,null,null,null,null,null,null,null,null,null,null,null,null,null,null,null,null,null,null,null,null,null,null,null,null,null,null,null,null,null,null,null,null,null,null,null,null,null,null,null,null,null,null,null,null,null,null,null,null,null,null,null,null,null,null,null,null,null,null,null,null,null,null,null,null,null,null,null,null,null,null,null,null,null,null,null,null,null,null,null,null,null,null,null,null,null,null,null,null,null,null,null,null,null,null,null,null,null,null,null,null,null,null,null,null,null,null,null,null,null,null,null,null,null,null,null,null,null,null,null,null,null,null,null,null,null,null,null,null,null,null,null,null,null,null,null,null,null,null,null,null,null,null,null,null,null,null,null,null,null,null,null,null,null,null,null,null,null,null,null,null,null,null,null,null,null,null,null,null,null,null,null,null,null,null,null,null,null,null,null,null,null,null,null,null,null,null,null,null,null,null,null,null,null,null,null,null,null,null,null,null,null,null,null,null,null,null,null,null,null,null,null,null,null,1.1111111111111111E-3]
[41,"2018-08-08","2018-08-14","2018-08-14",null,{"$f":"OFFSET('input อุปโภค'!$B$6,$A43,$D$1,1,1)","v":1E-3},null,null,null,null,null,null,null,null,null,null,null,null,null,null,null,null,null,null,null,null,null,null,null,null,null,null,null,null,null,null,null,null,null,null,null,null,null,null,null,null,null,null,null,null,null,null,null,null,null,null,null,null,null,null,null,null,null,null,null,null,null,null,null,null,null,null,null,null,null,null,null,null,null,null,null,null,null,null,null,null,null,null,null,null,null,null,null,null,null,null,null,null,null,null,null,null,null,null,null,null,null,null,null,null,null,null,null,null,null,null,null,null,null,null,null,null,null,null,null,null,null,null,null,null,null,null,null,null,null,null,null,null,null,null,null,null,null,null,null,null,null,null,null,null,null,null,null,null,null,null,null,null,null,null,null,null,null,null,null,null,null,null,null,null,null,null,null,null,null,null,null,null,null,null,null,null,null,null,null,null,null,null,null,null,null,null,null,null,null,null,null,null,null,null,null,null,null,null,null,null,null,null,null,null,null,null,null,null,null,null,null,null,null,null,null,1.1111111111111111E-3]
[42,"2018-08-15","2018-08-21","2018-08-21",null,{"$f":"OFFSET('input อุปโภค'!$B$6,$A44,$D$1,1,1)","v":1E-3},null,null,null,null,null,null,null,null,null,null,null,null,null,null,null,null,null,null,null,null,null,null,null,null,null,null,null,null,null,null,null,null,null,null,null,null,null,null,null,null,null,null,null,null,null,null,null,null,null,null,null,null,null,null,null,null,null,null,null,null,null,null,null,null,null,null,null,null,null,null,null,null,null,null,null,null,null,null,null,null,null,null,null,null,null,null,null,null,null,null,null,null,null,null,null,null,null,null,null,null,null,null,null,null,null,null,null,null,null,null,null,null,null,null,null,null,null,null,null,null,null,null,null,null,null,null,null,null,null,null,null,null,null,null,null,null,null,null,null,null,null,null,null,null,null,null,null,null,null,null,null,null,null,null,null,null,null,null,null,null,null,null,null,null,null,null,null,null,null,null,null,null,null,null,null,null,null,null,null,null,null,null,null,null,null,null,null,null,null,null,null,null,null,null,null,null,null,null,null,null,null,null,null,null,null,null,null,null,null,null,null,null,null,null,null,1.1111111111111111E-3]
[43,"2018-08-22","2018-08-28","2018-08-28",null,{"$f":"OFFSET('input อุปโภค'!$B$6,$A45,$D$1,1,1)","v":1E-3},null,null,null,null,null,null,null,null,null,null,null,null,null,null,null,null,null,null,null,null,null,null,null,null,null,null,null,null,null,null,null,null,null,null,null,null,null,null,null,null,null,null,null,null,null,null,null,null,null,null,null,null,null,null,null,null,null,null,null,null,null,null,null,null,null,null,null,null,null,null,null,null,null,null,null,null,null,null,null,null,null,null,null,null,null,null,null,null,null,null,null,null,null,null,null,null,null,null,null,null,null,null,null,null,null,null,null,null,null,null,null,null,null,null,null,null,null,null,null,null,null,null,null,null,null,null,null,null,null,null,null,null,null,null,null,null,null,null,null,null,null,null,null,null,null,null,null,null,null,null,null,null,null,null,null,null,null,null,null,null,null,null,null,null,null,null,null,null,null,null,null,null,null,null,null,null,null,null,null,null,null,null,null,null,null,null,null,null,null,null,null,null,null,null,null,null,null,null,null,null,null,null,null,null,null,null,null,null,null,null,null,null,null,null,null,1.1111111111111111E-3]
[44,"2018-08-29","2018-09-04","2018-09-04",null,{"$f":"OFFSET('input อุปโภค'!$B$6,$A46,$D$1,1,1)","v":1E-3},null,null,null,null,null,null,null,null,null,null,null,null,null,null,null,null,null,null,null,null,null,null,null,null,null,null,null,null,null,null,null,null,null,null,null,null,null,null,null,null,null,null,null,null,null,null,null,null,null,null,null,null,null,null,null,null,null,null,null,null,null,null,null,null,null,null,null,null,null,null,null,null,null,null,null,null,null,null,null,null,null,null,null,null,null,null,null,null,null,null,null,null,null,null,null,null,null,null,null,null,null,null,null,null,null,null,null,null,null,null,null,null,null,null,null,null,null,null,null,null,null,null,null,null,null,null,null,null,null,null,null,null,null,null,null,null,null,null,null,null,null,null,null,null,null,null,null,null,null,null,null,null,null,null,null,null,null,null,null,null,null,null,null,null,null,null,null,null,null,null,null,null,null,null,null,null,null,null,null,null,null,null,null,null,null,null,null,null,null,null,null,null,null,null,null,null,null,null,null,null,null,null,null,null,null,null,null,null,null,null,null,null,null,null,null,1.1111111111111111E-3]
[45,"2018-09-05","2018-09-11","2018-09-11",null,{"$f":"OFFSET('input อุปโภค'!$B$6,$A47,$D$1,1,1)","v":1E-3},null,null,null,null,null,null,null,null,null,null,null,null,null,null,null,null,null,null,null,null,null,null,null,null,null,null,null,null,null,null,null,null,null,null,null,null,null,null,null,null,null,null,null,null,null,null,null,null,null,null,null,null,null,null,null,null,null,null,null,null,null,null,null,null,null,null,null,null,null,null,null,null,null,null,null,null,null,null,null,null,null,null,null,null,null,null,null,null,null,null,null,null,null,null,null,null,null,null,null,null,null,null,null,null,null,null,null,null,null,null,null,null,null,null,null,null,null,null,null,null,null,null,null,null,null,null,null,null,null,null,null,null,null,null,null,null,null,null,null,null,null,null,null,null,null,null,null,null,null,null,null,null,null,null,null,null,null,null,null,null,null,null,null,null,null,null,null,null,null,null,null,null,null,null,null,null,null,null,null,null,null,null,null,null,null,null,null,null,null,null,null,null,null,null,null,null,null,null,null,null,null,null,null,null,null,null,null,null,null,null,null,null,null,null,null,1.1111111111111111E-3]
[46,"2018-09-12","2018-09-18","2018-09-18",null,{"$f":"OFFSET('input อุปโภค'!$B$6,$A48,$D$1,1,1)","v":1E-3},null,null,null,null,null,null,null,null,null,null,null,null,null,null,null,null,null,null,null,null,null,null,null,null,null,null,null,null,null,null,null,null,null,null,null,null,null,null,null,null,null,null,null,null,null,null,null,null,null,null,null,null,null,null,null,null,null,null,null,null,null,null,null,null,null,null,null,null,null,null,null,null,null,null,null,null,null,null,null,null,null,null,null,null,null,null,null,null,null,null,null,null,null,null,null,null,null,null,null,null,null,null,null,null,null,null,null,null,null,null,null,null,null,null,null,null,null,null,null,null,null,null,null,null,null,null,null,null,null,null,null,null,null,null,null,null,null,null,null,null,null,null,null,null,null,null,null,null,null,null,null,null,null,null,null,null,null,null,null,null,null,null,null,null,null,null,null,null,null,null,null,null,null,null,null,null,null,null,null,null,null,null,null,null,null,null,null,null,null,null,null,null,null,null,null,null,null,null,null,null,null,null,null,null,null,null,null,null,null,null,null,null,null,null,null,1.1111111111111111E-3]
[47,"2018-09-19","2018-09-25","2018-09-25",null,{"$f":"OFFSET('input อุปโภค'!$B$6,$A49,$D$1,1,1)","v":1E-3},null,null,null,null,null,null,null,null,null,null,null,null,null,null,null,null,null,null,null,null,null,null,null,null,null,null,null,null,null,null,null,null,null,null,null,null,null,null,null,null,null,null,null,null,null,null,null,null,null,null,null,null,null,null,null,null,null,null,null,null,null,null,null,null,null,null,null,null,null,null,null,null,null,null,null,null,null,null,null,null,null,null,null,null,null,null,null,null,null,null,null,null,null,null,null,null,null,null,null,null,null,null,null,null,null,null,null,null,null,null,null,null,null,null,null,null,null,null,null,null,null,null,null,null,null,null,null,null,null,null,null,null,null,null,null,null,null,null,null,null,null,null,null,null,null,null,null,null,null,null,null,null,null,null,null,null,null,null,null,null,null,null,null,null,null,null,null,null,null,null,null,null,null,null,null,null,null,null,null,null,null,null,null,null,null,null,null,null,null,null,null,null,null,null,null,null,null,null,null,null,null,null,null,null,null,null,null,null,null,null,null,null,null,null,null,1.1111111111111111E-3]
[48,"2018-09-26","2018-10-02","2018-10-02",null,{"$f":"OFFSET('input อุปโภค'!$B$6,$A50,$D$1,1,1)","v":1E-3},null,null,null,null,null,null,null,null,null,null,null,null,null,null,null,null,null,null,null,null,null,null,null,null,null,null,null,null,null,null,null,null,null,null,null,null,null,null,null,null,null,null,null,null,null,null,null,null,null,null,null,null,null,null,null,null,null,null,null,null,null,null,null,null,null,null,null,null,null,null,null,null,null,null,null,null,null,null,null,null,null,null,null,null,null,null,null,null,null,null,null,null,null,null,null,null,null,null,null,null,null,null,null,null,null,null,null,null,null,null,null,null,null,null,null,null,null,null,null,null,null,null,null,null,null,null,null,null,null,null,null,null,null,null,null,null,null,null,null,null,null,null,null,null,null,null,null,null,null,null,null,null,null,null,null,null,null,null,null,null,null,null,null,null,null,null,null,null,null,null,null,null,null,null,null,null,null,null,null,null,null,null,null,null,null,null,null,null,null,null,null,null,null,null,null,null,null,null,null,null,null,null,null,null,null,null,null,null,null,null,null,null,null,null,null,1.1111111111111111E-3]
[49,"2018-10-03","2018-10-09","2018-10-09",null,{"$f":"OFFSET('input อุปโภค'!$B$6,$A51,$D$1,1,1)","v":1E-3},null,null,null,null,null,null,null,null,null,null,null,null,null,null,null,null,null,null,null,null,null,null,null,null,null,null,null,null,null,null,null,null,null,null,null,null,null,null,null,null,null,null,null,null,null,null,null,null,null,null,null,null,null,null,null,null,null,null,null,null,null,null,null,null,null,null,null,null,null,null,null,null,null,null,null,null,null,null,null,null,null,null,null,null,null,null,null,null,null,null,null,null,null,null,null,null,null,null,null,null,null,null,null,null,null,null,null,null,null,null,null,null,null,null,null,null,null,null,null,null,null,null,null,null,null,null,null,null,null,null,null,null,null,null,null,null,null,null,null,null,null,null,null,null,null,null,null,null,null,null,null,null,null,null,null,null,null,null,null,null,null,null,null,null,null,null,null,null,null,null,null,null,null,null,null,null,null,null,null,null,null,null,null,null,null,null,null,null,null,null,null,null,null,null,null,null,null,null,null,null,null,null,null,null,null,null,null,null,null,null,null,null,null,null,null,1.1111111111111111E-3]
[50,"2018-10-10","2018-10-16","2018-10-16",null,{"$f":"OFFSET('input อุปโภค'!$B$6,$A52,$D$1,1,1)","v":1E-3},null,null,null,null,null,null,null,null,null,null,null,null,null,null,null,null,null,null,null,null,null,null,null,null,null,null,null,null,null,null,null,null,null,null,null,null,null,null,null,null,null,null,null,null,null,null,null,null,null,null,null,null,null,null,null,null,null,null,null,null,null,null,null,null,null,null,null,null,null,null,null,null,null,null,null,null,null,null,null,null,null,null,null,null,null,null,null,null,null,null,null,null,null,null,null,null,null,null,null,null,null,null,null,null,null,null,null,null,null,null,null,null,null,null,null,null,null,null,null,null,null,null,null,null,null,null,null,null,null,null,null,null,null,null,null,null,null,null,null,null,null,null,null,null,null,null,null,null,null,null,null,null,null,null,null,null,null,null,null,null,null,null,null,null,null,null,null,null,null,null,null,null,null,null,null,null,null,null,null,null,null,null,null,null,null,null,null,null,null,null,null,null,null,null,null,null,null,null,null,null,null,null,null,null,null,null,null,null,null,null,null,null,null,null,null,1.1111111111111111E-3]
[51,"2018-10-17","2018-10-23","2018-10-23",null,{"$f":"OFFSET('input อุปโภค'!$B$6,$A53,$D$1,1,1)","v":1E-3},null,null,null,null,null,null,null,null,null,null,null,null,null,null,null,null,null,null,null,null,null,null,null,null,null,null,null,null,null,null,null,null,null,null,null,null,null,null,null,null,null,null,null,null,null,null,null,null,null,null,null,null,null,null,null,null,null,null,null,null,null,null,null,null,null,null,null,null,null,null,null,null,null,null,null,null,null,null,null,null,null,null,null,null,null,null,null,null,null,null,null,null,null,null,null,null,null,null,null,null,null,null,null,null,null,null,null,null,null,null,null,null,null,null,null,null,null,null,null,null,null,null,null,null,null,null,null,null,null,null,null,null,null,null,null,null,null,null,null,null,null,null,null,null,null,null,null,null,null,null,null,null,null,null,null,null,null,null,null,null,null,null,null,null,null,null,null,null,null,null,null,null,null,null,null,null,null,null,null,null,null,null,null,null,null,null,null,null,null,null,null,null,null,null,null,null,null,null,null,null,null,null,null,null,null,null,null,null,null,null,null,null,null,null,null,1.1111111111111111E-3]
[52,"2018-10-24","2018-10-30","2018-10-30",null,{"$f":"OFFSET('input อุปโภค'!$B$6,$A54,$D$1,1,1)","v":1E-3},null,null,null,null,null,null,null,null,null,null,null,null,null,null,null,null,null,null,null,null,null,null,null,null,null,null,null,null,null,null,null,null,null,null,null,null,null,null,null,null,null,null,null,null,null,null,null,null,null,null,null,null,null,null,null,null,null,null,null,null,null,null,null,null,null,null,null,null,null,null,null,null,null,null,null,null,null,null,null,null,null,null,null,null,null,null,null,null,null,null,null,null,null,null,null,null,null,null,null,null,null,null,null,null,null,null,null,null,null,null,null,null,null,null,null,null,null,null,null,null,null,null,null,null,null,null,null,null,null,null,null,null,null,null,null,null,null,null,null,null,null,null,null,null,null,null,null,null,null,null,null,null,null,null,null,null,null,null,null,null,null,null,null,null,null,null,null,null,null,null,null,null,null,null,null,null,null,null,null,null,null,null,null,null,null,null,null,null,null,null,null,null,null,null,null,null,null,null,null,null,null,null,null,null,null,null,null,null,null,null,null,null,null,null,null,1.1111111111111111E-3]
[53,"2018-10-31","2018-11-06","2018-11-06",null,{"$f":"OFFSET('input อุปโภค'!$B$6,$A55,$D$1,1,1)","v":0},null,null,null,null,null,null,null,null,null,null,null,null,null,null,null,null,null,null,null,null,null,null,null,null,null,null,null,null,null,null,null,null,null,null,null,null,null,null,null,null,null,null,null,null,null,null,null,null,null,null,null,null,null,null,null,null,null,null,null,null,null,null,null,null,null,null,null,null,null,null,null,null,null,null,null,null,null,null,null,null,null,null,null,null,null,null,null,null,null,null,null,null,null,null,null,null,null,null,null,null,null,null,null,null,null,null,null,null,null,null,null,null,null,null,null,null,null,null,null,null,null,null,null,null,null,null,null,null,null,null,null,null,null,null,null,null,null,null,null,null,null,null,null,null,null,null,null,null,null,null,null,null,null,null,null,null,null,null,null,null,null,null,null,null,null,null,null,null,null,null,null,null,null,null,null,null,null,null,null,null,null,null,null,null,null,null,null,null,null,null,null,null,null,null,null,null,null,null,null,null,null,null,null,null,null,null,null,null,null,null,null,null,null,null,null,0]
[54,null,null,"00:00:00",null,{"$f":"OFFSET('input อุปโภค'!$B$6,$A56,$D$1,1,1)","v":0},null,null,null,null,null,null,null,null,null,null,null,null,null,null,null,null,null,null,null,null,null,null,null,null,null,null,null,null,null,null,null,null,null,null,null,null,null,null,null,null,null,null,null,null,null,null,null,null,null,null,null,null,null,null,null,null,null,null,null,null,null,null,null,null,null,null,null,null,null,null,null,null,null,null,null,null,null,null,null,null,null,null,null,null,null,null,null,null,null,null,null,null,null,null,null,null,null,null,null,null,null,null,null,null,null,null,null,null,null,null,null,null,null,null,null,null,null,null,null,null,null,null,null,null,null,null,null,null,null,null,null,null,null,null,null,null,null,null,null,null,null,null,null,null,null,null,null,null,null,null,null,null,null,null,null,null,null,null,null,null,null,null,null,null,null,null,null,null,null,null,null,null,null,null,null,null,null,null,null,null,null,null,null,null,null,null,null,null,null,null,null,null,null,null,null,null,null,null,null,null,null,null,null,null,null,null,null,null,null,null,null,null,null,null,null,0]
[55,null,null,"00:00:00",null,{"$f":"OFFSET('input อุปโภค'!$B$6,$A57,$D$1,1,1)","v":0},null,null,null,null,null,null,null,null,null,null,null,null,null,null,null,null,null,null,null,null,null,null,null,null,null,null,null,null,null,null,null,null,null,null,null,null,null,null,null,null,null,null,null,null,null,null,null,null,null,null,null,null,null,null,null,null,null,null,null,null,null,null,null,null,null,null,null,null,null,null,null,null,null,null,null,null,null,null,null,null,null,null,null,null,null,null,null,null,null,null,null,null,null,null,null,null,null,null,null,null,null,null,null,null,null,null,null,null,null,null,null,null,null,null,null,null,null,null,null,null,null,null,null,null,null,null,null,null,null,null,null,null,null,null,null,null,null,null,null,null,null,null,null,null,null,null,null,null,null,null,null,null,null,null,null,null,null,null,null,null,null,null,null,null,null,null,null,null,null,null,null,null,null,null,null,null,null,null,null,null,null,null,null,null,null,null,null,null,null,null,null,null,null,null,null,null,null,null,null,null,null,null,null,null,null,null,null,null,null,null,null,null,null,null,null,0]
[56,null,null,"00:00:00",null,{"$f":"OFFSET('input อุปโภค'!$B$6,$A58,$D$1,1,1)","v":0},null,null,null,null,null,null,null,null,null,null,null,null,null,null,null,null,null,null,null,null,null,null,null,null,null,null,null,null,null,null,null,null,null,null,null,null,null,null,null,null,null,null,null,null,null,null,null,null,null,null,null,null,null,null,null,null,null,null,null,null,null,null,null,null,null,null,null,null,null,null,null,null,null,null,null,null,null,null,null,null,null,null,null,null,null,null,null,null,null,null,null,null,null,null,null,null,null,null,null,null,null,null,null,null,null,null,null,null,null,null,null,null,null,null,null,null,null,null,null,null,null,null,null,null,null,null,null,null,null,null,null,null,null,null,null,null,null,null,null,null,null,null,null,null,null,null,null,null,null,null,null,null,null,null,null,null,null,null,null,null,null,null,null,null,null,null,null,null,null,null,null,null,null,null,null,null,null,null,null,null,null,null,null,null,null,null,null,null,null,null,null,null,null,null,null,null,null,null,null,null,null,null,null,null,null,null,null,null,null,null,null,null,null,null,null,0]
[57,null,null,"00:00:00",null,{"$f":"OFFSET('input อุปโภค'!$B$6,$A59,$D$1,1,1)","v":0},null,null,null,null,null,null,null,null,null,null,null,null,null,null,null,null,null,null,null,null,null,null,null,null,null,null,null,null,null,null,null,null,null,null,null,null,null,null,null,null,null,null,null,null,null,null,null,null,null,null,null,null,null,null,null,null,null,null,null,null,null,null,null,null,null,null,null,null,null,null,null,null,null,null,null,null,null,null,null,null,null,null,null,null,null,null,null,null,null,null,null,null,null,null,null,null,null,null,null,null,null,null,null,null,null,null,null,null,null,null,null,null,null,null,null,null,null,null,null,null,null,null,null,null,null,null,null,null,null,null,null,null,null,null,null,null,null,null,null,null,null,null,null,null,null,null,null,null,null,null,null,null,null,null,null,null,null,null,null,null,null,null,null,null,null,null,null,null,null,null,null,null,null,null,null,null,null,null,null,null,null,null,null,null,null,null,null,null,null,null,null,null,null,null,null,null,null,null,null,null,null,null,null,null,null,null,null,null,null,null,null,null,null,null,null,0]
[58,null,null,"00:00:00",null,{"$f":"OFFSET('input อุปโภค'!$B$6,$A60,$D$1,1,1)","v":0},null,null,null,null,null,null,null,null,null,null,null,null,null,null,null,null,null,null,null,null,null,null,null,null,null,null,null,null,null,null,null,null,null,null,null,null,null,null,null,null,null,null,null,null,null,null,null,null,null,null,null,null,null,null,null,null,null,null,null,null,null,null,null,null,null,null,null,null,null,null,null,null,null,null,null,null,null,null,null,null,null,null,null,null,null,null,null,null,null,null,null,null,null,null,null,null,null,null,null,null,null,null,null,null,null,null,null,null,null,null,null,null,null,null,null,null,null,null,null,null,null,null,null,null,null,null,null,null,null,null,null,null,null,null,null,null,null,null,null,null,null,null,null,null,null,null,null,null,null,null,null,null,null,null,null,null,null,null,null,null,null,null,null,null,null,null,null,null,null,null,null,null,null,null,null,null,null,null,null,null,null,null,null,null,null,null,null,null,null,null,null,null,null,null,null,null,null,null,null,null,null,null,null,null,null,null,null,null,null,null,null,null,null,null,null,0]
[59,null,null,"00:00:00",null,{"$f":"OFFSET('input อุปโภค'!$B$6,$A61,$D$1,1,1)","v":0},null,null,null,null,null,null,null,null,null,null,null,null,null,null,null,null,null,null,null,null,null,null,null,null,null,null,null,null,null,null,null,null,null,null,null,null,null,null,null,null,null,null,null,null,null,null,null,null,null,null,null,null,null,null,null,null,null,null,null,null,null,null,null,null,null,null,null,null,null,null,null,null,null,null,null,null,null,null,null,null,null,null,null,null,null,null,null,null,null,null,null,null,null,null,null,null,null,null,null,null,null,null,null,null,null,null,null,null,null,null,null,null,null,null,null,null,null,null,null,null,null,null,null,null,null,null,null,null,null,null,null,null,null,null,null,null,null,null,null,null,null,null,null,null,null,null,null,null,null,null,null,null,null,null,null,null,null,null,null,null,null,null,null,null,null,null,null,null,null,null,null,null,null,null,null,null,null,null,null,null,null,null,null,null,null,null,null,null,null,null,null,null,null,null,null,null,null,null,null,null,null,null,null,null,null,null,null,null,null,null,null,null,null,null,null,0]
[60,null,null,"00:00:00",null,{"$f":"OFFSET('input อุปโภค'!$B$6,$A62,$D$1,1,1)","v":0},null,null,null,null,null,null,null,null,null,null,null,null,null,null,null,null,null,null,null,null,null,null,null,null,null,null,null,null,null,null,null,null,null,null,null,null,null,null,null,null,null,null,null,null,null,null,null,null,null,null,null,null,null,null,null,null,null,null,null,null,null,null,null,null,null,null,null,null,null,null,null,null,null,null,null,null,null,null,null,null,null,null,null,null,null,null,null,null,null,null,null,null,null,null,null,null,null,null,null,null,null,null,null,null,null,null,null,null,null,null,null,null,null,null,null,null,null,null,null,null,null,null,null,null,null,null,null,null,null,null,null,null,null,null,null,null,null,null,null,null,null,null,null,null,null,null,null,null,null,null,null,null,null,null,null,null,null,null,null,null,null,null,null,null,null,null,null,null,null,null,null,null,null,null,null,null,null,null,null,null,null,null,null,null,null,null,null,null,null,null,null,null,null,null,null,null,null,null,null,null,null,null,null,null,null,null,null,null,null,null,null,null,null,null,null,0]
[61,null,null,"00:00:00",null,{"$f":"OFFSET('input อุปโภค'!$B$6,$A63,$D$1,1,1)","v":0},null,null,null,null,null,null,null,null,null,null,null,null,null,null,null,null,null,null,null,null,null,null,null,null,null,null,null,null,null,null,null,null,null,null,null,null,null,null,null,null,null,null,null,null,null,null,null,null,null,null,null,null,null,null,null,null,null,null,null,null,null,null,null,null,null,null,null,null,null,null,null,null,null,null,null,null,null,null,null,null,null,null,null,null,null,null,null,null,null,null,null,null,null,null,null,null,null,null,null,null,null,null,null,null,null,null,null,null,null,null,null,null,null,null,null,null,null,null,null,null,null,null,null,null,null,null,null,null,null,null,null,null,null,null,null,null,null,null,null,null,null,null,null,null,null,null,null,null,null,null,null,null,null,null,null,null,null,null,null,null,null,null,null,null,null,null,null,null,null,null,null,null,null,null,null,null,null,null,null,null,null,null,null,null,null,null,null,null,null,null,null,null,null,null,null,null,null,null,null,null,null,null,null,null,null,null,null,null,null,null,null,null,null,null,null,0]
[62,null,null,"00:00:00",null,{"$f":"OFFSET('input อุปโภค'!$B$6,$A64,$D$1,1,1)","v":0},null,null,null,null,null,null,null,null,null,null,null,null,null,null,null,null,null,null,null,null,null,null,null,null,null,null,null,null,null,null,null,null,null,null,null,null,null,null,null,null,null,null,null,null,null,null,null,null,null,null,null,null,null,null,null,null,null,null,null,null,null,null,null,null,null,null,null,null,null,null,null,null,null,null,null,null,null,null,null,null,null,null,null,null,null,null,null,null,null,null,null,null,null,null,null,null,null,null,null,null,null,null,null,null,null,null,null,null,null,null,null,null,null,null,null,null,null,null,null,null,null,null,null,null,null,null,null,null,null,null,null,null,null,null,null,null,null,null,null,null,null,null,null,null,null,null,null,null,null,null,null,null,null,null,null,null,null,null,null,null,null,null,null,null,null,null,null,null,null,null,null,null,null,null,null,null,null,null,null,null,null,null,null,null,null,null,null,null,null,null,null,null,null,null,null,null,null,null,null,null,null,null,null,null,null,null,null,null,null,null,null,null,null,null,null,0]
[63,null,null,"00:00:00",null,{"$f":"OFFSET('input อุปโภค'!$B$6,$A65,$D$1,1,1)","v":0},null,null,null,null,null,null,null,null,null,null,null,null,null,null,null,null,null,null,null,null,null,null,null,null,null,null,null,null,null,null,null,null,null,null,null,null,null,null,null,null,null,null,null,null,null,null,null,null,null,null,null,null,null,null,null,null,null,null,null,null,null,null,null,null,null,null,null,null,null,null,null,null,null,null,null,null,null,null,null,null,null,null,null,null,null,null,null,null,null,null,null,null,null,null,null,null,null,null,null,null,null,null,null,null,null,null,null,null,null,null,null,null,null,null,null,null,null,null,null,null,null,null,null,null,null,null,null,null,null,null,null,null,null,null,null,null,null,null,null,null,null,null,null,null,null,null,null,null,null,null,null,null,null,null,null,null,null,null,null,null,null,null,null,null,null,null,null,null,null,null,null,null,null,null,null,null,null,null,null,null,null,null,null,null,null,null,null,null,null,null,null,null,null,null,null,null,null,null,null,null,null,null,null,null,null,null,null,null,null,null,null,null,null,null,null,0]
[64,null,null,"00:00:00",null,{"$f":"OFFSET('input อุปโภค'!$B$6,$A66,$D$1,1,1)","v":0},null,null,null,null,null,null,null,null,null,null,null,null,null,null,null,null,null,null,null,null,null,null,null,null,null,null,null,null,null,null,null,null,null,null,null,null,null,null,null,null,null,null,null,null,null,null,null,null,null,null,null,null,null,null,null,null,null,null,null,null,null,null,null,null,null,null,null,null,null,null,null,null,null,null,null,null,null,null,null,null,null,null,null,null,null,null,null,null,null,null,null,null,null,null,null,null,null,null,null,null,null,null,null,null,null,null,null,null,null,null,null,null,null,null,null,null,null,null,null,null,null,null,null,null,null,null,null,null,null,null,null,null,null,null,null,null,null,null,null,null,null,null,null,null,null,null,null,null,null,null,null,null,null,null,null,null,null,null,null,null,null,null,null,null,null,null,null,null,null,null,null,null,null,null,null,null,null,null,null,null,null,null,null,null,null,null,null,null,null,null,null,null,null,null,null,null,null,null,null,null,null,null,null,null,null,null,null,null,null,null,null,null,null,null,null,0]
[65,null,null,{"$f":"+C67","v":"00:00:00"},null,{"$f":"OFFSET('input อุปโภค'!$B$6,$A67,$D$1,1,1)","v":0},null,null,null,null,null,null,null,null,null,null,null,null,null,null,null,null,null,null,null,null,null,null,null,null,null,null,null,null,null,null,null,null,null,null,null,null,null,null,null,null,null,null,null,null,null,null,null,null,null,null,null,null,null,null,null,null,null,null,null,null,null,null,null,null,null,null,null,null,null,null,null,null,null,null,null,null,null,null,null,null,null,null,null,null,null,null,null,null,null,null,null,null,null,null,null,null,null,null,null,null,null,null,null,null,null,null,null,null,null,null,null,null,null,null,null,null,null,null,null,null,null,null,null,null,null,null,null,null,null,null,null,null,null,null,null,null,null,null,null,null,null,null,null,null,null,null,null,null,null,null,null,null,null,null,null,null,null,null,null,null,null,null,null,null,null,null,null,null,null,null,null,null,null,null,null,null,null,null,null,null,null,null,null,null,null,null,null,null,null,null,null,null,null,null,null,null,null,null,null,null,null,null,null,null,null,null,null,null,null,null,null,null,null,null,null,0]
[66,null,null,"00:00:00",null,{"$f":"OFFSET('input อุปโภค'!$B$6,$A68,$D$1,1,1)","v":0},null,null,null,null,null,null,null,null,null,null,null,null,null,null,null,null,null,null,null,null,null,null,null,null,null,null,null,null,null,null,null,null,null,null,null,null,null,null,null,null,null,null,null,null,null,null,null,null,null,null,null,null,null,null,null,null,null,null,null,null,null,null,null,null,null,null,null,null,null,null,null,null,null,null,null,null,null,null,null,null,null,null,null,null,null,null,null,null,null,null,null,null,null,null,null,null,null,null,null,null,null,null,null,null,null,null,null,null,null,null,null,null,null,null,null,null,null,null,null,null,null,null,null,null,null,null,null,null,null,null,null,null,null,null,null,null,null,null,null,null,null,null,null,null,null,null,null,null,null,null,null,null,null,null,null,null,null,null,null,null,null,null,null,null,null,null,null,null,null,null,null,null,null,null,null,null,null,null,null,null,null,null,null,null,null,null,null,null,null,null,null,null,null,null,null,null,null,null,null,null,null,null,null,null,null,null,null,null,null,null,null,null,null,null,null,{"$f":"F68*100/$HO$2","v":0}]
[67,null,null,"00:00:00",null,{"$f":"OFFSET('input อุปโภค'!$B$6,$A69,$D$1,1,1)","v":0},null,null,null,null,null,null,null,null,null,null,null,null,null,null,null,null,null,null,null,null,null,null,null,null,null,null,null,null,null,null,null,null,null,null,null,null,null,null,null,null,null,null,null,null,null,null,null,null,null,null,null,null,null,null,null,null,null,null,null,null,null,null,null,null,null,null,null,null,null,null,null,null,null,null,null,null,null,null,null,null,null,null,null,null,null,null,null,null,null,null,null,null,null,null,null,null,null,null,null,null,null,null,null,null,null,null,null,null,null,null,null,null,null,null,null,null,null,null,null,null,null,null,null,null,null,null,null,null,null,null,null,null,null,null,null,null,null,null,null,null,null,null,null,null,null,null,null,null,null,null,null,null,null,null,null,null,null,null,null,null,null,null,null,null,null,null,null,null,null,null,null,null,null,null,null,null,null,null,null,null,null,null,null,null,null,null,null,null,null,null,null,null,null,null,null,null,null,null,null,null,null,null,null,null,null,null,null,null,null,null,null,null,null,null,null,0]
[68,null,null,"00:00:00",null,{"$f":"OFFSET('input อุปโภค'!$B$6,$A70,$D$1,1,1)","v":0},null,null,null,null,null,null,null,null,null,null,null,null,null,null,null,null,null,null,null,null,null,null,null,null,null,null,null,null,null,null,null,null,null,null,null,null,null,null,null,null,null,null,null,null,null,null,null,null,null,null,null,null,null,null,null,null,null,null,null,null,null,null,null,null,null,null,null,null,null,null,null,null,null,null,null,null,null,null,null,null,null,null,null,null,null,null,null,null,null,null,null,null,null,null,null,null,null,null,null,null,null,null,null,null,null,null,null,null,null,null,null,null,null,null,null,null,null,null,null,null,null,null,null,null,null,null,null,null,null,null,null,null,null,null,null,null,null,null,null,null,null,null,null,null,null,null,null,null,null,null,null,null,null,null,null,null,null,null,null,null,null,null,null,null,null,null,null,null,null,null,null,null,null,null,null,null,null,null,null,null,null,null,null,null,null,null,null,null,null,null,null,null,null,null,null,null,null,null,null,null,null,null,null,null,null,null,null,null,null,null,null,null,null,null,null,0]
[69,null,null,"00:00:00",null,{"$f":"OFFSET('input อุปโภค'!$B$6,$A71,$D$1,1,1)","v":0},null,null,null,null,null,null,null,null,null,null,null,null,null,null,null,null,null,null,null,null,null,null,null,null,null,null,null,null,null,null,null,null,null,null,null,null,null,null,null,null,null,null,null,null,null,null,null,null,null,null,null,null,null,null,null,null,null,null,null,null,null,null,null,null,null,null,null,null,null,null,null,null,null,null,null,null,null,null,null,null,null,null,null,null,null,null,null,null,null,null,null,null,null,null,null,null,null,null,null,null,null,null,null,null,null,null,null,null,null,null,null,null,null,null,null,null,null,null,null,null,null,null,null,null,null,null,null,null,null,null,null,null,null,null,null,null,null,null,null,null,null,null,null,null,null,null,null,null,null,null,null,null,null,null,null,null,null,null,null,null,null,null,null,null,null,null,null,null,null,null,null,null,null,null,null,null,null,null,null,null,null,null,null,null,null,null,null,null,null,null,null,null,null,null,null,null,null,null,null,null,null,null,null,null,null,null,null,null,null,null,null,null,null,null,null,0]
[70,null,null,"00:00:00",null,{"$f":"OFFSET('input อุปโภค'!$B$6,$A72,$D$1,1,1)","v":0},null,null,null,null,null,null,null,null,null,null,null,null,null,null,null,null,null,null,null,null,null,null,null,null,null,null,null,null,null,null,null,null,null,null,null,null,null,null,null,null,null,null,null,null,null,null,null,null,null,null,null,null,null,null,null,null,null,null,null,null,null,null,null,null,null,null,null,null,null,null,null,null,null,null,null,null,null,null,null,null,null,null,null,null,null,null,null,null,null,null,null,null,null,null,null,null,null,null,null,null,null,null,null,null,null,null,null,null,null,null,null,null,null,null,null,null,null,null,null,null,null,null,null,null,null,null,null,null,null,null,null,null,null,null,null,null,null,null,null,null,null,null,null,null,null,null,null,null,null,null,null,null,null,null,null,null,null,null,null,null,null,null,null,null,null,null,null,null,null,null,null,null,null,null,null,null,null,null,null,null,null,null,null,null,null,null,null,null,null,null,null,null,null,null,null,null,null,null,null,null,null,null,null,null,null,null,null,null,null,null,null,null,null,null,null,0]
[71,null,null,"00:00:00",null,{"$f":"OFFSET('input อุปโภค'!$B$6,$A73,$D$1,1,1)","v":0},null,null,null,null,null,null,null,null,null,null,null,null,null,null,null,null,null,null,null,null,null,null,null,null,null,null,null,null,null,null,null,null,null,null,null,null,null,null,null,null,null,null,null,null,null,null,null,null,null,null,null,null,null,null,null,null,null,null,null,null,null,null,null,null,null,null,null,null,null,null,null,null,null,null,null,null,null,null,null,null,null,null,null,null,null,null,null,null,null,null,null,null,null,null,null,null,null,null,null,null,null,null,null,null,null,null,null,null,null,null,null,null,null,null,null,null,null,null,null,null,null,null,null,null,null,null,null,null,null,null,null,null,null,null,null,null,null,null,null,null,null,null,null,null,null,null,null,null,null,null,null,null,null,null,null,null,null,null,null,null,null,null,null,null,null,null,null,null,null,null,null,null,null,null,null,null,null,null,null,null,null,null,null,null,null,null,null,null,null,null,null,null,null,null,null,null,null,null,null,null,null,null,null,null,null,null,null,null,null,null,null,null,null,null,null,0]
[72,null,null,"00:00:00",null,{"$f":"OFFSET('input อุปโภค'!$B$6,$A74,$D$1,1,1)","v":0},null,null,null,null,null,null,null,null,null,null,null,null,null,null,null,null,null,null,null,null,null,null,null,null,null,null,null,null,null,null,null,null,null,null,null,null,null,null,null,null,null,null,null,null,null,null,null,null,null,null,null,null,null,null,null,null,null,null,null,null,null,null,null,null,null,null,null,null,null,null,null,null,null,null,null,null,null,null,null,null,null,null,null,null,null,null,null,null,null,null,null,null,null,null,null,null,null,null,null,null,null,null,null,null,null,null,null,null,null,null,null,null,null,null,null,null,null,null,null,null,null,null,null,null,null,null,null,null,null,null,null,null,null,null,null,null,null,null,null,null,null,null,null,null,null,null,null,null,null,null,null,null,null,null,null,null,null,null,null,null,null,null,null,null,null,null,null,null,null,null,null,null,null,null,null,null,null,null,null,null,null,null,null,null,null,null,null,null,null,null,null,null,null,null,null,null,null,null,null,null,null,null,null,null,null,null,null,null,null,null,null,null,null,null,null,0]
[73,null,null,"00:00:00",null,{"$f":"OFFSET('input อุปโภค'!$B$6,$A75,$D$1,1,1)","v":0},null,null,null,null,null,null,null,null,null,null,null,null,null,null,null,null,null,null,null,null,null,null,null,null,null,null,null,null,null,null,null,null,null,null,null,null,null,null,null,null,null,null,null,null,null,null,null,null,null,null,null,null,null,null,null,null,null,null,null,null,null,null,null,null,null,null,null,null,null,null,null,null,null,null,null,null,null,null,null,null,null,null,null,null,null,null,null,null,null,null,null,null,null,null,null,null,null,null,null,null,null,null,null,null,null,null,null,null,null,null,null,null,null,null,null,null,null,null,null,null,null,null,null,null,null,null,null,null,null,null,null,null,null,null,null,null,null,null,null,null,null,null,null,null,null,null,null,null,null,null,null,null,null,null,null,null,null,null,null,null,null,null,null,null,null,null,null,null,null,null,null,null,null,null,null,null,null,null,null,null,null,null,null,null,null,null,null,null,null,null,null,null,null,null,null,null,null,null,null,null,null,null,null,null,null,null,null,null,null,null,null,null,null,null,null,0]
[74,null,null,"00:00:00",null,{"$f":"OFFSET('input อุปโภค'!$B$6,$A76,$D$1,1,1)","v":0},null,null,null,null,null,null,null,null,null,null,null,null,null,null,null,null,null,null,null,null,null,null,null,null,null,null,null,null,null,null,null,null,null,null,null,null,null,null,null,null,null,null,null,null,null,null,null,null,null,null,null,null,null,null,null,null,null,null,null,null,null,null,null,null,null,null,null,null,null,null,null,null,null,null,null,null,null,null,null,null,null,null,null,null,null,null,null,null,null,null,null,null,null,null,null,null,null,null,null,null,null,null,null,null,null,null,null,null,null,null,null,null,null,null,null,null,null,null,null,null,null,null,null,null,null,null,null,null,null,null,null,null,null,null,null,null,null,null,null,null,null,null,null,null,null,null,null,null,null,null,null,null,null,null,null,null,null,null,null,null,null,null,null,null,null,null,null,null,null,null,null,null,null,null,null,null,null,null,null,null,null,null,null,null,null,null,null,null,null,null,null,null,null,null,null,null,null,null,null,null,null,null,null,null,null,null,null,null,null,null,null,null,null,null,null,0]
[75,null,null,"00:00:00",null,{"$f":"OFFSET('input อุปโภค'!$B$6,$A77,$D$1,1,1)","v":0},null,null,null,null,null,null,null,null,null,null,null,null,null,null,null,null,null,null,null,null,null,null,null,null,null,null,null,null,null,null,null,null,null,null,null,null,null,null,null,null,null,null,null,null,null,null,null,null,null,null,null,null,null,null,null,null,null,null,null,null,null,null,null,null,null,null,null,null,null,null,null,null,null,null,null,null,null,null,null,null,null,null,null,null,null,null,null,null,null,null,null,null,null,null,null,null,null,null,null,null,null,null,null,null,null,null,null,null,null,null,null,null,null,null,null,null,null,null,null,null,null,null,null,null,null,null,null,null,null,null,null,null,null,null,null,null,null,null,null,null,null,null,null,null,null,null,null,null,null,null,null,null,null,null,null,null,null,null,null,null,null,null,null,null,null,null,null,null,null,null,null,null,null,null,null,null,null,null,null,null,null,null,null,null,null,null,null,null,null,null,null,null,null,null,null,null,null,null,null,null,null,null,null,null,null,null,null,null,null,null,null,null,null,null,null,0]
[76,null,null,"00:00:00",null,{"$f":"OFFSET('input อุปโภค'!$B$6,$A78,$D$1,1,1)","v":0},null,null,null,null,null,null,null,null,null,null,null,null,null,null,null,null,null,null,null,null,null,null,null,null,null,null,null,null,null,null,null,null,null,null,null,null,null,null,null,null,null,null,null,null,null,null,null,null,null,null,null,null,null,null,null,null,null,null,null,null,null,null,null,null,null,null,null,null,null,null,null,null,null,null,null,null,null,null,null,null,null,null,null,null,null,null,null,null,null,null,null,null,null,null,null,null,null,null,null,null,null,null,null,null,null,null,null,null,null,null,null,null,null,null,null,null,null,null,null,null,null,null,null,null,null,null,null,null,null,null,null,null,null,null,null,null,null,null,null,null,null,null,null,null,null,null,null,null,null,null,null,null,null,null,null,null,null,null,null,null,null,null,null,null,null,null,null,null,null,null,null,null,null,null,null,null,null,null,null,null,null,null,null,null,null,null,null,null,null,null,null,null,null,null,null,null,null,null,null,null,null,null,null,null,null,null,null,null,null,null,null,null,null,null,null,0]
[77,null,null,"00:00:00",null,{"$f":"OFFSET('input อุปโภค'!$B$6,$A79,$D$1,1,1)","v":0},null,null,null,null,null,null,null,null,null,null,null,null,null,null,null,null,null,null,null,null,null,null,null,null,null,null,null,null,null,null,null,null,null,null,null,null,null,null,null,null,null,null,null,null,null,null,null,null,null,null,null,null,null,null,null,null,null,null,null,null,null,null,null,null,null,null,null,null,null,null,null,null,null,null,null,null,null,null,null,null,null,null,null,null,null,null,null,null,null,null,null,null,null,null,null,null,null,null,null,null,null,null,null,null,null,null,null,null,null,null,null,null,null,null,null,null,null,null,null,null,null,null,null,null,null,null,null,null,null,null,null,null,null,null,null,null,null,null,null,null,null,null,null,null,null,null,null,null,null,null,null,null,null,null,null,null,null,null,null,null,null,null,null,null,null,null,null,null,null,null,null,null,null,null,null,null,null,null,null,null,null,null,null,null,null,null,null,null,null,null,null,null,null,null,null,null,null,null,null,null,null,null,null,null,null,null,null,null,null,null,null,null,null,null,null,0]
[78,null,null,"00:00:00",null,{"$f":"OFFSET('input อุปโภค'!$B$6,$A80,$D$1,1,1)","v":0},null,null,null,null,null,null,null,null,null,null,null,null,null,null,null,null,null,null,null,null,null,null,null,null,null,null,null,null,null,null,null,null,null,null,null,null,null,null,null,null,null,null,null,null,null,null,null,null,null,null,null,null,null,null,null,null,null,null,null,null,null,null,null,null,null,null,null,null,null,null,null,null,null,null,null,null,null,null,null,null,null,null,null,null,null,null,null,null,null,null,null,null,null,null,null,null,null,null,null,null,null,null,null,null,null,null,null,null,null,null,null,null,null,null,null,null,null,null,null,null,null,null,null,null,null,null,null,null,null,null,null,null,null,null,null,null,null,null,null,null,null,null,null,null,null,null,null,null,null,null,null,null,null,null,null,null,null,null,null,null,null,null,null,null,null,null,null,null,null,null,null,null,null,null,null,null,null,null,null,null,null,null,null,null,null,null,null,null,null,null,null,null,null,null,null,null,null,null,null,null,null,null,null,null,null,null,null,null,null,null,null,null,null,null,null,0]
[79,null,null,"00:00:00",null,{"$f":"OFFSET('input อุปโภค'!$B$6,$A81,$D$1,1,1)","v":0},null,null,null,null,null,null,null,null,null,null,null,null,null,null,null,null,null,null,null,null,null,null,null,null,null,null,null,null,null,null,null,null,null,null,null,null,null,null,null,null,null,null,null,null,null,null,null,null,null,null,null,null,null,null,null,null,null,null,null,null,null,null,null,null,null,null,null,null,null,null,null,null,null,null,null,null,null,null,null,null,null,null,null,null,null,null,null,null,null,null,null,null,null,null,null,null,null,null,null,null,null,null,null,null,null,null,null,null,null,null,null,null,null,null,null,null,null,null,null,null,null,null,null,null,null,null,null,null,null,null,null,null,null,null,null,null,null,null,null,null,null,null,null,null,null,null,null,null,null,null,null,null,null,null,null,null,null,null,null,null,null,null,null,null,null,null,null,null,null,null,null,null,null,null,null,null,null,null,null,null,null,null,null,null,null,null,null,null,null,null,null,null,null,null,null,null,null,null,null,null,null,null,null,null,null,null,null,null,null,null,null,null,null,null,null,0]
[80,null,null,"00:00:00",null,{"$f":"OFFSET('input อุปโภค'!$B$6,$A82,$D$1,1,1)","v":0},null,null,null,null,null,null,null,null,null,null,null,null,null,null,null,null,null,null,null,null,null,null,null,null,null,null,null,null,null,null,null,null,null,null,null,null,null,null,null,null,null,null,null,null,null,null,null,null,null,null,null,null,null,null,null,null,null,null,null,null,null,null,null,null,null,null,null,null,null,null,null,null,null,null,null,null,null,null,null,null,null,null,null,null,null,null,null,null,null,null,null,null,null,null,null,null,null,null,null,null,null,null,null,null,null,null,null,null,null,null,null,null,null,null,null,null,null,null,null,null,null,null,null,null,null,null,null,null,null,null,null,null,null,null,null,null,null,null,null,null,null,null,null,null,null,null,null,null,null,null,null,null,null,null,null,null,null,null,null,null,null,null,null,null,null,null,null,null,null,null,null,null,null,null,null,null,null,null,null,null,null,null,null,null,null,null,null,null,null,null,null,null,null,null,null,null,null,null,null,null,null,null,null,null,null,null,null,null,null,null,null,null,null,null,null,0]

{"sheet":"ETO-From","index":26,"n_rows":1665,"n_cols":19,"rows_kept":1665,"cut":false,"hidden":true,"merged":[]}
[null,"ST.",null,null,1,"สถานี","จังหวัด",2,3,4,5,6,7,8,9,10,11,12,13]
[1,"แม่ฮ่องสอน",null,1,{"$f":"OFFSET($B$1,(13*($D2-1)+E$1),0,1,1)","v":"แม่ฮ่องสอน"},{"$f":"E2","v":"แม่ฮ่องสอน"},{"$f":"E2","v":"แม่ฮ่องสอน"},{"$f":"OFFSET($B$1,(13*($D2-1)+H$1),0,1,1)","v":2.83},3.55,4.51,5.22,4.46,3.59,2.93,3.32,3.11,3.32,3.02,2.68]
[2,2.83,null,2,{"$f":"OFFSET($B$1,(13*($D3-1)+E$1),0,1,1)","v":"'-แม่สะเรียง"},{"$f":"IF(LEFT(E3,2)=\"'-\",MID(E3,3,LEN(E3)-2),E3)","v":"แม่สะเรียง"},{"$f":"IF(LEFT(E3,2)=\"'-\",G2,E3)","v":"แม่ฮ่องสอน"},2.89,3.86,4.78,5.1100000000000003,4.3499999999999996,2.92,2.82,2.72,3.07,3.09,2.93,2.84]
[3,3.55,null,3,"เชียงราย",{"$f":"IF(LEFT(E4,2)=\"'-\",MID(E4,3,LEN(E4)-2),E4)","v":"เชียงราย"},{"$f":"IF(LEFT(E4,2)=\"'-\",G3,E4)","v":"เชียงราย"},2.83,3.5,4.4000000000000004,5.05,4.3499999999999996,4,3.53,3.38,3.45,3.43,3.17,2.63]
[4,4.51,null,4,"'-สถานีฯเกษตร เชียงราย","สถานีฯเกษตร เชียงราย","เชียงราย",2.79,3.42,4.26,4.7699999999999996,4.13,3.85,3.4,3.27,3.71,3.38,3.14,2.64]
[5,5.22,null,5,"พะเยา","พะเยา","พะเยา",2.83,3.53,4.45,4.91,4.4000000000000004,3.69,3.58,3.38,3.4,3.23,2.92,2.58]
[6,4.46,null,6,"เชียงใหม่","เชียงใหม่","เชียงใหม่",3.21,4.09,5.26,6.12,4.97,4.3,3.8,3.62,3.67,3.74,3.35,3.03]
[7,3.59,null,7,"'-ดอยอ่างขาง","ดอยอ่างขาง","เชียงใหม่",3.16,4.3600000000000003,5.3,5.18,3.95,3.5,3.27,3.06,3.23,2.92,2.98,2.65]
[8,2.93,null,8,"'-สถานีฯเกษตร แม่โจ้","สถานีฯเกษตร แม่โจ้","เชียงใหม่",3.07,3.71,4.59,4.8499999999999996,3.86,3.92,2.94,3.37,3.09,3.68,3.38,3.03]
[9,3.32,null,9,"ลำปาง","ลำปาง","ลำปาง",3.07,3.73,4.6900000000000004,4.9800000000000004,4.4400000000000004,4.0599999999999996,3.61,3.46,3.51,3.42,3.13,2.84]
[10,3.11,null,10,"'-เถิน","เถิน","ลำปาง",3.64,4.54,5.6,5.77,4.3899999999999997,4.2699999999999996,3.86,3.67,3.73,3.64,3.77,3.45]
[11,3.32,null,11,"'-สถานีฯเกษตร ลำปาง","สถานีฯเกษตร ลำปาง","ลำปาง",2.77,3.26,4.0599999999999996,4.22,3.78,3.45,3.37,3.28,3.06,3.29,3.11,2.7]
[12,3.02,null,12,"ลำพูน","ลำพูน","ลำพูน",2.94,3.79,4.7300000000000004,5.46,4.5599999999999996,3.78,3.68,3.47,3.47,3.35,3.06,2.74]
[13,2.68,null,13,"แพร่","แพร่","แพร่",2.98,3.7,4.4800000000000004,4.91,4.57,3.73,3.59,3.44,3.5,3.41,3.17,2.68]
[{"$f":"+A2","v":1},"'-แม่สะเรียง",null,14,"น่าน","น่าน","น่าน",2.88,3.49,4.3899999999999997,4.63,4.25,3.88,3.43,3.33,3.43,3.47,3.04,2.7]
[{"$f":"+A3","v":2},2.89,null,15,"'-สถานีฯเกษตร น่าน","สถานีฯเกษตร น่าน","น่าน",2.88,3.54,4.37,4.83,4.1399999999999997,3.78,3.37,3.27,3.72,3.74,3.32,2.81]
[3,3.86,null,16,"'-ท่าวังผา","ท่าวังผา","น่าน",2.88,3.56,4.55,4.67,4.28,3.56,3.46,2.78,3.41,3.4,3.11,2.65]
[4,4.78,null,17,"'-ทุ่งช้าง","ทุ่งช้าง","น่าน",3.14,3.81,4.76,4.91,4.3899999999999997,4.22,3.76,3.29,3.73,3.92,3.29,2.9]
[5,5.1100000000000003,null,18,"อุตรดิตถ์","อุตรดิตถ์","อุตรดิตถ์",3.25,3.88,4.7699999999999996,4.91,4.43,3.59,3.5,3.4,3.52,3.59,3.48,2.99]
[6,4.3499999999999996,null,19,"ตาก","ตาก","ตาก",3.2,4.16,5.25,5.8,4.9400000000000004,3.86,3.93,3.84,3.33,3.39,3.21,2.94]
[7,2.92,null,20,"'-แม่สอด","แม่สอด","ตาก",3.32,4.08,4.96,5.41,4.21,3,2.88,2.79,3.15,3.52,3.48,3.31]
[8,2.82,null,21,"'-เขื่อนภูมิพล","เขื่อนภูมิพล","ตาก",3.23,4.12,5.14,5.67,4.59,3.81,3.8,3.74,3.26,3.41,3.16,3.01]
[9,2.72,null,22,"'-อุ้มผาง","อุ้มผาง","ตาก",3.12,3.71,4.3,4.51,3.7,2.75,2.69,2.64,2.52,2.99,3.33,2.98]
[10,3.07,null,23,"'-สถานีฯเกษตร ดอยมูเซอ","สถานีฯเกษตร ดอยมูเซอ","ตาก",4.1399999999999997,3.87,4.88,5.76,4.46,3.61,2.84,2.59,2.91,2.9,3.15,2.93]
[11,3.09,null,24,"พิษณุโลก","พิษณุโลก","พิษณุโลก",3.27,4.01,4.99,5.32,4.71,3.78,3.65,3.51,3.27,3.55,3.42,3.19]
[12,2.93,null,25,"เพชรบูรณ์","เพชรบูรณ์","เพชรบูรณ์",3.33,4.05,4.96,5.18,4.16,3.69,3.58,3.43,3.22,3.69,3.73,3.41]
[13,2.84,null,26,"'-หล่มสัก","หล่มสัก","เพชรบูรณ์",3.15,3.83,4.34,4.53,4.04,3.66,3.59,2.93,3.18,3.57,3.48,3.12]
[1,"เชียงราย",null,27,"'-วิเชียรบุรี","วิเชียรบุรี","เพชรบูรณ์",3.31,4.07,4.5599999999999996,4.7300000000000004,4.08,3.64,3.58,2.93,3.22,3.53,3.49,3.26]
[2,2.83,null,28,"กำแพงเพชร","กำแพงเพชร","กำแพงเพชร",3.26,3.91,4.3499999999999996,5.01,4.45,3.92,3.5,3.41,3.55,3.48,3.34,3.11]
[3,3.5,null,29,"สุโขทัย","สุโขทัย","สุโขทัย",3.36,4.03,4.66,5.72,4.4400000000000004,4.32,3.94,3.78,3.66,3.66,3.51,3.26]
[4,4.4000000000000004,null,30,"'-สถานีฯเกษตร ศรีสาโรง","สถานีฯเกษตร ศรีสาโรง",{"$f":"IF(LEFT(E31,2)=\"'-\",G30,E31)","v":"สุโขทัย"},3.04,3.49,4.47,4.96,3.95,3.93,3.54,3.43,3.49,3.44,3.45,3]
[5,5.05,null,31,{"$f":"OFFSET($B$1,(13*($D32-1)+E$1),0,1,1)","v":"พิจิตร"},"พิจิตร","พิจิตร",".'-",".'-",".'-",".'-",".'-",".'-",".'-",".'-",".'-",".'-",".'-",".'-"]
[6,4.3499999999999996,null,32,"'-สถานีฯเกษตร พิจิตร","สถานีฯเกษตร พิจิตร","พิจิตร",3.28,3.89,4.3499999999999996,4.5999999999999996,4.05,3.98,3.5,3.4,3.19,3.47,3.58,3.24]
[7,4,null,33,"หนองคาย","หนองคาย","หนองคาย",3.11,3.78,4.62,4.62,4.03,3.56,3.51,3.41,3.51,3.63,3.31,3.04]
[8,3.53,null,34,"เลย","เลย","เลย",3.28,4.0599999999999996,4.8099999999999996,5.0599999999999996,4.43,4.07,3.66,3.55,3.55,3.55,3.23,3.04]
[9,3.38,null,35,"'-สถานีฯเกษตร เลย","สถานีฯเกษตร เลย","เลย",3.19,3.95,4.7300000000000004,4.76,4.2,3.89,3.87,3.39,3.84,3.5,3.42,3]
[10,3.45,null,36,"อุดรธานี","อุดรธานี","อุดรธานี",3.32,4.07,4.8499999999999996,5.21,4.5599999999999996,4.08,3.71,3.55,3.61,3.73,3.7,3.22]
[11,3.43,null,37,"สกลนคร","สกลนคร","สกลนคร",3.44,4.09,4.87,5.0199999999999996,4.4000000000000004,3.99,3.57,3.44,3.86,3.9,3.64,3.25]
[12,3.17,null,38,"'-สถานีฯเกษตร สกลนคร","สถานีฯเกษตร สกลนคร","สกลนคร",3.14,3.75,4.4800000000000004,5,4.3600000000000003,4.26,3.86,3.69,3.98,3.77,3.38,3.09]
[13,2.63,null,39,"นครพนม","นครพนม","นครพนม",3.33,3.86,4.3,4.5,3.95,3.47,3.42,3.33,3.48,3.6,3.6,3.16]
[1,"'-สถานีฯเกษตร เชียงราย",null,40,"'-สถานีฯเกษตร นครพนม","สถานีฯเกษตร นครพนม","นครพนม",3.52,4.03,4.4800000000000004,4.96,4.28,4.25,3.81,3.32,3.83,3.57,3.59,3.25]
[2,2.79,null,41,"ขอนแก่น","ขอนแก่น","ขอนแก่น",3.65,4.18,5.09,4.97,4.67,4.29,3.88,3.68,3.61,3.79,3.83,3.63]
[3,3.42,null,42,"'-สถานีฯเกษตร ท่าพระ","สถานีฯเกษตร ท่าพระ","ขอนแก่น",3.2,3.81,4.4800000000000004,4.76,4.25,3.91,3.88,3.36,3.48,3.59,3.48,3.18]
[4,4.26,null,43,"มุกดาหาร","มุกดาหาร","มุกดาหาร",3.65,4.18,5,5.15,4.1100000000000003,3.64,3.56,3.43,3.57,3.8,3.95,3.53]
[5,4.7699999999999996,null,44,"มหาสารคาม","มหาสารคาม",{"$f":"IF(LEFT(E45,2)=\"'-\",G44,E45)","v":"มหาสารคาม"},3.57,4.1900000000000004,4.71,5.22,4.62,4.22,3.84,3.64,3.62,3.76,3.83,3.58]
[6,4.13,null,45,"กาฬสินธุ์","กาฬสินธุ์","กาฬสินธุ์",4.1500000000000004,4.8899999999999997,5.4,5.45,4.8,4.32,4.22,3.65,3.71,4.0599999999999996,4.3,4.0999999999999996]
[7,3.85,null,46,"ชัยภูมิ","ชัยภูมิ","ชัยภูมิ",3.6,4.2,5,5.12,4.47,4.13,3.77,3.61,3.6,3.78,3.89,3.51]
[8,3.4,null,47,{"$f":"OFFSET($B$1,(13*($D48-1)+E$1),0,1,1)","v":"ร้อยเอ็ด"},"ร้อยเอ็ด","ร้อยเอ็ด",3.49,4.13,4.66,4.83,4.22,3.9,3.84,3.64,3.61,3.63,3.68,3.51]
[9,3.27,null,48,"'-สถานีฯเกษตร ร้อยเอ็ด","สถานีฯเกษตร ร้อยเอ็ด","ร้อยเอ็ด",4.04,4.4400000000000004,4.92,5.25,4.59,4.62,4.21,3.9,3.6,3.78,4.0999999999999996,3.9]
[10,3.71,null,49,"อุบลราชธานี","อุบลราชธานี","อุบลราชธานี",4,4.53,4.93,5.03,4.45,3.96,3.87,3.71,3.43,3.71,4.2300000000000004,4.22]
[11,3.38,null,50,"'-สถานีฯเกษตรอุบลราชธานี","สถานีฯเกษตรอุบลราชธานี","อุบลราชธานี",3.63,3.68,4.2300000000000004,4.13,3.65,3.64,3.56,2.87,3.22,3.34,3.64,3.42]
[12,3.14,null,51,"ศรีสะเกษ","ศรีสะเกษ","ศรีสะเกษ",".'-",".'-",".'-",".'-",".'-",".'-",".'-",".'-",".'-",".'-",".'-",".'-"]
[13,2.64,null,52,"'-สถานีฯเกษตร ศรีสะเกษ","สถานีฯเกษตร ศรีสะเกษ","ศรีสะเกษ",3.4,3.92,4.5599999999999996,4.75,4.42,4.43,4.1900000000000004,3.71,3.85,3.62,3.79,3.45]
[1,"พะเยา",null,53,"นครราชสีมา","นครราชสีมา","นครราชสีมา",3.37,3.95,4.3899999999999997,4.6399999999999997,4.2,3.95,3.89,3.79,3.36,3.42,3.51,3.41]
[2,2.83,null,54,"'-สถานีฯเกษตร ปากช่อง","สถานีฯเกษตร ปากช่อง","นครราชสีมา",4.71,4.71,5.01,4.8099999999999996,4.2,4.54,4.26,4.04,3.38,3.5,4.4400000000000004,4.5199999999999996]
[3,3.53,null,55,"'-โชคชัย","โชคชัย","นครราชสีมา",3.47,4.21,4.68,4.74,4.09,4.18,3.82,3.72,3.31,3.6,3.57,3.42]
[4,4.45,null,56,"สุรินทร์","สุรินทร์","สุรินทร์",3.76,4.3600000000000003,4.83,4.87,4.21,4.12,3.71,3.61,3.62,3.7,3.84,3.8]
[5,4.91,null,57,"'-สถานีฯเกษตร สุรินทร์","สถานีฯเกษตร สุรินทร์","สุรินทร์",3.52,3.97,4.38,4.5599999999999996,3.96,3.98,3.53,3.45,3.58,3.6,3.67,3.43]
[6,4.4000000000000004,null,58,"'-ท่าตูม","ท่าตูม","สุรินทร์",3.54,4.2,4.78,4.99,4.43,4.03,3.96,3.52,3.55,3.72,3.89,3.62]
[7,3.69,null,59,"บุรีรัมย์","บุรีรัมย์","บุรีรัมย์",4.17,4.8099999999999996,5.27,5.49,4.74,4.66,4.1399999999999997,3.67,3.64,3.86,4.12,3.98]
[8,3.58,null,60,"'-นางรอง","นางรอง","บุรีรัมย์",3.62,4.16,4.8099999999999996,4.9400000000000004,4.38,4,3.94,3.55,3.6,3.75,3.92,3.57]
[9,3.38,null,61,"นครสวรรค์","นครสวรรค์","นครสวรรค์",3.71,4.87,6.06,6.06,4.55,4.0999999999999996,3.92,3.71,3.32,3.57,3.51,3.37]
[10,3.4,null,62,"'-สถานีฯเกษตร ตากฟ้า","สถานีฯเกษตร ตากฟ้า","นครสวรรค์",3.94,4.3499999999999996,4.88,4.93,4.46,4.0199999999999996,3.89,3.48,3.57,3.54,3.86,3.81]
[11,3.23,null,63,"ชัยนาท","ชัยนาท","ชัยนาท",".'-",".'-",".'-",".'-",".'-",".'-",".'-",".'-",".'-",".'-",".'-",".'-"]
[12,2.92,null,64,"'-สถานีฯเกษตร ชัยนาท","สถานีฯเกษตร ชัยนาท","ชัยนาท",3.3,3.68,4.34,4.5599999999999996,4.3099999999999996,4.2699999999999996,3.84,3.47,3.42,3.26,3.31,3.21]
[13,2.58,null,65,"อยุธยา","อยุธยา","อยุธยา",3.95,4.2,4.58,4.58,4.0199999999999996,4.0999999999999996,3.73,3.68,3.36,3.46,3.92,3.94]
[1,"เชียงใหม่",null,66,"ปทุมธานี","ปทุมธานี","ปทุมธานี",3.54,3.85,4.4400000000000004,4.6399999999999997,4.05,4.1500000000000004,3.62,{"$f":"OFFSET($B$1,(13*($D67-1)+O$1),0,1,1)","v":3.59},3.26,2.9,3.83,3.54]
[2,3.21,null,67,"ราชบุรี",{"$f":"IF(LEFT(E68,2)=\"'-\",MID(E68,3,LEN(E68)-2),E68)","v":"ราชบุรี"},"ราชบุรี",4.04,4.6100000000000003,5.27,5.15,4,3.96,3.57,3.63,3.44,3.39,3.86,4.01]
[3,4.09,null,68,"สุพรรณบุรี","สุพรรณบุรี","สุพรรณบุรี",3.45,4.1100000000000003,4.83,5.01,4.3600000000000003,3.99,3.89,3.32,3.45,3.45,3.58,3.5]
[4,5.26,null,69,"'-สถานีฯเกษตร อู่ทอง","สถานีฯเกษตร อู่ทอง","สุพรรณบุรี",3.46,4.12,4.74,4.87,3.89,3.9,3.52,3.51,3.25,3.54,3.47,3.41]
[5,6.12,null,70,"ลพบุรี","ลพบุรี","ลพบุรี",3.76,4.32,4.78,5.09,4.1100000000000003,3.67,3.59,3.56,3.27,3.65,3.86,3.82]
[6,4.97,null,71,"'-บัวชุม","บัวชุม","ลพบุรี",4.03,4.8899999999999997,5.48,5.03,4.22,3.82,3.73,3.05,3.25,3.65,3.85,3.93]
[7,4.3,null,72,"กาญจนบุรี","กาญจนบุรี","กาญจนบุรี",3.6,4.3600000000000003,4.8,5.3,4.1900000000000004,3.72,3.71,3.72,3.44,3.33,3.42,3.51]
[8,3.8,null,73,"'-ทองผาภูมิ","ทองผาภูมิ","กาญจนบุรี",3.44,4.08,4.71,5.14,3.81,3.31,2.73,2.69,2.61,3.16,3.39,3.33]
[9,3.62,null,74,"กรุงเทพมหานคร","กรุงเทพมหานคร","กรุงเทพมหานคร",3.52,4.17,4.78,4.6900000000000004,4.0999999999999996,4.07,3.98,3.46,3.07,3.23,3.62,3.49]
[10,3.67,null,75,"'-ท่าเรือคลองเตย","ท่าเรือคลองเตย","กรุงเทพมหานคร",4.51,4.57,5.18,5.04,4.5599999999999996,4.6100000000000003,4.47,4.46,4.2699999999999996,3.97,4.96,4.7699999999999996]
[11,3.74,null,76,"'-ท่าอากาศยานดอนเมือง","ท่าอากาศยานดอนเมือง","กรุงเทพมหานคร",4.1399999999999997,4.8,5.37,5.54,4.9400000000000004,4.63,4.5999999999999996,4.43,3.95,3.87,4.1100000000000003,4.04]
[12,3.35,null,77,"สมุทรปราการ","สมุทรปราการ","สมุทรปราการ",".'-",".'-",".'-",".'-",".'-",".'-",".'-",".'-",".'-",".'-",".'-",".'-"]
[13,3.03,null,78,"'-สถานีฯเกษตร บางนา","สถานีฯเกษตร บางนา","สมุทรปราการ",1.1399999999999999,2.0299999999999998,3.25,3.75,3.74,3.96,3.74,3.36,2.6,1.79,1.46,0.99]
[{"$f":"+A67","v":1},"'-ดอยอ่างขาง",null,79,"เพชรบุรี","เพชรบุรี","เพชรบุรี",3.59,4.2300000000000004,4.87,4.8899999999999997,4.22,3.74,3.66,3.17,3.38,3.08,3.39,3.49]
[2,3.16,null,80,"ประจวบคีรีขันธ์","ประจวบคีรีขันธ์","ประจวบคีรีขันธ์",3.82,4.1900000000000004,4.38,4.7699999999999996,4.22,3.93,3.9,3.89,3.68,3.49,3.84,4.18]
[3,4.3600000000000003,null,81,"'-หัวหิน","หัวหิน","ประจวบคีรีขันธ์",3.93,4.49,5.0599999999999996,5.07,4.51,4.18,3.79,3.81,3.49,3.45,3.74,4.0199999999999996]
[4,5.3,null,82,"'-สถานีฯเกษตร หนองพลับ","สถานีฯเกษตร หนองพลับ","ประจวบคีรีขันธ์",3.77,4.25,4.49,4.6500000000000004,3.84,3.82,3.4,2.92,3.26,3.32,3.4,3.43]
[5,5.18,null,83,"นครปฐม","นครปฐม","นครปฐม",3.7,4.3499999999999996,5.15,5.12,4.0199999999999996,4,3.63,3.16,3.44,3.69,3.92,3.66]
[6,3.95,null,84,"ฉะเชิงเทรา","ฉะเชิงเทรา","ฉะเชิงเทรา",3.85,3.83,4.1900000000000004,4.3099999999999996,3.86,3.52,3.46,3.46,3.26,3.33,3.47,3.51]
[7,3.5,null,85,"ปราจีนบุรี","ปราจีนบุรี","ปราจีนบุรี",3.87,4.04,4.3,4.62,3.98,3.5,3.45,3.43,3.27,3.79,4.0999999999999996,4.07]
[8,3.27,null,86,"'-กบินทร์บุรี","กบินทร์บุรี","ปราจีนบุรี",3.75,4.08,{"$f":"OFFSET($B$1,(13*($D87-1)+J$1),0,1,1)","v":4.33},4.67,3.98,3.5,3.43,2.87,3.22,3.36,3.93,3.94]
[9,3.06,null,87,"สระแก้ว","สระแก้ว","สระแก้ว",3.96,4.46,4.67,4.66,3.96,3.88,3.45,3.4,3.24,3.64,3.92,3.78]
[10,3.23,null,88,"'-อรัญประเทศ","อรัญประเทศ","สระแก้ว",3.89,4.3499999999999996,4.9800000000000004,4.91,4.1100000000000003,4.0599999999999996,3.99,3.6,3.35,3.42,3.61,3.64]
[11,2.92,null,89,"ชลบุรี","ชลบุรี","ชลบุรี",4.09,4.55,4.83,5.14,4.4800000000000004,4.13,4.12,3.74,3.43,3.49,4.09,4.16]
[12,2.98,null,90,"'-เกาะสีชัง","เกาะสีชัง","ชลบุรี",3.87,4.1900000000000004,4.46,4.7699999999999996,4.24,4.07,3.98,3.94,3.48,3.47,4,4.2699999999999996]
[13,2.65,null,91,"'-พัทยา","พัทยา","ชลบุรี",4.1399999999999997,4.37,4.83,4.8099999999999996,4.3099999999999996,4.1900000000000004,4.1399999999999997,4.1399999999999997,3.61,3.56,4.13,4.49]
[1,"'-สถานีฯเกษตร แม่โจ้",null,92,"'-สัตหีบ","สัตหีบ","ชลบุรี",3.99,4.3600000000000003,4.66,4.9800000000000004,4.2699999999999996,4.26,4.17,3.7,3.71,3.39,4.08,4.21]
[2,3.07,null,93,"'-แหลมฉบัง","แหลมฉบัง","ชลบุรี",4.83,4.71,5.28,5.3,4.6399999999999997,4.67,4.6900000000000004,4.5599999999999996,4.0999999999999996,3.7,4.74,4.84]
[3,3.71,null,94,"ระยอง","ระยอง","ระยอง",3.75,4.34,4.54,4.83,4.33,4.1500000000000004,4.08,4.03,3.55,3.51,3.77,3.78]
[4,4.59,null,95,"'-สถานีฯเกษตร ห้วยโป่ง","สถานีฯเกษตร ห้วยโป่ง","ระยอง",3.56,3.61,4.0999999999999996,4.24,3.83,3.79,3.42,3.44,3.29,3.35,3.64,3.59]
[5,4.8499999999999996,null,96,"จันทบุรี","จันทบุรี","จันทบุรี",3.72,3.71,4.08,4.3499999999999996,3.44,2.85,2.85,2.84,2.69,3.34,3.83,3.95]
[6,3.86,null,97,"'-สถานีฯเกษตร พลิ้ว","สถานีฯเกษตร พลิ้ว","จันทบุรี",3.94,3.73,3.98,4.2,3.42,3.36,3.34,2.84,3.2,3.31,3.78,3.86]
[7,3.92,null,98,"ตราด","ตราด","ตราด",3.8,3.83,4.17,4.28,3.89,3.35,3.32,2.87,3.22,3.35,3.68,3.84]
[8,2.94,null,99,"ชุมพร","ชุมพร","ชุมพร",3.45,4.0999999999999996,4.55,4.5,3.89,3.54,3.49,3.53,3.39,3.38,3.4,3.44]
[9,3.37,null,100,"'-สถานีฯเกษตร สวี","สถานีฯเกษตร สวี","ชุมพร",3.34,3.61,4.13,4.1500000000000004,3.74,4.12,3.68,3.83,3.67,3.36,3.08,3.27]
[10,3.09,null,101,"ระนอง","ระนอง","ระนอง",3.84,4.21,4.29,4.2699999999999996,3.76,3.34,3.27,3.3,3.2,3.31,3.41,3.52]
[11,3.68,null,102,"สุราษฎร์ธานี","สุราษฎร์ธานี","สุราษฎร์ธานี",3.55,4.24,4.34,4.28,3.8,3.47,3.42,3.49,3.36,3.07,3.1,3.27]
[12,3.38,null,103,"'-ท่าอากาศยาน สุราษฎร์ธานี","ท่าอากาศยาน สุราษฎร์ธานี","สุราษฎร์ธานี",3.65,4.0599999999999996,4.42,4.42,3.9,3.51,3.49,3.53,3.41,3.13,3.15,3.08]
[13,3.03,null,104,"'-เกาะสมุย","เกาะสมุย","สุราษฎร์ธานี",3.65,4.24,4.5599999999999996,4.42,4.26,3.97,3.97,4.05,3.89,3.43,3.43,3.38]
[1,"ลำปาง",null,105,"'-สถานีฯเกษตร สุราษฎร์ธานี","สถานีฯเกษตร สุราษฎร์ธานี","สุราษฎร์ธานี",3.32,4.04,4.37,4.24,3.65,3.6,3.61,3.68,3.61,3.34,{"$f":"OFFSET($B$1,(13*($D106-1)+R$1),0,1,1)","v":2.99},3.11]
[2,3.07,null,106,"'-พระแสง","พระแสง","สุราษฎร์ธานี",3.49,4,4.2,4.24,3.41,3.62,3.28,3.35,3.3,3.08,2.89,3.1]
[3,3.73,null,107,"นครศรีธรรมราช","นครศรีธรรมราช","นครศรีธรรมราช",3.19,3.79,4.1399999999999997,4.1500000000000004,3.77,3.75,3.76,3.55,3.35,3.09,2.83,2.95]
[4,4.6900000000000004,null,108,"'-สถานีฯเกษตรนครศรีธรรมราช","สถานีฯเกษตรนครศรีธรรมราช",{"$f":"IF(LEFT(E109,2)=\"'-\",G108,E109)","v":"นครศรีธรรมราช"},3.31,3.72,4.04,4.21,3.67,3.67,3.68,3.8,3.7,3.44,3.08,2.94]
[5,4.9800000000000004,null,109,"'-ฉวาง","ฉวาง","นครศรีธรรมราช",3.45,3.81,4.1100000000000003,4.0999999999999996,3.64,3.52,3.16,3.57,3.54,3.01,3.07,2.93]
[6,4.4400000000000004,null,110,"พัทลุง","พัทลุง","พัทลุง",".'-",".'-",".'-",".'-",".'-",".'-",".'-",".'-",".'-",".'-",".'-",".'-"]
[7,4.0599999999999996,null,111,"'-สถานีฯเกษตร พัทลุง","สถานีฯเกษตร พัทลุง","พัทลุง",3.46,4,4.1100000000000003,4.26,3.77,4.04,3.74,3.88,3.86,3.59,3.17,3.07]
[8,3.61,null,112,"'-ตะกั่วป่า","ตะกั่วป่า","พัทลุง",3.83,4.17,4.1399999999999997,4.13,3.7,3.31,3.28,3.36,3.22,3.03,3.42,3.48]
[9,3.46,null,113,"ภูเก็ต","ภูเก็ต","ภูเก็ต",4.29,4.62,4.55,4.34,3.84,3.81,3.78,3.98,3.43,3.53,3.65,3.83]
[10,3.51,null,114,"'-ท่าอากาศยานภูเก็ต","ท่าอากาศยานภูเก็ต","ภูเก็ต",4.04,4.37,4.58,4.3600000000000003,3.93,3.93,3.92,3.78,3.52,3.19,3.32,3.67]
[11,3.42,null,115,"'-เกาะลันตา","เกาะลันตา","ภูเก็ต",4.2300000000000004,4.51,4.47,4.1100000000000003,3.61,3.58,3.58,3.72,3.58,3.34,3.06,3.68]
[12,3.13,null,116,"กระบี่","กระบี่","กระบี่",4.08,4.7300000000000004,4.42,4.21,3.73,3.58,3.54,3.63,3.57,3.07,3.27,3.5]
[13,2.84,null,117,"ตรัง","ตรัง","ตรัง",".'-",".'-",".'-",".'-",".'-",".'-",".'-",".'-",".'-",".'-",".'-",".'-"]
[1,"'-เถิน",null,118,"'-ท่าอากาศยานตรัง","ท่าอากาศยานตรัง","ตรัง",4.21,4.8600000000000003,4.67,4.3,3.71,3.6,3.24,3.35,3.26,3.12,3.27,3.64]
[2,3.64,null,119,"สงขลา","สงขลา","สงขลา",3.94,4.34,4.4800000000000004,4.51,3.91,3.9,3.91,4.09,3.92,3.36,3.09,3.37]
[3,4.54,null,120,"'-สถานีฯเกษตร คอหงส์","สถานีฯเกษตร คอหงส์","สงขลา",3.71,4.24,4.24,4.26,3.75,3.67,3.68,3.83,3.49,3.58,2.97,3.26]
[4,5.6,null,121,"'-สะเดา","สะเดา","สงขลา",3.51,4.03,4.1399999999999997,4.1399999999999997,3.66,3.53,3.55,3.38,3.31,3.15,2.89,3.06]
[5,5.77,null,122,"'-ท่าอากาศยานหาดใหญ่","ท่าอากาศยานหาดใหญ่","สงขลา",3.8,4.22,4.5,4.0599999999999996,3.57,3.56,3.62,3.75,3.56,3.28,2.99,2.94]
[6,4.3899999999999997,null,123,"สตูล","สตูล","สตูล",4.43,4.5999999999999996,4.4000000000000004,4.18,3.64,3.52,3.53,3.65,3.28,3.14,3.32,3.8]
[7,4.2699999999999996,null,124,"ปัตตานี","ปัตตานี","ปัตตานี",".'-",".'-",".'-",".'-",".'-",".'-",".'-",".'-",".'-",".'-",".'-",".'-"]
[8,3.86,null,125,"'-ท่าอากาศยานปัตตานี","ท่าอากาศยานปัตตานี","ปัตตานี",3.36,3.95,3.91,3.95,3.49,{"$f":"OFFSET($B$1,(13*($D126-1)+M$1),0,1,1)","v":3.39},3.42,3.52,3.48,3.25,2.95,2.85]
[9,3.67,null,126,"ยะลา","ยะลา","ยะลา",".'-",".'-",".'-",".'-",".'-",".'-",".'-",".'-",".'-",".'-",".'-",".'-"]
[10,3.73,null,127,"'-สถานีฯเกษตร ยะลา","สถานีฯเกษตร ยะลา","ยะลา",3.53,4.2,4.25,4.3099999999999996,3.77,3.66,3.66,3.8,3.75,3.59,2.94,3.1]
[11,3.64,null,128,"นราธิวาส","นราธิวาส","นราธิวาส",3.32,3.82,4.07,4.1900000000000004,3.75,3.63,3.61,3.72,3.4,3.25,2.94,2.92]
[12,3.77,null,129]
[13,3.45,null,130]
[1,"'-สถานีฯเกษตร ลำปาง",null,131]
[2,2.77,null,132]
[3,3.26,null,133]
[4,4.0599999999999996,null,134]
[5,4.22,null,135]
[6,3.78,null,136]
[7,3.45,null,137]
[8,3.37,null,138]
[9,3.28]
[10,3.06]
[11,3.29]
[12,3.11]
[{"$f":"+A131","v":13},2.7]
[1,"ลำพูน"]
[2,2.94]
[3,3.79]
[4,4.7300000000000004]
[5,5.46]
[6,4.5599999999999996]
[7,3.78]
[8,3.68]
[9,3.47]
[10,3.47]
[11,3.35]
[12,3.06]
[13,2.74]
[1,"แพร่"]
[2,2.98]
[3,3.7]
[4,4.4800000000000004]
[5,4.91]
[6,4.57]
[7,3.73]
[8,3.59]
[9,3.44]
[10,3.5]
[11,3.41]
[12,3.17]
[13,2.68]
[1,"น่าน"]
[2,2.88]
[3,3.49]
[4,4.3899999999999997]
[5,4.63]
[6,4.25]
[7,3.88]
[8,3.43]
[9,3.33]
[10,3.43]
[11,3.47]
[12,3.04]
[13,2.7]
[1,"'-สถานีฯเกษตร น่าน"]
[2,2.88]
[3,3.54]
[4,4.37]
[5,4.83]
[6,4.1399999999999997]
[7,3.78]
[8,3.37]
[9,3.27]
[10,3.72]
[11,3.74]
[12,3.32]
[13,2.81]
[1,"'-ท่าวังผา"]
[2,2.88]
[3,3.56]
[4,4.55]
[5,4.67]
[6,4.28]
[7,3.56]
[8,3.46]
[9,2.78]
[10,3.41]
[11,3.4]
[{"$f":"+A195","v":12},3.11]
[13,2.65]
[1,"'-ทุ่งช้าง"]
[2,3.14]
[3,3.81]
[4,4.76]
[5,4.91]
[6,4.3899999999999997]
[7,4.22]
[8,3.76]
[9,3.29]
[10,3.73]
[11,3.92]
[12,3.29]
[13,2.9]
[1,"อุตรดิตถ์"]
[2,3.25]
[3,3.88]
[4,4.7699999999999996]
[5,4.91]
[6,4.43]
[7,3.59]
[8,3.5]
[9,3.4]
[10,3.52]
[11,3.59]
[12,3.48]
[13,2.99]
[1,"ตาก"]
[2,3.2]
[3,4.16]
[4,5.25]
[5,5.8]
[6,4.9400000000000004]
[7,3.86]
[8,3.93]
[9,3.84]
[10,3.33]
[11,3.39]
[12,3.21]
[13,2.94]
[1,"'-แม่สอด"]
[2,3.32]
[3,4.08]
[4,4.96]
[5,5.41]
[6,4.21]
[7,3]
[8,2.88]
[9,2.79]
[10,3.15]
[11,3.52]
[12,3.48]
[13,3.31]
[1,"'-เขื่อนภูมิพล"]
[2,3.23]
[3,4.12]
[4,5.14]
[5,5.67]
[6,4.59]
[7,3.81]
[8,3.8]
[9,3.74]
[10,3.26]
[{"$f":"+A259","v":11},3.41]
[12,3.16]
[13,3.01]
[1,"'-อุ้มผาง"]
[2,3.12]
[3,3.71]
[4,4.3]
[5,4.51]
[6,3.7]
[7,2.75]
[8,2.69]
[9,2.64]
[10,2.52]
[11,2.99]
[12,3.33]
[13,2.98]
[1,"'-สถานีฯเกษตร ดอยมูเซอ"]
[2,4.1399999999999997]
[3,3.87]
[4,4.88]
[5,5.76]
[6,4.46]
[7,3.61]
[8,2.84]
[9,2.59]
[10,2.91]
[11,2.9]
[12,3.15]
[13,2.93]
[1,"พิษณุโลก"]
[2,3.27]
[3,4.01]
[4,4.99]
[5,5.32]
[6,4.71]
[7,3.78]
[8,3.65]
[9,3.51]
[10,3.27]
[11,3.55]
[12,3.42]
[13,3.19]
[1,"เพชรบูรณ์"]
[2,3.33]
[3,4.05]
[4,4.96]
[5,5.18]
[6,4.16]
[7,3.69]
[8,3.58]
[9,3.43]
[10,3.22]
[11,3.69]
[12,3.73]
[13,3.41]
[1,"'-หล่มสัก"]
[2,3.15]
[3,3.83]
[4,4.34]
[5,4.53]
[6,4.04]
[7,3.66]
[8,3.59]
[9,2.93]
[{"$f":"+A323","v":10},3.18]
[11,3.57]
[12,3.48]
[13,3.12]
[1,"'-วิเชียรบุรี"]
[2,3.31]
[3,4.07]
[4,4.5599999999999996]
[5,4.7300000000000004]
[6,4.08]
[7,3.64]
[8,3.58]
[9,2.93]
[10,3.22]
[11,3.53]
[12,3.49]
[13,3.26]
[1,"กำแพงเพชร"]
[2,3.26]
[3,3.91]
[4,4.3499999999999996]
[5,5.01]
[6,4.45]
[7,3.92]
[8,3.5]
[9,3.41]
[10,3.55]
[11,3.48]
[12,3.34]
[13,3.11]
[1,"สุโขทัย"]
[2,3.36]
[3,4.03]
[4,4.66]
[5,5.72]
[6,4.4400000000000004]
[7,4.32]
[8,3.94]
[9,3.78]
[10,3.66]
[11,3.66]
[12,3.51]
[13,3.26]
[1,"'-สถานีฯเกษตร ศรีสาโรง"]
[2,3.04]
[3,3.49]
[4,4.47]
[5,4.96]
[6,3.95]
[7,3.93]
[8,3.54]
[9,3.43]
[10,3.49]
[11,3.44]
[12,3.45]
[13,3]
[1,"พิจิตร"]
[2,".'-"]
[3,".'-"]
[4,".'-"]
[5,".'-"]
[6,".'-"]
[7,".'-"]
[8,".'-"]
[{"$f":"+A387","v":9},".'-"]
[10,".'-"]
[11,".'-"]
[12,".'-"]
[13,".'-"]
[1,"'-สถานีฯเกษตร พิจิตร"]
[2,3.28]
[3,3.89]
[4,4.3499999999999996]
[5,4.5999999999999996]
[6,4.05]
[7,3.98]
[8,3.5]
[9,3.4]
[10,3.19]
[11,3.47]
[12,3.58]
[13,3.24]
[1,"หนองคาย"]
[2,3.11]
[3,3.78]
[4,4.62]
[5,4.62]
[6,4.03]
[7,3.56]
[8,3.51]
[9,3.41]
[10,3.51]
[11,3.63]
[12,3.31]
[13,3.04]
[1,"เลย"]
[2,3.28]
[3,4.0599999999999996]
[4,4.8099999999999996]
[5,5.0599999999999996]
[6,4.43]
[7,4.07]
[8,3.66]
[9,3.55]
[10,3.55]
[11,3.55]
[12,3.23]
[13,3.04]
[1,"'-สถานีฯเกษตร เลย"]
[2,3.19]
[3,3.95]
[4,4.7300000000000004]
[5,4.76]
[6,4.2]
[7,3.89]
[8,3.87]
[9,3.39]
[10,3.84]
[11,3.5]
[12,3.42]
[13,3]
[1,"อุดรธานี"]
[2,3.32]
[3,4.07]
[4,4.8499999999999996]
[5,5.21]
[6,4.5599999999999996]
[7,4.08]
[{"$f":"+A451","v":8},3.71]
[9,3.55]
[10,3.61]
[11,3.73]
[12,3.7]
[13,3.22]
[1,"สกลนคร"]
[2,3.44]
[3,4.09]
[4,4.87]
[5,5.0199999999999996]
[6,4.4000000000000004]
[7,3.99]
[8,3.57]
[9,3.44]
[10,3.86]
[11,3.9]
[12,3.64]
[13,3.25]
[1,"'-สถานีฯเกษตร สกลนคร"]
[2,3.14]
[3,3.75]
[4,4.4800000000000004]
[5,5]
[6,4.3600000000000003]
[7,4.26]
[8,3.86]
[9,3.69]
[10,3.98]
[11,3.77]
[12,3.38]
[13,3.09]
[1,"นครพนม"]
[2,3.33]
[3,3.86]
[4,4.3]
[5,4.5]
[6,3.95]
[7,3.47]
[8,3.42]
[9,3.33]
[10,3.48]
[11,3.6]
[12,3.6]
[13,3.16]
[1,"'-สถานีฯเกษตร นครพนม"]
[2,3.52]
[3,4.03]
[4,4.4800000000000004]
[5,4.96]
[6,4.28]
[7,4.25]
[8,3.81]
[9,3.32]
[10,3.83]
[11,3.57]
[12,3.59]
[13,3.25]
[1,"ขอนแก่น"]
[2,3.65]
[3,4.18]
[4,5.09]
[5,4.97]
[6,4.67]
[{"$f":"+A515","v":7},4.29]
[8,3.88]
[9,3.68]
[10,3.61]
[11,3.79]
[12,3.83]
[13,3.63]
[1,"'-สถานีฯเกษตร ท่าพระ"]
[2,3.2]
[3,3.81]
[4,4.4800000000000004]
[5,4.76]
[6,4.25]
[7,3.91]
[8,3.88]
[9,3.36]
[10,3.48]
[11,3.59]
[12,3.48]
[13,3.18]
[1,"มุกดาหาร"]
[2,3.65]
[3,4.18]
[4,5]
[5,5.15]
[6,4.1100000000000003]
[7,3.64]
[8,3.56]
[9,3.43]
[10,3.57]
[11,3.8]
[12,3.95]
[13,3.53]
[1,"มหาสารคาม"]
[2,3.57]
[3,4.1900000000000004]
[4,4.71]
[5,5.22]
[6,4.62]
[7,4.22]
[8,3.84]
[9,3.64]
[10,3.62]
[11,3.76]
[12,3.83]
[13,3.58]
[1,"กาฬสินธุ์"]
[2,4.1500000000000004]
[3,4.8899999999999997]
[4,5.4]
[5,5.45]
[6,4.8]
[7,4.32]
[8,4.22]
[9,3.65]
[10,3.71]
[11,4.0599999999999996]
[12,4.3]
[13,4.0999999999999996]
[1,"ชัยภูมิ"]
[2,3.6]
[3,4.2]
[4,5]
[5,5.12]
[{"$f":"+A579","v":6},4.47]
[7,4.13]
[8,3.77]
[9,3.61]
[10,3.6]
[11,3.78]
[12,3.89]
[13,3.51]
[1,"ร้อยเอ็ด"]
[2,3.49]
[3,4.13]
[4,4.66]
[5,4.83]
[6,4.22]
[7,3.9]
[8,3.84]
[9,3.64]
[10,3.61]
[11,3.63]
[12,3.68]
[13,3.51]
[1,"'-สถานีฯเกษตร ร้อยเอ็ด"]
[2,4.04]
[3,4.4400000000000004]
[4,4.92]
[5,5.25]
[6,4.59]
[7,4.62]
[8,4.21]
[9,3.9]
[10,3.6]
[11,3.78]
[12,4.0999999999999996]
[13,3.9]
[1,"อุบลราชธานี"]
[2,4]
[3,4.53]
[4,4.93]
[5,5.03]
[6,4.45]
[7,3.96]
[8,3.87]
[9,3.71]
[10,3.43]
[11,3.71]
[12,4.2300000000000004]
[13,4.22]
[1,"'-สถานีฯเกษตรอุบลราชธานี"]
[2,3.63]
[3,3.68]
[4,4.2300000000000004]
[5,4.13]
[6,3.65]
[7,3.64]
[8,3.56]
[9,2.87]
[10,3.22]
[11,3.34]
[12,3.64]
[13,3.42]
[1,"ศรีสะเกษ"]
[2,".'-"]
[3,".'-"]
[4,".'-"]
[{"$f":"+A643","v":5},".'-"]
[6,".'-"]
[7,".'-"]
[8,".'-"]
[9,".'-"]
[10,".'-"]
[11,".'-"]
[12,".'-"]
[13,".'-"]
[1,"'-สถานีฯเกษตร ศรีสะเกษ"]
[2,3.4]
[3,3.92]
[4,4.5599999999999996]
[5,4.75]
[6,4.42]
[7,4.43]
[8,4.1900000000000004]
[9,3.71]
[10,3.85]
[11,3.62]
[12,3.79]
[13,3.45]
[1,"นครราชสีมา"]
[2,3.37]
[3,3.95]
[4,4.3899999999999997]
[5,4.6399999999999997]
[6,4.2]
[7,3.95]
[8,3.89]
[9,3.79]
[10,3.36]
[11,3.42]
[12,3.51]
[13,3.41]
[1,"'-สถานีฯเกษตร ปากช่อง"]
[2,4.71]
[3,4.71]
[4,5.01]
[5,4.8099999999999996]
[6,4.2]
[7,4.54]
[8,4.26]
[9,4.04]
[10,3.38]
[11,3.5]
[12,4.4400000000000004]
[13,4.5199999999999996]
[1,"'-โชคชัย"]
[2,3.47]
[3,4.21]
[4,4.68]
[5,4.74]
[6,4.09]
[7,4.18]
[8,3.82]
[9,3.72]
[10,3.31]
[11,3.6]
[12,3.57]
[13,3.42]
[1,"สุรินทร์"]
[2,3.76]
[3,4.3600000000000003]
[{"$f":"+A707","v":4},4.83]
[5,4.87]
[6,4.21]
[7,4.12]
[8,3.71]
[9,3.61]
[10,3.62]
[11,3.7]
[12,3.84]
[13,3.8]
[1,"'-สถานีฯเกษตร สุรินทร์"]
[2,3.52]
[3,3.97]
[4,4.38]
[5,4.5599999999999996]
[6,3.96]
[7,3.98]
[8,3.53]
[9,3.45]
[10,3.58]
[11,3.6]
[12,3.67]
[13,3.43]
[1,"'-ท่าตูม"]
[2,3.54]
[3,4.2]
[4,4.78]
[5,4.99]
[6,4.43]
[7,4.03]
[8,3.96]
[9,3.52]
[10,3.55]
[11,3.72]
[12,3.89]
[13,3.62]
[1,"บุรีรัมย์"]
[2,4.17]
[3,4.8099999999999996]
[4,5.27]
[5,5.49]
[6,4.74]
[7,4.66]
[8,4.1399999999999997]
[9,3.67]
[10,3.64]
[11,3.86]
[12,4.12]
[13,3.98]
[1,"'-นางรอง"]
[2,3.62]
[3,4.16]
[4,4.8099999999999996]
[5,4.9400000000000004]
[6,4.38]
[7,4]
[8,3.94]
[9,3.55]
[10,3.6]
[11,3.75]
[12,3.92]
[13,3.57]
[1,"นครสวรรค์"]
[2,3.71]
[{"$f":"+A771","v":3},4.87]
[4,6.06]
[5,6.06]
[6,4.55]
[7,4.0999999999999996]
[8,3.92]
[9,3.71]
[10,3.32]
[11,3.57]
[12,3.51]
[13,3.37]
[1,"'-สถานีฯเกษตร ตากฟ้า"]
[2,3.94]
[3,4.3499999999999996]
[4,4.88]
[5,4.93]
[6,4.46]
[7,4.0199999999999996]
[8,3.89]
[9,3.48]
[10,3.57]
[11,3.54]
[12,3.86]
[13,3.81]
[1,"ชัยนาท"]
[2,".'-"]
[3,".'-"]
[4,".'-"]
[5,".'-"]
[6,".'-"]
[7,".'-"]
[8,".'-"]
[9,".'-"]
[10,".'-"]
[11,".'-"]
[12,".'-"]
[13,".'-"]
[1,"'-สถานีฯเกษตร ชัยนาท"]
[2,3.3]
[3,3.68]
[4,4.34]
[5,4.5599999999999996]
[6,4.3099999999999996]
[7,4.2699999999999996]
[8,3.84]
[9,3.47]
[10,3.42]
[11,3.26]
[12,3.31]
[13,3.21]
[1,"อยุธยา"]
[2,3.95]
[3,4.2]
[4,4.58]
[5,4.58]
[6,4.0199999999999996]
[7,4.0999999999999996]
[8,3.73]
[9,3.68]
[10,3.36]
[11,3.46]
[12,3.92]
[13,3.94]
[1,"ปทุมธานี"]
[{"$f":"+A835","v":2},3.54]
[3,3.85]
[4,4.4400000000000004]
[5,4.6399999999999997]
[6,4.05]
[7,4.1500000000000004]
[8,3.62]
[9,3.59]
[10,3.26]
[11,2.9]
[12,3.83]
[13,3.54]
[1,"ราชบุรี"]
[2,4.04]
[3,4.6100000000000003]
[4,5.27]
[5,5.15]
[6,4]
[7,3.96]
[8,3.57]
[9,3.63]
[10,3.44]
[11,3.39]
[12,3.86]
[13,4.01]
[1,"สุพรรณบุรี"]
[2,3.45]
[3,4.1100000000000003]
[4,4.83]
[5,5.01]
[6,4.3600000000000003]
[7,3.99]
[8,3.89]
[9,3.32]
[10,3.45]
[11,3.45]
[12,3.58]
[13,3.5]
[1,"'-สถานีฯเกษตร อู่ทอง"]
[2,3.46]
[3,4.12]
[4,4.74]
[5,4.87]
[6,3.89]
[7,3.9]
[8,3.52]
[9,3.51]
[10,3.25]
[11,3.54]
[12,3.47]
[13,3.41]
[1,"ลพบุรี"]
[2,3.76]
[3,4.32]
[4,4.78]
[5,5.09]
[6,4.1100000000000003]
[7,3.67]
[8,3.59]
[9,3.56]
[10,3.27]
[11,3.65]
[12,3.86]
[13,3.82]
[{"$f":"+A899","v":1},"'-บัวชุม"]
[2,4.03]
[3,4.8899999999999997]
[4,5.48]
[5,5.03]
[6,4.22]
[7,3.82]
[8,3.73]
[9,3.05]
[10,3.25]
[11,3.65]
[12,3.85]
[13,3.93]
[1,"กาญจนบุรี"]
[2,3.6]
[3,4.3600000000000003]
[4,4.8]
[5,5.3]
[6,4.1900000000000004]
[7,3.72]
[8,3.71]
[9,3.72]
[10,3.44]
[11,3.33]
[12,3.42]
[13,3.51]
[1,"'-ทองผาภูมิ"]
[2,3.44]
[3,4.08]
[4,4.71]
[5,5.14]
[6,3.81]
[7,3.31]
[8,2.73]
[9,2.69]
[10,2.61]
[11,3.16]
[12,3.39]
[13,3.33]
[1,"กรุงเทพมหานคร"]
[2,3.52]
[3,4.17]
[4,4.78]
[5,4.6900000000000004]
[6,4.0999999999999996]
[7,4.07]
[8,3.98]
[9,3.46]
[10,3.07]
[11,3.23]
[12,3.62]
[13,3.49]
[1,"'-ท่าเรือคลองเตย"]
[2,4.51]
[3,4.57]
[4,5.18]
[5,5.04]
[6,4.5599999999999996]
[7,4.6100000000000003]
[8,4.47]
[9,4.46]
[10,4.2699999999999996]
[11,3.97]
[12,4.96]
[{"$f":"+A963","v":13},4.7699999999999996]
[1,"'-ท่าอากาศยานดอนเมือง"]
[2,4.1399999999999997]
[3,4.8]
[4,5.37]
[5,5.54]
[6,4.9400000000000004]
[7,4.63]
[8,4.5999999999999996]
[9,4.43]
[10,3.95]
[11,3.87]
[12,4.1100000000000003]
[13,4.04]
[1,"สมุทรปราการ"]
[2,".'-"]
[3,".'-"]
[4,".'-"]
[5,".'-"]
[6,".'-"]
[7,".'-"]
[8,".'-"]
[9,".'-"]
[10,".'-"]
[11,".'-"]
[12,".'-"]
[13,".'-"]
[1,"'-สถานีฯเกษตร บางนา"]
[2,1.1399999999999999]
[3,2.0299999999999998]
[4,3.25]
[5,3.75]
[6,3.74]
[7,3.96]
[8,3.74]
[9,3.36]
[10,2.6]
[11,1.79]
[12,1.46]
[13,0.99]
[1,"เพชรบุรี"]
[2,3.59]
[3,4.2300000000000004]
[4,4.87]
[5,4.8899999999999997]
[6,4.22]
[7,3.74]
[8,3.66]
[9,3.17]
[10,3.38]
[11,3.08]
[12,3.39]
[13,3.49]
[1,"ประจวบคีรีขันธ์"]
[2,3.82]
[3,4.1900000000000004]
[4,4.38]
[5,4.7699999999999996]
[6,4.22]
[7,3.93]
[8,3.9]
[9,3.89]
[10,3.68]
[11,3.49]
[{"$f":"+A1027","v":12},3.84]
[13,4.18]
[1,"'-หัวหิน"]
[2,3.93]
[3,4.49]
[4,5.0599999999999996]
[5,5.07]
[6,4.51]
[7,4.18]
[8,3.79]
[9,3.81]
[10,3.49]
[11,3.45]
[12,3.74]
[13,4.0199999999999996]
[1,"'-สถานีฯเกษตร หนองพลับ"]
[2,3.77]
[3,4.25]
[4,4.49]
[5,4.6500000000000004]
[6,3.84]
[7,3.82]
[8,3.4]
[9,2.92]
[10,3.26]
[11,3.32]
[12,3.4]
[13,3.43]
[1,"นครปฐม"]
[2,3.7]
[3,4.3499999999999996]
[4,5.15]
[5,5.12]
[6,4.0199999999999996]
[7,4]
[8,3.63]
[9,3.16]
[10,3.44]
[11,3.69]
[12,3.92]
[13,3.66]
[1,"ฉะเชิงเทรา"]
[2,3.85]
[3,3.83]
[4,4.1900000000000004]
[5,4.3099999999999996]
[6,3.86]
[7,3.52]
[8,3.46]
[9,3.46]
[10,3.26]
[11,3.33]
[12,3.47]
[13,3.51]
[1,"ปราจีนบุรี"]
[2,3.87]
[3,4.04]
[4,4.3]
[5,4.62]
[6,3.98]
[7,3.5]
[8,3.45]
[9,3.43]
[10,3.27]
[{"$f":"+A1091","v":11},3.79]
[12,4.0999999999999996]
[13,4.07]
[1,"'-กบินทร์บุรี"]
[2,3.75]
[3,4.08]
[4,4.33]
[5,4.67]
[6,3.98]
[7,3.5]
[8,3.43]
[9,2.87]
[10,3.22]
[11,3.36]
[12,3.93]
[13,3.94]
[1,"สระแก้ว"]
[2,3.96]
[3,4.46]
[4,4.67]
[5,4.66]
[6,3.96]
[7,3.88]
[8,3.45]
[9,3.4]
[10,3.24]
[11,3.64]
[12,3.92]
[13,3.78]
[1,"'-อรัญประเทศ"]
[2,3.89]
[3,4.3499999999999996]
[4,4.9800000000000004]
[5,4.91]
[6,4.1100000000000003]
[7,4.0599999999999996]
[8,3.99]
[9,3.6]
[10,3.35]
[11,3.42]
[12,3.61]
[13,3.64]
[1,"ชลบุรี"]
[2,4.09]
[3,4.55]
[4,4.83]
[5,5.14]
[6,4.4800000000000004]
[7,4.13]
[8,4.12]
[9,3.74]
[10,3.43]
[11,3.49]
[12,4.09]
[13,4.16]
[1,"'-เกาะสีชัง"]
[2,3.87]
[3,4.1900000000000004]
[4,4.46]
[5,4.7699999999999996]
[6,4.24]
[7,4.07]
[8,3.98]
[9,3.94]
[{"$f":"+A1155","v":10},3.48]
[11,3.47]
[12,4]
[13,4.2699999999999996]
[1,"'-พัทยา"]
[2,4.1399999999999997]
[3,4.37]
[4,4.83]
[5,4.8099999999999996]
[6,4.3099999999999996]
[7,4.1900000000000004]
[8,4.1399999999999997]
[9,4.1399999999999997]
[10,3.61]
[11,3.56]
[12,4.13]
[13,4.49]
[1,"'-สัตหีบ"]
[2,3.99]
[3,4.3600000000000003]
[4,4.66]
[5,4.9800000000000004]
[6,4.2699999999999996]
[7,4.26]
[8,4.17]
[9,3.7]
[10,3.71]
[11,3.39]
[12,4.08]
[13,4.21]
[1,"'-แหลมฉบัง"]
[2,4.83]
[3,4.71]
[4,5.28]
[5,5.3]
[6,4.6399999999999997]
[7,4.67]
[8,4.6900000000000004]
[9,4.5599999999999996]
[10,4.0999999999999996]
[11,3.7]
[12,4.74]
[13,4.84]
[1,"ระยอง"]
[2,3.75]
[3,4.34]
[4,4.54]
[5,4.83]
[6,4.33]
[7,4.1500000000000004]
[8,4.08]
[9,4.03]
[10,3.55]
[11,3.51]
[12,3.77]
[13,3.78]
[1,"'-สถานีฯเกษตร ห้วยโป่ง"]
[2,3.56]
[3,3.61]
[4,4.0999999999999996]
[5,4.24]
[6,3.83]
[7,3.79]
[8,3.42]
[{"$f":"+A1219","v":9},3.44]
[10,3.29]
[11,3.35]
[12,3.64]
[13,3.59]
[1,"จันทบุรี"]
[2,3.72]
[3,3.71]
[4,4.08]
[5,4.3499999999999996]
[6,3.44]
[7,2.85]
[8,2.85]
[9,2.84]
[10,2.69]
[11,3.34]
[12,3.83]
[13,3.95]
[1,"'-สถานีฯเกษตร พลิ้ว"]
[2,3.94]
[3,3.73]
[4,3.98]
[5,4.2]
[6,3.42]
[7,3.36]
[8,3.34]
[9,2.84]
[10,3.2]
[11,3.31]
[12,3.78]
[13,3.86]
[1,"ตราด"]
[2,3.8]
[3,3.83]
[4,4.17]
[5,4.28]
[6,3.89]
[7,3.35]
[8,3.32]
[9,2.87]
[10,3.22]
[11,3.35]
[12,3.68]
[13,3.84]
[1,"ชุมพร"]
[2,3.45]
[3,4.0999999999999996]
[4,4.55]
[5,4.5]
[6,3.89]
[7,3.54]
[8,3.49]
[9,3.53]
[10,3.39]
[11,3.38]
[12,3.4]
[13,3.44]
[1,"'-สถานีฯเกษตร สวี"]
[2,3.34]
[3,3.61]
[4,4.13]
[5,4.1500000000000004]
[6,3.74]
[7,4.12]
[{"$f":"+A1283","v":8},3.68]
[9,3.83]
[10,3.67]
[11,3.36]
[12,3.08]
[13,3.27]
[1,"ระนอง"]
[2,3.84]
[3,4.21]
[4,4.29]
[5,4.2699999999999996]
[6,3.76]
[7,3.34]
[8,3.27]
[9,3.3]
[10,3.2]
[11,3.31]
[12,3.41]
[13,3.52]
[1,"สุราษฎร์ธานี"]
[2,3.55]
[3,4.24]
[4,4.34]
[5,4.28]
[6,3.8]
[7,3.47]
[8,3.42]
[9,3.49]
[10,3.36]
[11,3.07]
[12,3.1]
[13,3.27]
[1,"'-ท่าอากาศยาน สุราษฎร์ธานี"]
[2,3.65]
[3,4.0599999999999996]
[4,4.42]
[5,4.42]
[6,3.9]
[7,3.51]
[8,3.49]
[9,3.53]
[10,3.41]
[11,3.13]
[12,3.15]
[13,3.08]
[1,"'-เกาะสมุย"]
[2,3.65]
[3,4.24]
[4,4.5599999999999996]
[5,4.42]
[6,4.26]
[7,3.97]
[8,3.97]
[9,4.05]
[10,3.89]
[11,3.43]
[12,3.43]
[13,3.38]
[1,"'-สถานีฯเกษตร สุราษฎร์ธานี"]
[2,3.32]
[3,4.04]
[4,4.37]
[5,4.24]
[6,3.65]
[{"$f":"+A1347","v":7},3.6]
[8,3.61]
[9,3.68]
[10,3.61]
[11,3.34]
[12,2.99]
[13,3.11]
[1,"'-พระแสง"]
[2,3.49]
[3,4]
[4,4.2]
[5,4.24]
[6,3.41]
[7,3.62]
[8,3.28]
[9,3.35]
[10,3.3]
[11,3.08]
[12,2.89]
[13,3.1]
[1,"นครศรีธรรมราช"]
[2,3.19]
[3,3.79]
[4,4.1399999999999997]
[5,4.1500000000000004]
[6,3.77]
[7,3.75]
[8,3.76]
[9,3.55]
[10,3.35]
[11,3.09]
[12,2.83]
[13,2.95]
[1,"'-สถานีฯเกษตรนครศรีธรรมราช"]
[2,3.31]
[3,3.72]
[4,4.04]
[5,4.21]
[6,3.67]
[7,3.67]
[8,3.68]
[9,3.8]
[10,3.7]
[11,3.44]
[12,3.08]
[13,2.94]
[1,"'-ฉวาง"]
[2,3.45]
[3,3.81]
[4,4.1100000000000003]
[5,4.0999999999999996]
[6,3.64]
[7,3.52]
[8,3.16]
[9,3.57]
[10,3.54]
[11,3.01]
[12,3.07]
[13,2.93]
[1,"พัทลุง"]
[2,".'-"]
[3,".'-"]
[4,".'-"]
[5,".'-"]
[{"$f":"+A1411","v":6},".'-"]
[7,".'-"]
[8,".'-"]
[9,".'-"]
[10,".'-"]
[11,".'-"]
[12,".'-"]
[13,".'-"]
[1,"'-สถานีฯเกษตร พัทลุง"]
[2,3.46]
[3,4]
[4,4.1100000000000003]
[5,4.26]
[6,3.77]
[7,4.04]
[8,3.74]
[9,3.88]
[10,3.86]
[11,3.59]
[12,3.17]
[13,3.07]
[1,"'-ตะกั่วป่า"]
[2,3.83]
[3,4.17]
[4,4.1399999999999997]
[5,4.13]
[6,3.7]
[7,3.31]
[8,3.28]
[9,3.36]
[10,3.22]
[11,3.03]
[12,3.42]
[13,3.48]
[1,"ภูเก็ต"]
[2,4.29]
[3,4.62]
[4,4.55]
[5,4.34]
[6,3.84]
[7,3.81]
[8,3.78]
[9,3.98]
[10,3.43]
[11,3.53]
[12,3.65]
[13,3.83]
[1,"'-ท่าอากาศยานภูเก็ต"]
[2,4.04]
[3,4.37]
[4,4.58]
[5,4.3600000000000003]
[6,3.93]
[7,3.93]
[8,3.92]
[9,3.78]
[10,3.52]
[11,3.19]
[12,3.32]
[13,3.67]
[1,"'-เกาะลันตา"]
[2,4.2300000000000004]
[3,4.51]
[4,4.47]
[{"$f":"+A1475","v":5},4.1100000000000003]
[6,3.61]
[7,3.58]
[8,3.58]
[9,3.72]
[10,3.58]
[11,3.34]
[12,3.06]
[13,3.68]
[1,"กระบี่"]
[2,4.08]
[3,4.7300000000000004]
[4,4.42]
[5,4.21]
[6,3.73]
[7,3.58]
[8,3.54]
[9,3.63]
[10,3.57]
[11,3.07]
[12,3.27]
[13,3.5]
[1,"ตรัง"]
[2,".'-"]
[3,".'-"]
[4,".'-"]
[5,".'-"]
[6,".'-"]
[7,".'-"]
[8,".'-"]
[9,".'-"]
[10,".'-"]
[11,".'-"]
[12,".'-"]
[13,".'-"]
[1,"'-ท่าอากาศยานตรัง"]
[2,4.21]
[3,4.8600000000000003]
[4,4.67]
[5,4.3]
[6,3.71]
[7,3.6]
[8,3.24]
[9,3.35]
[10,3.26]
[11,3.12]
[12,3.27]
[13,3.64]
[1,"สงขลา"]
[2,3.94]
[3,4.34]
[4,4.4800000000000004]
[5,4.51]
[6,3.91]
[7,3.9]
[8,3.91]
[9,4.09]
[10,3.92]
[11,3.36]
[12,3.09]
[13,3.37]
[1,"'-สถานีฯเกษตร คอหงส์"]
[2,3.71]
[3,4.24]
[{"$f":"+A1539","v":4},4.24]
[5,4.26]
[6,3.75]
[7,3.67]
[8,3.68]
[9,3.83]
[10,3.49]
[11,3.58]
[12,2.97]
[13,3.26]
[1,"'-สะเดา"]
[2,3.51]
[3,4.03]
[4,4.1399999999999997]
[5,4.1399999999999997]
[6,3.66]
[7,3.53]
[8,3.55]
[9,3.38]
[10,3.31]
[11,3.15]
[12,2.89]
[13,3.06]
[1,"'-ท่าอากาศยานหาดใหญ่"]
[2,3.8]
[3,4.22]
[4,4.5]
[5,4.0599999999999996]
[6,3.57]
[7,3.56]
[8,3.62]
[9,3.75]
[10,3.56]
[11,3.28]
[12,2.99]
[13,2.94]
[1,"สตูล"]
[2,4.43]
[3,4.5999999999999996]
[4,4.4000000000000004]
[5,4.18]
[6,3.64]
[7,3.52]
[8,3.53]
[9,3.65]
[10,3.28]
[11,3.14]
[12,3.32]
[13,3.8]
[1,"ปัตตานี"]
[2,".'-"]
[3,".'-"]
[4,".'-"]
[5,".'-"]
[6,".'-"]
[7,".'-"]
[8,".'-"]
[9,".'-"]
[10,".'-"]
[11,".'-"]
[12,".'-"]
[13,".'-"]
[1,"'-ท่าอากาศยานปัตตานี"]
[2,3.36]
[{"$f":"+A1603","v":3},3.95]
[4,3.91]
[5,3.95]
[6,3.49]
[7,3.39]
[8,3.42]
[9,3.52]
[10,3.48]
[11,3.25]
[12,2.95]
[13,2.85]
[1,"ยะลา"]
[2,".'-"]
[3,".'-"]
[4,".'-"]
[5,".'-"]
[6,".'-"]
[7,".'-"]
[8,".'-"]
[9,".'-"]
[10,".'-"]
[11,".'-"]
[12,".'-"]
[13,".'-"]
[1,"'-สถานีฯเกษตร ยะลา"]
[2,3.53]
[3,4.2]
[4,4.25]
[5,4.3099999999999996]
[6,3.77]
[7,3.66]
[8,3.66]
[9,3.8]
[10,3.75]
[11,3.59]
[12,2.94]
[13,3.1]
[1,"นราธิวาส"]
[2,3.32]
[3,3.82]
[4,4.07]
[5,4.1900000000000004]
[6,3.75]
[7,3.63]
[8,3.61]
[9,3.72]
[10,3.4]
[11,3.25]
[12,2.94]
[13,2.92]

{"sheet":"Total","index":27,"n_rows":60,"n_cols":43,"rows_kept":60,"cut":false,"hidden":false,"merged":[]}
["ปี พ.ศ.",{"$f":"'R41'!B1","v":2560}]
["โครงการชลประทาน"]
["จังหวัด"]
["รั่วซึม มม./สัปดาห์"]
["น้ำเตรียมแปลงฤดูแล้ง มม./สัปดาห์",null,{"$f":"\"='R\"&C7&\"'!L9\"","v":"='R1'!L9"},"='R2'!L9","='R3'!L9","='R4'!L9","='R5'!L9","='R6'!L9","='R7'!L9","='R8'!L9","='R9'!L9","='R10'!L9","='R11'!L9","='R12'!L9","='R13'!L9","='R14'!L9","='R15'!L9","='R16'!L9","='R17'!L9","='R18'!L9","='R19'!L9","='R20'!L9","='R21'!L9","='R22'!L9","='R23'!L9","='R24'!L9","='R25'!L9","='R26'!L9","='R27'!L9","='R28'!L9","='R29'!L9","='R30'!L9","='R31'!L9","='R32'!L9","='R33'!L9","='R34'!L9","='R35'!L9","='R36'!L9","='R37'!L9","='R38'!L9","='R39'!L9","='R40'!L9","='R41'!L9"]
["น้ำเตรียมแปลงฤดูฝน มม./สัปดาห์"]
["ประสิทธิ์ภาพโครงการ (%)",50,1,2,3,4,5,6,7,8,9,10,11,12,13,14,15,16,17,18,19,20,21,22,23,24,25,26,27,28,29,30,31,32,33,34,35,36,37,38,39,40,41]
["เริ่มต้น","สิ้นสุด","พลเทพ","ทุ่งวัดสิงห์","ท่าโบสถ์","สามชุก","ดอนเจดีย์","โพธิ์พระยา","ชลประทานสุพรรณบุรี","บรมธาตุ","ชัณสูตร","ยางมณี","ผักไห่","บางบาล","เจ้าเจ็ดบางยี่หน","พระยาบรรลือ","พระพิมล","ภาษีเจริญ","มโนรมย์","ช่องแค","โคกกะเทียม","เริงราง","มหาราช","ป่าสักใต้","นครหลวง","ชลประทานลพบุรี","คลองเพรียว-เสาไห้","เขื่อนป่าสักชลสิทธิ์","รังสิตเหนือ","รังสิตใต้","ชลหารพิจิตร","พระองค์ไชยานุชิต","เขื่อนนเรศวร","เขื่อนแควน้อย","ยมน่าน","พลายชุมพล","ดงเศรษฐี","ท่าบัว","ท่อทองแดง","ชลประทานกำแพงเพชร","ชลประทานนครสวรรค์","ชลประทานตาก","ชลประทานอุตรดิตถ์"]
[{"$f":"'R41'!A9","v":"2017-11-01"},{"$f":"'R41'!B9","v":"2017-11-07"},{"$f":"'R1'!L9","v":5465603.8877777783},{"$f":"'R2'!L9","v":177531.49666666664},{"$f":"'R3'!L9","v":2318081.5155555545},{"$f":"'R4'!L9","v":17521095.306666665},{"$f":"'R5'!L9","v":7792571.8022222221},{"$f":"'R6'!L9","v":5305853.0777777778},{"$f":"'R7'!L9","v":0},{"$f":"'R8'!L9","v":13487948.945555557},{"$f":"'R9'!L9","v":13526899.26},{"$f":"'R10'!L9","v":3316398.7533333339},{"$f":"'R11'!L9","v":760048.8},{"$f":"'R12'!L9","v":0},{"$f":"'R13'!L9","v":2567628.5142857139},{"$f":"'R14'!L9","v":4693470.4324675323},{"$f":"'R15'!L9","v":1470935.1038961038},{"$f":"'R16'!L9","v":2772087.5012987009},{"$f":"'R17'!L9","v":1343494.7458823528},{"$f":"'R18'!L9","v":656754.91764705884},{"$f":"'R19'!L9","v":309940.51764705882},{"$f":"'R20'!L9","v":708399.62352941162},{"$f":"'R21'!L9","v":970102.57176470582},{"$f":"'R22'!L9","v":3824809.0611764705},{"$f":"'R23'!L9","v":2292895.7882352942},{"$f":"'R24'!L9","v":130081.33882352943},{"$f":"'R25'!L9","v":0},{"$f":"'R26'!L9","v":1868693.35},{"$f":"'R27'!L9","v":8269754.818},{"$f":"'R28'!L9","v":18013445.531999998},{"$f":"'R29'!L9","v":10360743.520000003},{"$f":"'R30'!L9","v":19442767.719000004},{"$f":"'R31'!L9","v":1952254.636363636},{"$f":"'R32'!L9","v":31284.636363636364},{"$f":"'R33'!L9","v":0},{"$f":"'R34'!L9","v":5933229.6207792219},{"$f":"'R35'!L9","v":0},{"$f":"'R36'!L9","v":4772532.8571428582},{"$f":"'R37'!L9","v":10087011.796923075},{"$f":"'R38'!L9","v":43008705.399999991},{"$f":"'R39'!L9","v":497901.17647058819},{"$f":"'R40'!L9","v":1140011.5682352942},{"$f":"'R41'!L9","v":130689.4}]
[{"$f":"'R41'!A10","v":"2017-11-08"},{"$f":"'R41'!B10","v":"2017-11-14"},{"$f":"'R1'!L10","v":5392924.6433333326},{"$f":"'R2'!L10","v":109531.49666666667},{"$f":"'R3'!L10","v":2822514.0377777782},{"$f":"'R4'!L10","v":15344771.495555555},{"$f":"'R5'!L10","v":7418772.357777779},{"$f":"'R6'!L10","v":4448563.611111111},{"$f":"'R7'!L10","v":0},{"$f":"'R8'!L10","v":12952228.341111111},{"$f":"'R9'!L10","v":11519606.76},{"$f":"'R10'!L10","v":2815707.5644444446},{"$f":"'R11'!L10","v":760048.8},{"$f":"'R12'!L10","v":0},{"$f":"'R13'!L10","v":2046552.7870129868},{"$f":"'R14'!L10","v":3808061.6272727279},{"$f":"'R15'!L10","v":1097958.6233766235},{"$f":"'R16'!L10","v":1901139.7090909095},{"$f":"'R17'!L10","v":565973.49882352946},{"$f":"'R18'!L10","v":473759.92941176466},{"$f":"'R19'!L10","v":236924.04705882355},{"$f":"'R20'!L10","v":480851.97647058824},{"$f":"'R21'!L10","v":621366.38352941175},{"$f":"'R22'!L10","v":2130578.4729411765},{"$f":"'R23'!L10","v":2082577.635294118},{"$f":"'R24'!L10","v":75361.338823529426},{"$f":"'R25'!L10","v":0},{"$f":"'R26'!L10","v":886268.99000000011},{"$f":"'R27'!L10","v":4909504.76},{"$f":"'R28'!L10","v":18126617.451999992},{"$f":"'R29'!L10","v":11127544.100000003},{"$f":"'R30'!L10","v":19052212.369000003},{"$f":"'R31'!L10","v":0},{"$f":"'R32'!L10","v":0},{"$f":"'R33'!L10","v":0},{"$f":"'R34'!L10","v":5685185.1402597409},{"$f":"'R35'!L10","v":0},{"$f":"'R36'!L10","v":4585986.0259740259},{"$f":"'R37'!L10","v":3338609.8123076917},{"$f":"'R38'!L10","v":27956772.092307687},{"$f":"'R39'!L10","v":203338.3529411765},{"$f":"'R40'!L10","v":619379.1447058823},{"$f":"'R41'!L10","v":139339.31764705884}]
[{"$f":"'R41'!A11","v":"2017-11-15"},{"$f":"'R41'!B11","v":"2017-11-21"},{"$f":"'R1'!L11","v":5325302.3988888897},{"$f":"'R2'!L11","v":109531.49666666667},{"$f":"'R3'!L11","v":4711542.3266666671},{"$f":"'R4'!L11","v":14898690.006666666},{"$f":"'R5'!L11","v":7069504.9688888881},{"$f":"'R6'!L11","v":4482143.3444444444},{"$f":"'R7'!L11","v":0},{"$f":"'R8'!L11","v":11553919.396666668},{"$f":"'R9'!L11","v":15760941.893333336},{"$f":"'R10'!L11","v":2765298.8644444444},{"$f":"'R11'!L11","v":760048.8},{"$f":"'R12'!L11","v":0},{"$f":"'R13'!L11","v":2058013.9948051947},{"$f":"'R14'!L11","v":5119654.9519480523},{"$f":"'R15'!L11","v":1146353.9480519481},{"$f":"'R16'!L11","v":1947449.1506493508},{"$f":"'R17'!L11","v":578117.41647058818},{"$f":"'R18'!L11","v":345808.03529411758},{"$f":"'R19'!L11","v":236924.04705882355},{"$f":"'R20'!L11","v":1299035.1647058823},{"$f":"'R21'!L11","v":613991.51294117642},{"$f":"'R22'!L11","v":2130578.4729411765},{"$f":"'R23'!L11","v":0},{"$f":"'R24'!L11","v":75361.338823529426},{"$f":"'R25'!L11","v":0},{"$f":"'R26'!L11","v":886745.41},{"$f":"'R27'!L11","v":4889770.08},{"$f":"'R28'!L11","v":19129999.481999997},{"$f":"'R29'!L11","v":11177621.930000003},{"$f":"'R30'!L11","v":19815963.949000001},{"$f":"'R31'!L11","v":0},{"$f":"'R32'!L11","v":0},{"$f":"'R33'!L11","v":0},{"$f":"'R34'!L11","v":5257850.9324675333},{"$f":"'R35'!L11","v":0},{"$f":"'R36'!L11","v":4682390.8441558443},{"$f":"'R37'!L11","v":3583954.8738461533},{"$f":"'R38'!L11","v":27302340.430769239},{"$f":"'R39'!L11","v":225306.82352941181},{"$f":"'R40'!L11","v":569712.27411764697},{"$f":"'R41'!L11","v":146067.03529411764}]
[{"$f":"'R41'!A12","v":"2017-11-22"},{"$f":"'R41'!B12","v":"2017-11-28"},{"$f":"'R1'!L12","v":4990173.1433333345},{"$f":"'R2'!L12","v":109531.49666666667},{"$f":"'R3'!L12","v":6525492.0488888882},{"$f":"'R4'!L12","v":13955984.751111107},{"$f":"'R5'!L12","v":6690933.0022222213},{"$f":"'R6'!L12","v":4581269.9888888896},{"$f":"'R7'!L12","v":0},{"$f":"'R8'!L12","v":10464687.652222222},{"$f":"'R9'!L12","v":17943238.515555553},{"$f":"'R10'!L12","v":2671227.4200000004},{"$f":"'R11'!L12","v":760048.8},{"$f":"'R12'!L12","v":0},{"$f":"'R13'!L12","v":2046190.3194805195},{"$f":"'R14'!L12","v":6877634.7571428576},{"$f":"'R15'!L12","v":1222021.7402597403},{"$f":"'R16'!L12","v":1978797.7870129873},{"$f":"'R17'!L12","v":583410.96941176476},{"$f":"'R18'!L12","v":349122.71764705877},{"$f":"'R19'!L12","v":236924.04705882355},{"$f":"'R20'!L12","v":1347392.1882352941},{"$f":"'R21'!L12","v":611957.06588235288},{"$f":"'R22'!L12","v":2130578.4729411765},{"$f":"'R23'!L12","v":0},{"$f":"'R24'!L12","v":75361.338823529426},{"$f":"'R25'!L12","v":0},{"$f":"'R26'!L12","v":887146.60000000009},{"$f":"'R27'!L12","v":4978579.1100000003},{"$f":"'R28'!L12","v":20181634.022},{"$f":"'R29'!L12","v":11238400.680000003},{"$f":"'R30'!L12","v":20261064.419000003},{"$f":"'R31'!L12","v":0},{"$f":"'R32'!L12","v":0},{"$f":"'R33'!L12","v":0},{"$f":"'R34'!L12","v":4557037.7766233766},{"$f":"'R35'!L12","v":0},{"$f":"'R36'!L12","v":4683803.5844155848},{"$f":"'R37'!L12","v":3668694.92},{"$f":"'R38'!L12","v":26061259.799999997},{"$f":"'R39'!L12","v":243806.58823529416},{"$f":"'R40'!L12","v":305703.86235294113},{"$f":"'R41'!L12","v":150872.54117647058}]
[{"$f":"'R41'!A13","v":"2017-11-29"},{"$f":"'R41'!B13","v":"2017-12-05"},{"$f":"'R1'!L13","v":5349894.6393333338},{"$f":"'R2'!L13","v":127620.19666666667},{"$f":"'R3'!L13","v":8388679.5040000007},{"$f":"'R4'!L13","v":15240373.890666664},{"$f":"'R5'!L13","v":7142476.203555556},{"$f":"'R6'!L13","v":5603121.475555555},{"$f":"'R7'!L13","v":0},{"$f":"'R8'!L13","v":12519203.838444443},{"$f":"'R9'!L13","v":21053276.03822222},{"$f":"'R10'!L13","v":4369782.2111111106},{"$f":"'R11'!L13","v":901168.8},{"$f":"'R12'!L13","v":0},{"$f":"'R13'!L13","v":2424040.4280519481},{"$f":"'R14'!L13","v":10535499.045974027},{"$f":"'R15'!L13","v":1513683.8051948049},{"$f":"'R16'!L13","v":2444973.5532467533},{"$f":"'R17'!L13","v":794263.29458823532},{"$f":"'R18'!L13","v":413573.21976470586},{"$f":"'R19'!L13","v":277990.95247058826},{"$f":"'R20'!L13","v":1967551.1369411764},{"$f":"'R21'!L13","v":5438129.9454117641},{"$f":"'R22'!L13","v":5192994.0061176466},{"$f":"'R23'!L13","v":0},{"$f":"'R24'!L13","v":88031.523294117651},{"$f":"'R25'!L13","v":0},{"$f":"'R26'!L13","v":1192733.3772},{"$f":"'R27'!L13","v":5879924.1912000002},{"$f":"'R28'!L13","v":23917254.992799994},{"$f":"'R29'!L13","v":13919002.730000006},{"$f":"'R30'!L13","v":24881015.115400001},{"$f":"'R31'!L13","v":0},{"$f":"'R32'!L13","v":0},{"$f":"'R33'!L13","v":0},{"$f":"'R34'!L13","v":4140301.1631168826},{"$f":"'R35'!L13","v":101383.18181818182},{"$f":"'R36'!L13","v":4579527.9812987018},{"$f":"'R37'!L13","v":7825706.6566153839},{"$f":"'R38'!L13","v":41632306.061538458},{"$f":"'R39'!L13","v":336993.6},{"$f":"'R40'!L13","v":392288.20917647053},{"$f":"'R41'!L13","v":154323.11764705885}]
[{"$f":"'R41'!A14","v":"2017-12-06"},{"$f":"'R41'!B14","v":"2017-12-12"},{"$f":"'R1'!L14","v":4651894.5904444447},{"$f":"'R2'!L14","v":138595.79},{"$f":"'R3'!L14","v":8902791.6706666667},{"$f":"'R4'!L14","v":13463462.655555554},{"$f":"'R5'!L14","v":6357979.8222222216},{"$f":"'R6'!L14","v":6000398.2555555552},{"$f":"'R7'!L14","v":0},{"$f":"'R8'!L14","v":12263361.445111113},{"$f":"'R9'!L14","v":22790904.085333332},{"$f":"'R10'!L14","v":4019366.2444444448},{"$f":"'R11'!L14","v":982195.20000000019},{"$f":"'R12'!L14","v":0},{"$f":"'R13'!L14","v":3342049.0389610394},{"$f":"'R14'!L14","v":14211603.152727274},{"$f":"'R15'!L14","v":4431350.9350649351},{"$f":"'R16'!L14","v":2766632.2753246753},{"$f":"'R17'!L14","v":816863.8898823529},{"$f":"'R18'!L14","v":449957.27388235304},{"$f":"'R19'!L14","v":307899.42258823535},{"$f":"'R20'!L14","v":2782759.0503529408},{"$f":"'R21'!L14","v":7341881.6955294115},{"$f":"'R22'!L14","v":5503060.9176470591},{"$f":"'R23'!L14","v":0},{"$f":"'R24'!L14","v":96171.832470588241},{"$f":"'R25'!L14","v":0},{"$f":"'R26'!L14","v":1256354.3544000001},{"$f":"'R27'!L14","v":7753756.5219999999},{"$f":"'R28'!L14","v":23803973.896000005},{"$f":"'R29'!L14","v":15601286.290000003},{"$f":"'R30'!L14","v":25581219.918199997},{"$f":"'R31'!L14","v":0},{"$f":"'R32'!L14","v":0},{"$f":"'R33'!L14","v":0},{"$f":"'R34'!L14","v":3464337.7028571432},{"$f":"'R35'!L14","v":431188.20779220777},{"$f":"'R36'!L14","v":6667270.1631168835},{"$f":"'R37'!L14","v":8854801.2187692318},{"$f":"'R38'!L14","v":39401001.892307699},{"$f":"'R39'!L14","v":349204.89411764703},{"$f":"'R40'!L14","v":388270.23435294116},{"$f":"'R41'!L14","v":149667.88235294117}]
[{"$f":"'R41'!A15","v":"2017-12-13"},{"$f":"'R41'!B15","v":"2017-12-19"},{"$f":"'R1'!L15","v":3018173.8793333336},{"$f":"'R2'!L15","v":138595.79},{"$f":"'R3'!L15","v":9103937.3262222223},{"$f":"'R4'!L15","v":11015567.544444446},{"$f":"'R5'!L15","v":5451202.7444444457},{"$f":"'R6'!L15","v":6553751.3000000007},{"$f":"'R7'!L15","v":0},{"$f":"'R8'!L15","v":11324556.467333332},{"$f":"'R9'!L15","v":23796648.996444445},{"$f":"'R10'!L15","v":3826691.2777777785},{"$f":"'R11'!L15","v":982195.20000000019},{"$f":"'R12'!L15","v":0},{"$f":"'R13'!L15","v":9430070.493506493},{"$f":"'R14'!L15","v":17832739.594285719},{"$f":"'R15'!L15","v":4745723.0649350639},{"$f":"'R16'!L15","v":2734107.4701298699},{"$f":"'R17'!L15","v":1301765.2131764707},{"$f":"'R18'!L15","v":741223.75623529428},{"$f":"'R19'!L15","v":307899.42258823535},{"$f":"'R20'!L15","v":3312807.7680000002},{"$f":"'R21'!L15","v":8061707.1778823528},{"$f":"'R22'!L15","v":5611172.2117647054},{"$f":"'R23'!L15","v":2293545.1411764706},{"$f":"'R24'!L15","v":3179267.7647058824},{"$f":"'R25'!L15","v":0},{"$f":"'R26'!L15","v":1256577.6843999999},{"$f":"'R27'!L15","v":8649361.5520000011},{"$f":"'R28'!L15","v":22968632.566000003},{"$f":"'R29'!L15","v":15656852.370000003},{"$f":"'R30'!L15","v":25412457.808199998},{"$f":"'R31'!L15","v":0},{"$f":"'R32'!L15","v":0},{"$f":"'R33'!L15","v":0},{"$f":"'R34'!L15","v":3885510.0794805204},{"$f":"'R35'!L15","v":1615125.6363636365},{"$f":"'R36'!L15","v":6585311.9293506499},{"$f":"'R37'!L15","v":11938281.434153846},{"$f":"'R38'!L15","v":27356057.338461537},{"$f":"'R39'!L15","v":3996087.0705882357},{"$f":"'R40'!L15","v":763227.16376470588},{"$f":"'R41'!L15","v":143435.97647058824}]
[{"$f":"'R41'!A16","v":"2017-12-20"},{"$f":"'R41'!B16","v":"2017-12-26"},{"$f":"'R1'!L16","v":2480550.1015555556},{"$f":"'R2'!L16","v":138595.79},{"$f":"'R3'!L16","v":9301825.4706666656},{"$f":"'R4'!L16","v":9651654.3000000007},{"$f":"'R5'!L16","v":4669399.8666666662},{"$f":"'R6'!L16","v":7441019.1333333338},{"$f":"'R7'!L16","v":0},{"$f":"'R8'!L16","v":9375775.7228888888},{"$f":"'R9'!L16","v":21626314.529777776},{"$f":"'R10'!L16","v":4609397.4333333336},{"$f":"'R11'!L16","v":4588931.6244444437},{"$f":"'R12'!L16","v":1850704.1168831168},{"$f":"'R13'!L16","v":16506511.454545453},{"$f":"'R14'!L16","v":20998269.074805189},{"$f":"'R15'!L16","v":5054626.7792207794},{"$f":"'R16'!L16","v":2723275.5740259741},{"$f":"'R17'!L16","v":1296030.4014117648},{"$f":"'R18'!L16","v":5021343.1327058841},{"$f":"'R19'!L16","v":307899.42258823535},{"$f":"'R20'!L16","v":4119517.8738823533},{"$f":"'R21'!L16","v":10515595.107294116},{"$f":"'R22'!L16","v":6701673.0988235297},{"$f":"'R23'!L16","v":2366914.6235294123},{"$f":"'R24'!L16","v":3249189.3411764703},{"$f":"'R25'!L16","v":0},{"$f":"'R26'!L16","v":1256726.5744},{"$f":"'R27'!L16","v":8720994.0620000008},{"$f":"'R28'!L16","v":21632817.655999999},{"$f":"'R29'!L16","v":15696474.220000003},{"$f":"'R30'!L16","v":21466575.168199997},{"$f":"'R31'!L16","v":1390634.5454545456},{"$f":"'R32'!L16","v":0},{"$f":"'R33'!L16","v":3850031.7792207794},{"$f":"'R34'!L16","v":6652781.6249350645},{"$f":"'R35'!L16","v":3279304.2857142854},{"$f":"'R36'!L16","v":6819909.8976623379},{"$f":"'R37'!L16","v":15162291.434153846},{"$f":"'R38'!L16","v":27480600.523076918},{"$f":"'R39'!L16","v":4688356.0588235296},{"$f":"'R40'!L16","v":793887.01082352945},{"$f":"'R41'!L16","v":144337.91764705884}]
[{"$f":"'R41'!A17","v":"2017-12-27"},{"$f":"'R41'!B17","v":"2018-01-02"},{"$f":"'R1'!L17","v":1843690.6237777777},{"$f":"'R2'!L17","v":138595.79},{"$f":"'R3'!L17","v":9685870.5817777757},{"$f":"'R4'!L17","v":6685525.555555556},{"$f":"'R5'!L17","v":4282895.5333333332},{"$f":"'R6'!L17","v":7980408.9555555554},{"$f":"'R7'!L17","v":0},{"$f":"'R8'!L17","v":8771795.5117777791},{"$f":"'R9'!L17","v":18993078.218666665},{"$f":"'R10'!L17","v":4074575.98888889},{"$f":"'R11'!L17","v":4692347.7133333329},{"$f":"'R12'!L17","v":1907823.1168831172},{"$f":"'R13'!L17","v":17016691.246753242},{"$f":"'R14'!L17","v":22302806.970909089},{"$f":"'R15'!L17","v":5453006.1688311687},{"$f":"'R16'!L17","v":2544071.9376623379},{"$f":"'R17'!L17","v":4348046.6663529417},{"$f":"'R18'!L17","v":5247833.2621176476},{"$f":"'R19'!L17","v":307899.42258823535},{"$f":"'R20'!L17","v":4307073.8738823542},{"$f":"'R21'!L17","v":11661173.248470588},{"$f":"'R22'!L17","v":6874038.404705883},{"$f":"'R23'!L17","v":2454733.411764706},{"$f":"'R24'!L17","v":3319076.7764705885},{"$f":"'R25'!L17","v":0},{"$f":"'R26'!L17","v":1265010.6244000001},{"$f":"'R27'!L17","v":8840768.9519999996},{"$f":"'R28'!L17","v":19673093.486000001},{"$f":"'R29'!L17","v":15803989.310000002},{"$f":"'R30'!L17","v":21592162.448200002},{"$f":"'R31'!L17","v":1450708.6103896105},{"$f":"'R32'!L17","v":0},{"$f":"'R33'!L17","v":5567176.7532467525},{"$f":"'R34'!L17","v":6536170.5470129866},{"$f":"'R35'!L17","v":3355774.0779220774},{"$f":"'R36'!L17","v":7971000.352207792},{"$f":"'R37'!L17","v":16098226.234153844},{"$f":"'R38'!L17","v":26967794.153846156},{"$f":"'R39'!L17","v":5168731.2823529411},{"$f":"'R40'!L17","v":806317.3284705882},{"$f":"'R41'!L17","v":173377.96470588236}]
[{"$f":"'R41'!A18","v":"2018-01-03"},{"$f":"'R41'!B18","v":"2018-01-09"},{"$f":"'R1'!L18","v":2513529.456666667},{"$f":"'R2'!L18","v":141679.31666666665},{"$f":"'R3'!L18","v":9678279.0377777796},{"$f":"'R4'!L18","v":6707234.7633333337},{"$f":"'R5'!L18","v":3935806.2850000001},{"$f":"'R6'!L18","v":9058012.5861111097},{"$f":"'R7'!L18","v":0},{"$f":"'R8'!L18","v":8624013.743333336},{"$f":"'R9'!L18","v":18740723.143555555},{"$f":"'R10'!L18","v":5741545.3044444453},{"$f":"'R11'!L18","v":8380873.2977777794},{"$f":"'R12'!L18","v":5504697.6623376617},{"$f":"'R13'!L18","v":25411902.827272732},{"$f":"'R14'!L18","v":26556511.028051943},{"$f":"'R15'!L18","v":6472133.7532467525},{"$f":"'R16'!L18","v":2227484.6363636362},{"$f":"'R17'!L18","v":5879858.9952941174},{"$f":"'R18'!L18","v":10149162.908235295},{"$f":"'R19'!L18","v":10609126.996235292},{"$f":"'R20'!L18","v":4948956.5237647062},{"$f":"'R21'!L18","v":12583368.989176469},{"$f":"'R22'!L18","v":7079253.3611764703},{"$f":"'R23'!L18","v":3406948.5764705883},{"$f":"'R24'!L18","v":4650773.2352941176},{"$f":"'R25'!L18","v":1012829.25},{"$f":"'R26'!L18","v":1743760.2095999999},{"$f":"'R27'!L18","v":9111934.0069999993},{"$f":"'R28'!L18","v":18517716.352499999},{"$f":"'R29'!L18","v":16235186.990000004},{"$f":"'R30'!L18","v":20118379.748499997},{"$f":"'R31'!L18","v":5253926.8701298703},{"$f":"'R32'!L18","v":5207199.2467532456},{"$f":"'R33'!L18","v":11130345.81818182},{"$f":"'R34'!L18","v":11304115.056883117},{"$f":"'R35'!L18","v":6934621.7402597396},{"$f":"'R36'!L18","v":8413222.8015584424},{"$f":"'R37'!L18","v":20592737.21323077},{"$f":"'R38'!L18","v":34834327.338461541},{"$f":"'R39'!L18","v":8554199.9294117652},{"$f":"'R40'!L18","v":1125666.5505882353},{"$f":"'R41'!L18","v":257124.69411764701}]
[{"$f":"'R41'!A19","v":"2018-01-10"},{"$f":"'R41'!B19","v":"2018-01-16"},{"$f":"'R1'!L19","v":3320281.523333333},{"$f":"'R2'!L19","v":141679.31666666665},{"$f":"'R3'!L19","v":9423341.9488888886},{"$f":"'R4'!L19","v":9138979.6600000001},{"$f":"'R5'!L19","v":4163423.5516666663},{"$f":"'R6'!L19","v":10643743.108333334},{"$f":"'R7'!L19","v":0},{"$f":"'R8'!L19","v":9513175.1433333345},{"$f":"'R9'!L19","v":19736536.354666661},{"$f":"'R10'!L19","v":6978343.9155555554},{"$f":"'R11'!L19","v":9616512.697777776},{"$f":"'R12'!L19","v":6482879.1948051937},{"$f":"'R13'!L19","v":27322328.009090908},{"$f":"'R14'!L19","v":27117482.521558441},{"$f":"'R15'!L19","v":6709532.6753246756},{"$f":"'R16'!L19","v":2460194.9740259741},{"$f":"'R17'!L19","v":7131517.1247058827},{"$f":"'R18'!L19","v":11897726.343529409},{"$f":"'R19'!L19","v":11222939.066823529},{"$f":"'R20'!L19","v":5887938.5825882358},{"$f":"'R21'!L19","v":15021095.424470587},{"$f":"'R22'!L19","v":9384618.7729411758},{"$f":"'R23'!L19","v":4008623.6470588236},{"$f":"'R24'!L19","v":4979031.7176470598},{"$f":"'R25'!L19","v":1416405.5},{"$f":"'R26'!L19","v":1753867.0895999998},{"$f":"'R27'!L19","v":10871301.517000001},{"$f":"'R28'!L19","v":16008124.512499999},{"$f":"'R29'!L19","v":15893534.180000003},{"$f":"'R30'!L19","v":8497883.3585000001},{"$f":"'R31'!L19","v":5735983.6493506497},{"$f":"'R32'!L19","v":8895061.1948051956},{"$f":"'R33'!L19","v":15435276.441558441},{"$f":"'R34'!L19","v":13861852.264025975},{"$f":"'R35'!L19","v":8902149.3506493513},{"$f":"'R36'!L19","v":9836047.8924675323},{"$f":"'R37'!L19","v":32177125.536307689},{"$f":"'R38'!L19","v":45345088.276923083},{"$f":"'R39'!L19","v":9663804.9294117652},{"$f":"'R40'!L19","v":1150337.1152941177},{"$f":"'R41'!L19","v":429070.87058823521}]
[{"$f":"'R41'!A20","v":"2018-01-17"},{"$f":"'R41'!B20","v":"2018-01-23"},{"$f":"'R1'!L20","v":4128942.2455555559},{"$f":"'R2'!L20","v":141679.31666666665},{"$f":"'R3'!L20","v":9200437.8155555557},{"$f":"'R4'!L20","v":8744467.237777777},{"$f":"'R5'!L20","v":4553943.9516666662},{"$f":"'R6'!L20","v":12069069.219444446},{"$f":"'R7'!L20","v":0},{"$f":"'R8'!L20","v":10865651.102222225},{"$f":"'R9'!L20","v":18680736.776888885},{"$f":"'R10'!L20","v":7868716.5488888882},{"$f":"'R11'!L20","v":10105193.908888889},{"$f":"'R12'!L20","v":6898598.4675324671},{"$f":"'R13'!L20","v":28496562.294805199},{"$f":"'R14'!L20","v":27588590.872207798},{"$f":"'R15'!L20","v":6905556.4285714282},{"$f":"'R16'!L20","v":2675497.4415584411},{"$f":"'R17'!L20","v":8915689.7599999998},{"$f":"'R18'!L20","v":13511624.555294119},{"$f":"'R19'!L20","v":11853821.396235291},{"$f":"'R20'!L20","v":6108627.1825882355},{"$f":"'R21'!L20","v":15256265.130352939},{"$f":"'R22'!L20","v":9442027.8200000003},{"$f":"'R23'!L20","v":4384341.2470588237},{"$f":"'R24'!L20","v":5194123.4588235291},{"$f":"'R25'!L20","v":1468532.57},{"$f":"'R26'!L20","v":1766500.6895999999},{"$f":"'R27'!L20","v":12092799.367000002},{"$f":"'R28'!L20","v":14540675.042499999},{"$f":"'R29'!L20","v":15804355.830000004},{"$f":"'R30'!L20","v":6567264.0185000012},{"$f":"'R31'!L20","v":6073873.441558443},{"$f":"'R32'!L20","v":9359382.1818181816},{"$f":"'R33'!L20","v":18991196.545454547},{"$f":"'R34'!L20","v":14227881.952337665},{"$f":"'R35'!L20","v":9692280.9740259759},{"$f":"'R36'!L20","v":11067247.334025975},{"$f":"'R37'!L20","v":34602786.505538464},{"$f":"'R38'!L20","v":45997379.988000005},{"$f":"'R39'!L20","v":10850266.082352944},{"$f":"'R40'!L20","v":1244199.0564705883},{"$f":"'R41'!L20","v":1211107.5647058825}]
[{"$f":"'R41'!A21","v":"2018-01-24"},{"$f":"'R41'!B21","v":"2018-01-30"},{"$f":"'R1'!L21","v":4927833.0122222221},{"$f":"'R2'!L21","v":141679.31666666665},{"$f":"'R3'!L21","v":8591408.4711111095},{"$f":"'R4'!L21","v":13383952.304444445},{"$f":"'R5'!L21","v":4711638.7961111106},{"$f":"'R6'!L21","v":14346971.986111112},{"$f":"'R7'!L21","v":0},{"$f":"'R8'!L21","v":12294248.246666668},{"$f":"'R9'!L21","v":20391102.999111108},{"$f":"'R10'!L21","v":9187566.9377777763},{"$f":"'R11'!L21","v":10876922.553333333},{"$f":"'R12'!L21","v":7627572.7142857146},{"$f":"'R13'!L21","v":29928635.190909091},{"$f":"'R14'!L21","v":27930075.274805196},{"$f":"'R15'!L21","v":6997354.6623376608},{"$f":"'R16'!L21","v":2658841.5974025973},{"$f":"'R17'!L21","v":10102268.67764706},{"$f":"'R18'!L21","v":14470365.119999999},{"$f":"'R19'!L21","v":13616556.278588237},{"$f":"'R20'!L21","v":6206852.4649411784},{"$f":"'R21'!L21","v":16149297.153882347},{"$f":"'R22'!L21","v":9408390.5611764714},{"$f":"'R23'!L21","v":5412188.4235294117},{"$f":"'R24'!L21","v":5448370.4470588239},{"$f":"'R25'!L21","v":3033504.62},{"$f":"'R26'!L21","v":1809454.9295999997},{"$f":"'R27'!L21","v":11838400.557},{"$f":"'R28'!L21","v":9253136.1124999989},{"$f":"'R29'!L21","v":15551122.220000004},{"$f":"'R30'!L21","v":6151827.3984999992},{"$f":"'R31'!L21","v":6662771.6753246747},{"$f":"'R32'!L21","v":10361994.064935066},{"$f":"'R33'!L21","v":20616915.987012986},{"$f":"'R34'!L21","v":15177860.471818181},{"$f":"'R35'!L21","v":10623184.922077922},{"$f":"'R36'!L21","v":12119755.710649353},{"$f":"'R37'!L21","v":37181215.720923081},{"$f":"'R38'!L21","v":46441744.726461537},{"$f":"'R39'!L21","v":12010750.764705881},{"$f":"'R40'!L21","v":1352895.8329411764},{"$f":"'R41'!L21","v":1848057.1058823529}]
[{"$f":"'R41'!A22","v":"2018-01-31"},{"$f":"'R41'!B22","v":"2018-02-06"},{"$f":"'R1'!L22","v":5471452.7844444448},{"$f":"'R2'!L22","v":133498.06666666665},{"$f":"'R3'!L22","v":8099257.7711111112},{"$f":"'R4'!L22","v":15809854.982222224},{"$f":"'R5'!L22","v":5730644.6600000001},{"$f":"'R6'!L22","v":17236697.755555555},{"$f":"'R7'!L22","v":0},{"$f":"'R8'!L22","v":13612209.857777778},{"$f":"'R9'!L22","v":20947613.232444447},{"$f":"'R10'!L22","v":10436470.826666668},{"$f":"'R11'!L22","v":12467571.453333335},{"$f":"'R12'!L22","v":8863689.6233766209},{"$f":"'R13'!L22","v":33540182.496103901},{"$f":"'R14'!L22","v":28700571.261818174},{"$f":"'R15'!L22","v":7593230.3636363633},{"$f":"'R16'!L22","v":2567962.2337662335},{"$f":"'R17'!L22","v":11457701.595294118},{"$f":"'R18'!L22","v":16025346.637647059},{"$f":"'R19'!L22","v":16080943.984470585},{"$f":"'R20'!L22","v":6295353.0296470588},{"$f":"'R21'!L22","v":18487831.118588235},{"$f":"'R22'!L22","v":10015725.190588238},{"$f":"'R23'!L22","v":6400053.6117647057},{"$f":"'R24'!L22","v":5936470.9294117643},{"$f":"'R25'!L22","v":3456557.59},{"$f":"'R26'!L22","v":1973167.8995999999},{"$f":"'R27'!L22","v":11528917.882000001},{"$f":"'R28'!L22","v":8750741.1099999994},{"$f":"'R29'!L22","v":15790482.900000004},{"$f":"'R30'!L22","v":1416544.0159999998},{"$f":"'R31'!L22","v":8066952.0909090908},{"$f":"'R32'!L22","v":13035341.649350649},{"$f":"'R33'!L22","v":25352608.064935066},{"$f":"'R34'!L22","v":18205460.442597404},{"$f":"'R35'!L22","v":12391761.389610389},{"$f":"'R36'!L22","v":13803603.996363636},{"$f":"'R37'!L22","v":43209998.251692303},{"$f":"'R38'!L22","v":55657321.149538465},{"$f":"'R39'!L22","v":15587489.4},{"$f":"'R40'!L22","v":1393331.303529412},{"$f":"'R41'!L22","v":2222215.9882352939}]
[{"$f":"'R41'!A23","v":"2018-02-07"},{"$f":"'R41'!B23","v":"2018-02-13"},{"$f":"'R1'!L23","v":5740533.546222223},{"$f":"'R2'!L23","v":140122.13333333333},{"$f":"'R3'!L23","v":6320516.3248888897},{"$f":"'R4'!L23","v":16804020.118222225},{"$f":"'R5'!L23","v":5517949.3991111116},{"$f":"'R6'!L23","v":21058123.219999999},{"$f":"'R7'!L23","v":0},{"$f":"'R8'!L23","v":14318493.323555559},{"$f":"'R9'!L23","v":19892367.260444444},{"$f":"'R10'!L23","v":10714358.006666664},{"$f":"'R11'!L23","v":12745635.702222221},{"$f":"'R12'!L23","v":9139120.6233766228},{"$f":"'R13'!L23","v":33695535.620259739},{"$f":"'R14'!L23","v":27476755.870129868},{"$f":"'R15'!L23","v":7780423.9610389601},{"$f":"'R16'!L23","v":2576787.6493506497},{"$f":"'R17'!L23","v":12039026.13129412},{"$f":"'R18'!L23","v":16477815.563764704},{"$f":"'R19'!L23","v":17248375.681882352},{"$f":"'R20'!L23","v":6206907.1534117637},{"$f":"'R21'!L23","v":18407140.088941175},{"$f":"'R22'!L23","v":10091553.556235295},{"$f":"'R23'!L23","v":6753668.6117647057},{"$f":"'R24'!L23","v":5828451.08235294},{"$f":"'R25'!L23","v":5180430.05},{"$f":"'R26'!L23","v":2764697.1192000005},{"$f":"'R27'!L23","v":12225967.121200001},{"$f":"'R28'!L23","v":9105693.968799999},{"$f":"'R29'!L23","v":14515215.900000002},{"$f":"'R30'!L23","v":1331295.2207999998},{"$f":"'R31'!L23","v":8317031.4415584411},{"$f":"'R32'!L23","v":13730001.96103896},{"$f":"'R33'!L23","v":26642943.701298699},{"$f":"'R34'!L23","v":18476528.205714285},{"$f":"'R35'!L23","v":12700919.922077922},{"$f":"'R36'!L23","v":14260447.576103898},{"$f":"'R37'!L23","v":43770997.842461541},{"$f":"'R38'!L23","v":57263670.869538449},{"$f":"'R39'!L23","v":15803240.435294122},{"$f":"'R40'!L23","v":1378402.986352941},{"$f":"'R41'!L23","v":2436352.3764705877}]
[{"$f":"'R41'!A24","v":"2018-02-14"},{"$f":"'R41'!B24","v":"2018-02-20"},{"$f":"'R1'!L24","v":5861873.1351111121},{"$f":"'R2'!L24","v":140122.13333333333},{"$f":"'R3'!L24","v":3863047.3915555552},{"$f":"'R4'!L24","v":17769149.58488889},{"$f":"'R5'!L24","v":5655154.0880000014},{"$f":"'R6'!L24","v":21780382.497777771},{"$f":"'R7'!L24","v":0},{"$f":"'R8'!L24","v":14005283.756888891},{"$f":"'R9'!L24","v":15237076.993777778},{"$f":"'R10'!L24","v":10475554.601777777},{"$f":"'R11'!L24","v":12774547.36888889},{"$f":"'R12'!L24","v":9278059.2857142854},{"$f":"'R13'!L24","v":33177053.295584422},{"$f":"'R14'!L24","v":24770636.285714284},{"$f":"'R15'!L24","v":7807740.9090909082},{"$f":"'R16'!L24","v":2605523.4025974032},{"$f":"'R17'!L24","v":12451446.801882356},{"$f":"'R18'!L24","v":16582783.975529412},{"$f":"'R19'!L24","v":17856692.940705881},{"$f":"'R20'!L24","v":5404624.4240000006},{"$f":"'R21'!L24","v":17272108.359529406},{"$f":"'R22'!L24","v":9470690.19152941},{"$f":"'R23'!L24","v":6815203.1058823531},{"$f":"'R24'!L24","v":5653185.4352941168},{"$f":"'R25'!L24","v":5535491.6600000001},{"$f":"'R26'!L24","v":2896166.6819999996},{"$f":"'R27'!L24","v":12167888.541199999},{"$f":"'R28'!L24","v":9860231.2388000004},{"$f":"'R29'!L24","v":14510749.640000002},{"$f":"'R30'!L24","v":576071.13079999993},{"$f":"'R31'!L24","v":8397628.0519480538},{"$f":"'R32'!L24","v":14264667.649350652},{"$f":"'R33'!L24","v":27246287.389610399},{"$f":"'R34'!L24","v":18403672.764155846},{"$f":"'R35'!L24","v":12815209.532467533},{"$f":"'R36'!L24","v":14316919.056623375},{"$f":"'R37'!L24","v":44172691.765538469},{"$f":"'R38'!L24","v":58128833.715692297},{"$f":"'R39'!L24","v":15881252.505882353},{"$f":"'R40'!L24","v":1414245.9392941177},{"$f":"'R41'!L24","v":2642484.1647058823}]
[{"$f":"'R41'!A25","v":"2018-02-21"},{"$f":"'R41'!B25","v":"2018-02-27"},{"$f":"'R1'!L25","v":6098154.3684444446},{"$f":"'R2'!L25","v":140122.13333333333},{"$f":"'R3'!L25","v":1645082.6026666667},{"$f":"'R4'!L25","v":18410356.918222222},{"$f":"'R5'!L25","v":5707853.4880000008},{"$f":"'R6'!L25","v":22193259.886666667},{"$f":"'R7'!L25","v":0},{"$f":"'R8'!L25","v":13345744.301333334},{"$f":"'R9'!L25","v":12390874.693777781},{"$f":"'R10'!L25","v":10429238.757333333},{"$f":"'R11'!L25","v":12487161.924444444},{"$f":"'R12'!L25","v":9121012.4545454551},{"$f":"'R13'!L25","v":31792303.113766231},{"$f":"'R14'!L25","v":21286124.909090906},{"$f":"'R15'!L25","v":7047564.1948051928},{"$f":"'R16'!L25","v":2590433.7662337665},{"$f":"'R17'!L25","v":12440167.19011765},{"$f":"'R18'!L25","v":16278992.469647059},{"$f":"'R19'!L25","v":17857457.89364706},{"$f":"'R20'!L25","v":5071888.5063529406},{"$f":"'R21'!L25","v":16563845.75952941},{"$f":"'R22'!L25","v":9334492.3444705885},{"$f":"'R23'!L25","v":6795887.4235294135},{"$f":"'R24'!L25","v":5321743.6588235293},{"$f":"'R25'!L25","v":5750190.8300000001},{"$f":"'R26'!L25","v":2908624.9219999998},{"$f":"'R27'!L25","v":11811511.101200001},{"$f":"'R28'!L25","v":9499846.7987999991},{"$f":"'R29'!L25","v":14192898.720000003},{"$f":"'R30'!L25","v":576071.13079999993},{"$f":"'R31'!L25","v":8223741.6363636376},{"$f":"'R32'!L25","v":14377983.532467533},{"$f":"'R33'!L25","v":27181211.649350651},{"$f":"'R34'!L25","v":17860062.582337663},{"$f":"'R35'!L25","v":12578419.155844156},{"$f":"'R36'!L25","v":13888358.108571433},{"$f":"'R37'!L25","v":44079161.473230764},{"$f":"'R38'!L25","v":59536915.808000006},{"$f":"'R39'!L25","v":15501653.199999999},{"$f":"'R40'!L25","v":1412442.5510588237},{"$f":"'R41'!L25","v":2754263.7529411768}]
[{"$f":"'R41'!A26","v":"2018-02-28"},{"$f":"'R41'!B26","v":"2018-03-06"},{"$f":"'R1'!L26","v":6452223.3097777767},{"$f":"'R2'!L26","v":140487.06666666668},{"$f":"'R3'!L26","v":1273025.8368888891},{"$f":"'R4'!L26","v":20934774.385777779},{"$f":"'R5'!L26","v":6230294.9590000007},{"$f":"'R6'!L26","v":24509687.396111105},{"$f":"'R7'!L26","v":0},{"$f":"'R8'!L26","v":13243066.312888892},{"$f":"'R9'!L26","v":12557805.423555555},{"$f":"'R10'!L26","v":10275071.506444443},{"$f":"'R11'!L26","v":13367025.235555556},{"$f":"'R12'!L26","v":9900291.1168831177},{"$f":"'R13'!L26","v":32347332.314025972},{"$f":"'R14'!L26","v":19695211.303896099},{"$f":"'R15'!L26","v":7434446.4870129861},{"$f":"'R16'!L26","v":2674439.8441558443},{"$f":"'R17'!L26","v":13116565.43388235},{"$f":"'R18'!L26","v":16543959.524235295},{"$f":"'R19'!L26","v":18426694.450352941},{"$f":"'R20'!L26","v":4897320.9402352944},{"$f":"'R21'!L26","v":12637315.982117649},{"$f":"'R22'!L26","v":7289844.9969411762},{"$f":"'R23'!L26","v":7071023.0352941174},{"$f":"'R24'!L26","v":4632452.1411764706},{"$f":"'R25'!L26","v":6451913.8799999999},{"$f":"'R26'!L26","v":3351546.1119999997},{"$f":"'R27'!L26","v":12166670.7126},{"$f":"'R28'!L26","v":11147679.6239},{"$f":"'R29'!L26","v":14192898.720000003},{"$f":"'R30'!L26","v":1660050.7719000001},{"$f":"'R31'!L26","v":8788457.2597402595},{"$f":"'R32'!L26","v":16027230.883116882},{"$f":"'R33'!L26","v":30170269.857142858},{"$f":"'R34'!L26","v":18557200.834675327},{"$f":"'R35'!L26","v":12756131.337662339},{"$f":"'R36'!L26","v":14199463.032207791},{"$f":"'R37'!L26","v":47411247.991230763},{"$f":"'R38'!L26","v":66975794.955538467},{"$f":"'R39'!L26","v":16519057.317647059},{"$f":"'R40'!L26","v":1561375.4602352942},{"$f":"'R41'!L26","v":3177982.1764705889}]
[{"$f":"'R41'!A27","v":"2018-03-07"},{"$f":"'R41'!B27","v":"2018-03-13"},{"$f":"'R1'!L27","v":6212208.9548888896},{"$f":"'R2'!L27","v":153083.70333333334},{"$f":"'R3'!L27","v":1189941.8262222223},{"$f":"'R4'!L27","v":21338445.083999999},{"$f":"'R5'!L27","v":6144437.560333332},{"$f":"'R6'!L27","v":24373801.649444442},{"$f":"'R7'!L27","v":0},{"$f":"'R8'!L27","v":11468723.638666665},{"$f":"'R9'!L27","v":10798109.920888888},{"$f":"'R10'!L27","v":9725875.7415555567},{"$f":"'R11'!L27","v":11935957.817777779},{"$f":"'R12'!L27","v":8960854.3506493531},{"$f":"'R13'!L27","v":28719146.838181831},{"$f":"'R14'!L27","v":15654528.578441558},{"$f":"'R15'!L27","v":4334222.1428571418},{"$f":"'R16'!L27","v":2697808.2285714285},{"$f":"'R17'!L27","v":12637280.758117644},{"$f":"'R18'!L27","v":14779324.89505882},{"$f":"'R19'!L27","v":17729433.388470583},{"$f":"'R20'!L27","v":4038597.0950588235},{"$f":"'R21'!L27","v":10446963.05552941},{"$f":"'R22'!L27","v":7365331.484941178},{"$f":"'R23'!L27","v":6881948.5999999996},{"$f":"'R24'!L27","v":4443977.1999999993},{"$f":"'R25'!L27","v":6573447.0199999996},{"$f":"'R26'!L27","v":3565325.4349999996},{"$f":"'R27'!L27","v":11416830.937799999},{"$f":"'R28'!L27","v":11714409.9067},{"$f":"'R29'!L27","v":15326394.16},{"$f":"'R30'!L27","v":1734471.5767000001},{"$f":"'R31'!L27","v":7935366.8571428573},{"$f":"'R32'!L27","v":15289308.961038958},{"$f":"'R33'!L27","v":27834308.233766235},{"$f":"'R34'!L27","v":16528517.17051948},{"$f":"'R35'!L27","v":11519292.285714285},{"$f":"'R36'!L27","v":12152853.129870128},{"$f":"'R37'!L27","v":44912831.962307692},{"$f":"'R38'!L27","v":64022366.174615383},{"$f":"'R39'!L27","v":15486095.788235292},{"$f":"'R40'!L27","v":1508868.4970588235},{"$f":"'R41'!L27","v":3165163.5764705883}]
[{"$f":"'R41'!A28","v":"2018-03-14"},{"$f":"'R41'!B28","v":"2018-03-20"},{"$f":"'R1'!L28","v":5950439.2104444448},{"$f":"'R2'!L28","v":153083.70333333334},{"$f":"'R3'!L28","v":1171519.3928888887},{"$f":"'R4'!L28","v":16843413.617333338},{"$f":"'R5'!L28","v":5723168.1269999994},{"$f":"'R6'!L28","v":23569562.771666668},{"$f":"'R7'!L28","v":0},{"$f":"'R8'!L28","v":10754759.616444444},{"$f":"'R9'!L28","v":9557675.3542222213},{"$f":"'R10'!L28","v":9616688.4888888896},{"$f":"'R11'!L28","v":11129273.46222222},{"$f":"'R12'!L28","v":8304121.1818181816},{"$f":"'R13'!L28","v":20942549.344675325},{"$f":"'R14'!L28","v":12367470.240779217},{"$f":"'R15'!L28","v":4488191.8376623373},{"$f":"'R16'!L28","v":2673065.5532467533},{"$f":"'R17'!L28","v":11031222.522823529},{"$f":"'R18'!L28","v":13471809.977411767},{"$f":"'R19'!L28","v":16582123.52964706},{"$f":"'R20'!L28","v":3479813.6715294118},{"$f":"'R21'!L28","v":9573400.1496470571},{"$f":"'R22'!L28","v":7137160.9084705887},{"$f":"'R23'!L28","v":4449997.364705882},{"$f":"'R24'!L28","v":1403255.1647058823},{"$f":"'R25'!L28","v":6521447.5100000016},{"$f":"'R26'!L28","v":3590326.7449999996},{"$f":"'R27'!L28","v":10383132.9978},{"$f":"'R28'!L28","v":11769431.636700001},{"$f":"'R29'!L28","v":15326394.16},{"$f":"'R30'!L28","v":1786092.3766999999},{"$f":"'R31'!L28","v":7295492.8051948054},{"$f":"'R32'!L28","v":14255472.428571429},{"$f":"'R33'!L28","v":25692888.415584419},{"$f":"'R34'!L28","v":13249449.560129873},{"$f":"'R35'!L28","v":9744975.4545454551},{"$f":"'R36'!L28","v":10711811.038961038},{"$f":"'R37'!L28","v":40474207.254615381},{"$f":"'R38'!L28","v":62158962.574615382},{"$f":"'R39'!L28","v":10733921.505882353},{"$f":"'R40'!L28","v":1424002.7558823531},{"$f":"'R41'!L28","v":3046593.7294117645}]
[{"$f":"'R41'!A29","v":"2018-03-21"},{"$f":"'R41'!B29","v":"2018-03-27"},{"$f":"'R1'!L29","v":4950300.7660000008},{"$f":"'R2'!L29","v":153083.70333333334},{"$f":"'R3'!L29","v":1280604.1817777776},{"$f":"'R4'!L29","v":16115271.550666668},{"$f":"'R5'!L29","v":5036385.1269999994},{"$f":"'R6'!L29","v":22146693.627222229},{"$f":"'R7'!L29","v":0},{"$f":"'R8'!L29","v":8376054.2386666676},{"$f":"'R9'!L29","v":9024717.6875555553},{"$f":"'R10'!L29","v":7275758.2333333334},{"$f":"'R11'!L29","v":6268173.7733333334},{"$f":"'R12'!L29","v":5196666.7922077924},{"$f":"'R13'!L29","v":11558484.253766235},{"$f":"'R14'!L29","v":8826696.3057142869},{"$f":"'R15'!L29","v":3863447.4740259745},{"$f":"'R16'!L29","v":2636933.6441558441},{"$f":"'R17'!L29","v":10126983.500941176},{"$f":"'R18'!L29","v":7932823.648},{"$f":"'R19'!L29","v":13438529.294352941},{"$f":"'R20'!L29","v":2552409.9538823534},{"$f":"'R21'!L29","v":7681845.1025882354},{"$f":"'R22'!L29","v":6423612.6025882363},{"$f":"'R23'!L29","v":4134408.9411764699},{"$f":"'R24'!L29","v":1122623.8705882351},{"$f":"'R25'!L29","v":6171910.4300000016},{"$f":"'R26'!L29","v":3524209.7849999997},{"$f":"'R27'!L29","v":10139611.197800001},{"$f":"'R28'!L29","v":11652026.636699997},{"$f":"'R29'!L29","v":15326394.16},{"$f":"'R30'!L29","v":1961603.0966999999},{"$f":"'R31'!L29","v":4504056.948051949},{"$f":"'R32'!L29","v":11947653.649350647},{"$f":"'R33'!L29","v":18851339.207792208},{"$f":"'R34'!L29","v":8134710.1835064935},{"$f":"'R35'!L29","v":6980859.9740259759},{"$f":"'R36'!L29","v":9132451.0649350639},{"$f":"'R37'!L29","v":35348474.454615384},{"$f":"'R38'!L29","v":53596544.605384625},{"$f":"'R39'!L29","v":8421163.2470588256},{"$f":"'R40'!L29","v":1220096.6382352943},{"$f":"'R41'!L29","v":2856200.7882352942}]
[{"$f":"'R41'!A30","v":"2018-03-28"},{"$f":"'R41'!B30","v":"2018-04-03"},{"$f":"'R1'!L30","v":3992316.3882222231},{"$f":"'R2'!L30","v":153083.70333333334},{"$f":"'R3'!L30","v":1209475.6928888888},{"$f":"'R4'!L30","v":12662933.495111112},{"$f":"'R5'!L30","v":3713822.893666666},{"$f":"'R6'!L30","v":17552402.516111113},{"$f":"'R7'!L30","v":0},{"$f":"'R8'!L30","v":6156575.7164444448},{"$f":"'R9'!L30","v":8344257.4764444446},{"$f":"'R10'!L30","v":5468880.7777777771},{"$f":"'R11'!L30","v":4643152.2844444439},{"$f":"'R12'!L30","v":3575705.25974026},{"$f":"'R13'!L30","v":8869866.1238961034},{"$f":"'R14'!L30","v":8039217.3446753239},{"$f":"'R15'!L30","v":3316546.6818181816},{"$f":"'R16'!L30","v":2463606.7480519479},{"$f":"'R17'!L30","v":6124395.1009411756},{"$f":"'R18'!L30","v":6229746.7774117654},{"$f":"'R19'!L30","v":9040792.5884705856},{"$f":"'R20'!L30","v":1834548.4715294116},{"$f":"'R21'!L30","v":6670896.7967058821},{"$f":"'R22'!L30","v":5215915.5790588241},{"$f":"'R23'!L30","v":3171227.5647058822},{"$f":"'R24'!L30","v":731549.91764705896},{"$f":"'R25'!L30","v":4985112.6900000004},{"$f":"'R26'!L30","v":3237529.085},{"$f":"'R27'!L30","v":9032332.8477999996},{"$f":"'R28'!L30","v":10290487.346700002},{"$f":"'R29'!L30","v":15326394.16},{"$f":"'R30'!L30","v":1738748.3766999999},{"$f":"'R31'!L30","v":3683984.6363636362},{"$f":"'R32'!L30","v":9161432.493506493},{"$f":"'R33'!L30","v":13772451.14285714},{"$f":"'R34'!L30","v":6392617.6640259745},{"$f":"'R35'!L30","v":4835437.7402597396},{"$f":"'R36'!L30","v":5336879.1298701316},{"$f":"'R37'!L30","v":31784736.085384615},{"$f":"'R38'!L30","v":51098229.036153845},{"$f":"'R39'!L30","v":6426499.9647058817},{"$f":"'R40'!L30","v":1172969.5794117646},{"$f":"'R41'!L30","v":1463575.8588235294}]
[{"$f":"'R41'!A31","v":"2018-04-04"},{"$f":"'R41'!B31","v":"2018-04-10"},{"$f":"'R1'!L31","v":2838394.0777777778},{"$f":"'R2'!L31","v":157075.92000000001},{"$f":"'R3'!L31","v":1135677.3244444446},{"$f":"'R4'!L31","v":11699299.726666665},{"$f":"'R5'!L31","v":3091860.8833333333},{"$f":"'R6'!L31","v":15576895.627777778},{"$f":"'R7'!L31","v":0},{"$f":"'R8'!L31","v":5104258.9155555554},{"$f":"'R9'!L31","v":7477955.4555555554},{"$f":"'R10'!L31","v":3815893.4511111109},{"$f":"'R11'!L31","v":1760356.3111111112},{"$f":"'R12'!L31","v":744627.63636363635},{"$f":"'R13'!L31","v":5229898.1168831168},{"$f":"'R14'!L31","v":5821426.9922077926},{"$f":"'R15'!L31","v":2234463.4415584416},{"$f":"'R16'!L31","v":2315229.8285714285},{"$f":"'R17'!L31","v":4322724.3294117656},{"$f":"'R18'!L31","v":2169003.5152941179},{"$f":"'R19'!L31","v":2211746.47882353},{"$f":"'R20'!L31","v":1087547.6047058825},{"$f":"'R21'!L31","v":6169285.635294117},{"$f":"'R22'!L31","v":5054594.3882352943},{"$f":"'R23'!L31","v":2415557.3294117646},{"$f":"'R24'!L31","v":161362.90588235296},{"$f":"'R25'!L31","v":3983100.72},{"$f":"'R26'!L31","v":2727488.8870000001},{"$f":"'R27'!L31","v":8912129.6199999992},{"$f":"'R28'!L31","v":9599200.1550000012},{"$f":"'R29'!L31","v":14030970.800000003},{"$f":"'R30'!L31","v":1792231.5249999999},{"$f":"'R31'!L31","v":138876.7402597403},{"$f":"'R32'!L31","v":3853939.259740259},{"$f":"'R33'!L31","v":8322854.0389610408},{"$f":"'R34'!L31","v":2347543.1636363631},{"$f":"'R35'!L31","v":2059243.8831168832},{"$f":"'R36'!L31","v":4295518.8259740267},{"$f":"'R37'!L31","v":25683158.761538468},{"$f":"'R38'!L31","v":38656625.515384614},{"$f":"'R39'!L31","v":3098636.5176470587},{"$f":"'R40'!L31","v":860722.18823529407},{"$f":"'R41'!L31","v":1048420.717647059}]
[{"$f":"'R41'!A32","v":"2018-04-11"},{"$f":"'R41'!B32","v":"2018-04-17"},{"$f":"'R1'!L32","v":1780555.1333333331},{"$f":"'R2'!L32","v":157075.92000000001},{"$f":"'R3'!L32","v":1128464.28},{"$f":"'R4'!L32","v":8998037.959999999},{"$f":"'R5'!L32","v":2411937.4944444452},{"$f":"'R6'!L32","v":13373583.305555556},{"$f":"'R7'!L32","v":0},{"$f":"'R8'!L32","v":3862025.8266666676},{"$f":"'R9'!L32","v":5852617.4777777772},{"$f":"'R10'!L32","v":2716446.4177777776},{"$f":"'R11'!L32","v":1225582.6000000001},{"$f":"'R12'!L32","v":213721.38961038957},{"$f":"'R13'!L32","v":6529781.8181818193},{"$f":"'R14'!L32","v":6535265.9402597407},{"$f":"'R15'!L32","v":2214254.9090909092},{"$f":"'R16'!L32","v":2079584.5168831174},{"$f":"'R17'!L32","v":3142533.4352941173},{"$f":"'R18'!L32","v":1301849.9035294116},{"$f":"'R19'!L32","v":1815863.314117647},{"$f":"'R20'!L32","v":516690.62823529425},{"$f":"'R21'!L32","v":4333845.9882352939},{"$f":"'R22'!L32","v":3407133.8352941182},{"$f":"'R23'!L32","v":1730366},{"$f":"'R24'!L32","v":126381.11764705884},{"$f":"'R25'!L32","v":3134116.6800000006},{"$f":"'R26'!L32","v":2669910.807},{"$f":"'R27'!L32","v":7578401.5899999989},{"$f":"'R28'!L32","v":8927618.7249999978},{"$f":"'R29'!L32","v":14030970.800000003},{"$f":"'R30'!L32","v":1845330.7249999999},{"$f":"'R31'!L32","v":125133.72727272729},{"$f":"'R32'!L32","v":475044.41558441566},{"$f":"'R33'!L32","v":4596535.8051948044},{"$f":"'R34'!L32","v":2825572.9168831171},{"$f":"'R35'!L32","v":767752.11688311689},{"$f":"'R36'!L32","v":2032917.0467532463},{"$f":"'R37'!L32","v":14992149.884615386},{"$f":"'R38'!L32","v":29706864.20769231},{"$f":"'R39'!L32","v":2279236.5294117648},{"$f":"'R40'!L32","v":795991.45882352942},{"$f":"'R41'!L32","v":654602.38823529414}]
[{"$f":"'R41'!A33","v":"2018-04-18"},{"$f":"'R41'!B33","v":"2018-04-24"},{"$f":"'R1'!L33","v":1159625.0444444444},{"$f":"'R2'!L33","v":157075.92000000001},{"$f":"'R3'!L33","v":1576772.368888889},{"$f":"'R4'!L33","v":8071149.6933333324},{"$f":"'R5'!L33","v":1902877.7055555554},{"$f":"'R6'!L33","v":11463190.783333337},{"$f":"'R7'!L33","v":0},{"$f":"'R8'!L33","v":2660757.4044444449},{"$f":"'R9'!L33","v":5652407.5444444446},{"$f":"'R10'!L33","v":2101044.8288888889},{"$f":"'R11'!L33","v":1147995.6444444444},{"$f":"'R12'!L33","v":104610.58441558441},{"$f":"'R13'!L33","v":8869503.2857142873},{"$f":"'R14'!L33","v":7422537.0831168825},{"$f":"'R15'!L33","v":2158649.0259740259},{"$f":"'R16'!L33","v":2062153.0493506498},{"$f":"'R17'!L33","v":2027682.8705882351},{"$f":"'R18'!L33","v":473051.82117647061},{"$f":"'R19'!L33","v":1454327.7494117648},{"$f":"'R20'!L33","v":419704.01647058828},{"$f":"'R21'!L33","v":4027496.8235294116},{"$f":"'R22'!L33","v":3407133.8352941182},{"$f":"'R23'!L33","v":1346383.6705882354},{"$f":"'R24'!L33","v":126381.11764705884},{"$f":"'R25'!L33","v":2770106.92},{"$f":"'R26'!L33","v":2585538.9670000002},{"$f":"'R27'!L33","v":7230629.0399999982},{"$f":"'R28'!L33","v":8522973.0749999993},{"$f":"'R29'!L33","v":14030970.800000003},{"$f":"'R30'!L33","v":1824091.0449999999},{"$f":"'R31'!L33","v":465932.79220779223},{"$f":"'R32'!L33","v":275482.85714285716},{"$f":"'R33'!L33","v":7072005.3636363624},{"$f":"'R34'!L33","v":3835229.3324675323},{"$f":"'R35'!L33","v":369079.85714285716},{"$f":"'R36'!L33","v":1381676.2545454544},{"$f":"'R37'!L33","v":12955024.407692308},{"$f":"'R38'!L33","v":27493740.623076919},{"$f":"'R39'!L33","v":1422841.7764705883},{"$f":"'R40'!L33","v":665261.29411764699},{"$f":"'R41'!L33","v":281479.09411764698}]
[{"$f":"'R41'!A34","v":"2018-04-25"},{"$f":"'R41'!B34","v":"2018-05-01"},{"$f":"'R1'!L34","v":374610.91111111117},{"$f":"'R2'!L34","v":157075.92000000001},{"$f":"'R3'!L34","v":2367005.1577777774},{"$f":"'R4'!L34","v":4631000.0822222224},{"$f":"'R5'!L34","v":1425895.3166666667},{"$f":"'R6'!L34","v":5397116.2833333341},{"$f":"'R7'!L34","v":0},{"$f":"'R8'!L34","v":759454.73777777771},{"$f":"'R9'!L34","v":3775989.7444444448},{"$f":"'R10'!L34","v":1354363.9622222222},{"$f":"'R11'!L34","v":1035879.1222222223},{"$f":"'R12'!L34","v":2062.6753246753251},{"$f":"'R13'!L34","v":22742595.675324682},{"$f":"'R14'!L34","v":6777360.7974025989},{"$f":"'R15'!L34","v":2443650.4545454541},{"$f":"'R16'!L34","v":2367025.6857142858},{"$f":"'R17'!L34","v":1215345.1176470588},{"$f":"'R18'!L34","v":466639.24470588239},{"$f":"'R19'!L34","v":307990.0552941176},{"$f":"'R20'!L34","v":419704.01647058828},{"$f":"'R21'!L34","v":12387342.005882353},{"$f":"'R22'!L34","v":3407133.8352941182},{"$f":"'R23'!L34","v":45588.576470588145},{"$f":"'R24'!L34","v":126381.11764705884},{"$f":"'R25'!L34","v":0},{"$f":"'R26'!L34","v":1652299.3669999999},{"$f":"'R27'!L34","v":7230629.0399999982},{"$f":"'R28'!L34","v":3802997.4850000008},{"$f":"'R29'!L34","v":14030970.800000003},{"$f":"'R30'!L34","v":1022474.4049999998},{"$f":"'R31'!L34","v":4336468.493506493},{"$f":"'R32'!L34","v":115672.90909090907},{"$f":"'R33'!L34","v":13529109.909090912},{"$f":"'R34'!L34","v":2281817.0597402588},{"$f":"'R35'!L34","v":0},{"$f":"'R36'!L34","v":739434.56623376603},{"$f":"'R37'!L34","v":10818273.86923077},{"$f":"'R38'!L34","v":24706057.561538458},{"$f":"'R39'!L34","v":768102.91764705884},{"$f":"'R40'!L34","v":453893.01176470588},{"$f":"'R41'!L34","v":0}]
[{"$f":"'R41'!A35","v":"2018-05-02"},{"$f":"'R41'!B35","v":"2018-05-08"},{"$f":"'R1'!L35","v":2411821.8677777783},{"$f":"'R2'!L35","v":100722.41},{"$f":"'R3'!L35","v":1094207.0111111111},{"$f":"'R4'!L35","v":19662955.331111107},{"$f":"'R5'!L35","v":916950.06222222222},{"$f":"'R6'!L35","v":9983823.633333331},{"$f":"'R7'!L35","v":0},{"$f":"'R8'!L35","v":7852878.2044444438},{"$f":"'R9'!L35","v":12895196.857777778},{"$f":"'R10'!L35","v":3726480.2311111116},{"$f":"'R11'!L35","v":11889956.899999999},{"$f":"'R12'!L35","v":407.46753246753246},{"$f":"'R13'!L35","v":18774295.763636366},{"$f":"'R14'!L35","v":10384555.184415583},{"$f":"'R15'!L35","v":954877.32467532461},{"$f":"'R16'!L35","v":1217091.0857142857},{"$f":"'R17'!L35","v":4399585.8552941186},{"$f":"'R18'!L35","v":2573072.2541176467},{"$f":"'R19'!L35","v":6248167.622352941},{"$f":"'R20'!L35","v":231876.55058823532},{"$f":"'R21'!L35","v":14109350.005882354},{"$f":"'R22'!L35","v":1871712.49882353},{"$f":"'R23'!L35","v":18204.094117647106},{"$f":"'R24'!L35","v":5544074.988235293},{"$f":"'R25'!L35","v":0},{"$f":"'R26'!L35","v":903768.60100000014},{"$f":"'R27'!L35","v":3874169.4960000012},{"$f":"'R28'!L35","v":2199303.2540000002},{"$f":"'R29'!L35","v":7472055.3600000003},{"$f":"'R30'!L35","v":688348.92800000007},{"$f":"'R31'!L35","v":4001435.4415584425},{"$f":"'R32'!L35","v":121347.87012987015},{"$f":"'R33'!L35","v":16965393.831168834},{"$f":"'R34'!L35","v":7055836.6376623381},{"$f":"'R35'!L35","v":0},{"$f":"'R36'!L35","v":3527580.6727272733},{"$f":"'R37'!L35","v":6485914.807692308},{"$f":"'R38'!L35","v":13203222.530769229},{"$f":"'R39'!L35","v":477172.70588235301},{"$f":"'R40'!L35","v":214380.65647058832},{"$f":"'R41'!L35","v":0}]
[{"$f":"'R41'!A36","v":"2018-05-09"},{"$f":"'R41'!B36","v":"2018-05-15"},{"$f":"'R1'!L36","v":7100822.4677777775},{"$f":"'R2'!L36","v":100722.41},{"$f":"'R3'!L36","v":1193823.2777777773},{"$f":"'R4'!L36","v":13814961.80888889},{"$f":"'R5'!L36","v":6329132.8555555558},{"$f":"'R6'!L36","v":10994550.055555556},{"$f":"'R7'!L36","v":0},{"$f":"'R8'!L36","v":13955946.99333333},{"$f":"'R9'!L36","v":31480496.768888887},{"$f":"'R10'!L36","v":5607786.1200000001},{"$f":"'R11'!L36","v":12980909.677777782},{"$f":"'R12'!L36","v":0},{"$f":"'R13'!L36","v":22144954.711688317},{"$f":"'R14'!L36","v":12894505.820779223},{"$f":"'R15'!L36","v":4424678.0519480519},{"$f":"'R16'!L36","v":2606312.0987012982},{"$f":"'R17'!L36","v":8480947.3964705914},{"$f":"'R18'!L36","v":2361939.6776470589},{"$f":"'R19'!L36","v":7631753.4458823511},{"$f":"'R20'!L36","v":8898390.3623529412},{"$f":"'R21'!L36","v":10024549.158823529},{"$f":"'R22'!L36","v":1871712.49882353},{"$f":"'R23'!L36","v":4101.2705882352966},{"$f":"'R24'!L36","v":3248898.5647058818},{"$f":"'R25'!L36","v":0},{"$f":"'R26'!L36","v":936288.12100000016},{"$f":"'R27'!L36","v":5213574.5360000003},{"$f":"'R28'!L36","v":1875761.7240000002},{"$f":"'R29'!L36","v":14829652.209999999},{"$f":"'R30'!L36","v":583727.4879999999},{"$f":"'R31'!L36","v":145903.22077922075},{"$f":"'R32'!L36","v":129855.32467532468},{"$f":"'R33'!L36","v":13042831.961038955},{"$f":"'R34'!L36","v":5678986.0662337672},{"$f":"'R35'!L36","v":0},{"$f":"'R36'!L36","v":489359.14025974029},{"$f":"'R37'!L36","v":7360318.2538461555},{"$f":"'R38'!L36","v":13203222.530769229},{"$f":"'R39'!L36","v":33456764.705882359},{"$f":"'R40'!L36","v":214380.65647058832},{"$f":"'R41'!L36","v":0}]
[{"$f":"'R41'!A37","v":"2018-05-16"},{"$f":"'R41'!B37","v":"2018-05-22"},{"$f":"'R1'!L37","v":5569492.4900000002},{"$f":"'R2'!L37","v":100722.41},{"$f":"'R3'!L37","v":13205316.022222225},{"$f":"'R4'!L37","v":11739413.686666669},{"$f":"'R5'!L37","v":8891890.1111111138},{"$f":"'R6'!L37","v":13880925.866666665},{"$f":"'R7'!L37","v":0},{"$f":"'R8'!L37","v":15884367.737777777},{"$f":"'R9'!L37","v":20155572.068888888},{"$f":"'R10'!L37","v":11302141.742222223},{"$f":"'R11'!L37","v":5830903.6444444461},{"$f":"'R12'!L37","v":0},{"$f":"'R13'!L37","v":10680713.724675328},{"$f":"'R14'!L37","v":29747614.020779222},{"$f":"'R15'!L37","v":7693204.9220779231},{"$f":"'R16'!L37","v":1469548.7870129871},{"$f":"'R17'!L37","v":5482148.5376470601},{"$f":"'R18'!L37","v":1105582.4070588234},{"$f":"'R19'!L37","v":5407889.7517647045},{"$f":"'R20'!L37","v":9840080.0094117653},{"$f":"'R21'!L37","v":30393851.111764707},{"$f":"'R22'!L37","v":1871712.49882353},{"$f":"'R23'!L37","v":0},{"$f":"'R24'!L37","v":2579483.6352941175},{"$f":"'R25'!L37","v":0},{"$f":"'R26'!L37","v":928495.32100000011},{"$f":"'R27'!L37","v":3706222.9660000009},{"$f":"'R28'!L37","v":1568916.5740000003},{"$f":"'R29'!L37","v":7763467.3500000006},{"$f":"'R30'!L37","v":332589.56799999997},{"$f":"'R31'!L37","v":6207000.2467532475},{"$f":"'R32'!L37","v":134716.72727272724},{"$f":"'R33'!L37","v":3082886.3506493582},{"$f":"'R34'!L37","v":12760703.027272731},{"$f":"'R35'!L37","v":0},{"$f":"'R36'!L37","v":8480764.1922077928},{"$f":"'R37'!L37","v":11444474.007692309},{"$f":"'R38'!L37","v":33121301.776923075},{"$f":"'R39'!L37","v":3395498.8235294125},{"$f":"'R40'!L37","v":214380.65647058832},{"$f":"'R41'!L37","v":0}]
[{"$f":"'R41'!A38","v":"2018-05-23"},{"$f":"'R41'!B38","v":"2018-05-29"},{"$f":"'R1'!L38","v":7048018.8455555551},{"$f":"'R2'!L38","v":100722.41},{"$f":"'R3'!L38","v":5665453.4777777782},{"$f":"'R4'!L38","v":11529853.997777777},{"$f":"'R5'!L38","v":3173440.0222222218},{"$f":"'R6'!L38","v":10318041.1},{"$f":"'R7'!L38","v":0},{"$f":"'R8'!L38","v":20439245.959999993},{"$f":"'R9'!L38","v":22297506.91333333},{"$f":"'R10'!L38","v":3904375.0644444446},{"$f":"'R11'!L38","v":3416552.7222222229},{"$f":"'R12'!L38","v":18025836.532467537},{"$f":"'R13'!L38","v":10833101.477922082},{"$f":"'R14'!L38","v":15422964.605194805},{"$f":"'R15'!L38","v":2152418.8311688313},{"$f":"'R16'!L38","v":1504726.8},{"$f":"'R17'!L38","v":11577885.96117647},{"$f":"'R18'!L38","v":966492.05411764723},{"$f":"'R19'!L38","v":7204253.2105882335},{"$f":"'R20'!L38","v":1980574.3505882358},{"$f":"'R21'!L38","v":18327335.794117648},{"$f":"'R22'!L38","v":1871712.49882353},{"$f":"'R23'!L38","v":0},{"$f":"'R24'!L38","v":1831736.6941176474},{"$f":"'R25'!L38","v":0},{"$f":"'R26'!L38","v":903768.60100000014},{"$f":"'R27'!L38","v":3727990.316000001},{"$f":"'R28'!L38","v":1434697.6940000004},{"$f":"'R29'!L38","v":7879082.1000000006},{"$f":"'R30'!L38","v":332589.56799999997},{"$f":"'R31'!L38","v":875607.06493506418},{"$f":"'R32'!L38","v":137147.42857142855},{"$f":"'R33'!L38","v":4950716.8181818174},{"$f":"'R34'!L38","v":2745297.9883116898},{"$f":"'R35'!L38","v":0},{"$f":"'R36'!L38","v":9424544.3935064916},{"$f":"'R37'!L38","v":5997701.2538461545},{"$f":"'R38'!L38","v":13342329.038461534},{"$f":"'R39'!L38","v":3879618.8235294125},{"$f":"'R40'!L38","v":214380.65647058832},{"$f":"'R41'!L38","v":0}]
[{"$f":"'R41'!A39","v":"2018-05-30"},{"$f":"'R41'!B39","v":"2018-06-05"},{"$f":"'R1'!L39","v":3682080.8312222222},{"$f":"'R2'!L39","v":4510221.335},{"$f":"'R3'!L39","v":10540920.804888887},{"$f":"'R4'!L39","v":12007282.001333337},{"$f":"'R5'!L39","v":9660256.5324444473},{"$f":"'R6'!L39","v":15347994.915555552},{"$f":"'R7'!L39","v":0},{"$f":"'R8'!L39","v":15666213.995777778},{"$f":"'R9'!L39","v":19537944.764000006},{"$f":"'R10'!L39","v":6798321.9155555563},{"$f":"'R11'!L39","v":3266786.0777777787},{"$f":"'R12'!L39","v":2895367.0000000009},{"$f":"'R13'!L39","v":9627706.6036363654},{"$f":"'R14'!L39","v":13091308.886753246},{"$f":"'R15'!L39","v":2619562.9610389611},{"$f":"'R16'!L39","v":1621448.7480519479},{"$f":"'R17'!L39","v":17658504.607882354},{"$f":"'R18'!L39","v":27601992.677882355},{"$f":"'R19'!L39","v":8849592.9539999999},{"$f":"'R20'!L39","v":2466815.4736470571},{"$f":"'R21'!L39","v":11387883.278000001},{"$f":"'R22'!L39","v":1805166.9675294119},{"$f":"'R23'!L39","v":0},{"$f":"'R24'!L39","v":1062287.2941176468},{"$f":"'R25'!L39","v":0},{"$f":"'R26'!L39","v":573930.90350000013},{"$f":"'R27'!L39","v":3319848.7816000003},{"$f":"'R28'!L39","v":50880509.99440001},{"$f":"'R29'!L39","v":10918565.569999998},{"$f":"'R30'!L39","v":29135848.787799999},{"$f":"'R31'!L39","v":1861911.207792209},{"$f":"'R32'!L39","v":71761.389610389611},{"$f":"'R33'!L39","v":942419.02597402886},{"$f":"'R34'!L39","v":2931328.6489610421},{"$f":"'R35'!L39","v":8625663.5584415589},{"$f":"'R36'!L39","v":11000324.822727272},{"$f":"'R37'!L39","v":12754940.673076924},{"$f":"'R38'!L39","v":38589638.530000001},{"$f":"'R39'!L39","v":5419891.7647058815},{"$f":"'R40'!L39","v":182608.14564705887},{"$f":"'R41'!L39","v":0}]
[{"$f":"'R41'!A40","v":"2018-06-06"},{"$f":"'R41'!B40","v":"2018-06-12"},{"$f":"'R1'!L40","v":4188804.2085555545},{"$f":"'R2'!L40","v":1419821.3164444442},{"$f":"'R3'!L40","v":6093098.3142222241},{"$f":"'R4'!L40","v":14645060.156444445},{"$f":"'R5'!L40","v":4701104.9003333338},{"$f":"'R6'!L40","v":13167532.442777781},{"$f":"'R7'!L40","v":0},{"$f":"'R8'!L40","v":18940889.290444445},{"$f":"'R9'!L40","v":13120627.841333332},{"$f":"'R10'!L40","v":5077038.3222222207},{"$f":"'R11'!L40","v":3837140.8111111131},{"$f":"'R12'!L40","v":1119356.5194805202},{"$f":"'R13'!L40","v":10141235.906753246},{"$f":"'R14'!L40","v":13949002.42935065},{"$f":"'R15'!L40","v":3095770.1038961038},{"$f":"'R16'!L40","v":1715741.0337662336},{"$f":"'R17'!L40","v":18358250.604588237},{"$f":"'R18'!L40","v":10228580.820470588},{"$f":"'R19'!L40","v":5932385.3003529413},{"$f":"'R20'!L40","v":419057.07082352886},{"$f":"'R21'!L40","v":12896834.636588234},{"$f":"'R22'!L40","v":6800022.5371764731},{"$f":"'R23'!L40","v":11262918.352941178},{"$f":"'R24'!L40","v":1365866.9411764704},{"$f":"'R25'!L40","v":881846.76},{"$f":"'R26'!L40","v":1749703.9835000001},{"$f":"'R27'!L40","v":2973061.7693999996},{"$f":"'R28'!L40","v":4365213.6271000011},{"$f":"'R29'!L40","v":11483481.73},{"$f":"'R30'!L40","v":247549.14959999998},{"$f":"'R31'!L40","v":740439.8181818187},{"$f":"'R32'!L40","v":4056698.3896103911},{"$f":"'R33'!L40","v":1566263.0909090934},{"$f":"'R34'!L40","v":1825766.9592207824},{"$f":"'R35'!L40","v":3537945.5844155839},{"$f":"'R36'!L40","v":2853286.4854545454},{"$f":"'R37'!L40","v":24821126.75384615},{"$f":"'R38'!L40","v":44625740.654153854},{"$f":"'R39'!L40","v":6205123.7647058833},{"$f":"'R40'!L40","v":166120.2967058823},{"$f":"'R41'!L40","v":0}]
[{"$f":"'R41'!A41","v":"2018-06-13"},{"$f":"'R41'!B41","v":"2018-06-19"},{"$f":"'R1'!L41","v":4830700.0196666652},{"$f":"'R2'!L41","v":7423199.3275555559},{"$f":"'R3'!L41","v":7302553.4697777769},{"$f":"'R4'!L41","v":14242627.000888888},{"$f":"'R5'!L41","v":5386365.4336666679},{"$f":"'R6'!L41","v":14756659.142777776},{"$f":"'R7'!L41","v":0},{"$f":"'R8'!L41","v":15394473.990444448},{"$f":"'R9'!L41","v":15510527.030222226},{"$f":"'R10'!L41","v":4434677.777777778},{"$f":"'R11'!L41","v":4297380.4777777772},{"$f":"'R12'!L41","v":1618488.5844155843},{"$f":"'R13'!L41","v":10092961.257402599},{"$f":"'R14'!L41","v":14278388.247532474},{"$f":"'R15'!L41","v":3938838.1948051942},{"$f":"'R16'!L41","v":1706641.7480519477},{"$f":"'R17'!L41","v":14196893.722235294},{"$f":"'R18'!L41","v":9272100.891058825},{"$f":"'R19'!L41","v":4535186.3591764728},{"$f":"'R20'!L41","v":419424.96494117647},{"$f":"'R21'!L41","v":14819313.436588239},{"$f":"'R22'!L41","v":1814944.8901176474},{"$f":"'R23'!L41","v":571077.78823529428},{"$f":"'R24'!L41","v":1598181.9176470577},{"$f":"'R25'!L41","v":647645.03},{"$f":"'R26'!L41","v":517466.46280000004},{"$f":"'R27'!L41","v":9789715.3994000014},{"$f":"'R28'!L41","v":5257405.7470999984},{"$f":"'R29'!L41","v":11494070.390000001},{"$f":"'R30'!L41","v":24472611.555999998},{"$f":"'R31'!L41","v":280687.46753246814},{"$f":"'R32'!L41","v":1667195.3896103892},{"$f":"'R33'!L41","v":1601178.7402597438},{"$f":"'R34'!L41","v":358160.81636363821},{"$f":"'R35'!L41","v":10463124.987012986},{"$f":"'R36'!L41","v":5124007.9659740282},{"$f":"'R37'!L41","v":14469301.723076928},{"$f":"'R38'!L41","v":23656280.96184615},{"$f":"'R39'!L41","v":6801273.4117647056},{"$f":"'R40'!L41","v":166120.2967058823},{"$f":"'R41'!L41","v":0}]
[{"$f":"'R41'!A42","v":"2018-06-20"},{"$f":"'R41'!B42","v":"2018-06-26"},{"$f":"'R1'!L42","v":4927189.7863333337},{"$f":"'R2'!L42","v":2251598.483111111},{"$f":"'R3'!L42","v":7642398.9697777797},{"$f":"'R4'!L42","v":13369557.434222221},{"$f":"'R5'!L42","v":5380237.4114444451},{"$f":"'R6'!L42","v":12637542.265000002},{"$f":"'R7'!L42","v":0},{"$f":"'R8'!L42","v":15618547.690444445},{"$f":"'R9'!L42","v":15259402.096888887},{"$f":"'R10'!L42","v":4802529.444444445},{"$f":"'R11'!L42","v":4448767.3000000007},{"$f":"'R12'!L42","v":2169340.7272727275},{"$f":"'R13'!L42","v":9055539.7768831216},{"$f":"'R14'!L42","v":14760230.948831173},{"$f":"'R15'!L42","v":9886649.7662337665},{"$f":"'R16'!L42","v":1717436.1636363633},{"$f":"'R17'!L42","v":14168952.428117648},{"$f":"'R18'!L42","v":13604011.620470589},{"$f":"'R19'!L42","v":4748236.6415294139},{"$f":"'R20'!L42","v":4232723.741411766},{"$f":"'R21'!L42","v":13967999.483647054},{"$f":"'R22'!L42","v":6095304.5607058834},{"$f":"'R23'!L42","v":655041.7999999997},{"$f":"'R24'!L42","v":1680370.5647058822},{"$f":"'R25'!L42","v":621131.79999999981},{"$f":"'R26'!L42","v":535655.1176},{"$f":"'R27'!L42","v":4495874.9394000005},{"$f":"'R28'!L42","v":8121123.4271000028},{"$f":"'R29'!L42","v":12102994.389999999},{"$f":"'R30'!L42","v":17025666.976},{"$f":"'R31'!L42","v":381488.9480519467},{"$f":"'R32'!L42","v":0},{"$f":"'R33'!L42","v":893852.48051948554},{"$f":"'R34'!L42","v":711341.18493506126},{"$f":"'R35'!L42","v":7766254.1298701316},{"$f":"'R36'!L42","v":4183041.5503896135},{"$f":"'R37'!L42","v":16454645.353846153},{"$f":"'R38'!L42","v":13119198.054153845},{"$f":"'R39'!L42","v":7301206.5882352935},{"$f":"'R40'!L42","v":724383.7084705882},{"$f":"'R41'!L42","v":0}]
[{"$f":"'R41'!A43","v":"2018-06-27"},{"$f":"'R41'!B43","v":"2018-07-03"},{"$f":"'R1'!L43","v":3161223.2863333328},{"$f":"'R2'!L43","v":1464536.5719999997},{"$f":"'R3'!L43","v":5947854.9364444455},{"$f":"'R4'!L43","v":12086209.467555553},{"$f":"'R5'!L43","v":5501564.9670000011},{"$f":"'R6'!L43","v":11460739.198333332},{"$f":"'R7'!L43","v":0},{"$f":"'R8'!L43","v":10751785.523777781},{"$f":"'R9'!L43","v":11786824.174666667},{"$f":"'R10'!L43","v":4221893.2666666666},{"$f":"'R11'!L43","v":3527994.6852222225},{"$f":"'R12'!L43","v":1984914.9220779224},{"$f":"'R13'!L43","v":5681532.2314285655},{"$f":"'R14'!L43","v":12894470.637142856},{"$f":"'R15'!L43","v":3061720.0649350653},{"$f":"'R16'!L43","v":1536984.1896103893},{"$f":"'R17'!L43","v":7929795.534},{"$f":"'R18'!L43","v":9502289.0675294138},{"$f":"'R19'!L43","v":3755639.6532941172},{"$f":"'R20'!L43","v":381368.36494117649},{"$f":"'R21'!L43","v":10981740.201294117},{"$f":"'R22'!L43","v":4061123.6901176474},{"$f":"'R23'!L43","v":4997030.7176470598},{"$f":"'R24'!L43","v":1320145.3999999999},{"$f":"'R25'!L43","v":543168.36999999988},{"$f":"'R26'!L43","v":715104.49029999995},{"$f":"'R27'!L43","v":2958128.2294000001},{"$f":"'R28'!L43","v":7227089.4870999968},{"$f":"'R29'!L43","v":11431928.359999999},{"$f":"'R30'!L43","v":16694612.756000001},{"$f":"'R31'!L43","v":99914.41558441559},{"$f":"'R32'!L43","v":13825367.948051948},{"$f":"'R33'!L43","v":0},{"$f":"'R34'!L43","v":115375.24987012745},{"$f":"'R35'!L43","v":966655.32467532426},{"$f":"'R36'!L43","v":1484184.5114285722},{"$f":"'R37'!L43","v":15570252.30769231},{"$f":"'R38'!L43","v":14959579.684923071},{"$f":"'R39'!L43","v":5729263.4352941168},{"$f":"'R40'!L43","v":383882.06141176465},{"$f":"'R41'!L43","v":0}]
[{"$f":"'R41'!A44","v":"2018-07-04"},{"$f":"'R41'!B44","v":"2018-07-10"},{"$f":"'R1'!L44","v":3051749.7551111118},{"$f":"'R2'!L44","v":1671278.6537777779},{"$f":"'R3'!L44","v":5336259.6026666667},{"$f":"'R4'!L44","v":10166938.116888892},{"$f":"'R5'!L44","v":5149859.33522222},{"$f":"'R6'!L44","v":19755548.723888889},{"$f":"'R7'!L44","v":0},{"$f":"'R8'!L44","v":10135601.347999999},{"$f":"'R9'!L44","v":10965964.810666667},{"$f":"'R10'!L44","v":4067328.8333333358},{"$f":"'R11'!L44","v":3009150.7592222244},{"$f":"'R12'!L44","v":2273283.0259740255},{"$f":"'R13'!L44","v":4185565.7581818183},{"$f":"'R14'!L44","v":12214967.620779222},{"$f":"'R15'!L44","v":10895280.474025974},{"$f":"'R16'!L44","v":1247230.7818181815},{"$f":"'R17'!L44","v":8142507.4437647108},{"$f":"'R18'!L44","v":8263763.4696470592},{"$f":"'R19'!L44","v":3974812.8010588228},{"$f":"'R20'!L44","v":248909.58658823528},{"$f":"'R21'!L44","v":9296349.0074117593},{"$f":"'R22'!L44","v":3397778.8510588249},{"$f":"'R23'!L44","v":1164606.2941176468},{"$f":"'R24'!L44","v":1180435.2117647056},{"$f":"'R25'!L44","v":1098427.1999999997},{"$f":"'R26'!L44","v":660106.14229999995},{"$f":"'R27'!L44","v":7220467.3786000032},{"$f":"'R28'!L44","v":9139403.3949000016},{"$f":"'R29'!L44","v":12506230.49},{"$f":"'R30'!L44","v":16507194.467000004},{"$f":"'R31'!L44","v":101763.03896103895},{"$f":"'R32'!L44","v":0},{"$f":"'R33'!L44","v":0},{"$f":"'R34'!L44","v":108525.33636363636},{"$f":"'R35'!L44","v":518731.66233766096},{"$f":"'R36'!L44","v":1707376.8948051962},{"$f":"'R37'!L44","v":21513172.746153839},{"$f":"'R38'!L44","v":13273897.376923071},{"$f":"'R39'!L44","v":4984222.1176470593},{"$f":"'R40'!L44","v":585032.50694117649},{"$f":"'R41'!L44","v":0}]
[{"$f":"'R41'!A45","v":"2018-07-11"},{"$f":"'R41'!B45","v":"2018-07-17"},{"$f":"'R1'!L45","v":2785940.2551111123},{"$f":"'R2'!L45","v":1856834.2759999996},{"$f":"'R3'!L45","v":4315029.2582222233},{"$f":"'R4'!L45","v":9562318.3502222244},{"$f":"'R5'!L45","v":4795656.8574444428},{"$f":"'R6'!L45","v":12582783.468333332},{"$f":"'R7'!L45","v":0},{"$f":"'R8'!L45","v":9653184.1702222191},{"$f":"'R9'!L45","v":10090574.99955556},{"$f":"'R10'!L45","v":3831639.0444444446},{"$f":"'R11'!L45","v":2391116.8925555577},{"$f":"'R12'!L45","v":2253883.8441558438},{"$f":"'R13'!L45","v":2208001.407532467},{"$f":"'R14'!L45","v":12248170.023376625},{"$f":"'R15'!L45","v":3229176.8636363647},{"$f":"'R16'!L45","v":1190365.8857142855},{"$f":"'R17'!L45","v":8380800.5727058817},{"$f":"'R18'!L45","v":7919025.3990588263},{"$f":"'R19'!L45","v":3709702.2598823537},{"$f":"'R20'!L45","v":232447.95129411767},{"$f":"'R21'!L45","v":7969974.5721176481},{"$f":"'R22'!L45","v":4618698.4275294133},{"$f":"'R23'!L45","v":1351441.6117647071},{"$f":"'R24'!L45","v":917820.19999999984},{"$f":"'R25'!L45","v":0},{"$f":"'R26'!L45","v":6769734.792700002},{"$f":"'R27'!L45","v":2860028.8886000011},{"$f":"'R28'!L45","v":7110530.3139999993},{"$f":"'R29'!L45","v":12611280.040000001},{"$f":"'R30'!L45","v":17040012.377000004},{"$f":"'R31'!L45","v":74033.662337662332},{"$f":"'R32'!L45","v":926076.46753246873},{"$f":"'R33'!L45","v":0},{"$f":"'R34'!L45","v":104382.64805194805},{"$f":"'R35'!L45","v":955989.42857142782},{"$f":"'R36'!L45","v":1688713.1155844145},{"$f":"'R37'!L45","v":7854883.6692307657},{"$f":"'R38'!L45","v":14536818.269230774},{"$f":"'R39'!L45","v":4279692.0470588254},{"$f":"'R40'!L45","v":978402.0834117647},{"$f":"'R41'!L45","v":0}]
[{"$f":"'R41'!A46","v":"2018-07-18"},{"$f":"'R41'!B46","v":"2018-07-24"},{"$f":"'R1'!L46","v":2758121.9884444438},{"$f":"'R2'!L46","v":1811951.4911111107},{"$f":"'R3'!L46","v":4190430.6471111099},{"$f":"'R4'!L46","v":7982755.6724444441},{"$f":"'R5'!L46","v":4466188.8352222219},{"$f":"'R6'!L46","v":10972948.946111111},{"$f":"'R7'!L46","v":0},{"$f":"'R8'!L46","v":8414686.5035555549},{"$f":"'R9'!L46","v":8235667.3773333374},{"$f":"'R10'!L46","v":3287011.9222222222},{"$f":"'R11'!L46","v":1135940.2369999997},{"$f":"'R12'!L46","v":1930206.4935064935},{"$f":"'R13'!L46","v":1499565.9919480521},{"$f":"'R14'!L46","v":12499863.387012986},{"$f":"'R15'!L46","v":3286596.8766233777},{"$f":"'R16'!L46","v":1142434.4831168829},{"$f":"'R17'!L46","v":7901206.1491764728},{"$f":"'R18'!L46","v":8067993.1496470571},{"$f":"'R19'!L46","v":2695367.0481176479},{"$f":"'R20'!L46","v":667930.84541176492},{"$f":"'R21'!L46","v":6374439.7721176501},{"$f":"'R22'!L46","v":4031871.1804705872},{"$f":"'R23'!L46","v":1612590.4235294121},{"$f":"'R24'!L46","v":366998.98823529365},{"$f":"'R25'!L46","v":3259449.6900000004},{"$f":"'R26'!L46","v":2397085.8052999997},{"$f":"'R27'!L46","v":3047527.7086000005},{"$f":"'R28'!L46","v":6802369.2540000044},{"$f":"'R29'!L46","v":10973741.33},{"$f":"'R30'!L46","v":17038337.907000002},{"$f":"'R31'!L46","v":72185.025974025979},{"$f":"'R32'!L46","v":1808370.2727272743},{"$f":"'R33'!L46","v":0},{"$f":"'R34'!L46","v":104382.64805194805},{"$f":"'R35'!L46","v":1335415.3896103916},{"$f":"'R36'!L46","v":1216792.9727272745},{"$f":"'R37'!L46","v":13828966.484615393},{"$f":"'R38'!L46","v":14749156.823076919},{"$f":"'R39'!L46","v":3371912.2823529411},{"$f":"'R40'!L46","v":1342585.8010588235},{"$f":"'R41'!L46","v":0}]
[{"$f":"'R41'!A47","v":"2018-07-25"},{"$f":"'R41'!B47","v":"2018-07-31"},{"$f":"'R1'!L47","v":1623189.8773333335},{"$f":"'R2'!L47","v":2168332.9871111112},{"$f":"'R3'!L47","v":3691396.9693333325},{"$f":"'R4'!L47","v":6656198.250222221},{"$f":"'R5'!L47","v":3733672.8018888892},{"$f":"'R6'!L47","v":10174174.20166667},{"$f":"'R7'!L47","v":0},{"$f":"'R8'!L47","v":6646282.6146666659},{"$f":"'R9'!L47","v":5467487.7551111151},{"$f":"'R10'!L47","v":2543412.1777777765},{"$f":"'R11'!L47","v":782089.57033333334},{"$f":"'R12'!L47","v":1515266.5584415584},{"$f":"'R13'!L47","v":1499565.9919480521},{"$f":"'R14'!L47","v":10710686.685714291},{"$f":"'R15'!L47","v":3369602.7727272729},{"$f":"'R16'!L47","v":1025959.7818181819},{"$f":"'R17'!L47","v":6947155.6432941183},{"$f":"'R18'!L47","v":7426804.1378823584},{"$f":"'R19'!L47","v":1602903.2128235325},{"$f":"'R20'!L47","v":716121.38658823539},{"$f":"'R21'!L47","v":4968232.0098823542},{"$f":"'R22'!L47","v":2618067.1451764707},{"$f":"'R23'!L47","v":1662565.5999999996},{"$f":"'R24'!L47","v":82299.141176470584},{"$f":"'R25'!L47","v":10742847.300000001},{"$f":"'R26'!L47","v":826951.21530000004},{"$f":"'R27'!L47","v":3281179.8386000004},{"$f":"'R28'!L47","v":6232801.2939999998},{"$f":"'R29'!L47","v":10504260.619999999},{"$f":"'R30'!L47","v":16714140.617000002},{"$f":"'R31'!L47","v":0},{"$f":"'R32'!L47","v":1427212.3896103885},{"$f":"'R33'!L47","v":0},{"$f":"'R34'!L47","v":104382.64805194805},{"$f":"'R35'!L47","v":1471787.0909090892},{"$f":"'R36'!L47","v":676581.84285714186},{"$f":"'R37'!L47","v":11334605.623076925},{"$f":"'R38'!L47","v":13775740.592307681},{"$f":"'R39'!L47","v":941955.01176470553},{"$f":"'R40'!L47","v":1510424.8010588237},{"$f":"'R41'!L47","v":5160902.3529411787}]
[{"$f":"'R41'!A48","v":"2018-08-01"},{"$f":"'R41'!B48","v":"2018-08-07"},{"$f":"'R1'!L48","v":9065.6834444444557},{"$f":"'R2'!L48","v":859070.62488888891},{"$f":"'R3'!L48","v":1040057.5626666661},{"$f":"'R4'!L48","v":1604767.4124444455},{"$f":"'R5'!L48","v":752259.21244444419},{"$f":"'R6'!L48","v":3957490.3822222236},{"$f":"'R7'!L48","v":0},{"$f":"'R8'!L48","v":743949.98688888596},{"$f":"'R9'!L48","v":239782.18533333333},{"$f":"'R10'!L48","v":241837.81333333332},{"$f":"'R11'!L48","v":729329.70088888914},{"$f":"'R12'!L48","v":0},{"$f":"'R13'!L48","v":1193187.4945454549},{"$f":"'R14'!L48","v":2777449.2049350673},{"$f":"'R15'!L48","v":1285318.6883116886},{"$f":"'R16'!L48","v":455287.77662337653},{"$f":"'R17'!L48","v":1941264.2538823558},{"$f":"'R18'!L48","v":2985670.6308235289},{"$f":"'R19'!L48","v":107358.08611764706},{"$f":"'R20'!L48","v":500018.44705882354},{"$f":"'R21'!L48","v":151418.29788235296},{"$f":"'R22'!L48","v":928274.45694117784},{"$f":"'R23'!L48","v":471687.89411764813},{"$f":"'R24'!L48","v":55720.717647058846},{"$f":"'R25'!L48","v":0},{"$f":"'R26'!L48","v":201540.8},{"$f":"'R27'!L48","v":632709.86159999983},{"$f":"'R28'!L48","v":1245568.2740000002},{"$f":"'R29'!L48","v":8647706.879999999},{"$f":"'R30'!L48","v":11385756.800000001},{"$f":"'R31'!L48","v":0},{"$f":"'R32'!L48","v":0},{"$f":"'R33'!L48","v":0},{"$f":"'R34'!L48","v":42325.238961038965},{"$f":"'R35'!L48","v":0},{"$f":"'R36'!L48","v":11912.015584415587},{"$f":"'R37'!L48","v":4185035.7884615352},{"$f":"'R38'!L48","v":3747621.2989230743},{"$f":"'R39'!L48","v":15124.517647058818},{"$f":"'R40'!L48","v":1697256.7463529413},{"$f":"'R41'!L48","v":0}]
[{"$f":"'R41'!A49","v":"2018-08-08"},{"$f":"'R41'!B49","v":"2018-08-14"},{"$f":"'R1'!L49","v":9065.6834444444557},{"$f":"'R2'!L49","v":675445.13600000076},{"$f":"'R3'!L49","v":784382.04044444114},{"$f":"'R4'!L49","v":1207742.2346666665},{"$f":"'R5'!L49","v":449946.33466666751},{"$f":"'R6'!L49","v":3588225.526666665},{"$f":"'R7'!L49","v":0},{"$f":"'R8'!L49","v":17389.486888888896},{"$f":"'R9'!L49","v":239782.18533333333},{"$f":"'R10'!L49","v":241837.81333333332},{"$f":"'R11'!L49","v":729329.70088888914},{"$f":"'R12'!L49","v":0},{"$f":"'R13'!L49","v":1193187.4945454549},{"$f":"'R14'!L49","v":1574290.8672727249},{"$f":"'R15'!L49","v":1414201.727272728},{"$f":"'R16'!L49","v":452953.25714285707},{"$f":"'R17'!L49","v":1149301.3950588237},{"$f":"'R18'!L49","v":2432384.9837647043},{"$f":"'R19'!L49","v":107358.08611764706},{"$f":"'R20'!L49","v":500018.44705882354},{"$f":"'R21'!L49","v":151418.29788235296},{"$f":"'R22'!L49","v":980063.00988235371},{"$f":"'R23'!L49","v":318698.47058823658},{"$f":"'R24'!L49","v":37609.447058823527},{"$f":"'R25'!L49","v":0},{"$f":"'R26'!L49","v":168001.73000000004},{"$f":"'R27'!L49","v":734516.79159999965},{"$f":"'R28'!L49","v":516330.02400000009},{"$f":"'R29'!L49","v":8720360.4799999986},{"$f":"'R30'!L49","v":11385756.800000001},{"$f":"'R31'!L49","v":0},{"$f":"'R32'!L49","v":0},{"$f":"'R33'!L49","v":0},{"$f":"'R34'!L49","v":32650.057142857149},{"$f":"'R35'!L49","v":0},{"$f":"'R36'!L49","v":11588.716883116886},{"$f":"'R37'!L49","v":3887175.3115384583},{"$f":"'R38'!L49","v":1484294.0373846143},{"$f":"'R39'!L49","v":3661.1764705882351},{"$f":"'R40'!L49","v":945357.13458823506},{"$f":"'R41'!L49","v":0}]
[{"$f":"'R41'!A50","v":"2018-08-15"},{"$f":"'R41'!B50","v":"2018-08-21"},{"$f":"'R1'!L50","v":1254632.8278888892},{"$f":"'R2'!L50","v":298854.28044444456},{"$f":"'R3'!L50","v":556888.01822222187},{"$f":"'R4'!L50","v":1076802.6346666664},{"$f":"'R5'!L50","v":224187.15688888892},{"$f":"'R6'!L50","v":3366472.4933333336},{"$f":"'R7'!L50","v":0},{"$f":"'R8'!L50","v":17389.486888888896},{"$f":"'R9'!L50","v":2794429.3853333318},{"$f":"'R10'!L50","v":241837.81333333332},{"$f":"'R11'!L50","v":729329.70088888914},{"$f":"'R12'!L50","v":0},{"$f":"'R13'!L50","v":1193187.4945454549},{"$f":"'R14'!L50","v":2250744.1140259737},{"$f":"'R15'!L50","v":1682182.2857142854},{"$f":"'R16'!L50","v":832228.93246753223},{"$f":"'R17'!L50","v":86461.065647058858},{"$f":"'R18'!L50","v":670194.81905882363},{"$f":"'R19'!L50","v":107358.08611764706},{"$f":"'R20'!L50","v":500018.44705882354},{"$f":"'R21'!L50","v":151418.29788235296},{"$f":"'R22'!L50","v":875395.304},{"$f":"'R23'!L50","v":11934.400000000263},{"$f":"'R24'!L50","v":29588.141176470606},{"$f":"'R25'!L50","v":0},{"$f":"'R26'!L50","v":116192.60999999999},{"$f":"'R27'!L50","v":643827.25159999949},{"$f":"'R28'!L50","v":516330.02400000009},{"$f":"'R29'!L50","v":8735869.5999999978},{"$f":"'R30'!L50","v":11385756.800000001},{"$f":"'R31'!L50","v":0},{"$f":"'R32'!L50","v":0},{"$f":"'R33'!L50","v":0},{"$f":"'R34'!L50","v":32650.057142857149},{"$f":"'R35'!L50","v":0},{"$f":"'R36'!L50","v":11588.716883116886},{"$f":"'R37'!L50","v":3076068.4807692314},{"$f":"'R38'!L50","v":56141.42200000002},{"$f":"'R39'!L50","v":2683.4823529411669},{"$f":"'R40'!L50","v":724101.44047058839},{"$f":"'R41'!L50","v":0}]
[{"$f":"'R41'!A51","v":"2018-08-22"},{"$f":"'R41'!B51","v":"2018-08-28"},{"$f":"'R1'!L51","v":2176462.7723333333},{"$f":"'R2'!L51","v":71967.247111111123},{"$f":"'R3'!L51","v":331162.5182222221},{"$f":"'R4'!L51","v":2763209.2013333328},{"$f":"'R5'!L51","v":8645709.5902222246},{"$f":"'R6'!L51","v":3116772.3711111108},{"$f":"'R7'!L51","v":0},{"$f":"'R8'!L51","v":17389.486888888896},{"$f":"'R9'!L51","v":577735.42977777775},{"$f":"'R10'!L51","v":241837.81333333332},{"$f":"'R11'!L51","v":729329.70088888914},{"$f":"'R12'!L51","v":0},{"$f":"'R13'!L51","v":1193187.4945454549},{"$f":"'R14'!L51","v":2336139.0101298681},{"$f":"'R15'!L51","v":2219672.2857142859},{"$f":"'R16'!L51","v":763996.32207792194},{"$f":"'R17'!L51","v":92781.724470588262},{"$f":"'R18'!L51","v":156096.48964705883},{"$f":"'R19'!L51","v":107358.08611764706},{"$f":"'R20'!L51","v":522860.63529411762},{"$f":"'R21'!L51","v":222638.28611764734},{"$f":"'R22'!L51","v":580250.33929411799},{"$f":"'R23'!L51","v":0},{"$f":"'R24'!L51","v":29588.141176470606},{"$f":"'R25'!L51","v":0},{"$f":"'R26'!L51","v":84983.66},{"$f":"'R27'!L51","v":424795.64159999916},{"$f":"'R28'!L51","v":1123725.4443999999},{"$f":"'R29'!L51","v":8739769.379999999},{"$f":"'R30'!L51","v":11385756.800000001},{"$f":"'R31'!L51","v":0},{"$f":"'R32'!L51","v":0},{"$f":"'R33'!L51","v":0},{"$f":"'R34'!L51","v":32650.057142857149},{"$f":"'R35'!L51","v":0},{"$f":"'R36'!L51","v":11588.716883116886},{"$f":"'R37'!L51","v":810070.14230769058},{"$f":"'R38'!L51","v":56141.42200000002},{"$f":"'R39'!L51","v":0},{"$f":"'R40'!L51","v":2603741.0640000002},{"$f":"'R41'!L51","v":0}]
[{"$f":"'R41'!A52","v":"2018-08-29"},{"$f":"'R41'!B52","v":"2018-09-04"},{"$f":"'R1'!L52","v":4730844.4457777767},{"$f":"'R2'!L52","v":67653.343111111128},{"$f":"'R3'!L52","v":54743.885333333325},{"$f":"'R4'!L52","v":2841753.9137777775},{"$f":"'R5'!L52","v":182999.90933333334},{"$f":"'R6'!L52","v":2297873.3422222221},{"$f":"'R7'!L52","v":0},{"$f":"'R8'!L52","v":4122545.3982222234},{"$f":"'R9'!L52","v":12806377.948444447},{"$f":"'R10'!L52","v":236167.25333333333},{"$f":"'R11'!L52","v":728980.32622222241},{"$f":"'R12'!L52","v":0},{"$f":"'R13'!L52","v":1186354.9345454548},{"$f":"'R14'!L52","v":828723.25402597385},{"$f":"'R15'!L52","v":464610.5974025976},{"$f":"'R16'!L52","v":437140.52987012983},{"$f":"'R17'!L52","v":70818.35247058823},{"$f":"'R18'!L52","v":150673.15811764705},{"$f":"'R19'!L52","v":106919.37882352942},{"$f":"'R20'!L52","v":550668.6},{"$f":"'R21'!L52","v":146134.0851764706},{"$f":"'R22'!L52","v":559664.07388235314},{"$f":"'R23'!L52","v":0},{"$f":"'R24'!L52","v":0},{"$f":"'R25'!L52","v":0},{"$f":"'R26'!L52","v":66040.570000000007},{"$f":"'R27'!L52","v":290002.80119999999},{"$f":"'R28'!L52","v":938988.39080000028},{"$f":"'R29'!L52","v":8623913.7599999979},{"$f":"'R30'!L52","v":11385756.800000001},{"$f":"'R31'!L52","v":0},{"$f":"'R32'!L52","v":0},{"$f":"'R33'!L52","v":0},{"$f":"'R34'!L52","v":32650.057142857149},{"$f":"'R35'!L52","v":0},{"$f":"'R36'!L52","v":11588.716883116886},{"$f":"'R37'!L52","v":65336.138461538445},{"$f":"'R38'!L52","v":49523.556307692328},{"$f":"'R39'!L52","v":0},{"$f":"'R40'!L52","v":158603.68564705877},{"$f":"'R41'!L52","v":113987.89411764701}]
[{"$f":"'R41'!A53","v":"2018-09-05"},{"$f":"'R41'!B53","v":"2018-09-11"},{"$f":"'R1'!L53","v":0},{"$f":"'R2'!L53","v":16215.964444444448},{"$f":"'R3'!L53","v":13480.142222222225},{"$f":"'R4'!L53","v":2888959.8733333331},{"$f":"'R5'!L53","v":220750.2311111103},{"$f":"'R6'!L53","v":1012546.1333333335},{"$f":"'R7'!L53","v":0},{"$f":"'R8'!L53","v":4824.9955555555562},{"$f":"'R9'!L53","v":1339431.7377777763},{"$f":"'R10'!L53","v":101304.96000000002},{"$f":"'R11'!L53","v":379159.25333333347},{"$f":"'R12'!L53","v":0},{"$f":"'R13'!L53","v":613900.98701298726},{"$f":"'R14'!L53","v":313935.66753246746},{"$f":"'R15'!L53","v":240637.50649350652},{"$f":"'R16'!L53","v":220065.66233766233},{"$f":"'R17'!L53","v":42502.470588235301},{"$f":"'R18'!L53","v":68416.037647058838},{"$f":"'R19'!L53","v":60705.863529411778},{"$f":"'R20'!L53","v":366073.98352941178},{"$f":"'R21'!L53","v":62220.574117647069},{"$f":"'R22'!L53","v":280879.13411764719},{"$f":"'R23'!L53","v":0},{"$f":"'R24'!L53","v":0},{"$f":"'R25'!L53","v":0},{"$f":"'R26'!L53","v":33045.408000000003},{"$f":"'R27'!L53","v":125570.86400000005},{"$f":"'R28'!L53","v":484702.65600000013},{"$f":"'R29'!L53","v":4009802.7199999983},{"$f":"'R30'!L53","v":7063840},{"$f":"'R31'!L53","v":0},{"$f":"'R32'!L53","v":0},{"$f":"'R33'!L53","v":0},{"$f":"'R34'!L53","v":32229.194805194813},{"$f":"'R35'!L53","v":0},{"$f":"'R36'!L53","v":7833.1428571428569},{"$f":"'R37'!L53","v":25725.76923076914},{"$f":"'R38'!L53","v":19499.64307692305},{"$f":"'R39'!L53","v":2362335.9647058821},{"$f":"'R40'!L53","v":46274.352941176483},{"$f":"'R41'!L53","v":193870.19999999992}]
[{"$f":"'R41'!A54","v":"2018-09-12"},{"$f":"'R41'!B54","v":"2018-09-18"},{"$f":"'R1'!L54","v":0},{"$f":"'R2'!L54","v":16215.964444444448},{"$f":"'R3'!L54","v":258630.92000000022},{"$f":"'R4'!L54","v":2121923.0177777796},{"$f":"'R5'!L54","v":61267.786666666681},{"$f":"'R6'!L54","v":1012546.1333333335},{"$f":"'R7'!L54","v":0},{"$f":"'R8'!L54","v":4824.9955555555562},{"$f":"'R9'!L54","v":105055.00444444446},{"$f":"'R10'!L54","v":101304.96000000002},{"$f":"'R11'!L54","v":379159.25333333347},{"$f":"'R12'!L54","v":0},{"$f":"'R13'!L54","v":613900.98701298726},{"$f":"'R14'!L54","v":313935.66753246746},{"$f":"'R15'!L54","v":240637.50649350652},{"$f":"'R16'!L54","v":220065.66233766233},{"$f":"'R17'!L54","v":12903.717647058829},{"$f":"'R18'!L54","v":68416.037647058838},{"$f":"'R19'!L54","v":60705.863529411778},{"$f":"'R20'!L54","v":380241.00705882354},{"$f":"'R21'!L54","v":62220.574117647069},{"$f":"'R22'!L54","v":280879.13411764719},{"$f":"'R23'!L54","v":0},{"$f":"'R24'!L54","v":0},{"$f":"'R25'!L54","v":0},{"$f":"'R26'!L54","v":33045.408000000003},{"$f":"'R27'!L54","v":125570.86400000005},{"$f":"'R28'!L54","v":484702.65600000013},{"$f":"'R29'!L54","v":4009802.7199999983},{"$f":"'R30'!L54","v":7063840},{"$f":"'R31'!L54","v":0},{"$f":"'R32'!L54","v":0},{"$f":"'R33'!L54","v":0},{"$f":"'R34'!L54","v":32229.194805194813},{"$f":"'R35'!L54","v":1262505.6753246756},{"$f":"'R36'!L54","v":7833.1428571428569},{"$f":"'R37'!L54","v":25725.76923076914},{"$f":"'R38'!L54","v":17286085.643076923},{"$f":"'R39'!L54","v":4243700.2117647063},{"$f":"'R40'!L54","v":50662.117647058811},{"$f":"'R41'!L54","v":161917.27058823549}]
[{"$f":"'R41'!A55","v":"2018-09-19"},{"$f":"'R41'!B55","v":"2018-09-25"},{"$f":"'R1'!L55","v":0},{"$f":"'R2'!L55","v":16215.964444444448},{"$f":"'R3'!L55","v":13480.142222222225},{"$f":"'R4'!L55","v":315910.50666666677},{"$f":"'R5'!L55","v":61267.786666666681},{"$f":"'R6'!L55","v":1012546.1333333335},{"$f":"'R7'!L55","v":0},{"$f":"'R8'!L55","v":4824.9955555555562},{"$f":"'R9'!L55","v":105055.00444444446},{"$f":"'R10'!L55","v":101304.96000000002},{"$f":"'R11'!L55","v":379159.25333333347},{"$f":"'R12'!L55","v":0},{"$f":"'R13'!L55","v":613900.98701298726},{"$f":"'R14'!L55","v":8261588.5506493533},{"$f":"'R15'!L55","v":240637.50649350652},{"$f":"'R16'!L55","v":221868.63636363641},{"$f":"'R17'!L55","v":12903.717647058829},{"$f":"'R18'!L55","v":68416.037647058838},{"$f":"'R19'!L55","v":60705.863529411778},{"$f":"'R20'!L55","v":392046.86588235298},{"$f":"'R21'!L55","v":62220.574117647069},{"$f":"'R22'!L55","v":280879.13411764719},{"$f":"'R23'!L55","v":0},{"$f":"'R24'!L55","v":0},{"$f":"'R25'!L55","v":0},{"$f":"'R26'!L55","v":33156.408000000003},{"$f":"'R27'!L55","v":125570.86400000005},{"$f":"'R28'!L55","v":499685.59600000019},{"$f":"'R29'!L55","v":4009802.7199999983},{"$f":"'R30'!L55","v":13989151.879999999},{"$f":"'R31'!L55","v":0},{"$f":"'R32'!L55","v":0},{"$f":"'R33'!L55","v":0},{"$f":"'R34'!L55","v":32229.194805194813},{"$f":"'R35'!L55","v":0},{"$f":"'R36'!L55","v":7833.1428571428569},{"$f":"'R37'!L55","v":25725.76923076914},{"$f":"'R38'!L55","v":13687704.043076923},{"$f":"'R39'!L55","v":0},{"$f":"'R40'!L55","v":52856.000000000015},{"$f":"'R41'!L55","v":66058.517647059081}]
[{"$f":"'R41'!A56","v":"2018-09-26"},{"$f":"'R41'!B56","v":"2018-10-02"},{"$f":"'R1'!L56","v":1234566.8222222221},{"$f":"'R2'!L56","v":16215.964444444448},{"$f":"'R3'!L56","v":2461797.2755555562},{"$f":"'R4'!L56","v":4398235.2288888879},{"$f":"'R5'!L56","v":143930.63111111114},{"$f":"'R6'!L56","v":1012546.1333333335},{"$f":"'R7'!L56","v":0},{"$f":"'R8'!L56","v":583845.09555555554},{"$f":"'R9'!L56","v":3822748.2155555566},{"$f":"'R10'!L56","v":111036.29333333335},{"$f":"'R11'!L56","v":379159.25333333347},{"$f":"'R12'!L56","v":0},{"$f":"'R13'!L56","v":613900.98701298726},{"$f":"'R14'!L56","v":636821.38181818055},{"$f":"'R15'!L56","v":240637.50649350652},{"$f":"'R16'!L56","v":220065.66233766233},{"$f":"'R17'!L56","v":50194.752941176484},{"$f":"'R18'!L56","v":77066.543529411778},{"$f":"'R19'!L56","v":60705.863529411778},{"$f":"'R20'!L56","v":294173.28941176471},{"$f":"'R21'!L56","v":66293.88},{"$f":"'R22'!L56","v":280879.13411764719},{"$f":"'R23'!L56","v":0},{"$f":"'R24'!L56","v":53603.423529411768},{"$f":"'R25'!L56","v":893105.08},{"$f":"'R26'!L56","v":113741.54799999997},{"$f":"'R27'!L56","v":125570.86400000005},{"$f":"'R28'!L56","v":2918651.8160000001},{"$f":"'R29'!L56","v":4020055.2799999984},{"$f":"'R30'!L56","v":17379042.359999999},{"$f":"'R31'!L56","v":0},{"$f":"'R32'!L56","v":92511.688311688922},{"$f":"'R33'!L56","v":0},{"$f":"'R34'!L56","v":805759.85714285716},{"$f":"'R35'!L56","v":4500718.8571428563},{"$f":"'R36'!L56","v":10699.987012987014},{"$f":"'R37'!L56","v":2304986},{"$f":"'R38'!L56","v":8869237.104615381},{"$f":"'R39'!L56","v":355859.47058823559},{"$f":"'R40'!L56","v":86111.529411764699},{"$f":"'R41'!L56","v":1460458.5294117648}]
[{"$f":"'R41'!A57","v":"2018-10-03"},{"$f":"'R41'!B57","v":"2018-10-09"},{"$f":"'R1'!L57","v":1080645.1251111119},{"$f":"'R2'!L57","v":99798.318222222239},{"$f":"'R3'!L57","v":545024.64488888858},{"$f":"'R4'!L57","v":2634126.3355555581},{"$f":"'R5'!L57","v":409439.98388888838},{"$f":"'R6'!L57","v":1719556.8805555557},{"$f":"'R7'!L57","v":0},{"$f":"'R8'!L57","v":16535598.323555561},{"$f":"'R9'!L57","v":7434413.8511111131},{"$f":"'R10'!L57","v":1620457.2066666665},{"$f":"'R11'!L57","v":651154.07499999995},{"$f":"'R12'!L57","v":0},{"$f":"'R13'!L57","v":1169655.5987012987},{"$f":"'R14'!L57","v":2384885.0979220797},{"$f":"'R15'!L57","v":366037.09740259743},{"$f":"'R16'!L57","v":575674.82597402588},{"$f":"'R17'!L57","v":94271.518588235354},{"$f":"'R18'!L57","v":164914.1849411765},{"$f":"'R19'!L57","v":124202.54882352942},{"$f":"'R20'!L57","v":650179.34},{"$f":"'R21'!L57","v":215439.84705882351},{"$f":"'R22'!L57","v":856572.0411764707},{"$f":"'R23'!L57","v":0},{"$f":"'R24'!L57","v":35034.282352941176},{"$f":"'R25'!L57","v":329196.29999999888},{"$f":"'R26'!L57","v":255449.17449999996},{"$f":"'R27'!L57","v":1141224.0790000001},{"$f":"'R28'!L57","v":5264226.8135000011},{"$f":"'R29'!L57","v":6251240.0799999982},{"$f":"'R30'!L57","v":12867527.143799998},{"$f":"'R31'!L57","v":0},{"$f":"'R32'!L57","v":0},{"$f":"'R33'!L57","v":0},{"$f":"'R34'!L57","v":579993.88701298728},{"$f":"'R35'!L57","v":1567893.9220779219},{"$f":"'R36'!L57","v":160456.05545454545},{"$f":"'R37'!L57","v":2204687.5076923072},{"$f":"'R38'!L57","v":2902592.6135384613},{"$f":"'R39'!L57","v":687044.60000000009},{"$f":"'R40'!L57","v":179929.14741176466},{"$f":"'R41'!L57","v":1281222.611764706}]
[{"$f":"'R41'!A58","v":"2018-10-10"},{"$f":"'R41'!B58","v":"2018-10-16"},{"$f":"'R1'!L58","v":1236587.4695555558},{"$f":"'R2'!L58","v":99798.318222222239},{"$f":"'R3'!L58","v":390089.73377777805},{"$f":"'R4'!L58","v":691845.23555555579},{"$f":"'R5'!L58","v":246826.11722222224},{"$f":"'R6'!L58","v":1719556.8805555557},{"$f":"'R7'!L58","v":0},{"$f":"'R8'!L58","v":3642008.2235555556},{"$f":"'R9'!L58","v":5404999.7066666679},{"$f":"'R10'!L58","v":280542.68444444449},{"$f":"'R11'!L58","v":651154.07499999995},{"$f":"'R12'!L58","v":0},{"$f":"'R13'!L58","v":1169655.5987012987},{"$f":"'R14'!L58","v":1717160.9550649347},{"$f":"'R15'!L58","v":366037.09740259743},{"$f":"'R16'!L58","v":737364.79999999993},{"$f":"'R17'!L58","v":94271.518588235354},{"$f":"'R18'!L58","v":164914.1849411765},{"$f":"'R19'!L58","v":126040.14882352941},{"$f":"'R20'!L58","v":650179.34},{"$f":"'R21'!L58","v":215474.95294117648},{"$f":"'R22'!L58","v":856572.0411764707},{"$f":"'R23'!L58","v":0},{"$f":"'R24'!L58","v":34486.01176470588},{"$f":"'R25'!L58","v":0},{"$f":"'R26'!L58","v":255520.30449999997},{"$f":"'R27'!L58","v":1141224.0790000001},{"$f":"'R28'!L58","v":1109444.4235},{"$f":"'R29'!L58","v":6252966.2099999981},{"$f":"'R30'!L58","v":19466473.753800001},{"$f":"'R31'!L58","v":0},{"$f":"'R32'!L58","v":0},{"$f":"'R33'!L58","v":0},{"$f":"'R34'!L58","v":453555.54935064964},{"$f":"'R35'!L58","v":1243124.2077922081},{"$f":"'R36'!L58","v":160300.60090909089},{"$f":"'R37'!L58","v":2204687.5076923072},{"$f":"'R38'!L58","v":2902592.6135384613},{"$f":"'R39'!L58","v":877533.07058823493},{"$f":"'R40'!L58","v":96051.029764705861},{"$f":"'R41'!L58","v":808691.57647058822}]
[{"$f":"'R41'!A59","v":"2018-10-17"},{"$f":"'R41'!B59","v":"2018-10-23"},{"$f":"'R1'!L59","v":1259438.4806666672},{"$f":"'R2'!L59","v":99798.318222222239},{"$f":"'R3'!L59","v":478786.37822222197},{"$f":"'R4'!L59","v":691845.23555555579},{"$f":"'R5'!L59","v":246826.11722222224},{"$f":"'R6'!L59","v":1719556.8805555557},{"$f":"'R7'!L59","v":0},{"$f":"'R8'!L59","v":882096.11244444409},{"$f":"'R9'!L59","v":5523106.5733333295},{"$f":"'R10'!L59","v":280542.68444444449},{"$f":"'R11'!L59","v":651154.07499999995},{"$f":"'R12'!L59","v":0},{"$f":"'R13'!L59","v":1169655.5987012987},{"$f":"'R14'!L59","v":2088841.5394805223},{"$f":"'R15'!L59","v":366037.09740259743},{"$f":"'R16'!L59","v":523782.07272727264},{"$f":"'R17'!L59","v":94271.518588235354},{"$f":"'R18'!L59","v":164914.1849411765},{"$f":"'R19'!L59","v":124202.54882352942},{"$f":"'R20'!L59","v":650179.34},{"$f":"'R21'!L59","v":215057.97647058824},{"$f":"'R22'!L59","v":858810.53529411764},{"$f":"'R23'!L59","v":0},{"$f":"'R24'!L59","v":34486.01176470588},{"$f":"'R25'!L59","v":0},{"$f":"'R26'!L59","v":256209.13450000001},{"$f":"'R27'!L59","v":1141224.0790000001},{"$f":"'R28'!L59","v":16667467.143500004},{"$f":"'R29'!L59","v":6254404.6499999985},{"$f":"'R30'!L59","v":12867527.143799998},{"$f":"'R31'!L59","v":0},{"$f":"'R32'!L59","v":0},{"$f":"'R33'!L59","v":0},{"$f":"'R34'!L59","v":161523.52337662349},{"$f":"'R35'!L59","v":1541087.4415584409},{"$f":"'R36'!L59","v":160300.60090909089},{"$f":"'R37'!L59","v":2204687.5076923072},{"$f":"'R38'!L59","v":2845610.3058461538},{"$f":"'R39'!L59","v":1024509.5529411765},{"$f":"'R40'!L59","v":96051.029764705861},{"$f":"'R41'!L59","v":678338.18823529419}]
[{"$f":"'R41'!A60","v":"2018-10-24"},{"$f":"'R41'!B60","v":"2018-10-30"},{"$f":"'R1'!L60","v":1097545.4917777779},{"$f":"'R2'!L60","v":99798.318222222239},{"$f":"'R3'!L60","v":491133.51155555574},{"$f":"'R4'!L60","v":3828594.8022222216},{"$f":"'R5'!L60","v":246826.11722222224},{"$f":"'R6'!L60","v":1719556.8805555557},{"$f":"'R7'!L60","v":0},{"$f":"'R8'!L60","v":1457692.8235555543},{"$f":"'R9'!L60","v":5273486.92888889},{"$f":"'R10'!L60","v":301698.59555555566},{"$f":"'R11'!L60","v":651154.07499999995},{"$f":"'R12'!L60","v":0},{"$f":"'R13'!L60","v":1169655.5987012987},{"$f":"'R14'!L60","v":2018197.6433766242},{"$f":"'R15'!L60","v":366037.09740259743},{"$f":"'R16'!L60","v":523782.07272727264},{"$f":"'R17'!L60","v":94271.518588235354},{"$f":"'R18'!L60","v":164914.1849411765},{"$f":"'R19'!L60","v":124202.54882352942},{"$f":"'R20'!L60","v":650179.34},{"$f":"'R21'!L60","v":213920.55294117646},{"$f":"'R22'!L60","v":857355.8529411765},{"$f":"'R23'!L60","v":0},{"$f":"'R24'!L60","v":34486.01176470588},{"$f":"'R25'!L60","v":0},{"$f":"'R26'!L60","v":254998.60450000002},{"$f":"'R27'!L60","v":1141224.0790000001},{"$f":"'R28'!L60","v":2896604.1635000017},{"$f":"'R29'!L60","v":6238398.3199999984},{"$f":"'R30'!L60","v":12867527.143799998},{"$f":"'R31'!L60","v":0},{"$f":"'R32'!L60","v":0},{"$f":"'R33'!L60","v":0},{"$f":"'R34'!L60","v":71004.237662337662},{"$f":"'R35'!L60","v":1746275.7142857136},{"$f":"'R36'!L60","v":160300.60090909089},{"$f":"'R37'!L60","v":2204687.5076923072},{"$f":"'R38'!L60","v":2845610.3058461538},{"$f":"'R39'!L60","v":1087166.8352941175},{"$f":"'R40'!L60","v":96051.029764705861},{"$f":"'R41'!L60","v":0}]

{"sheet":"R1","index":28,"n_rows":61,"n_cols":13,"rows_kept":61,"cut":false,"hidden":false,"merged":[]}
["ปี พ.ศ.",2560,"ฤดูแล้ง","60/61","ฤดูฝน","61",null,null,null,null,"โครงการชลประทานพลเทพ ฤดูแล้ง60/61 ฤดูฝน61"]
["โครงการชลประทาน","พลเทพ"]
["จังหวัด","ชัยนาท"]
["รั่วซึม มม./สัปดาห์",7]
["น้ำเตรียมแปลงฤดูแล้ง มม./สัปดาห์",null,0,30,20,30,30,null,null,20,null,"รวมฤดูแล้ง (ลบ.ม.)",110291481.7757778]
["น้ำเตรียมแปลงฤดูฝน มม./สัปดาห์",null,100,15,10,90,15,null,null,10,null,"รวมฤดูฝน (ลบ.ม.)",67228010.481444448]
["ประสิทธิ์ภาพโครงการ (%)",90,"ข้าว กข.(นาดำ)","อ้อย","กะหล่ำดอก","มะม่วง","มะม่วง",null,null,"ไม้ดอก (บานชื่น)",null,"รวมทั้งปี (ลบ.ม.)",177519492.25722224]
["เริ่มต้น","สิ้นสุด","ข้าว","อ้อย","พืชผัก","ไม้ผล","ไม้ยืนต้น","บ่อปลา","บ่อกุ้ง","อื่นๆ","อุปโภค-บริโภค อุตสาหกรรม รักษาระบบนิเวศน์ และอื่น ๆ ","รวม (ลบ.ม.)"]
["2017-11-01","2017-11-07",5330622.222222222,2256.9777777777781,0,132724.68777777778,0,0,0,0,0,5465603.8877777783]
["2017-11-08","2017-11-14",5323222.9777777763,816.97777777777776,0,68884.68777777777,0,0,0,0,0,5392924.6433333326]
["2017-11-15","2017-11-21",5255600.7333333334,816.97777777777776,0,68884.68777777777,0,0,0,0,0,5325302.3988888897]
["2017-11-22","2017-11-28",4920471.4777777782,816.97777777777776,0,68884.68777777777,0,0,0,0,0,4990173.1433333345]
["2017-11-29","2017-12-05",5268706.833333333,1209.3222222222223,0,79978.483777777772,0,0,0,0,0,5349894.6393333338]
["2017-12-06","2017-12-12",4564676.5666666664,1209.3222222222223,0,86008.701555555555,0,0,0,0,0,4651894.5904444447]
["2017-12-13","2017-12-19",2930955.8555555558,1209.3222222222223,0,86008.701555555555,0,0,0,0,0,3018173.8793333336]
["2017-12-20","2017-12-26",2393332.0777777778,1209.3222222222223,0,86008.701555555555,0,0,0,0,0,2480550.1015555556]
["2017-12-27","2018-01-02",1756454.2777777778,1227.6444444444446,0,86008.701555555555,0,0,0,0,0,1843690.6237777777]
["2018-01-03","2018-01-09",2422122.3666666672,1527.0222222222226,0,89880.06777777776,0,0,0,0,0,2513529.456666667]
["2018-01-10","2018-01-16",3228874.4333333331,1527.0222222222226,0,89880.06777777776,0,0,0,0,0,3320281.523333333]
["2018-01-17","2018-01-23",4037535.1555555561,1527.0222222222226,0,89880.06777777776,0,0,0,0,0,4128942.2455555559]
["2018-01-24","2018-01-30",4836425.9222222222,1527.0222222222226,0,89880.06777777776,0,0,0,0,0,4927833.0122222221]
["2018-01-31","2018-02-06",5387377.8222222226,1875.6444444444442,0,82199.31777777776,0,0,0,0,0,5471452.7844444448]
["2018-02-07","2018-02-13",5651392.8777777785,1875.6444444444442,0,87265.02399999999,0,0,0,0,0,5740533.546222223]
["2018-02-14","2018-02-20",5772732.4666666677,1875.6444444444442,0,87265.02399999999,0,0,0,0,0,5861873.1351111121]
["2018-02-21","2018-02-27",6009013.7000000002,1875.6444444444442,0,87265.02399999999,0,0,0,0,0,6098154.3684444446]
["2018-02-28","2018-03-06",6362210.7444444429,2404.9333333333334,0,87607.631999999998,0,0,0,0,0,6452223.3097777767]
["2018-03-07","2018-03-13",6111508.777777778,2404.9333333333334,0,98295.243777777767,0,0,0,0,0,6212208.9548888896]
["2018-03-14","2018-03-20",5849739.0333333332,2404.9333333333334,0,98295.243777777767,0,0,0,0,0,5950439.2104444448]
["2018-03-21","2018-03-27",4849600.5888888892,2404.9333333333334,0,98295.243777777767,0,0,0,0,0,4950300.7660000008]
["2018-03-28","2018-04-03",3891678.9777777791,2342.166666666667,0,98295.243777777767,0,0,0,0,0,3992316.3882222231]
["2018-04-04","2018-04-10",2732459.5888888887,1928.4888888888888,0,104005.99999999999,0,0,0,0,0,2838394.0777777778]
["2018-04-11","2018-04-17",1674620.6444444442,1928.4888888888888,0,104005.99999999999,0,0,0,0,0,1780555.1333333331]
["2018-04-18","2018-04-24",1053690.5555555555,1928.4888888888888,0,104005.99999999999,0,0,0,0,0,1159625.0444444444]
["2018-04-25","2018-05-01",268676.42222222226,1928.4888888888888,0,104005.99999999999,0,0,0,0,0,374610.91111111117]
["2018-05-02","2018-05-08",2344267.5333333337,1507.8666666666666,0,66046.467777777769,0,0,0,0,0,2411821.8677777783]
["2018-05-09","2018-05-15",7033268.1333333338,1507.8666666666666,0,66046.467777777769,0,0,0,0,0,7100822.4677777775]
["2018-05-16","2018-05-22",5501938.1555555565,1507.8666666666666,0,66046.467777777769,0,0,0,0,0,5569492.4900000002]
["2018-05-23","2018-05-29",6980464.5111111114,1507.8666666666666,0,66046.467777777769,0,0,0,0,0,7048018.8455555551]
["2018-05-30","2018-06-05",3623240.3111111112,1220.5333333333331,0,57619.986777777776,0,0,0,0,0,3682080.8312222222]
["2018-06-06","2018-06-12",4125443.2777777771,1220.5333333333331,0,62140.397444444439,0,0,0,0,0,4188804.2085555545]
["2018-06-13","2018-06-19",4767339.0888888873,1220.5333333333331,0,62140.397444444439,0,0,0,0,0,4830700.0196666652]
["2018-06-20","2018-06-26",4863828.8555555558,1220.5333333333331,0,62140.397444444439,0,0,0,0,0,4927189.7863333337]
["2018-06-27","2018-07-03",3098344.722222222,738.16666666666652,0,62140.397444444439,0,0,0,0,0,3161223.2863333328]
["2018-07-04","2018-07-10",3014311.8666666672,351.1,0,37086.788444444457,0,0,0,0,0,3051749.7551111118]
["2018-07-11","2018-07-17",2748502.3666666676,351.1,0,37086.788444444457,0,0,0,0,0,2785940.2551111123]
["2018-07-18","2018-07-24",2720684.0999999992,351.1,0,37086.788444444457,0,0,0,0,0,2758121.9884444438]
["2018-07-25","2018-07-31",1585751.9888888889,351.1,0,37086.788444444457,0,0,0,0,0,1623189.8773333335]
["2018-08-01","2018-08-07",0,0,0,9065.6834444444557,0,0,0,0,0,9065.6834444444557]
["2018-08-08","2018-08-14",0,0,0,9065.6834444444557,0,0,0,0,0,9065.6834444444557]
["2018-08-15","2018-08-21",1245567.1444444447,0,0,9065.6834444444557,0,0,0,0,0,1254632.8278888892]
["2018-08-22","2018-08-28",2167397.0888888887,0,0,9065.6834444444557,0,0,0,0,0,2176462.7723333333]
["2018-08-29","2018-09-04",4722747.9333333327,0,0,8096.5124444444518,0,0,0,0,0,4730844.4457777767]
["2018-09-05","2018-09-11",0,0,0,0,0,0,0,0,0,0]
["2018-09-12","2018-09-18",0,0,0,0,0,0,0,0,0,0]
["2018-09-19","2018-09-25",0,0,0,0,0,0,0,0,0,0]
["2018-09-26","2018-10-02",1234477.5444444444,89.277777777777672,0,0,0,0,0,0,0,1234566.8222222221]
["2018-10-03","2018-10-09",1064771.9888888898,78.322222222222237,0,15794.813999999997,0,0,0,0,0,1080645.1251111119]
["2018-10-10","2018-10-16",1220714.3333333337,78.322222222222237,0,15794.813999999997,0,0,0,0,0,1236587.4695555558]
["2018-10-17","2018-10-23",1243565.3444444451,78.322222222222237,0,15794.813999999997,0,0,0,0,0,1259438.4806666672]
["2018-10-24","2018-10-30",1081672.3555555558,78.322222222222237,0,15794.813999999997,0,0,0,0,0,1097545.4917777779]
["รวม (ลบ.ม.)",null,174272001.74444446,57518.100000000006,0,3189972.4127777773,0,0,0,0,0,177519492.25722218]

{"sheet":"R2","index":29,"n_rows":61,"n_cols":13,"rows_kept":61,"cut":false,"hidden":false,"merged":[]}
["ปี พ.ศ.",2560,"ฤดูแล้ง","60/61","ฤดูฝน","61",null,null,null,null,"โครงการชลประทานทุ่งวัดสิงห์ ฤดูแล้ง60/61 ฤดูฝน61"]
["โครงการชลประทาน","ทุ่งวัดสิงห์"]
["จังหวัด","ชัยนาท"]
["รั่วซึม มม./สัปดาห์",7]
["น้ำเตรียมแปลงฤดูแล้ง มม./สัปดาห์",null,0,30,20,30,30,null,null,20,null,"รวมฤดูแล้ง (ลบ.ม.)",3689836.6366666658]
["น้ำเตรียมแปลงฤดูฝน มม./สัปดาห์",null,100,15,10,90,15,null,null,10,null,"รวมฤดูฝน (ลบ.ม.)",27417711.844333325]
["ประสิทธิ์ภาพโครงการ (%)",90,"ข้าว กข.(นาดำ)","อ้อย","กะหล่ำดอก","มะม่วง","มะม่วง",null,null,"ไม้ดอก (บานชื่น)",null,"รวมทั้งปี (ลบ.ม.)",31107548.480999991]
["เริ่มต้น","สิ้นสุด","ข้าว","อ้อย","พืชผัก","ไม้ผล","ไม้ยืนต้น","บ่อปลา","บ่อกุ้ง","อื่นๆ","อุปโภค-บริโภค อุตสาหกรรม รักษาระบบนิเวศน์ และอื่น ๆ ","รวม (ลบ.ม.)"]
["2017-11-01","2017-11-07",0,0,0,141373.41666666666,0,36158.079999999994,0,0,0,177531.49666666664]
["2017-11-08","2017-11-14",0,0,0,73373.416666666672,0,36158.079999999994,0,0,0,109531.49666666667]
["2017-11-15","2017-11-21",0,0,0,73373.416666666672,0,36158.079999999994,0,0,0,109531.49666666667]
["2017-11-22","2017-11-28",0,0,0,73373.416666666672,0,36158.079999999994,0,0,0,109531.49666666667]
["2017-11-29","2017-12-05",0,0,0,85190.116666666669,0,42430.080000000002,0,0,0,127620.19666666667]
["2017-12-06","2017-12-12",0,0,0,91613.28333333334,0,46982.506666666675,0,0,0,138595.79]
["2017-12-13","2017-12-19",0,0,0,91613.28333333334,0,46982.506666666675,0,0,0,138595.79]
["2017-12-20","2017-12-26",0,0,0,91613.28333333334,0,46982.506666666675,0,0,0,138595.79]
["2017-12-27","2018-01-02",0,0,0,91613.28333333334,0,46982.506666666675,0,0,0,138595.79]
["2018-01-03","2018-01-09",0,0,0,95736.916666666642,0,45942.400000000009,0,0,0,141679.31666666665]
["2018-01-10","2018-01-16",0,0,0,95736.916666666642,0,45942.400000000009,0,0,0,141679.31666666665]
["2018-01-17","2018-01-23",0,0,0,95736.916666666642,0,45942.400000000009,0,0,0,141679.31666666665]
["2018-01-24","2018-01-30",0,0,0,95736.916666666642,0,45942.400000000009,0,0,0,141679.31666666665]
["2018-01-31","2018-02-06",0,0,0,87555.666666666657,0,45942.400000000009,0,0,0,133498.06666666665]
["2018-02-07","2018-02-13",0,0,0,92951.46666666666,0,47170.666666666679,0,0,0,140122.13333333333]
["2018-02-14","2018-02-20",0,0,0,92951.46666666666,0,47170.666666666679,0,0,0,140122.13333333333]
["2018-02-21","2018-02-27",0,0,0,92951.46666666666,0,47170.666666666679,0,0,0,140122.13333333333]
["2018-02-28","2018-03-06",0,0,0,93316.4,0,47170.666666666679,0,0,0,140487.06666666668]
["2018-03-07","2018-03-13",0,0,0,104700.45,0,48383.253333333334,0,0,0,153083.70333333334]
["2018-03-14","2018-03-20",0,0,0,104700.45,0,48383.253333333334,0,0,0,153083.70333333334]
["2018-03-21","2018-03-27",0,0,0,104700.45,0,48383.253333333334,0,0,0,153083.70333333334]
["2018-03-28","2018-04-03",0,0,0,104700.45,0,48383.253333333334,0,0,0,153083.70333333334]
["2018-04-04","2018-04-10",0,0,0,110783.33333333333,0,46292.586666666677,0,0,0,157075.92000000001]
["2018-04-11","2018-04-17",0,0,0,110783.33333333333,0,46292.586666666677,0,0,0,157075.92000000001]
["2018-04-18","2018-04-24",0,0,0,110783.33333333333,0,46292.586666666677,0,0,0,157075.92000000001]
["2018-04-25","2018-05-01",0,0,0,110783.33333333333,0,46292.586666666677,0,0,0,157075.92000000001]
["2018-05-02","2018-05-08",0,0,0,70350.25,0,30372.160000000003,0,0,0,100722.41]
["2018-05-09","2018-05-15",0,0,0,70350.25,0,30372.160000000003,0,0,0,100722.41]
["2018-05-16","2018-05-22",0,0,0,70350.25,0,30372.160000000003,0,0,0,100722.41]
["2018-05-23","2018-05-29",0,0,0,70350.25,0,30372.160000000003,0,0,0,100722.41]
["2018-05-30","2018-06-05",4412202.5,0,0,61374.675000000003,0,36644.159999999996,0,0,0,4510221.335]
["2018-06-06","2018-06-12",885251.5555555555,0,0,492754.82755555544,0,41814.933333333334,0,0,0,1419821.3164444442]
["2018-06-13","2018-06-19",7104789.5666666664,0,0,276594.82755555544,0,41814.933333333334,0,0,0,7423199.3275555559]
["2018-06-20","2018-06-26",1933188.7222222222,0,0,276594.82755555544,0,41814.933333333334,0,0,0,2251598.483111111]
["2018-06-27","2018-07-03",1146126.811111111,0,0,276594.82755555544,0,41814.933333333334,0,0,0,1464536.5719999997]
["2018-07-04","2018-07-10",1469758.188888889,0,0,165078.01155555554,0,36442.453333333338,0,0,0,1671278.6537777779]
["2018-07-11","2018-07-17",1655313.8111111107,0,0,165078.01155555554,0,36442.453333333338,0,0,0,1856834.2759999996]
["2018-07-18","2018-07-24",1739582.7444444441,0,0,39503.466666666674,0,32865.279999999999,0,0,0,1811951.4911111107]
["2018-07-25","2018-07-31",1750652.5222222223,0,0,381238.01155555557,0,36442.453333333338,0,0,0,2168332.9871111112]
["2018-08-01","2018-08-07",787103.37777777773,0,0,40352.491555555571,0,31614.755555555555,0,0,0,859070.62488888891]
["2018-08-08","2018-08-14",603477.88888888957,0,0,40352.491555555571,0,31614.755555555555,0,0,0,675445.13600000076]
["2018-08-15","2018-08-21",226887.03333333341,0,0,40352.491555555571,0,31614.755555555555,0,0,0,298854.28044444456]
["2018-08-22","2018-08-28",0,0,0,40352.491555555571,0,31614.755555555555,0,0,0,71967.247111111123]
["2018-08-29","2018-09-04",0,0,0,36038.587555555569,0,31614.755555555555,0,0,0,67653.343111111128]
["2018-09-05","2018-09-11",0,0,0,0,0,16215.964444444448,0,0,0,16215.964444444448]
["2018-09-12","2018-09-18",0,0,0,0,0,16215.964444444448,0,0,0,16215.964444444448]
["2018-09-19","2018-09-25",0,0,0,0,0,16215.964444444448,0,0,0,16215.964444444448]
["2018-09-26","2018-10-02",0,0,0,0,0,16215.964444444448,0,0,0,16215.964444444448]
["2018-10-03","2018-10-09",0,0,0,70304.736000000004,0,29493.582222222227,0,0,0,99798.318222222239]
["2018-10-10","2018-10-16",0,0,0,70304.736000000004,0,29493.582222222227,0,0,0,99798.318222222239]
["2018-10-17","2018-10-23",0,0,0,70304.736000000004,0,29493.582222222227,0,0,0,99798.318222222239]
["2018-10-24","2018-10-30",0,0,0,70304.736000000004,0,29493.582222222227,0,0,0,99798.318222222239]
["รวม (ลบ.ม.)",null,23714334.722222224,0,0,5412626.1676666643,0,1980587.5911111101,0,0,0,31107548.480999991]

{"sheet":"R3","index":30,"n_rows":61,"n_cols":13,"rows_kept":61,"cut":false,"hidden":false,"merged":[]}
["ปี พ.ศ.",2560,"ฤดูแล้ง","60/61","ฤดูฝน","61",null,null,null,null,"โครงการชลประทานท่าโบสถ์ ฤดูแล้ง60/61 ฤดูฝน61"]
["โครงการชลประทาน","ท่าโบสถ์"]
["จังหวัด","ชัยนาท"]
["รั่วซึม มม./สัปดาห์",7]
["น้ำเตรียมแปลงฤดูแล้ง มม./สัปดาห์",null,0,30,20,30,30,null,null,20,null,"รวมฤดูแล้ง (ลบ.ม.)",130914591.90755551]
["น้ำเตรียมแปลงฤดูฝน มม./สัปดาห์",null,100,15,10,90,15,null,null,10,null,"รวมฤดูฝน (ลบ.ม.)",83638399.534666672]
["ประสิทธิ์ภาพโครงการ (%)",90,"ข้าว กข.(นาดำ)","อ้อย","กะหล่ำดอก","มะม่วง","มะม่วง",null,null,"ไม้ดอก (บานชื่น)",null,"รวมทั้งปี (ลบ.ม.)",214552991.44222218]
["เริ่มต้น","สิ้นสุด","ข้าว","อ้อย","พืชผัก","ไม้ผล","ไม้ยืนต้น","บ่อปลา","บ่อกุ้ง","อื่นๆ","อุปโภค-บริโภค อุตสาหกรรม รักษาระบบนิเวศน์ และอื่น ๆ ","รวม (ลบ.ม.)"]
["2017-11-01","2017-11-07",1681909.4555555549,136254.95555555556,0,0,466587.71777777787,14635.41333333333,18693.973333333328,0,0,2318081.5155555545]
["2017-11-08","2017-11-14",2497701.9777777782,49321.62222222222,0,0,242161.05111111113,14635.41333333333,18693.973333333328,0,0,2822514.0377777782]
["2017-11-15","2017-11-21",4386730.2666666666,49321.62222222222,0,0,242161.05111111113,14635.41333333333,18693.973333333328,0,0,4711542.3266666671]
["2017-11-22","2017-11-28",6200679.9888888877,49321.62222222222,0,0,242161.05111111113,14635.41333333333,18693.973333333328,0,0,6525492.0488888882]
["2017-11-29","2017-12-05",7995400.7999999998,73007.188888888908,0,0,281160.79511111107,17174.079999999998,21936.639999999999,0,0,8388679.5040000007]
["2017-12-06","2017-12-12",8484117.7111111116,73007.188888888908,0,0,302359.76622222218,19016.728888888894,24290.275555555563,0,0,8902791.6706666667]
["2017-12-13","2017-12-19",8685263.3666666672,73007.188888888908,0,0,302359.76622222218,19016.728888888894,24290.275555555563,0,0,9103937.3262222223]
["2017-12-20","2017-12-26",8883151.5111111104,73007.188888888908,0,0,302359.76622222218,19016.728888888894,24290.275555555563,0,0,9301825.4706666656]
["2017-12-27","2018-01-02",9266090.2444444429,74113.566666666651,0,0,302359.76622222218,19016.728888888894,24290.275555555563,0,0,9685870.5817777757]
["2018-01-03","2018-01-09",9227774.4000000022,92186.999999999985,0,0,315969.37111111108,18595.733333333334,23752.533333333333,0,0,9678279.0377777796]
["2018-01-10","2018-01-16",8972837.3111111112,92186.999999999985,0,0,315969.37111111108,18595.733333333334,23752.533333333333,0,0,9423341.9488888886]
["2018-01-17","2018-01-23",8749933.1777777784,92186.999999999985,0,0,315969.37111111108,18595.733333333334,23752.533333333333,0,0,9200437.8155555557]
["2018-01-24","2018-01-30",8140903.833333333,92186.999999999985,0,0,315969.37111111108,18595.733333333334,23752.533333333333,0,0,8591408.4711111095]
["2018-01-31","2018-02-06",7654707.9000000004,113233.56666666667,0,0,288968.0377777777,18595.733333333334,23752.533333333333,0,0,8099257.7711111112]
["2018-02-07","2018-02-13",5857026.0222222228,113233.56666666667,0,0,306776.29155555554,19092.888888888891,24387.555555555562,0,0,6320516.3248888897]
["2018-02-14","2018-02-20",3399557.0888888882,113233.56666666667,0,0,306776.29155555554,19092.888888888891,24387.555555555562,0,0,3863047.3915555552]
["2018-02-21","2018-02-27",1181592.3,113233.56666666667,0,0,306776.29155555554,19092.888888888891,24387.555555555562,0,0,1645082.6026666667]
["2018-02-28","2018-03-06",776377.90000000014,145186.77777777775,0,0,307980.7146666667,19092.888888888891,24387.555555555562,0,0,1273025.8368888891]
["2018-03-07","2018-03-13",654604.33333333349,145186.77777777775,0,0,345552.54622222215,19583.697777777779,25014.47111111111,0,0,1189941.8262222223]
["2018-03-14","2018-03-20",636181.90000000014,145186.77777777775,0,0,345552.54622222215,19583.697777777779,25014.47111111111,0,0,1171519.3928888887]
["2018-03-21","2018-03-27",745266.68888888892,145186.77777777775,0,0,345552.54622222215,19583.697777777779,25014.47111111111,0,0,1280604.1817777776]
["2018-03-28","2018-04-03",677927.33333333337,141397.64444444445,0,0,345552.54622222215,19583.697777777779,25014.47111111111,0,0,1209475.6928888888]
["2018-04-04","2018-04-10",610954.38888888911,116423.43333333333,0,0,365628.44444444438,18737.47555555556,23933.582222222227,0,0,1135677.3244444446]
["2018-04-11","2018-04-17",603741.34444444452,116423.43333333333,0,0,365628.44444444438,18737.47555555556,23933.582222222227,0,0,1128464.28]
["2018-04-18","2018-04-24",1052049.4333333333,116423.43333333333,0,0,365628.44444444438,18737.47555555556,23933.582222222227,0,0,1576772.368888889]
["2018-04-25","2018-05-01",1842282.2222222218,116423.43333333333,0,0,365628.44444444438,18737.47555555556,23933.582222222227,0,0,2367005.1577777774]
["2018-05-02","2018-05-08",742996.7,91030.788888888885,0,0,232183.41555555549,12293.493333333332,15702.613333333333,0,0,1094207.0111111111]
["2018-05-09","2018-05-15",842612.96666666633,91030.788888888885,0,0,232183.41555555549,12293.493333333332,15702.613333333333,0,0,1193823.2777777773]
["2018-05-16","2018-05-22",12854105.711111113,91030.788888888885,0,0,232183.41555555549,12293.493333333332,15702.613333333333,0,0,13205316.022222225]
["2018-05-23","2018-05-29",5314243.1666666679,91030.788888888885,0,0,232183.41555555549,12293.493333333332,15702.613333333333,0,0,5665453.4777777782]
["2018-05-30","2018-06-05",10230899.044444444,73683.822222222225,0,0,202560.49822222223,14832.160000000002,18945.28,0,0,10540920.804888887]
["2018-06-06","2018-06-12",5766202.4555555573,73683.822222222225,0,0,218451.76977777775,15263.733333333334,19496.533333333333,0,0,6093098.3142222241]
["2018-06-13","2018-06-19",6975657.6111111101,73683.822222222225,0,0,218451.76977777775,15263.733333333334,19496.533333333333,0,0,7302553.4697777769]
["2018-06-20","2018-06-26",7315503.1111111129,73683.822222222225,0,0,218451.76977777775,15263.733333333334,19496.533333333333,0,0,7642398.9697777797]
["2018-06-27","2018-07-03",5650079.7111111125,44563.188888888893,0,0,218451.76977777775,15263.733333333334,19496.533333333333,0,0,5947854.9364444455]
["2018-07-04","2018-07-10",5154392.9777777782,21195.511111111111,0,0,130376.9271111111,13302.613333333335,16991.573333333341,0,0,5336259.6026666667]
["2018-07-11","2018-07-17",4133162.6333333347,21195.511111111111,0,0,130376.9271111111,13302.613333333335,16991.573333333341,0,0,4315029.2582222233]
["2018-07-18","2018-07-24",4008564.0222222214,21195.511111111111,0,0,130376.9271111111,13302.613333333335,16991.573333333341,0,0,4190430.6471111099]
["2018-07-25","2018-07-31",3509530.3444444439,21195.511111111111,0,0,130376.9271111111,13302.613333333335,16991.573333333341,0,0,3691396.9693333325]
["2018-08-01","2018-08-07",981906.59999999939,0,0,0,31869.984888888917,11540.355555555556,14740.622222222224,0,0,1040057.5626666661]
["2018-08-08","2018-08-14",726231.07777777442,0,0,0,31869.984888888917,11540.355555555556,14740.622222222224,0,0,784382.04044444114]
["2018-08-15","2018-08-21",498737.05555555515,0,0,0,31869.984888888917,11540.355555555556,14740.622222222224,0,0,556888.01822222187]
["2018-08-22","2018-08-28",273011.55555555545,0,0,0,31869.984888888917,11540.355555555556,14740.622222222224,0,0,331162.5182222221]
["2018-08-29","2018-09-04",0,0,0,0,28462.907555555543,11540.355555555556,14740.622222222224,0,0,54743.885333333325]
["2018-09-05","2018-09-11",0,0,0,0,0,5919.3244444444454,7560.8177777777801,0,0,13480.142222222225]
["2018-09-12","2018-09-18",245150.77777777798,0,0,0,0,5919.3244444444454,7560.8177777777801,0,0,258630.92000000022]
["2018-09-19","2018-09-25",0,0,0,0,0,5919.3244444444454,7560.8177777777801,0,0,13480.142222222225]
["2018-09-26","2018-10-02",2442927.2666666675,5389.8666666666641,0,0,0,5919.3244444444454,7560.8177777777801,0,0,2461797.2755555562]
["2018-10-03","2018-10-09",460252.42222222191,4728.5888888888931,0,0,55525.962666666666,10766.062222222223,13751.60888888889,0,0,545024.64488888858]
["2018-10-10","2018-10-16",305317.51111111138,4728.5888888888931,0,0,55525.962666666666,10766.062222222223,13751.60888888889,0,0,390089.73377777805]
["2018-10-17","2018-10-23",394014.15555555531,4728.5888888888931,0,0,55525.962666666666,10766.062222222223,13751.60888888889,0,0,478786.37822222197]
["2018-10-24","2018-10-30",406361.28888888907,4728.5888888888931,0,0,55525.962666666666,10766.062222222223,13751.60888888889,0,0,491133.51155555574]
["รวม (ลบ.ม.)",null,198096623.06666666,3472390.7999999975,0,0,11214205.451111112,777132.40888888878,992639.71555555565,0,0,214552991.44222209]

{"sheet":"R4","index":31,"n_rows":61,"n_cols":13,"rows_kept":61,"cut":false,"hidden":false,"merged":[]}
["ปี พ.ศ.",2560,"ฤดูแล้ง","60/61","ฤดูฝน","61",null,null,null,null,"โครงการชลประทานสามชุก ฤดูแล้ง60/61 ฤดูฝน61"]
["โครงการชลประทาน","สามชุก"]
["จังหวัด","สุพรรณบุรี"]
["รั่วซึม มม./สัปดาห์",7]
["น้ำเตรียมแปลงฤดูแล้ง มม./สัปดาห์",null,0,30,20,30,30,null,null,20,null,"รวมฤดูแล้ง (ลบ.ม.)",345839466.67044443]
["น้ำเตรียมแปลงฤดูฝน มม./สัปดาห์",null,100,15,10,90,15,null,null,10,null,"รวมฤดูฝน (ลบ.ม.)",184531846.90711114]
["ประสิทธิ์ภาพโครงการ (%)",90,"ข้าว กข.(นาดำ)","อ้อย","กะหล่ำดอก","มะม่วง","มะม่วง",null,null,"ไม้ดอก (บานชื่น)",null,"รวมทั้งปี (ลบ.ม.)",530371313.57755554]
["เริ่มต้น","สิ้นสุด","ข้าว","อ้อย","พืชผัก","ไม้ผล","ไม้ยืนต้น","บ่อปลา","บ่อกุ้ง","อื่นๆ","อุปโภค-บริโภค อุตสาหกรรม รักษาระบบนิเวศน์ และอื่น ๆ ","รวม (ลบ.ม.)"]
["2017-11-01","2017-11-07",12972590.655555556,1904495.8333333333,0,1513167.2866666664,390254.50888888893,684004.12444444443,56582.897777777776,0,0,17521095.306666665]
["2017-11-08","2017-11-14",12914560.177777778,685722.5,0,798073.95333333325,205827.84222222224,684004.12444444443,56582.897777777776,0,0,15344771.495555555]
["2017-11-15","2017-11-21",12468478.688888889,685722.5,0,798073.95333333325,205827.84222222224,684004.12444444443,56582.897777777776,0,0,14898690.006666666]
["2017-11-22","2017-11-28",11525773.43333333,685722.5,0,798073.95333333325,205827.84222222224,684004.12444444443,56582.897777777776,0,0,13955984.751111107]
["2017-11-29","2017-12-05",12150464.599999998,1037582.3555555556,0,932475.74533333327,240490.83422222224,812174.79111111094,67185.564444444448,0,0,15240373.890666664]
["2017-12-06","2017-12-12",10207284.544444444,1037582.3555555556,0,1004437.9777777778,259050.31111111108,882134.61333333352,72972.853333333347,0,0,13463462.655555554]
["2017-12-13","2017-12-19",7759389.4333333345,1037582.3555555556,0,1004437.9777777778,259050.31111111108,882134.61333333352,72972.853333333347,0,0,11015567.544444446]
["2017-12-20","2017-12-26",6395476.1888888888,1037582.3555555556,0,1004437.9777777778,259050.31111111108,882134.61333333352,72972.853333333347,0,0,9651654.3000000007]
["2017-12-27","2018-01-02",3400137.5,1066792.3,0,1004437.9777777778,259050.31111111108,882134.61333333352,72972.853333333347,0,0,6685525.555555556]
["2018-01-03","2018-01-09",3109198.8,1331692.6888888888,0,1041108.851111111,268507.93444444449,883629.9377777779,73096.551111111112,0,0,6707234.7633333337]
["2018-01-10","2018-01-16",2804965.2444444448,1336424.6888888888,103842.18888888889,1124282.2094444444,237681.54388888887,884071.16444444458,72214.097777777773,2575498.5222222223,0,9138979.6600000001]
["2018-01-17","2018-01-23",3577683.3555555558,1333651.3555555556,79802.866666666669,1090415.5427777776,237681.54388888887,884071.16444444458,72214.097777777773,1468947.3111111112,0,8744467.237777777]
["2018-01-24","2018-01-30",7867941.4000000004,1333651.3555555556,83322.111111111095,1090415.5427777776,237681.54388888887,884071.16444444458,72214.097777777773,1814655.0888888885,0,13383952.304444445]
["2018-01-31","2018-02-06",9393153.5444444437,1773839.5777777778,97972.411111111112,996210.41777777777,217147.33555555559,884071.16444444458,72214.097777777773,2375246.4333333331,0,15809854.982222224]
["2018-02-07","2018-02-13",9850172.5222222228,1774398.1,99170.266666666663,1142594.6564444446,249055.20177777781,933655.23555555544,76264.302222222221,2678709.8333333335,0,16804020.118222225]
["2018-02-14","2018-02-20",10594834.277777778,1774398.1,81202.444444444438,1142594.6564444446,249055.20177777781,933655.23555555544,76264.302222222221,2917145.3666666667,0,17769149.58488889]
["2018-02-21","2018-02-27",11042155.855555555,1774398.1,80004.588888888873,1142594.6564444446,249055.20177777781,933655.23555555544,76264.302222222221,3112228.9777777777,0,18410356.918222222]
["2018-02-28","2018-03-06",12527800.366666667,2309125,0,1147083.7354444445,250033.70144444442,933655.23555555544,76264.302222222221,3690812.0444444451,0,20934774.385777779]
["2018-03-07","2018-03-13",12556015.044444444,2309125,0,1308447.1674444447,285206.63211111113,981315.78666666686,80157.386666666658,3818178.0666666669,0,21338445.083999999]
["2018-03-14","2018-03-20",11878317.744444447,2309968.8999999994,0,1308447.1674444447,285206.63211111113,981315.78666666686,80157.386666666658,0,0,16843413.617333338]
["2018-03-21","2018-03-27",11150175.677777778,2309968.8999999994,0,1308447.1674444447,285206.63211111113,981315.78666666686,80157.386666666658,0,0,16115271.550666668]
["2018-03-28","2018-04-03",7895550.2555555552,2112256.2666666666,0,1308447.1674444447,285206.63211111113,981315.78666666686,80157.386666666658,0,0,12662933.495111112]
["2018-04-04","2018-04-10",7402114.9444444431,1727574.8444444444,0,1298119.3166666667,282955.43888888886,913885.72444444464,74649.457777777803,0,0,11699299.726666665]
["2018-04-11","2018-04-17",4700139.9333333327,1728288.0888888889,0,1298119.3166666667,282955.43888888886,913885.72444444464,74649.457777777803,0,0,8998037.959999999]
["2018-04-18","2018-04-24",3773251.6666666665,1728288.0888888889,0,1298119.3166666667,282955.43888888886,913885.72444444464,74649.457777777803,0,0,8071149.6933333324]
["2018-04-25","2018-05-01",333102.0555555555,1728288.0888888889,0,1298119.3166666667,282955.43888888886,913885.72444444464,74649.457777777803,0,0,4631000.0822222224]
["2018-05-02","2018-05-08",16980274.199999996,1190372.5444444444,0,720062.62666666671,156954.47555555555,568827.60888888885,46463.875555555554,0,0,19662955.331111107]
["2018-05-09","2018-05-15",11073929.444444444,1190965.0333333332,57758.744444444441,720062.62666666671,156954.47555555555,568827.60888888885,46463.875555555554,0,0,13814961.80888889]
["2018-05-16","2018-05-22",8997202.8222222235,1190965.0333333332,58937.244444444434,720062.62666666671,156954.47555555555,568827.60888888885,46463.875555555554,0,0,11739413.686666669]
["2018-05-23","2018-05-29",8783951.4333333317,1190965.0333333332,62628.944444444431,720062.62666666671,156954.47555555555,568827.60888888885,46463.875555555554,0,0,11529853.997777777]
["2018-05-30","2018-06-05",9517253.0111111142,915950.24444444431,64864.111111111109,620057.74266666675,135156.07422222223,697062.27555555536,56938.542222222219,0,0,12007282.001333337]
["2018-06-06","2018-06-12",12047832.800000001,915950.24444444431,73229.766666666648,648625.88122222212,141383.17077777773,756263.94666666689,61774.346666666679,0,0,14645060.156444445]
["2018-06-13","2018-06-19",11660623.588888885,915253.11111111112,58702.955555555556,648625.88122222212,141383.17077777773,756263.94666666689,61774.346666666679,0,0,14242627.000888888]
["2018-06-20","2018-06-26",10788102.199999999,915253.11111111112,58154.777777777781,648625.88122222212,141383.17077777773,756263.94666666689,61774.346666666679,0,0,13369557.434222221]
["2018-06-27","2018-07-03",9799816.6555555537,671694.1333333333,6651.333333333333,648625.88122222212,141383.17077777773,756263.94666666689,61774.346666666679,0,0,12086209.467555553]
["2018-07-04","2018-07-10",8490846.5000000019,339822.15555555577,6767.51111111111,463111.61433333339,100945.99811111113,707641.63555555558,57802.702222222222,0,0,10166938.116888892]
["2018-07-11","2018-07-17",7888196.0111111114,339595.60000000015,5024.7888888888892,463111.61433333339,100945.99811111113,707641.63555555558,57802.702222222222,0,0,9562318.3502222244]
["2018-07-18","2018-07-24",6308749.5111111095,339595.60000000015,4908.6111111111113,463111.61433333339,100945.99811111113,707641.63555555558,57802.702222222222,0,0,7982755.6724444441]
["2018-07-25","2018-07-31",4987100.6999999983,339595.60000000015,0,463111.61433333339,100945.99811111113,707641.63555555558,57802.702222222222,0,0,6656198.250222221]
["2018-08-01","2018-08-07",798609.31111111213,0,0,98531.929333333319,21477.336444444438,634334.15111111116,51814.684444444443,0,0,1604767.4124444455]
["2018-08-08","2018-08-14",401584.13333333301,0,0,98531.929333333319,21477.336444444438,634334.15111111116,51814.684444444443,0,0,1207742.2346666665]
["2018-08-15","2018-08-21",270644.53333333292,0,0,98531.929333333319,21477.336444444438,634334.15111111116,51814.684444444443,0,0,1076802.6346666664]
["2018-08-22","2018-08-28",1957051.0999999996,0,0,98531.929333333319,21477.336444444438,634334.15111111116,51814.684444444443,0,0,2763209.2013333328]
["2018-08-29","2018-09-04",2048845.7111111109,0,0,87653.285333333319,19106.081777777777,634334.15111111116,51814.684444444443,0,0,2841753.9137777775]
["2018-09-05","2018-09-11",2573049.3666666662,0,0,0,0,292054.45333333343,23856.053333333337,0,0,2888959.8733333331]
["2018-09-12","2018-09-18",1806012.511111113,0,0,0,0,292054.45333333343,23856.053333333337,0,0,2121923.0177777796]
["2018-09-19","2018-09-25",0,0,0,0,0,292054.45333333343,23856.053333333337,0,0,315910.50666666677]
["2018-09-26","2018-10-02",4057399.9666666654,24924.755555555588,0,0,0,292054.45333333343,23856.053333333337,0,0,4398235.2288888879]
["2018-10-03","2018-10-09",1942035.5222222249,15113.633333333353,0,162064.01722222232,35325.642777777786,443371.36000000004,36216.160000000003,0,0,2634126.3355555581]
["2018-10-10","2018-10-16",0,14868.055555555555,0,162064.01722222232,35325.642777777786,443371.36000000004,36216.160000000003,0,0,691845.23555555579]
["2018-10-17","2018-10-23",0,14868.055555555555,0,162064.01722222232,35325.642777777786,443371.36000000004,36216.160000000003,0,0,691845.23555555579]
["2018-10-24","2018-10-30",3136749.566666666,14868.055555555555,0,162064.01722222232,35325.642777777786,443371.36000000004,36216.160000000003,0,0,3828594.8022222216]
["รวม (ลบ.ม.)",null,366566588.5111112,50414742.199999988,1082945.6666666663,38278478.311333358,8731586.2573333383,37753440.373333327,3092110.6133333324,24451421.644444447,0,530371313.57755554]

{"sheet":"R5","index":32,"n_rows":61,"n_cols":13,"rows_kept":61,"cut":false,"hidden":false,"merged":[]}
["ปี พ.ศ.",2560,"ฤดูแล้ง","60/61","ฤดูฝน","61",null,null,null,null,"โครงการชลประทานดอนเจดีย์ ฤดูแล้ง60/61 ฤดูฝน61"]
["โครงการชลประทาน","ดอนเจดีย์"]
["จังหวัด","สุพรรณบุรี"]
["รั่วซึม มม./สัปดาห์",7]
["น้ำเตรียมแปลงฤดูแล้ง มม./สัปดาห์",null,0,30,20,30,30,null,null,20,null,"รวมฤดูแล้ง (ลบ.ม.)",132532830.5878889]
["น้ำเตรียมแปลงฤดูฝน มม./สัปดาห์",null,100,15,10,90,15,null,null,10,null,"รวมฤดูฝน (ลบ.ม.)",79978557.100444436]
["ประสิทธิ์ภาพโครงการ (%)",90,"ข้าว กข.(นาดำ)","อ้อย","กะหล่ำดอก","มะม่วง","มะม่วง",null,null,"ไม้ดอก (บานชื่น)",null,"รวมทั้งปี (ลบ.ม.)",212511387.68833333]
["เริ่มต้น","สิ้นสุด","ข้าว","อ้อย","พืชผัก","ไม้ผล","ไม้ยืนต้น","บ่อปลา","บ่อกุ้ง","อื่นๆ","อุปโภค-บริโภค อุตสาหกรรม รักษาระบบนิเวศน์ และอื่น ๆ ","รวม (ลบ.ม.)"]
["2017-11-01","2017-11-07",6202963.1777777774,304859.3444444444,0,1129345.5466666666,0,17077.333333333332,138326.39999999999,0,0,7792571.8022222221]
["2017-11-08","2017-11-14",6557963.7333333343,109766.01111111109,0,595638.88000000012,0,17077.333333333332,138326.39999999999,0,0,7418772.357777779]
["2017-11-15","2017-11-21",6208696.3444444435,109766.01111111109,0,595638.88000000012,0,17077.333333333332,138326.39999999999,0,0,7069504.9688888881]
["2017-11-22","2017-11-28",5830124.3777777767,109766.01111111109,0,595638.88000000012,0,17077.333333333332,138326.39999999999,0,0,6690933.0022222213]
["2017-11-29","2017-12-05",6095913.9555555554,166089.46666666667,0,695949.04800000007,0,20277.333333333332,164246.39999999997,0,0,7142476.203555556]
["2017-12-06","2017-12-12",5241814.2333333325,166089.46666666667,0,749657.72222222225,0,22024.000000000004,178394.40000000002,0,0,6357979.8222222216]
["2017-12-13","2017-12-19",4335037.1555555565,166089.46666666667,0,749657.72222222225,0,22024.000000000004,178394.40000000002,0,0,5451202.7444444457]
["2017-12-20","2017-12-26",3553234.2777777771,166089.46666666667,0,749657.72222222225,0,22024.000000000004,178394.40000000002,0,0,4669399.8666666662]
["2017-12-27","2018-01-02",3162054.222222222,170765.18888888892,0,749657.72222222225,0,22024.000000000004,178394.40000000002,0,0,4282895.5333333332]
["2018-01-03","2018-01-09",2744852.5444444446,213168.73333333334,0,777026.87388888875,0,22061.333333333332,178696.80000000002,0,0,3935806.2850000001]
["2018-01-10","2018-01-16",2972469.8111111107,213168.73333333334,0,777026.87388888875,0,22061.333333333332,178696.80000000002,0,0,4163423.5516666663]
["2018-01-17","2018-01-23",3362990.2111111111,213168.73333333334,0,777026.87388888875,0,22061.333333333332,178696.80000000002,0,0,4553943.9516666662]
["2018-01-24","2018-01-30",3520685.0555555555,213168.73333333334,0,777026.87388888875,0,22061.333333333332,178696.80000000002,0,0,4711638.7961111106]
["2018-01-31","2018-02-06",4536392.5111111114,283597.43333333335,0,709896.58222222223,0,22061.333333333332,178696.80000000002,0,0,5730644.6600000001]
["2018-02-07","2018-02-13",4208124.555555555,283597.43333333335,0,814209.54355555563,0,23298.666666666668,188719.2,0,0,5517949.3991111116]
["2018-02-14","2018-02-20",4345329.2444444448,283597.43333333335,0,814209.54355555563,0,23298.666666666668,188719.2,0,0,5655154.0880000014]
["2018-02-21","2018-02-27",4398028.6444444442,283597.43333333335,0,814209.54355555563,0,23298.666666666668,188719.2,0,0,5707853.4880000008]
["2018-02-28","2018-03-06",4831728.6444444442,369139.99999999994,0,817408.44788888888,0,23298.666666666668,188719.2,0,0,6230294.9590000007]
["2018-03-07","2018-03-13",4620061.2111111097,369139.99999999994,0,932395.5492222223,0,24488,198352.8,0,0,6144437.560333332]
["2018-03-14","2018-03-20",4198791.7777777771,369139.99999999994,0,932395.5492222223,0,24488,198352.8,0,0,5723168.1269999994]
["2018-03-21","2018-03-27",3512008.7777777771,369139.99999999994,0,932395.5492222223,0,24488,198352.8,0,0,5036385.1269999994]
["2018-03-28","2018-04-03",2221015.2444444443,337571.3,0,932395.5492222223,0,24488,198352.8,0,0,3713822.893666666]
["2018-04-04","2018-04-10",1683302.3999999999,275993.98888888891,0,925035.9611111111,0,22805.333333333336,184723.20000000004,0,0,3091860.8833333333]
["2018-04-11","2018-04-17",1003379.0111111113,275993.98888888891,0,925035.9611111111,0,22805.333333333336,184723.20000000004,0,0,2411937.4944444452]
["2018-04-18","2018-04-24",494319.22222222213,275993.98888888891,0,925035.9611111111,0,22805.333333333336,184723.20000000004,0,0,1902877.7055555554]
["2018-04-25","2018-05-01",17336.833333333358,275993.98888888891,0,925035.9611111111,0,22805.333333333336,184723.20000000004,0,0,1425895.3166666667]
["2018-05-02","2018-05-08",2181.2444444444391,272482.86666666664,0,513114.48444444453,0,14194.666666666666,114976.8,0,0,916950.06222222222]
["2018-05-09","2018-05-15",5572233.6555555547,227416.2,0,410153.16888888902,0,18358.435555555556,100971.39555555556,0,0,6329132.8555555558]
["2018-05-16","2018-05-22",8134990.9111111136,227416.2,0,410153.16888888902,0,18358.435555555556,100971.39555555556,0,0,8891890.1111111138]
["2018-05-23","2018-05-29",2416540.8222222216,227416.2,0,410153.16888888902,0,18358.435555555556,100971.39555555556,0,0,3173440.0222222218]
["2018-05-30","2018-06-05",8953218.5333333351,207617.21111111116,0,353189.62355555553,0,22497.10222222222,123734.06222222222,0,0,9660256.5324444473]
["2018-06-06","2018-06-12",3965374.8222222221,207617.21111111116,0,369462.25366666657,0,24407.786666666674,134242.82666666669,0,0,4701104.9003333338]
["2018-06-13","2018-06-19",4650635.3555555558,207617.21111111116,0,369462.25366666657,0,24407.786666666674,134242.82666666669,0,0,5386365.4336666679]
["2018-06-20","2018-06-26",4644507.333333333,207617.21111111116,0,369462.25366666657,0,24407.786666666674,134242.82666666669,0,0,5380237.4114444451]
["2018-06-27","2018-07-03",4822552.3555555558,150899.74444444443,0,369462.25366666657,0,24407.786666666674,134242.82666666669,0,0,5501564.9670000011]
["2018-07-04","2018-07-10",4617752.0888888873,119864.81111111114,0,263791.91077777778,0,22838.542222222226,125611.98222222224,0,0,5149859.33522222]
["2018-07-11","2018-07-17",4263549.6111111101,119864.81111111114,0,263791.91077777778,0,22838.542222222226,125611.98222222224,0,0,4795656.8574444428]
["2018-07-18","2018-07-24",3934081.5888888887,119864.81111111114,0,263791.91077777778,0,22838.542222222226,125611.98222222224,0,0,4466188.8352222219]
["2018-07-25","2018-07-31",3201565.5555555555,119864.81111111114,0,263791.91077777778,0,22838.542222222226,125611.98222222224,0,0,3733672.8018888892]
["2018-08-01","2018-08-07",528072.05555555515,34990.688888888886,0,56124.539111111146,0,20472.604444444445,112599.32444444446,0,0,752259.21244444419]
["2018-08-08","2018-08-14",225759.17777777856,34990.688888888886,0,56124.539111111146,0,20472.604444444445,112599.32444444446,0,0,449946.33466666751]
["2018-08-15","2018-08-21",0,34990.688888888886,0,56124.539111111146,0,20472.604444444445,112599.32444444446,0,0,224187.15688888892]
["2018-08-22","2018-08-28",8421522.4333333354,34990.688888888886,0,56124.539111111146,0,20472.604444444445,112599.32444444446,0,0,8645709.5902222246]
["2018-08-29","2018-09-04",0,0,0,49927.980444444438,0,20472.604444444445,112599.32444444446,0,0,182999.90933333334]
["2018-09-05","2018-09-11",159482.44444444362,0,0,0,0,9425.8133333333353,51841.97333333335,0,0,220750.2311111103]
["2018-09-12","2018-09-18",0,0,0,0,0,9425.8133333333353,51841.97333333335,0,0,61267.786666666681]
["2018-09-19","2018-09-25",0,0,0,0,0,9425.8133333333353,51841.97333333335,0,0,61267.786666666681]
["2018-09-26","2018-10-02",0,82662.844444444447,0,0,0,9425.8133333333353,51841.97333333335,0,0,143930.63111111114]
["2018-10-03","2018-10-09",162613.86666666612,61501.855555555536,0,92312.901666666672,0,14309.44,78701.920000000013,0,0,409439.98388888838]
["2018-10-10","2018-10-16",0,61501.855555555536,0,92312.901666666672,0,14309.44,78701.920000000013,0,0,246826.11722222224]
["2018-10-17","2018-10-23",0,61501.855555555536,0,92312.901666666672,0,14309.44,78701.920000000013,0,0,246826.11722222224]
["2018-10-24","2018-10-30",0,61501.855555555536,0,92312.901666666672,0,14309.44,78701.920000000013,0,0,246826.11722222224]
["รวม (ลบ.ม.)",null,168535251.03333333,9258644.6777777765,0,26392067.337222211,0,1047413.7599999993,7278010.8800000036,0,0,212511387.68833333]

{"sheet":"R6","index":33,"n_rows":61,"n_cols":13,"rows_kept":61,"cut":false,"hidden":false,"merged":[]}
["ปี พ.ศ.",2560,"ฤดูแล้ง","60/61","ฤดูฝน","61",null,null,null,null,"โครงการชลประทานโพธิ์พระยา ฤดูแล้ง60/61 ฤดูฝน61"]
["โครงการชลประทาน","โพธิ์พระยา"]
["จังหวัด","สุพรรณบุรี"]
["รั่วซึม มม./สัปดาห์",7]
["น้ำเตรียมแปลงฤดูแล้ง มม./สัปดาห์",null,0,30,20,30,30,null,null,20,null,"รวมฤดูแล้ง (ลบ.ม.)",338745723.36277777]
["น้ำเตรียมแปลงฤดูฝน มม./สัปดาห์",null,100,15,10,90,15,null,null,10,null,"รวมฤดูฝน (ลบ.ม.)",193288510.13111117]
["ประสิทธิ์ภาพโครงการ (%)",90,"ข้าว กข.(นาดำ)","อ้อย","กะหล่ำดอก","มะม่วง","มะม่วง",null,null,"ไม้ดอก (บานชื่น)",null,"รวมทั้งปี (ลบ.ม.)",532034233.49388897]
["เริ่มต้น","สิ้นสุด","ข้าว","อ้อย","พืชผัก","ไม้ผล","ไม้ยืนต้น","บ่อปลา","บ่อกุ้ง","อื่นๆ","อุปโภค-บริโภค อุตสาหกรรม รักษาระบบนิเวศน์ และอื่น ๆ ","รวม (ลบ.ม.)"]
["2017-11-01","2017-11-07",1149560.1777777777,0,0,1783682.0555555555,0,2129429.6177777778,243181.2266666666,0,0,5305853.0777777778]
["2017-11-08","2017-11-14",1135204.0444444444,0,0,940748.72222222236,0,2129429.6177777778,243181.2266666666,0,0,4448563.611111111]
["2017-11-15","2017-11-21",1168783.7777777775,0,0,940748.72222222236,0,2129429.6177777778,243181.2266666666,0,0,4482143.3444444444]
["2017-11-22","2017-11-28",1267910.4222222224,0,0,940748.72222222236,0,2129429.6177777778,243181.2266666666,0,0,4581269.9888888896]
["2017-11-29","2017-12-05",1686745.9222222222,0,0,1099178.0422222221,0,2528448.2844444439,288749.22666666663,0,0,5603121.475555555]
["2017-12-06","2017-12-12",1756525.2888888887,0,0,1184005.2333333334,0,2746245.9733333336,313621.76000000001,0,0,6000398.2555555552]
["2017-12-13","2017-12-19",2309878.3333333335,0,0,1184005.2333333334,0,2746245.9733333336,313621.76000000001,0,0,6553751.3000000007]
["2017-12-20","2017-12-26",3197146.1666666665,0,0,1184005.2333333334,0,2746245.9733333336,313621.76000000001,0,0,7441019.1333333338]
["2017-12-27","2018-01-02",3736535.9888888891,0,0,1184005.2333333334,0,2746245.9733333336,313621.76000000001,0,0,7980408.9555555554]
["2018-01-03","2018-01-09",4765726.0999999996,0,0,1227231.9083333337,0,2750901.1911111111,314153.38666666666,0,0,9058012.5861111097]
["2018-01-10","2018-01-16",6351456.6222222224,0,0,1227231.9083333337,0,2750901.1911111111,314153.38666666666,0,0,10643743.108333334]
["2018-01-17","2018-01-23",7776782.7333333343,0,0,1227231.9083333337,0,2750901.1911111111,314153.38666666666,0,0,12069069.219444446]
["2018-01-24","2018-01-30",10054685.500000002,0,0,1227231.9083333337,0,2750901.1911111111,314153.38666666666,0,0,14346971.986111112]
["2018-01-31","2018-02-06",13050436.477777777,0,0,1121206.6999999997,0,2750901.1911111111,314153.38666666666,0,0,17236697.755555555]
["2018-02-07","2018-02-13",16535203.777777778,0,0,1285958.02,0,2905188.408888889,331773.01333333331,0,0,21058123.219999999]
["2018-02-14","2018-02-20",17257463.055555552,0,0,1285958.02,0,2905188.408888889,331773.01333333331,0,0,21780382.497777771]
["2018-02-21","2018-02-27",17670340.444444448,0,0,1285958.02,0,2905188.408888889,331773.01333333331,0,0,22193259.886666667]
["2018-02-28","2018-03-06",19897850.155555554,0,83865.466666666645,1291010.3516666666,0,2905188.408888889,331773.01333333331,0,0,24509687.396111105]
["2018-03-07","2018-03-13",19426890.65555555,0,72091.188888888893,1472620.3383333334,0,3053490.3466666671,348709.12000000005,0,0,24373801.649444442]
["2018-03-14","2018-03-20",18619239.522222221,0,75503.444444444438,1472620.3383333334,0,3053490.3466666671,348709.12000000005,0,0,23569562.771666668]
["2018-03-21","2018-03-27",17194420.511111114,0,77453.311111111107,1472620.3383333334,0,3053490.3466666671,348709.12000000005,0,0,22146693.627222229]
["2018-03-28","2018-04-03",12606280.6,0,71302.111111111095,1472620.3383333334,0,3053490.3466666671,348709.12000000005,0,0,17552402.516111113]
["2018-04-04","2018-04-10",10891344.844444444,0,56133.166666666679,1460996.638888889,0,2843673.0311111119,324747.94666666671,0,0,15576895.627777778]
["2018-04-11","2018-04-17",8689043.7888888884,0,55121.900000000009,1460996.638888889,0,2843673.0311111119,324747.94666666671,0,0,13373583.305555556]
["2018-04-18","2018-04-24",6833773.1666666679,0,0,1460996.638888889,0,2843673.0311111119,324747.94666666671,0,0,11463190.783333337]
["2018-04-25","2018-05-01",767698.66666666744,0,0,1460996.638888889,0,2843673.0311111119,324747.94666666671,0,0,5397116.2833333341]
["2018-05-02","2018-05-08",7201301.1222222205,0,0,810410.15555555571,0,1769980.3022222221,202132.05333333334,0,0,9983823.633333331]
["2018-05-09","2018-05-15",8212027.5444444446,0,0,810410.15555555571,0,1769980.3022222221,202132.05333333334,0,0,10994550.055555556]
["2018-05-16","2018-05-22",11098403.355555555,0,0,810410.15555555571,0,1769980.3022222221,202132.05333333334,0,0,13880925.866666665]
["2018-05-23","2018-05-29",7535518.5888888901,0,0,810410.15555555571,0,1769980.3022222221,202132.05333333334,0,0,10318041.1]
["2018-05-30","2018-06-05",12233438.411111109,0,0,697857.48222222214,0,2168998.9688888886,247700.05333333329,0,0,15347994.915555552]
["2018-06-06","2018-06-12",9815572.4555555582,0,0,730010.12055555545,0,2353212.5866666674,268737.28000000009,0,0,13167532.442777781]
["2018-06-13","2018-06-19",11404699.155555554,0,0,730010.12055555545,0,2353212.5866666674,268737.28000000009,0,0,14756659.142777776]
["2018-06-20","2018-06-26",9285582.2777777798,0,0,730010.12055555545,0,2353212.5866666674,268737.28000000009,0,0,12637542.265000002]
["2018-06-27","2018-07-03",8108779.2111111097,0,0,730010.12055555545,0,2353212.5866666674,268737.28000000009,0,0,11460739.198333332]
["2018-07-04","2018-07-10",16780952.255555555,0,0,521219.04611111118,0,2201918.0088888886,251459.41333333333,0,0,19755548.723888889]
["2018-07-11","2018-07-17",9608186.9999999981,0,0,521219.04611111118,0,2201918.0088888886,251459.41333333333,0,0,12582783.468333332]
["2018-07-18","2018-07-24",7998352.4777777763,0,0,521219.04611111118,0,2201918.0088888886,251459.41333333333,0,0,10972948.946111111]
["2018-07-25","2018-07-31",7199577.7333333362,0,0,521219.04611111118,0,2201918.0088888886,251459.41333333333,0,0,10174174.20166667]
["2018-08-01","2018-08-07",1647373.4333333352,0,0,110894.9044444443,0,1973812.3377777778,225409.70666666669,0,0,3957490.3822222236]
["2018-08-08","2018-08-14",1278108.5777777764,0,0,110894.9044444443,0,1973812.3377777778,225409.70666666669,0,0,3588225.526666665]
["2018-08-15","2018-08-21",1056355.5444444448,0,0,110894.9044444443,0,1973812.3377777778,225409.70666666669,0,0,3366472.4933333336]
["2018-08-22","2018-08-28",806655.42222222209,0,0,110894.9044444443,0,1973812.3377777778,225409.70666666669,0,0,3116772.3711111108]
["2018-08-29","2018-09-04",0,0,0,98651.297777777843,0,1973812.3377777778,225409.70666666669,0,0,2297873.3422222221]
["2018-09-05","2018-09-11",0,0,0,0,0,908765.01333333354,103781.12000000002,0,0,1012546.1333333335]
["2018-09-12","2018-09-18",0,0,0,0,0,908765.01333333354,103781.12000000002,0,0,1012546.1333333335]
["2018-09-19","2018-09-25",0,0,0,0,0,908765.01333333354,103781.12000000002,0,0,1012546.1333333335]
["2018-09-26","2018-10-02",0,0,0,0,0,908765.01333333354,103781.12000000002,0,0,1012546.1333333335]
["2018-10-03","2018-10-09",0,0,0,182398.48055555564,0,1379607.04,157551.36000000002,0,0,1719556.8805555557]
["2018-10-10","2018-10-16",0,0,0,182398.48055555564,0,1379607.04,157551.36000000002,0,0,1719556.8805555557]
["2018-10-17","2018-10-23",0,0,0,182398.48055555564,0,1379607.04,157551.36000000002,0,0,1719556.8805555557]
["2018-10-24","2018-10-30",0,0,0,182398.48055555564,0,1379607.04,157551.36000000002,0,0,1719556.8805555557]
["รวม (ลบ.ม.)",null,357067811.31111115,0,491470.58888888889,43570853.460555561,0,117487056.21333338,13417041.919999994,0,0,532034233.4938888]

{"sheet":"R7","index":34,"n_rows":61,"n_cols":13,"rows_kept":61,"cut":false,"hidden":false,"merged":[]}
["ปี พ.ศ.",2560,"ฤดูแล้ง","60/61","ฤดูฝน","61",null,null,null,null,"โครงการชลประทานชลประทานสุพรรณบุรี ฤดูแล้ง60/61 ฤดูฝน61"]
["โครงการชลประทาน","ชลประทานสุพรรณบุรี"]
["จังหวัด","สุพรรณบุรี"]
["รั่วซึม มม./สัปดาห์",7]
["น้ำเตรียมแปลงฤดูแล้ง มม./สัปดาห์",null,0,30,20,30,30,null,null,20,null,"รวมฤดูแล้ง (ลบ.ม.)",0]
["น้ำเตรียมแปลงฤดูฝน มม./สัปดาห์",null,100,15,10,90,15,null,null,10,null,"รวมฤดูฝน (ลบ.ม.)",0]
["ประสิทธิ์ภาพโครงการ (%)",90,"ข้าว กข.(นาดำ)","อ้อย","กะหล่ำดอก","มะม่วง","มะม่วง",null,null,"ไม้ดอก (บานชื่น)",null,"รวมทั้งปี (ลบ.ม.)",0]
["เริ่มต้น","สิ้นสุด","ข้าว","อ้อย","พืชผัก","ไม้ผล","ไม้ยืนต้น","บ่อปลา","บ่อกุ้ง","อื่นๆ","อุปโภค-บริโภค อุตสาหกรรม รักษาระบบนิเวศน์ และอื่น ๆ ","รวม (ลบ.ม.)"]
["2017-11-01","2017-11-07",0,0,0,0,0,0,0,0,0,0]
["2017-11-08","2017-11-14",0,0,0,0,0,0,0,0,0,0]
["2017-11-15","2017-11-21",0,0,0,0,0,0,0,0,0,0]
["2017-11-22","2017-11-28",0,0,0,0,0,0,0,0,0,0]
["2017-11-29","2017-12-05",0,0,0,0,0,0,0,0,0,0]
["2017-12-06","2017-12-12",0,0,0,0,0,0,0,0,0,0]
["2017-12-13","2017-12-19",0,0,0,0,0,0,0,0,0,0]
["2017-12-20","2017-12-26",0,0,0,0,0,0,0,0,0,0]
["2017-12-27","2018-01-02",0,0,0,0,0,0,0,0,0,0]
["2018-01-03","2018-01-09",0,0,0,0,0,0,0,0,0,0]
["2018-01-10","2018-01-16",0,0,0,0,0,0,0,0,0,0]
["2018-01-17","2018-01-23",0,0,0,0,0,0,0,0,0,0]
["2018-01-24","2018-01-30",0,0,0,0,0,0,0,0,0,0]
["2018-01-31","2018-02-06",0,0,0,0,0,0,0,0,0,0]
["2018-02-07","2018-02-13",0,0,0,0,0,0,0,0,0,0]
["2018-02-14","2018-02-20",0,0,0,0,0,0,0,0,0,0]
["2018-02-21","2018-02-27",0,0,0,0,0,0,0,0,0,0]
["2018-02-28","2018-03-06",0,0,0,0,0,0,0,0,0,0]
["2018-03-07","2018-03-13",0,0,0,0,0,0,0,0,0,0]
["2018-03-14","2018-03-20",0,0,0,0,0,0,0,0,0,0]
["2018-03-21","2018-03-27",0,0,0,0,0,0,0,0,0,0]
["2018-03-28","2018-04-03",0,0,0,0,0,0,0,0,0,0]
["2018-04-04","2018-04-10",0,0,0,0,0,0,0,0,0,0]
["2018-04-11","2018-04-17",0,0,0,0,0,0,0,0,0,0]
["2018-04-18","2018-04-24",0,0,0,0,0,0,0,0,0,0]
["2018-04-25","2018-05-01",0,0,0,0,0,0,0,0,0,0]
["2018-05-02","2018-05-08",0,0,0,0,0,0,0,0,0,0]
["2018-05-09","2018-05-15",0,0,0,0,0,0,0,0,0,0]
["2018-05-16","2018-05-22",0,0,0,0,0,0,0,0,0,0]
["2018-05-23","2018-05-29",0,0,0,0,0,0,0,0,0,0]
["2018-05-30","2018-06-05",0,0,0,0,0,0,0,0,0,0]
["2018-06-06","2018-06-12",0,0,0,0,0,0,0,0,0,0]
["2018-06-13","2018-06-19",0,0,0,0,0,0,0,0,0,0]
["2018-06-20","2018-06-26",0,0,0,0,0,0,0,0,0,0]
["2018-06-27","2018-07-03",0,0,0,0,0,0,0,0,0,0]
["2018-07-04","2018-07-10",0,0,0,0,0,0,0,0,0,0]
["2018-07-11","2018-07-17",0,0,0,0,0,0,0,0,0,0]
["2018-07-18","2018-07-24",0,0,0,0,0,0,0,0,0,0]
["2018-07-25","2018-07-31",0,0,0,0,0,0,0,0,0,0]
["2018-08-01","2018-08-07",0,0,0,0,0,0,0,0,0,0]
["2018-08-08","2018-08-14",0,0,0,0,0,0,0,0,0,0]
["2018-08-15","2018-08-21",0,0,0,0,0,0,0,0,0,0]
["2018-08-22","2018-08-28",0,0,0,0,0,0,0,0,0,0]
["2018-08-29","2018-09-04",0,0,0,0,0,0,0,0,0,0]
["2018-09-05","2018-09-11",0,0,0,0,0,0,0,0,0,0]
["2018-09-12","2018-09-18",0,0,0,0,0,0,0,0,0,0]
["2018-09-19","2018-09-25",0,0,0,0,0,0,0,0,0,0]
["2018-09-26","2018-10-02",0,0,0,0,0,0,0,0,0,0]
["2018-10-03","2018-10-09",0,0,0,0,0,0,0,0,0,0]
["2018-10-10","2018-10-16",0,0,0,0,0,0,0,0,0,0]
["2018-10-17","2018-10-23",0,0,0,0,0,0,0,0,0,0]
["2018-10-24","2018-10-30",0,0,0,0,0,0,0,0,0,0]
["รวม (ลบ.ม.)",null,0,0,0,0,0,0,0,0,0,0]

{"sheet":"R8","index":35,"n_rows":61,"n_cols":13,"rows_kept":61,"cut":false,"hidden":false,"merged":[]}
["ปี พ.ศ.",2560,"ฤดูแล้ง","60/61","ฤดูฝน","61",null,null,null,null,"โครงการชลประทานบรมธาตุ ฤดูแล้ง60/61 ฤดูฝน61"]
["โครงการชลประทาน","บรมธาตุ"]
["จังหวัด","ชัยนาท"]
["รั่วซึม มม./สัปดาห์",7]
["น้ำเตรียมแปลงฤดูแล้ง มม./สัปดาห์",null,0,30,20,30,30,null,null,20,null,"รวมฤดูแล้ง (ลบ.ม.)",261677973.20377776]
["น้ำเตรียมแปลงฤดูฝน มม./สัปดาห์",null,100,15,10,90,15,null,null,10,null,"รวมฤดูฝน (ลบ.ม.)",197388483.43399996]
["ประสิทธิ์ภาพโครงการ (%)",90,"ข้าว กข.(นาดำ)","อ้อย","กะหล่ำดอก","มะม่วง","มะม่วง",null,null,"ไม้ดอก (บานชื่น)",null,"รวมทั้งปี (ลบ.ม.)",459066456.63777769]
["เริ่มต้น","สิ้นสุด","ข้าว","อ้อย","พืชผัก","ไม้ผล","ไม้ยืนต้น","บ่อปลา","บ่อกุ้ง","อื่นๆ","อุปโภค-บริโภค อุตสาหกรรม รักษาระบบนิเวศน์ และอื่น ๆ ","รวม (ลบ.ม.)"]
["2017-11-01","2017-11-07",12955262.922222223,325005.7,0,207680.32333333336,0,0,0,0,0,13487948.945555557]
["2017-11-08","2017-11-14",12698576.055555556,117645.69999999998,16289.888888888889,107786.99000000002,0,11929.706666666665,0,0,0,12952228.341111111]
["2017-11-15","2017-11-21",11304537.122222224,117645.69999999998,12019.877777777778,107786.99000000002,0,11929.706666666665,0,0,0,11553919.396666668]
["2017-11-22","2017-11-28",10214722.933333334,117645.69999999998,12602.322222222223,107786.99000000002,0,11929.706666666665,0,0,0,10464687.652222222]
["2017-11-29","2017-12-05",12191946.788888888,174142.31111111108,13969.744444444445,125145.95400000001,0,13999.039999999999,0,0,0,12519203.838444443]
["2017-12-06","2017-12-12",11925005.266666668,174142.31111111108,14131.122222222222,134581.71399999998,0,15501.031111111115,0,0,0,12263361.445111113]
["2017-12-13","2017-12-19",10988621.055555554,174142.31111111108,11710.355555555556,134581.71399999998,0,15501.031111111115,0,0,0,11324556.467333332]
["2017-12-20","2017-12-26",9040001.6888888888,174142.31111111108,11548.977777777778,134581.71399999998,0,15501.031111111115,0,0,0,9375775.7228888888]
["2017-12-27","2018-01-02",8444931.4555555563,176781.31111111114,0,134581.71399999998,0,15501.031111111115,0,0,0,8771795.5117777791]
["2018-01-03","2018-01-09",8248325.0111111123,219891.45555555559,0,140639.41,0,15157.866666666667,0,0,0,8624013.743333336]
["2018-01-10","2018-01-16",9137486.4111111108,219891.45555555559,0,140639.41,0,15157.866666666667,0,0,0,9513175.1433333345]
["2018-01-17","2018-01-23",10551459.266666668,219891.45555555559,0,79142.513333333321,0,15157.866666666667,0,0,0,10865651.102222225]
["2018-01-24","2018-01-30",11980056.411111111,219891.45555555559,0,79142.513333333321,0,15157.866666666667,0,0,0,12294248.246666668]
["2018-01-31","2018-02-06",13254579.333333334,270093.31111111114,0,72379.346666666665,0,15157.866666666667,0,0,0,13612209.857777778]
["2018-02-07","2018-02-13",13955997.022222225,270093.31111111114,0,76839.879111111106,0,15563.111111111111,0,0,0,14318493.323555559]
["2018-02-14","2018-02-20",13642787.455555556,270093.31111111114,0,76839.879111111106,0,15563.111111111111,0,0,0,14005283.756888891]
["2018-02-21","2018-02-27",12983248,270093.31111111114,0,76839.879111111106,0,15563.111111111111,0,0,0,13345744.301333334]
["2018-02-28","2018-03-06",12804051.088888891,346310.55555555556,0,77141.55733333333,0,15563.111111111111,0,0,0,13243066.312888892]
["2018-03-07","2018-03-13",11019897.533333331,346310.55555555556,0,86552.367555555553,0,15963.182222222222,0,0,0,11468723.638666665]
["2018-03-14","2018-03-20",10305933.51111111,346310.55555555556,0,86552.367555555553,0,15963.182222222222,0,0,0,10754759.616444444]
["2018-03-21","2018-03-27",7927228.1333333338,346310.55555555556,0,86552.367555555553,0,15963.182222222222,0,0,0,8376054.2386666676]
["2018-03-28","2018-04-03",5716787.7444444448,337272.42222222214,0,86552.367555555553,0,15963.182222222222,0,0,0,6156575.7164444448]
["2018-04-04","2018-04-10",4719702.5777777778,277702.04444444447,0,91580.888888888891,0,15273.404444444446,0,0,0,5104258.9155555554]
["2018-04-11","2018-04-17",3477469.4888888896,277702.04444444447,0,91580.888888888891,0,15273.404444444446,0,0,0,3862025.8266666676]
["2018-04-18","2018-04-24",2276201.0666666669,277702.04444444447,0,91580.888888888891,0,15273.404444444446,0,0,0,2660757.4044444449]
["2018-04-25","2018-05-01",374898.39999999991,277702.04444444447,0,91580.888888888891,0,15273.404444444446,0,0,0,759454.73777777771]
["2018-05-02","2018-05-08",7567567.6888888879,217133.56666666671,0,58156.202222222215,0,10020.746666666668,0,0,0,7852878.2044444438]
["2018-05-09","2018-05-15",13670636.477777775,217133.56666666671,0,58156.202222222215,0,10020.746666666668,0,0,0,13955946.99333333]
["2018-05-16","2018-05-22",15599057.222222222,217133.56666666671,0,58156.202222222215,0,10020.746666666668,0,0,0,15884367.737777777]
["2018-05-23","2018-05-29",20153935.44444444,217133.56666666671,0,58156.202222222215,0,10020.746666666668,0,0,0,20439245.959999993]
["2018-05-30","2018-06-05",15427631.266666668,175756.25555555554,0,50736.393555555558,0,12090.08,0,0,0,15666213.995777778]
["2018-06-06","2018-06-12",18697974.399999999,175756.25555555554,0,54716.768222222221,0,12441.866666666667,0,0,0,18940889.290444445]
["2018-06-13","2018-06-19",15151559.100000003,175756.25555555554,0,54716.768222222221,0,12441.866666666667,0,0,0,15394473.990444448]
["2018-06-20","2018-06-26",15375632.800000001,175756.25555555554,0,54716.768222222221,0,12441.866666666667,0,0,0,15618547.690444445]
["2018-06-27","2018-07-03",10578331.388888892,106295.5,0,54716.768222222221,0,12441.866666666667,0,0,0,10751785.523777781]
["2018-07-04","2018-07-10",10041544.711111112,50557.133333333331,0,32656.196888888888,0,10843.306666666667,0,0,0,10135601.347999999]
["2018-07-11","2018-07-17",9559127.5333333313,50557.133333333331,0,32656.196888888888,0,10843.306666666667,0,0,0,9653184.1702222191]
["2018-07-18","2018-07-24",8320629.8666666653,50557.133333333331,0,32656.196888888888,0,10843.306666666667,0,0,0,8414686.5035555549]
["2018-07-25","2018-07-31",6552225.9777777763,50557.133333333331,0,32656.196888888888,0,10843.306666666667,0,0,0,6646282.6146666659]
["2018-08-01","2018-08-07",726560.49999999709,0,0,7982.6424444444519,0,9406.8444444444449,0,0,0,743949.98688888596]
["2018-08-08","2018-08-14",0,0,0,7982.6424444444519,0,9406.8444444444449,0,0,0,17389.486888888896]
["2018-08-15","2018-08-21",0,0,0,7982.6424444444519,0,9406.8444444444449,0,0,0,17389.486888888896]
["2018-08-22","2018-08-28",0,0,0,7982.6424444444519,0,9406.8444444444449,0,0,0,17389.486888888896]
["2018-08-29","2018-09-04",4106009.3000000012,0,0,7129.2537777777761,0,9406.8444444444449,0,0,0,4122545.3982222234]
["2018-09-05","2018-09-11",0,0,0,0,0,4824.9955555555562,0,0,0,4824.9955555555562]
["2018-09-12","2018-09-18",0,0,0,0,0,4824.9955555555562,0,0,0,4824.9955555555562]
["2018-09-19","2018-09-25",0,0,0,0,0,4824.9955555555562,0,0,0,4824.9955555555562]
["2018-09-26","2018-10-02",566163.77777777775,12856.322222222208,0,0,0,4824.9955555555562,0,0,0,583845.09555555554]
["2018-10-03","2018-10-09",16501635.74444445,11278.999999999989,0,13907.881333333336,0,8775.6977777777774,0,0,0,16535598.323555561]
["2018-10-10","2018-10-16",3608045.6444444442,11278.999999999989,0,13907.881333333336,0,8775.6977777777774,0,0,0,3642008.2235555556]
["2018-10-17","2018-10-23",848133.53333333298,11278.999999999989,0,13907.881333333336,0,8775.6977777777774,0,0,0,882096.11244444409]
["2018-10-24","2018-10-30",1423730.2444444431,11278.999999999989,0,13907.881333333336,0,8775.6977777777774,0,0,0,1457692.8235555543]
["รวม (ลบ.ม.)",null,446615846.36666673,8282610.8888888899,92272.288888888885,3454195.9288888867,0,621531.16444444412,0,0,0,459066456.63777775]

{"sheet":"R9","index":36,"n_rows":61,"n_cols":13,"rows_kept":61,"cut":false,"hidden":false,"merged":[]}
["ปี พ.ศ.",2560,"ฤดูแล้ง","60/61","ฤดูฝน","61",null,null,null,null,"โครงการชลประทานชัณสูตร ฤดูแล้ง60/61 ฤดูฝน61"]
["โครงการชลประทาน","ชัณสูตร"]
["จังหวัด","สิงห์บุรี"]
["รั่วซึม มม./สัปดาห์",7]
["น้ำเตรียมแปลงฤดูแล้ง มม./สัปดาห์",null,0,30,20,30,30,null,null,20,null,"รวมฤดูแล้ง (ลบ.ม.)",386069475.83688885]
["น้ำเตรียมแปลงฤดูฝน มม./สัปดาห์",null,100,15,10,90,15,null,null,10,null,"รวมฤดูฝน (ลบ.ม.)",242470197.6151112]
["ประสิทธิ์ภาพโครงการ (%)",90,"ข้าว กข.(นาดำ)","อ้อย","กะหล่ำดอก","มะม่วง","มะม่วง",null,null,"ไม้ดอก (บานชื่น)",null,"รวมทั้งปี (ลบ.ม.)",628539673.45200002]
["เริ่มต้น","สิ้นสุด","ข้าว","อ้อย","พืชผัก","ไม้ผล","ไม้ยืนต้น","บ่อปลา","บ่อกุ้ง","อื่นๆ","อุปโภค-บริโภค อุตสาหกรรม รักษาระบบนิเวศน์ และอื่น ๆ ","รวม (ลบ.ม.)"]
["2017-11-01","2017-11-07",9411746.444444444,2907301.277777778,0,949081.75999999989,0,258769.77777777772,0,0,0,13526899.26]
["2017-11-08","2017-11-14",9557413.944444444,1172047.9444444445,0,531375.09333333338,0,258769.77777777772,0,0,0,11519606.76]
["2017-11-15","2017-11-21",13798749.077777781,1172047.9444444445,0,531375.09333333338,0,258769.77777777772,0,0,0,15760941.893333336]
["2017-11-22","2017-11-28",15981045.699999999,1172047.9444444445,0,531375.09333333338,0,258769.77777777772,0,0,0,17943238.515555553]
["2017-11-29","2017-12-05",18451292.744444441,1682987.4999999998,0,616023.34933333332,0,302972.44444444438,0,0,0,21053276.03822222]
["2017-12-06","2017-12-12",20118585.21111111,1682987.4999999998,0,657369.34755555552,0,331962.02666666667,0,0,0,22790904.085333332]
["2017-12-13","2017-12-19",21124330.122222222,1682987.4999999998,0,657369.34755555552,0,331962.02666666667,0,0,0,23796648.996444445]
["2017-12-20","2017-12-26",18953995.655555554,1682987.4999999998,0,657369.34755555552,0,331962.02666666667,0,0,0,21626314.529777776]
["2017-12-27","2018-01-02",16380984.199999999,1622762.6444444444,0,657369.34755555552,0,331962.02666666667,0,0,0,18993078.218666665]
["2018-01-03","2018-01-09",15729254.222222222,2033809.4555555556,0,654943.16355555539,0,322716.30222222226,0,0,0,18740723.143555555]
["2018-01-10","2018-01-16",16725067.43333333,2033809.4555555556,0,654943.16355555539,0,322716.30222222226,0,0,0,19736536.354666661]
["2018-01-17","2018-01-23",15669267.855555553,2033809.4555555556,0,654943.16355555539,0,322716.30222222226,0,0,0,18680736.776888885]
["2018-01-24","2018-01-30",17379634.077777777,2033809.4555555556,0,654943.16355555539,0,322716.30222222226,0,0,0,20391102.999111108]
["2018-01-31","2018-02-06",17442033.977777779,2585180.4111111113,0,597682.54133333324,0,322716.30222222226,0,0,0,20947613.232444447]
["2018-02-07","2018-02-13",16322451.877777776,2585180.4111111113,0,653878.01155555551,0,330856.96000000002,0,0,0,19892367.260444444]
["2018-02-14","2018-02-20",11667161.61111111,2585180.4111111113,0,653878.01155555551,0,330856.96000000002,0,0,0,15237076.993777778]
["2018-02-21","2018-02-27",8820959.3111111131,2585180.4111111113,0,653878.01155555551,0,330856.96000000002,0,0,0,12390874.693777781]
["2018-02-28","2018-03-06",8389279.944444444,3181158.9555555554,0,656509.56355555553,0,330856.96000000002,0,0,0,12557805.423555555]
["2018-03-07","2018-03-13",6568600.4888888886,3181158.9555555554,0,705779.80977777776,0,342570.66666666663,0,0,0,10798109.920888888]
["2018-03-14","2018-03-20",5328165.9222222222,3181158.9555555554,0,705779.80977777776,0,342570.66666666663,0,0,0,9557675.3542222213]
["2018-03-21","2018-03-27",4795208.2555555562,3181158.9555555554,0,705779.80977777776,0,342570.66666666663,0,0,0,9024717.6875555553]
["2018-03-28","2018-04-03",4073958.0222222223,3221948.9777777777,0,705779.80977777776,0,342570.66666666663,0,0,0,8344257.4764444446]
["2018-04-04","2018-04-10",3705398.1444444442,2665505.2888888894,0,776821.26666666649,0,330230.75555555557,0,0,0,7477955.4555555554]
["2018-04-11","2018-04-17",2080060.166666666,2665505.2888888894,0,776821.26666666649,0,330230.75555555557,0,0,0,5852617.4777777772]
["2018-04-18","2018-04-24",1879850.2333333334,2665505.2888888894,0,776821.26666666649,0,330230.75555555557,0,0,0,5652407.5444444446]
["2018-04-25","2018-05-01",3432.4333333333338,2665505.2888888894,0,776821.26666666649,0,330230.75555555557,0,0,0,3775989.7444444448]
["2018-05-02","2018-05-08",10558686.544444444,1715240.077777778,0,407881.86222222232,0,213388.37333333338,0,0,0,12895196.857777778]
["2018-05-09","2018-05-15",29143986.455555554,1715240.077777778,0,407881.86222222232,0,213388.37333333338,0,0,0,31480496.768888887]
["2018-05-16","2018-05-22",17819061.755555555,1715240.077777778,0,407881.86222222232,0,213388.37333333338,0,0,0,20155572.068888888]
["2018-05-23","2018-05-29",19960996.599999998,1715240.077777778,0,407881.86222222232,0,213388.37333333338,0,0,0,22297506.91333333]
["2018-05-30","2018-06-05",17772741.533333339,1152306.5444444444,0,355305.64622222225,0,257591.04000000007,0,0,0,19537944.764000006]
["2018-06-06","2018-06-12",11393236.688888887,1152306.5444444444,0,322540.03911111102,0,252544.56888888893,0,0,0,13120627.841333332]
["2018-06-13","2018-06-19",13783135.877777781,1152306.5444444444,0,322540.03911111102,0,252544.56888888893,0,0,0,15510527.030222226]
["2018-06-20","2018-06-26",13532010.944444442,1152306.5444444444,0,322540.03911111102,0,252544.56888888893,0,0,0,15259402.096888887]
["2018-06-27","2018-07-03",10429666.677777778,782072.88888888876,0,322540.03911111102,0,252544.56888888893,0,0,0,11786824.174666667]
["2018-07-04","2018-07-10",10176789.177777778,346003.73333333316,0,214938.79733333335,0,228233.10222222225,0,0,0,10965964.810666667]
["2018-07-11","2018-07-17",9301399.3666666709,346003.73333333316,0,214938.79733333335,0,228233.10222222225,0,0,0,10090574.99955556]
["2018-07-18","2018-07-24",7446491.7444444485,346003.73333333316,0,214938.79733333335,0,228233.10222222225,0,0,0,8235667.3773333374]
["2018-07-25","2018-07-31",4678312.1222222261,346003.73333333316,0,214938.79733333335,0,228233.10222222225,0,0,0,5467487.7551111151]
["2018-08-01","2018-08-07",0,0,0,42748.798666666647,0,197033.38666666669,0,0,0,239782.18533333333]
["2018-08-08","2018-08-14",0,0,0,42748.798666666647,0,197033.38666666669,0,0,0,239782.18533333333]
["2018-08-15","2018-08-21",2554647.1999999983,0,0,42748.798666666647,0,197033.38666666669,0,0,0,2794429.3853333318]
["2018-08-22","2018-08-28",337953.24444444437,0,0,42748.798666666647,0,197033.38666666669,0,0,0,577735.42977777775]
["2018-08-29","2018-09-04",12573101.544444447,0,0,36243.01733333333,0,197033.38666666669,0,0,0,12806377.948444447]
["2018-09-05","2018-09-11",1234376.7333333318,0,0,0,0,105055.00444444446,0,0,0,1339431.7377777763]
["2018-09-12","2018-09-18",0,0,0,0,0,105055.00444444446,0,0,0,105055.00444444446]
["2018-09-19","2018-09-25",0,0,0,0,0,105055.00444444446,0,0,0,105055.00444444446]
["2018-09-26","2018-10-02",3575691.6444444451,142001.56666666671,0,0,0,105055.00444444446,0,0,0,3822748.2155555566]
["2018-10-03","2018-10-09",6995450.2222222239,127222.98888888895,0,120895.62666666669,0,190845.01333333337,0,0,0,7434413.8511111131]
["2018-10-10","2018-10-16",4966036.0777777787,127222.98888888895,0,120895.62666666669,0,190845.01333333337,0,0,0,5404999.7066666679]
["2018-10-17","2018-10-23",5084142.9444444403,127222.98888888895,0,120895.62666666669,0,190845.01333333337,0,0,0,5523106.5733333295]
["2018-10-24","2018-10-30",4834523.3000000007,127222.98888888895,0,120895.62666666669,0,190845.01333333337,0,0,0,5273486.92888889]
["รวม (ลบ.ม.)",null,518510365.47777784,74149891.011111125,0,22382280.038666654,0,13497136.924444452,0,0,0,628539673.45200026]

{"sheet":"R10","index":37,"n_rows":61,"n_cols":13,"rows_kept":61,"cut":false,"hidden":false,"merged":[]}
["ปี พ.ศ.",2560,"ฤดูแล้ง","60/61","ฤดูฝน","61",null,null,null,null,"โครงการชลประทานยางมณี ฤดูแล้ง60/61 ฤดูฝน61"]
["โครงการชลประทาน","ยางมณี"]
["จังหวัด","อ่างทอง"]
["รั่วซึม มม./สัปดาห์",7]
["น้ำเตรียมแปลงฤดูแล้ง มม./สัปดาห์",null,0,30,20,30,30,null,null,20,null,"รวมฤดูแล้ง (ลบ.ม.)",156650264.06488889]
["น้ำเตรียมแปลงฤดูฝน มม./สัปดาห์",null,100,15,10,90,15,null,null,10,null,"รวมฤดูฝน (ลบ.ม.)",67706346.713333324]
["ประสิทธิ์ภาพโครงการ (%)",90,"ข้าว กข.(นาดำ)","อ้อย","กะหล่ำดอก","มะม่วง","มะม่วง",null,null,"ไม้ดอก (บานชื่น)",null,"รวมทั้งปี (ลบ.ม.)",224356610.7782222]
["เริ่มต้น","สิ้นสุด","ข้าว","อ้อย","พืชผัก","ไม้ผล","ไม้ยืนต้น","บ่อปลา","บ่อกุ้ง","อื่นๆ","อุปโภค-บริโภค อุตสาหกรรม รักษาระบบนิเวศน์ และอื่น ๆ ","รวม (ลบ.ม.)"]
["2017-11-01","2017-11-07",1971247.1777777781,34716.244444444448,0,1072804.611111111,0,237630.72,0,0,0,3316398.7533333339]
["2017-11-08","2017-11-14",1993489.3222222221,12849.577777777778,0,571737.9444444445,0,237630.72,0,0,0,2815707.5644444446]
["2017-11-15","2017-11-21",1943080.6222222219,12849.577777777778,0,571737.9444444445,0,237630.72,0,0,0,2765298.8644444444]
["2017-11-22","2017-11-28",1849009.1777777779,12849.577777777778,0,571737.9444444445,0,237630.72,0,0,0,2671227.4200000004]
["2017-11-29","2017-12-05",3221366.2888888884,348170.85555555555,0,518838.34666666668,0,281406.72000000003,0,0,0,4369782.2111111106]
["2017-12-06","2017-12-12",2989335.388888889,157717.52222222224,0,566063.73333333328,0,306249.59999999998,0,0,0,4019366.2444444448]
["2017-12-13","2017-12-19",2796660.4222222227,157717.52222222224,0,566063.73333333328,0,306249.59999999998,0,0,0,3826691.2777777785]
["2017-12-20","2017-12-26",3579366.5777777783,157717.52222222224,0,566063.73333333328,0,306249.59999999998,0,0,0,4609397.4333333336]
["2017-12-27","2018-01-02",3014012.6666666674,188249.98888888894,0,566063.73333333328,0,306249.59999999998,0,0,0,4074575.98888889]
["2018-01-03","2018-01-09",4672692.9000000013,193002.7111111111,0,572810.33333333337,0,303039.36000000004,0,0,0,5741545.3044444453]
["2018-01-10","2018-01-16",5909491.5111111114,193002.7111111111,0,572810.33333333337,0,303039.36000000004,0,0,0,6978343.9155555554]
["2018-01-17","2018-01-23",6799864.1444444442,193002.7111111111,0,572810.33333333337,0,303039.36000000004,0,0,0,7868716.5488888882]
["2018-01-24","2018-01-30",8118714.5333333323,193002.7111111111,0,572810.33333333337,0,303039.36000000004,0,0,0,9187566.9377777763]
["2018-01-31","2018-02-06",9346930.8777777795,262795.25555555557,0,523705.33333333331,0,303039.36000000004,0,0,0,10436470.826666668]
["2018-02-07","2018-02-13",9550581.5777777769,262795.25555555557,0,585173.81333333335,0,315807.36000000004,0,0,0,10714358.006666664]
["2018-02-14","2018-02-20",9520327.2888888884,262795.25555555557,0,387397.85288888897,0,305034.20444444445,0,0,0,10475554.601777777]
["2018-02-21","2018-02-27",9474011.444444444,262795.25555555557,0,387397.85288888897,0,305034.20444444445,0,0,0,10429238.757333333]
["2018-02-28","2018-03-06",9230021.1111111119,351069.23333333334,0,388946.95755555562,0,305034.20444444445,0,0,0,10275071.506444443]
["2018-03-07","2018-03-13",8609234.6555555575,351069.23333333334,0,444716.88377777778,0,320854.96888888889,0,0,0,9725875.7415555567]
["2018-03-14","2018-03-20",8129730.1222222224,351069.23333333334,0,803702.25333333341,0,332186.88,0,0,0,9616688.4888888896]
["2018-03-21","2018-03-27",5920746.5333333332,351069.23333333334,0,671755.58666666667,0,332186.88,0,0,0,7275758.2333333334]
["2018-03-28","2018-04-03",4096427.2111111106,368511.1,0,671755.58666666667,0,332186.88,0,0,0,5468880.7777777771]
["2018-04-04","2018-04-10",2461529.4888888891,361609.32222222222,0,678734.8,0,314019.84000000008,0,0,0,3815893.4511111109]
["2018-04-11","2018-04-17",1362082.4555555556,361609.32222222222,0,678734.8,0,314019.84000000008,0,0,0,2716446.4177777776]
["2018-04-18","2018-04-24",746680.8666666667,361609.32222222222,0,678734.8,0,314019.84000000008,0,0,0,2101044.8288888889]
["2018-04-25","2018-05-01",0,361609.32222222222,0,678734.8,0,314019.84000000008,0,0,0,1354363.9622222222]
["2018-05-02","2018-05-08",2899082.6666666665,232687.91111111111,0,390822.93333333335,0,203886.72,0,0,0,3726480.2311111116]
["2018-05-09","2018-05-15",4780388.555555556,232687.91111111111,0,390822.93333333335,0,203886.72,0,0,0,5607786.1200000001]
["2018-05-16","2018-05-22",10474744.177777778,232687.91111111111,0,390822.93333333335,0,203886.72,0,0,0,11302141.742222223]
["2018-05-23","2018-05-29",3076977.5,232687.91111111111,0,390822.93333333335,0,203886.72,0,0,0,3904375.0644444446]
["2018-05-30","2018-06-05",6021022.5888888901,190941.83333333334,0,338694.77333333332,0,247662.72,0,0,0,6798321.9155555563]
["2018-06-06","2018-06-12",4337363.0888888873,190941.83333333334,0,308950.35999999993,0,239783.04000000001,0,0,0,5077038.3222222207]
["2018-06-13","2018-06-19",3695002.5444444446,190941.83333333334,0,308950.35999999993,0,239783.04000000001,0,0,0,4434677.777777778]
["2018-06-20","2018-06-26",4062854.2111111111,190941.83333333334,0,308950.35999999993,0,239783.04000000001,0,0,0,4802529.444444445]
["2018-06-27","2018-07-03",3568883.1333333333,104276.73333333338,0,308950.35999999993,0,239783.04000000001,0,0,0,4221893.2666666666]
["2018-07-04","2018-07-10",3525824.8666666695,98322.433333333349,0,218756.57333333339,0,224424.96000000002,0,0,0,4067328.8333333358]
["2018-07-11","2018-07-17",3290135.0777777778,98322.433333333349,0,218756.57333333339,0,224424.96000000002,0,0,0,3831639.0444444446]
["2018-07-18","2018-07-24",2745507.9555555554,98322.433333333349,0,218756.57333333339,0,224424.96000000002,0,0,0,3287011.9222222222]
["2018-07-25","2018-07-31",2001908.2111111097,98322.433333333349,0,218756.57333333339,0,224424.96000000002,0,0,0,2543412.1777777765]
["2018-08-01","2018-08-07",0,0,0,33792.373333333329,0,208045.44,0,0,0,241837.81333333332]
["2018-08-08","2018-08-14",0,0,0,33792.373333333329,0,208045.44,0,0,0,241837.81333333332]
["2018-08-15","2018-08-21",0,0,0,33792.373333333329,0,208045.44,0,0,0,241837.81333333332]
["2018-08-22","2018-08-28",0,0,0,33792.373333333329,0,208045.44,0,0,0,241837.81333333332]
["2018-08-29","2018-09-04",0,0,0,28121.813333333313,0,208045.44,0,0,0,236167.25333333333]
["2018-09-05","2018-09-11",0,0,0,0,0,101304.96000000002,0,0,0,101304.96000000002]
["2018-09-12","2018-09-18",0,0,0,0,0,101304.96000000002,0,0,0,101304.96000000002]
["2018-09-19","2018-09-25",0,0,0,0,0,101304.96000000002,0,0,0,101304.96000000002]
["2018-09-26","2018-10-02",0,9731.3333333333303,0,0,0,101304.96000000002,0,0,0,111036.29333333335]
["2018-10-03","2018-10-09",1339914.5222222221,9555.3111111111266,0,94497.13333333336,0,176490.24000000002,0,0,0,1620457.2066666665]
["2018-10-10","2018-10-16",0,9555.3111111111266,0,94497.13333333336,0,176490.24000000002,0,0,0,280542.68444444449]
["2018-10-17","2018-10-23",0,9555.3111111111266,0,94497.13333333336,0,176490.24000000002,0,0,0,280542.68444444449]
["2018-10-24","2018-10-30",21155.91111111112,9555.3111111111266,0,94497.13333333336,0,176490.24000000002,0,0,0,301698.59555555566]
["รวม (ลบ.ม.)",null,183147399.37777776,8365293.6000000006,0,19995938.458222229,0,12847979.342222225,0,0,0,224356610.77822232]

{"sheet":"R11","index":38,"n_rows":61,"n_cols":13,"rows_kept":61,"cut":false,"hidden":false,"merged":[]}
["ปี พ.ศ.",2560,"ฤดูแล้ง","60/61","ฤดูฝน","61",null,null,null,null,"โครงการชลประทานผักไห่ ฤดูแล้ง60/61 ฤดูฝน61"]
["โครงการชลประทาน","ผักไห่"]
["จังหวัด","พระนครศรีอยุธยา"]
["รั่วซึม มม./สัปดาห์",7]
["น้ำเตรียมแปลงฤดูแล้ง มม./สัปดาห์",null,0,30,20,30,30,null,null,20,null,"รวมฤดูแล้ง (ลบ.ม.)",157154848.89555556]
["น้ำเตรียมแปลงฤดูฝน มม./สัปดาห์",null,100,15,10,90,15,null,null,10,null,"รวมฤดูฝน (ลบ.ม.)",68582242.198555559]
["ประสิทธิ์ภาพโครงการ (%)",90,"ข้าว กข.(นาดำ)","อ้อย","กะหล่ำดอก","มะม่วง","มะม่วง",null,null,"ไม้ดอก (บานชื่น)",null,"รวมทั้งปี (ลบ.ม.)",225737091.09411111]
["เริ่มต้น","สิ้นสุด","ข้าว","อ้อย","พืชผัก","ไม้ผล","ไม้ยืนต้น","บ่อปลา","บ่อกุ้ง","อื่นๆ","อุปโภค-บริโภค อุตสาหกรรม รักษาระบบนิเวศน์ และอื่น ๆ ","รวม (ลบ.ม.)"]
["2017-11-01","2017-11-07",0,0,0,0,0,0,760048.8,0,0,760048.8]
["2017-11-08","2017-11-14",0,0,0,0,0,0,760048.8,0,0,760048.8]
["2017-11-15","2017-11-21",0,0,0,0,0,0,760048.8,0,0,760048.8]
["2017-11-22","2017-11-28",0,0,0,0,0,0,760048.8,0,0,760048.8]
["2017-11-29","2017-12-05",0,0,0,0,0,0,901168.8,0,0,901168.8]
["2017-12-06","2017-12-12",0,0,0,0,0,0,982195.20000000019,0,0,982195.20000000019]
["2017-12-13","2017-12-19",0,0,0,0,0,0,982195.20000000019,0,0,982195.20000000019]
["2017-12-20","2017-12-26",3568528.1888888888,0,29150.955555555556,0,0,0,991252.47999999998,0,0,4588931.6244444437]
["2017-12-27","2018-01-02",3678665.0666666669,0,22430.166666666668,0,0,0,991252.47999999998,0,0,4692347.7133333329]
["2018-01-03","2018-01-09",7372616.8666666681,0,23412.911111111116,0,0,0,984843.52000000014,0,0,8380873.2977777794]
["2018-01-10","2018-01-16",8607694.6999999993,0,23974.477777777782,0,0,0,984843.52000000014,0,0,9616512.697777776]
["2018-01-17","2018-01-23",9096095.1222222224,0,24255.266666666666,0,0,0,984843.52000000014,0,0,10105193.908888889]
["2018-01-24","2018-01-30",9872035.5333333332,0,20043.500000000004,0,0,0,984843.52000000014,0,0,10876922.553333333]
["2018-01-31","2018-02-06",11460834.400000002,0,21893.53333333334,0,0,0,984843.52000000014,0,0,12467571.453333335]
["2018-02-07","2018-02-13",11725898.955555554,0,0,0,0,0,1019736.7466666666,0,0,12745635.702222221]
["2018-02-14","2018-02-20",11754810.622222224,0,0,0,0,0,1019736.7466666666,0,0,12774547.36888889]
["2018-02-21","2018-02-27",11467425.177777778,0,0,0,0,0,1019736.7466666666,0,0,12487161.924444444]
["2018-02-28","2018-03-06",12347288.48888889,0,0,0,0,0,1019736.7466666666,0,0,13367025.235555556]
["2018-03-07","2018-03-13",10855810.688888891,0,0,0,0,0,1080147.128888889,0,0,11935957.817777779]
["2018-03-14","2018-03-20",10049126.333333332,0,0,0,0,0,1080147.128888889,0,0,11129273.46222222]
["2018-03-21","2018-03-27",5188026.6444444442,0,0,0,0,0,1080147.128888889,0,0,6268173.7733333334]
["2018-03-28","2018-04-03",3563005.1555555547,0,0,0,0,0,1080147.128888889,0,0,4643152.2844444439]
["2018-04-04","2018-04-10",726021.37777777785,0,0,0,0,0,1034334.9333333333,0,0,1760356.3111111112]
["2018-04-11","2018-04-17",191247.66666666666,0,0,0,0,0,1034334.9333333333,0,0,1225582.6000000001]
["2018-04-18","2018-04-24",113660.71111111107,0,0,0,0,0,1034334.9333333333,0,0,1147995.6444444444]
["2018-04-25","2018-05-01",1544.1888888888934,0,0,0,0,0,1034334.9333333333,0,0,1035879.1222222223]
["2018-05-02","2018-05-08",11252470.433333332,0,19140.511111111111,0,0,0,618345.95555555564,0,0,11889956.899999999]
["2018-05-09","2018-05-15",12231015.288888892,0,30775.455555555549,0,0,0,719118.93333333335,0,0,12980909.677777782]
["2018-05-16","2018-05-22",5079534.5111111123,0,32250.200000000012,0,0,0,719118.93333333335,0,0,5830903.6444444461]
["2018-05-23","2018-05-29",2663744.6777777788,0,33689.111111111117,0,0,0,719118.93333333335,0,0,3416552.7222222229]
["2018-05-30","2018-06-05",2351412.7222222234,0,30622.422222222223,0,0,0,884750.93333333335,0,0,3266786.0777777787]
["2018-06-06","2018-06-12",2980278.1777777793,0,25942.1,0,0,0,830920.53333333344,0,0,3837140.8111111131]
["2018-06-13","2018-06-19",3443702.6111111105,0,22757.333333333332,0,0,0,830920.53333333344,0,0,4297380.4777777772]
["2018-06-20","2018-06-26",3609498.4000000008,0,8348.366666666665,0,0,0,830920.53333333344,0,0,4448767.3000000007]
["2018-06-27","2018-07-03",2655958.1333333338,0,0,41116.018555555558,0,0,830920.53333333344,0,0,3527994.6852222225]
["2018-07-04","2018-07-10",2227061.1888888911,0,0,13004.983666666669,0,0,769084.58666666667,0,0,3009150.7592222244]
["2018-07-11","2018-07-17",1609027.3222222242,0,0,13004.983666666669,0,0,769084.58666666667,0,0,2391116.8925555577]
["2018-07-18","2018-07-24",353850.66666666628,0,0,13004.983666666669,0,0,769084.58666666667,0,0,1135940.2369999997]
["2018-07-25","2018-07-31",0,0,0,13004.983666666669,0,0,769084.58666666667,0,0,782089.57033333334]
["2018-08-01","2018-08-07",0,0,0,686.92755555555368,0,0,728642.77333333355,0,0,729329.70088888914]
["2018-08-08","2018-08-14",0,0,0,686.92755555555368,0,0,728642.77333333355,0,0,729329.70088888914]
["2018-08-15","2018-08-21",0,0,0,686.92755555555368,0,0,728642.77333333355,0,0,729329.70088888914]
["2018-08-22","2018-08-28",0,0,0,686.92755555555368,0,0,728642.77333333355,0,0,729329.70088888914]
["2018-08-29","2018-09-04",0,0,0,337.55288888888674,0,0,728642.77333333355,0,0,728980.32622222241]
["2018-09-05","2018-09-11",0,0,0,0,0,0,379159.25333333347,0,0,379159.25333333347]
["2018-09-12","2018-09-18",0,0,0,0,0,0,379159.25333333347,0,0,379159.25333333347]
["2018-09-19","2018-09-25",0,0,0,0,0,0,379159.25333333347,0,0,379159.25333333347]
["2018-09-26","2018-10-02",0,0,0,0,0,0,379159.25333333347,0,0,379159.25333333347]
["2018-10-03","2018-10-09",0,0,0,6431.5150000000012,0,0,644722.55999999994,0,0,651154.07499999995]
["2018-10-10","2018-10-16",0,0,0,6431.5150000000012,0,0,644722.55999999994,0,0,651154.07499999995]
["2018-10-17","2018-10-23",0,0,0,6431.5150000000012,0,0,644722.55999999994,0,0,651154.07499999995]
["2018-10-24","2018-10-30",0,0,0,6431.5150000000012,0,0,644722.55999999994,0,0,651154.07499999995]
["รวม (ลบ.ม.)",null,182097890.02222222,0,368686.31111111108,121947.27633333331,0,0,43148567.484444454,0,0,225737091.09411111]

{"sheet":"R12","index":39,"n_rows":61,"n_cols":13,"rows_kept":61,"cut":false,"hidden":false,"merged":[]}
["ปี พ.ศ.",2560,"ฤดูแล้ง","60/61","ฤดูฝน","61",null,null,null,null,"โครงการชลประทานบางบาล ฤดูแล้ง60/61 ฤดูฝน61"]
["โครงการชลประทาน","บางบาล"]
["จังหวัด","พระนครศรีอยุธยา"]
["รั่วซึม มม./สัปดาห์",7]
["น้ำเตรียมแปลงฤดูแล้ง มม./สัปดาห์",null,0,30,20,30,30,null,null,20,null,"รวมฤดูแล้ง (ลบ.ม.)",103676818.24675328]
["น้ำเตรียมแปลงฤดูฝน มม./สัปดาห์",null,100,15,10,77,15,null,null,10,null,"รวมฤดูฝน (ลบ.ม.)",35786351.675324678]
["ประสิทธิ์ภาพโครงการ (%)",77,"ข้าว กข.(นาดำ)","อ้อย","กะหล่ำดอก","มะม่วง","มะม่วง",null,null,"ไม้ดอก (บานชื่น)",null,"รวมทั้งปี (ลบ.ม.)",139463169.92207795]
["เริ่มต้น","สิ้นสุด","ข้าว","อ้อย","พืชผัก","ไม้ผล","ไม้ยืนต้น","บ่อปลา","บ่อกุ้ง","อื่นๆ","อุปโภค-บริโภค อุตสาหกรรม รักษาระบบนิเวศน์ และอื่น ๆ ","รวม (ลบ.ม.)"]
["2017-11-01","2017-11-07",0,0,0,0,0,0,0,0,0,0]
["2017-11-08","2017-11-14",0,0,0,0,0,0,0,0,0,0]
["2017-11-15","2017-11-21",0,0,0,0,0,0,0,0,0,0]
["2017-11-22","2017-11-28",0,0,0,0,0,0,0,0,0,0]
["2017-11-29","2017-12-05",0,0,0,0,0,0,0,0,0,0]
["2017-12-06","2017-12-12",0,0,0,0,0,0,0,0,0,0]
["2017-12-13","2017-12-19",0,0,0,0,0,0,0,0,0,0]
["2017-12-20","2017-12-26",1850704.1168831168,0,0,0,0,0,0,0,0,1850704.1168831168]
["2017-12-27","2018-01-02",1907823.1168831172,0,0,0,0,0,0,0,0,1907823.1168831172]
["2018-01-03","2018-01-09",5504697.6623376617,0,0,0,0,0,0,0,0,5504697.6623376617]
["2018-01-10","2018-01-16",6482879.1948051937,0,0,0,0,0,0,0,0,6482879.1948051937]
["2018-01-17","2018-01-23",6898598.4675324671,0,0,0,0,0,0,0,0,6898598.4675324671]
["2018-01-24","2018-01-30",7627572.7142857146,0,0,0,0,0,0,0,0,7627572.7142857146]
["2018-01-31","2018-02-06",8863689.6233766209,0,0,0,0,0,0,0,0,8863689.6233766209]
["2018-02-07","2018-02-13",9139120.6233766228,0,0,0,0,0,0,0,0,9139120.6233766228]
["2018-02-14","2018-02-20",9278059.2857142854,0,0,0,0,0,0,0,0,9278059.2857142854]
["2018-02-21","2018-02-27",9121012.4545454551,0,0,0,0,0,0,0,0,9121012.4545454551]
["2018-02-28","2018-03-06",9900291.1168831177,0,0,0,0,0,0,0,0,9900291.1168831177]
["2018-03-07","2018-03-13",8960854.3506493531,0,0,0,0,0,0,0,0,8960854.3506493531]
["2018-03-14","2018-03-20",8304121.1818181816,0,0,0,0,0,0,0,0,8304121.1818181816]
["2018-03-21","2018-03-27",5196666.7922077924,0,0,0,0,0,0,0,0,5196666.7922077924]
["2018-03-28","2018-04-03",3575705.25974026,0,0,0,0,0,0,0,0,3575705.25974026]
["2018-04-04","2018-04-10",744627.63636363635,0,0,0,0,0,0,0,0,744627.63636363635]
["2018-04-11","2018-04-17",213721.38961038957,0,0,0,0,0,0,0,0,213721.38961038957]
["2018-04-18","2018-04-24",104610.58441558441,0,0,0,0,0,0,0,0,104610.58441558441]
["2018-04-25","2018-05-01",2062.6753246753251,0,0,0,0,0,0,0,0,2062.6753246753251]
["2018-05-02","2018-05-08",407.46753246753246,0,0,0,0,0,0,0,0,407.46753246753246]
["2018-05-09","2018-05-15",0,0,0,0,0,0,0,0,0,0]
["2018-05-16","2018-05-22",0,0,0,0,0,0,0,0,0,0]
["2018-05-23","2018-05-29",18025836.532467537,0,0,0,0,0,0,0,0,18025836.532467537]
["2018-05-30","2018-06-05",2895367.0000000009,0,0,0,0,0,0,0,0,2895367.0000000009]
["2018-06-06","2018-06-12",1119356.5194805202,0,0,0,0,0,0,0,0,1119356.5194805202]
["2018-06-13","2018-06-19",1618488.5844155843,0,0,0,0,0,0,0,0,1618488.5844155843]
["2018-06-20","2018-06-26",2169340.7272727275,0,0,0,0,0,0,0,0,2169340.7272727275]
["2018-06-27","2018-07-03",1984914.9220779224,0,0,0,0,0,0,0,0,1984914.9220779224]
["2018-07-04","2018-07-10",2273283.0259740255,0,0,0,0,0,0,0,0,2273283.0259740255]
["2018-07-11","2018-07-17",2253883.8441558438,0,0,0,0,0,0,0,0,2253883.8441558438]
["2018-07-18","2018-07-24",1930206.4935064935,0,0,0,0,0,0,0,0,1930206.4935064935]
["2018-07-25","2018-07-31",1515266.5584415584,0,0,0,0,0,0,0,0,1515266.5584415584]
["2018-08-01","2018-08-07",0,0,0,0,0,0,0,0,0,0]
["2018-08-08","2018-08-14",0,0,0,0,0,0,0,0,0,0]
["2018-08-15","2018-08-21",0,0,0,0,0,0,0,0,0,0]
["2018-08-22","2018-08-28",0,0,0,0,0,0,0,0,0,0]
["2018-08-29","2018-09-04",0,0,0,0,0,0,0,0,0,0]
["2018-09-05","2018-09-11",0,0,0,0,0,0,0,0,0,0]
["2018-09-12","2018-09-18",0,0,0,0,0,0,0,0,0,0]
["2018-09-19","2018-09-25",0,0,0,0,0,0,0,0,0,0]
["2018-09-26","2018-10-02",0,0,0,0,0,0,0,0,0,0]
["2018-10-03","2018-10-09",0,0,0,0,0,0,0,0,0,0]
["2018-10-10","2018-10-16",0,0,0,0,0,0,0,0,0,0]
["2018-10-17","2018-10-23",0,0,0,0,0,0,0,0,0,0]
["2018-10-24","2018-10-30",0,0,0,0,0,0,0,0,0,0]
["รวม (ลบ.ม.)",null,139463169.92207795,0,0,0,0,0,0,0,0,139463169.92207795]

{"sheet":"R13","index":40,"n_rows":61,"n_cols":13,"rows_kept":61,"cut":false,"hidden":false,"merged":[]}
["ปี พ.ศ.",2560,"ฤดูแล้ง","60/61","ฤดูฝน","61",null,null,null,null,"โครงการชลประทานเจ้าเจ็ดบางยี่หน ฤดูแล้ง60/61 ฤดูฝน61"]
["โครงการชลประทาน","เจ้าเจ็ดบางยี่หน"]
["จังหวัด","พระนครศรีอยุธยา"]
["รั่วซึม มม./สัปดาห์",7]
["น้ำเตรียมแปลงฤดูแล้ง มม./สัปดาห์",null,0,30,20,30,30,null,null,20,null,"รวมฤดูแล้ง (ลบ.ม.)",446611408.89584422]
["น้ำเตรียมแปลงฤดูฝน มม./สัปดาห์",null,100,15,10,77,15,null,null,10,null,"รวมฤดูฝน (ลบ.ม.)",129518071.8592208]
["ประสิทธิ์ภาพโครงการ (%)",77,"ข้าว กข.(นาดำ)","อ้อย","กะหล่ำดอก","มะม่วง","มะม่วง",null,null,"ไม้ดอก (บานชื่น)",null,"รวมทั้งปี (ลบ.ม.)",576129480.75506496]
["เริ่มต้น","สิ้นสุด","ข้าว","อ้อย","พืชผัก","ไม้ผล","ไม้ยืนต้น","บ่อปลา","บ่อกุ้ง","อื่นๆ","อุปโภค-บริโภค อุตสาหกรรม รักษาระบบนิเวศน์ และอื่น ๆ ","รวม (ลบ.ม.)"]
["2017-11-01","2017-11-07",34434.168831168834,0,0,987454.7974025975,14203.210389610393,773814.15064935072,670540.44675324671,87181.740259740254,0,2567628.5142857139]
["2017-11-08","2017-11-14",25841.64935064935,0,0,523724.92727272725,7533.0805194805216,773814.15064935072,670540.44675324671,45098.532467532459,0,2046552.7870129868]
["2017-11-15","2017-11-21",23471.298701298703,0,0,523724.92727272725,7533.0805194805216,773814.15064935072,670540.44675324671,58930.090909090912,0,2058013.9948051947]
["2017-11-22","2017-11-28",0,0,0,523724.92727272725,7533.0805194805216,773814.15064935072,670540.44675324671,70577.714285714304,0,2046190.3194805195]
["2017-11-29","2017-12-05",0,0,0,610882.95636363642,8786.7314285714274,917489.9948051949,795041.2259740259,91839.519480519462,0,2424040.4280519481]
["2017-12-06","2017-12-12",427139.42857142864,0,273413.98701298703,665742.19480519474,9575.8051948051925,999983.87532467558,866525.42337662354,99668.324675324649,0,3342049.0389610394]
["2017-12-13","2017-12-19",6571049.9480519481,0,211119.54545454544,665742.19480519474,9575.8051948051925,999983.87532467558,866525.42337662354,106073.7012987013,0,9430070.493506493]
["2017-12-20","2017-12-26",13633869.675324675,0,220470.51948051949,665742.19480519474,9575.8051948051925,999983.87532467558,866525.42337662354,110343.96103896105,0,16506511.454545453]
["2017-12-27","2018-01-02",14136514.363636361,0,224862.49350649345,665742.19480519474,9575.8051948051925,999983.87532467558,866525.42337662354,113487.09090909091,0,17016691.246753242]
["2018-01-03","2018-01-09",22641187.129870135,0,227496.03896103895,679011.63701298705,9766.6707792207799,993518.46233766223,860922.88831168844,0,0,25411902.827272732]
["2018-01-10","2018-01-16",24591115.441558439,0,187992.90909090909,679011.63701298705,9766.6707792207799,993518.46233766223,860922.88831168844,0,0,27322328.009090908]
["2018-01-17","2018-01-23",25767983.272727277,0,185359.36363636365,679011.63701298705,9766.6707792207799,993518.46233766223,860922.88831168844,0,0,28496562.294805199]
["2018-01-24","2018-01-30",27385415.532467533,0,0,679011.63701298705,9766.6707792207799,993518.46233766223,860922.88831168844,0,0,29928635.190909091]
["2018-01-31","2018-02-06",31056130.337662343,0,0,620683.11428571423,8927.693506493506,993518.46233766223,860922.88831168844,0,0,33540182.496103901]
["2018-02-07","2018-02-13",31069834.116883118,0,0,695552.29662337666,10004.583376623377,1028719.044155844,891425.57922077912,0,0,33695535.620259739]
["2018-02-14","2018-02-20",30551351.7922078,0,0,695552.29662337666,10004.583376623377,1028719.044155844,891425.57922077912,0,0,33177053.295584422]
["2018-02-21","2018-02-27",29166601.610389609,0,0,695552.29662337666,10004.583376623377,1028719.044155844,891425.57922077912,0,0,31792303.113766231]
["2018-02-28","2018-03-06",29718811.350649349,0,0,698331.77753246762,10044.562467532469,1028719.044155844,891425.57922077912,0,0,32347332.314025972]
["2018-03-07","2018-03-13",25874742.61038962,0,0,799015.26116883138,11492.758831168832,1089661.5480519482,944234.65974025987,0,0,28719146.838181831]
["2018-03-14","2018-03-20",18098145.116883114,0,0,799015.26116883138,11492.758831168832,1089661.5480519482,944234.65974025987,0,0,20942549.344675325]
["2018-03-21","2018-03-27",8714080.0259740259,0,0,799015.26116883138,11492.758831168832,1089661.5480519482,944234.65974025987,0,0,11558484.253766235]
["2018-03-28","2018-04-03",6025461.8961038962,0,0,799015.26116883138,11492.758831168832,1089661.5480519482,944234.65974025987,0,0,8869866.1238961034]
["2018-04-04","2018-04-10",2447197.5974025973,0,0,823226.78571428568,11841.006493506495,1043445.8181818184,904186.90909090906,0,0,5229898.1168831168]
["2018-04-11","2018-04-17",3747081.2987012989,0,0,823226.78571428568,11841.006493506495,1043445.8181818184,904186.90909090906,0,0,6529781.8181818193]
["2018-04-18","2018-04-24",6086802.7662337674,0,0,823226.78571428568,11841.006493506495,1043445.8181818184,904186.90909090906,0,0,8869503.2857142873]
["2018-04-25","2018-05-01",19959895.155844163,0,0,823226.78571428568,11841.006493506495,1043445.8181818184,904186.90909090906,0,0,22742595.675324682]
["2018-05-02","2018-05-08",17165551.857142858,0,0,438108.79480519483,6301.6051948051945,623792.62337662349,540540.88311688323,0,0,18774295.763636366]
["2018-05-09","2018-05-15",20536210.80519481,0,0,438108.79480519483,6301.6051948051945,623792.62337662349,540540.88311688323,0,0,22144954.711688317]
["2018-05-16","2018-05-22",9071969.8181818202,0,0,438108.79480519483,6301.6051948051945,623792.62337662349,540540.88311688323,0,0,10680713.724675328]
["2018-05-23","2018-05-29",9224357.5714285746,0,0,438108.79480519483,6301.6051948051945,623792.62337662349,540540.88311688323,0,0,10833101.477922082]
["2018-05-30","2018-06-05",7813596.2337662354,0,0,376189.26389610383,5410.9761038961024,767468.46753246756,665041.6623376623,0,0,9627706.6036363654]
["2018-06-06","2018-06-12",8462196.1168831177,0,0,328955.47571428563,4731.5868831168818,720773.81818181847,624578.90909090918,0,0,10141235.906753246]
["2018-06-13","2018-06-19",8413921.467532469,0,0,328955.47571428563,4731.5868831168818,720773.81818181847,624578.90909090918,0,0,10092961.257402599]
["2018-06-20","2018-06-26",7376499.9870129898,0,0,328955.47571428563,4731.5868831168818,720773.81818181847,624578.90909090918,0,0,9055539.7768831216]
["2018-06-27","2018-07-03",4002492.441558436,0,0,328955.47571428563,4731.5868831168818,720773.81818181847,624578.90909090918,0,0,5681532.2314285655]
["2018-07-04","2018-07-10",2685999.7662337665,0,0,250726.1840259741,3606.3533766233777,667134.83636363642,578098.61818181816,0,0,4185565.7581818183]
["2018-07-11","2018-07-17",708435.41558441496,0,0,250726.1840259741,3606.3533766233777,667134.83636363642,578098.61818181816,0,0,2208001.407532467]
["2018-07-18","2018-07-24",0,0,0,250726.1840259741,3606.3533766233777,667134.83636363642,578098.61818181816,0,0,1499565.9919480521]
["2018-07-25","2018-07-31",0,0,0,250726.1840259741,3606.3533766233777,667134.83636363642,578098.61818181816,0,0,1499565.9919480521]
["2018-08-01","2018-08-07",0,0,0,13243.347012986998,190.48519480519371,632053.98441558459,547699.67792207806,0,0,1193187.4945454549]
["2018-08-08","2018-08-14",0,0,0,13243.347012986998,190.48519480519371,632053.98441558459,547699.67792207806,0,0,1193187.4945454549]
["2018-08-15","2018-08-21",0,0,0,13243.347012986998,190.48519480519371,632053.98441558459,547699.67792207806,0,0,1193187.4945454549]
["2018-08-22","2018-08-28",0,0,0,13243.347012986998,190.48519480519371,632053.98441558459,547699.67792207806,0,0,1193187.4945454549]
["2018-08-29","2018-09-04",0,0,0,6507.6706493506208,93.601558441558197,632053.98441558459,547699.67792207806,0,0,1186354.9345454548]
["2018-09-05","2018-09-11",0,0,0,0,0,328897.95324675337,285003.03376623383,0,0,613900.98701298726]
["2018-09-12","2018-09-18",0,0,0,0,0,328897.95324675337,285003.03376623383,0,0,613900.98701298726]
["2018-09-19","2018-09-25",0,0,0,0,0,328897.95324675337,285003.03376623383,0,0,613900.98701298726]
["2018-09-26","2018-10-02",0,0,0,0,0,328897.95324675337,285003.03376623383,0,0,613900.98701298726]
["2018-10-03","2018-10-09",0,0,0,123994.59935064935,1783.492857142857,559258.22337662347,484619.28311688307,0,0,1169655.5987012987]
["2018-10-10","2018-10-16",0,0,0,123994.59935064935,1783.492857142857,559258.22337662347,484619.28311688307,0,0,1169655.5987012987]
["2018-10-17","2018-10-23",0,0,0,123994.59935064935,1783.492857142857,559258.22337662347,484619.28311688307,0,0,1169655.5987012987]
["2018-10-24","2018-10-30",0,0,0,123994.59935064935,1783.492857142857,559258.22337662347,484619.28311688307,0,0,1169655.5987012987]
["รวม (ลบ.ม.)",null,473215389.06493497,0,1530714.8571428573,23445978.370259739,337238.8263636363,41154748.259740263,35662210.701298699,783200.67532467539,0,576129480.7550652]

{"sheet":"R14","index":41,"n_rows":61,"n_cols":13,"rows_kept":61,"cut":false,"hidden":false,"merged":[]}
["ปี พ.ศ.",2560,"ฤดูแล้ง","60/61","ฤดูฝน","61",null,null,null,null,"โครงการชลประทานพระยาบรรลือ ฤดูแล้ง60/61 ฤดูฝน61"]
["โครงการชลประทาน","พระยาบรรลือ"]
["จังหวัด","นนทบุรี"]
["รั่วซึม มม./สัปดาห์",7]
["น้ำเตรียมแปลงฤดูแล้ง มม./สัปดาห์",null,0,30,20,30,30,null,null,20,null,"รวมฤดูแล้ง (ลบ.ม.)",408946202.21740258]
["น้ำเตรียมแปลงฤดูฝน มม./สัปดาห์",null,100,15,10,77,15,null,null,10,null,"รวมฤดูฝน (ลบ.ม.)",212599441.45142856]
["ประสิทธิ์ภาพโครงการ (%)",77,"ข้าว กข.(นาดำ)","อ้อย","กะหล่ำดอก","มะม่วง","มะม่วง",null,null,"ไม้ดอก (บานชื่น)",null,"รวมทั้งปี (ลบ.ม.)",621545643.66883111]
["เริ่มต้น","สิ้นสุด","ข้าว","อ้อย","พืชผัก","ไม้ผล","ไม้ยืนต้น","บ่อปลา","บ่อกุ้ง","อื่นๆ","อุปโภค-บริโภค อุตสาหกรรม รักษาระบบนิเวศน์ และอื่น ๆ ","รวม (ลบ.ม.)"]
["2017-11-01","2017-11-07",1147887.0519480519,0,0,2290749.6922077923,436880.39740259742,535176.18701298709,181199.37662337665,101577.72727272728,0,4693470.4324675323]
["2017-11-08","2017-11-14",1522251.1948051951,0,0,1271591.2506493507,242511.56623376629,535176.18701298709,181199.37662337665,55332.051948051951,0,3808061.6272727279]
["2017-11-15","2017-11-21",2815352.8181818184,0,0,1271591.2506493507,242511.56623376629,535176.18701298709,181199.37662337665,73823.753246753244,0,5119654.9519480523]
["2017-11-22","2017-11-28",4557760.6493506497,0,0,1271591.2506493507,242511.56623376629,535176.18701298709,181199.37662337665,89395.727272727265,0,6877634.7571428576]
["2017-11-29","2017-12-05",7783400.7402597405,0,0,1491500.1633766233,284451.50077922083,639753.84935064928,216607.16883116885,119785.62337662338,0,10535499.045974027]
["2017-12-06","2017-12-12",11142180.532467533,0,0,1652072.8197402596,315075.11480519478,726117.56883116893,245848.10389610394,130309.01298701299,0,14211603.152727274]
["2017-12-13","2017-12-19",14754706.935064938,0,0,1652072.8197402596,315075.11480519478,726117.56883116893,245848.10389610394,138919.05194805196,0,17832739.594285719]
["2017-12-20","2017-12-26",17914496.376623373,0,0,1652072.8197402596,315075.11480519478,726117.56883116893,245848.10389610394,144659.09090909091,0,20998269.074805189]
["2017-12-27","2018-01-02",19209223.987012986,0,0,1652072.8197402596,315075.11480519478,726117.56883116893,245848.10389610394,154469.37662337662,0,22302806.970909089]
["2018-01-03","2018-01-09",22985999.02597402,0,0,1749372.7280519481,758165.74675324676,814263.29350649356,248710.23376623375,0,0,26556511.028051943]
["2018-01-10","2018-01-16",23703251.038961038,0,0,1749372.7280519481,601885.22727272718,814263.29350649356,248710.23376623375,0,0,27117482.521558441]
["2018-01-17","2018-01-23",24174359.389610395,0,0,1749372.7280519481,601885.22727272718,814263.29350649356,248710.23376623375,0,0,27588590.872207798]
["2018-01-24","2018-01-30",24515843.792207792,0,0,1749372.7280519481,601885.22727272718,814263.29350649356,248710.23376623375,0,0,27930075.274805196]
["2018-01-31","2018-02-06",25493095.142857138,0,0,1595543.5007792204,548959.09090909071,814263.29350649356,248710.23376623375,0,0,28700571.261818174]
["2018-02-07","2018-02-13",24022502.402597405,0,0,1756349.7168831166,604285.7142857142,837737.72467532463,255880.31168831169,0,0,27476755.870129868]
["2018-02-14","2018-02-20",21316382.81818182,0,0,1756349.7168831166,604285.7142857142,837737.72467532463,255880.31168831169,0,0,24770636.285714284]
["2018-02-21","2018-02-27",17831871.441558443,0,0,1756349.7168831166,604285.7142857142,837737.72467532463,255880.31168831169,0,0,21286124.909090906]
["2018-02-28","2018-03-06",16231369.181818178,0,0,1763483.8259740262,606740.25974025973,837737.72467532463,255880.31168831169,0,0,19695211.303896099]
["2018-03-07","2018-03-13",11863223.272727273,0,0,1957487.0050649352,673488.55519480514,888840.49870129873,271489.24675324681,0,0,15654528.578441558]
["2018-03-14","2018-03-20",8576164.9350649323,0,0,1957487.0050649352,673488.55519480514,888840.49870129873,271489.24675324681,0,0,12367470.240779217]
["2018-03-21","2018-03-27",5035391,0,0,1957487.0050649352,673488.55519480514,888840.49870129873,271489.24675324681,0,0,8826696.3057142869]
["2018-03-28","2018-04-03",4247912.038961038,0,0,1957487.0050649352,673488.55519480514,888840.49870129873,271489.24675324681,0,0,8039217.3446753239]
["2018-04-04","2018-04-10",2032569.142857143,0,0,2018061.1038961038,694329.54545454541,824599.77142857155,251867.42857142861,0,0,5821426.9922077926]
["2018-04-11","2018-04-17",2746408.0909090908,0,0,2018061.1038961038,694329.54545454541,824599.77142857155,251867.42857142861,0,0,6535265.9402597407]
["2018-04-18","2018-04-24",3633679.2337662335,0,0,2018061.1038961038,694329.54545454541,824599.77142857155,251867.42857142861,0,0,7422537.0831168825]
["2018-04-25","2018-05-01",2988502.948051949,0,0,2018061.1038961038,694329.54545454541,824599.77142857155,251867.42857142861,0,0,6777360.7974025989]
["2018-05-02","2018-05-08",7620204.1558441538,0,573036.25974025985,1155513.3480519482,397563.31168831181,488905.74545454542,149332.36363636365,0,0,10384555.184415583]
["2018-05-09","2018-05-15",10098337.766233768,0,604853.28571428556,1155513.3480519482,397563.31168831181,488905.74545454542,149332.36363636365,0,0,12894505.820779223]
["2018-05-16","2018-05-22",26949633.025974028,0,641475.38961038948,1155513.3480519482,397563.31168831181,454096.5818181819,149332.36363636365,0,0,29747614.020779222]
["2018-05-23","2018-05-29",12601302.090909092,0,665156.90909090906,1155513.3480519482,397563.31168831181,454096.5818181819,149332.36363636365,0,0,15422964.605194805]
["2018-05-30","2018-06-05",10365934.844155844,0,633025.83116883121,1001327.4153246754,344514.44805194804,561766.19220779219,184740.15584415587,0,0,13091308.886753246]
["2018-06-06","2018-06-12",11491098.896103894,0,486088.14285714284,937729.80792207783,322633.19805194798,535387.13766233763,176065.24675324679,0,0,13949002.42935065]
["2018-06-13","2018-06-19",11830197.272727277,0,476375.58441558451,937729.80792207783,322633.19805194798,535387.13766233763,176065.24675324679,0,0,14278388.247532474]
["2018-06-20","2018-06-26",12785385.675324678,0,3029.8831168831171,937729.80792207783,322633.19805194798,535387.13766233763,176065.24675324679,0,0,14760230.948831173]
["2018-06-27","2018-07-03",10920710.662337659,0,1944.5844155844156,937729.80792207783,322633.19805194798,535387.13766233763,176065.24675324679,0,0,12894470.637142856]
["2018-07-04","2018-07-10",10598248.584415585,0,1897.7402597402593,707338.42597402597,243365.25974025973,499766.44155844155,164351.16883116882,0,0,12214967.620779222]
["2018-07-11","2018-07-17",10633348.727272728,0,0,707338.42597402597,243365.25974025973,499766.44155844155,164351.16883116882,0,0,12248170.023376625]
["2018-07-18","2018-07-24",10885042.09090909,0,0,707338.42597402597,243365.25974025973,499766.44155844155,164351.16883116882,0,0,12499863.387012986]
["2018-07-25","2018-07-31",9095865.3896103948,0,0,707338.42597402597,243365.25974025973,499766.44155844155,164351.16883116882,0,0,10710686.685714291]
["2018-08-01","2018-08-07",1922177.3636363663,0,0,184270.21077922062,63399.594155844155,457236.94545454532,150365.09090909088,0,0,2777449.2049350673]
["2018-08-08","2018-08-14",719019.02597402409,0,0,184270.21077922062,63399.594155844155,457236.94545454532,150365.09090909088,0,0,1574290.8672727249]
["2018-08-15","2018-08-21",1395472.2727272732,0,0,184270.21077922062,63399.594155844155,457236.94545454532,150365.09090909088,0,0,2250744.1140259737]
["2018-08-22","2018-08-28",1480867.1688311673,0,0,184270.21077922062,63399.594155844155,457236.94545454532,150365.09090909088,0,0,2336139.0101298681]
["2018-08-29","2018-09-04",0,0,0,164517.64623376619,56603.571428571428,457236.94545454532,150365.09090909088,0,0,828723.25402597385]
["2018-09-05","2018-09-11",0,0,0,0,0,236245.07012987006,77690.597402597385,0,0,313935.66753246746]
["2018-09-12","2018-09-18",0,0,0,0,0,236245.07012987006,77690.597402597385,0,0,313935.66753246746]
["2018-09-19","2018-09-25",7947652.8831168851,0,0,0,0,236245.07012987006,77690.597402597385,0,0,8261588.5506493533]
["2018-09-26","2018-10-02",322885.7142857131,0,0,0,0,236245.07012987006,77690.597402597385,0,0,636821.38181818055]
["2018-10-03","2018-10-09",1458010.5194805213,0,0,333882.67259740259,114874.91883116883,359795.94805194798,118321.03896103894,0,0,2384885.0979220797]
["2018-10-10","2018-10-16",790286.37662337639,0,0,333882.67259740259,114874.91883116883,359795.94805194798,118321.03896103894,0,0,1717160.9550649347]
["2018-10-17","2018-10-23",1161966.9610389641,0,0,333882.67259740259,114874.91883116883,359795.94805194798,118321.03896103894,0,0,2088841.5394805223]
["2018-10-24","2018-10-30",1091323.0649350658,0,0,333882.67259740259,114874.91883116883,359795.94805194798,118321.03896103894,0,0,2018197.6433766242]
["รวม (ลบ.ม.)",null,496410755.71428573,0,4086883.6103896098,60173857.634805195,18681280.530129865,31219691.283116881,9964903.480519481,1008271.4155844157,0,621545643.66883111]

{"sheet":"R15","index":42,"n_rows":61,"n_cols":13,"rows_kept":61,"cut":false,"hidden":false,"merged":[]}
["ปี พ.ศ.",2560,"ฤดูแล้ง","60/61","ฤดูฝน","61",null,null,null,null,"โครงการชลประทานพระพิมล ฤดูแล้ง60/61 ฤดูฝน61"]
["โครงการชลประทาน","พระพิมล"]
["จังหวัด","นครปฐม"]
["รั่วซึม มม./สัปดาห์",7]
["น้ำเตรียมแปลงฤดูแล้ง มม./สัปดาห์",null,0,30,20,30,30,null,null,20,null,"รวมฤดูแล้ง (ลบ.ม.)",115937069.57142857]
["น้ำเตรียมแปลงฤดูฝน มม./สัปดาห์",null,100,15,10,77,15,null,null,10,null,"รวมฤดูฝน (ลบ.ม.)",68101061.207792222]
["ประสิทธิ์ภาพโครงการ (%)",77,"ข้าว กข.(นาดำ)","อ้อย","กะหล่ำดอก","มะม่วง","มะม่วง",null,null,"ไม้ดอก (บานชื่น)",null,"รวมทั้งปี (ลบ.ม.)",184038130.77922079]
["เริ่มต้น","สิ้นสุด","ข้าว","อ้อย","พืชผัก","ไม้ผล","ไม้ยืนต้น","บ่อปลา","บ่อกุ้ง","อื่นๆ","อุปโภค-บริโภค อุตสาหกรรม รักษาระบบนิเวศน์ และอื่น ๆ ","รวม (ลบ.ม.)"]
["2017-11-01","2017-11-07",0,0,0,651084.1558441557,0,387154.90909090912,61793.454545454559,370902.5844155844,0,1470935.1038961038]
["2017-11-08","2017-11-14",11991.272727272728,0,147211.90909090912,348746.49350649351,0,387154.90909090912,13872.000000000004,188982.03896103898,0,1097958.6233766235]
["2017-11-15","2017-11-21",25512.025974025975,0,114160.72727272728,348746.49350649351,0,387154.90909090912,13872.000000000004,256907.7922077922,0,1146353.9480519481]
["2017-11-22","2017-11-28",37872.532467532474,0,120267.37662337662,348746.49350649351,0,387154.90909090912,13872.000000000004,314108.42857142858,0,1222021.7402597403]
["2017-11-29","2017-12-05",55064.974025974028,0,137473.96103896105,410967.5844155844,0,463705.55844155845,16614.857142857141,429856.87012987008,0,1513683.8051948049]
["2017-12-06","2017-12-12",2653342.1038961038,0,292001.4155844156,453211.7142857142,0,546635.42857142852,19586.285714285714,466573.98701298703,0,4431350.9350649351]
["2017-12-13","2017-12-19",2994892.2207792206,0,234782.14285714287,453211.7142857142,0,546635.42857142852,19586.285714285714,496615.27272727271,0,4745723.0649350639]
["2017-12-20","2017-12-26",3251579.3376623378,0,238482.07792207791,453211.7142857142,0,575124.57142857148,19586.285714285714,516642.79220779223,0,5054626.7792207794]
["2017-12-27","2018-01-02",3725165.2077922076,0,131910.62337662338,453211.7142857142,0,575124.57142857148,19586.285714285714,548007.76623376622,0,5453006.1688311687]
["2018-01-03","2018-01-09",5265879.9350649351,0,133449.83116883118,476427.4675324675,0,576735.37662337662,19641.142857142859,0,0,6472133.7532467525]
["2018-01-10","2018-01-16",5526366.8571428582,0,110361.83116883117,476427.4675324675,0,576735.37662337662,19641.142857142859,0,0,6709532.6753246756]
["2018-01-17","2018-01-23",5723929.8181818184,0,108822.62337662338,476427.4675324675,0,576735.37662337662,19641.142857142859,0,0,6905556.4285714282]
["2018-01-24","2018-01-30",5924550.6753246747,0,0,476427.4675324675,0,576735.37662337662,19641.142857142859,0,0,6997354.6623376608]
["2018-01-31","2018-02-06",6561210.467532468,0,0,435643.37662337668,0,576735.37662337662,19641.142857142859,0,0,7593230.3636363633]
["2018-02-07","2018-02-13",6667867.3636363633,0,0,485365.32467532461,0,606535.27272727271,20656,0,0,7780423.9610389601]
["2018-02-14","2018-02-20",6695184.3116883114,0,0,485365.32467532461,0,606535.27272727271,20656,0,0,7807740.9090909082]
["2018-02-21","2018-02-27",5935007.5974025959,0,0,485365.32467532461,0,606535.27272727271,20656,0,0,7047564.1948051928]
["2018-02-28","2018-03-06",6390301.4805194801,0,0,416953.73376623366,0,606535.27272727271,20656,0,0,7434446.4870129861]
["2018-03-07","2018-03-13",3494002.012987012,0,0,366964.23376623372,0,450817.03896103904,22438.857142857145,0,0,4334222.1428571418]
["2018-03-14","2018-03-20",3138295.4675324671,0,0,668571.07142857148,0,658886.44155844161,22438.857142857145,0,0,4488191.8376623373]
["2018-03-21","2018-03-27",2618901.7532467535,0,0,563220.42207792203,0,658886.44155844161,22438.857142857145,0,0,3863447.4740259745]
["2018-03-28","2018-04-03",2072000.9610389606,0,0,563220.42207792203,0,658886.44155844161,22438.857142857145,0,0,3316546.6818181816]
["2018-04-04","2018-04-10",1009213.987012987,0,0,566480,0,637073.45454545459,21696.000000000004,0,0,2234463.4415584416]
["2018-04-11","2018-04-17",989005.45454545459,0,0,566480,0,637073.45454545459,21696.000000000004,0,0,2214254.9090909092]
["2018-04-18","2018-04-24",933399.57142857148,0,0,566480,0,637073.45454545459,21696.000000000004,0,0,2158649.0259740259]
["2018-04-25","2018-05-01",1218400.9999999998,0,0,566480,0,637073.45454545459,21696.000000000004,0,0,2443650.4545454541]
["2018-05-02","2018-05-08",268514.4935064934,0,0,282647.92207792203,0,390418.90909090918,13296.000000000004,0,0,954877.32467532461]
["2018-05-09","2018-05-15",3455360.8961038957,0,282954.32467532466,282647.92207792203,0,390418.90909090918,13296.000000000004,0,0,4424678.0519480519]
["2018-05-16","2018-05-22",6665705.2207792215,0,329049.59740259743,282647.92207792203,0,371079.27272727276,44722.909090909096,0,0,7693204.9220779231]
["2018-05-23","2018-05-29",1108272.1038961038,0,345696.62337662344,282647.92207792203,0,371079.27272727276,44722.909090909096,0,0,2152418.8311688313]
["2018-05-30","2018-06-05",1516449.5194805192,0,356108.25974025973,245426.37662337662,0,447629.92207792215,53948.883116883138,0,0,2619562.9610389611]
["2018-06-06","2018-06-12",1983120.2337662338,0,362508.25974025973,243936.10389610389,0,407887.37662337656,98318.12987012988,0,0,3095770.1038961038]
["2018-06-13","2018-06-19",2897298.1428571423,0,291398.44155844155,243936.10389610389,0,407887.37662337656,98318.12987012988,0,0,3938838.1948051942]
["2018-06-20","2018-06-26",8861947.5324675329,0,274560.62337662338,243936.10389610389,0,407887.37662337656,98318.12987012988,0,0,9886649.7662337665]
["2018-06-27","2018-07-03",2282903.5584415589,0,28674.896103896102,243936.10389610389,0,407887.37662337656,98318.12987012988,0,0,3061720.0649350653]
["2018-07-04","2018-07-10",10260376.363636365,0,11316.701298701299,159622.31818181815,0,400104.72727272729,63860.36363636364,0,0,10895280.474025974]
["2018-07-11","2018-07-17",2594755.5974025982,0,10833.857142857143,159622.31818181815,0,400104.72727272729,63860.36363636364,0,0,3229176.8636363647]
["2018-07-18","2018-07-24",2651399.4415584421,0,11610.025974025975,159622.31818181815,0,400104.72727272729,63860.36363636364,0,0,3286596.8766233777]
["2018-07-25","2018-07-31",2733961.8181818179,0,12053.545454545454,159622.31818181815,0,400104.72727272729,63860.36363636364,0,0,3369602.7727272729]
["2018-08-01","2018-08-07",808224.79220779205,0,8303.4805194805194,36560.181818181853,0,372737.87012987025,59492.363636363647,0,0,1285318.6883116886]
["2018-08-08","2018-08-14",940003.54545454599,0,5407.7662337662332,36560.181818181853,0,372737.87012987025,59492.363636363647,0,0,1414201.727272728]
["2018-08-15","2018-08-21",1208177.1558441555,0,5214.7142857142853,36560.181818181853,0,372737.87012987025,59492.363636363647,0,0,1682182.2857142854]
["2018-08-22","2018-08-28",1750881.87012987,0,0,36560.181818181853,0,372737.87012987025,59492.363636363647,0,0,2219672.2857142859]
["2018-08-29","2018-09-04",0,0,0,32380.36363636368,0,372737.87012987025,59492.363636363647,0,0,464610.5974025976]
["2018-09-05","2018-09-11",0,0,0,0,0,207516.05194805196,33121.454545454551,0,0,240637.50649350652]
["2018-09-12","2018-09-18",0,0,0,0,0,207516.05194805196,33121.454545454551,0,0,240637.50649350652]
["2018-09-19","2018-09-25",0,0,0,0,0,207516.05194805196,33121.454545454551,0,0,240637.50649350652]
["2018-09-26","2018-10-02",0,0,0,0,0,207516.05194805196,33121.454545454551,0,0,240637.50649350652]
["2018-10-03","2018-10-09",0,0,0,97363.435064935024,0,231693.29870129874,36980.36363636364,0,0,366037.09740259743]
["2018-10-10","2018-10-16",0,0,0,97363.435064935024,0,231693.29870129874,36980.36363636364,0,0,366037.09740259743]
["2018-10-17","2018-10-23",0,0,0,97363.435064935024,0,231693.29870129874,36980.36363636364,0,0,366037.09740259743]
["2018-10-24","2018-10-30",0,0,0,97363.435064935024,0,231693.29870129874,36980.36363636364,0,0,366037.09740259743]
["รวม (ลบ.ม.)",null,134906290.67532465,0,4104615.6363636358,16121763.766233759,0,23364554.805194795,1952308.3636363638,3588597.5324675329,0,184038130.77922088]

{"sheet":"R16","index":43,"n_rows":61,"n_cols":13,"rows_kept":61,"cut":false,"hidden":false,"merged":[]}
["ปี พ.ศ.",2560,"ฤดูแล้ง","60/61","ฤดูฝน","61",null,null,null,null,"โครงการชลประทานภาษีเจริญ ฤดูแล้ง60/61 ฤดูฝน61"]
["โครงการชลประทาน","ภาษีเจริญ"]
["จังหวัด","สมุทรสาคร"]
["รั่วซึม มม./สัปดาห์",7]
["น้ำเตรียมแปลงฤดูแล้ง มม./สัปดาห์",null,0,30,20,30,30,null,null,20,null,"รวมฤดูแล้ง (ลบ.ม.)",64145107.758441567]
["น้ำเตรียมแปลงฤดูฝน มม./สัปดาห์",null,100,15,10,77,15,null,null,10,null,"รวมฤดูฝน (ลบ.ม.)",25886197.799999997]
["ประสิทธิ์ภาพโครงการ (%)",77,"ข้าว กข.(นาดำ)","อ้อย","กะหล่ำดอก","มะม่วง","มะม่วง",null,null,"ไม้ดอก (บานชื่น)",null,"รวมทั้งปี (ลบ.ม.)",90031305.558441564]
["เริ่มต้น","สิ้นสุด","ข้าว","อ้อย","พืชผัก","ไม้ผล","ไม้ยืนต้น","บ่อปลา","บ่อกุ้ง","อื่นๆ","อุปโภค-บริโภค อุตสาหกรรม รักษาระบบนิเวศน์ และอื่น ๆ ","รวม (ลบ.ม.)"]
["2017-11-01","2017-11-07",287451.53246753238,0,0,1908467.5324675324,0,380389.98441558448,21391.958441558443,174386.49350649351,0,2772087.5012987009]
["2017-11-08","2017-11-14",305057.18181818188,0,0,1098077.9220779222,0,380389.98441558448,21391.958441558443,96222.662337662317,0,1901139.7090909095]
["2017-11-15","2017-11-21",309654.28571428574,0,0,1098077.9220779222,0,380389.98441558448,21391.958441558443,137934.99999999997,0,1947449.1506493508]
["2017-11-22","2017-11-28",305876.75324675319,0,0,1098077.9220779222,0,380389.98441558448,21391.958441558443,173061.16883116882,0,1978797.7870129873]
["2017-11-29","2017-12-05",390732.12987012987,0,0,1309103.3766233765,0,463747.90649350657,26079.750649350652,255310.3896103896,0,2444973.5532467533]
["2017-12-06","2017-12-12",368056.06493506493,0,0,1512379.4805194805,0,575308.59220779222,32353.579220779229,278534.55844155845,0,2766632.2753246753]
["2017-12-13","2017-12-19",316529.66233766236,0,0,1512379.4805194805,0,575308.59220779222,32353.579220779229,297536.15584415587,0,2734107.4701298699]
["2017-12-20","2017-12-26",293030.02597402595,0,0,1512379.4805194805,0,575308.59220779222,32353.579220779229,310203.89610389608,0,2723275.5740259741]
["2017-12-27","2018-01-02",112132.42857142857,0,0,1512379.4805194805,0,575308.59220779222,32353.579220779229,311897.85714285716,0,2544071.9376623379]
["2018-01-03","2018-01-09",104144.97402597402,0,0,1504084.8051948049,0,586284.0519480519,32970.805194805202,0,0,2227484.6363636362]
["2018-01-10","2018-01-16",336855.31168831163,0,0,1504084.8051948049,0,586284.0519480519,32970.805194805202,0,0,2460194.9740259741]
["2018-01-17","2018-01-23",364276.28571428574,0,200157.85714285713,1504084.8051948049,0,574007.68831168837,32970.805194805202,0,0,2675497.4415584411]
["2018-01-24","2018-01-30",378698.44155844155,0,169079.85714285713,1504084.8051948049,0,574007.68831168837,32970.805194805202,0,0,2658841.5974025973]
["2018-01-31","2018-02-06",418810.41558441555,0,171338.51948051949,1370834.8051948049,0,574007.68831168837,32970.805194805202,0,0,2567962.2337662335]
["2018-02-07","2018-02-13",451709.36363636365,0,175781.55844155847,1328654.0259740262,0,586929.66233766242,33713.038961038968,0,0,2576787.6493506497]
["2018-02-14","2018-02-20",478223.59740259743,0,178003.07792207794,1328654.0259740262,0,586929.66233766242,33713.038961038968,0,0,2605523.4025974032]
["2018-02-21","2018-02-27",496456.74025974027,0,144680.29870129869,1328654.0259740262,0,586929.66233766242,33713.038961038968,0,0,2590433.7662337665]
["2018-02-28","2018-03-06",561151.89610389608,0,158590.31168831169,1334054.9350649354,0,586929.66233766242,33713.038961038968,0,0,2674439.8441558443]
["2018-03-07","2018-03-13",544254.90909090894,0,0,1489688.5714285714,0,627803.90649350651,36060.841558441556,0,0,2697808.2285714285]
["2018-03-14","2018-03-20",519512.23376623384,0,0,1489688.5714285714,0,627803.90649350651,36060.841558441556,0,0,2673065.5532467533]
["2018-03-21","2018-03-27",483380.32467532466,0,0,1489688.5714285714,0,627803.90649350651,36060.841558441556,0,0,2636933.6441558441]
["2018-03-28","2018-04-03",310053.42857142858,0,0,1489688.5714285714,0,627803.90649350651,36060.841558441556,0,0,2463606.7480519479]
["2018-04-04","2018-04-10",279031.22077922081,0,0,1412103.8961038962,0,590194.16103896126,33900.550649350662,0,0,2315229.8285714285]
["2018-04-11","2018-04-17",43385.909090909088,0,0,1412103.8961038962,0,590194.16103896126,33900.550649350662,0,0,2079584.5168831174]
["2018-04-18","2018-04-24",25954.441558441555,0,0,1412103.8961038962,0,590194.16103896126,33900.550649350662,0,0,2062153.0493506498]
["2018-04-25","2018-05-01",330827.07792207797,0,0,1412103.8961038962,0,590194.16103896126,33900.550649350662,0,0,2367025.6857142858]
["2018-05-02","2018-05-08",28543.012987012982,0,0,827812.98701298703,0,341140.11428571423,19594.971428571429,0,0,1217091.0857142857]
["2018-05-09","2018-05-15",1296308.9740259741,0,121455.05194805193,827812.98701298703,0,341140.11428571423,19594.971428571429,0,0,2606312.0987012982]
["2018-05-16","2018-05-22",155476.24675324679,0,125524.46753246753,827812.98701298703,0,341140.11428571423,19594.971428571429,0,0,1469548.7870129871]
["2018-05-23","2018-05-29",182895.94805194804,0,133282.77922077922,827812.98701298703,0,341140.11428571423,19594.971428571429,0,0,1504726.8]
["2018-05-30","2018-06-05",314539.63636363629,0,145231.68831168831,714642.07792207785,0,422752.58181818185,24282.763636363634,0,0,1621448.7480519479]
["2018-06-06","2018-06-12",353471.50649350649,0,147472.64935064936,769199.87012987013,0,421392.37402597407,24204.633766233765,0,0,1715741.0337662336]
["2018-06-13","2018-06-19",377986.66233766224,0,113858.20779220779,769199.87012987013,0,421392.37402597407,24204.633766233765,0,0,1706641.7480519477]
["2018-06-20","2018-06-26",391022.05194805184,0,111617.23376623374,769199.87012987013,0,421392.37402597407,24204.633766233765,0,0,1717436.1636363633]
["2018-06-27","2018-07-03",322187.31168831157,0,0,769199.87012987013,0,421392.37402597407,24204.633766233765,0,0,1536984.1896103893]
["2018-07-04","2018-07-10",289743.23376623372,0,0,537708.70129870123,0,396976.64415584417,22802.2025974026,0,0,1247230.7818181815]
["2018-07-11","2018-07-17",232878.33766233767,0,0,537708.70129870123,0,396976.64415584417,22802.2025974026,0,0,1190365.8857142855]
["2018-07-18","2018-07-24",184946.93506493501,0,0,537708.70129870123,0,396976.64415584417,22802.2025974026,0,0,1142434.4831168829]
["2018-07-25","2018-07-31",68472.233766233767,0,0,537708.70129870123,0,396976.64415584417,22802.2025974026,0,0,1025959.7818181819]
["2018-08-01","2018-08-07",2334.5194805195015,0,0,53239.220779220719,0,378001.74545454542,21712.290909090909,0,0,455287.77662337653]
["2018-08-08","2018-08-14",0,0,0,53239.220779220719,0,378001.74545454542,21712.290909090909,0,0,452953.25714285707]
["2018-08-15","2018-08-21",379275.67532467528,0,0,53239.220779220719,0,378001.74545454542,21712.290909090909,0,0,832228.93246753223]
["2018-08-22","2018-08-28",311043.06493506493,0,0,53239.220779220719,0,378001.74545454542,21712.290909090909,0,0,763996.32207792194]
["2018-08-29","2018-09-04",0,0,0,37426.493506493534,0,378001.74545454542,21712.290909090909,0,0,437140.52987012983]
["2018-09-05","2018-09-11",0,0,0,0,0,208111.7922077922,11953.870129870131,0,0,220065.66233766233]
["2018-09-12","2018-09-18",0,0,0,0,0,208111.7922077922,11953.870129870131,0,0,220065.66233766233]
["2018-09-19","2018-09-25",1802.9740259740743,0,0,0,0,208111.7922077922,11953.870129870131,0,0,221868.63636363641]
["2018-09-26","2018-10-02",0,0,0,0,0,208111.7922077922,11953.870129870131,0,0,220065.66233766233]
["2018-10-03","2018-10-09",51892.753246753222,0,0,279552.3376623377,0,230963.28311688302,13266.451948051945,0,0,575674.82597402588]
["2018-10-10","2018-10-16",213582.72727272729,0,0,279552.3376623377,0,230963.28311688302,13266.451948051945,0,0,737364.79999999993]
["2018-10-17","2018-10-23",0,0,0,279552.3376623377,0,230963.28311688302,13266.451948051945,0,0,523782.07272727264]
["2018-10-24","2018-10-30",0,0,0,279552.3376623377,0,230963.28311688302,13266.451948051945,0,0,523782.07272727264]
["รวม (ลบ.ม.)",null,13973650.441558439,0,2096073.5584415586,47497804.545454532,0,23107942.441558465,1320746.3896103897,2035088.1818181821,0,90031305.558441564]

{"sheet":"R17","index":44,"n_rows":61,"n_cols":13,"rows_kept":61,"cut":false,"hidden":false,"merged":[]}
["ปี พ.ศ.",2560,"ฤดูแล้ง","60/61","ฤดูฝน","61",null,null,null,null,"โครงการชลประทานมโนรมย์ ฤดูแล้ง60/61 ฤดูฝน61"]
["โครงการชลประทาน","มโนรมย์"]
["จังหวัด","ชัยนาท"]
["รั่วซึม มม./สัปดาห์",7]
["น้ำเตรียมแปลงฤดูแล้ง มม./สัปดาห์",null,0,30,20,30,30,null,null,20,null,"รวมฤดูแล้ง (ลบ.ม.)",155790375.44188237]
["น้ำเตรียมแปลงฤดูฝน มม./สัปดาห์",null,100,15,10,85,15,null,null,10,null,"รวมฤดูฝน (ลบ.ม.)",137460851.98105884]
["ประสิทธิ์ภาพโครงการ (%)",85,"ข้าว กข.(นาดำ)","อ้อย","กะหล่ำดอก","มะม่วง","มะม่วง",null,null,"ไม้ดอก (บานชื่น)",null,"รวมทั้งปี (ลบ.ม.)",293251227.42294121]
["เริ่มต้น","สิ้นสุด","ข้าว","อ้อย","พืชผัก","ไม้ผล","ไม้ยืนต้น","บ่อปลา","บ่อกุ้ง","อื่นๆ","อุปโภค-บริโภค อุตสาหกรรม รักษาระบบนิเวศน์ และอื่น ๆ ","รวม (ลบ.ม.)"]
["2017-11-01","2017-11-07",8658.6352941176483,942711.24705882347,0,271789.17058823531,821.8223529411764,31904.188235294117,0,87609.682352941178,0,1343494.7458823528]
["2017-11-08","2017-11-14",6818.1294117647058,341243.01176470582,0,141059.75882352944,426.52823529411768,31904.188235294117,0,44521.882352941167,0,565973.49882352946]
["2017-11-15","2017-11-21",6233.6941176470591,341243.01176470582,0,141059.75882352944,426.52823529411768,31904.188235294117,0,57250.23529411765,0,578117.41647058818]
["2017-11-22","2017-11-28",808.64705882352939,341243.01176470582,0,141059.75882352944,426.52823529411768,31904.188235294117,0,67968.835294117642,0,583410.96941176476]
["2017-11-29","2017-12-05",948.48235294117649,505117.03529411764,0,163777.26235294118,495.22047058823534,37438.305882352943,0,86486.98823529412,0,794263.29458823532]
["2017-12-06","2017-12-12",0,505117.03529411764,0,176125.74470588236,532.55694117647056,41455.152941176479,0,93633.4,0,816863.8898823529]
["2017-12-13","2017-12-19",425503.71764705883,505117.03529411764,0,229676.27976470586,532.55694117647056,41455.152941176479,0,99480.470588235301,0,1301765.2131764707]
["2017-12-20","2017-12-26",438684.98823529412,505117.03529411764,0,206862.16211764704,532.55694117647056,41455.152941176479,0,103378.50588235294,0,1296030.4014117648]
["2017-12-27","2018-01-02",3508483.5176470587,512771.72941176471,0,176125.74470588236,532.55694117647056,41455.152941176479,0,108677.96470588233,0,4348046.6663529417]
["2018-01-03","2018-01-09",5016894.6941176467,637816.96470588224,0,184053.39411764703,556.53058823529409,40537.411764705874,0,0,0,5879858.9952941174]
["2018-01-10","2018-01-16",6268552.823529412,637816.96470588224,0,184053.39411764703,556.53058823529409,40537.411764705874,0,0,0,7131517.1247058827]
["2018-01-17","2018-01-23",8052725.4588235291,637816.96470588224,0,184053.39411764703,556.53058823529409,40537.411764705874,0,0,0,8915689.7599999998]
["2018-01-24","2018-01-30",9239304.3764705881,637816.96470588224,0,184053.39411764703,556.53058823529409,40537.411764705874,0,0,0,10102268.67764706]
["2018-01-31","2018-02-06",10464897.776470589,783432.4235294119,0,168325.01176470585,508.97176470588226,40537.411764705874,0,0,0,11457701.595294118]
["2018-02-07","2018-02-13",11034733.800000001,783432.4235294119,0,178698.39058823531,540.34070588235284,41621.176470588238,0,0,0,12039026.13129412]
["2018-02-14","2018-02-20",11447154.470588237,783432.4235294119,0,178698.39058823531,540.34070588235284,41621.176470588238,0,0,0,12451446.801882356]
["2018-02-21","2018-02-27",11435874.85882353,783432.4235294119,0,178698.39058823531,540.34070588235284,41621.176470588238,0,0,0,12440167.19011765]
["2018-02-28","2018-03-06",11890493.72941176,1004508.094117647,0,179399.9717647059,542.46211764705879,41621.176470588238,0,0,0,13116565.43388235]
["2018-03-07","2018-03-13",11388187.211764704,1004508.094117647,0,201285.70941176472,608.6369411764706,42691.105882352938,0,0,0,12637280.758117644]
["2018-03-14","2018-03-20",9782128.9764705896,1004508.094117647,0,201285.70941176472,608.6369411764706,42691.105882352938,0,0,0,11031222.522823529]
["2018-03-21","2018-03-27",8869715.0705882348,1004508.094117647,0,201285.70941176472,8783.5209411764718,42691.105882352938,0,0,0,10126983.500941176]
["2018-03-28","2018-04-03",4896561.4941176465,978292.09411764704,0,201285.70941176472,5564.697411764706,42691.105882352938,0,0,0,6124395.1009411756]
["2018-04-04","2018-04-10",3257507.6352941175,805502.29411764711,0,212980,5888,40846.400000000001,0,0,0,4322724.3294117656]
["2018-04-11","2018-04-17",2077316.7411764702,805502.29411764711,0,212980,5888,40846.400000000001,0,0,0,3142533.4352941173]
["2018-04-18","2018-04-24",962466.17647058819,805502.29411764711,0,212980,5888,40846.400000000001,0,0,0,2027682.8705882351]
["2018-04-25","2018-05-01",150128.42352941175,805502.29411764711,0,212980,5888,40846.400000000001,0,0,0,1215345.1176470588]
["2018-05-02","2018-05-08",3603982.6705882354,629817.44705882343,0,135247.74705882353,3739.0258823529407,26798.964705882358,0,0,0,4399585.8552941186]
["2018-05-09","2018-05-15",7685344.2117647091,629817.44705882343,0,135247.74705882353,3739.0258823529407,26798.964705882358,0,0,0,8480947.3964705914]
["2018-05-16","2018-05-22",4686545.3529411769,629817.44705882343,0,135247.74705882353,3739.0258823529407,26798.964705882358,0,0,0,5482148.5376470601]
["2018-05-23","2018-05-29",10782282.776470589,629817.44705882343,0,135247.74705882353,3739.0258823529407,26798.964705882358,0,0,0,11577885.96117647]
["2018-05-30","2018-06-05",16995118.800000004,509798.4588235293,0,117992.2817647059,3261.9849411764708,32333.082352941183,0,0,0,17658504.607882354]
["2018-06-06","2018-06-12",17684411.352941178,509798.4588235293,0,127249.01352941175,3517.8969411764697,33273.882352941182,0,0,0,18358250.604588237]
["2018-06-13","2018-06-19",13523054.470588235,509798.4588235293,0,127249.01352941175,3517.8969411764697,33273.882352941182,0,0,0,14196893.722235294]
["2018-06-20","2018-06-26",13495113.176470589,509798.4588235293,0,127249.01352941175,3517.8969411764697,33273.882352941182,0,0,0,14168952.428117648]
["2018-06-27","2018-07-03",7457434.1058823531,308320.63529411756,0,127249.01352941175,3517.8969411764697,33273.882352941182,0,0,0,7929795.534]
["2018-07-04","2018-07-10",7888818.0588235334,146645.97647058827,0,75945.072941176477,2099.5590588235295,28998.77647058824,0,0,0,8142507.4437647108]
["2018-07-11","2018-07-17",8063836.3411764689,146645.97647058827,0,112012.66964705885,229.64423529411775,28998.77647058824,0,29077.164705882347,0,8380800.5727058817]
["2018-07-18","2018-07-24",7618871.011764707,146645.97647058827,0,89198.552000000011,229.64423529411775,28998.77647058824,0,17262.188235294117,0,7901206.1491764728]
["2018-07-25","2018-07-31",6650054.094117647,146645.97647058827,0,89198.552000000011,229.64423529411775,28998.77647058824,0,32028.6,0,6947155.6432941183]
["2018-08-01","2018-08-07",1872360.5647058852,0,0,21804.138470588267,56.138941176470645,25157.176470588234,0,21886.235294117643,0,1941264.2538823558]
["2018-08-08","2018-08-14",1070565.5764705886,0,0,21804.138470588267,56.138941176470645,25157.176470588234,0,31718.364705882363,0,1149301.3950588237]
["2018-08-15","2018-08-21",0,0,0,21804.138470588267,56.138941176470645,25157.176470588234,0,39443.611764705885,0,86461.065647058858]
["2018-08-22","2018-08-28",0,0,0,21804.138470588267,56.138941176470645,25157.176470588234,0,45764.270588235289,0,92781.724470588262]
["2018-08-29","2018-09-04",0,0,0,19473.155764705887,50.137882352941212,25157.176470588234,0,26137.882352941171,0,70818.35247058823]
["2018-09-05","2018-09-11",0,0,0,0,0,12903.717647058829,0,29598.75294117647,0,42502.470588235301]
["2018-09-12","2018-09-18",0,0,0,0,0,12903.717647058829,0,0,0,12903.717647058829]
["2018-09-19","2018-09-25",0,0,0,0,0,12903.717647058829,0,0,0,12903.717647058829]
["2018-09-26","2018-10-02",0,37291.035294117653,0,0,0,12903.717647058829,0,0,0,50194.752941176484]
["2018-10-03","2018-10-09",0,32715.858823529456,0,37988.588470588249,97.800705882352887,23469.270588235293,0,0,0,94271.518588235354]
["2018-10-10","2018-10-16",0,32715.858823529456,0,37988.588470588249,97.800705882352887,23469.270588235293,0,0,0,94271.518588235354]
["2018-10-17","2018-10-23",0,32715.858823529456,0,37988.588470588249,97.800705882352887,23469.270588235293,0,0,0,94271.518588235354]
["2018-10-24","2018-10-30",0,32715.858823529456,0,37988.588470588249,97.800705882352887,23469.270588235293,0,0,0,94271.518588235354]
["รวม (ลบ.ม.)",null,259708576.0941177,24024533.988235302,0,6717610.4443529397,84486.990352941211,1694094.8705882353,0,1021925.0352941176,0,293251227.42294127]

{"sheet":"R18","index":45,"n_rows":61,"n_cols":13,"rows_kept":61,"cut":false,"hidden":false,"merged":[]}
["ปี พ.ศ.",2560,"ฤดูแล้ง","60/61","ฤดูฝน","61",null,null,null,null,"โครงการชลประทานช่องแค ฤดูแล้ง60/61 ฤดูฝน61"]
["โครงการชลประทาน","ช่องแค"]
["จังหวัด","ชัยนาท"]
["รั่วซึม มม./สัปดาห์",7]
["น้ำเตรียมแปลงฤดูแล้ง มม./สัปดาห์",null,0,30,20,30,30,null,null,20,null,"รวมฤดูแล้ง (ลบ.ม.)",192461403.12517646]
["น้ำเตรียมแปลงฤดูฝน มม./สัปดาห์",null,100,15,10,85,15,null,null,10,null,"รวมฤดูฝน (ลบ.ม.)",116230639.10423525]
["ประสิทธิ์ภาพโครงการ (%)",85,"ข้าว กข.(นาดำ)","อ้อย","กะหล่ำดอก","มะม่วง","มะม่วง",null,null,"ไม้ดอก (บานชื่น)",null,"รวมทั้งปี (ลบ.ม.)",308692042.22941172]
["เริ่มต้น","สิ้นสุด","ข้าว","อ้อย","พืชผัก","ไม้ผล","ไม้ยืนต้น","บ่อปลา","บ่อกุ้ง","อื่นๆ","อุปโภค-บริโภค อุตสาหกรรม รักษาระบบนิเวศน์ และอื่น ๆ ","รวม (ลบ.ม.)"]
["2017-11-01","2017-11-07",144344.25882352941,32748.400000000001,0,269323.69176470587,14088.423529411764,169157.3082352941,0,27092.835294117645,0,656754.91764705884]
["2017-11-08","2017-11-14",131888.0588235294,11854.282352941176,0,139780.16235294117,7311.9529411764706,169157.3082352941,0,13768.164705882353,0,473759.92941176466]
["2017-11-15","2017-11-21",0,11854.282352941176,0,139780.16235294117,7311.9529411764706,169157.3082352941,0,17704.329411764709,0,345808.03529411758]
["2017-11-22","2017-11-28",0,11854.282352941176,0,139780.16235294117,7311.9529411764706,169157.3082352941,0,21019.011764705876,0,349122.71764705877]
["2017-11-29","2017-12-05",0,17547.023529411767,0,162291.58917647056,8489.5341176470592,198499.42588235292,0,26745.647058823528,0,413573.21976470586]
["2017-12-06","2017-12-12",0,17547.023529411767,0,174528.06211764706,9129.6282352941162,219796.91294117653,0,28955.647058823528,0,449957.27388235304]
["2017-12-13","2017-12-19",289458.31764705881,17547.023529411767,0,174528.06211764706,9129.6282352941162,219796.91294117653,0,30763.811764705883,0,741223.75623529428]
["2017-12-20","2017-12-26",4568372.2352941185,17547.023529411767,0,174528.06211764706,9129.6282352941162,219796.91294117653,0,31969.270588235293,0,5021343.1327058841]
["2017-12-27","2018-01-02",4792957.635294118,17812.929411764704,0,174528.06211764706,9129.6282352941162,219796.91294117653,0,33608.094117647051,0,5247833.2621176476]
["2018-01-03","2018-01-09",9720150.7176470608,22156.823529411766,0,182383.79058823525,9540.5647058823524,214931.01176470588,0,0,0,10149162.908235295]
["2018-01-10","2018-01-16",11468714.152941175,22156.823529411766,0,182383.79058823525,9540.5647058823524,214931.01176470588,0,0,0,11897726.343529409]
["2018-01-17","2018-01-23",13082612.364705885,22156.823529411766,0,182383.79058823525,9540.5647058823524,214931.01176470588,0,0,0,13511624.555294119]
["2018-01-24","2018-01-30",14041352.929411765,22156.823529411766,0,182383.79058823525,9540.5647058823524,214931.01176470588,0,0,0,14470365.119999999]
["2018-01-31","2018-02-06",15607676.988235295,27215.282352941176,0,166798.08470588233,8725.270588235293,214931.01176470588,0,0,0,16025346.637647059]
["2018-02-07","2018-02-13",16043582.752941174,27215.282352941176,0,177077.3684705882,9262.9835294117638,220677.17647058822,0,0,0,16477815.563764704]
["2018-02-14","2018-02-20",16148551.164705882,27215.282352941176,0,177077.3684705882,9262.9835294117638,220677.17647058822,0,0,0,16582783.975529412]
["2018-02-21","2018-02-27",15844759.658823529,27215.282352941176,0,177077.3684705882,9262.9835294117638,220677.17647058822,0,0,0,16278992.469647059]
["2018-02-28","2018-03-06",16101315.282352941,34895.129411764705,0,177772.58541176474,9299.3505882352947,220677.17647058822,0,0,0,16543959.524235295]
["2018-03-07","2018-03-13",14308186.176470585,34895.129411764705,0,199459.78682352943,10433.816470588234,226349.98588235295,0,0,0,14779324.89505882]
["2018-03-14","2018-03-20",13000671.258823533,34895.129411764705,0,199459.78682352943,10433.816470588234,226349.98588235295,0,0,0,13471809.977411767]
["2018-03-21","2018-03-27",7461684.9294117643,34895.129411764705,0,199459.78682352943,10433.816470588234,226349.98588235295,0,0,0,7932823.648]
["2018-03-28","2018-04-03",5759518.7647058824,33984.423529411761,0,199459.78682352943,10433.816470588234,226349.98588235295,0,0,0,6229746.7774117654]
["2018-04-04","2018-04-10",1702364.2705882352,27981.964705882354,0,211047.99999999994,11040,216569.28000000006,0,0,0,2169003.5152941179]
["2018-04-11","2018-04-17",835210.65882352937,27981.964705882354,0,211047.99999999994,11040,216569.28000000006,0,0,0,1301849.9035294116]
["2018-04-18","2018-04-24",6412.5764705882357,27981.964705882354,0,211047.99999999994,11040,216569.28000000006,0,0,0,473051.82117647061]
["2018-04-25","2018-05-01",0,27981.964705882354,0,211047.99999999994,11040,216569.28000000006,0,0,0,466639.24470588239]
["2018-05-02","2018-05-08",2259652.6588235293,30298.835294117645,0,134020.87294117644,7010.682352941174,142089.20470588235,0,0,0,2573072.2541176467]
["2018-05-09","2018-05-15",2052755.3764705881,26063.54117647059,0,134020.87294117644,7010.682352941174,142089.20470588235,0,0,0,2361939.6776470589]
["2018-05-16","2018-05-22",796398.10588235292,26063.54117647059,0,134020.87294117644,7010.682352941174,142089.20470588235,0,0,0,1105582.4070588234]
["2018-05-23","2018-05-29",657307.75294117676,26063.54117647059,0,134020.87294117644,7010.682352941174,142089.20470588235,0,0,0,966492.05411764723]
["2018-05-30","2018-06-05",27283224.717647057,24298.470588235294,0,116921.93670588234,6116.2305882352948,171431.32235294118,0,0,0,27601992.677882355]
["2018-06-06","2018-06-12",9895172.1058823522,24298.470588235294,0,126094.70047058823,6596.0611764705873,176419.48235294121,0,0,0,10228580.820470588]
["2018-06-13","2018-06-19",8938692.1764705889,24298.470588235294,0,126094.70047058823,6596.0611764705873,176419.48235294121,0,0,0,9272100.891058825]
["2018-06-20","2018-06-26",13270602.905882353,24298.470588235294,0,126094.70047058823,6596.0611764705873,176419.48235294121,0,0,0,13604011.620470589]
["2018-06-27","2018-07-03",9178657.364705883,14521.458823529409,0,126094.70047058823,6596.0611764705873,176419.48235294121,0,0,0,9502289.0675294138]
["2018-07-04","2018-07-10",8016292.5647058822,10954.329411764706,0,78827.20141176469,3936.6776470588238,153752.69647058824,0,0,0,8263763.4696470592]
["2018-07-11","2018-07-17",7673813.3176470613,10954.329411764706,0,76568.377882352943,3936.6776470588238,153752.69647058824,0,0,0,7919025.3990588263]
["2018-07-18","2018-07-24",7824093.2941176454,10954.329411764706,0,75256.152000000002,3936.6776470588238,153752.69647058824,0,0,0,8067993.1496470571]
["2018-07-25","2018-07-31",7182904.2823529467,10954.329411764706,0,75256.152000000002,3936.6776470588238,153752.69647058824,0,0,0,7426804.1378823584]
["2018-08-01","2018-08-07",2829574.1411764701,3353.8235294117649,0,18395.98847058824,962.3011764705883,133384.37647058823,0,0,0,2985670.6308235289]
["2018-08-08","2018-08-14",2276288.4941176455,3353.8235294117649,0,18395.98847058824,962.3011764705883,133384.37647058823,0,0,0,2432384.9837647043]
["2018-08-15","2018-08-21",514098.3294117648,3353.8235294117649,0,18395.98847058824,962.3011764705883,133384.37647058823,0,0,0,670194.81905882363]
["2018-08-22","2018-08-28",0,3353.8235294117649,0,18395.98847058824,962.3011764705883,133384.37647058823,0,0,0,156096.48964705883]
["2018-08-29","2018-09-04",0,0,0,16429.355764705877,859.42588235294204,133384.37647058823,0,0,0,150673.15811764705]
["2018-09-05","2018-09-11",0,0,0,0,0,68416.037647058838,0,0,0,68416.037647058838]
["2018-09-12","2018-09-18",0,0,0,0,0,68416.037647058838,0,0,0,68416.037647058838]
["2018-09-19","2018-09-25",0,0,0,0,0,68416.037647058838,0,0,0,68416.037647058838]
["2018-09-26","2018-10-02",0,8650.5058823529398,0,0,0,68416.037647058838,0,0,0,77066.543529411778]
["2018-10-03","2018-10-09",0,6751.8823529411766,0,32050.688470588229,1676.5835294117649,124435.03058823531,0,0,0,164914.1849411765]
["2018-10-10","2018-10-16",0,6751.8823529411766,0,32050.688470588229,1676.5835294117649,124435.03058823531,0,0,0,164914.1849411765]
["2018-10-17","2018-10-23",0,6751.8823529411766,0,32050.688470588229,1676.5835294117649,124435.03058823531,0,0,0,164914.1849411765]
["2018-10-24","2018-10-30",0,6751.8823529411766,0,32050.688470588229,1676.5835294117649,124435.03058823531,0,0,0,164914.1849411765]
["รวม (ลบ.ม.)",null,291709312.74117643,952388.94117647107,0,6477945.2788235266,338608.30588235304,8982160.1505882423,0,231626.81176470587,0,308692042.22941178]

{"sheet":"R19","index":46,"n_rows":61,"n_cols":13,"rows_kept":61,"cut":false,"hidden":false,"merged":[]}
["ปี พ.ศ.",2560,"ฤดูแล้ง","60/61","ฤดูฝน","61",null,null,null,null,"โครงการชลประทานโคกกะเทียม ฤดูแล้ง60/61 ฤดูฝน61"]
["โครงการชลประทาน","โคกกะเทียม"]
["จังหวัด","ลพบุรี"]
["รั่วซึม มม./สัปดาห์",7]
["น้ำเตรียมแปลงฤดูแล้ง มม./สัปดาห์",null,0,30,20,30,30,null,null,20,null,"รวมฤดูแล้ง (ลบ.ม.)",199883716.38917646]
["น้ำเตรียมแปลงฤดูฝน มม./สัปดาห์",null,100,15,10,85,15,null,null,10,null,"รวมฤดูฝน (ลบ.ม.)",67573713.233529434]
["ประสิทธิ์ภาพโครงการ (%)",85,"ข้าว กข.(นาดำ)","อ้อย","กะหล่ำดอก","มะม่วง","มะม่วง",null,null,"ไม้ดอก (บานชื่น)",null,"รวมทั้งปี (ลบ.ม.)",267457429.62270588]
["เริ่มต้น","สิ้นสุด","ข้าว","อ้อย","พืชผัก","ไม้ผล","ไม้ยืนต้น","บ่อปลา","บ่อกุ้ง","อื่นๆ","อุปโภค-บริโภค อุตสาหกรรม รักษาระบบนิเวศน์ และอื่น ๆ ","รวม (ลบ.ม.)"]
["2017-11-01","2017-11-07",0,0,0,161667.59529411767,0,148272.92235294118,0,0,0,309940.51764705882]
["2017-11-08","2017-11-14",0,0,0,88651.124705882365,0,148272.92235294118,0,0,0,236924.04705882355]
["2017-11-15","2017-11-21",0,0,0,88651.124705882365,0,148272.92235294118,0,0,0,236924.04705882355]
["2017-11-22","2017-11-28",0,0,0,88651.124705882365,0,148272.92235294118,0,0,0,236924.04705882355]
["2017-11-29","2017-12-05",0,0,0,103447.91247058824,0,174543.04,0,0,0,277990.95247058826]
["2017-12-06","2017-12-12",0,0,0,112646.7731764706,0,195252.64941176475,0,0,0,307899.42258823535]
["2017-12-13","2017-12-19",0,0,0,112646.7731764706,0,195252.64941176475,0,0,0,307899.42258823535]
["2017-12-20","2017-12-26",0,0,0,112646.7731764706,0,195252.64941176475,0,0,0,307899.42258823535]
["2017-12-27","2018-01-02",0,0,0,112646.7731764706,0,195252.64941176475,0,0,0,307899.42258823535]
["2018-01-03","2018-01-09",10252227.54117647,0,52376.294117647049,113561.2974117647,0,190961.86352941178,0,0,0,10609126.996235292]
["2018-01-10","2018-01-16",10876984.988235295,0,41430.917647058821,113561.2974117647,0,190961.86352941178,0,0,0,11222939.066823529]
["2018-01-17","2018-01-23",11505998.035294116,0,43300.2,113561.2974117647,0,190961.86352941178,0,0,0,11853821.396235291]
["2018-01-24","2018-01-30",13267664.764705885,0,44368.352941176468,113561.2974117647,0,190961.86352941178,0,0,0,13616556.278588237]
["2018-01-31","2018-02-06",15736859.823529409,0,49570.341176470589,103551.95623529413,0,190961.86352941178,0,0,0,16080943.984470585]
["2018-02-07","2018-02-13",16899152.823529411,0,40366,114129.61129411764,0,194727.24705882356,0,0,0,17248375.681882352]
["2018-02-14","2018-02-20",17508083.705882352,0,39752.376470588242,114129.61129411764,0,194727.24705882356,0,0,0,17856692.940705881]
["2018-02-21","2018-02-27",17548601.035294119,0,0,114129.61129411764,0,194727.24705882356,0,0,0,17857457.89364706]
["2018-02-28","2018-03-06",18117377.588235293,0,0,114589.61505882352,0,194727.24705882356,0,0,0,18426694.450352941]
["2018-03-07","2018-03-13",17402341.070588231,0,0,123104.85435294118,0,203987.46352941179,0,0,0,17729433.388470583]
["2018-03-14","2018-03-20",16255031.211764706,0,0,123104.85435294118,0,203987.46352941179,0,0,0,16582123.52964706]
["2018-03-21","2018-03-27",13111436.976470588,0,0,123104.85435294118,0,203987.46352941179,0,0,0,13438529.294352941]
["2018-03-28","2018-04-03",8713700.2705882322,0,0,123104.85435294118,0,203987.46352941179,0,0,0,9040792.5884705856]
["2018-04-04","2018-04-10",1903756.4235294121,0,0,125325.17058823527,0,182664.88470588234,0,0,0,2211746.47882353]
["2018-04-11","2018-04-17",1507873.2588235294,0,0,125325.17058823527,0,182664.88470588234,0,0,0,1815863.314117647]
["2018-04-18","2018-04-24",1146337.6941176471,0,0,125325.17058823527,0,182664.88470588234,0,0,0,1454327.7494117648]
["2018-04-25","2018-05-01",0,0,0,125325.17058823527,0,182664.88470588234,0,0,0,307990.0552941176]
["2018-05-02","2018-05-08",6083336.5294117648,0,0,60297.91647058825,0,104533.17647058825,0,0,0,6248167.622352941]
["2018-05-09","2018-05-15",7436821.8588235276,0,30100.494117647064,60297.91647058825,0,104533.17647058825,0,0,0,7631753.4458823511]
["2018-05-16","2018-05-22",5212887.6470588222,0,30171.011764705894,60297.91647058825,0,104533.17647058825,0,0,0,5407889.7517647045]
["2018-05-23","2018-05-29",7007207.8352941163,0,32214.282352941183,60297.91647058825,0,104533.17647058825,0,0,0,7204253.2105882335]
["2018-05-30","2018-06-05",8636590.8941176478,0,31091.341176470592,51107.424588235313,0,130803.29411764711,0,0,0,8849592.9539999999]
["2018-06-06","2018-06-12",5717511.5764705883,0,31612.635294117648,48714.30270588235,0,134546.78588235294,0,0,0,5932385.3003529413]
["2018-06-13","2018-06-19",4328132.0588235315,0,23793.211764705884,48714.30270588235,0,134546.78588235294,0,0,0,4535186.3591764728]
["2018-06-20","2018-06-26",4541703.6352941198,0,23271.917647058821,48714.30270588235,0,134546.78588235294,0,0,0,4748236.6415294139]
["2018-06-27","2018-07-03",3572378.5647058818,0,0,48714.30270588235,0,134546.78588235294,0,0,0,3755639.6532941172]
["2018-07-04","2018-07-10",3818900.717647058,0,0,30319.029294117645,0,125593.05411764707,0,0,0,3974812.8010588228]
["2018-07-11","2018-07-17",3553790.1764705889,0,0,30319.029294117645,0,125593.05411764707,0,0,0,3709702.2598823537]
["2018-07-18","2018-07-24",2539454.9647058831,0,0,30319.029294117645,0,125593.05411764707,0,0,0,2695367.0481176479]
["2018-07-25","2018-07-31",1446991.1294117679,0,0,30319.029294117645,0,125593.05411764707,0,0,0,1602903.2128235325]
["2018-08-01","2018-08-07",0,0,0,438.70729411764734,0,106919.37882352942,0,0,0,107358.08611764706]
["2018-08-08","2018-08-14",0,0,0,438.70729411764734,0,106919.37882352942,0,0,0,107358.08611764706]
["2018-08-15","2018-08-21",0,0,0,438.70729411764734,0,106919.37882352942,0,0,0,107358.08611764706]
["2018-08-22","2018-08-28",0,0,0,438.70729411764734,0,106919.37882352942,0,0,0,107358.08611764706]
["2018-08-29","2018-09-04",0,0,0,0,0,106919.37882352942,0,0,0,106919.37882352942]
["2018-09-05","2018-09-11",0,0,0,0,0,60705.863529411778,0,0,0,60705.863529411778]
["2018-09-12","2018-09-18",0,0,0,0,0,60705.863529411778,0,0,0,60705.863529411778]
["2018-09-19","2018-09-25",0,0,0,0,0,60705.863529411778,0,0,0,60705.863529411778]
["2018-09-26","2018-10-02",0,0,0,0,0,60705.863529411778,0,0,0,60705.863529411778]
["2018-10-03","2018-10-09",0,0,0,18333.974705882352,0,105868.57411764706,0,0,0,124202.54882352942]
["2018-10-10","2018-10-16",1837.5999999999904,0,0,18333.974705882352,0,105868.57411764706,0,0,0,126040.14882352941]
["2018-10-17","2018-10-23",0,0,0,18333.974705882352,0,105868.57411764706,0,0,0,124202.54882352942]
["2018-10-24","2018-10-30",0,0,0,18333.974705882352,0,105868.57411764706,0,0,0,124202.54882352942]
["รวม (ลบ.ม.)",null,255650972.39999992,0,513419.37647058826,3673674.8156470591,0,7619363.0305882357,0,0,0,267457429.62270594]

{"sheet":"R20","index":47,"n_rows":61,"n_cols":13,"rows_kept":61,"cut":false,"hidden":false,"merged":[]}
["ปี พ.ศ.",2560,"ฤดูแล้ง","60/61","ฤดูฝน","61",null,null,null,null,"โครงการชลประทานเริงราง ฤดูแล้ง60/61 ฤดูฝน61"]
["โครงการชลประทาน","เริงราง"]
["จังหวัด","สระบุรี"]
["รั่วซึม มม./สัปดาห์",7]
["น้ำเตรียมแปลงฤดูแล้ง มม./สัปดาห์",null,0,30,20,30,30,null,null,20,null,"รวมฤดูแล้ง (ลบ.ม.)",85702872.921411753]
["น้ำเตรียมแปลงฤดูฝน มม./สัปดาห์",null,100,15,10,85,15,null,null,10,null,"รวมฤดูฝน (ลบ.ม.)",37342557.740941189]
["ประสิทธิ์ภาพโครงการ (%)",85,"ข้าว กข.(นาดำ)","อ้อย","กะหล่ำดอก","มะม่วง","มะม่วง",null,null,"ไม้ดอก (บานชื่น)",null,"รวมทั้งปี (ลบ.ม.)",123045430.66235295]
["เริ่มต้น","สิ้นสุด","ข้าว","อ้อย","พืชผัก","ไม้ผล","ไม้ยืนต้น","บ่อปลา","บ่อกุ้ง","อื่นๆ","อุปโภค-บริโภค อุตสาหกรรม รักษาระบบนิเวศน์ และอื่น ๆ ","รวม (ลบ.ม.)"]
["2017-11-01","2017-11-07",0,0,0,168961.71058823532,12405.411764705883,215848.95999999996,0,311183.54117647052,0,708399.62352941162]
["2017-11-08","2017-11-14",0,0,0,92048.769411764719,6758.3529411764703,215848.95999999996,0,166195.89411764705,0,480851.97647058824]
["2017-11-15","2017-11-21",655615.52941176458,0,109611,92048.769411764719,6758.3529411764703,215848.95999999996,0,219152.55294117646,0,1299035.1647058823]
["2017-11-22","2017-11-28",683589.17647058831,0,85399.305882352943,92048.769411764719,6758.3529411764703,215848.95999999996,0,263747.62352941174,0,1347392.1882352941]
["2017-11-29","2017-12-05",1126096.3764705881,0,122411.8705882353,107635.17694117645,7902.7294117647061,254520.01882352939,0,348984.96470588242,0,1967551.1369411764]
["2017-12-06","2017-12-12",1858248.8823529407,0,130092.29411764708,118786.26447058826,8721.4588235294123,287583.77411764709,0,379326.37647058826,0,2782759.0503529408]
["2017-12-13","2017-12-19",2319197.6117647057,0,174367.49411764706,118786.26447058826,8721.4588235294123,287583.77411764709,0,404151.16470588243,0,3312807.7680000002]
["2017-12-20","2017-12-26",3057329.9764705882,0,226395.37647058823,118786.26447058826,8721.4588235294123,287583.77411764709,0,420701.02352941176,0,4119517.8738823533]
["2017-12-27","2018-01-02",3243658.0117647061,0,212177.22352941177,118786.26447058826,8721.4588235294123,287583.77411764709,0,436147.14117647061,0,4307073.8738823542]
["2018-01-03","2018-01-09",4267363.9176470591,0,266585.42352941178,121980.07670588233,8955.9529411764706,284071.15294117649,0,0,0,4948956.5237647062]
["2018-01-10","2018-01-16",5234458.4470588239,0,238472.95294117642,121980.07670588233,8955.9529411764706,284071.15294117649,0,0,0,5887938.5825882358]
["2018-01-17","2018-01-23",5472199.0588235296,0,221420.9411764706,121980.07670588233,8955.9529411764706,284071.15294117649,0,0,0,6108627.1825882355]
["2018-01-24","2018-01-30",5586904.7058823546,0,204940.57647058825,121980.07670588233,8955.9529411764706,284071.15294117649,0,0,0,6206852.4649411784]
["2018-01-31","2018-02-06",5707551.8705882356,0,184111.57647058825,111436.59435294117,8181.8352941176472,284071.15294117649,0,0,0,6295353.0296470588]
["2018-02-07","2018-02-13",5694263.3529411759,0,102527.69411764706,117963.93694117645,8661.0823529411755,283491.0870588235,0,0,0,6206907.1534117637]
["2018-02-14","2018-02-20",4893574.4470588239,0,100933.8705882353,117963.93694117645,8661.0823529411755,283491.0870588235,0,0,0,5404624.4240000006]
["2018-02-21","2018-02-27",4661772.3999999994,0,0,117963.93694117645,8661.0823529411755,283491.0870588235,0,0,0,5071888.5063529406]
["2018-02-28","2018-03-06",4486684.7058823537,0,0,118448.48847058823,8696.6588235294112,283491.0870588235,0,0,0,4897320.9402352944]
["2018-03-07","2018-03-13",3601237.9764705882,0,0,129443.51858823531,9503.9294117647059,298411.67058823531,0,0,0,4038597.0950588235]
["2018-03-14","2018-03-20",3042454.5529411766,0,0,129443.51858823531,9503.9294117647059,298411.67058823531,0,0,0,3479813.6715294118]
["2018-03-21","2018-03-27",2115050.8352941182,0,0,129443.51858823531,9503.9294117647059,298411.67058823531,0,0,0,2552409.9538823534]
["2018-03-28","2018-04-03",1397189.3529411762,0,0,129443.51858823531,9503.9294117647059,298411.67058823531,0,0,0,1834548.4715294116]
["2018-04-04","2018-04-10",667843.58823529421,0,0,135602.31764705881,9956.1176470588216,274145.58117647067,0,0,0,1087547.6047058825]
["2018-04-11","2018-04-17",96986.6117647059,0,0,135602.31764705881,9956.1176470588216,274145.58117647067,0,0,0,516690.62823529425]
["2018-04-18","2018-04-24",0,0,0,135602.31764705881,9956.1176470588216,274145.58117647067,0,0,0,419704.01647058828]
["2018-04-25","2018-05-01",0,0,0,135602.31764705881,9956.1176470588216,274145.58117647067,0,0,0,419704.01647058828]
["2018-05-02","2018-05-08",0,0,0,66028.160000000018,4847.8823529411775,161000.50823529414,0,0,0,231876.55058823532]
["2018-05-09","2018-05-15",8666513.8117647059,0,0,66028.160000000018,4847.8823529411775,161000.50823529414,0,0,0,8898390.3623529412]
["2018-05-16","2018-05-22",9420711.6470588241,0,187491.81176470587,66028.160000000018,4847.8823529411775,161000.50823529414,0,0,0,9840080.0094117653]
["2018-05-23","2018-05-29",1560780.8117647064,0,187916.98823529412,66028.160000000018,4847.8823529411775,161000.50823529414,0,0,0,1980574.3505882358]
["2018-05-30","2018-06-05",2053922.1294117633,0,152737.45882352942,56347.224235294132,4137.0941176470587,199671.5670588236,0,0,0,2466815.4736470571]
["2018-06-06","2018-06-12",573.25882352888584,0,211814.92941176469,39392.409647058812,2892.2470588235292,164384.22588235294,0,0,0,419057.07082352886]
["2018-06-13","2018-06-19",0,0,212756.08235294119,39392.409647058812,2892.2470588235292,164384.22588235294,0,0,0,419424.96494117647]
["2018-06-20","2018-06-26",3856520.8352941191,0,169534.02352941182,39392.409647058812,2892.2470588235292,164384.22588235294,0,0,0,4232723.741411766]
["2018-06-27","2018-07-03",0,0,174699.48235294118,39392.409647058812,2892.2470588235292,164384.22588235294,0,0,0,381368.36494117649]
["2018-07-04","2018-07-10",0,0,59181.729411764696,38320.748941176469,2813.5647058823533,148593.54352941178,0,0,0,248909.58658823528]
["2018-07-11","2018-07-17",0,0,42720.094117647073,38320.748941176469,2813.5647058823533,148593.54352941178,0,0,0,232447.95129411767]
["2018-07-18","2018-07-24",0,0,41622.658823529411,38320.748941176469,2813.5647058823533,585173.87294117664,0,0,0,667930.84541176492]
["2018-07-25","2018-07-31",0,0,0,38320.748941176469,2813.5647058823533,585173.87294117664,0,89813.2,0,716121.38658823539]
["2018-08-01","2018-08-07",0,0,0,0,0,500018.44705882354,0,0,0,500018.44705882354]
["2018-08-08","2018-08-14",0,0,0,0,0,500018.44705882354,0,0,0,500018.44705882354]
["2018-08-15","2018-08-21",0,0,0,0,0,500018.44705882354,0,0,0,500018.44705882354]
["2018-08-22","2018-08-28",0,0,0,0,0,500018.44705882354,0,22842.188235294103,0,522860.63529411762]
["2018-08-29","2018-09-04",0,0,0,0,0,500018.44705882354,0,50650.152941176471,0,550668.6]
["2018-09-05","2018-09-11",0,0,0,0,0,294173.28941176471,0,71900.694117647086,0,366073.98352941178]
["2018-09-12","2018-09-18",0,0,0,0,0,294173.28941176471,0,86067.717647058817,0,380241.00705882354]
["2018-09-19","2018-09-25",0,0,0,0,0,294173.28941176471,0,97873.576470588276,0,392046.86588235298]
["2018-09-26","2018-10-02",0,0,0,0,0,294173.28941176471,0,0,0,294173.28941176471]
["2018-10-03","2018-10-09",0,0,0,25209.022352941171,1850.8823529411766,623119.43529411766,0,0,0,650179.34]
["2018-10-10","2018-10-16",0,0,0,25209.022352941171,1850.8823529411766,623119.43529411766,0,0,0,650179.34]
["2018-10-17","2018-10-23",0,0,0,25209.022352941171,1850.8823529411766,623119.43529411766,0,0,0,650179.34]
["2018-10-24","2018-10-30",0,0,0,25209.022352941171,1850.8823529411766,623119.43529411766,0,0,0,650179.34]
["รวม (ลบ.ม.)",null,95428293.882352918,0,3819922.8588235299,3891917.3870588248,285750.17647058819,16250808.545882357,0,3368737.8117647064,0,123045430.66235296]

{"sheet":"R21","index":48,"n_rows":61,"n_cols":13,"rows_kept":61,"cut":false,"hidden":false,"merged":[]}
["ปี พ.ศ.",2560,"ฤดูแล้ง","60/61","ฤดูฝน","61",null,null,null,null,"โครงการชลประทานมหาราช ฤดูแล้ง60/61 ฤดูฝน61"]
["โครงการชลประทาน","มหาราช"]
["จังหวัด","สิงห์บุรี"]
["รั่วซึม มม./สัปดาห์",7]
["น้ำเตรียมแปลงฤดูแล้ง มม./สัปดาห์",null,0,30,20,30,30,null,null,20,null,"รวมฤดูแล้ง (ลบ.ม.)",249505248.27270588]
["น้ำเตรียมแปลงฤดูฝน มม./สัปดาห์",null,100,15,10,85,15,null,null,10,null,"รวมฤดูฝน (ลบ.ม.)",167453728.66494119]
["ประสิทธิ์ภาพโครงการ (%)",85,"ข้าว กข.(นาดำ)","อ้อย","กะหล่ำดอก","มะม่วง","มะม่วง",null,null,"ไม้ดอก (บานชื่น)",null,"รวมทั้งปี (ลบ.ม.)",416958976.9376471]
["เริ่มต้น","สิ้นสุด","ข้าว","อ้อย","พืชผัก","ไม้ผล","ไม้ยืนต้น","บ่อปลา","บ่อกุ้ง","อื่นๆ","อุปโภค-บริโภค อุตสาหกรรม รักษาระบบนิเวศน์ และอื่น ๆ ","รวม (ลบ.ม.)"]
["2017-11-01","2017-11-07",34801.694117647057,11164.294117647059,0,770875.87764705881,0,153260.70588235292,0,0,0,970102.57176470582]
["2017-11-08","2017-11-14",32004.329411764706,4500.7647058823522,0,431600.58352941176,0,153260.70588235292,0,0,0,621366.38352941175]
["2017-11-15","2017-11-21",24629.45882352941,4500.7647058823522,0,431600.58352941176,0,153260.70588235292,0,0,0,613991.51294117642]
["2017-11-22","2017-11-28",22595.01176470588,4500.7647058823522,0,431600.58352941176,0,153260.70588235292,0,0,0,611957.06588235288]
["2017-11-29","2017-12-05",4371997.8235294111,6462.8235294117649,379874.10588235292,500354.72188235295,0,179440.4705882353,0,0,0,5438129.9454117641]
["2017-12-06","2017-12-12",6301111.8588235294,6462.8235294117649,303759.65882352937,533937.3214117646,0,196610.0329411765,0,0,0,7341881.6955294115]
["2017-12-13","2017-12-19",7007548.4588235291,6462.8235294117649,317148.54117647058,533937.3214117646,0,196610.0329411765,0,0,0,8061707.1778823528]
["2017-12-20","2017-12-26",9453785.6117647067,6462.8235294117649,324799.31764705887,533937.3214117646,0,196610.0329411765,0,0,0,10515595.107294116]
["2017-12-27","2018-01-02",10605109.929411765,6231.5647058823533,319284.40000000002,533937.3214117646,0,196610.0329411765,0,0,0,11661173.248470588]
["2018-01-03","2018-01-09",11589653.4,7810.0117647058823,262804.77647058823,531966.70211764693,0,191134.09882352944,0,0,0,12583368.989176469]
["2018-01-10","2018-01-16",14031145.141176471,7810.0117647058823,259039.4705882353,531966.70211764693,0,191134.09882352944,0,0,0,15021095.424470587]
["2018-01-17","2018-01-23",14525354.317647059,7810.0117647058823,0,531966.70211764693,0,191134.09882352944,0,0,0,15256265.130352939]
["2018-01-24","2018-01-30",15418386.341176467,7810.0117647058823,0,531966.70211764693,0,191134.09882352944,0,0,0,16149297.153882347]
["2018-01-31","2018-02-06",17801311.97647059,9927.3294117647056,0,485457.71388235292,0,191134.09882352944,0,0,0,18487831.118588235]
["2018-02-07","2018-02-13",17670155.670588236,9927.3294117647056,0,531101.55011764704,0,195955.53882352941,0,0,0,18407140.088941175]
["2018-02-14","2018-02-20",16535123.941176465,9927.3294117647056,0,531101.55011764704,0,195955.53882352941,0,0,0,17272108.359529406]
["2018-02-21","2018-02-27",15826861.341176467,9927.3294117647056,0,531101.55011764704,0,195955.53882352941,0,0,0,16563845.75952941]
["2018-02-28","2018-03-06",11895905.51764706,12215.941176470587,0,533238.98447058827,0,195955.53882352941,0,0,0,12637315.982117649]
["2018-03-07","2018-03-13",9658596.0235294104,12215.941176470587,0,573257.91435294121,0,202893.17647058822,0,0,0,10446963.05552941]
["2018-03-14","2018-03-20",8785033.1176470574,12215.941176470587,0,573257.91435294121,0,202893.17647058822,0,0,0,9573400.1496470571]
["2018-03-21","2018-03-27",6893478.0705882357,12215.941176470587,0,573257.91435294121,0,202893.17647058822,0,0,0,7681845.1025882354]
["2018-03-28","2018-04-03",5882373.1294117644,12372.576470588236,0,573257.91435294121,0,202893.17647058822,0,0,0,6670896.7967058821]
["2018-04-04","2018-04-10",5332505.0235294113,10235.788235294118,0,630960.16470588231,0,195584.65882352943,0,0,0,6169285.635294117]
["2018-04-11","2018-04-17",3497065.3764705877,10235.788235294118,0,630960.16470588231,0,195584.65882352943,0,0,0,4333845.9882352939]
["2018-04-18","2018-04-24",3190716.2117647058,10235.788235294118,0,630960.16470588231,0,195584.65882352943,0,0,0,4027496.8235294116]
["2018-04-25","2018-05-01",11550076.929411765,10235.788235294118,0,631444.62941176468,0,195584.65882352943,0,0,0,12387342.005882353]
["2018-05-02","2018-05-08",13644919.83529412,6586.6705882352944,0,331460.68588235293,0,126382.8141176471,0,0,0,14109350.005882354]
["2018-05-09","2018-05-15",9560118.9882352948,6586.6705882352944,0,331460.68588235293,0,126382.8141176471,0,0,0,10024549.158823529]
["2018-05-16","2018-05-22",29929420.94117647,6586.6705882352944,0,331460.68588235293,0,126382.8141176471,0,0,0,30393851.111764707]
["2018-05-23","2018-05-29",17862905.623529412,6586.6705882352944,0,331460.68588235293,0,126382.8141176471,0,0,0,18327335.794117648]
["2018-05-30","2018-06-05",10942160.541176472,4424.9529411764715,0,288735.20505882357,0,152562.57882352945,0,0,0,11387883.278000001]
["2018-06-06","2018-06-12",12480727.364705883,4424.9529411764715,0,262108.59658823526,0,149573.7223529412,0,0,0,12896834.636588234]
["2018-06-13","2018-06-19",14403206.164705887,4424.9529411764715,0,262108.59658823526,0,149573.7223529412,0,0,0,14819313.436588239]
["2018-06-20","2018-06-26",13551892.211764703,4424.9529411764715,0,262108.59658823526,0,149573.7223529412,0,0,0,13967999.483647054]
["2018-06-27","2018-07-03",10567054.647058822,3003.2352941176478,0,262108.59658823526,0,149573.7223529412,0,0,0,10981740.201294117]
["2018-07-04","2018-07-10",8985177.8352941126,1328.6823529411761,0,174667.63799999998,0,135174.85176470591,0,0,0,9296349.0074117593]
["2018-07-11","2018-07-17",7658803.4000000004,1328.6823529411761,0,174667.63799999998,0,135174.85176470591,0,0,0,7969974.5721176481]
["2018-07-18","2018-07-24",6063268.6000000024,1328.6823529411761,0,174667.63799999998,0,135174.85176470591,0,0,0,6374439.7721176501]
["2018-07-25","2018-07-31",4657148.011764707,1328.6823529411761,0,174580.46400000001,0,135174.85176470591,0,0,0,4968232.0098823542]
["2018-08-01","2018-08-07",0,0,0,34721.996705882353,0,116696.3011764706,0,0,0,151418.29788235296]
["2018-08-08","2018-08-14",0,0,0,34721.996705882353,0,116696.3011764706,0,0,0,151418.29788235296]
["2018-08-15","2018-08-21",0,0,0,34721.996705882353,0,116696.3011764706,0,0,0,151418.29788235296]
["2018-08-22","2018-08-28",71219.988235294382,0,0,34721.996705882353,0,116696.3011764706,0,0,0,222638.28611764734]
["2018-08-29","2018-09-04",0,0,0,29437.783999999996,0,116696.3011764706,0,0,0,146134.0851764706]
["2018-09-05","2018-09-11",0,0,0,0,0,62220.574117647069,0,0,0,62220.574117647069]
["2018-09-12","2018-09-18",0,0,0,0,0,62220.574117647069,0,0,0,62220.574117647069]
["2018-09-19","2018-09-25",0,0,0,0,0,62220.574117647069,0,0,0,62220.574117647069]
["2018-09-26","2018-10-02",3528.0117647058819,545.29411764705935,0,0,0,62220.574117647069,0,0,0,66293.88]
["2018-10-03","2018-10-09",3724.7176470588233,488.54117647058797,0,98195.454117647052,0,113031.13411764706,0,0,0,215439.84705882351]
["2018-10-10","2018-10-16",3759.8235294117653,488.54117647058797,0,98195.454117647052,0,113031.13411764706,0,0,0,215474.95294117648]
["2018-10-17","2018-10-23",3342.8470588235296,488.54117647058797,0,98195.454117647052,0,113031.13411764706,0,0,0,215057.97647058824]
["2018-10-24","2018-10-30",2205.4235294117652,488.54117647058797,0,98195.454117647052,0,113031.13411764706,0,0,0,213920.55294117646]
["รวม (ลบ.ม.)",null,388331910.68235296,284742.22352941171,2166710.2705882355,18181709.87411765,0,7993903.887058828,0,0,0,416958976.93764722]

{"sheet":"R22","index":49,"n_rows":61,"n_cols":13,"rows_kept":61,"cut":false,"hidden":false,"merged":[]}
["ปี พ.ศ.",2560,"ฤดูแล้ง","60/61","ฤดูฝน","61",null,null,null,null,"โครงการชลประทานป่าสักใต้ ฤดูแล้ง60/61 ฤดูฝน61"]
["โครงการชลประทาน","ป่าสักใต้"]
["จังหวัด","พระนครศรีอยุธยา"]
["รั่วซึม มม./สัปดาห์",7]
["น้ำเตรียมแปลงฤดูแล้ง มม./สัปดาห์",null,0,30,20,30,30,null,null,20,null,"รวมฤดูแล้ง (ลบ.ม.)",163034096.38329417]
["น้ำเตรียมแปลงฤดูฝน มม./สัปดาห์",null,100,15,10,85,15,null,null,10,null,"รวมฤดูฝน (ลบ.ม.)",51206302.436235309]
["ประสิทธิ์ภาพโครงการ (%)",85,"ข้าว กข.(นาดำ)","อ้อย","กะหล่ำดอก","มะม่วง","มะม่วง",null,null,"ไม้ดอก (บานชื่น)",null,"รวมทั้งปี (ลบ.ม.)",214240398.81952947]
["เริ่มต้น","สิ้นสุด","ข้าว","อ้อย","พืชผัก","ไม้ผล","ไม้ยืนต้น","บ่อปลา","บ่อกุ้ง","อื่นๆ","อุปโภค-บริโภค อุตสาหกรรม รักษาระบบนิเวศน์ และอื่น ๆ ","รวม (ลบ.ม.)"]
["2017-11-01","2017-11-07",0,0,0,3607652.2611764707,0,217156.8,0,0,0,3824809.0611764705]
["2017-11-08","2017-11-14",0,0,0,1913421.6729411767,0,217156.8,0,0,0,2130578.4729411765]
["2017-11-15","2017-11-21",0,0,0,1913421.6729411767,0,217156.8,0,0,0,2130578.4729411765]
["2017-11-22","2017-11-28",0,0,0,1913421.6729411767,0,217156.8,0,0,0,2130578.4729411765]
["2017-11-29","2017-12-05",2703664.8941176469,0,0,2231852.3119999999,0,257476.8,0,0,0,5192994.0061176466]
["2017-12-06","2017-12-12",2790153.9294117647,0,0,2432279.7882352937,0,280627.20000000007,0,0,0,5503060.9176470591]
["2017-12-13","2017-12-19",2898265.2235294119,0,0,2432279.7882352937,0,280627.20000000007,0,0,0,5611172.2117647054]
["2017-12-20","2017-12-26",3711600.8941176469,0,101375.49411764706,2034709.6235294121,0,853987.08705882379,0,0,0,6701673.0988235297]
["2017-12-27","2018-01-02",3907338.4588235295,0,78003.23529411765,2034709.6235294121,0,853987.08705882379,0,0,0,6874038.404705883]
["2018-01-03","2018-01-09",4074101.8823529412,0,81420.823529411777,2075265.0364705881,0,848465.61882352957,0,0,0,7079253.3611764703]
["2018-01-10","2018-01-16",6377514.3764705881,0,83373.741176470605,2075265.0364705881,0,848465.61882352957,0,0,0,9384618.7729411758]
["2018-01-17","2018-01-23",6433946.9647058826,0,84350.200000000012,2075265.0364705881,0,848465.61882352957,0,0,0,9442027.8200000003]
["2018-01-24","2018-01-30",6414956.5411764709,0,69703.364705882341,2075265.0364705881,0,848465.61882352957,0,0,0,9408390.5611764714]
["2018-01-31","2018-02-06",7194127.1058823541,0,76137.047058823548,1896995.4188235293,0,848465.61882352957,0,0,0,10015725.190588238]
["2018-02-07","2018-02-13",7087208.2941176482,0,0,2125818.3162352946,0,878526.94588235288,0,0,0,10091553.556235295]
["2018-02-14","2018-02-20",6466344.9294117643,0,0,2125818.3162352946,0,878526.94588235288,0,0,0,9470690.19152941]
["2018-02-21","2018-02-27",6330147.0823529409,0,0,2125818.3162352946,0,878526.94588235288,0,0,0,9334492.3444705885]
["2018-02-28","2018-03-06",4277004.8,0,0,2134313.2510588239,0,878526.94588235288,0,0,0,7289844.9969411762]
["2018-03-07","2018-03-13",3992727.1411764706,0,0,2442032.4472941183,0,930571.89647058828,0,0,0,7365331.484941178]
["2018-03-14","2018-03-20",3764556.5647058822,0,0,2442032.4472941183,0,930571.89647058828,0,0,0,7137160.9084705887]
["2018-03-21","2018-03-27",3051008.2588235294,0,0,2442032.4472941183,0,930571.89647058828,0,0,0,6423612.6025882363]
["2018-03-28","2018-04-03",1843311.2352941174,0,0,2442032.4472941183,0,930571.89647058828,0,0,0,5215915.5790588241]
["2018-04-04","2018-04-10",1647460.5529411761,0,0,2516030.2117647063,0,891103.62352941174,0,0,0,5054594.3882352943]
["2018-04-11","2018-04-17",0,0,0,2516030.2117647063,0,891103.62352941174,0,0,0,3407133.8352941182]
["2018-04-18","2018-04-24",0,0,0,2516030.2117647063,0,891103.62352941174,0,0,0,3407133.8352941182]
["2018-04-25","2018-05-01",0,0,0,2516030.2117647063,0,891103.62352941174,0,0,0,3407133.8352941182]
["2018-05-02","2018-05-08",0,0,0,1338993.0635294123,0,532719.43529411766,0,0,0,1871712.49882353]
["2018-05-09","2018-05-15",0,0,0,1338993.0635294123,0,532719.43529411766,0,0,0,1871712.49882353]
["2018-05-16","2018-05-22",0,0,0,1338993.0635294123,0,532719.43529411766,0,0,0,1871712.49882353]
["2018-05-23","2018-05-29",0,0,0,1338993.0635294123,0,532719.43529411766,0,0,0,1871712.49882353]
["2018-05-30","2018-06-05",0,0,0,1149748.2381176474,0,655418.72941176465,0,0,0,1805166.9675294119]
["2018-06-06","2018-06-12",5118465.8117647069,0,60627.776470588236,1005387.4901176472,0,615541.45882352954,0,0,0,6800022.5371764731]
["2018-06-13","2018-06-19",133842.02352941173,0,60173.917647058821,1005387.4901176472,0,615541.45882352954,0,0,0,1814944.8901176474]
["2018-06-20","2018-06-26",4410249.176470588,0,64126.435294117648,1005387.4901176472,0,615541.45882352954,0,0,0,6095304.5607058834]
["2018-06-27","2018-07-03",2381874.0588235296,0,58320.682352941178,1005387.4901176472,0,615541.45882352954,0,0,0,4061123.6901176474]
["2018-07-04","2018-07-10",2002328.3647058834,0,59421.670588235305,766295.09341176506,0,569733.72235294117,0,0,0,3397778.8510588249]
["2018-07-11","2018-07-17",3239762.7764705895,0,42906.835294117649,766295.09341176506,0,569733.72235294117,0,0,0,4618698.4275294133]
["2018-07-18","2018-07-24",2654036.5176470578,0,41805.847058823529,766295.09341176506,0,569733.72235294117,0,0,0,4031871.1804705872]
["2018-07-25","2018-07-31",1282038.3294117646,0,0,766295.09341176506,0,569733.72235294117,0,0,0,2618067.1451764707]
["2018-08-01","2018-08-07",348024.1176470599,0,0,40475.694588235412,0,539774.64470588253,0,0,0,928274.45694117784]
["2018-08-08","2018-08-14",399812.67058823584,0,0,40475.694588235412,0,539774.64470588253,0,0,0,980063.00988235371]
["2018-08-15","2018-08-21",295144.96470588207,0,0,40475.694588235412,0,539774.64470588253,0,0,0,875395.304]
["2018-08-22","2018-08-28",0,0,0,40475.694588235412,0,539774.64470588253,0,0,0,580250.33929411799]
["2018-08-29","2018-09-04",0,0,0,19889.429176470592,0,539774.64470588253,0,0,0,559664.07388235314]
["2018-09-05","2018-09-11",0,0,0,0,0,280879.13411764719,0,0,0,280879.13411764719]
["2018-09-12","2018-09-18",0,0,0,0,0,280879.13411764719,0,0,0,280879.13411764719]
["2018-09-19","2018-09-25",0,0,0,0,0,280879.13411764719,0,0,0,280879.13411764719]
["2018-09-26","2018-10-02",0,0,0,0,0,280879.13411764719,0,0,0,280879.13411764719]
["2018-10-03","2018-10-09",0,0,0,378965.03882352944,0,477607.0023529412,0,0,0,856572.0411764707]
["2018-10-10","2018-10-16",0,0,0,378965.03882352944,0,477607.0023529412,0,0,0,856572.0411764707]
["2018-10-17","2018-10-23",2238.4941176470602,0,0,378965.03882352944,0,477607.0023529412,0,0,0,858810.53529411764]
["2018-10-24","2018-10-30",783.81176470588423,0,0,378965.03882352944,0,477607.0023529412,0,0,0,857355.8529411765]
["รวม (ลบ.ม.)",null,107234040.24705882,0,961747.07058823539,74345926.005411729,0,31698685.496470593,0,0,0,214240398.81952935]

{"sheet":"R23","index":50,"n_rows":61,"n_cols":13,"rows_kept":61,"cut":false,"hidden":false,"merged":[]}
["ปี พ.ศ.",2560,"ฤดูแล้ง","60/61","ฤดูฝน","61",null,null,null,null,"โครงการชลประทานนครหลวง ฤดูแล้ง60/61 ฤดูฝน61"]
["โครงการชลประทาน","นครหลวง"]
["จังหวัด","พระนครศรีอยุธยา"]
["รั่วซึม มม./สัปดาห์",7]
["น้ำเตรียมแปลงฤดูแล้ง มม./สัปดาห์",null,0,30,20,30,30,null,null,20,null,"รวมฤดูแล้ง (ลบ.ม.)",86714082.32941176]
["น้ำเตรียมแปลงฤดูฝน มม./สัปดาห์",null,100,15,10,85,15,null,null,10,null,"รวมฤดูฝน (ลบ.ม.)",24101898.717647064]
["ประสิทธิ์ภาพโครงการ (%)",85,"ข้าว กข.(นาดำ)","อ้อย","กะหล่ำดอก","มะม่วง","มะม่วง",null,null,"ไม้ดอก (บานชื่น)",null,"รวมทั้งปี (ลบ.ม.)",110815981.04705882]
["เริ่มต้น","สิ้นสุด","ข้าว","อ้อย","พืชผัก","ไม้ผล","ไม้ยืนต้น","บ่อปลา","บ่อกุ้ง","อื่นๆ","อุปโภค-บริโภค อุตสาหกรรม รักษาระบบนิเวศน์ และอื่น ๆ ","รวม (ลบ.ม.)"]
["2017-11-01","2017-11-07",2292895.7882352942,0,0,0,0,0,0,0,0,2292895.7882352942]
["2017-11-08","2017-11-14",2082577.635294118,0,0,0,0,0,0,0,0,2082577.635294118]
["2017-11-15","2017-11-21",0,0,0,0,0,0,0,0,0,0]
["2017-11-22","2017-11-28",0,0,0,0,0,0,0,0,0,0]
["2017-11-29","2017-12-05",0,0,0,0,0,0,0,0,0,0]
["2017-12-06","2017-12-12",0,0,0,0,0,0,0,0,0,0]
["2017-12-13","2017-12-19",2293545.1411764706,0,0,0,0,0,0,0,0,2293545.1411764706]
["2017-12-20","2017-12-26",2366914.6235294123,0,0,0,0,0,0,0,0,2366914.6235294123]
["2017-12-27","2018-01-02",2454733.411764706,0,0,0,0,0,0,0,0,2454733.411764706]
["2018-01-03","2018-01-09",3406948.5764705883,0,0,0,0,0,0,0,0,3406948.5764705883]
["2018-01-10","2018-01-16",4008623.6470588236,0,0,0,0,0,0,0,0,4008623.6470588236]
["2018-01-17","2018-01-23",4384341.2470588237,0,0,0,0,0,0,0,0,4384341.2470588237]
["2018-01-24","2018-01-30",5412188.4235294117,0,0,0,0,0,0,0,0,5412188.4235294117]
["2018-01-31","2018-02-06",6400053.6117647057,0,0,0,0,0,0,0,0,6400053.6117647057]
["2018-02-07","2018-02-13",6753668.6117647057,0,0,0,0,0,0,0,0,6753668.6117647057]
["2018-02-14","2018-02-20",6815203.1058823531,0,0,0,0,0,0,0,0,6815203.1058823531]
["2018-02-21","2018-02-27",6795887.4235294135,0,0,0,0,0,0,0,0,6795887.4235294135]
["2018-02-28","2018-03-06",7071023.0352941174,0,0,0,0,0,0,0,0,7071023.0352941174]
["2018-03-07","2018-03-13",6881948.5999999996,0,0,0,0,0,0,0,0,6881948.5999999996]
["2018-03-14","2018-03-20",4449997.364705882,0,0,0,0,0,0,0,0,4449997.364705882]
["2018-03-21","2018-03-27",4134408.9411764699,0,0,0,0,0,0,0,0,4134408.9411764699]
["2018-03-28","2018-04-03",3171227.5647058822,0,0,0,0,0,0,0,0,3171227.5647058822]
["2018-04-04","2018-04-10",2415557.3294117646,0,0,0,0,0,0,0,0,2415557.3294117646]
["2018-04-11","2018-04-17",1730366,0,0,0,0,0,0,0,0,1730366]
["2018-04-18","2018-04-24",1346383.6705882354,0,0,0,0,0,0,0,0,1346383.6705882354]
["2018-04-25","2018-05-01",45588.576470588145,0,0,0,0,0,0,0,0,45588.576470588145]
["2018-05-02","2018-05-08",18204.094117647106,0,0,0,0,0,0,0,0,18204.094117647106]
["2018-05-09","2018-05-15",4101.2705882352966,0,0,0,0,0,0,0,0,4101.2705882352966]
["2018-05-16","2018-05-22",0,0,0,0,0,0,0,0,0,0]
["2018-05-23","2018-05-29",0,0,0,0,0,0,0,0,0,0]
["2018-05-30","2018-06-05",0,0,0,0,0,0,0,0,0,0]
["2018-06-06","2018-06-12",11262918.352941178,0,0,0,0,0,0,0,0,11262918.352941178]
["2018-06-13","2018-06-19",571077.78823529428,0,0,0,0,0,0,0,0,571077.78823529428]
["2018-06-20","2018-06-26",655041.7999999997,0,0,0,0,0,0,0,0,655041.7999999997]
["2018-06-27","2018-07-03",4997030.7176470598,0,0,0,0,0,0,0,0,4997030.7176470598]
["2018-07-04","2018-07-10",1164606.2941176468,0,0,0,0,0,0,0,0,1164606.2941176468]
["2018-07-11","2018-07-17",1351441.6117647071,0,0,0,0,0,0,0,0,1351441.6117647071]
["2018-07-18","2018-07-24",1612590.4235294121,0,0,0,0,0,0,0,0,1612590.4235294121]
["2018-07-25","2018-07-31",1662565.5999999996,0,0,0,0,0,0,0,0,1662565.5999999996]
["2018-08-01","2018-08-07",471687.89411764813,0,0,0,0,0,0,0,0,471687.89411764813]
["2018-08-08","2018-08-14",318698.47058823658,0,0,0,0,0,0,0,0,318698.47058823658]
["2018-08-15","2018-08-21",11934.400000000263,0,0,0,0,0,0,0,0,11934.400000000263]
["2018-08-22","2018-08-28",0,0,0,0,0,0,0,0,0,0]
["2018-08-29","2018-09-04",0,0,0,0,0,0,0,0,0,0]
["2018-09-05","2018-09-11",0,0,0,0,0,0,0,0,0,0]
["2018-09-12","2018-09-18",0,0,0,0,0,0,0,0,0,0]
["2018-09-19","2018-09-25",0,0,0,0,0,0,0,0,0,0]
["2018-09-26","2018-10-02",0,0,0,0,0,0,0,0,0,0]
["2018-10-03","2018-10-09",0,0,0,0,0,0,0,0,0,0]
["2018-10-10","2018-10-16",0,0,0,0,0,0,0,0,0,0]
["2018-10-17","2018-10-23",0,0,0,0,0,0,0,0,0,0]
["2018-10-24","2018-10-30",0,0,0,0,0,0,0,0,0,0]
["รวม (ลบ.ม.)",null,110815981.04705884,0,0,0,0,0,0,0,0,110815981.04705884]

{"sheet":"R24","index":51,"n_rows":61,"n_cols":13,"rows_kept":61,"cut":false,"hidden":false,"merged":[]}
["ปี พ.ศ.",2560,"ฤดูแล้ง","60/61","ฤดูฝน","61",null,null,null,null,"โครงการชลประทานชลประทานลพบุรี ฤดูแล้ง60/61 ฤดูฝน61"]
["โครงการชลประทาน","ชลประทานลพบุรี"]
["จังหวัด","ลพบุรี"]
["รั่วซึม มม./สัปดาห์",7]
["น้ำเตรียมแปลงฤดูแล้ง มม./สัปดาห์",null,0,30,20,30,30,null,null,20,null,"รวมฤดูแล้ง (ลบ.ม.)",66174417.111058809]
["น้ำเตรียมแปลงฤดูฝน มม./สัปดาห์",null,100,15,10,85,15,null,null,10,null,"รวมฤดูฝน (ลบ.ม.)",23123201.729411751]
["ประสิทธิ์ภาพโครงการ (%)",85,"ข้าว กข.(นาดำ)","อ้อย","กะหล่ำดอก","มะม่วง","มะม่วง",null,null,"ไม้ดอก (บานชื่น)",null,"รวมทั้งปี (ลบ.ม.)",89297618.840470552]
["เริ่มต้น","สิ้นสุด","ข้าว","อ้อย","พืชผัก","ไม้ผล","ไม้ยืนต้น","บ่อปลา","บ่อกุ้ง","อื่นๆ","อุปโภค-บริโภค อุตสาหกรรม รักษาระบบนิเวศน์ และอื่น ๆ ","รวม (ลบ.ม.)"]
["2017-11-01","2017-11-07",0,0,0,121156.91529411766,0,8924.4235294117625,0,0,0,130081.33882352943]
["2017-11-08","2017-11-14",0,0,0,66436.915294117658,0,8924.4235294117625,0,0,0,75361.338823529426]
["2017-11-15","2017-11-21",0,0,0,66436.915294117658,0,8924.4235294117625,0,0,0,75361.338823529426]
["2017-11-22","2017-11-28",0,0,0,66436.915294117658,0,8924.4235294117625,0,0,0,75361.338823529426]
["2017-11-29","2017-12-05",0,0,0,77525.923294117645,0,10505.6,0,0,0,88031.523294117651]
["2017-12-06","2017-12-12",0,0,0,84419.738352941175,0,11752.094117647062,0,0,0,96171.832470588241]
["2017-12-13","2017-12-19",3122883.6352941175,56384.129411764705,0,0,0,0,0,0,0,3179267.7647058824]
["2017-12-20","2017-12-26",3224993.4470588234,24195.894117647062,0,0,0,0,0,0,0,3249189.3411764703]
["2017-12-27","2018-01-02",3295313.2705882355,23763.50588235294,0,0,0,0,0,0,0,3319076.7764705885]
["2018-01-03","2018-01-09",4627009.729411765,23763.50588235294,0,0,0,0,0,0,0,4650773.2352941176]
["2018-01-10","2018-01-16",4949337.8588235304,29693.858823529412,0,0,0,0,0,0,0,4979031.7176470598]
["2018-01-17","2018-01-23",5164429.5999999996,29693.858823529412,0,0,0,0,0,0,0,5194123.4588235291]
["2018-01-24","2018-01-30",5418676.5882352944,29693.858823529412,0,0,0,0,0,0,0,5448370.4470588239]
["2018-01-31","2018-02-06",5904490.4117647056,31980.517647058823,0,0,0,0,0,0,0,5936470.9294117643]
["2018-02-07","2018-02-13",5796470.5647058813,31980.517647058823,0,0,0,0,0,0,0,5828451.08235294]
["2018-02-14","2018-02-20",5612444.5764705874,40740.858823529416,0,0,0,0,0,0,0,5653185.4352941168]
["2018-02-21","2018-02-27",5281002.8,40740.858823529416,0,0,0,0,0,0,0,5321743.6588235293]
["2018-02-28","2018-03-06",4588998.2352941176,43453.905882352941,0,0,0,0,0,0,0,4632452.1411764706]
["2018-03-07","2018-03-13",4253986.3176470585,189990.88235294117,0,0,0,0,0,0,0,4443977.1999999993]
["2018-03-14","2018-03-20",1286119.094117647,117136.07058823529,0,0,0,0,0,0,0,1403255.1647058823]
["2018-03-21","2018-03-27",1005487.7999999998,117136.07058823529,0,0,0,0,0,0,0,1122623.8705882351]
["2018-03-28","2018-04-03",633337.44705882366,98212.470588235301,0,0,0,0,0,0,0,731549.91764705896]
["2018-04-04","2018-04-10",43009.847058823543,118353.05882352941,0,0,0,0,0,0,0,161362.90588235296]
["2018-04-11","2018-04-17",0,126381.11764705884,0,0,0,0,0,0,0,126381.11764705884]
["2018-04-18","2018-04-24",0,126381.11764705884,0,0,0,0,0,0,0,126381.11764705884]
["2018-04-25","2018-05-01",0,126381.11764705884,0,0,0,0,0,0,0,126381.11764705884]
["2018-05-02","2018-05-08",5464670.5176470578,79404.470588235301,0,0,0,0,0,0,0,5544074.988235293]
["2018-05-09","2018-05-15",3148584.7294117641,100313.83529411764,0,0,0,0,0,0,0,3248898.5647058818]
["2018-05-16","2018-05-22",2485828.9411764704,91979.341176470582,1675.3529411764705,0,0,0,0,0,0,2579483.6352941175]
["2018-05-23","2018-05-29",1738078.0705882357,91979.341176470582,1679.2823529411762,0,0,0,0,0,0,1831736.6941176474]
["2018-05-30","2018-06-05",973721.03529411752,86893.788235294123,1672.4705882352937,0,0,0,0,0,0,1062287.2941176468]
["2018-06-06","2018-06-12",1262029.3294117644,102107.10588235295,1730.5058823529412,0,0,0,0,0,0,1365866.9411764704]
["2018-06-13","2018-06-19",1496796.0352941165,99626.364705882355,1759.5176470588235,0,0,0,0,0,0,1598181.9176470577]
["2018-06-20","2018-06-26",1579419.905882353,99626.364705882355,1324.294117647059,0,0,0,0,0,0,1680370.5647058822]
["2018-06-27","2018-07-03",1243835.6705882351,75373.894117647054,935.83529411764687,0,0,0,0,0,0,1320145.3999999999]
["2018-07-04","2018-07-10",1090856.0588235292,89579.152941176464,0,0,0,0,0,0,0,1180435.2117647056]
["2018-07-11","2018-07-17",835521.05882352928,82299.141176470584,0,0,0,0,0,0,0,917820.19999999984]
["2018-07-18","2018-07-24",284699.8470588231,82299.141176470584,0,0,0,0,0,0,0,366998.98823529365]
["2018-07-25","2018-07-31",0,82299.141176470584,0,0,0,0,0,0,0,82299.141176470584]
["2018-08-01","2018-08-07",0,55720.717647058846,0,0,0,0,0,0,0,55720.717647058846]
["2018-08-08","2018-08-14",0,37609.447058823527,0,0,0,0,0,0,0,37609.447058823527]
["2018-08-15","2018-08-21",0,29588.141176470606,0,0,0,0,0,0,0,29588.141176470606]
["2018-08-22","2018-08-28",0,29588.141176470606,0,0,0,0,0,0,0,29588.141176470606]
["2018-08-29","2018-09-04",0,0,0,0,0,0,0,0,0,0]
["2018-09-05","2018-09-11",0,0,0,0,0,0,0,0,0,0]
["2018-09-12","2018-09-18",0,0,0,0,0,0,0,0,0,0]
["2018-09-19","2018-09-25",0,0,0,0,0,0,0,0,0,0]
["2018-09-26","2018-10-02",0,53603.423529411768,0,0,0,0,0,0,0,53603.423529411768]
["2018-10-03","2018-10-09",0,35034.282352941176,0,0,0,0,0,0,0,35034.282352941176]
["2018-10-10","2018-10-16",0,34486.01176470588,0,0,0,0,0,0,0,34486.01176470588]
["2018-10-17","2018-10-23",0,34486.01176470588,0,0,0,0,0,0,0,34486.01176470588]
["2018-10-24","2018-10-30",0,34486.01176470588,0,0,0,0,0,0,0,34486.01176470588]
["รวม (ลบ.ม.)",null,85812032.423529387,2934440.4470588239,10777.258823529412,482413.32282352942,0,57955.388235294115,0,0,0,89297618.840470612]

{"sheet":"R25","index":52,"n_rows":61,"n_cols":13,"rows_kept":61,"cut":false,"hidden":false,"merged":[]}
["ปี พ.ศ.",2560,"ฤดูแล้ง","60/61","ฤดูฝน","61",null,null,null,null,"โครงการชลประทานคลองเพรียว-เสาไห้ ฤดูแล้ง60/61 ฤดูฝน61"]
["โครงการชลประทาน","คลองเพรียว-เสาไห้"]
["จังหวัด","สระบุรี"]
["รั่วซึม มม./สัปดาห์",7]
["น้ำเตรียมแปลงฤดูแล้ง มม./สัปดาห์",null,0,30,20,30,30,null,null,20,null,"รวมฤดูแล้ง (ลบ.ม.)",67445097.920000002]
["น้ำเตรียมแปลงฤดูฝน มม./สัปดาห์",null,100,15,10,100,15,null,null,10,null,"รวมฤดูฝน (ลบ.ม.)",19016817.529999994]
["ประสิทธิ์ภาพโครงการ (%)",100,"ข้าว กข.(นาดำ)","อ้อย","กะหล่ำดอก","มะม่วง","มะม่วง",null,null,"ไม้ดอก (บานชื่น)",null,"รวมทั้งปี (ลบ.ม.)",86461915.449999988]
["เริ่มต้น","สิ้นสุด","ข้าว","อ้อย","พืชผัก","ไม้ผล","ไม้ยืนต้น","บ่อปลา","บ่อกุ้ง","อื่นๆ","อุปโภค-บริโภค อุตสาหกรรม รักษาระบบนิเวศน์ และอื่น ๆ ","รวม (ลบ.ม.)"]
["2017-11-01","2017-11-07",0,0,0,0,0,0,0,0,0,0]
["2017-11-08","2017-11-14",0,0,0,0,0,0,0,0,0,0]
["2017-11-15","2017-11-21",0,0,0,0,0,0,0,0,0,0]
["2017-11-22","2017-11-28",0,0,0,0,0,0,0,0,0,0]
["2017-11-29","2017-12-05",0,0,0,0,0,0,0,0,0,0]
["2017-12-06","2017-12-12",0,0,0,0,0,0,0,0,0,0]
["2017-12-13","2017-12-19",0,0,0,0,0,0,0,0,0,0]
["2017-12-20","2017-12-26",0,0,0,0,0,0,0,0,0,0]
["2017-12-27","2018-01-02",0,0,0,0,0,0,0,0,0,0]
["2018-01-03","2018-01-09",1012829.25,0,0,0,0,0,0,0,0,1012829.25]
["2018-01-10","2018-01-16",1416405.5,0,0,0,0,0,0,0,0,1416405.5]
["2018-01-17","2018-01-23",1468532.57,0,0,0,0,0,0,0,0,1468532.57]
["2018-01-24","2018-01-30",3033504.62,0,0,0,0,0,0,0,0,3033504.62]
["2018-01-31","2018-02-06",3456557.59,0,0,0,0,0,0,0,0,3456557.59]
["2018-02-07","2018-02-13",5180430.05,0,0,0,0,0,0,0,0,5180430.05]
["2018-02-14","2018-02-20",5535491.6600000001,0,0,0,0,0,0,0,0,5535491.6600000001]
["2018-02-21","2018-02-27",5750190.8300000001,0,0,0,0,0,0,0,0,5750190.8300000001]
["2018-02-28","2018-03-06",6451913.8799999999,0,0,0,0,0,0,0,0,6451913.8799999999]
["2018-03-07","2018-03-13",6573447.0199999996,0,0,0,0,0,0,0,0,6573447.0199999996]
["2018-03-14","2018-03-20",6521447.5100000016,0,0,0,0,0,0,0,0,6521447.5100000016]
["2018-03-21","2018-03-27",6171910.4300000016,0,0,0,0,0,0,0,0,6171910.4300000016]
["2018-03-28","2018-04-03",4985112.6900000004,0,0,0,0,0,0,0,0,4985112.6900000004]
["2018-04-04","2018-04-10",3983100.72,0,0,0,0,0,0,0,0,3983100.72]
["2018-04-11","2018-04-17",3134116.6800000006,0,0,0,0,0,0,0,0,3134116.6800000006]
["2018-04-18","2018-04-24",2770106.92,0,0,0,0,0,0,0,0,2770106.92]
["2018-04-25","2018-05-01",0,0,0,0,0,0,0,0,0,0]
["2018-05-02","2018-05-08",0,0,0,0,0,0,0,0,0,0]
["2018-05-09","2018-05-15",0,0,0,0,0,0,0,0,0,0]
["2018-05-16","2018-05-22",0,0,0,0,0,0,0,0,0,0]
["2018-05-23","2018-05-29",0,0,0,0,0,0,0,0,0,0]
["2018-05-30","2018-06-05",0,0,0,0,0,0,0,0,0,0]
["2018-06-06","2018-06-12",881846.76,0,0,0,0,0,0,0,0,881846.76]
["2018-06-13","2018-06-19",647645.03,0,0,0,0,0,0,0,0,647645.03]
["2018-06-20","2018-06-26",621131.79999999981,0,0,0,0,0,0,0,0,621131.79999999981]
["2018-06-27","2018-07-03",543168.36999999988,0,0,0,0,0,0,0,0,543168.36999999988]
["2018-07-04","2018-07-10",1098427.1999999997,0,0,0,0,0,0,0,0,1098427.1999999997]
["2018-07-11","2018-07-17",0,0,0,0,0,0,0,0,0,0]
["2018-07-18","2018-07-24",3259449.6900000004,0,0,0,0,0,0,0,0,3259449.6900000004]
["2018-07-25","2018-07-31",10742847.300000001,0,0,0,0,0,0,0,0,10742847.300000001]
["2018-08-01","2018-08-07",0,0,0,0,0,0,0,0,0,0]
["2018-08-08","2018-08-14",0,0,0,0,0,0,0,0,0,0]
["2018-08-15","2018-08-21",0,0,0,0,0,0,0,0,0,0]
["2018-08-22","2018-08-28",0,0,0,0,0,0,0,0,0,0]
["2018-08-29","2018-09-04",0,0,0,0,0,0,0,0,0,0]
["2018-09-05","2018-09-11",0,0,0,0,0,0,0,0,0,0]
["2018-09-12","2018-09-18",0,0,0,0,0,0,0,0,0,0]
["2018-09-19","2018-09-25",0,0,0,0,0,0,0,0,0,0]
["2018-09-26","2018-10-02",893105.08,0,0,0,0,0,0,0,0,893105.08]
["2018-10-03","2018-10-09",329196.29999999888,0,0,0,0,0,0,0,0,329196.29999999888]
["2018-10-10","2018-10-16",0,0,0,0,0,0,0,0,0,0]
["2018-10-17","2018-10-23",0,0,0,0,0,0,0,0,0,0]
["2018-10-24","2018-10-30",0,0,0,0,0,0,0,0,0,0]
["รวม (ลบ.ม.)",null,86461915.450000003,0,0,0,0,0,0,0,0,86461915.450000003]

{"sheet":"R26","index":53,"n_rows":61,"n_cols":13,"rows_kept":61,"cut":false,"hidden":false,"merged":[]}
["ปี พ.ศ.",2560,"ฤดูแล้ง","60/61","ฤดูฝน","61",null,null,null,null,"โครงการชลประทานเขื่อนป่าสักชลสิทธิ์ ฤดูแล้ง60/61 ฤดูฝน61"]
["โครงการชลประทาน","เขื่อนป่าสักชลสิทธิ์"]
["จังหวัด","สระบุรี"]
["รั่วซึม มม./สัปดาห์",7]
["น้ำเตรียมแปลงฤดูแล้ง มม./สัปดาห์",null,0,30,20,30,30,null,null,20,null,"รวมฤดูแล้ง (ลบ.ม.)",55276671.696000002]
["น้ำเตรียมแปลงฤดูฝน มม./สัปดาห์",null,100,15,10,100,15,null,null,10,null,"รวมฤดูฝน (ลบ.ม.)",20289984.917300005]
["ประสิทธิ์ภาพโครงการ (%)",100,"ข้าว กข.(นาดำ)","อ้อย","กะหล่ำดอก","มะม่วง","มะม่วง",null,null,"ไม้ดอก (บานชื่น)",null,"รวมทั้งปี (ลบ.ม.)",75566656.613300011]
["เริ่มต้น","สิ้นสุด","ข้าว","อ้อย","พืชผัก","ไม้ผล","ไม้ยืนต้น","บ่อปลา","บ่อกุ้ง","อื่นๆ","อุปโภค-บริโภค อุตสาหกรรม รักษาระบบนิเวศน์ และอื่น ๆ ","รวม (ลบ.ม.)"]
["2017-11-01","2017-11-07",0,1032179.71,0,300521.10000000003,437706.342,95486.687999999995,0,2799.51,0,1868693.35]
["2017-11-08","2017-11-14",0,387107.71000000008,0,163721.1,238458.34200000003,95486.687999999995,0,1495.15,0,886268.99000000011]
["2017-11-15","2017-11-21",0,387107.71000000008,0,163721.1,238458.34200000003,95486.687999999995,0,1971.5700000000004,0,886745.41]
["2017-11-22","2017-11-28",0,387107.71000000008,0,163721.1,238458.34200000003,95486.687999999995,0,2372.7599999999998,0,887146.60000000009]
["2017-11-29","2017-12-05",0,606720.31999999995,0,191443.62,278835.94919999997,112593.88799999999,0,3139.6,0,1192733.3772]
["2017-12-06","2017-12-12",0,606720.31999999995,0,211277.34000000003,307723.59040000004,127220.54400000002,0,3412.56,0,1256354.3544000001]
["2017-12-13","2017-12-19",0,606720.31999999995,0,211277.34000000003,307723.59040000004,127220.54400000002,0,3635.89,0,1256577.6843999999]
["2017-12-20","2017-12-26",0,606720.31999999995,0,211277.34000000003,307723.59040000004,127220.54400000002,0,3784.78,0,1256726.5744]
["2017-12-27","2018-01-02",0,614865.42000000004,0,211277.34000000003,307723.59040000004,127220.54400000002,0,3923.7299999999996,0,1265010.6244000001]
["2018-01-03","2018-01-09",317468.16000000003,767670.08,0,216957.96,315997.36959999998,125666.64,0,0,0,1743760.2095999999]
["2018-01-10","2018-01-16",327575.03999999998,767670.08,0,216957.96,315997.36959999998,125666.64,0,0,0,1753867.0895999998]
["2018-01-17","2018-01-23",340208.64000000001,767670.08,0,216957.96,315997.36959999998,125666.64,0,0,0,1766500.6895999999]
["2018-01-24","2018-01-30",383162.88,767670.08,0,216957.96,315997.36959999998,125666.64,0,0,0,1809454.9295999997]
["2018-01-31","2018-02-06",420011.52000000002,940600.99,0,198204.96,288683.78959999996,125666.64,0,0,0,1973167.8995999999]
["2018-02-07","2018-02-13",1183278.0800000001,940600.99,0,209814.72,305593.29720000003,125410.03200000001,0,0,0,2764697.1192000005]
["2018-02-14","2018-02-20",1251422.0799999998,940600.99,94093.82,209814.72,303679.19999999995,96555.872000000018,0,0,0,2896166.6819999996]
["2018-02-21","2018-02-27",1280452.48,940600.99,77521.66,209814.72,303679.19999999995,96555.872000000018,0,0,0,2908624.9219999998]
["2018-02-28","2018-03-06",1472319.0399999998,1178279.9099999999,88788.13,210676.56000000003,304926.59999999998,96555.872000000018,0,0,0,3351546.1119999997]
["2018-03-07","2018-03-13",1630799.84,1178279.9099999999,91143.71,230232.69,333231.52500000002,101637.75999999999,0,0,0,3565325.4349999996]
["2018-03-14","2018-03-20",1654623.36,1178279.9099999999,92321.5,230232.69,333231.52500000002,101637.75999999999,0,0,0,3590326.7449999996]
["2018-03-21","2018-03-27",1606173.28,1178279.9099999999,74654.62,230232.69,333231.52500000002,101637.75999999999,0,0,0,3524209.7849999997]
["2018-03-28","2018-04-03",1368563.6800000004,1135386.9300000002,68476.5,230232.69,333231.52500000002,101637.75999999999,0,0,0,3237529.085]
["2018-04-04","2018-04-10",1115311.04,928531.69,0,241186.95,349086.37499999994,93372.832000000009,0,0,0,2727488.8870000001]
["2018-04-11","2018-04-17",1057732.96,928531.69,0,241186.95,349086.37499999994,93372.832000000009,0,0,0,2669910.807]
["2018-04-18","2018-04-24",973361.12000000011,928531.69,0,241186.95,349086.37499999994,93372.832000000009,0,0,0,2585538.9670000002]
["2018-04-25","2018-05-01",40121.520000000019,928531.69,0,241186.95,349086.37499999994,93372.832000000009,0,0,0,1652299.3669999999]
["2018-05-02","2018-05-08",0,561513.68000000005,0,117439.95000000001,169978.875,54836.096000000012,0,0,0,903768.60100000014]
["2018-05-09","2018-05-15",32519.51999999999,561513.68000000005,0,117439.95000000001,169978.875,54836.096000000012,0,0,0,936288.12100000016]
["2018-05-16","2018-05-22",24726.720000000001,561513.68000000005,0,117439.95000000001,169978.875,54836.096000000012,0,0,0,928495.32100000011]
["2018-05-23","2018-05-29",0,561513.68000000005,0,117439.95000000001,169978.875,54836.096000000012,0,0,0,903768.60100000014]
["2018-05-30","2018-06-05",0,260645.64000000007,0,100221.10500000003,145056.86250000002,68007.296000000017,0,0,0,573930.90350000013]
["2018-06-06","2018-06-12",1261595.67,260645.64000000007,0,70064.684999999983,101409.41249999998,55988.575999999994,0,0,0,1749703.9835000001]
["2018-06-13","2018-06-19",146992.80999999994,260645.64000000007,78410.530000000013,13029.572999999997,18143.061799999999,244.84800000000004,0,0,0,517466.46280000004]
["2018-06-20","2018-06-26",0,260645.64000000007,144769.22999999998,57305.873999999982,71710.133599999972,1224.24,0,0,0,535655.1176]
["2018-06-27","2018-07-03",0,280195.62,274505.20999999996,69398.810999999987,89780.609299999982,1224.24,0,0,0,715104.49029999995]
["2018-07-04","2018-07-10",0,118089.03000000004,349041.63,81886.883999999991,105998.0543,5090.5440000000017,0,0,0,660106.14229999995]
["2018-07-11","2018-07-17",5972196.120000001,118089.03000000004,453643.66,95518.605000000025,123647.5377,6639.8400000000011,0,0,0,6769734.792700002]
["2018-07-18","2018-07-24",1532424.42,120440.40999999997,488879.54,68158.60500000001,121448.4143,65734.416000000012,0,0,0,2397085.8052999997]
["2018-07-25","2018-07-31",0,118760.40999999997,475025.37000000017,68158.60500000001,99272.414300000004,65734.416000000012,0,0,0,826951.21530000004]
["2018-08-01","2018-08-07",0,0,145372.15999999997,0,0,56168.640000000007,0,0,0,201540.8]
["2018-08-08","2018-08-14",0,0,111833.09000000003,0,0,56168.640000000007,0,0,0,168001.73000000004]
["2018-08-15","2018-08-21",0,0,60023.969999999972,0,0,56168.640000000007,0,0,0,116192.60999999999]
["2018-08-22","2018-08-28",0,0,28815.01999999999,0,0,56168.640000000007,0,0,0,84983.66]
["2018-08-29","2018-09-04",0,0,9871.9300000000076,0,0,56168.640000000007,0,0,0,66040.570000000007]
["2018-09-05","2018-09-11",0,0,0,0,0,33045.408000000003,0,0,0,33045.408000000003]
["2018-09-12","2018-09-18",0,0,0,0,0,33045.408000000003,0,0,0,33045.408000000003]
["2018-09-19","2018-09-25",0,0,0,0,0,33045.408000000003,0,111,0,33156.408000000003]
["2018-09-26","2018-10-02",0,79722.719999999972,0,0,0,33045.408000000003,0,973.42,0,113741.54799999997]
["2018-10-03","2018-10-09",0,74228.859999999986,0,44837.625,65305.609499999999,69996.960000000006,0,1080.1199999999999,0,255449.17449999996]
["2018-10-10","2018-10-16",0,74228.859999999986,0,44837.625,65305.609499999999,69996.960000000006,0,1151.25,0,255520.30449999997]
["2018-10-17","2018-10-23",0,74858.410000000033,0,44837.625,65305.609499999999,69996.960000000006,0,1210.53,0,256209.13450000001]
["2018-10-24","2018-10-30",0,74858.410000000033,0,44837.625,65305.609499999999,69996.960000000006,0,0,0,254998.60450000002]
["รวม (ลบ.ม.)",null,25393039.980000004,26053076.190000009,3207191.2800000003,6892926.5070000039,9980239.2823000029,4009121.5039999988,0,31061.869999999995,0,75566656.613300011]

{"sheet":"R27","index":54,"n_rows":61,"n_cols":13,"rows_kept":61,"cut":false,"hidden":false,"merged":[]}
["ปี พ.ศ.",2560,"ฤดูแล้ง","60/61","ฤดูฝน","61",null,null,null,null,"โครงการชลประทานรังสิตเหนือ ฤดูแล้ง60/61 ฤดูฝน61"]
["โครงการชลประทาน","รังสิตเหนือ"]
["จังหวัด","พระนครศรีอยุธยา"]
["รั่วซึม มม./สัปดาห์",7]
["น้ำเตรียมแปลงฤดูแล้ง มม./สัปดาห์",null,0,30,20,30,30,null,null,20,null,"รวมฤดูแล้ง (ลบ.ม.)",238631502.12459996]
["น้ำเตรียมแปลงฤดูฝน มม./สัปดาห์",null,100,15,10,100,15,null,null,10,null,"รวมฤดูฝน (ลบ.ม.)",64260822.367200017]
["ประสิทธิ์ภาพโครงการ (%)",100,"ข้าว กข.(นาดำ)","อ้อย","กะหล่ำดอก","มะม่วง","มะม่วง",null,null,"ไม้ดอก (บานชื่น)",null,"รวมทั้งปี (ลบ.ม.)",302892324.49179995]
["เริ่มต้น","สิ้นสุด","ข้าว","อ้อย","พืชผัก","ไม้ผล","ไม้ยืนต้น","บ่อปลา","บ่อกุ้ง","อื่นๆ","อุปโภค-บริโภค อุตสาหกรรม รักษาระบบนิเวศน์ และอื่น ๆ ","รวม (ลบ.ม.)"]
["2017-11-01","2017-11-07",484164.93999999994,0,0,5445033.3279999997,2045119.8940000003,295436.65599999996,0,0,0,8269754.818]
["2017-11-08","2017-11-14",504293.14,0,86156.15,2887929.3280000002,1135792.8940000001,295333.24800000002,0,0,0,4909504.76]
["2017-11-15","2017-11-21",529453.38,0,65261.23,2887929.3280000002,1111792.8940000001,295333.24800000002,0,0,0,4889770.08]
["2017-11-22","2017-11-28",614998.18999999994,0,68525.45,2887929.3280000002,1111792.8940000001,295333.24800000002,0,0,0,4978579.1100000003]
["2017-11-29","2017-12-05",787336.8,0,77065.030000000013,3368537.0248000002,1296816.8884000001,350168.44800000003,0,0,0,5879924.1912000002]
["2017-12-06","2017-12-12",2209809.09,0,77976.820000000007,3671042.43,1413275.19,381652.99200000009,0,0,0,7753756.5219999999]
["2017-12-13","2017-12-19",3119091,0,64299.94,3671042.43,1413275.19,381652.99200000009,0,0,0,8649361.5520000011]
["2017-12-20","2017-12-26",3191635.3,0,63388.150000000009,3671042.43,1413275.19,381652.99200000009,0,0,0,8720994.0620000008]
["2017-12-27","2018-01-02",3374798.3399999994,0,0,3671042.43,1413275.19,381652.99200000009,0,0,0,8840768.9519999996]
["2018-01-03","2018-01-09",3547091.4,0,0,3744212.8934999998,1441444.3055,379185.40800000005,0,0,0,9111934.0069999993]
["2018-01-10","2018-01-16",5306458.91,0,0,3744212.8934999998,1441444.3055,379185.40800000005,0,0,0,10871301.517000001]
["2018-01-17","2018-01-23",5770942.3600000003,0,0,4501227.2935000006,1441444.3055,379185.40800000005,0,0,0,12092799.367000002]
["2018-01-24","2018-01-30",5823743.5499999998,0,0,4194027.2935000001,1441444.3055,379185.40800000005,0,0,0,11838400.557]
["2018-01-31","2018-02-06",5998359.7000000011,0,0,3833751.5559999999,1317621.2180000001,379185.40800000005,0,0,0,11528917.882000001]
["2018-02-07","2018-02-13",6060595.8899999997,0,0,4296193.4387999997,1476557.7604000003,392620.03199999995,0,0,0,12225967.121200001]
["2018-02-14","2018-02-20",6002517.3099999996,0,0,4296193.4387999997,1476557.7604000003,392620.03199999995,0,0,0,12167888.541199999]
["2018-02-21","2018-02-27",5646139.8700000001,0,0,4296193.4387999997,1476557.7604000003,392620.03199999995,0,0,0,11811511.101200001]
["2018-02-28","2018-03-06",5978231.1200000001,0,0,4313361.3608999997,1482458.1997000002,392620.03199999995,0,0,0,12166670.7126]
["2018-03-07","2018-03-13",4369507.3499999996,0,0,4935249.4977000002,1696194.7941000003,415879.29600000009,0,0,0,11416830.937799999]
["2018-03-14","2018-03-20",3335809.41,0,0,4935249.4977000002,1696194.7941000003,415879.29600000009,0,0,0,10383132.9978]
["2018-03-21","2018-03-27",3092287.6100000008,0,0,4935249.4977000002,1696194.7941000003,415879.29600000009,0,0,0,10139611.197800001]
["2018-03-28","2018-04-03",1985009.2600000002,0,0,4935249.4977000002,1696194.7941000003,415879.29600000009,0,0,0,9032332.8477999996]
["2018-04-04","2018-04-10",1681500.58,0,0,5084796.004999999,1747592.395,398240.64000000007,0,0,0,8912129.6199999992]
["2018-04-11","2018-04-17",347772.54999999993,0,0,5084796.004999999,1747592.395,398240.64000000007,0,0,0,7578401.5899999989]
["2018-04-18","2018-04-24",0,0,0,5084796.004999999,1747592.395,398240.64000000007,0,0,0,7230629.0399999982]
["2018-04-25","2018-05-01",0,0,0,5084796.004999999,1747592.395,398240.64000000007,0,0,0,7230629.0399999982]
["2018-05-02","2018-05-08",0,0,0,2706051.2040000008,930042.13200000022,238076.16000000003,0,0,0,3874169.4960000012]
["2018-05-09","2018-05-15",1293858.5599999998,0,45463.12000000001,2706051.2040000008,930042.13200000022,238159.52,0,0,0,5213574.5360000003]
["2018-05-16","2018-05-22",75792.489999999991,0,46404.820000000007,2415824.0040000007,930042.13200000022,238159.52,0,0,0,3706222.9660000009]
["2018-05-23","2018-05-29",94609.900000000023,0,49354.760000000009,2415824.0040000007,930042.13200000022,238159.52,0,0,0,3727990.316000001]
["2018-05-30","2018-06-05",108510.85999999999,0,45341.460000000006,2074386.6924000003,798595.84920000006,293013.92,0,0,0,3319848.7816000003]
["2018-06-06","2018-06-12",139507.79000000004,0,46112.78,1813929.6640999997,698325.29529999988,275186.24000000005,0,0,0,2973061.7693999996]
["2018-06-13","2018-06-19",7018805.6900000013,0,34543.06,1813929.6640999997,647250.74530000007,275186.24000000005,0,0,0,9789715.3994000014]
["2018-06-20","2018-06-26",1725736.5500000003,0,33771.74,1813929.6640999997,647250.74530000007,275186.24000000005,0,0,0,4495874.9394000005]
["2018-06-27","2018-07-03",221761.58000000007,0,0,1813929.6640999997,647250.74530000007,275186.24000000005,0,0,0,2958128.2294000001]
["2018-07-04","2018-07-10",5089875.9600000018,0,0,1382556.8819000004,493327.27270000009,254707.26400000002,0,0,0,7220467.3786000032]
["2018-07-11","2018-07-17",729437.47000000055,0,0,1382556.8819000004,493327.27270000009,254707.26400000002,0,0,0,2860028.8886000011]
["2018-07-18","2018-07-24",916936.29,0,0,1382556.8819000004,493327.27270000009,254707.26400000002,0,0,0,3047527.7086000005]
["2018-07-25","2018-07-31",1150588.42,0,0,1382556.8819000004,493327.27270000009,254707.26400000002,0,0,0,3281179.8386000004]
["2018-08-01","2018-08-07",292312.04999999981,0,0,73026.630399999907,26057.533200000064,241313.64800000004,0,0,0,632709.86159999983]
["2018-08-08","2018-08-14",394118.97999999957,0,0,73026.630399999907,26057.533200000064,241313.64800000004,0,0,0,734516.79159999965]
["2018-08-15","2018-08-21",303429.43999999948,0,0,73026.630399999907,26057.533200000064,241313.64800000004,0,0,0,643827.25159999949]
["2018-08-22","2018-08-28",84397.829999999143,0,0,73026.630399999907,26057.533200000064,241313.64800000004,0,0,0,424795.64159999916]
["2018-08-29","2018-09-04",0,0,0,35884.694799999939,12804.458400000003,241313.64800000004,0,0,0,290002.80119999999]
["2018-09-05","2018-09-11",0,0,0,0,0,125570.86400000005,0,0,0,125570.86400000005]
["2018-09-12","2018-09-18",0,0,0,0,0,125570.86400000005,0,0,0,125570.86400000005]
["2018-09-19","2018-09-25",0,0,0,0,0,125570.86400000005,0,0,0,125570.86400000005]
["2018-09-26","2018-10-02",0,0,0,0,0,125570.86400000005,0,0,0,125570.86400000005]
["2018-10-03","2018-10-09",0,0,0,683732.32050000015,243971.00650000005,213520.75199999998,0,0,0,1141224.0790000001]
["2018-10-10","2018-10-16",0,0,0,683732.32050000015,243971.00650000005,213520.75199999998,0,0,0,1141224.0790000001]
["2018-10-17","2018-10-23",0,0,0,683732.32050000015,243971.00650000005,213520.75199999998,0,0,0,1141224.0790000001]
["2018-10-24","2018-10-30",0,0,0,683732.32050000015,243971.00650000005,213520.75199999998,0,0,0,1141224.0790000001]
["รวม (ลบ.ม.)",null,99401226.910000011,0,803664.51000000024,137628087.46569997,49350164.518100023,15709181.088000003,0,0,0,302892324.49180001]

{"sheet":"R28","index":55,"n_rows":61,"n_cols":13,"rows_kept":61,"cut":false,"hidden":false,"merged":[]}
["ปี พ.ศ.",2560,"ฤดูแล้ง","60/61","ฤดูฝน","61",null,null,null,null,"โครงการชลประทานรังสิตใต้ ฤดูแล้ง60/61 ฤดูฝน61"]
["โครงการชลประทาน","รังสิตใต้"]
["จังหวัด","พระนครศรีอยุธยา"]
["รั่วซึม มม./สัปดาห์",7]
["น้ำเตรียมแปลงฤดูแล้ง มม./สัปดาห์",null,0,30,20,30,30,null,null,20,null,"รวมฤดูแล้ง (ลบ.ม.)",370410458.81189996]
["น้ำเตรียมแปลงฤดูฝน มม./สัปดาห์",null,100,15,10,100,15,null,null,10,null,"รวมฤดูฝน (ลบ.ม.)",146881553.21090004]
["ประสิทธิ์ภาพโครงการ (%)",100,"ข้าว กข.(นาดำ)","อ้อย","กะหล่ำดอก","มะม่วง","มะม่วง",null,null,"ไม้ดอก (บานชื่น)",null,"รวมทั้งปี (ลบ.ม.)",517292012.02279997]
["เริ่มต้น","สิ้นสุด","ข้าว","อ้อย","พืชผัก","ไม้ผล","ไม้ยืนต้น","บ่อปลา","บ่อกุ้ง","อื่นๆ","อุปโภค-บริโภค อุตสาหกรรม รักษาระบบนิเวศน์ และอื่น ๆ ","รวม (ลบ.ม.)"]
["2017-11-01","2017-11-07",15539969.630000001,0,0,1140970.2280000001,0,1124355.1840000001,16028.24,192122.25,0,18013445.531999998]
["2017-11-08","2017-11-14",16281704.239999995,0,0,605146.228,0,1124355.1840000001,16028.24,99383.56,0,18126617.451999992]
["2017-11-15","2017-11-21",17254605.699999999,0,0,605146.228,0,1124355.1840000001,16028.24,129864.13,0,19129999.481999997]
["2017-11-22","2017-11-28",18280572.380000003,0,0,605146.228,0,1124355.1840000001,16028.24,155531.99000000002,0,20181634.022]
["2017-11-29","2017-12-05",21656893.039999999,0,0,705854.34880000015,0,1333116.784,19004.240000000002,202386.58,0,23917254.992799994]
["2017-12-06","2017-12-12",21341398.970000006,0,0,769242.33,0,1452980.7360000003,20712.960000000006,219638.90000000002,0,23803973.896000005]
["2017-12-13","2017-12-19",20491942.120000001,0,0,769242.33,0,1452980.7360000003,20712.960000000006,233754.42,0,22968632.566000003]
["2017-12-20","2017-12-26",19146716.849999998,0,0,769242.33,0,1452980.7360000003,20712.960000000006,243164.78000000003,0,21632817.655999999]
["2017-12-27","2018-01-02",17180066.16,0,0,769242.33,0,1452980.7360000003,20712.960000000006,250091.3,0,19673093.486000001]
["2018-01-03","2018-01-09",16268976.139999997,0,0,784574.70849999995,0,1443586.4640000002,20579.040000000005,0,0,18517716.352499999]
["2018-01-10","2018-01-16",13759384.300000001,0,0,784574.70849999995,0,1443586.4640000002,20579.040000000005,0,0,16008124.512499999]
["2018-01-17","2018-01-23",12291934.83,0,0,784574.70849999995,0,1443586.4640000002,20579.040000000005,0,0,14540675.042499999]
["2018-01-24","2018-01-30",7004395.9000000004,0,0,784574.70849999995,0,1443586.4640000002,20579.040000000005,0,0,9253136.1124999989]
["2018-01-31","2018-02-06",6569397.5099999998,0,0,717178.09600000014,0,1443586.4640000002,20579.040000000005,0,0,8750741.1099999994]
["2018-02-07","2018-02-13",6785965.8699999992,0,0,803686.88280000002,0,1494733.0559999999,21308.16,0,0,9105693.968799999]
["2018-02-14","2018-02-20",7540503.1399999997,0,0,803686.88280000002,0,1494733.0559999999,21308.16,0,0,9860231.2388000004]
["2018-02-21","2018-02-27",7180118.6999999993,0,0,803686.88280000002,0,1494733.0559999999,21308.16,0,0,9499846.7987999991]
["2018-02-28","2018-03-06",8824739.9299999997,0,0,806898.47790000006,0,1494733.0559999999,21308.16,0,0,11147679.6239]
["2018-03-07","2018-03-13",9185321.8599999994,0,0,923234.79870000016,0,1583282.7680000002,22570.480000000003,0,0,11714409.9067]
["2018-03-14","2018-03-20",9240343.5900000017,0,0,923234.79870000016,0,1583282.7680000002,22570.480000000003,0,0,11769431.636700001]
["2018-03-21","2018-03-27",9122938.589999998,0,0,923234.79870000016,0,1583282.7680000002,22570.480000000003,0,0,11652026.636699997]
["2018-03-28","2018-04-03",7761399.3000000007,0,0,923234.79870000016,0,1583282.7680000002,22570.480000000003,0,0,10290487.346700002]
["2018-04-04","2018-04-10",7110245.4400000004,0,0,951210.39500000002,0,1516131.12,21613.200000000001,0,0,9599200.1550000012]
["2018-04-11","2018-04-17",6438664.0099999998,0,0,951210.39500000002,0,1516131.12,21613.200000000001,0,0,8927618.7249999978]
["2018-04-18","2018-04-24",6034018.3600000003,0,0,951210.39500000002,0,1516131.12,21613.200000000001,0,0,8522973.0749999993]
["2018-04-25","2018-05-01",1314042.7700000005,0,0,951210.39500000002,0,1516131.12,21613.200000000001,0,0,3802997.4850000008]
["2018-05-02","2018-05-08",773789.45000000019,0,0,506219.72400000016,0,906373.28000000014,12920.8,0,0,2199303.2540000002]
["2018-05-09","2018-05-15",450247.91999999993,0,0,506219.72400000016,0,906373.28000000014,12920.8,0,0,1875761.7240000002]
["2018-05-16","2018-05-22",143402.76999999979,0,0,506219.72400000016,0,906373.28000000014,12920.8,0,0,1568916.5740000003]
["2018-05-23","2018-05-29",9183.8899999998976,0,0,506219.72400000016,0,906373.28000000014,12920.8,0,0,1434697.6940000004]
["2018-05-30","2018-06-05",49314804.49000001,0,0,434673.82439999998,0,1115134.8799999999,15896.8,0,0,50880509.99440001]
["2018-06-06","2018-06-12",2922899.870000001,0,0,380096.79709999991,0,1047287.3600000001,14929.600000000004,0,0,4365213.6271000011]
["2018-06-13","2018-06-19",3815091.9899999984,0,0,380096.79709999991,0,1047287.3600000001,14929.600000000004,0,0,5257405.7470999984]
["2018-06-20","2018-06-26",6678809.6700000027,0,0,380096.79709999991,0,1047287.3600000001,14929.600000000004,0,0,8121123.4271000028]
["2018-06-27","2018-07-03",5784775.7299999967,0,0,380096.79709999991,0,1047287.3600000001,14929.600000000004,0,0,7227089.4870999968]
["2018-07-04","2018-07-10",7866529.6100000003,0,0,289705.52890000009,0,969349.696,13818.560000000003,0,0,9139403.3949000016]
["2018-07-11","2018-07-17",6379791.3999999985,0,0,196718.43400000001,0,534020.48,0,0,0,7110530.3139999993]
["2018-07-18","2018-07-24",6071630.3400000036,0,0,196718.43400000001,0,534020.48,0,0,0,6802369.2540000044]
["2018-07-25","2018-07-31",5502062.379999999,0,0,196718.43400000001,0,534020.48,0,0,0,6232801.2939999998]
["2018-08-01","2018-08-07",729238.25,0,0,10390.66399999999,0,505939.3600000001,0,0,0,1245568.2740000002]
["2018-08-08","2018-08-14",0,0,0,10390.66399999999,0,505939.3600000001,0,0,0,516330.02400000009]
["2018-08-15","2018-08-21",0,0,0,10390.66399999999,0,505939.3600000001,0,0,0,516330.02400000009]
["2018-08-22","2018-08-28",0,0,0,187286.24239999996,0,918377.07200000016,13091.920000000002,4970.210000000021,0,1123725.4443999999]
["2018-08-29","2018-09-04",0,0,0,7519.3988000000245,0,918377.07200000016,13091.920000000002,0,0,938988.39080000028]
["2018-09-05","2018-09-11",0,0,0,0,0,477890.09600000014,6812.5600000000022,0,0,484702.65600000013]
["2018-09-12","2018-09-18",0,0,0,0,0,477890.09600000014,6812.5600000000022,0,0,484702.65600000013]
["2018-09-19","2018-09-25",0,0,0,0,0,477890.09600000014,6812.5600000000022,14982.940000000033,0,499685.59600000019]
["2018-09-26","2018-10-02",2315154.66,0,0,0,0,477890.09600000014,6812.5600000000022,118794.5,0,2918651.8160000001]
["2018-10-03","2018-10-09",4164058.3100000005,0,0,143271.52550000005,0,812604.52800000017,11584.080000000002,132708.37,0,5264226.8135000011]
["2018-10-10","2018-10-16",0,0,0,143271.52550000005,0,812604.52800000017,11584.080000000002,141984.29,0,1109444.4235]
["2018-10-17","2018-10-23",15550292.790000003,0,0,143271.52550000005,0,812604.52800000017,11584.080000000002,149714.22,0,16667467.143500004]
["2018-10-24","2018-10-30",1929144.0300000012,0,0,143271.52550000005,0,812604.52800000017,11584.080000000002,0,0,2896604.1635000017]
["รวม (ลบ.ม.)",null,430007166.88,0,0,26969313.886800006,0,57254719.855999984,771718.9600000002,2289092.4400000004,0,517292012.02280003]

{"sheet":"R29","index":56,"n_rows":61,"n_cols":13,"rows_kept":61,"cut":false,"hidden":false,"merged":[]}
["ปี พ.ศ.",2560,"ฤดูแล้ง","60/61","ฤดูฝน","61",null,null,null,null,"โครงการชลประทานชลหารพิจิตร ฤดูแล้ง60/61 ฤดูฝน61"]
["โครงการชลประทาน","ชลหารพิจิตร"]
["จังหวัด","สมุทรปราการ"]
["รั่วซึม มม./สัปดาห์",7]
["น้ำเตรียมแปลงฤดูแล้ง มม./สัปดาห์",null,0,30,20,30,30,null,null,20,null,"รวมฤดูแล้ง (ลบ.ม.)",374697820.09000021]
["น้ำเตรียมแปลงฤดูฝน มม./สัปดาห์",null,100,15,10,100,15,null,null,10,null,"รวมฤดูฝน (ลบ.ม.)",226484902.73999995]
["ประสิทธิ์ภาพโครงการ (%)",100,"ข้าว กข.(นาดำ)","อ้อย","กะหล่ำดอก","มะม่วง","มะม่วง",null,null,"ไม้ดอก (บานชื่น)",null,"รวมทั้งปี (ลบ.ม.)",601182722.83000016]
["เริ่มต้น","สิ้นสุด","ข้าว","อ้อย","พืชผัก","ไม้ผล","ไม้ยืนต้น","บ่อปลา","บ่อกุ้ง","อื่นๆ","อุปโภค-บริโภค อุตสาหกรรม รักษาระบบนิเวศน์ และอื่น ๆ ","รวม (ลบ.ม.)"]
["2017-11-01","2017-11-07",0,0,0,0,0,9842343.8400000017,464284.80000000005,54114.879999999997,0,10360743.520000003]
["2017-11-08","2017-11-14",807558.25000000035,0,0,0,0,9842343.8400000017,464284.80000000005,13357.21,0,11127544.100000003]
["2017-11-15","2017-11-21",853177.7100000002,0,0,0,0,9842343.8400000017,464284.80000000005,17815.580000000002,0,11177621.930000003]
["2017-11-22","2017-11-28",910202.04000000027,0,0,0,0,9842343.8400000017,464284.80000000005,21570,0,11238400.680000003]
["2017-11-29","2017-12-05",1580131.9000000004,0,0,0,0,11755335.840000005,554524.80000000016,29010.19,0,13919002.730000006]
["2017-12-06","2017-12-12",1649732.8200000003,0,0,0,0,13293700.240000002,627092.80000000005,30760.429999999997,0,15601286.290000003]
["2017-12-13","2017-12-19",1703866.8800000004,0,0,0,0,13293700.240000002,627092.80000000005,32192.45,0,15656852.370000003]
["2017-12-20","2017-12-26",1742534.06,0,0,0,0,13293700.240000002,627092.80000000005,33147.120000000003,0,15696474.220000003]
["2017-12-27","2018-01-02",1844686.84,0,0,0,0,13293700.240000002,627092.80000000005,38509.43,0,15803989.310000002]
["2018-01-03","2018-01-09",1791255.8300000003,0,531484.92000000004,0,0,13285729.440000003,626716.80000000005,0,0,16235186.990000004]
["2018-01-10","2018-01-16",1720014.47,0,261073.47,0,0,13285729.440000003,626716.80000000005,0,0,15893534.180000003]
["2018-01-17","2018-01-23",1622057.61,0,269851.98000000004,0,0,13285729.440000003,626716.80000000005,0,0,15804355.830000004]
["2018-01-24","2018-01-30",1363807.7000000002,0,274868.28000000003,0,0,13285729.440000003,626716.80000000005,0,0,15551122.220000004]
["2018-01-31","2018-02-06",1488725.58,0,389311.08,0,0,13285729.440000003,626716.80000000005,0,0,15790482.900000004]
["2018-02-07","2018-02-13",0,0,322317.18000000005,0,0,13553548.320000002,639350.40000000014,0,0,14515215.900000002]
["2018-02-14","2018-02-20",0,0,317850.92000000004,0,0,13553548.320000002,639350.40000000014,0,0,14510749.640000002]
["2018-02-21","2018-02-27",0,0,0,0,0,13553548.320000002,639350.40000000014,0,0,14192898.720000003]
["2018-02-28","2018-03-06",0,0,0,0,0,13553548.320000002,639350.40000000014,0,0,14192898.720000003]
["2018-03-07","2018-03-13",0,0,0,0,0,14635982.960000001,690411.2,0,0,15326394.16]
["2018-03-14","2018-03-20",0,0,0,0,0,14635982.960000001,690411.2,0,0,15326394.16]
["2018-03-21","2018-03-27",0,0,0,0,0,14635982.960000001,690411.2,0,0,15326394.16]
["2018-03-28","2018-04-03",0,0,0,0,0,14635982.960000001,690411.2,0,0,15326394.16]
["2018-04-04","2018-04-10",0,0,0,0,0,13398914.800000003,632056.00000000012,0,0,14030970.800000003]
["2018-04-11","2018-04-17",0,0,0,0,0,13398914.800000003,632056.00000000012,0,0,14030970.800000003]
["2018-04-18","2018-04-24",0,0,0,0,0,13398914.800000003,632056.00000000012,0,0,14030970.800000003]
["2018-04-25","2018-05-01",0,0,0,0,0,13398914.800000003,632056.00000000012,0,0,14030970.800000003]
["2018-05-02","2018-05-08",0,0,0,0,0,7135460.1600000001,336595.20000000001,0,0,7472055.3600000003]
["2018-05-09","2018-05-15",7056783.6699999999,0,300813.18,0,0,7135460.1600000001,336595.20000000001,0,0,14829652.209999999]
["2018-05-16","2018-05-22",0,0,291411.99,0,0,7135460.1600000001,336595.20000000001,0,0,7763467.3500000006]
["2018-05-23","2018-05-29",72748.520000000484,0,334278.21999999997,0,0,7135460.1600000001,336595.20000000001,0,0,7879082.1000000006]
["2018-05-30","2018-06-05",1035055.2499999995,0,408222.96,0,0,9048452.1600000001,426835.20000000001,0,0,10918565.569999998]
["2018-06-06","2018-06-12",1133055.9700000007,0,416064.4,0,0,9486846.1600000001,447515.2,0,0,11483481.73]
["2018-06-13","2018-06-19",1236127.4200000004,0,323581.61,0,0,9486846.1600000001,447515.2,0,0,11494070.390000001]
["2018-06-20","2018-06-26",1850817.1799999997,0,317815.84999999998,0,0,9486846.1600000001,447515.2,0,0,12102994.389999999]
["2018-06-27","2018-07-03",1448065.91,0,49501.09,0,0,9486846.1600000001,447515.2,0,0,11431928.359999999]
["2018-07-04","2018-07-10",2529697.1500000004,0,82236.62000000001,0,0,9448586.3199999984,445710.4,0,0,12506230.49]
["2018-07-11","2018-07-17",2649302.8300000015,0,67680.490000000005,0,0,9448586.3199999984,445710.4,0,0,12611280.040000001]
["2018-07-18","2018-07-24",1007837.5400000005,0,71607.069999999992,0,0,9448586.3199999984,445710.4,0,0,10973741.33]
["2018-07-25","2018-07-31",536213,0,73750.899999999994,0,0,9448586.3199999984,445710.4,0,0,10504260.619999999]
["2018-08-01","2018-08-07",0,0,23793.119999999995,0,0,8235430.5599999987,388483.19999999995,0,0,8647706.879999999]
["2018-08-08","2018-08-14",83013.700000000186,0,13433.020000000004,0,0,8235430.5599999987,388483.19999999995,0,0,8720360.4799999986]
["2018-08-15","2018-08-21",105462.01,0,6493.8300000000027,0,0,8235430.5599999987,388483.19999999995,0,0,8735869.5999999978]
["2018-08-22","2018-08-28",115855.61999999989,0,0,0,0,8235430.5599999987,388483.19999999995,0,0,8739769.379999999]
["2018-08-29","2018-09-04",0,0,0,0,0,8235430.5599999987,388483.19999999995,0,0,8623913.7599999979]
["2018-09-05","2018-09-11",0,0,0,0,0,3829172.3199999984,180630.39999999994,0,0,4009802.7199999983]
["2018-09-12","2018-09-18",0,0,0,0,0,3829172.3199999984,180630.39999999994,0,0,4009802.7199999983]
["2018-09-19","2018-09-25",0,0,0,0,0,3829172.3199999984,180630.39999999994,0,0,4009802.7199999983]
["2018-09-26","2018-10-02",0,0,0,0,0,3829172.3199999984,180630.39999999994,10252.559999999998,0,4020055.2799999984]
["2018-10-03","2018-10-09",0,0,0,0,0,5957375.919999999,281022.39999999991,12841.760000000002,0,6251240.0799999982]
["2018-10-10","2018-10-16",0,0,0,0,0,5957375.919999999,281022.39999999991,14567.89,0,6252966.2099999981]
["2018-10-17","2018-10-23",0,0,0,0,0,5957375.919999999,281022.39999999991,16006.330000000002,0,6254404.6499999985]
["2018-10-24","2018-10-30",0,0,0,0,0,5957375.919999999,281022.39999999991,0,0,6238398.3199999984]
["รวม (ลบ.ม.)",null,39937787.460000008,0,5147442.18,0,0,530737312.16000026,25036035.199999969,324145.83,0,601182722.8300004]

{"sheet":"R30","index":57,"n_rows":61,"n_cols":13,"rows_kept":61,"cut":false,"hidden":false,"merged":[]}
["ปี พ.ศ.",2560,"ฤดูแล้ง","60/61","ฤดูฝน","61",null,null,null,null,"โครงการชลประทานพระองค์ไชยานุชิต ฤดูแล้ง60/61 ฤดูฝน61"]
["โครงการชลประทาน","พระองค์ไชยานุชิต"]
["จังหวัด","ฉะเชิงเทรา"]
["รั่วซึม มม./สัปดาห์",7]
["น้ำเตรียมแปลงฤดูแล้ง มม./สัปดาห์",null,0,30,20,30,30,null,null,20,null,"รวมฤดูแล้ง (ลบ.ม.)",258105868.83530006]
["น้ำเตรียมแปลงฤดูฝน มม./สัปดาห์",null,100,15,10,100,15,null,null,10,null,"รวมฤดูฝน (ลบ.ม.)",317306943.57060009]
["ประสิทธิ์ภาพโครงการ (%)",100,"ข้าว กข.(นาดำ)","อ้อย","กะหล่ำดอก","มะม่วง","มะม่วง",null,null,"ไม้ดอก (บานชื่น)",null,"รวมทั้งปี (ลบ.ม.)",575412812.40590012]
["เริ่มต้น","สิ้นสุด","ข้าว","อ้อย","พืชผัก","ไม้ผล","ไม้ยืนต้น","บ่อปลา","บ่อกุ้ง","อื่นๆ","อุปโภค-บริโภค อุตสาหกรรม รักษาระบบนิเวศน์ และอื่น ๆ ","รวม (ลบ.ม.)"]
["2017-11-01","2017-11-07",9822307.6400000006,0,0,854473.48900000006,0,6035558.4000000013,2341922.4000000004,388505.79,0,19442767.719000004]
["2017-11-08","2017-11-14",10034491.08,0,0,444985.48900000006,0,6035558.4000000013,2341922.4000000004,195255,0,19052212.369000003]
["2017-11-15","2017-11-21",10737389.799999999,0,0,444985.48900000006,0,6035558.4000000013,2341922.4000000004,256107.86000000004,0,19815963.949000001]
["2017-11-22","2017-11-28",11131245.75,0,0,444985.48900000006,0,6035558.4000000013,2341922.4000000004,307352.38,0,20261064.419000003]
["2017-11-29","2017-12-05",14031455.57,0,0,519583.96540000004,0,7141478.4000000022,2771042.4000000004,417454.78,0,24881015.115400001]
["2017-12-06","2017-12-12",13324451.259999998,0,0,588930.75820000004,0,8079667.2000000002,3135079.2,453091.5,0,25581219.918199997]
["2017-12-13","2017-12-19",13126531.840000002,0,0,588930.75820000004,0,8079667.2000000002,3135079.2,482248.81000000006,0,25412457.808199998]
["2017-12-20","2017-12-26",9161210.9799999986,0,0,588930.75820000004,0,8079667.2000000002,3135079.2,501687.03,0,21466575.168199997]
["2017-12-27","2018-01-02",9226106.2600000016,0,0,588930.75820000004,0,8079667.2000000002,3135079.2,562379.03000000014,0,21592162.448200002]
["2018-01-03","2018-01-09",8391982.6899999995,0,0,656200.25849999988,0,7975526.4000000004,3094670.4,0,0,20118379.748499997]
["2018-01-10","2018-01-16",7841683.0999999996,0,0,656200.25849999988,0,0,0,0,0,8497883.3585000001]
["2018-01-17","2018-01-23",5911063.7600000016,0,0,656200.25849999988,0,0,0,0,0,6567264.0185000012]
["2018-01-24","2018-01-30",5495627.1399999997,0,0,656200.25849999988,0,0,0,0,0,6151827.3984999992]
["2018-01-31","2018-02-06",817821.36999999988,0,0,598722.64599999995,0,0,0,0,0,1416544.0159999998]
["2018-02-07","2018-02-13",755224.08999999985,0,0,576071.13079999993,0,0,0,0,0,1331295.2207999998]
["2018-02-14","2018-02-20",0,0,0,576071.13079999993,0,0,0,0,0,576071.13079999993]
["2018-02-21","2018-02-27",0,0,0,576071.13079999993,0,0,0,0,0,576071.13079999993]
["2018-02-28","2018-03-06",1081692.48,0,0,578358.29189999995,0,0,0,0,0,1660050.7719000001]
["2018-03-07","2018-03-13",1122989.1200000001,0,0,611482.45669999998,0,0,0,0,0,1734471.5767000001]
["2018-03-14","2018-03-20",1174609.9199999999,0,0,611482.45669999998,0,0,0,0,0,1786092.3766999999]
["2018-03-21","2018-03-27",1350120.64,0,0,611482.45669999998,0,0,0,0,0,1961603.0966999999]
["2018-03-28","2018-04-03",1127265.92,0,0,611482.45669999998,0,0,0,0,0,1738748.3766999999]
["2018-04-04","2018-04-10",1201604.8,0,0,590626.72499999986,0,0,0,0,0,1792231.5249999999]
["2018-04-11","2018-04-17",1254704,0,0,590626.72499999986,0,0,0,0,0,1845330.7249999999]
["2018-04-18","2018-04-24",1233464.3200000001,0,0,590626.72499999986,0,0,0,0,0,1824091.0449999999]
["2018-04-25","2018-05-01",431847.67999999993,0,0,590626.72499999986,0,0,0,0,0,1022474.4049999998]
["2018-05-02","2018-05-08",355759.3600000001,0,0,332589.56799999997,0,0,0,0,0,688348.92800000007]
["2018-05-09","2018-05-15",251137.91999999993,0,0,332589.56799999997,0,0,0,0,0,583727.4879999999]
["2018-05-16","2018-05-22",0,0,0,332589.56799999997,0,0,0,0,0,332589.56799999997]
["2018-05-23","2018-05-29",0,0,0,332589.56799999997,0,0,0,0,0,332589.56799999997]
["2018-05-30","2018-06-05",28851665.82,0,0,284182.96779999998,0,0,0,0,0,29135848.787799999]
["2018-06-06","2018-06-12",0,0,0,247549.14959999998,0,0,0,0,0,247549.14959999998]
["2018-06-13","2018-06-19",8471456.4199999999,0,0,441864.54639999988,630080.98959999986,10599573.119999999,4329636.4799999995,0,0,24472611.555999998]
["2018-06-20","2018-06-26",1538303.84,0,0,320760.54639999999,237392.98959999997,10599573.119999999,4329636.4799999995,0,0,17025666.976]
["2018-06-27","2018-07-03",1207249.620000001,0,0,320760.54639999999,237392.98959999997,10599573.119999999,4329636.4799999995,0,0,16694612.756000001]
["2018-07-04","2018-07-10",2040967.5100000019,0,0,262490.49680000002,194267.66019999998,9946567.3600000013,4062901.4400000004,0,0,16507194.467000004]
["2018-07-11","2018-07-17",2573785.4200000018,0,0,262490.49680000002,194267.66019999998,9946567.3600000013,4062901.4400000004,0,0,17040012.377000004]
["2018-07-18","2018-07-24",2572110.9500000011,0,0,262490.49680000002,194267.66019999998,9946567.3600000013,4062901.4400000004,0,0,17038337.907000002]
["2018-07-25","2018-07-31",2247913.660000002,0,0,262490.49680000002,194267.66019999998,9946567.3600000013,4062901.4400000004,0,0,16714140.617000002]
["2018-08-01","2018-08-07",0,0,0,0,0,8083760.9600000009,3301995.8400000008,0,0,11385756.800000001]
["2018-08-08","2018-08-14",0,0,0,0,0,8083760.9600000009,3301995.8400000008,0,0,11385756.800000001]
["2018-08-15","2018-08-21",0,0,0,0,0,8083760.9600000009,3301995.8400000008,0,0,11385756.800000001]
["2018-08-22","2018-08-28",0,0,0,0,0,8083760.9600000009,3301995.8400000008,0,0,11385756.800000001]
["2018-08-29","2018-09-04",0,0,0,0,0,8083760.9600000009,3301995.8400000008,0,0,11385756.800000001]
["2018-09-05","2018-09-11",0,0,0,0,0,5015248,2048592,0,0,7063840]
["2018-09-12","2018-09-18",0,0,0,0,0,5015248,2048592,0,0,7063840]
["2018-09-19","2018-09-25",6925311.879999999,0,0,0,0,5015248,2048592,0,0,13989151.879999999]
["2018-09-26","2018-10-02",10315202.359999999,0,0,0,0,5015248,2048592,0,0,17379042.359999999]
["2018-10-03","2018-10-09",0,0,0,156730.24290000007,116979.3009,8941470.7199999988,3652346.88,0,0,12867527.143799998]
["2018-10-10","2018-10-16",6598946.6100000031,0,0,156730.24290000007,116979.3009,8941470.7199999988,3652346.88,0,0,19466473.753800001]
["2018-10-17","2018-10-23",0,0,0,156730.24290000007,116979.3009,8941470.7199999988,3652346.88,0,0,12867527.143799998]
["2018-10-24","2018-10-30",0,0,0,156730.24290000007,116979.3009,8941470.7199999988,3652346.88,0,0,12867527.143799998]
["รวม (ลบ.ม.)",null,213736702.57999998,0,0,20025628.032699998,2349854.8132000002,239408575.68000007,96327969.119999975,3564082.1800000006,0,575412812.40590024]

{"sheet":"R31","index":58,"n_rows":61,"n_cols":13,"rows_kept":61,"cut":false,"hidden":false,"merged":[]}
["ปี พ.ศ.",2560,"ฤดูแล้ง","60/61","ฤดูฝน","61",null,null,null,null,"โครงการชลประทานเขื่อนนเรศวร ฤดูแล้ง60/61 ฤดูฝน61"]
["โครงการชลประทาน","เขื่อนนเรศวร"]
["จังหวัด","พิษณุโลก"]
["รั่วซึม มม./สัปดาห์",7]
["น้ำเตรียมแปลงฤดูแล้ง มม./สัปดาห์",null,0,30,20,30,30,null,null,20,null,"รวมฤดูแล้ง (ลบ.ม.)",98799276.909090921]
["น้ำเตรียมแปลงฤดูฝน มม./สัปดาห์",null,100,15,10,77,15,null,null,10,null,"รวมฤดูฝน (ลบ.ม.)",14842369.558441561]
["ประสิทธิ์ภาพโครงการ (%)",77,"ข้าว กข.(นาดำ)","อ้อย","กะหล่ำดอก","มะม่วง","มะม่วง",null,null,"ไม้ดอก (บานชื่น)",null,"รวมทั้งปี (ลบ.ม.)",113641646.46753249]
["เริ่มต้น","สิ้นสุด","ข้าว","อ้อย","พืชผัก","ไม้ผล","ไม้ยืนต้น","บ่อปลา","บ่อกุ้ง","อื่นๆ","อุปโภค-บริโภค อุตสาหกรรม รักษาระบบนิเวศน์ และอื่น ๆ ","รวม (ลบ.ม.)"]
["2017-11-01","2017-11-07",1952254.636363636,0,0,0,0,0,0,0,0,1952254.636363636]
["2017-11-08","2017-11-14",0,0,0,0,0,0,0,0,0,0]
["2017-11-15","2017-11-21",0,0,0,0,0,0,0,0,0,0]
["2017-11-22","2017-11-28",0,0,0,0,0,0,0,0,0,0]
["2017-11-29","2017-12-05",0,0,0,0,0,0,0,0,0,0]
["2017-12-06","2017-12-12",0,0,0,0,0,0,0,0,0,0]
["2017-12-13","2017-12-19",0,0,0,0,0,0,0,0,0,0]
["2017-12-20","2017-12-26",1390634.5454545456,0,0,0,0,0,0,0,0,1390634.5454545456]
["2017-12-27","2018-01-02",1450708.6103896105,0,0,0,0,0,0,0,0,1450708.6103896105]
["2018-01-03","2018-01-09",5253926.8701298703,0,0,0,0,0,0,0,0,5253926.8701298703]
["2018-01-10","2018-01-16",5560060.7012987016,0,175922.94805194804,0,0,0,0,0,0,5735983.6493506497]
["2018-01-17","2018-01-23",5941320.8441558452,0,132552.5974025974,0,0,0,0,0,0,6073873.441558443]
["2018-01-24","2018-01-30",6524422.493506493,0,138349.18181818185,0,0,0,0,0,0,6662771.6753246747]
["2018-01-31","2018-02-06",7903133.8571428573,0,163818.23376623375,0,0,0,0,0,0,8066952.0909090908]
["2018-02-07","2018-02-13",8151182.2467532465,0,165849.1948051948,0,0,0,0,0,0,8317031.4415584411]
["2018-02-14","2018-02-20",8262243.1948051965,0,135384.85714285713,0,0,0,0,0,0,8397628.0519480538]
["2018-02-21","2018-02-27",8090387.7272727285,0,133353.90909090909,0,0,0,0,0,0,8223741.6363636376]
["2018-02-28","2018-03-06",8788457.2597402595,0,0,0,0,0,0,0,0,8788457.2597402595]
["2018-03-07","2018-03-13",7935366.8571428573,0,0,0,0,0,0,0,0,7935366.8571428573]
["2018-03-14","2018-03-20",7295492.8051948054,0,0,0,0,0,0,0,0,7295492.8051948054]
["2018-03-21","2018-03-27",4504056.948051949,0,0,0,0,0,0,0,0,4504056.948051949]
["2018-03-28","2018-04-03",3683984.6363636362,0,0,0,0,0,0,0,0,3683984.6363636362]
["2018-04-04","2018-04-10",138876.7402597403,0,0,0,0,0,0,0,0,138876.7402597403]
["2018-04-11","2018-04-17",125133.72727272729,0,0,0,0,0,0,0,0,125133.72727272729]
["2018-04-18","2018-04-24",465932.79220779223,0,0,0,0,0,0,0,0,465932.79220779223]
["2018-04-25","2018-05-01",4336468.493506493,0,0,0,0,0,0,0,0,4336468.493506493]
["2018-05-02","2018-05-08",4001435.4415584425,0,0,0,0,0,0,0,0,4001435.4415584425]
["2018-05-09","2018-05-15",145903.22077922075,0,0,0,0,0,0,0,0,145903.22077922075]
["2018-05-16","2018-05-22",6207000.2467532475,0,0,0,0,0,0,0,0,6207000.2467532475]
["2018-05-23","2018-05-29",875607.06493506418,0,0,0,0,0,0,0,0,875607.06493506418]
["2018-05-30","2018-06-05",1861911.207792209,0,0,0,0,0,0,0,0,1861911.207792209]
["2018-06-06","2018-06-12",651066.90909090964,0,89372.909090909088,0,0,0,0,0,0,740439.8181818187]
["2018-06-13","2018-06-19",193988.01298701362,0,86699.454545454544,0,0,0,0,0,0,280687.46753246814]
["2018-06-20","2018-06-26",288088.85714285582,0,93400.090909090897,0,0,0,0,0,0,381488.9480519467]
["2018-06-27","2018-07-03",0,0,99914.41558441559,0,0,0,0,0,0,99914.41558441559]
["2018-07-04","2018-07-10",0,0,101763.03896103895,0,0,0,0,0,0,101763.03896103895]
["2018-07-11","2018-07-17",0,0,74033.662337662332,0,0,0,0,0,0,74033.662337662332]
["2018-07-18","2018-07-24",0,0,72185.025974025979,0,0,0,0,0,0,72185.025974025979]
["2018-07-25","2018-07-31",0,0,0,0,0,0,0,0,0,0]
["2018-08-01","2018-08-07",0,0,0,0,0,0,0,0,0,0]
["2018-08-08","2018-08-14",0,0,0,0,0,0,0,0,0,0]
["2018-08-15","2018-08-21",0,0,0,0,0,0,0,0,0,0]
["2018-08-22","2018-08-28",0,0,0,0,0,0,0,0,0,0]
["2018-08-29","2018-09-04",0,0,0,0,0,0,0,0,0,0]
["2018-09-05","2018-09-11",0,0,0,0,0,0,0,0,0,0]
["2018-09-12","2018-09-18",0,0,0,0,0,0,0,0,0,0]
["2018-09-19","2018-09-25",0,0,0,0,0,0,0,0,0,0]
["2018-09-26","2018-10-02",0,0,0,0,0,0,0,0,0,0]
["2018-10-03","2018-10-09",0,0,0,0,0,0,0,0,0,0]
["2018-10-10","2018-10-16",0,0,0,0,0,0,0,0,0,0]
["2018-10-17","2018-10-23",0,0,0,0,0,0,0,0,0,0]
["2018-10-24","2018-10-30",0,0,0,0,0,0,0,0,0,0]
["รวม (ลบ.ม.)",null,111979046.94805193,0,1662599.5194805197,0,0,0,0,0,0,113641646.46753246]

{"sheet":"R32","index":59,"n_rows":61,"n_cols":13,"rows_kept":61,"cut":false,"hidden":false,"merged":[]}
["ปี พ.ศ.",2560,"ฤดูแล้ง","60/61","ฤดูฝน","61",null,null,null,null,"โครงการชลประทานเขื่อนแควน้อย ฤดูแล้ง60/61 ฤดูฝน61"]
["โครงการชลประทาน","เขื่อนแควน้อย"]
["จังหวัด","พิษณุโลก"]
["รั่วซึม มม./สัปดาห์",7]
["น้ำเตรียมแปลงฤดูแล้ง มม./สัปดาห์",null,0,30,20,30,30,null,null,20,null,"รวมฤดูแล้ง (ลบ.ม.)",160664153.97402596]
["น้ำเตรียมแปลงฤดูฝน มม./สัปดาห์",null,100,15,10,77,15,null,null,10,null,"รวมฤดูฝน (ลบ.ม.)",24398261.285714287]
["ประสิทธิ์ภาพโครงการ (%)",77,"ข้าว กข.(นาดำ)","อ้อย","กะหล่ำดอก","มะม่วง","มะม่วง",null,null,"ไม้ดอก (บานชื่น)",null,"รวมทั้งปี (ลบ.ม.)",185062415.25974026]
["เริ่มต้น","สิ้นสุด","ข้าว","อ้อย","พืชผัก","ไม้ผล","ไม้ยืนต้น","บ่อปลา","บ่อกุ้ง","อื่นๆ","อุปโภค-บริโภค อุตสาหกรรม รักษาระบบนิเวศน์ และอื่น ๆ ","รวม (ลบ.ม.)"]
["2017-11-01","2017-11-07",31284.636363636364,0,0,0,0,0,0,0,0,31284.636363636364]
["2017-11-08","2017-11-14",0,0,0,0,0,0,0,0,0,0]
["2017-11-15","2017-11-21",0,0,0,0,0,0,0,0,0,0]
["2017-11-22","2017-11-28",0,0,0,0,0,0,0,0,0,0]
["2017-11-29","2017-12-05",0,0,0,0,0,0,0,0,0,0]
["2017-12-06","2017-12-12",0,0,0,0,0,0,0,0,0,0]
["2017-12-13","2017-12-19",0,0,0,0,0,0,0,0,0,0]
["2017-12-20","2017-12-26",0,0,0,0,0,0,0,0,0,0]
["2017-12-27","2018-01-02",0,0,0,0,0,0,0,0,0,0]
["2018-01-03","2018-01-09",5207199.2467532456,0,0,0,0,0,0,0,0,5207199.2467532456]
["2018-01-10","2018-01-16",8895061.1948051956,0,0,0,0,0,0,0,0,8895061.1948051956]
["2018-01-17","2018-01-23",9359382.1818181816,0,0,0,0,0,0,0,0,9359382.1818181816]
["2018-01-24","2018-01-30",10361994.064935066,0,0,0,0,0,0,0,0,10361994.064935066]
["2018-01-31","2018-02-06",13035341.649350649,0,0,0,0,0,0,0,0,13035341.649350649]
["2018-02-07","2018-02-13",13730001.96103896,0,0,0,0,0,0,0,0,13730001.96103896]
["2018-02-14","2018-02-20",14264667.649350652,0,0,0,0,0,0,0,0,14264667.649350652]
["2018-02-21","2018-02-27",14377983.532467533,0,0,0,0,0,0,0,0,14377983.532467533]
["2018-02-28","2018-03-06",16027230.883116882,0,0,0,0,0,0,0,0,16027230.883116882]
["2018-03-07","2018-03-13",15289308.961038958,0,0,0,0,0,0,0,0,15289308.961038958]
["2018-03-14","2018-03-20",14255472.428571429,0,0,0,0,0,0,0,0,14255472.428571429]
["2018-03-21","2018-03-27",11947653.649350647,0,0,0,0,0,0,0,0,11947653.649350647]
["2018-03-28","2018-04-03",9161432.493506493,0,0,0,0,0,0,0,0,9161432.493506493]
["2018-04-04","2018-04-10",3853939.259740259,0,0,0,0,0,0,0,0,3853939.259740259]
["2018-04-11","2018-04-17",475044.41558441566,0,0,0,0,0,0,0,0,475044.41558441566]
["2018-04-18","2018-04-24",275482.85714285716,0,0,0,0,0,0,0,0,275482.85714285716]
["2018-04-25","2018-05-01",0,0,115672.90909090907,0,0,0,0,0,0,115672.90909090907]
["2018-05-02","2018-05-08",0,0,121347.87012987015,0,0,0,0,0,0,121347.87012987015]
["2018-05-09","2018-05-15",0,0,129855.32467532468,0,0,0,0,0,0,129855.32467532468]
["2018-05-16","2018-05-22",0,0,134716.72727272724,0,0,0,0,0,0,134716.72727272724]
["2018-05-23","2018-05-29",0,0,137147.42857142855,0,0,0,0,0,0,137147.42857142855]
["2018-05-30","2018-06-05",0,0,71761.389610389611,0,0,0,0,0,0,71761.389610389611]
["2018-06-06","2018-06-12",3986887.7662337678,0,69810.623376623378,0,0,0,0,0,0,4056698.3896103911]
["2018-06-13","2018-06-19",1667195.3896103892,0,0,0,0,0,0,0,0,1667195.3896103892]
["2018-06-20","2018-06-26",0,0,0,0,0,0,0,0,0,0]
["2018-06-27","2018-07-03",13825367.948051948,0,0,0,0,0,0,0,0,13825367.948051948]
["2018-07-04","2018-07-10",0,0,0,0,0,0,0,0,0,0]
["2018-07-11","2018-07-17",926076.46753246873,0,0,0,0,0,0,0,0,926076.46753246873]
["2018-07-18","2018-07-24",1808370.2727272743,0,0,0,0,0,0,0,0,1808370.2727272743]
["2018-07-25","2018-07-31",1427212.3896103885,0,0,0,0,0,0,0,0,1427212.3896103885]
["2018-08-01","2018-08-07",0,0,0,0,0,0,0,0,0,0]
["2018-08-08","2018-08-14",0,0,0,0,0,0,0,0,0,0]
["2018-08-15","2018-08-21",0,0,0,0,0,0,0,0,0,0]
["2018-08-22","2018-08-28",0,0,0,0,0,0,0,0,0,0]
["2018-08-29","2018-09-04",0,0,0,0,0,0,0,0,0,0]
["2018-09-05","2018-09-11",0,0,0,0,0,0,0,0,0,0]
["2018-09-12","2018-09-18",0,0,0,0,0,0,0,0,0,0]
["2018-09-19","2018-09-25",0,0,0,0,0,0,0,0,0,0]
["2018-09-26","2018-10-02",92511.688311688922,0,0,0,0,0,0,0,0,92511.688311688922]
["2018-10-03","2018-10-09",0,0,0,0,0,0,0,0,0,0]
["2018-10-10","2018-10-16",0,0,0,0,0,0,0,0,0,0]
["2018-10-17","2018-10-23",0,0,0,0,0,0,0,0,0,0]
["2018-10-24","2018-10-30",0,0,0,0,0,0,0,0,0,0]
["รวม (ลบ.ม.)",null,184282102.98701298,0,780312.27272727271,0,0,0,0,0,0,185062415.25974023]

{"sheet":"R33","index":60,"n_rows":61,"n_cols":13,"rows_kept":61,"cut":false,"hidden":false,"merged":[]}
["ปี พ.ศ.",2560,"ฤดูแล้ง","60/61","ฤดูฝน","61",null,null,null,null,"โครงการชลประทานยมน่าน ฤดูแล้ง60/61 ฤดูฝน61"]
["โครงการชลประทาน","ยมน่าน"]
["จังหวัด","พิษณุโลก"]
["รั่วซึม มม./สัปดาห์",7]
["น้ำเตรียมแปลงฤดูแล้ง มม./สัปดาห์",null,0,30,20,30,30,null,null,20,null,"รวมฤดูแล้ง (ลบ.ม.)",331855756.10389614]
["น้ำเตรียมแปลงฤดูฝน มม./สัปดาห์",null,100,15,10,77,15,null,null,10,null,"รวมฤดูฝน (ลบ.ม.)",43045542.298701316]
["ประสิทธิ์ภาพโครงการ (%)",77,"ข้าว กข.(นาดำ)","อ้อย","กะหล่ำดอก","มะม่วง","มะม่วง",null,null,"ไม้ดอก (บานชื่น)",null,"รวมทั้งปี (ลบ.ม.)",374901298.40259743]
["เริ่มต้น","สิ้นสุด","ข้าว","อ้อย","พืชผัก","ไม้ผล","ไม้ยืนต้น","บ่อปลา","บ่อกุ้ง","อื่นๆ","อุปโภค-บริโภค อุตสาหกรรม รักษาระบบนิเวศน์ และอื่น ๆ ","รวม (ลบ.ม.)"]
["2017-11-01","2017-11-07",0,0,0,0,0,0,0,0,0,0]
["2017-11-08","2017-11-14",0,0,0,0,0,0,0,0,0,0]
["2017-11-15","2017-11-21",0,0,0,0,0,0,0,0,0,0]
["2017-11-22","2017-11-28",0,0,0,0,0,0,0,0,0,0]
["2017-11-29","2017-12-05",0,0,0,0,0,0,0,0,0,0]
["2017-12-06","2017-12-12",0,0,0,0,0,0,0,0,0,0]
["2017-12-13","2017-12-19",0,0,0,0,0,0,0,0,0,0]
["2017-12-20","2017-12-26",3850031.7792207794,0,0,0,0,0,0,0,0,3850031.7792207794]
["2017-12-27","2018-01-02",5567176.7532467525,0,0,0,0,0,0,0,0,5567176.7532467525]
["2018-01-03","2018-01-09",11130345.81818182,0,0,0,0,0,0,0,0,11130345.81818182]
["2018-01-10","2018-01-16",15435276.441558441,0,0,0,0,0,0,0,0,15435276.441558441]
["2018-01-17","2018-01-23",18991196.545454547,0,0,0,0,0,0,0,0,18991196.545454547]
["2018-01-24","2018-01-30",20616915.987012986,0,0,0,0,0,0,0,0,20616915.987012986]
["2018-01-31","2018-02-06",25352608.064935066,0,0,0,0,0,0,0,0,25352608.064935066]
["2018-02-07","2018-02-13",26642943.701298699,0,0,0,0,0,0,0,0,26642943.701298699]
["2018-02-14","2018-02-20",27246287.389610399,0,0,0,0,0,0,0,0,27246287.389610399]
["2018-02-21","2018-02-27",27181211.649350651,0,0,0,0,0,0,0,0,27181211.649350651]
["2018-02-28","2018-03-06",30170269.857142858,0,0,0,0,0,0,0,0,30170269.857142858]
["2018-03-07","2018-03-13",27834308.233766235,0,0,0,0,0,0,0,0,27834308.233766235]
["2018-03-14","2018-03-20",25692888.415584419,0,0,0,0,0,0,0,0,25692888.415584419]
["2018-03-21","2018-03-27",18851339.207792208,0,0,0,0,0,0,0,0,18851339.207792208]
["2018-03-28","2018-04-03",13772451.14285714,0,0,0,0,0,0,0,0,13772451.14285714]
["2018-04-04","2018-04-10",8322854.0389610408,0,0,0,0,0,0,0,0,8322854.0389610408]
["2018-04-11","2018-04-17",4596535.8051948044,0,0,0,0,0,0,0,0,4596535.8051948044]
["2018-04-18","2018-04-24",7072005.3636363624,0,0,0,0,0,0,0,0,7072005.3636363624]
["2018-04-25","2018-05-01",13529109.909090912,0,0,0,0,0,0,0,0,13529109.909090912]
["2018-05-02","2018-05-08",16965393.831168834,0,0,0,0,0,0,0,0,16965393.831168834]
["2018-05-09","2018-05-15",13042831.961038955,0,0,0,0,0,0,0,0,13042831.961038955]
["2018-05-16","2018-05-22",3082886.3506493582,0,0,0,0,0,0,0,0,3082886.3506493582]
["2018-05-23","2018-05-29",4950716.8181818174,0,0,0,0,0,0,0,0,4950716.8181818174]
["2018-05-30","2018-06-05",942419.02597402886,0,0,0,0,0,0,0,0,942419.02597402886]
["2018-06-06","2018-06-12",1566263.0909090934,0,0,0,0,0,0,0,0,1566263.0909090934]
["2018-06-13","2018-06-19",1601178.7402597438,0,0,0,0,0,0,0,0,1601178.7402597438]
["2018-06-20","2018-06-26",893852.48051948554,0,0,0,0,0,0,0,0,893852.48051948554]
["2018-06-27","2018-07-03",0,0,0,0,0,0,0,0,0,0]
["2018-07-04","2018-07-10",0,0,0,0,0,0,0,0,0,0]
["2018-07-11","2018-07-17",0,0,0,0,0,0,0,0,0,0]
["2018-07-18","2018-07-24",0,0,0,0,0,0,0,0,0,0]
["2018-07-25","2018-07-31",0,0,0,0,0,0,0,0,0,0]
["2018-08-01","2018-08-07",0,0,0,0,0,0,0,0,0,0]
["2018-08-08","2018-08-14",0,0,0,0,0,0,0,0,0,0]
["2018-08-15","2018-08-21",0,0,0,0,0,0,0,0,0,0]
["2018-08-22","2018-08-28",0,0,0,0,0,0,0,0,0,0]
["2018-08-29","2018-09-04",0,0,0,0,0,0,0,0,0,0]
["2018-09-05","2018-09-11",0,0,0,0,0,0,0,0,0,0]
["2018-09-12","2018-09-18",0,0,0,0,0,0,0,0,0,0]
["2018-09-19","2018-09-25",0,0,0,0,0,0,0,0,0,0]
["2018-09-26","2018-10-02",0,0,0,0,0,0,0,0,0,0]
["2018-10-03","2018-10-09",0,0,0,0,0,0,0,0,0,0]
["2018-10-10","2018-10-16",0,0,0,0,0,0,0,0,0,0]
["2018-10-17","2018-10-23",0,0,0,0,0,0,0,0,0,0]
["2018-10-24","2018-10-30",0,0,0,0,0,0,0,0,0,0]
["รวม (ลบ.ม.)",null,374901298.40259743,0,0,0,0,0,0,0,0,374901298.40259743]

{"sheet":"R34","index":61,"n_rows":61,"n_cols":13,"rows_kept":61,"cut":false,"hidden":false,"merged":[]}
["ปี พ.ศ.",2560,"ฤดูแล้ง","60/61","ฤดูฝน","61",null,null,null,null,"โครงการชลประทานพลายชุมพล ฤดูแล้ง60/61 ฤดูฝน61"]
["โครงการชลประทาน","พลายชุมพล"]
["จังหวัด","พิษณุโลก"]
["รั่วซึม มม./สัปดาห์",7]
["น้ำเตรียมแปลงฤดูแล้ง มม./สัปดาห์",null,0,30,20,30,30,null,null,20,null,"รวมฤดูแล้ง (ลบ.ม.)",247782496.21298695]
["น้ำเตรียมแปลงฤดูฝน มม./สัปดาห์",null,100,15,10,77,15,null,null,10,null,"รวมฤดูฝน (ลบ.ม.)",36945919.965844154]
["ประสิทธิ์ภาพโครงการ (%)",77,"ข้าว กข.(นาดำ)","อ้อย","กะหล่ำดอก","มะม่วง","มะม่วง",null,null,"ไม้ดอก (บานชื่น)",null,"รวมทั้งปี (ลบ.ม.)",284728416.1788311]
["เริ่มต้น","สิ้นสุด","ข้าว","อ้อย","พืชผัก","ไม้ผล","ไม้ยืนต้น","บ่อปลา","บ่อกุ้ง","อื่นๆ","อุปโภค-บริโภค อุตสาหกรรม รักษาระบบนิเวศน์ และอื่น ๆ ","รวม (ลบ.ม.)"]
["2017-11-01","2017-11-07",5915405.480519481,3165.8181818181815,0,0,1846.4363636363632,12811.885714285716,0,0,0,5933229.6207792219]
["2017-11-08","2017-11-14",5670228.5324675329,1171.012987012987,0,0,973.70909090909083,12811.885714285716,0,0,0,5685185.1402597409]
["2017-11-15","2017-11-21",5242894.3246753253,1171.012987012987,0,0,973.70909090909083,12811.885714285716,0,0,0,5257850.9324675333]
["2017-11-22","2017-11-28",4542081.1688311687,1171.012987012987,0,0,973.70909090909083,12811.885714285716,0,0,0,4557037.7766233766]
["2017-11-29","2017-12-05",4122230.3766233758,1659.9220779220782,0,0,1130.4072727272728,15280.457142857145,0,0,0,4140301.1631168826]
["2017-12-06","2017-12-12",3445272.3766233767,1659.9220779220782,0,0,1166.3184415584417,16239.085714285718,0,0,0,3464337.7028571432]
["2017-12-13","2017-12-19",3866444.7532467539,1659.9220779220782,0,0,1166.3184415584417,16239.085714285718,0,0,0,3885510.0794805204]
["2017-12-20","2017-12-26",6633716.2987012984,1659.9220779220782,0,0,1166.3184415584417,16239.085714285718,0,0,0,6652781.6249350645]
["2017-12-27","2018-01-02",6517089.8181818184,1675.3246753246754,0,0,1166.3184415584417,16239.085714285718,0,0,0,6536170.5470129866]
["2018-01-03","2018-01-09",11284708.12987013,2086.2727272727275,0,0,1213.225714285714,16107.428571428571,0,0,0,11304115.056883117]
["2018-01-10","2018-01-16",13584206.701298701,92864.103896103901,1515.7012987012986,1638.9723376623374,79287.668311688307,102339.11688311688,0,0,0,13861852.264025975]
["2018-01-17","2018-01-23",14038007.454545455,38817.35064935065,1142.0389610389611,953.25805194805184,46622.733246753247,102339.11688311688,0,0,0,14227881.952337665]
["2018-01-24","2018-01-30",14987936.038961036,38817.35064935065,1191.9740259740261,953.25805194805184,46622.733246753247,102339.11688311688,0,0,0,15177860.471818181]
["2018-01-31","2018-02-06",18015314.337662339,42899.649350649357,1411.4155844155844,871.50805194805184,42624.41506493507,102339.11688311688,0,0,0,18205460.442597404]
["2018-02-07","2018-02-13",18263769.870129868,53519.2987012987,1428.909090909091,1006.1631168831168,49210.655584415574,107593.30909090908,0,0,0,18476528.205714285]
["2018-02-14","2018-02-20",18191176.896103896,53519.2987012987,1166.4415584415585,1006.1631168831168,49210.655584415574,107593.30909090908,0,0,0,18403672.764155846]
["2018-02-21","2018-02-27",17647584.207792208,53519.2987012987,1148.9480519480519,1006.1631168831168,49210.655584415574,107593.30909090908,0,0,0,17860062.582337663]
["2018-02-28","2018-03-06",18337899.532467537,61291.038961038976,0,1010.1731168831169,49406.781038961031,107593.30909090908,0,0,0,18557200.834675327]
["2018-03-07","2018-03-13",16296682.597402597,61291.038961038976,0,1186.1385714285716,58012.959220779216,111344.43636363639,0,0,0,16528517.17051948]
["2018-03-14","2018-03-20",13000624.311688315,78281.71428571429,0,1186.1385714285716,58012.959220779216,111344.43636363639,0,0,0,13249449.560129873]
["2018-03-21","2018-03-27",7885884.9350649351,78281.71428571429,0,1186.1385714285716,58012.959220779216,111344.43636363639,0,0,0,8134710.1835064935]
["2018-03-28","2018-04-03",6144267.5454545459,77806.584415584424,0,1186.1385714285716,58012.959220779216,111344.43636363639,0,0,0,6392617.6640259745]
["2018-04-04","2018-04-10",2091861.8831168828,77138.012987012989,0,1307.1428571428576,63931.168831168834,113304.95584415586,0,0,0,2347543.1636363631]
["2018-04-11","2018-04-17",2555131.8311688313,91897.818181818191,0,1307.1428571428576,63931.168831168834,113304.95584415586,0,0,0,2825572.9168831171]
["2018-04-18","2018-04-24",3564788.2467532465,91897.818181818191,0,1307.1428571428576,63931.168831168834,113304.95584415586,0,0,0,3835229.3324675323]
["2018-04-25","2018-05-01",2011375.9740259734,91897.818181818191,0,1307.1428571428576,63931.168831168834,113304.95584415586,0,0,0,2281817.0597402588]
["2018-05-02","2018-05-08",6910555.0909090908,60550.038961038961,0,622.4454545454546,30443.109090909085,53665.953246753255,0,0,0,7055836.6376623381]
["2018-05-09","2018-05-15",5521231.0649350658,73023.493506493513,0,622.4454545454546,30443.109090909085,53665.953246753255,0,0,0,5678986.0662337672]
["2018-05-16","2018-05-22",12602948.02597403,73023.493506493513,0,622.4454545454546,30443.109090909085,53665.953246753255,0,0,0,12760703.027272731]
["2018-05-23","2018-05-29",2587542.9870129889,73023.493506493513,0,622.4454545454546,30443.109090909085,53665.953246753255,0,0,0,2745297.9883116898]
["2018-05-30","2018-06-05",2782303.2077922109,53546.285714285717,0,523.53545454545451,25605.510909090903,69350.1090909091,0,0,0,2931328.6489610421]
["2018-06-06","2018-06-12",1692502.6753246784,53546.285714285717,0,364.07974025974016,17806.676883116877,61547.24155844155,0,0,0,1825766.9592207824]
["2018-06-13","2018-06-19",237767.23376623561,40675.584415584417,0,364.07974025974016,17806.676883116877,61547.24155844155,0,0,0,358160.81636363821]
["2018-06-20","2018-06-26",567962.50649350276,40675.584415584417,0,50086.021818181805,463.36831168831162,52153.703896103892,0,0,0,711341.18493506126]
["2018-06-27","2018-07-03",2760.0649350625163,42390.012987012989,0,17608.099740259735,463.36831168831162,52153.703896103892,0,0,0,115375.24987012745]
["2018-07-04","2018-07-10",0,41880.337662337661,0,17432.67012987013,458.74935064935079,48753.579220779218,0,0,0,108525.33636363636]
["2018-07-11","2018-07-17",0,37737.649350649357,0,17432.67012987013,458.74935064935079,48753.579220779218,0,0,0,104382.64805194805]
["2018-07-18","2018-07-24",0,37737.649350649357,0,17432.67012987013,458.74935064935079,48753.579220779218,0,0,0,104382.64805194805]
["2018-07-25","2018-07-31",0,37737.649350649357,0,17432.67012987013,458.74935064935079,48753.579220779218,0,0,0,104382.64805194805]
["2018-08-01","2018-08-07",0,9675.181818181818,0,0,0,32650.057142857149,0,0,0,42325.238961038965]
["2018-08-08","2018-08-14",0,0,0,0,0,32650.057142857149,0,0,0,32650.057142857149]
["2018-08-15","2018-08-21",0,0,0,0,0,32650.057142857149,0,0,0,32650.057142857149]
["2018-08-22","2018-08-28",0,0,0,0,0,32650.057142857149,0,0,0,32650.057142857149]
["2018-08-29","2018-09-04",0,0,0,0,0,32650.057142857149,0,0,0,32650.057142857149]
["2018-09-05","2018-09-11",0,0,0,0,0,32229.194805194813,0,0,0,32229.194805194813]
["2018-09-12","2018-09-18",0,0,0,0,0,32229.194805194813,0,0,0,32229.194805194813]
["2018-09-19","2018-09-25",0,0,0,0,0,32229.194805194813,0,0,0,32229.194805194813]
["2018-09-26","2018-10-02",760901.67532467528,12628.987012987018,0,0,0,32229.194805194813,0,0,0,805759.85714285716]
["2018-10-03","2018-10-09",504065.09090909112,12612.467532467535,0,10725.322077922076,282.24805194805185,52308.75844155845,0,0,0,579993.88701298728]
["2018-10-10","2018-10-16",382551.31168831198,7687.9090909090892,0,10725.322077922076,282.24805194805185,52308.75844155845,0,0,0,453555.54935064964]
["2018-10-17","2018-10-23",90519.285714285841,7687.9090909090892,0,10725.322077922076,282.24805194805185,52308.75844155845,0,0,0,161523.52337662349]
["2018-10-24","2018-10-30",0,7687.9090909090892,0,10725.322077922076,282.24805194805185,52308.75844155845,0,0,0,71004.237662337662]
["รวม (ลบ.ม.)",null,278500193.84415579,1824347.9740259745,9005.4285714285706,202486.35181818181,1098631.3075324676,3093751.2727272715,0,0,0,284728416.17883122]

{"sheet":"R35","index":62,"n_rows":61,"n_cols":13,"rows_kept":61,"cut":false,"hidden":false,"merged":[]}
["ปี พ.ศ.",2560,"ฤดูแล้ง","60/61","ฤดูฝน","61",null,null,null,null,"โครงการชลประทานดงเศรษฐี ฤดูแล้ง60/61 ฤดูฝน61"]
["โครงการชลประทาน","ดงเศรษฐี"]
["จังหวัด","พิจิตร"]
["รั่วซึม มม./สัปดาห์",7]
["น้ำเตรียมแปลงฤดูแล้ง มม./สัปดาห์",null,0,30,20,30,30,null,null,20,null,"รวมฤดูแล้ง (ลบ.ม.)",144454095.02597401]
["น้ำเตรียมแปลงฤดูฝน มม./สัปดาห์",null,100,15,10,77,15,null,null,10,null,"รวมฤดูฝน (ลบ.ม.)",47503172.97402598]
["ประสิทธิ์ภาพโครงการ (%)",77,"ข้าว กข.(นาดำ)","อ้อย","กะหล่ำดอก","มะม่วง","มะม่วง",null,null,"ไม้ดอก (บานชื่น)",null,"รวมทั้งปี (ลบ.ม.)",191957268]
["เริ่มต้น","สิ้นสุด","ข้าว","อ้อย","พืชผัก","ไม้ผล","ไม้ยืนต้น","บ่อปลา","บ่อกุ้ง","อื่นๆ","อุปโภค-บริโภค อุตสาหกรรม รักษาระบบนิเวศน์ และอื่น ๆ ","รวม (ลบ.ม.)"]
["2017-11-01","2017-11-07",0,0,0,0,0,0,0,0,0,0]
["2017-11-08","2017-11-14",0,0,0,0,0,0,0,0,0,0]
["2017-11-15","2017-11-21",0,0,0,0,0,0,0,0,0,0]
["2017-11-22","2017-11-28",0,0,0,0,0,0,0,0,0,0]
["2017-11-29","2017-12-05",101383.18181818182,0,0,0,0,0,0,0,0,101383.18181818182]
["2017-12-06","2017-12-12",431188.20779220777,0,0,0,0,0,0,0,0,431188.20779220777]
["2017-12-13","2017-12-19",1615125.6363636365,0,0,0,0,0,0,0,0,1615125.6363636365]
["2017-12-20","2017-12-26",3279304.2857142854,0,0,0,0,0,0,0,0,3279304.2857142854]
["2017-12-27","2018-01-02",3355774.0779220774,0,0,0,0,0,0,0,0,3355774.0779220774]
["2018-01-03","2018-01-09",6934621.7402597396,0,0,0,0,0,0,0,0,6934621.7402597396]
["2018-01-10","2018-01-16",8902149.3506493513,0,0,0,0,0,0,0,0,8902149.3506493513]
["2018-01-17","2018-01-23",9692280.9740259759,0,0,0,0,0,0,0,0,9692280.9740259759]
["2018-01-24","2018-01-30",10623184.922077922,0,0,0,0,0,0,0,0,10623184.922077922]
["2018-01-31","2018-02-06",12391761.389610389,0,0,0,0,0,0,0,0,12391761.389610389]
["2018-02-07","2018-02-13",12700919.922077922,0,0,0,0,0,0,0,0,12700919.922077922]
["2018-02-14","2018-02-20",12815209.532467533,0,0,0,0,0,0,0,0,12815209.532467533]
["2018-02-21","2018-02-27",12578419.155844156,0,0,0,0,0,0,0,0,12578419.155844156]
["2018-02-28","2018-03-06",12756131.337662339,0,0,0,0,0,0,0,0,12756131.337662339]
["2018-03-07","2018-03-13",11519292.285714285,0,0,0,0,0,0,0,0,11519292.285714285]
["2018-03-14","2018-03-20",9744975.4545454551,0,0,0,0,0,0,0,0,9744975.4545454551]
["2018-03-21","2018-03-27",6980859.9740259759,0,0,0,0,0,0,0,0,6980859.9740259759]
["2018-03-28","2018-04-03",4835437.7402597396,0,0,0,0,0,0,0,0,4835437.7402597396]
["2018-04-04","2018-04-10",2059243.8831168832,0,0,0,0,0,0,0,0,2059243.8831168832]
["2018-04-11","2018-04-17",767752.11688311689,0,0,0,0,0,0,0,0,767752.11688311689]
["2018-04-18","2018-04-24",369079.85714285716,0,0,0,0,0,0,0,0,369079.85714285716]
["2018-04-25","2018-05-01",0,0,0,0,0,0,0,0,0,0]
["2018-05-02","2018-05-08",0,0,0,0,0,0,0,0,0,0]
["2018-05-09","2018-05-15",0,0,0,0,0,0,0,0,0,0]
["2018-05-16","2018-05-22",0,0,0,0,0,0,0,0,0,0]
["2018-05-23","2018-05-29",0,0,0,0,0,0,0,0,0,0]
["2018-05-30","2018-06-05",8625663.5584415589,0,0,0,0,0,0,0,0,8625663.5584415589]
["2018-06-06","2018-06-12",3537945.5844155839,0,0,0,0,0,0,0,0,3537945.5844155839]
["2018-06-13","2018-06-19",10463124.987012986,0,0,0,0,0,0,0,0,10463124.987012986]
["2018-06-20","2018-06-26",7766254.1298701316,0,0,0,0,0,0,0,0,7766254.1298701316]
["2018-06-27","2018-07-03",966655.32467532426,0,0,0,0,0,0,0,0,966655.32467532426]
["2018-07-04","2018-07-10",518731.66233766096,0,0,0,0,0,0,0,0,518731.66233766096]
["2018-07-11","2018-07-17",955989.42857142782,0,0,0,0,0,0,0,0,955989.42857142782]
["2018-07-18","2018-07-24",1335415.3896103916,0,0,0,0,0,0,0,0,1335415.3896103916]
["2018-07-25","2018-07-31",1471787.0909090892,0,0,0,0,0,0,0,0,1471787.0909090892]
["2018-08-01","2018-08-07",0,0,0,0,0,0,0,0,0,0]
["2018-08-08","2018-08-14",0,0,0,0,0,0,0,0,0,0]
["2018-08-15","2018-08-21",0,0,0,0,0,0,0,0,0,0]
["2018-08-22","2018-08-28",0,0,0,0,0,0,0,0,0,0]
["2018-08-29","2018-09-04",0,0,0,0,0,0,0,0,0,0]
["2018-09-05","2018-09-11",0,0,0,0,0,0,0,0,0,0]
["2018-09-12","2018-09-18",1262505.6753246756,0,0,0,0,0,0,0,0,1262505.6753246756]
["2018-09-19","2018-09-25",0,0,0,0,0,0,0,0,0,0]
["2018-09-26","2018-10-02",4500718.8571428563,0,0,0,0,0,0,0,0,4500718.8571428563]
["2018-10-03","2018-10-09",1567893.9220779219,0,0,0,0,0,0,0,0,1567893.9220779219]
["2018-10-10","2018-10-16",1243124.2077922081,0,0,0,0,0,0,0,0,1243124.2077922081]
["2018-10-17","2018-10-23",1541087.4415584409,0,0,0,0,0,0,0,0,1541087.4415584409]
["2018-10-24","2018-10-30",1746275.7142857136,0,0,0,0,0,0,0,0,1746275.7142857136]
["รวม (ลบ.ม.)",null,191957268,0,0,0,0,0,0,0,0,191957268]

{"sheet":"R36","index":63,"n_rows":61,"n_cols":13,"rows_kept":61,"cut":false,"hidden":false,"merged":[]}
["ปี พ.ศ.",2560,"ฤดูแล้ง","60/61","ฤดูฝน","61",null,null,null,null,"โครงการชลประทานท่าบัว ฤดูแล้ง60/61 ฤดูฝน61"]
["โครงการชลประทาน","ท่าบัว"]
["จังหวัด","พิจิตร"]
["รั่วซึม มม./สัปดาห์",7]
["น้ำเตรียมแปลงฤดูแล้ง มม./สัปดาห์",null,0,30,20,30,30,null,null,20,null,"รวมฤดูแล้ง (ลบ.ม.)",209036340.20103896]
["น้ำเตรียมแปลงฤดูฝน มม./สัปดาห์",null,100,15,10,77,15,null,null,10,null,"รวมฤดูฝน (ลบ.ม.)",52590382.717532463]
["ประสิทธิ์ภาพโครงการ (%)",77,"ข้าว กข.(นาดำ)","อ้อย","กะหล่ำดอก","มะม่วง","มะม่วง",null,null,"ไม้ดอก (บานชื่น)",null,"รวมทั้งปี (ลบ.ม.)",261626722.91857141]
["เริ่มต้น","สิ้นสุด","ข้าว","อ้อย","พืชผัก","ไม้ผล","ไม้ยืนต้น","บ่อปลา","บ่อกุ้ง","อื่นๆ","อุปโภค-บริโภค อุตสาหกรรม รักษาระบบนิเวศน์ และอื่น ๆ ","รวม (ลบ.ม.)"]
["2017-11-01","2017-11-07",3957219.8441558443,0,0,779770.97922077915,15776.506493506497,19765.527272727275,0,0,0,4772532.8571428582]
["2017-11-08","2017-11-14",4132169.1168831168,0,0,425443.7064935065,8607.6753246753269,19765.527272727275,0,0,0,4585986.0259740259]
["2017-11-15","2017-11-21",4228573.9350649351,0,0,425443.7064935065,8607.6753246753269,19765.527272727275,0,0,0,4682390.8441558443]
["2017-11-22","2017-11-28",4229986.6753246756,0,0,425443.7064935065,8607.6753246753269,19765.527272727275,0,0,0,4683803.5844155848]
["2017-11-29","2017-12-05",4493394.3636363633,0,3790.090909090909,63452.663376623379,3289.4919480519479,15601.371428571432,0,0,0,4579527.9812987018]
["2017-12-06","2017-12-12",5652636.2337662345,27093.324675324671,23759.441558441555,932185.650909091,6959.813506493505,24635.698701298701,0,0,0,6667270.1631168835]
["2017-12-13","2017-12-19",5959107.9350649361,11197.220779220779,18768.467532467534,566201.23532467533,5401.3719480519485,24635.698701298701,0,0,0,6585311.9293506499]
["2017-12-20","2017-12-26",6181561.493506494,11197.220779220779,19511.194805194809,566201.23532467533,16803.054545454546,24635.698701298701,0,0,0,6819909.8976623379]
["2017-12-27","2018-01-02",7337688.0259740259,10800.870129870131,19671.467532467534,566201.23532467533,12003.054545454546,24635.698701298701,0,0,0,7971000.352207792]
["2018-01-03","2018-01-09",7696874.1558441557,13355.688311688313,79889.493506493513,573131.13662337651,12149.963636363636,24227.012987012986,0,13595.350649350647,0,8413222.8015584424]
["2018-01-10","2018-01-16",9102124.9870129861,16287.129870129869,100558.42857142858,573131.13662337651,12149.963636363636,24227.012987012986,0,7569.2337662337659,0,9836047.8924675323]
["2018-01-17","2018-01-23",10343462.402597403,14541.675324675325,90407.350649350643,573131.13662337651,12149.963636363636,24227.012987012986,0,9327.7922077922085,0,11067247.334025975]
["2018-01-24","2018-01-30",11405776.064935066,14541.675324675325,79121.168831168834,573131.13662337651,12149.963636363636,24227.012987012986,0,10808.688311688311,0,12119755.710649353]
["2018-01-31","2018-02-06",13124522.83116883,15860.961038961039,90579.441558441555,523901.31844155828,11106.327272727272,24227.012987012986,0,13406.103896103898,0,13803603.996363636]
["2018-02-07","2018-02-13",13518185.844155844,20089.324675324682,80842.84415584417,589011.62025974027,12486.618181818179,25217.76623376624,0,14613.558441558438,0,14260447.576103898]
["2018-02-14","2018-02-20",13580814.571428569,20089.324675324682,73697.688311688311,589011.62025974027,12486.618181818179,25217.76623376624,0,15601.467532467532,0,14316919.056623375]
["2018-02-21","2018-02-27",13196808.454545457,20089.324675324682,28484.233766233767,589011.62025974027,12486.618181818179,25217.76623376624,0,16260.09090909091,0,13888358.108571433]
["2018-02-28","2018-03-06",13530356.571428569,21719.740259740262,0,591347.03480519494,12536.127272727272,25217.76623376624,0,18285.792207792209,0,14199463.032207791]
["2018-03-07","2018-03-13",11443198.753246753,25269.337662337661,0,643885.71688311687,13649.909090909088,26849.41298701298,0,0,0,12152853.129870128]
["2018-03-14","2018-03-20",10001678.324675325,25747.675324675325,0,643885.71688311687,13649.909090909088,26849.41298701298,0,0,0,10711811.038961038]
["2018-03-21","2018-03-27",8422318.3506493513,25747.675324675325,0,643885.71688311687,13649.909090909088,26849.41298701298,0,0,0,9132451.0649350639]
["2018-03-28","2018-04-03",4628196.3116883133,24297.779220779219,0,643885.71688311687,13649.909090909088,26849.41298701298,0,0,0,5336879.1298701316]
["2018-04-04","2018-04-10",3556496.4285714286,27880.766233766233,0,670520.41558441543,14214.545454545454,26406.670129870134,0,0,0,4295518.8259740267]
["2018-04-11","2018-04-17",1293482.4805194803,28292.935064935064,0,670520.41558441543,14214.545454545454,26406.670129870134,0,0,0,2032917.0467532463]
["2018-04-18","2018-04-24",642241.68831168837,28292.935064935064,0,670520.41558441543,14214.545454545454,26406.670129870134,0,0,0,1381676.2545454544]
["2018-04-25","2018-05-01",0,28292.935064935064,0,670520.41558441543,14214.545454545454,26406.670129870134,0,0,0,739434.56623376603]
["2018-05-02","2018-05-08",3133963.220779221,20862.2987012987,0,350003.42857142852,7419.8181818181802,15331.906493506494,0,0,0,3527580.6727272733]
["2018-05-09","2018-05-15",99451.207792207861,17152.779220779223,0,350003.42857142852,7419.8181818181802,15331.906493506494,0,0,0,489359.14025974029]
["2018-05-16","2018-05-22",8090856.2597402586,17152.779220779223,0,350003.42857142852,7419.8181818181802,15331.906493506494,0,0,0,8480764.1922077928]
["2018-05-23","2018-05-29",9035007.4545454532,17152.779220779223,0,349632.43506493501,7419.8181818181802,15331.906493506494,0,0,0,9424544.3935064916]
["2018-05-30","2018-06-05",10659711.740259741,16602.857142857141,0,298625.63051948056,6337.3636363636369,19047.231168831171,0,0,0,11000324.822727272]
["2018-06-06","2018-06-12",2527288.5454545449,15274.259740259744,0,287555.51922077924,6102.4363636363623,17065.724675324676,0,0,0,2853286.4854545454]
["2018-06-13","2018-06-19",4798447.6753246766,14836.61038961039,0,287555.51922077924,6102.4363636363623,17065.724675324676,0,0,0,5124007.9659740282]
["2018-06-20","2018-06-26",3857481.2597402628,14836.61038961039,0,287555.51922077924,6102.4363636363623,17065.724675324676,0,0,0,4183041.5503896135]
["2018-06-27","2018-07-03",1161395.0909090918,12065.740259740262,0,287555.51922077924,6102.4363636363623,17065.724675324676,0,0,0,1484184.5114285722]
["2018-07-04","2018-07-10",1465899.1688311703,8560.6493506493516,0,213203.04545454544,4524.545454545455,15189.485714285716,0,0,0,1707376.8948051962]
["2018-07-11","2018-07-17",1447363.6753246745,8432.3636363636397,0,213203.04545454544,4524.545454545455,15189.485714285716,0,0,0,1688713.1155844145]
["2018-07-18","2018-07-24",975443.53246753442,8432.3636363636397,0,213203.04545454544,4524.545454545455,15189.485714285716,0,0,0,1216792.9727272745]
["2018-07-25","2018-07-31",435232.40259740164,8432.3636363636397,0,213203.04545454544,4524.545454545455,15189.485714285716,0,0,0,676581.84285714186]
["2018-08-01","2018-08-07",0,323.29870129870199,0,0,0,11588.716883116886,0,0,0,11912.015584415587]
["2018-08-08","2018-08-14",0,0,0,0,0,11588.716883116886,0,0,0,11588.716883116886]
["2018-08-15","2018-08-21",0,0,0,0,0,11588.716883116886,0,0,0,11588.716883116886]
["2018-08-22","2018-08-28",0,0,0,0,0,11588.716883116886,0,0,0,11588.716883116886]
["2018-08-29","2018-09-04",0,0,0,0,0,11588.716883116886,0,0,0,11588.716883116886]
["2018-09-05","2018-09-11",0,0,0,0,0,7833.1428571428569,0,0,0,7833.1428571428569]
["2018-09-12","2018-09-18",0,0,0,0,0,7833.1428571428569,0,0,0,7833.1428571428569]
["2018-09-19","2018-09-25",0,0,0,0,0,7833.1428571428569,0,0,0,7833.1428571428569]
["2018-09-26","2018-10-02",0,2866.8441558441564,0,0,0,7833.1428571428569,0,0,0,10699.987012987014]
["2018-10-03","2018-10-09",0,2609.4285714285706,0,137706.8112987013,2922.3818181818183,17217.433766233771,0,0,0,160456.05545454545]
["2018-10-10","2018-10-16",0,2453.9740259740242,0,137706.8112987013,2922.3818181818183,17217.433766233771,0,0,0,160300.60090909089]
["2018-10-17","2018-10-23",0,2453.9740259740242,0,137706.8112987013,2922.3818181818183,17217.433766233771,0,0,0,160300.60090909089]
["2018-10-24","2018-10-30",0,2453.9740259740242,0,137706.8112987013,2922.3818181818183,17217.433766233771,0,0,0,160300.60090909089]
["รวม (ลบ.ม.)",null,239346417.07792208,623641.46753246756,709081.31168831186,19434906.26454547,397430.39168831176,995778.32727272715,0,119468.07792207792,0,261626722.91857141]

{"sheet":"R37","index":64,"n_rows":61,"n_cols":13,"rows_kept":61,"cut":false,"hidden":false,"merged":[]}
["ปี พ.ศ.",2560,"ฤดูแล้ง","60/61","ฤดูฝน","61",null,null,null,null,"โครงการชลประทานท่อทองแดง ฤดูแล้ง60/61 ฤดูฝน61"]
["โครงการชลประทาน","ท่อทองแดง"]
["จังหวัด","กำแพงเพชร"]
["รั่วซึม มม./สัปดาห์",7]
["น้ำเตรียมแปลงฤดูแล้ง มม./สัปดาห์",null,0,30,20,30,30,null,null,20,null,"รวมฤดูแล้ง (ลบ.ม.)",644724397.36107695]
["น้ำเตรียมแปลงฤดูฝน มม./สัปดาห์",null,100,15,10,65,15,null,null,10,null,"รวมฤดูฝน (ลบ.ม.)",193114902.8576923]
["ประสิทธิ์ภาพโครงการ (%)",65,"ข้าว กข.(นาดำ)","อ้อย","กะหล่ำดอก","มะม่วง","มะม่วง",null,null,"ไม้ดอก (บานชื่น)",null,"รวมทั้งปี (ลบ.ม.)",837839300.21876931]
["เริ่มต้น","สิ้นสุด","ข้าว","อ้อย","พืชผัก","ไม้ผล","ไม้ยืนต้น","บ่อปลา","บ่อกุ้ง","อื่นๆ","อุปโภค-บริโภค อุตสาหกรรม รักษาระบบนิเวศน์ และอื่น ๆ ","รวม (ลบ.ม.)"]
["2017-11-01","2017-11-07",0,8823344.7846153844,34173.630769230767,1190647.2123076923,0,0,0,38846.169230769228,0,10087011.796923075]
["2017-11-08","2017-11-14",259899.32307692309,2441486.3230769224,58126.461538461532,563619.52,0,0,0,15478.184615384616,0,3338609.8123076917]
["2017-11-15","2017-11-21",406713.16923076933,2441486.3230769224,99516.923076923078,563619.52,0,0,0,72618.938461538462,0,3583954.8738461533]
["2017-11-22","2017-11-28",465723.33846153854,2441486.3230769224,149532.73846153848,563619.52,0,0,0,48332.999999999993,0,3668694.92]
["2017-11-29","2017-12-05",1406536.6153846155,5376120.1076923078,275195.83076923079,673568.82584615378,0,0,0,94285.276923076904,0,7825706.6566153839]
["2017-12-06","2017-12-12",2177193.846153846,5376120.1076923078,359878.0615384616,836483.68030769227,0,0,0,105125.52307692308,0,8854801.2187692318]
["2017-12-13","2017-12-19",5170732.615384615,5376120.1076923078,440548.29230769229,836483.68030769227,0,0,0,114396.73846153847,0,11938281.434153846]
["2017-12-20","2017-12-26",8281317.5538461534,5376120.1076923078,547055.72307692305,836483.68030769227,0,0,0,121314.36923076923,0,15162291.434153846]
["2017-12-27","2018-01-02",9007521.1230769232,5625650.769230769,495605.07692307694,836483.68030769227,0,0,0,132965.58461538458,0,16098226.234153844]
["2018-01-03","2018-01-09",12132869.861538462,6936356.8615384614,551289.76923076925,896735.81323076924,0,0,0,75484.907692307694,0,20592737.21323077]
["2018-01-10","2018-01-16",23678692.430769227,6936356.8615384614,587538.41538461542,896735.81323076924,0,0,0,77802.015384615399,0,32177125.536307689]
["2018-01-17","2018-01-23",26296808.907692309,6936356.8615384614,472884.92307692306,896735.81323076924,0,0,0,0,0,34602786.505538464]
["2018-01-24","2018-01-30",28971633.815384623,6936356.8615384614,376489.23076923075,896735.81323076924,0,0,0,0,0,37181215.720923081]
["2018-01-31","2018-02-06",33321451.861538455,8736657.8615384623,329677.56923076924,822210.9593846153,0,0,0,0,0,43209998.251692303]
["2018-02-07","2018-02-13",33941722.646153852,8736657.8615384623,191322.50769230767,901294.8270769231,0,0,0,0,0,43770997.842461541]
["2018-02-14","2018-02-20",34365464.846153848,8736657.8615384623,169274.23076923075,901294.8270769231,0,0,0,0,0,44172691.765538469]
["2018-02-21","2018-02-27",34349216.753846154,8736657.8615384623,91992.030769230783,901294.8270769231,0,0,0,0,0,44079161.473230764]
["2018-02-28","2018-03-06",35512137.492307693,10994240.307692308,0,904870.19123076927,0,0,0,0,0,47411247.991230763]
["2018-03-07","2018-03-13",32920330.907692309,10994240.307692308,0,998260.74692307669,0,0,0,0,0,44912831.962307692]
["2018-03-14","2018-03-20",28481706.199999999,10994240.307692308,0,998260.74692307669,0,0,0,0,0,40474207.254615381]
["2018-03-21","2018-03-27",23355973.399999999,10994240.307692308,0,998260.74692307669,0,0,0,0,0,35348474.454615384]
["2018-03-28","2018-04-03",19103589.953846153,11682885.384615384,0,998260.74692307669,0,0,0,0,0,31784736.085384615]
["2018-04-04","2018-04-10",14864884.892307695,9668579.4000000004,0,1149694.4692307692,0,0,0,0,0,25683158.761538468]
["2018-04-11","2018-04-17",4173876.0153846163,9668579.4000000004,0,1149694.4692307692,0,0,0,0,0,14992149.884615386]
["2018-04-18","2018-04-24",2136750.5384615385,9668579.4000000004,0,1149694.4692307692,0,0,0,0,0,12955024.407692308]
["2018-04-25","2018-05-01",0,9668579.4000000004,0,1149694.4692307692,0,0,0,0,0,10818273.86923077]
["2018-05-02","2018-05-08",0,5986160.6769230776,0,499754.13076923089,0,0,0,0,0,6485914.807692308]
["2018-05-09","2018-05-15",1416092.4615384617,5433422.2153846165,44362.461538461546,466441.11538461532,0,0,0,0,0,7360318.2538461555]
["2018-05-16","2018-05-22",5451680.5846153842,5433422.2153846165,92930.092307692292,466441.11538461532,0,0,0,0,0,11444474.007692309]
["2018-05-23","2018-05-29",0,5433422.2153846165,97837.923076923078,466441.11538461532,0,0,0,0,0,5997701.2538461545]
["2018-05-30","2018-06-05",8580811.7692307699,3640242.9076923071,147200.86153846153,386685.13461538468,0,0,0,0,0,12754940.673076924]
["2018-06-06","2018-06-12",20497527.230769232,3640242.9076923071,325712.33846153843,357644.27692307689,0,0,0,0,0,24821126.75384615]
["2018-06-13","2018-06-19",10125547.476923082,3640242.9076923071,345867.0615384616,357644.27692307689,0,0,0,0,0,14469301.723076928]
["2018-06-20","2018-06-26",12080271.63076923,3640242.9076923071,376486.53846153832,357644.27692307689,0,0,0,0,0,16454645.353846153]
["2018-06-27","2018-07-03",11216034.384615386,3661752.9230769235,334820.72307692305,357644.27692307689,0,0,0,0,0,15570252.30769231]
["2018-07-04","2018-07-10",18551568.169230763,2341955.2615384613,292054.2,327595.11538461538,0,0,0,0,0,21513172.746153839]
["2018-07-11","2018-07-17",4940527.7538461518,2341955.2615384613,244805.53846153847,327595.11538461538,0,0,0,0,0,7854883.6692307657]
["2018-07-18","2018-07-24",10966613.123076931,2341955.2615384613,192802.9846153846,327595.11538461538,0,0,0,0,0,13828966.484615393]
["2018-07-25","2018-07-31",8616970.5692307707,2341955.2615384613,48084.676923076913,327595.11538461538,0,0,0,0,0,11334605.623076925]
["2018-08-01","2018-08-07",4049558.0923076891,46816.323076923596,14594.323076923074,74067.050000000032,0,0,0,0,0,4185035.7884615352]
["2018-08-08","2018-08-14",3766291.9384615351,46816.323076923596,0,74067.050000000032,0,0,0,0,0,3887175.3115384583]
["2018-08-15","2018-08-21",2955185.1076923083,46816.323076923596,0,74067.050000000032,0,0,0,0,0,3076068.4807692314]
["2018-08-22","2018-08-28",689186.76923076692,46816.323076923596,0,74067.050000000032,0,0,0,0,0,810070.14230769058]
["2018-08-29","2018-09-04",0,0,0,65336.138461538445,0,0,0,0,0,65336.138461538445]
["2018-09-05","2018-09-11",0,0,0,25725.76923076914,0,0,0,0,0,25725.76923076914]
["2018-09-12","2018-09-18",0,0,0,25725.76923076914,0,0,0,0,0,25725.76923076914]
["2018-09-19","2018-09-25",0,0,0,25725.76923076914,0,0,0,0,0,25725.76923076914]
["2018-09-26","2018-10-02",0,2279260.230769231,0,25725.76923076914,0,0,0,0,0,2304986]
["2018-10-03","2018-10-09",0,1985074.7846153844,0,219612.72307692302,0,0,0,0,0,2204687.5076923072]
["2018-10-10","2018-10-16",0,1985074.7846153844,0,219612.72307692302,0,0,0,0,0,2204687.5076923072]
["2018-10-17","2018-10-23",0,1985074.7846153844,0,219612.72307692302,0,0,0,0,0,2204687.5076923072]
["2018-10-24","2018-10-30",0,1985074.7846153844,0,219612.72307692302,0,0,0,0,0,2204687.5076923072]
["รวม (ลบ.ม.)",null,538686615.16923082,260587955.64615402,7787661.1384615377,29880417.557230778,0,0,0,896650.70769230765,0,837839300.21876943]

{"sheet":"R38","index":65,"n_rows":61,"n_cols":13,"rows_kept":61,"cut":false,"hidden":false,"merged":[]}
["ปี พ.ศ.",2560,"ฤดูแล้ง","60/61","ฤดูฝน","61",null,null,null,null,"โครงการชลประทานชลประทานกำแพงเพชร ฤดูแล้ง60/61 ฤดูฝน61"]
["โครงการชลประทาน","ชลประทานกำแพงเพชร"]
["จังหวัด","กำแพงเพชร"]
["รั่วซึม มม./สัปดาห์",7]
["น้ำเตรียมแปลงฤดูแล้ง มม./สัปดาห์",null,0,30,20,30,30,null,null,20,null,"รวมฤดูแล้ง (ลบ.ม.)",1108787304.818923]
["น้ำเตรียมแปลงฤดูฝน มม./สัปดาห์",null,100,15,10,65,15,null,null,10,null,"รวมฤดูฝน (ลบ.ม.)",320908780.83276916]
["ประสิทธิ์ภาพโครงการ (%)",65,"ข้าว กข.(นาดำ)","อ้อย","กะหล่ำดอก","มะม่วง","มะม่วง",null,null,"ไม้ดอก (บานชื่น)",null,"รวมทั้งปี (ลบ.ม.)",1429696085.6516922]
["เริ่มต้น","สิ้นสุด","ข้าว","อ้อย","พืชผัก","ไม้ผล","ไม้ยืนต้น","บ่อปลา","บ่อกุ้ง","อื่นๆ","อุปโภค-บริโภค อุตสาหกรรม รักษาระบบนิเวศน์ และอื่น ๆ ","รวม (ลบ.ม.)"]
["2017-11-01","2017-11-07",21951156.815384611,20881129.83076923,0,0,0,0,0,176418.75384615382,0,43008705.399999991]
["2017-11-08","2017-11-14",22108511.569230765,5777966.7538461545,0,0,0,0,0,70293.769230769234,0,27956772.092307687]
["2017-11-15","2017-11-21",21422347.569230776,5777966.7538461545,0,0,0,0,0,102026.10769230769,0,27302340.430769239]
["2017-11-22","2017-11-28",20154544.969230767,5777966.7538461545,0,0,0,0,0,128748.07692307692,0,26061259.799999997]
["2017-11-29","2017-12-05",28696114.338461537,12723005.261538461,0,0,0,0,0,213186.46153846156,0,41632306.061538458]
["2017-12-06","2017-12-12",26447703.907692309,12723005.261538461,0,0,0,0,0,230292.72307692305,0,39401001.892307699]
["2017-12-13","2017-12-19",14388763.323076922,12723005.261538461,0,0,0,0,0,244288.75384615385,0,27356057.338461537]
["2017-12-20","2017-12-26",14503975.815384613,12723005.261538461,0,0,0,0,0,253619.44615384613,0,27480600.523076918]
["2017-12-27","2018-01-02",13380580.723076925,13313538.938461538,0,0,0,0,0,273674.4923076923,0,26967794.153846156]
["2018-01-03","2018-01-09",18418900.769230768,16415426.569230771,0,0,0,0,0,0,0,34834327.338461541]
["2018-01-10","2018-01-16",28531575.369230773,16415426.569230771,398086.33846153849,0,0,0,0,0,0,45345088.276923083]
["2018-01-17","2018-01-23",26730312.261538465,17513839.53846154,675234.15384615399,0,1077994.0341538459,0,0,0,0,45997379.988000005]
["2018-01-24","2018-01-30",28333340.738461539,16875882.615384616,598121.18461538467,0,634400.18799999997,0,0,0,0,46441744.726461537]
["2018-01-31","2018-02-06",33256061.938461546,21141910.369230766,677671.63076923077,0,581677.21107692295,0,0,0,0,55657321.149538465]
["2018-02-07","2018-02-13",34793903.830769226,21141910.369230766,690231.18461538467,0,637625.48492307682,0,0,0,0,57263670.869538449]
["2018-02-14","2018-02-20",35598292.153846145,21264136.538461536,628779.5384615385,0,637625.48492307682,0,0,0,0,58128833.715692297]
["2018-02-21","2018-02-27",37072167.338461541,21264136.538461536,562986.4461538461,0,637625.48492307682,0,0,0,0,59536915.808000006]
["2018-02-28","2018-03-06",39373379.215384617,26664483.738461539,297777.10769230773,0,640154.89400000009,0,0,0,0,66975794.955538467]
["2018-03-07","2018-03-13",36651657.92307692,26664483.738461539,0,0,706224.51307692309,0,0,0,0,64022366.174615383]
["2018-03-14","2018-03-20",34788254.323076919,26664483.738461539,0,0,706224.51307692309,0,0,0,0,62158962.574615382]
["2018-03-21","2018-03-27",26051004.261538465,26839315.830769233,0,0,706224.51307692309,0,0,0,0,53596544.605384625]
["2018-03-28","2018-04-03",21896362.41538462,28495642.107692305,0,0,706224.51307692309,0,0,0,0,51098229.036153845]
["2018-04-04","2018-04-10",14114637.723076925,23728630.753846154,0,0,813357.03846153838,0,0,0,0,38656625.515384614]
["2018-04-11","2018-04-17",5164876.4153846158,23728630.753846154,0,0,813357.03846153838,0,0,0,0,29706864.20769231]
["2018-04-18","2018-04-24",2787683.0615384611,23892700.523076918,0,0,813357.03846153838,0,0,0,0,27493740.623076919]
["2018-04-25","2018-05-01",0,23892700.523076918,0,0,813357.03846153838,0,0,0,0,24706057.561538458]
["2018-05-02","2018-05-08",0,12849668.999999998,0,0,353553.53076923086,0,0,0,0,13203222.530769229]
["2018-05-09","2018-05-15",0,12849668.999999998,0,0,353553.53076923086,0,0,0,0,13203222.530769229]
["2018-05-16","2018-05-22",19778972.738461539,12988775.507692304,0,0,353553.53076923086,0,0,0,0,33121301.776923075]
["2018-05-23","2018-05-29",0,12988775.507692304,0,0,353553.53076923086,0,0,0,0,13342329.038461534]
["2018-05-30","2018-06-05",30126993.507692307,8169545.0153846135,0,0,293100.00692307705,0,0,0,0,38589638.530000001]
["2018-06-06","2018-06-12",36185108.046153851,8169545.0153846135,0,0,271087.59261538461,0,0,0,0,44625740.654153854]
["2018-06-13","2018-06-19",15215648.353846153,8169545.0153846135,0,0,271087.59261538461,0,0,0,0,23656280.96184615]
["2018-06-20","2018-06-26",4836115.2769230772,8011995.184615382,0,0,271087.59261538461,0,0,0,0,13119198.054153845]
["2018-06-27","2018-07-03",6669725.5692307651,8018766.5230769217,0,0,271087.59261538461,0,0,0,0,14959579.684923071]
["2018-07-04","2018-07-10",8707094.9076923039,4318491.569230767,0,0,248310.90000000002,0,0,0,0,13273897.376923071]
["2018-07-11","2018-07-17",9970015.8000000063,4318491.569230767,0,0,248310.90000000002,0,0,0,0,14536818.269230774]
["2018-07-18","2018-07-24",10229244.184615383,4271601.7384615354,0,0,248310.90000000002,0,0,0,0,14749156.823076919]
["2018-07-25","2018-07-31",9255827.9538461454,4271601.7384615354,0,0,248310.90000000002,0,0,0,0,13775740.592307681]
["2018-08-01","2018-08-07",3691479.876923074,0,0,0,56141.42200000002,0,0,0,0,3747621.2989230743]
["2018-08-08","2018-08-14",1428152.6153846143,0,0,0,56141.42200000002,0,0,0,0,1484294.0373846143]
["2018-08-15","2018-08-21",0,0,0,0,56141.42200000002,0,0,0,0,56141.42200000002]
["2018-08-22","2018-08-28",0,0,0,0,56141.42200000002,0,0,0,0,56141.42200000002]
["2018-08-29","2018-09-04",0,0,0,0,49523.556307692328,0,0,0,0,49523.556307692328]
["2018-09-05","2018-09-11",0,0,0,0,19499.64307692305,0,0,0,0,19499.64307692305]
["2018-09-12","2018-09-18",17266586,0,0,0,19499.64307692305,0,0,0,0,17286085.643076923]
["2018-09-19","2018-09-25",13668204.4,0,0,0,19499.64307692305,0,0,0,0,13687704.043076923]
["2018-09-26","2018-10-02",5990969.4461538419,2858768.0153846168,0,0,19499.64307692305,0,0,0,0,8869237.104615381]
["2018-10-03","2018-10-09",0,2736130.3230769229,0,0,166462.29046153842,0,0,0,0,2902592.6135384613]
["2018-10-10","2018-10-16",0,2736130.3230769229,0,0,166462.29046153842,0,0,0,0,2902592.6135384613]
["2018-10-17","2018-10-23",0,2679148.0153846154,0,0,166462.29046153842,0,0,0,0,2845610.3058461538]
["2018-10-24","2018-10-30",0,2679148.0153846154,0,0,166462.29046153842,0,0,0,0,2845610.3058461538]
["รวม (ลบ.ม.)",null,799636247.44615388,608110127.96923077,4528887.5846153852,0,15728274.067076921,0,0,1692548.5846153845,0,1429696085.6516926]

{"sheet":"R39","index":66,"n_rows":61,"n_cols":13,"rows_kept":61,"cut":false,"hidden":false,"merged":[]}
["ปี พ.ศ.",2560,"ฤดูแล้ง","60/61","ฤดูฝน","61",null,null,null,null,"โครงการชลประทานชลประทานนครสวรรค์ ฤดูแล้ง60/61 ฤดูฝน61"]
["โครงการชลประทาน","ชลประทานนครสวรรค์"]
["จังหวัด","นครสวรรค์"]
["รั่วซึม มม./สัปดาห์",7]
["น้ำเตรียมแปลงฤดูแล้ง มม./สัปดาห์",null,0,30,20,30,30,null,null,20,null,"รวมฤดูแล้ง (ลบ.ม.)",184717938.65882355]
["น้ำเตรียมแปลงฤดูฝน มม./สัปดาห์",null,100,15,10,85,15,null,null,10,null,"รวมฤดูฝน (ลบ.ม.)",96903214.36470589]
["ประสิทธิ์ภาพโครงการ (%)",85,"ข้าว กข.(นาดำ)","อ้อย","กะหล่ำดอก","มะม่วง","มะม่วง",null,null,"ไม้ดอก (บานชื่น)",null,"รวมทั้งปี (ลบ.ม.)",281621153.02352941]
["เริ่มต้น","สิ้นสุด","ข้าว","อ้อย","พืชผัก","ไม้ผล","ไม้ยืนต้น","บ่อปลา","บ่อกุ้ง","อื่นๆ","อุปโภค-บริโภค อุตสาหกรรม รักษาระบบนิเวศน์ และอื่น ๆ ","รวม (ลบ.ม.)"]
["2017-11-01","2017-11-07",0,355994.35294117645,0,0,0,0,0,141906.82352941175,0,497901.17647058819]
["2017-11-08","2017-11-14",0,130112.00000000003,0,0,0,0,0,73226.352941176461,0,203338.3529411765]
["2017-11-15","2017-11-21",0,130112.00000000003,0,0,0,0,0,95194.823529411777,0,225306.82352941181]
["2017-11-22","2017-11-28",0,130112.00000000003,0,0,0,0,0,113694.58823529411,0,243806.58823529416]
["2017-11-29","2017-12-05",0,193034.54117647058,0,0,0,0,0,143959.0588235294,0,336993.6]
["2017-12-06","2017-12-12",0,193034.54117647058,0,0,0,0,0,156170.35294117645,0,349204.89411764703]
["2017-12-13","2017-12-19",3350678.411764706,479247.24705882353,0,0,0,0,0,166161.4117647059,0,3996087.0705882357]
["2017-12-20","2017-12-26",4205698.45882353,309835.48235294124,0,0,0,0,0,172822.1176470588,0,4688356.0588235296]
["2017-12-27","2018-01-02",4650934.0117647061,326603.85882352944,0,0,0,0,0,191193.41176470587,0,5168731.2823529411]
["2018-01-03","2018-01-09",8174800.5882352944,379399.34117647057,0,0,0,0,0,0,0,8554199.9294117652]
["2018-01-10","2018-01-16",9253608.2235294115,410196.70588235295,0,0,0,0,0,0,0,9663804.9294117652]
["2018-01-17","2018-01-23",10440069.37647059,410196.70588235295,0,0,0,0,0,0,0,10850266.082352944]
["2018-01-24","2018-01-30",11600554.058823528,410196.70588235295,0,0,0,0,0,0,0,12010750.764705881]
["2018-01-31","2018-02-06",15025083.376470588,562406.02352941176,0,0,0,0,0,0,0,15587489.4]
["2018-02-07","2018-02-13",15240834.411764709,562406.02352941176,0,0,0,0,0,0,0,15803240.435294122]
["2018-02-14","2018-02-20",15266869.258823529,614383.24705882347,0,0,0,0,0,0,0,15881252.505882353]
["2018-02-21","2018-02-27",14887269.952941176,614383.24705882347,0,0,0,0,0,0,0,15501653.199999999]
["2018-02-28","2018-03-06",15734295.717647059,784761.6,0,0,0,0,0,0,0,16519057.317647059]
["2018-03-07","2018-03-13",14701334.188235292,784761.6,0,0,0,0,0,0,0,15486095.788235292]
["2018-03-14","2018-03-20",9896459.2941176463,837462.21176470583,0,0,0,0,0,0,0,10733921.505882353]
["2018-03-21","2018-03-27",7583701.0352941193,837462.21176470583,0,0,0,0,0,0,0,8421163.2470588256]
["2018-03-28","2018-04-03",5642402.4588235291,784097.50588235294,0,0,0,0,0,0,0,6426499.9647058817]
["2018-04-04","2018-04-10",2400776.3764705881,697860.14117647056,0,0,0,0,0,0,0,3098636.5176470587]
["2018-04-11","2018-04-17",1531071.2588235294,748165.27058823535,0,0,0,0,0,0,0,2279236.5294117648]
["2018-04-18","2018-04-24",674676.50588235294,748165.27058823535,0,0,0,0,0,0,0,1422841.7764705883]
["2018-04-25","2018-05-01",19937.647058823495,748165.27058823535,0,0,0,0,0,0,0,768102.91764705884]
["2018-05-02","2018-05-08",0,477172.70588235301,0,0,0,0,0,0,0,477172.70588235301]
["2018-05-09","2018-05-15",32979592.000000007,477172.70588235301,0,0,0,0,0,0,0,33456764.705882359]
["2018-05-16","2018-05-22",2966888.0000000009,428610.82352941175,0,0,0,0,0,0,0,3395498.8235294125]
["2018-05-23","2018-05-29",3451008.0000000009,428610.82352941175,0,0,0,0,0,0,0,3879618.8235294125]
["2018-05-30","2018-06-05",5077711.9999999991,342179.76470588235,0,0,0,0,0,0,0,5419891.7647058815]
["2018-06-06","2018-06-12",5862944.0000000009,342179.76470588235,0,0,0,0,0,0,0,6205123.7647058833]
["2018-06-13","2018-06-19",6473680,327593.4117647059,0,0,0,0,0,0,0,6801273.4117647056]
["2018-06-20","2018-06-26",6909920,327593.4117647059,63693.176470588238,0,0,0,0,0,0,7301206.5882352935]
["2018-06-27","2018-07-03",5466300.2352941167,215888.5647058824,47074.635294117645,0,0,0,0,0,0,5729263.4352941168]
["2018-07-04","2018-07-10",4779625.4117647056,153906.44705882351,50690.25882352941,0,0,0,0,0,0,4984222.1176470593]
["2018-07-11","2018-07-17",4114867.2000000016,112068.51764705882,52756.329411764709,0,0,0,0,0,0,4279692.0470588254]
["2018-07-18","2018-07-24",3206054.4,112068.51764705882,53789.364705882341,0,0,0,0,0,0,3371912.2823529411]
["2018-07-25","2018-07-31",791592.65882352903,112068.51764705882,38293.835294117649,0,0,0,0,0,0,941955.01176470553]
["2018-08-01","2018-08-07",0,0,15124.517647058818,0,0,0,0,0,0,15124.517647058818]
["2018-08-08","2018-08-14",3661.1764705882351,0,0,0,0,0,0,0,0,3661.1764705882351]
["2018-08-15","2018-08-21",2683.4823529411669,0,0,0,0,0,0,0,0,2683.4823529411669]
["2018-08-22","2018-08-28",0,0,0,0,0,0,0,0,0,0]
["2018-08-29","2018-09-04",0,0,0,0,0,0,0,0,0,0]
["2018-09-05","2018-09-11",2362335.9647058821,0,0,0,0,0,0,0,0,2362335.9647058821]
["2018-09-12","2018-09-18",4243700.2117647063,0,0,0,0,0,0,0,0,4243700.2117647063]
["2018-09-19","2018-09-25",0,0,0,0,0,0,0,0,0,0]
["2018-09-26","2018-10-02",349677.07058823557,6182.4000000000096,0,0,0,0,0,0,0,355859.47058823559]
["2018-10-03","2018-10-09",682743.8,4300.799999999992,0,0,0,0,0,0,0,687044.60000000009]
["2018-10-10","2018-10-16",876054.67058823491,1478.4000000000165,0,0,0,0,0,0,0,877533.07058823493]
["2018-10-17","2018-10-23",1023031.1529411764,1478.4000000000165,0,0,0,0,0,0,0,1024509.5529411765]
["2018-10-24","2018-10-30",1085688.4352941175,1478.4000000000165,0,0,0,0,0,0,0,1087166.8352941175]
["รวม (ลบ.ม.)",null,262990814.48235291,17054587.482352935,321422.1176470588,0,0,0,0,1254328.9411764706,0,281621153.02352947]

{"sheet":"R40","index":67,"n_rows":61,"n_cols":13,"rows_kept":61,"cut":false,"hidden":false,"merged":[]}
["ปี พ.ศ.",2560,"ฤดูแล้ง","60/61","ฤดูฝน","61",null,null,null,null,"โครงการชลประทานชลประทานตาก ฤดูแล้ง60/61 ฤดูฝน61"]
["โครงการชลประทาน","ชลประทานตาก"]
["จังหวัด","ตาก"]
["รั่วซึม มม./สัปดาห์",7]
["น้ำเตรียมแปลงฤดูแล้ง มม./สัปดาห์",null,0,30,20,30,30,null,null,20,null,"รวมฤดูแล้ง (ลบ.ม.)",25913499.015294116]
["น้ำเตรียมแปลงฤดูฝน มม./สัปดาห์",null,100,15,10,85,15,null,null,10,null,"รวมฤดูฝน (ลบ.ม.)",13730128.635058824]
["ประสิทธิ์ภาพโครงการ (%)",85,"ข้าว กข.(นาดำ)","อ้อย","กะหล่ำดอก","มะม่วง","มะม่วง",null,null,"ไม้ดอก (บานชื่น)",null,"รวมทั้งปี (ลบ.ม.)",39643627.65035294]
["เริ่มต้น","สิ้นสุด","ข้าว","อ้อย","พืชผัก","ไม้ผล","ไม้ยืนต้น","บ่อปลา","บ่อกุ้ง","อื่นๆ","อุปโภค-บริโภค อุตสาหกรรม รักษาระบบนิเวศน์ และอื่น ๆ ","รวม (ลบ.ม.)"]
["2017-11-01","2017-11-07",318952.31764705887,0,0,416698.9411764706,404360.30941176467,0,0,0,0,1140011.5682352942]
["2017-11-08","2017-11-14",235569.77647058829,0,0,196463.6470588235,187345.72117647054,0,0,0,0,619379.1447058823]
["2017-11-15","2017-11-21",185902.90588235299,0,0,196463.6470588235,187345.72117647054,0,0,0,0,569712.27411764697]
["2017-11-22","2017-11-28",118358.14117647058,0,0,0,187345.72117647054,0,0,0,0,305703.86235294113]
["2017-11-29","2017-12-05",169549.85882352942,0,0,0,222738.35035294114,0,0,0,0,392288.20917647053]
["2017-12-06","2017-12-12",109433.63529411764,0,17496.776470588233,0,261339.82258823531,0,0,0,0,388270.23435294116]
["2017-12-13","2017-12-19",130524.43529411766,0,371362.90588235296,0,261339.82258823531,0,0,0,0,763227.16376470588]
["2017-12-20","2017-12-26",110682.10588235295,0,421865.08235294116,0,261339.82258823531,0,0,0,0,793887.01082352945]
["2017-12-27","2018-01-02",123846.96470588235,0,421130.54117647058,0,261339.82258823531,0,0,0,0,806317.3284705882]
["2018-01-03","2018-01-09",404785.4,0,433231.81176470587,0,287649.33882352943,0,0,0,0,1125666.5505882353]
["2018-01-10","2018-01-16",425661.14117647061,0,437026.63529411767,0,287649.33882352943,0,0,0,0,1150337.1152941177]
["2018-01-17","2018-01-23",524667.55294117646,0,431882.16470588237,0,287649.33882352943,0,0,0,0,1244199.0564705883]
["2018-01-24","2018-01-30",681771.67058823525,0,383474.82352941175,0,287649.33882352943,0,0,0,0,1352895.8329411764]
["2018-01-31","2018-02-06",957864.5882352941,0,172319.02352941179,0,263147.69176470593,0,0,0,0,1393331.303529412]
["2018-02-07","2018-02-13",1001402.694117647,0,45766.023529411774,0,331234.26870588236,0,0,0,0,1378402.986352941]
["2018-02-14","2018-02-20",1036697.5058823529,0,46314.164705882351,0,331234.26870588236,0,0,0,0,1414245.9392941177]
["2018-02-21","2018-02-27",1043116.2352941178,0,38092.047058823533,0,331234.26870588236,0,0,0,0,1412442.5510588237]
["2018-02-28","2018-03-06",1185575.3411764705,0,43291.76470588235,0,332508.35435294127,0,0,0,0,1561375.4602352942]
["2018-03-07","2018-03-13",1119653.2705882352,0,0,0,389215.22647058824,0,0,0,0,1508868.4970588235]
["2018-03-14","2018-03-20",1034787.5294117647,0,0,0,389215.22647058824,0,0,0,0,1424002.7558823531]
["2018-03-21","2018-03-27",830881.4117647059,0,0,0,389215.22647058824,0,0,0,0,1220096.6382352943]
["2018-03-28","2018-04-03",783754.35294117639,0,0,0,389215.22647058824,0,0,0,0,1172969.5794117646]
["2018-04-04","2018-04-10",406829.17647058825,0,0,0,453893.01176470588,0,0,0,0,860722.18823529407]
["2018-04-11","2018-04-17",342098.44705882354,0,0,0,453893.01176470588,0,0,0,0,795991.45882352942]
["2018-04-18","2018-04-24",211368.28235294114,0,0,0,453893.01176470588,0,0,0,0,665261.29411764699]
["2018-04-25","2018-05-01",0,0,0,0,453893.01176470588,0,0,0,0,453893.01176470588]
["2018-05-02","2018-05-08",0,0,0,0,214380.65647058832,0,0,0,0,214380.65647058832]
["2018-05-09","2018-05-15",0,0,0,0,214380.65647058832,0,0,0,0,214380.65647058832]
["2018-05-16","2018-05-22",0,0,0,0,214380.65647058832,0,0,0,0,214380.65647058832]
["2018-05-23","2018-05-29",0,0,0,0,214380.65647058832,0,0,0,0,214380.65647058832]
["2018-05-30","2018-06-05",0,0,0,0,182608.14564705887,0,0,0,0,182608.14564705887]
["2018-06-06","2018-06-12",0,0,0,0,166120.2967058823,0,0,0,0,166120.2967058823]
["2018-06-13","2018-06-19",0,0,0,0,166120.2967058823,0,0,0,0,166120.2967058823]
["2018-06-20","2018-06-26",203822.30588235293,0,61139.200000000012,293301.90588235296,166120.2967058823,0,0,0,0,724383.7084705882]
["2018-06-27","2018-07-03",29318.964705882358,0,58905.600000000013,129537.2,166120.2967058823,0,0,0,0,383882.06141176465]
["2018-07-04","2018-07-10",253855.54117647058,0,62530.447058823527,117702.81176470588,150943.70694117647,0,0,0,0,585032.50694117649]
["2018-07-11","2018-07-17",555746.43529411766,0,154009.1294117647,117702.81176470588,150943.70694117647,0,0,0,0,978402.0834117647]
["2018-07-18","2018-07-24",919943.42352941178,0,153995.85882352939,117702.81176470588,150943.70694117647,0,0,0,0,1342585.8010588235]
["2018-07-25","2018-07-31",1097880.2117647061,0,143898.07058823531,117702.81176470588,150943.70694117647,0,0,0,0,1510424.8010588237]
["2018-08-01","2018-08-07",1452908.1647058823,0,118061.17647058824,55330.635294117623,70956.76988235295,0,0,0,0,1697256.7463529413]
["2018-08-08","2018-08-14",737607.5176470587,0,81462.211764705877,55330.635294117623,70956.76988235295,0,0,0,0,945357.13458823506]
["2018-08-15","2018-08-21",539120.76470588252,0,58693.270588235297,55330.635294117623,70956.76988235295,0,0,0,0,724101.44047058839]
["2018-08-22","2018-08-28",2298166.317647059,0,179287.3411764706,55330.635294117623,70956.76988235295,0,0,0,0,2603741.0640000002]
["2018-08-29","2018-09-04",0,0,38595.76470588235,52579.388235294093,67428.532705882331,0,0,0,0,158603.68564705877]
["2018-09-05","2018-09-11",0,0,46274.352941176483,0,0,0,0,0,0,46274.352941176483]
["2018-09-12","2018-09-18",0,0,50662.117647058811,0,0,0,0,0,0,50662.117647058811]
["2018-09-19","2018-09-25",0,0,52856.000000000015,0,0,0,0,0,0,52856.000000000015]
["2018-09-26","2018-10-02",0,0,86111.529411764699,0,0,0,0,0,0,86111.529411764699]
["2018-10-03","2018-10-09",0,0,83878.117647058811,42083.094117647051,53967.935647058803,0,0,0,0,179929.14741176466]
["2018-10-10","2018-10-16",0,0,0,42083.094117647051,53967.935647058803,0,0,0,0,96051.029764705861]
["2018-10-17","2018-10-23",0,0,0,42083.094117647051,53967.935647058803,0,0,0,0,96051.029764705861]
["2018-10-24","2018-10-30",0,0,0,42083.094117647051,53967.935647058803,0,0,0,0,96051.029764705861]
["รวม (ลบ.ม.)",null,21582104.388235293,0,4693613.9529411783,2145510.8941176473,11222398.415058821,0,0,0,0,39643627.650352947]

{"sheet":"R41","index":68,"n_rows":61,"n_cols":13,"rows_kept":61,"cut":false,"hidden":false,"merged":[]}
["ปี พ.ศ.",2560,"ฤดูแล้ง","60/61","ฤดูฝน","61",null,null,null,null,"โครงการชลประทานชลประทานอุตรดิตถ์ ฤดูแล้ง60/61 ฤดูฝน61"]
["โครงการชลประทาน","ชลประทานอุตรดิตถ์"]
["จังหวัด","อุตรดิตถ์"]
["รั่วซึม มม./สัปดาห์",7]
["น้ำเตรียมแปลงฤดูแล้ง มม./สัปดาห์",null,0,30,20,30,30,null,null,20,null,"รวมฤดูแล้ง (ลบ.ม.)",30826806.000000004]
["น้ำเตรียมแปลงฤดูฝน มม./สัปดาห์",null,100,15,10,85,15,null,null,10,null,"รวมฤดูฝน (ลบ.ม.)",9925447.1411764733]
["ประสิทธิ์ภาพโครงการ (%)",85,"ข้าว กข.(นาดำ)","อ้อย","กะหล่ำดอก","มะม่วง","มะม่วง",null,null,"ไม้ดอก (บานชื่น)",null,"รวมทั้งปี (ลบ.ม.)",40752253.141176477]
["เริ่มต้น","สิ้นสุด","ข้าว","อ้อย","พืชผัก","ไม้ผล","ไม้ยืนต้น","บ่อปลา","บ่อกุ้ง","อื่นๆ","อุปโภค-บริโภค อุตสาหกรรม รักษาระบบนิเวศน์ และอื่น ๆ ","รวม (ลบ.ม.)"]
["2017-11-01","2017-11-07",130689.4,0,0,0,0,0,0,0,0,130689.4]
["2017-11-08","2017-11-14",139339.31764705884,0,0,0,0,0,0,0,0,139339.31764705884]
["2017-11-15","2017-11-21",146067.03529411764,0,0,0,0,0,0,0,0,146067.03529411764]
["2017-11-22","2017-11-28",150872.54117647058,0,0,0,0,0,0,0,0,150872.54117647058]
["2017-11-29","2017-12-05",154323.11764705885,0,0,0,0,0,0,0,0,154323.11764705885]
["2017-12-06","2017-12-12",149667.88235294117,0,0,0,0,0,0,0,0,149667.88235294117]
["2017-12-13","2017-12-19",143435.97647058824,0,0,0,0,0,0,0,0,143435.97647058824]
["2017-12-20","2017-12-26",144337.91764705884,0,0,0,0,0,0,0,0,144337.91764705884]
["2017-12-27","2018-01-02",173377.96470588236,0,0,0,0,0,0,0,0,173377.96470588236]
["2018-01-03","2018-01-09",257124.69411764701,0,0,0,0,0,0,0,0,257124.69411764701]
["2018-01-10","2018-01-16",429070.87058823521,0,0,0,0,0,0,0,0,429070.87058823521]
["2018-01-17","2018-01-23",1211107.5647058825,0,0,0,0,0,0,0,0,1211107.5647058825]
["2018-01-24","2018-01-30",1848057.1058823529,0,0,0,0,0,0,0,0,1848057.1058823529]
["2018-01-31","2018-02-06",2222215.9882352939,0,0,0,0,0,0,0,0,2222215.9882352939]
["2018-02-07","2018-02-13",2436352.3764705877,0,0,0,0,0,0,0,0,2436352.3764705877]
["2018-02-14","2018-02-20",2642484.1647058823,0,0,0,0,0,0,0,0,2642484.1647058823]
["2018-02-21","2018-02-27",2754263.7529411768,0,0,0,0,0,0,0,0,2754263.7529411768]
["2018-02-28","2018-03-06",3177982.1764705889,0,0,0,0,0,0,0,0,3177982.1764705889]
["2018-03-07","2018-03-13",3165163.5764705883,0,0,0,0,0,0,0,0,3165163.5764705883]
["2018-03-14","2018-03-20",3046593.7294117645,0,0,0,0,0,0,0,0,3046593.7294117645]
["2018-03-21","2018-03-27",2856200.7882352942,0,0,0,0,0,0,0,0,2856200.7882352942]
["2018-03-28","2018-04-03",1463575.8588235294,0,0,0,0,0,0,0,0,1463575.8588235294]
["2018-04-04","2018-04-10",1048420.717647059,0,0,0,0,0,0,0,0,1048420.717647059]
["2018-04-11","2018-04-17",654602.38823529414,0,0,0,0,0,0,0,0,654602.38823529414]
["2018-04-18","2018-04-24",281479.09411764698,0,0,0,0,0,0,0,0,281479.09411764698]
["2018-04-25","2018-05-01",0,0,0,0,0,0,0,0,0,0]
["2018-05-02","2018-05-08",0,0,0,0,0,0,0,0,0,0]
["2018-05-09","2018-05-15",0,0,0,0,0,0,0,0,0,0]
["2018-05-16","2018-05-22",0,0,0,0,0,0,0,0,0,0]
["2018-05-23","2018-05-29",0,0,0,0,0,0,0,0,0,0]
["2018-05-30","2018-06-05",0,0,0,0,0,0,0,0,0,0]
["2018-06-06","2018-06-12",0,0,0,0,0,0,0,0,0,0]
["2018-06-13","2018-06-19",0,0,0,0,0,0,0,0,0,0]
["2018-06-20","2018-06-26",0,0,0,0,0,0,0,0,0,0]
["2018-06-27","2018-07-03",0,0,0,0,0,0,0,0,0,0]
["2018-07-04","2018-07-10",0,0,0,0,0,0,0,0,0,0]
["2018-07-11","2018-07-17",0,0,0,0,0,0,0,0,0,0]
["2018-07-18","2018-07-24",0,0,0,0,0,0,0,0,0,0]
["2018-07-25","2018-07-31",5160902.3529411787,0,0,0,0,0,0,0,0,5160902.3529411787]
["2018-08-01","2018-08-07",0,0,0,0,0,0,0,0,0,0]
["2018-08-08","2018-08-14",0,0,0,0,0,0,0,0,0,0]
["2018-08-15","2018-08-21",0,0,0,0,0,0,0,0,0,0]
["2018-08-22","2018-08-28",0,0,0,0,0,0,0,0,0,0]
["2018-08-29","2018-09-04",113987.89411764701,0,0,0,0,0,0,0,0,113987.89411764701]
["2018-09-05","2018-09-11",193870.19999999992,0,0,0,0,0,0,0,0,193870.19999999992]
["2018-09-12","2018-09-18",161917.27058823549,0,0,0,0,0,0,0,0,161917.27058823549]
["2018-09-19","2018-09-25",66058.517647059081,0,0,0,0,0,0,0,0,66058.517647059081]
["2018-09-26","2018-10-02",1460458.5294117648,0,0,0,0,0,0,0,0,1460458.5294117648]
["2018-10-03","2018-10-09",1281222.611764706,0,0,0,0,0,0,0,0,1281222.611764706]
["2018-10-10","2018-10-16",808691.57647058822,0,0,0,0,0,0,0,0,808691.57647058822]
["2018-10-17","2018-10-23",678338.18823529419,0,0,0,0,0,0,0,0,678338.18823529419]
["2018-10-24","2018-10-30",0,0,0,0,0,0,0,0,0,0]
["รวม (ลบ.ม.)",null,40752253.141176485,0,0,0,0,0,0,0,0,40752253.141176485]