{"text_format":"1","workbook":"xlsx","n_sheets":22,"sheets":["fill_data","ROS","สอน.จน.1","paddy_dry","paddy_rain","upland_dry","upland_rain","plant","fishpond","prawnpond","Prv","ความต้องการน้ำรายสัปดาห์","Crop","Kc","ฝนใช้การรายสัปดาห์","ฝนใช้การรายวัน","Evapรายวัน","ฝนใช้การข้าว","ฝนใช้พืชไร่up","ETo","evap","FAO"],"not_rendered":{"charts":1,"images":0,"macros":1,"external_links":2,"defined_names":74,"comments":8,"pivot_tables":0},"unopened":[],"bounds":{"document_bytes":16777216,"sheet_cells":100000,"rows_first":2000,"rows_last":500,"rows_between":2000,"halvings":0,"cell_chars":16384,"cell_head_chars":4096},"cells_cut":0,"cells_raw":0,"read":"whole","date_system":"1900"}

{"sheet":"fill_data","index":0,"n_rows":425,"n_cols":13,"rows_kept":425,"cut":false,"hidden":false,"merged":[[10,2,10,3],[0,0,0,2],[0,3,0,4],[58,1,58,4],[58,0,59,0],[32,2,32,3],[32,9,32,10],[53,2,53,3],[10,9,10,10],[3,2,3,3],[4,2,4,3]]}
["โครงการ",null,null,null,null,null,null,"สำนักชลประทานที่ "]
[null,"ปริมาณน้ำจัดสรร ณ วันที่ 1 พฤศจิกายน 2552",null,null,null,null,null,"  ล้าน ม.3","ประสิทธิภาพโครงการ",null,45," %"]
[]
["จังหวัด"]
["ใช้ค่า ETo ของจังหวัด",null,{"$f":"VLOOKUP(C4,Prv!$D$3:$E$79,2,FALSE)","v":{"$error":"#N/A"}}]
["ปริมาณน้ำรั่วซึม, มม./สัปดาห์"]
[]
[]
["ข้าวนาปี",null,null,null,"สัปดาห์","พื้นที่ (ไร่)",null,"ข้าวนาปรัง",null,null,null,"สัปดาห์","พื้นที่ (ไร่)"]
[null,null,null,null,1,null,null,null,null,null,null,1]
["ชนิดพืช",null,"ข้าว กข.(นาดำ)",null,{"$f":"IF(E10=\"\",\"\",IF(E10+1<=$D$14,E10+1,\"\"))","v":2},null,null,"ชนิดพืช",null,"ข้าว กข.(นาดำ)",null,{"$f":"IF(L10=\"\",\"\",IF(L10+1<=$K$14,L10+1,\"\"))","v":2}]
["สัปดาห์เริ่มต้น",null,{"$f":"VLOOKUP(C11,Crop!$B$3:$C$35,2,FALSE)","v":13},33,3,null,null,"สัปดาห์เริ่มต้น",null,{"$f":"VLOOKUP(J11,Crop!$B$3:$C$35,2,FALSE)","v":13},9,{"$f":"IF(L11=\"\",\"\",IF(L11+1<=$K$14,L11+1,\"\"))","v":3}]
["พื้นที่ปลูกทั้งหมด, ไร่",null,null,{"$f":"SUM(F10:F29)","v":0},4,null,null,"พื้นที่ปลูกทั้งหมด, ไร่",null,null,{"$f":"SUM(M10:M29)","v":0},{"$f":"IF(L12=\"\",\"\",IF(L12+1<=$K$14,L12+1,\"\"))","v":4}]
["เวลาปลูกจนเต็มพื้นที่, สัปดาห์",null,null,7,5,null,null,"เวลาปลูกจนเต็มพื้นที่, สัปดาห์",null,null,4,{"$f":"IF(L13=\"\",\"\",IF(L13+1<=$K$14,L13+1,\"\"))","v":""}]
["ปริมาณน้ำเตรียมแปลง, มม./สัปดาห์",null,null,240,6,null,null,"ปริมาณน้ำเตรียมแปลง, มม./สัปดาห์",null,null,240,{"$f":"IF(L14=\"\",\"\",IF(L14+1<=$K$14,L14+1,\"\"))","v":""}]
[null,null,null,null,7,null,null,null,null,null,null,""]
[null,null,null,null,"",null,null,null,null,null,null,""]
[null,null,null,null,"",null,null,null,null,null,null,""]
[null,null,null,null,"",null,null,null,null,null,null,""]
[null,null,null,null,{"$f":"IF(E19=\"\",\"\",IF(E19+1<=$D$14,E19+1,\"\"))","v":""},null,null,null,null,null,null,""]
[null,null,null,null,"",null,null,null,null,null,null,""]
[null,null,null,null,"",null,null,null,null,null,null,""]
[null,null,null,null,"",null,null,null,null,null,null,""]
[null,null,null,null,"",null,null,null,null,null,null,""]
[null,null,null,null,"",null,null,null,null,null,null,""]
[null,null,null,null,"",null,null,null,null,null,null,""]
[null,null,null,null,"",null,null,null,null,null,null,""]
[null,null,null,null,"",null,null,null,null,null,null,""]
[null,null,null,null,{"$f":"IF(E28=\"\",\"\",IF(E28+1<=$D$14,E28+1,\"\"))","v":""},null,null,null,null,null,null,""]
[]
["พืชไร่-พืชผักฤดูฝน",null,null,null,"สัปดาห์","พื้นที่ (ไร่)",null,"พืชไร่-พืชผักฤดูแล้ง",null,null,null,"สัปดาห์","พื้นที่ (ไร่)"]
[null,null,null,null,1,null,null,null,null,null,null,1]
["ชนิดพืช",null,"ข้าวโพดเลี้ยงสัตว์",null,{"$f":"IF(E32=\"\",\"\",IF(E32+1<=$D$36,E32+1,\"\"))","v":2},null,null,"ชนิดพืช",null,"ถั่ว\nเขียว",null,{"$f":"IF(L32=\"\",\"\",IF(L32+1<=$K$36,L32+1,\"\"))","v":2}]
["สัปดาห์เริ่มต้น",null,{"$f":"VLOOKUP(C33,Crop!$B$3:$C$35,2,FALSE)","v":14},27,{"$f":"IF(E33=\"\",\"\",IF(E33+1<=$D$36,E33+1,\"\"))","v":3},null,null,"สัปดาห์เริ่มต้น",null,{"$f":"VLOOKUP(J33,Crop!$B$3:$C$35,2,FALSE)","v":9},10,{"$f":"IF(L33=\"\",\"\",IF(L33+1<=$K$36,L33+1,\"\"))","v":3}]
["พื้นที่ปลูกทั้งหมด, ไร่",null,null,{"$f":"SUM(F32:F51)","v":0},4,null,null,"พื้นที่ปลูกทั้งหมด, ไร่",null,null,{"$f":"SUM(M32:M51)","v":0},""]
["เวลาปลูกจนเต็มพื้นที่, สัปดาห์",null,null,5,5,null,null,"เวลาปลูกจนเต็มพื้นที่, สัปดาห์",null,null,3,""]
["ปริมาณน้ำเตรียมแปลง, มม./สัปดาห์",null,null,30,"",null,null,"ปริมาณน้ำเตรียมแปลง, มม./สัปดาห์",null,null,30,""]
[null,null,null,null,"",null,null,null,null,null,null,""]
[null,null,null,null,"",null,null,null,null,null,null,""]
[null,null,null,null,"",null,null,null,null,null,null,""]
[null,null,null,null,"",null,null,null,null,null,null,{"$f":"IF(L40=\"\",\"\",IF(L40+1<=$K$36,L40+1,\"\"))","v":""}]
[null,null,null,null,{"$f":"IF(E41=\"\",\"\",IF(E41+1<=$D$36,E41+1,\"\"))","v":""},null,null,null,null,null,null,""]
[null,null,null,null,"",null,null,null,null,null,null,""]
[null,null,null,null,"",null,null,null,null,null,null,""]
[null,null,null,null,"",null,null,null,null,null,null,""]
[null,null,null,null,"",null,null,null,null,null,null,""]
[null,null,null,null,"",null,null,null,null,null,null,""]
[null,null,null,null,"",null,null,null,null,null,null,""]
[null,null,null,null,"",null,null,null,null,null,null,""]
[null,null,null,null,"",null,null,null,null,null,null,""]
[null,null,null,null,"",null,null,null,null,null,null,""]
["ไม้ผล",null,null,null,null,null,null,"บ่อปลา - บ่อกุ้ง"]
[]
["ชนิดพืช",null,"ยางพารา**",null,null,null,null,"พื้นที่บ่อปลา, ไร่"]
["พื้นที่ปลูกทั้งหมด, ไร่",null,null,null,null,null,null,"พื้นที่บ่อกุ้ง, ไร่"]
[]
["ข้อมูลรายวัน"]
[]
["วันที่","ความต้องการใช้น้ำ"]
[null,"อุปโภค บริโภค ประปา","อุตสาหกรรม","รักษาระบบนิเวศน์","อื่น ๆ"]
["2008-11-01"]
[{"$f":"+A61+1","v":"2008-11-02"}]
["2008-11-03"]
["2008-11-04"]
["2008-11-05"]
["2008-11-06"]
["2008-11-07"]
["2008-11-08"]
["2008-11-09"]
["2008-11-10"]
["2008-11-11"]
["2008-11-12"]
["2008-11-13"]
["2008-11-14"]
["2008-11-15"]
["2008-11-16"]
["2008-11-17"]
["2008-11-18"]
["2008-11-19"]
["2008-11-20"]
["2008-11-21"]
["2008-11-22"]
["2008-11-23"]
["2008-11-24"]
["2008-11-25"]
["2008-11-26"]
["2008-11-27"]
["2008-11-28"]
["2008-11-29"]
["2008-11-30"]
["2008-12-01"]
["2008-12-02"]
["2008-12-03"]
["2008-12-04"]
["2008-12-05"]
["2008-12-06"]
["2008-12-07"]
["2008-12-08"]
["2008-12-09"]
["2008-12-10"]
["2008-12-11"]
["2008-12-12"]
["2008-12-13"]
["2008-12-14"]
["2008-12-15"]
["2008-12-16"]
["2008-12-17"]
["2008-12-18"]
["2008-12-19"]
["2008-12-20"]
["2008-12-21"]
["2008-12-22"]
["2008-12-23"]
["2008-12-24"]
["2008-12-25"]
["2008-12-26"]
["2008-12-27"]
["2008-12-28"]
["2008-12-29"]
["2008-12-30"]
["2008-12-31"]
["2009-01-01"]
["2009-01-02"]
["2009-01-03"]
["2009-01-04"]
[{"$f":"+A125+1","v":"2009-01-05"}]
["2009-01-06"]
["2009-01-07"]
["2009-01-08"]
["2009-01-09"]
["2009-01-10"]
["2009-01-11"]
["2009-01-12"]
["2009-01-13"]
["2009-01-14"]
["2009-01-15"]
["2009-01-16"]
["2009-01-17"]
["2009-01-18"]
["2009-01-19"]
["2009-01-20"]
["2009-01-21"]
["2009-01-22"]
["2009-01-23"]
["2009-01-24"]
["2009-01-25"]
["2009-01-26"]
["2009-01-27"]
["2009-01-28"]
["2009-01-29"]
["2009-01-30"]
["2009-01-31"]
["2009-02-01"]
["2009-02-02"]
["2009-02-03"]
["2009-02-04"]
["2009-02-05"]
["2009-02-06"]
["2009-02-07"]
["2009-02-08"]
["2009-02-09"]
["2009-02-10"]
["2009-02-11"]
["2009-02-12"]
["2009-02-13"]
["2009-02-14"]
["2009-02-15"]
["2009-02-16"]
["2009-02-17"]
["2009-02-18"]
["2009-02-19"]
["2009-02-20"]
["2009-02-21"]
["2009-02-22"]
["2009-02-23"]
["2009-02-24"]
["2009-02-25"]
["2009-02-26"]
["2009-02-27"]
["2009-02-28"]
["2009-03-01"]
["2009-03-02"]
["2009-03-03"]
["2009-03-04"]
["2009-03-05"]
["2009-03-06"]
["2009-03-07"]
["2009-03-08"]
["2009-03-09"]
[{"$f":"+A189+1","v":"2009-03-10"}]
["2009-03-11"]
["2009-03-12"]
["2009-03-13"]
["2009-03-14"]
["2009-03-15"]
["2009-03-16"]
["2009-03-17"]
["2009-03-18"]
["2009-03-19"]
["2009-03-20"]
["2009-03-21"]
["2009-03-22"]
["2009-03-23"]
["2009-03-24"]
["2009-03-25"]
["2009-03-26"]
["2009-03-27"]
["2009-03-28"]
["2009-03-29"]
["2009-03-30"]
["2009-03-31"]
["2009-04-01"]
["2009-04-02"]
["2009-04-03"]
["2009-04-04"]
["2009-04-05"]
["2009-04-06"]
["2009-04-07"]
["2009-04-08"]
["2009-04-09"]
["2009-04-10"]
["2009-04-11"]
["2009-04-12"]
["2009-04-13"]
["2009-04-14"]
["2009-04-15"]
["2009-04-16"]
["2009-04-17"]
["2009-04-18"]
["2009-04-19"]
["2009-04-20"]
["2009-04-21"]
["2009-04-22"]
["2009-04-23"]
["2009-04-24"]
["2009-04-25"]
["2009-04-26"]
["2009-04-27"]
["2009-04-28"]
["2009-04-29"]
["2009-04-30"]
["2009-05-01"]
["2009-05-02"]
["2009-05-03"]
["2009-05-04"]
["2009-05-05"]
["2009-05-06"]
["2009-05-07"]
["2009-05-08"]
["2009-05-09"]
["2009-05-10"]
["2009-05-11"]
["2009-05-12"]
[{"$f":"+A253+1","v":"2009-05-13"}]
["2009-05-14"]
["2009-05-15"]
["2009-05-16"]
["2009-05-17"]
["2009-05-18"]
["2009-05-19"]
["2009-05-20"]
["2009-05-21"]
["2009-05-22"]
["2009-05-23"]
["2009-05-24"]
["2009-05-25"]
["2009-05-26"]
["2009-05-27"]
["2009-05-28"]
["2009-05-29"]
["2009-05-30"]
["2009-05-31"]
["2009-06-01"]
["2009-06-02"]
["2009-06-03"]
["2009-06-04"]
["2009-06-05"]
["2009-06-06"]
["2009-06-07"]
["2009-06-08"]
["2009-06-09"]
["2009-06-10"]
["2009-06-11"]
["2009-06-12"]
["2009-06-13"]
["2009-06-14"]
["2009-06-15"]
["2009-06-16"]
["2009-06-17"]
["2009-06-18"]
["2009-06-19"]
["2009-06-20"]
["2009-06-21"]
["2009-06-22"]
["2009-06-23"]
["2009-06-24"]
["2009-06-25"]
["2009-06-26"]
["2009-06-27"]
["2009-06-28"]
["2009-06-29"]
["2009-06-30"]
["2009-07-01"]
["2009-07-02"]
["2009-07-03"]
["2009-07-04"]
["2009-07-05"]
["2009-07-06"]
["2009-07-07"]
["2009-07-08"]
["2009-07-09"]
["2009-07-10"]
["2009-07-11"]
["2009-07-12"]
["2009-07-13"]
["2009-07-14"]
["2009-07-15"]
[{"$f":"+A317+1","v":"2009-07-16"}]
["2009-07-17"]
["2009-07-18"]
["2009-07-19"]
["2009-07-20"]
["2009-07-21"]
["2009-07-22"]
["2009-07-23"]
["2009-07-24"]
["2009-07-25"]
["2009-07-26"]
["2009-07-27"]
["2009-07-28"]
["2009-07-29"]
["2009-07-30"]
["2009-07-31"]
["2009-08-01"]
["2009-08-02"]
["2009-08-03"]
["2009-08-04"]
["2009-08-05"]
["2009-08-06"]
["2009-08-07"]
["2009-08-08"]
["2009-08-09"]
["2009-08-10"]
["2009-08-11"]
["2009-08-12"]
["2009-08-13"]
["2009-08-14"]
["2009-08-15"]
["2009-08-16"]
["2009-08-17"]
["2009-08-18"]
["2009-08-19"]
["2009-08-20"]
["2009-08-21"]
["2009-08-22"]
["2009-08-23"]
["2009-08-24"]
["2009-08-25"]
["2009-08-26"]
["2009-08-27"]
["2009-08-28"]
["2009-08-29"]
["2009-08-30"]
["2009-08-31"]
["2009-09-01"]
["2009-09-02"]
["2009-09-03"]
["2009-09-04"]
["2009-09-05"]
["2009-09-06"]
["2009-09-07"]
["2009-09-08"]
["2009-09-09"]
["2009-09-10"]
["2009-09-11"]
["2009-09-12"]
["2009-09-13"]
["2009-09-14"]
["2009-09-15"]
["2009-09-16"]
["2009-09-17"]
[{"$f":"+A381+1","v":"2009-09-18"}]
["2009-09-19"]
["2009-09-20"]
["2009-09-21"]
["2009-09-22"]
["2009-09-23"]
["2009-09-24"]
["2009-09-25"]
["2009-09-26"]
["2009-09-27"]
["2009-09-28"]
["2009-09-29"]
["2009-09-30"]
["2009-10-01"]
["2009-10-02"]
["2009-10-03"]
["2009-10-04"]
["2009-10-05"]
["2009-10-06"]
["2009-10-07"]
["2009-10-08"]
["2009-10-09"]
["2009-10-10"]
["2009-10-11"]
["2009-10-12"]
["2009-10-13"]
["2009-10-14"]
["2009-10-15"]
["2009-10-16"]
["2009-10-17"]
["2009-10-18"]
["2009-10-19"]
["2009-10-20"]
["2009-10-21"]
["2009-10-22"]
["2009-10-23"]
["2009-10-24"]
["2009-10-25"]
["2009-10-26"]
["2009-10-27"]
["2009-10-28"]
["2009-10-29"]
["2009-10-30"]
["2009-10-31"]

{"sheet":"ROS","index":1,"n_rows":408,"n_cols":19,"rows_kept":408,"cut":false,"hidden":false,"merged":[[374,0,374,1],[1,0,1,20],[0,0,0,19]]}
[{"$f":"\"การวางแผนใช้น้ำเพื่อกิจกรรมต่าง ๆ ของโครงการ\"&fill_data!D1&\"   จังหวัด\"& fill_data!$C$4&  \"   สำนักชลประทานที่ \"&fill_data!I1","v":"การวางแผนใช้น้ำเพื่อกิจกรรมต่าง ๆ ของโครงการ   จังหวัด   สำนักชลประทานที่ "}]
[""]
[null,null,"การเกษตรฤดูแล้งรวม(ไร่)  ",{"$f":"+C4+G4+K4+M4","v":0},null,null,"การเกษตรฤดูฝนรวม(ไร่)  ",{"$f":"+C5+G5+K4+M4","v":0},null,{"$f":"fill_data!B2","v":"ปริมาณน้ำจัดสรร ณ วันที่ 1 พฤศจิกายน 2552"},null,null,{"$f":"+fill_data!G2","v":0},"  ล้าน ม.3"]
[null,"ข้าวนาปรัง(ไร่ )",{"$f":"+fill_data!K13","v":0},null,"พืชไร่-ผัก(ไร่)",null,{"$f":"+fill_data!K35","v":0},null,"ไม้ผล-ไม้ยืนต้น่(ไร่)",null,{"$f":"+fill_data!D55","v":0},"บ่อกุ้ง-บ่อปลา(ไร่)",{"$f":"+fill_data!K54+fill_data!K55","v":0}]
[null,"ข้าวนาปี(ไร่ )",{"$f":"+fill_data!D13","v":0},null,"พืชไร่-ผักฤดูฝน(ไร่)",null,{"$f":"+fill_data!D35","v":0}]
["(1)","(2)","(3)","(4)","(5)","(6)","(7)","(8)","(9)","(10)","(11)","(12)","(13)"]
["สัปดาห์","วันที่","อุปโภค","น้ำใช้","อุตสาหกรรม","รักษาระบบ","การเกษตร","ฝนใช้การ","ปสภ","ความต้องการ","ปริมาณการ","ปริมาณการ","ปริมาณความต้องการน้ำ"]
[null,null,"บริโภค","อื่นๆ",null,"นิเวศน์",null,null,null,"น้ำ ชป.","ส่งน้ำ","ส่งน้ำสะสม","ตามทฤษฎี"]
["ที่","วันที่","mcm.","mcm.","mcm.","mcm.","mcm.","mcm.","%","mcm.","ปริมาณการส่งน้ำ","ปริมาณการส่งน้ำสะสม","mcm."]
[1,{"$f":"DATE(สอน.จน.1!$O$1-543,11,1)","v":"2012-11-01"},{"$f":"+fill_data!B61","v":0},{"$f":"+fill_data!E61","v":0},{"$f":"+fill_data!C61","v":0},{"$f":"++fill_data!D61","v":0},{"$f":"VLOOKUP($A10,ความต้องการน้ำ,3)/7","v":{"$error":"#N/A"}},{"$f":"VLOOKUP($A10,ฝนใช้การ,3)/7","v":{"$error":"#N/A"}},{"$f":"+fill_data!K2","v":45},{"$f":"IF((G10-H10)<=0,0,+(G10-H10)/(I10/100))","v":{"$error":"#N/A"}},{"$f":"C10+D10+E10+F10+J10","v":{"$error":"#N/A"}},{"$f":"+K10","v":{"$error":"#N/A"}},{"$f":"+C10+D10+E10+F10+G10","v":{"$error":"#N/A"}}]
[{"$f":"+A10","v":1},{"$f":"+B10+1","v":"2012-11-02"},{"$f":"+fill_data!B62","v":0},{"$f":"+fill_data!E62","v":0},{"$f":"+fill_data!C62","v":0},{"$f":"++fill_data!D62","v":0},{"$error":"#N/A"},{"$f":"VLOOKUP($A11,ฝนใช้การ,3)/7","v":{"$error":"#N/A"}},{"$f":"+I10","v":45},{"$f":"IF((G11-H11)<=0,0,+(G11-H11)/(I11/100))","v":{"$error":"#N/A"}},{"$error":"#N/A"},{"$f":"+L10+K11","v":{"$error":"#N/A"}},{"$error":"#N/A"}]
[{"$f":"+A11","v":1},"2012-11-03",{"$f":"+fill_data!B63","v":0},{"$f":"+fill_data!E63","v":0},{"$f":"+fill_data!C63","v":0},{"$f":"++fill_data!D63","v":0},{"$error":"#N/A"},{"$f":"VLOOKUP($A12,ฝนใช้การ,3)/7","v":{"$error":"#N/A"}},{"$f":"+I11","v":45},{"$error":"#N/A"},{"$error":"#N/A"},{"$f":"+L11+K12","v":{"$error":"#N/A"}},{"$error":"#N/A"}]
[{"$f":"+A12","v":1},"2012-11-04",{"$f":"+fill_data!B64","v":0},{"$f":"+fill_data!E64","v":0},{"$f":"+fill_data!C64","v":0},{"$f":"++fill_data!D64","v":0},{"$error":"#N/A"},{"$f":"VLOOKUP($A13,ฝนใช้การ,3)/7","v":{"$error":"#N/A"}},45,{"$error":"#N/A"},{"$error":"#N/A"},{"$error":"#N/A"},{"$error":"#N/A"}]
[{"$f":"+A13","v":1},"2012-11-05",{"$f":"+fill_data!B65","v":0},{"$f":"+fill_data!E65","v":0},{"$f":"+fill_data!C65","v":0},{"$f":"++fill_data!D65","v":0},{"$error":"#N/A"},{"$f":"VLOOKUP($A14,ฝนใช้การ,3)/7","v":{"$error":"#N/A"}},45,{"$error":"#N/A"},{"$error":"#N/A"},{"$error":"#N/A"},{"$error":"#N/A"}]
[1,"2012-11-06",{"$f":"+fill_data!B66","v":0},{"$f":"+fill_data!E66","v":0},{"$f":"+fill_data!C66","v":0},{"$f":"++fill_data!D66","v":0},{"$error":"#N/A"},{"$f":"VLOOKUP($A15,ฝนใช้การ,3)/7","v":{"$error":"#N/A"}},45,{"$error":"#N/A"},{"$error":"#N/A"},{"$error":"#N/A"},{"$error":"#N/A"}]
[{"$f":"+A15","v":1},"2012-11-07",{"$f":"+fill_data!B67","v":0},{"$f":"+fill_data!E67","v":0},{"$f":"+fill_data!C67","v":0},{"$f":"++fill_data!D67","v":0},{"$error":"#N/A"},{"$f":"VLOOKUP($A16,ฝนใช้การ,3)/7","v":{"$error":"#N/A"}},45,{"$error":"#N/A"},{"$error":"#N/A"},{"$error":"#N/A"},{"$f":"+C16+D16+E16+F16+G16","v":{"$error":"#N/A"}}]
[2,"2012-11-08",{"$f":"+fill_data!B68","v":0},{"$f":"+fill_data!E68","v":0},{"$f":"+fill_data!C68","v":0},{"$f":"++fill_data!D68","v":0},{"$error":"#N/A"},{"$f":"VLOOKUP($A17,ฝนใช้การ,3)/7","v":{"$error":"#N/A"}},45,{"$error":"#N/A"},{"$error":"#N/A"},{"$error":"#N/A"},{"$error":"#N/A"}]
[2,"2012-11-09",{"$f":"+fill_data!B69","v":0},{"$f":"+fill_data!E69","v":0},{"$f":"+fill_data!C69","v":0},{"$f":"++fill_data!D69","v":0},{"$error":"#N/A"},{"$f":"VLOOKUP($A18,ฝนใช้การ,3)/7","v":{"$error":"#N/A"}},45,{"$error":"#N/A"},{"$error":"#N/A"},{"$error":"#N/A"},{"$error":"#N/A"}]
[2,"2012-11-10",{"$f":"fill_data!B70","v":0},{"$f":"+fill_data!E70","v":0},{"$f":"+fill_data!C70","v":0},{"$f":"++fill_data!D70","v":0},{"$error":"#N/A"},{"$f":"VLOOKUP($A19,ฝนใช้การ,3)/7","v":{"$error":"#N/A"}},45,{"$error":"#N/A"},{"$error":"#N/A"},{"$error":"#N/A"},{"$error":"#N/A"}]
[2,"2012-11-11",{"$f":"+fill_data!B71","v":0},{"$f":"+fill_data!E71","v":0},{"$f":"+fill_data!C71","v":0},{"$f":"++fill_data!D71","v":0},{"$error":"#N/A"},{"$f":"VLOOKUP($A20,ฝนใช้การ,3)/7","v":{"$error":"#N/A"}},45,{"$error":"#N/A"},{"$error":"#N/A"},{"$error":"#N/A"},{"$error":"#N/A"}]
[2,"2012-11-12",{"$f":"+fill_data!B72","v":0},{"$f":"+fill_data!E72","v":0},{"$f":"+fill_data!C72","v":0},{"$f":"++fill_data!D72","v":0},{"$error":"#N/A"},{"$f":"VLOOKUP($A21,ฝนใช้การ,3)/7","v":{"$error":"#N/A"}},45,{"$error":"#N/A"},{"$error":"#N/A"},{"$error":"#N/A"},{"$error":"#N/A"}]
[2,"2012-11-13",{"$f":"+fill_data!B73","v":0},{"$f":"+fill_data!E73","v":0},{"$f":"+fill_data!C73","v":0},{"$f":"++fill_data!D73","v":0},{"$error":"#N/A"},{"$f":"VLOOKUP($A22,ฝนใช้การ,3)/7","v":{"$error":"#N/A"}},45,{"$error":"#N/A"},{"$error":"#N/A"},{"$error":"#N/A"},{"$error":"#N/A"}]
[2,"2012-11-14",{"$f":"+fill_data!B74","v":0},{"$f":"+fill_data!E74","v":0},{"$f":"+fill_data!C74","v":0},{"$f":"++fill_data!D74","v":0},{"$error":"#N/A"},{"$f":"VLOOKUP($A23,ฝนใช้การ,3)/7","v":{"$error":"#N/A"}},45,{"$error":"#N/A"},{"$error":"#N/A"},{"$error":"#N/A"},{"$error":"#N/A"}]
[3,"2012-11-15",{"$f":"+fill_data!B75","v":0},{"$f":"+fill_data!E75","v":0},{"$f":"+fill_data!C75","v":0},{"$f":"++fill_data!D75","v":0},{"$error":"#N/A"},{"$f":"VLOOKUP($A24,ฝนใช้การ,3)/7","v":{"$error":"#N/A"}},45,{"$error":"#N/A"},{"$error":"#N/A"},{"$error":"#N/A"},{"$error":"#N/A"}]
[3,"2012-11-16",{"$f":"+fill_data!B76","v":0},{"$f":"+fill_data!E76","v":0},{"$f":"+fill_data!C76","v":0},{"$f":"++fill_data!D76","v":0},{"$error":"#N/A"},{"$f":"VLOOKUP($A25,ฝนใช้การ,3)/7","v":{"$error":"#N/A"}},45,{"$error":"#N/A"},{"$error":"#N/A"},{"$error":"#N/A"},{"$error":"#N/A"}]
[3,"2012-11-17",{"$f":"+fill_data!B77","v":0},{"$f":"+fill_data!E77","v":0},{"$f":"+fill_data!C77","v":0},{"$f":"++fill_data!D77","v":0},{"$error":"#N/A"},{"$f":"VLOOKUP($A26,ฝนใช้การ,3)/7","v":{"$error":"#N/A"}},45,{"$error":"#N/A"},{"$error":"#N/A"},{"$error":"#N/A"},{"$error":"#N/A"}]
[3,"2012-11-18",{"$f":"+fill_data!B78","v":0},{"$f":"+fill_data!E78","v":0},{"$f":"+fill_data!C78","v":0},{"$f":"++fill_data!D78","v":0},{"$error":"#N/A"},{"$f":"VLOOKUP($A27,ฝนใช้การ,3)/7","v":{"$error":"#N/A"}},45,{"$error":"#N/A"},{"$error":"#N/A"},{"$error":"#N/A"},{"$error":"#N/A"}]
[3,"2012-11-19",{"$f":"+fill_data!B79","v":0},{"$f":"+fill_data!E79","v":0},{"$f":"+fill_data!C79","v":0},{"$f":"++fill_data!D79","v":0},{"$error":"#N/A"},{"$f":"VLOOKUP($A28,ฝนใช้การ,3)/7","v":{"$error":"#N/A"}},45,{"$error":"#N/A"},{"$error":"#N/A"},{"$error":"#N/A"},{"$error":"#N/A"}]
[3,"2012-11-20",{"$f":"+fill_data!B80","v":0},{"$f":"+fill_data!E80","v":0},{"$f":"+fill_data!C80","v":0},{"$f":"++fill_data!D80","v":0},{"$error":"#N/A"},{"$f":"VLOOKUP($A29,ฝนใช้การ,3)/7","v":{"$error":"#N/A"}},45,{"$error":"#N/A"},{"$error":"#N/A"},{"$error":"#N/A"},{"$error":"#N/A"}]
[3,"2012-11-21",{"$f":"+fill_data!B81","v":0},{"$f":"+fill_data!E81","v":0},{"$f":"+fill_data!C81","v":0},{"$f":"++fill_data!D81","v":0},{"$error":"#N/A"},{"$f":"VLOOKUP($A30,ฝนใช้การ,3)/7","v":{"$error":"#N/A"}},45,{"$error":"#N/A"},{"$error":"#N/A"},{"$error":"#N/A"},{"$error":"#N/A"}]
[4,"2012-11-22",{"$f":"+fill_data!B82","v":0},{"$f":"+fill_data!E82","v":0},{"$f":"+fill_data!C82","v":0},{"$f":"++fill_data!D82","v":0},{"$error":"#N/A"},{"$f":"VLOOKUP($A31,ฝนใช้การ,3)/7","v":{"$error":"#N/A"}},45,{"$error":"#N/A"},{"$error":"#N/A"},{"$error":"#N/A"},{"$error":"#N/A"}]
[4,"2012-11-23",{"$f":"+fill_data!B83","v":0},{"$f":"+fill_data!E83","v":0},{"$f":"+fill_data!C83","v":0},{"$f":"++fill_data!D83","v":0},{"$error":"#N/A"},{"$f":"VLOOKUP($A32,ฝนใช้การ,3)/7","v":{"$error":"#N/A"}},45,{"$error":"#N/A"},{"$error":"#N/A"},{"$error":"#N/A"},{"$error":"#N/A"}]
[4,"2012-11-24",{"$f":"+fill_data!B84","v":0},{"$f":"+fill_data!E84","v":0},{"$f":"+fill_data!C84","v":0},{"$f":"++fill_data!D84","v":0},{"$error":"#N/A"},{"$f":"VLOOKUP($A33,ฝนใช้การ,3)/7","v":{"$error":"#N/A"}},45,{"$error":"#N/A"},{"$error":"#N/A"},{"$error":"#N/A"},{"$error":"#N/A"}]
[4,"2012-11-25",{"$f":"+fill_data!B85","v":0},{"$f":"+fill_data!E85","v":0},{"$f":"+fill_data!C85","v":0},{"$f":"++fill_data!D85","v":0},{"$error":"#N/A"},{"$f":"VLOOKUP($A34,ฝนใช้การ,3)/7","v":{"$error":"#N/A"}},45,{"$error":"#N/A"},{"$error":"#N/A"},{"$error":"#N/A"},{"$error":"#N/A"}]
[4,"2012-11-26",{"$f":"+fill_data!B86","v":0},{"$f":"+fill_data!E86","v":0},{"$f":"+fill_data!C86","v":0},{"$f":"++fill_data!D86","v":0},{"$error":"#N/A"},{"$f":"VLOOKUP($A35,ฝนใช้การ,3)/7","v":{"$error":"#N/A"}},45,{"$error":"#N/A"},{"$error":"#N/A"},{"$error":"#N/A"},{"$error":"#N/A"}]
[4,"2012-11-27",{"$f":"+fill_data!B87","v":0},{"$f":"+fill_data!E87","v":0},{"$f":"+fill_data!C87","v":0},{"$f":"++fill_data!D87","v":0},{"$error":"#N/A"},{"$f":"VLOOKUP($A36,ฝนใช้การ,3)/7","v":{"$error":"#N/A"}},45,{"$error":"#N/A"},{"$error":"#N/A"},{"$error":"#N/A"},{"$error":"#N/A"}]
[4,"2012-11-28",{"$f":"+fill_data!B88","v":0},{"$f":"+fill_data!E88","v":0},{"$f":"+fill_data!C88","v":0},{"$f":"++fill_data!D88","v":0},{"$error":"#N/A"},{"$f":"VLOOKUP($A37,ฝนใช้การ,3)/7","v":{"$error":"#N/A"}},45,{"$error":"#N/A"},{"$error":"#N/A"},{"$error":"#N/A"},{"$error":"#N/A"}]
[5,"2012-11-29",{"$f":"+fill_data!B89","v":0},{"$f":"+fill_data!E89","v":0},{"$f":"+fill_data!C89","v":0},{"$f":"++fill_data!D89","v":0},{"$error":"#N/A"},{"$f":"VLOOKUP($A38,ฝนใช้การ,3)/7","v":{"$error":"#N/A"}},45,{"$error":"#N/A"},{"$error":"#N/A"},{"$error":"#N/A"},{"$error":"#N/A"}]
[5,"2012-11-30",{"$f":"+fill_data!B90","v":0},{"$f":"+fill_data!E90","v":0},{"$f":"+fill_data!C90","v":0},{"$f":"++fill_data!D90","v":0},{"$error":"#N/A"},{"$f":"VLOOKUP($A39,ฝนใช้การ,3)/7","v":{"$error":"#N/A"}},45,{"$error":"#N/A"},{"$error":"#N/A"},{"$error":"#N/A"},{"$error":"#N/A"}]
[5,"2012-12-01",{"$f":"+fill_data!B91","v":0},{"$f":"+fill_data!E91","v":0},{"$f":"+fill_data!C91","v":0},{"$f":"++fill_data!D91","v":0},{"$error":"#N/A"},{"$f":"VLOOKUP($A40,ฝนใช้การ,3)/7","v":{"$error":"#N/A"}},45,{"$error":"#N/A"},{"$error":"#N/A"},{"$error":"#N/A"},{"$error":"#N/A"}]
[5,"2012-12-02",{"$f":"+fill_data!B92","v":0},{"$f":"+fill_data!E92","v":0},{"$f":"+fill_data!C92","v":0},{"$f":"++fill_data!D92","v":0},{"$error":"#N/A"},{"$f":"VLOOKUP($A41,ฝนใช้การ,3)/7","v":{"$error":"#N/A"}},45,{"$error":"#N/A"},{"$error":"#N/A"},{"$error":"#N/A"},{"$error":"#N/A"}]
[5,"2012-12-03",{"$f":"+fill_data!B93","v":0},{"$f":"+fill_data!E93","v":0},{"$f":"+fill_data!C93","v":0},{"$f":"++fill_data!D93","v":0},{"$error":"#N/A"},{"$f":"VLOOKUP($A42,ฝนใช้การ,3)/7","v":{"$error":"#N/A"}},45,{"$error":"#N/A"},{"$error":"#N/A"},{"$error":"#N/A"},{"$error":"#N/A"}]
[5,"2012-12-04",{"$f":"+fill_data!B94","v":0},{"$f":"+fill_data!E94","v":0},{"$f":"+fill_data!C94","v":0},{"$f":"++fill_data!D94","v":0},{"$error":"#N/A"},{"$f":"VLOOKUP($A43,ฝนใช้การ,3)/7","v":{"$error":"#N/A"}},45,{"$error":"#N/A"},{"$error":"#N/A"},{"$error":"#N/A"},{"$error":"#N/A"}]
[5,"2012-12-05",{"$f":"+fill_data!B95","v":0},{"$f":"+fill_data!E95","v":0},{"$f":"+fill_data!C95","v":0},{"$f":"++fill_data!D95","v":0},{"$error":"#N/A"},{"$f":"VLOOKUP($A44,ฝนใช้การ,3)/7","v":{"$error":"#N/A"}},45,{"$error":"#N/A"},{"$error":"#N/A"},{"$error":"#N/A"},{"$error":"#N/A"}]
[6,"2012-12-06",{"$f":"+fill_data!B96","v":0},{"$f":"+fill_data!E96","v":0},{"$f":"+fill_data!C96","v":0},{"$f":"++fill_data!D96","v":0},{"$error":"#N/A"},{"$f":"VLOOKUP($A45,ฝนใช้การ,3)/7","v":{"$error":"#N/A"}},45,{"$error":"#N/A"},{"$error":"#N/A"},{"$error":"#N/A"},{"$error":"#N/A"}]
[6,"2012-12-07",{"$f":"+fill_data!B97","v":0},{"$f":"+fill_data!E97","v":0},{"$f":"+fill_data!C97","v":0},{"$f":"++fill_data!D97","v":0},{"$error":"#N/A"},{"$f":"VLOOKUP($A46,ฝนใช้การ,3)/7","v":{"$error":"#N/A"}},45,{"$error":"#N/A"},{"$error":"#N/A"},{"$error":"#N/A"},{"$error":"#N/A"}]
[6,"2012-12-08",{"$f":"+fill_data!B98","v":0},{"$f":"+fill_data!E98","v":0},{"$f":"+fill_data!C98","v":0},{"$f":"++fill_data!D98","v":0},{"$error":"#N/A"},{"$f":"VLOOKUP($A47,ฝนใช้การ,3)/7","v":{"$error":"#N/A"}},45,{"$error":"#N/A"},{"$error":"#N/A"},{"$error":"#N/A"},{"$error":"#N/A"}]
[6,"2012-12-09",{"$f":"+fill_data!B99","v":0},{"$f":"+fill_data!E99","v":0},{"$f":"+fill_data!C99","v":0},{"$f":"++fill_data!D99","v":0},{"$error":"#N/A"},{"$f":"VLOOKUP($A48,ฝนใช้การ,3)/7","v":{"$error":"#N/A"}},45,{"$error":"#N/A"},{"$error":"#N/A"},{"$error":"#N/A"},{"$error":"#N/A"}]
[6,"2012-12-10",{"$f":"+fill_data!B100","v":0},{"$f":"+fill_data!E100","v":0},{"$f":"+fill_data!C100","v":0},{"$f":"++fill_data!D100","v":0},{"$error":"#N/A"},{"$f":"VLOOKUP($A49,ฝนใช้การ,3)/7","v":{"$error":"#N/A"}},45,{"$error":"#N/A"},{"$error":"#N/A"},{"$error":"#N/A"},{"$f":"+C49+D49+E49+F49+G49","v":{"$error":"#N/A"}}]
[6,"2012-12-11",{"$f":"+fill_data!B101","v":0},{"$f":"+fill_data!E101","v":0},{"$f":"+fill_data!C101","v":0},{"$f":"++fill_data!D101","v":0},{"$error":"#N/A"},{"$f":"VLOOKUP($A50,ฝนใช้การ,3)/7","v":{"$error":"#N/A"}},45,{"$error":"#N/A"},{"$error":"#N/A"},{"$error":"#N/A"},{"$f":"+C50+D50+E50+F50+G50","v":{"$error":"#N/A"}}]
[6,"2012-12-12",{"$f":"+fill_data!B102","v":0},{"$f":"+fill_data!E102","v":0},{"$f":"+fill_data!C102","v":0},{"$f":"++fill_data!D102","v":0},{"$error":"#N/A"},{"$f":"VLOOKUP($A51,ฝนใช้การ,3)/7","v":{"$error":"#N/A"}},45,{"$error":"#N/A"},{"$error":"#N/A"},{"$error":"#N/A"},{"$error":"#N/A"}]
[7,"2012-12-13",{"$f":"+fill_data!B103","v":0},{"$f":"+fill_data!E103","v":0},{"$f":"+fill_data!C103","v":0},{"$f":"++fill_data!D103","v":0},{"$error":"#N/A"},{"$f":"VLOOKUP($A52,ฝนใช้การ,3)/7","v":{"$error":"#N/A"}},45,{"$error":"#N/A"},{"$error":"#N/A"},{"$error":"#N/A"},{"$error":"#N/A"}]
[7,"2012-12-14",{"$f":"+fill_data!B104","v":0},{"$f":"+fill_data!E104","v":0},{"$f":"+fill_data!C104","v":0},{"$f":"++fill_data!D104","v":0},{"$error":"#N/A"},{"$f":"VLOOKUP($A53,ฝนใช้การ,3)/7","v":{"$error":"#N/A"}},45,{"$error":"#N/A"},{"$error":"#N/A"},{"$error":"#N/A"},{"$error":"#N/A"}]
[7,"2012-12-15",{"$f":"+fill_data!B105","v":0},{"$f":"+fill_data!E105","v":0},{"$f":"+fill_data!C105","v":0},{"$f":"++fill_data!D105","v":0},{"$error":"#N/A"},{"$f":"VLOOKUP($A54,ฝนใช้การ,3)/7","v":{"$error":"#N/A"}},45,{"$error":"#N/A"},{"$error":"#N/A"},{"$error":"#N/A"},{"$error":"#N/A"}]
[7,"2012-12-16",{"$f":"+fill_data!B106","v":0},{"$f":"+fill_data!E106","v":0},{"$f":"+fill_data!C106","v":0},{"$f":"++fill_data!D106","v":0},{"$error":"#N/A"},{"$f":"VLOOKUP($A55,ฝนใช้การ,3)/7","v":{"$error":"#N/A"}},45,{"$error":"#N/A"},{"$error":"#N/A"},{"$error":"#N/A"},{"$error":"#N/A"}]
[7,"2012-12-17",{"$f":"+fill_data!B107","v":0},{"$f":"+fill_data!E107","v":0},{"$f":"+fill_data!C107","v":0},{"$f":"++fill_data!D107","v":0},{"$error":"#N/A"},{"$f":"VLOOKUP($A56,ฝนใช้การ,3)/7","v":{"$error":"#N/A"}},45,{"$error":"#N/A"},{"$error":"#N/A"},{"$error":"#N/A"},{"$error":"#N/A"}]
[7,"2012-12-18",{"$f":"+fill_data!B108","v":0},{"$f":"+fill_data!E108","v":0},{"$f":"+fill_data!C108","v":0},{"$f":"++fill_data!D108","v":0},{"$error":"#N/A"},{"$f":"VLOOKUP($A57,ฝนใช้การ,3)/7","v":{"$error":"#N/A"}},45,{"$error":"#N/A"},{"$error":"#N/A"},{"$error":"#N/A"},{"$error":"#N/A"}]
[7,"2012-12-19",{"$f":"+fill_data!B109","v":0},{"$f":"+fill_data!E109","v":0},{"$f":"+fill_data!C109","v":0},{"$f":"++fill_data!D109","v":0},{"$error":"#N/A"},{"$f":"VLOOKUP($A58,ฝนใช้การ,3)/7","v":{"$error":"#N/A"}},45,{"$error":"#N/A"},{"$error":"#N/A"},{"$error":"#N/A"},{"$error":"#N/A"}]
[8,"2012-12-20",{"$f":"+fill_data!B110","v":0},{"$f":"+fill_data!E110","v":0},{"$f":"+fill_data!C110","v":0},{"$f":"++fill_data!D110","v":0},{"$error":"#N/A"},{"$f":"VLOOKUP($A59,ฝนใช้การ,3)/7","v":{"$error":"#N/A"}},45,{"$error":"#N/A"},{"$error":"#N/A"},{"$error":"#N/A"},{"$error":"#N/A"}]
[8,"2012-12-21",{"$f":"+fill_data!B111","v":0},{"$f":"+fill_data!E111","v":0},{"$f":"+fill_data!C111","v":0},{"$f":"++fill_data!D111","v":0},{"$error":"#N/A"},{"$f":"VLOOKUP($A60,ฝนใช้การ,3)/7","v":{"$error":"#N/A"}},45,{"$error":"#N/A"},{"$error":"#N/A"},{"$error":"#N/A"},{"$error":"#N/A"}]
[8,"2012-12-22",{"$f":"+fill_data!B112","v":0},{"$f":"+fill_data!E112","v":0},{"$f":"+fill_data!C112","v":0},{"$f":"++fill_data!D112","v":0},{"$error":"#N/A"},{"$f":"VLOOKUP($A61,ฝนใช้การ,3)/7","v":{"$error":"#N/A"}},45,{"$error":"#N/A"},{"$error":"#N/A"},{"$error":"#N/A"},{"$error":"#N/A"}]
[8,"2012-12-23",{"$f":"+fill_data!B113","v":0},{"$f":"+fill_data!E113","v":0},{"$f":"+fill_data!C113","v":0},{"$f":"++fill_data!D113","v":0},{"$error":"#N/A"},{"$f":"VLOOKUP($A62,ฝนใช้การ,3)/7","v":{"$error":"#N/A"}},45,{"$error":"#N/A"},{"$error":"#N/A"},{"$error":"#N/A"},{"$error":"#N/A"}]
[8,"2012-12-24",{"$f":"+fill_data!B114","v":0},{"$f":"+fill_data!E114","v":0},{"$f":"+fill_data!C114","v":0},{"$f":"++fill_data!D114","v":0},{"$error":"#N/A"},{"$f":"VLOOKUP($A63,ฝนใช้การ,3)/7","v":{"$error":"#N/A"}},45,{"$error":"#N/A"},{"$error":"#N/A"},{"$error":"#N/A"},{"$error":"#N/A"}]
[8,"2012-12-25",{"$f":"+fill_data!B115","v":0},{"$f":"+fill_data!E115","v":0},{"$f":"+fill_data!C115","v":0},{"$f":"++fill_data!D115","v":0},{"$error":"#N/A"},{"$f":"VLOOKUP($A64,ฝนใช้การ,3)/7","v":{"$error":"#N/A"}},45,{"$error":"#N/A"},{"$error":"#N/A"},{"$error":"#N/A"},{"$error":"#N/A"}]
[8,"2012-12-26",{"$f":"+fill_data!B116","v":0},{"$f":"+fill_data!E116","v":0},{"$f":"+fill_data!C116","v":0},{"$f":"++fill_data!D116","v":0},{"$error":"#N/A"},{"$f":"VLOOKUP($A65,ฝนใช้การ,3)/7","v":{"$error":"#N/A"}},45,{"$error":"#N/A"},{"$error":"#N/A"},{"$error":"#N/A"},{"$error":"#N/A"}]
[9,"2012-12-27",{"$f":"+fill_data!B117","v":0},{"$f":"+fill_data!E117","v":0},{"$f":"+fill_data!C117","v":0},{"$f":"++fill_data!D117","v":0},{"$error":"#N/A"},{"$f":"VLOOKUP($A66,ฝนใช้การ,3)/7","v":{"$error":"#N/A"}},45,{"$error":"#N/A"},{"$error":"#N/A"},{"$error":"#N/A"},{"$error":"#N/A"}]
[9,"2012-12-28",{"$f":"+fill_data!B118","v":0},{"$f":"+fill_data!E118","v":0},{"$f":"+fill_data!C118","v":0},{"$f":"++fill_data!D118","v":0},{"$error":"#N/A"},{"$f":"VLOOKUP($A67,ฝนใช้การ,3)/7","v":{"$error":"#N/A"}},45,{"$error":"#N/A"},{"$error":"#N/A"},{"$error":"#N/A"},{"$error":"#N/A"}]
[9,"2012-12-29",{"$f":"+fill_data!B119","v":0},{"$f":"+fill_data!E119","v":0},{"$f":"+fill_data!C119","v":0},{"$f":"++fill_data!D119","v":0},{"$error":"#N/A"},{"$f":"VLOOKUP($A68,ฝนใช้การ,3)/7","v":{"$error":"#N/A"}},45,{"$error":"#N/A"},{"$error":"#N/A"},{"$error":"#N/A"},{"$error":"#N/A"}]
[9,"2012-12-30",{"$f":"+fill_data!B120","v":0},{"$f":"+fill_data!E120","v":0},{"$f":"+fill_data!C120","v":0},{"$f":"++fill_data!D120","v":0},{"$error":"#N/A"},{"$f":"VLOOKUP($A69,ฝนใช้การ,3)/7","v":{"$error":"#N/A"}},45,{"$error":"#N/A"},{"$error":"#N/A"},{"$error":"#N/A"},{"$error":"#N/A"}]
[9,"2012-12-31",{"$f":"+fill_data!B121","v":0},{"$f":"+fill_data!E121","v":0},{"$f":"+fill_data!C121","v":0},{"$f":"++fill_data!D121","v":0},{"$error":"#N/A"},{"$f":"VLOOKUP($A70,ฝนใช้การ,3)/7","v":{"$error":"#N/A"}},45,{"$error":"#N/A"},{"$error":"#N/A"},{"$error":"#N/A"},{"$error":"#N/A"}]
[9,"2013-01-01",{"$f":"+fill_data!B122","v":0},{"$f":"+fill_data!E122","v":0},{"$f":"+fill_data!C122","v":0},{"$f":"++fill_data!D122","v":0},{"$error":"#N/A"},{"$f":"VLOOKUP($A71,ฝนใช้การ,3)/7","v":{"$error":"#N/A"}},45,{"$error":"#N/A"},{"$error":"#N/A"},{"$error":"#N/A"},{"$error":"#N/A"}]
[9,"2013-01-02",{"$f":"+fill_data!B123","v":0},{"$f":"+fill_data!E123","v":0},{"$f":"+fill_data!C123","v":0},{"$f":"++fill_data!D123","v":0},{"$error":"#N/A"},{"$f":"VLOOKUP($A72,ฝนใช้การ,3)/7","v":{"$error":"#N/A"}},45,{"$error":"#N/A"},{"$error":"#N/A"},{"$error":"#N/A"},{"$error":"#N/A"}]
[10,"2013-01-03",{"$f":"+fill_data!B124","v":0},{"$f":"+fill_data!E124","v":0},{"$f":"+fill_data!C124","v":0},{"$f":"++fill_data!D124","v":0},{"$error":"#N/A"},{"$f":"VLOOKUP($A73,ฝนใช้การ,3)/7","v":{"$error":"#N/A"}},45,{"$error":"#N/A"},{"$error":"#N/A"},{"$error":"#N/A"},{"$error":"#N/A"}]
[10,"2013-01-04",{"$f":"+fill_data!B125","v":0},{"$f":"+fill_data!E125","v":0},{"$f":"+fill_data!C125","v":0},{"$f":"++fill_data!D125","v":0},{"$f":"VLOOKUP($A74,ความต้องการน้ำ,3)/7","v":{"$error":"#N/A"}},{"$f":"VLOOKUP($A74,ฝนใช้การ,3)/7","v":{"$error":"#N/A"}},45,{"$error":"#N/A"},{"$f":"C74+D74+E74+F74+J74","v":{"$error":"#N/A"}},{"$error":"#N/A"},{"$error":"#N/A"}]
[10,{"$f":"+B74+1","v":"2013-01-05"},{"$f":"+fill_data!B126","v":0},{"$f":"+fill_data!E126","v":0},{"$f":"+fill_data!C126","v":0},{"$f":"++fill_data!D126","v":0},{"$error":"#N/A"},{"$f":"VLOOKUP($A75,ฝนใช้การ,3)/7","v":{"$error":"#N/A"}},45,{"$f":"IF((G75-H75)<=0,0,+(G75-H75)/(I75/100))","v":{"$error":"#N/A"}},{"$error":"#N/A"},{"$error":"#N/A"},{"$error":"#N/A"}]
[10,"2013-01-06",{"$f":"+fill_data!B127","v":0},{"$f":"+fill_data!E127","v":0},{"$f":"+fill_data!C127","v":0},{"$f":"++fill_data!D127","v":0},{"$error":"#N/A"},{"$f":"VLOOKUP($A76,ฝนใช้การ,3)/7","v":{"$error":"#N/A"}},{"$f":"+I75","v":45},{"$error":"#N/A"},{"$error":"#N/A"},{"$f":"+L75+K76","v":{"$error":"#N/A"}},{"$error":"#N/A"}]
[10,"2013-01-07",{"$f":"+fill_data!B128","v":0},{"$f":"+fill_data!E128","v":0},{"$f":"+fill_data!C128","v":0},{"$f":"++fill_data!D128","v":0},{"$error":"#N/A"},{"$f":"VLOOKUP($A77,ฝนใช้การ,3)/7","v":{"$error":"#N/A"}},45,{"$error":"#N/A"},{"$error":"#N/A"},{"$error":"#N/A"},{"$error":"#N/A"}]
[10,"2013-01-08",{"$f":"+fill_data!B129","v":0},{"$f":"+fill_data!E129","v":0},{"$f":"+fill_data!C129","v":0},{"$f":"++fill_data!D129","v":0},{"$error":"#N/A"},{"$f":"VLOOKUP($A78,ฝนใช้การ,3)/7","v":{"$error":"#N/A"}},45,{"$error":"#N/A"},{"$error":"#N/A"},{"$error":"#N/A"},{"$error":"#N/A"}]
[10,"2013-01-09",{"$f":"+fill_data!B130","v":0},{"$f":"+fill_data!E130","v":0},{"$f":"+fill_data!C130","v":0},{"$f":"++fill_data!D130","v":0},{"$error":"#N/A"},{"$f":"VLOOKUP($A79,ฝนใช้การ,3)/7","v":{"$error":"#N/A"}},45,{"$error":"#N/A"},{"$error":"#N/A"},{"$error":"#N/A"},{"$error":"#N/A"}]
[11,"2013-01-10",{"$f":"+fill_data!B131","v":0},{"$f":"+fill_data!E131","v":0},{"$f":"+fill_data!C131","v":0},{"$f":"++fill_data!D131","v":0},{"$error":"#N/A"},{"$f":"VLOOKUP($A80,ฝนใช้การ,3)/7","v":{"$error":"#N/A"}},45,{"$error":"#N/A"},{"$error":"#N/A"},{"$error":"#N/A"},{"$error":"#N/A"}]
[{"$f":"+A80","v":11},"2013-01-11",{"$f":"+fill_data!B132","v":0},{"$f":"+fill_data!E132","v":0},{"$f":"+fill_data!C132","v":0},{"$f":"++fill_data!D132","v":0},{"$error":"#N/A"},{"$f":"VLOOKUP($A81,ฝนใช้การ,3)/7","v":{"$error":"#N/A"}},45,{"$error":"#N/A"},{"$error":"#N/A"},{"$error":"#N/A"},{"$error":"#N/A"}]
[11,"2013-01-12",{"$f":"+fill_data!B133","v":0},{"$f":"+fill_data!E133","v":0},{"$f":"+fill_data!C133","v":0},{"$f":"++fill_data!D133","v":0},{"$error":"#N/A"},{"$f":"VLOOKUP($A82,ฝนใช้การ,3)/7","v":{"$error":"#N/A"}},45,{"$error":"#N/A"},{"$error":"#N/A"},{"$error":"#N/A"},{"$error":"#N/A"}]
[11,"2013-01-13",{"$f":"+fill_data!B134","v":0},{"$f":"+fill_data!E134","v":0},{"$f":"+fill_data!C134","v":0},{"$f":"++fill_data!D134","v":0},{"$error":"#N/A"},{"$f":"VLOOKUP($A83,ฝนใช้การ,3)/7","v":{"$error":"#N/A"}},45,{"$error":"#N/A"},{"$error":"#N/A"},{"$error":"#N/A"},{"$error":"#N/A"}]
[11,"2013-01-14",{"$f":"+fill_data!B135","v":0},{"$f":"+fill_data!E135","v":0},{"$f":"+fill_data!C135","v":0},{"$f":"++fill_data!D135","v":0},{"$error":"#N/A"},{"$f":"VLOOKUP($A84,ฝนใช้การ,3)/7","v":{"$error":"#N/A"}},45,{"$error":"#N/A"},{"$error":"#N/A"},{"$error":"#N/A"},{"$error":"#N/A"}]
[11,"2013-01-15",{"$f":"+fill_data!B136","v":0},{"$f":"+fill_data!E136","v":0},{"$f":"+fill_data!C136","v":0},{"$f":"++fill_data!D136","v":0},{"$error":"#N/A"},{"$f":"VLOOKUP($A85,ฝนใช้การ,3)/7","v":{"$error":"#N/A"}},45,{"$error":"#N/A"},{"$error":"#N/A"},{"$error":"#N/A"},{"$error":"#N/A"}]
[11,"2013-01-16",{"$f":"+fill_data!B137","v":0},{"$f":"+fill_data!E137","v":0},{"$f":"+fill_data!C137","v":0},{"$f":"++fill_data!D137","v":0},{"$error":"#N/A"},{"$f":"VLOOKUP($A86,ฝนใช้การ,3)/7","v":{"$error":"#N/A"}},45,{"$error":"#N/A"},{"$error":"#N/A"},{"$error":"#N/A"},{"$error":"#N/A"}]
[12,"2013-01-17",{"$f":"+fill_data!B138","v":0},{"$f":"+fill_data!E138","v":0},{"$f":"+fill_data!C138","v":0},{"$f":"++fill_data!D138","v":0},{"$error":"#N/A"},{"$f":"VLOOKUP($A87,ฝนใช้การ,3)/7","v":{"$error":"#N/A"}},45,{"$error":"#N/A"},{"$error":"#N/A"},{"$error":"#N/A"},{"$error":"#N/A"}]
[12,"2013-01-18",{"$f":"+fill_data!B139","v":0},{"$f":"+fill_data!E139","v":0},{"$f":"+fill_data!C139","v":0},{"$f":"++fill_data!D139","v":0},{"$error":"#N/A"},{"$f":"VLOOKUP($A88,ฝนใช้การ,3)/7","v":{"$error":"#N/A"}},45,{"$error":"#N/A"},{"$error":"#N/A"},{"$error":"#N/A"},{"$error":"#N/A"}]
[12,"2013-01-19",{"$f":"+fill_data!B140","v":0},{"$f":"+fill_data!E140","v":0},{"$f":"+fill_data!C140","v":0},{"$f":"++fill_data!D140","v":0},{"$error":"#N/A"},{"$f":"VLOOKUP($A89,ฝนใช้การ,3)/7","v":{"$error":"#N/A"}},45,{"$error":"#N/A"},{"$error":"#N/A"},{"$error":"#N/A"},{"$error":"#N/A"}]
[12,"2013-01-20",{"$f":"+fill_data!B141","v":0},{"$f":"+fill_data!E141","v":0},{"$f":"+fill_data!C141","v":0},{"$f":"++fill_data!D141","v":0},{"$error":"#N/A"},{"$f":"VLOOKUP($A90,ฝนใช้การ,3)/7","v":{"$error":"#N/A"}},45,{"$error":"#N/A"},{"$error":"#N/A"},{"$error":"#N/A"},{"$error":"#N/A"}]
[12,"2013-01-21",{"$f":"+fill_data!B142","v":0},{"$f":"+fill_data!E142","v":0},{"$f":"+fill_data!C142","v":0},{"$f":"++fill_data!D142","v":0},{"$error":"#N/A"},{"$f":"VLOOKUP($A91,ฝนใช้การ,3)/7","v":{"$error":"#N/A"}},45,{"$error":"#N/A"},{"$error":"#N/A"},{"$error":"#N/A"},{"$error":"#N/A"}]
[12,"2013-01-22",{"$f":"+fill_data!B143","v":0},{"$f":"+fill_data!E143","v":0},{"$f":"+fill_data!C143","v":0},{"$f":"++fill_data!D143","v":0},{"$error":"#N/A"},{"$f":"VLOOKUP($A92,ฝนใช้การ,3)/7","v":{"$error":"#N/A"}},45,{"$error":"#N/A"},{"$error":"#N/A"},{"$error":"#N/A"},{"$error":"#N/A"}]
[12,"2013-01-23",{"$f":"+fill_data!B144","v":0},{"$f":"+fill_data!E144","v":0},{"$f":"+fill_data!C144","v":0},{"$f":"++fill_data!D144","v":0},{"$error":"#N/A"},{"$f":"VLOOKUP($A93,ฝนใช้การ,3)/7","v":{"$error":"#N/A"}},45,{"$error":"#N/A"},{"$error":"#N/A"},{"$error":"#N/A"},{"$error":"#N/A"}]
[13,"2013-01-24",{"$f":"+fill_data!B145","v":0},{"$f":"+fill_data!E145","v":0},{"$f":"+fill_data!C145","v":0},{"$f":"++fill_data!D145","v":0},{"$error":"#N/A"},{"$f":"VLOOKUP($A94,ฝนใช้การ,3)/7","v":{"$error":"#N/A"}},45,{"$error":"#N/A"},{"$error":"#N/A"},{"$error":"#N/A"},{"$error":"#N/A"}]
[13,"2013-01-25",{"$f":"+fill_data!B146","v":0},{"$f":"+fill_data!E146","v":0},{"$f":"+fill_data!C146","v":0},{"$f":"++fill_data!D146","v":0},{"$error":"#N/A"},{"$f":"VLOOKUP($A95,ฝนใช้การ,3)/7","v":{"$error":"#N/A"}},45,{"$error":"#N/A"},{"$error":"#N/A"},{"$error":"#N/A"},{"$error":"#N/A"}]
[13,"2013-01-26",{"$f":"+fill_data!B147","v":0},{"$f":"+fill_data!E147","v":0},{"$f":"+fill_data!C147","v":0},{"$f":"++fill_data!D147","v":0},{"$error":"#N/A"},{"$f":"VLOOKUP($A96,ฝนใช้การ,3)/7","v":{"$error":"#N/A"}},45,{"$error":"#N/A"},{"$error":"#N/A"},{"$error":"#N/A"},{"$error":"#N/A"}]
[13,"2013-01-27",{"$f":"+fill_data!B148","v":0},{"$f":"+fill_data!E148","v":0},{"$f":"+fill_data!C148","v":0},{"$f":"++fill_data!D148","v":0},{"$error":"#N/A"},{"$f":"VLOOKUP($A97,ฝนใช้การ,3)/7","v":{"$error":"#N/A"}},45,{"$error":"#N/A"},{"$error":"#N/A"},{"$error":"#N/A"},{"$error":"#N/A"}]
[13,"2013-01-28",{"$f":"+fill_data!B149","v":0},{"$f":"+fill_data!E149","v":0},{"$f":"+fill_data!C149","v":0},{"$f":"++fill_data!D149","v":0},{"$error":"#N/A"},{"$f":"VLOOKUP($A98,ฝนใช้การ,3)/7","v":{"$error":"#N/A"}},45,{"$error":"#N/A"},{"$error":"#N/A"},{"$error":"#N/A"},{"$error":"#N/A"}]
[13,"2013-01-29",{"$f":"+fill_data!B150","v":0},{"$f":"+fill_data!E150","v":0},{"$f":"+fill_data!C150","v":0},{"$f":"++fill_data!D150","v":0},{"$error":"#N/A"},{"$f":"VLOOKUP($A99,ฝนใช้การ,3)/7","v":{"$error":"#N/A"}},45,{"$error":"#N/A"},{"$error":"#N/A"},{"$error":"#N/A"},{"$error":"#N/A"}]
[13,"2013-01-30",{"$f":"+fill_data!B151","v":0},{"$f":"+fill_data!E151","v":0},{"$f":"+fill_data!C151","v":0},{"$f":"++fill_data!D151","v":0},{"$error":"#N/A"},{"$f":"VLOOKUP($A100,ฝนใช้การ,3)/7","v":{"$error":"#N/A"}},45,{"$error":"#N/A"},{"$error":"#N/A"},{"$error":"#N/A"},{"$error":"#N/A"}]
[14,"2013-01-31",{"$f":"+fill_data!B152","v":0},{"$f":"+fill_data!E152","v":0},{"$f":"+fill_data!C152","v":0},{"$f":"++fill_data!D152","v":0},{"$error":"#N/A"},{"$f":"VLOOKUP($A101,ฝนใช้การ,3)/7","v":{"$error":"#N/A"}},45,{"$error":"#N/A"},{"$error":"#N/A"},{"$error":"#N/A"},{"$error":"#N/A"}]
[14,"2013-02-01",{"$f":"+fill_data!B153","v":0},{"$f":"+fill_data!E153","v":0},{"$f":"+fill_data!C153","v":0},{"$f":"++fill_data!D153","v":0},{"$error":"#N/A"},{"$f":"VLOOKUP($A102,ฝนใช้การ,3)/7","v":{"$error":"#N/A"}},45,{"$error":"#N/A"},{"$error":"#N/A"},{"$error":"#N/A"},{"$error":"#N/A"}]
[14,"2013-02-02",{"$f":"+fill_data!B154","v":0},{"$f":"+fill_data!E154","v":0},{"$f":"+fill_data!C154","v":0},{"$f":"++fill_data!D154","v":0},{"$error":"#N/A"},{"$f":"VLOOKUP($A103,ฝนใช้การ,3)/7","v":{"$error":"#N/A"}},45,{"$error":"#N/A"},{"$error":"#N/A"},{"$error":"#N/A"},{"$error":"#N/A"}]
[14,"2013-02-03",{"$f":"+fill_data!B155","v":0},{"$f":"+fill_data!E155","v":0},{"$f":"+fill_data!C155","v":0},{"$f":"++fill_data!D155","v":0},{"$error":"#N/A"},{"$f":"VLOOKUP($A104,ฝนใช้การ,3)/7","v":{"$error":"#N/A"}},45,{"$error":"#N/A"},{"$error":"#N/A"},{"$error":"#N/A"},{"$error":"#N/A"}]
[14,"2013-02-04",{"$f":"+fill_data!B156","v":0},{"$f":"+fill_data!E156","v":0},{"$f":"+fill_data!C156","v":0},{"$f":"++fill_data!D156","v":0},{"$error":"#N/A"},{"$f":"VLOOKUP($A105,ฝนใช้การ,3)/7","v":{"$error":"#N/A"}},45,{"$error":"#N/A"},{"$error":"#N/A"},{"$error":"#N/A"},{"$error":"#N/A"}]
[14,"2013-02-05",{"$f":"+fill_data!B157","v":0},{"$f":"+fill_data!E157","v":0},{"$f":"+fill_data!C157","v":0},{"$f":"++fill_data!D157","v":0},{"$error":"#N/A"},{"$f":"VLOOKUP($A106,ฝนใช้การ,3)/7","v":{"$error":"#N/A"}},45,{"$error":"#N/A"},{"$error":"#N/A"},{"$error":"#N/A"},{"$error":"#N/A"}]
[14,"2013-02-06",{"$f":"+fill_data!B158","v":0},{"$f":"+fill_data!E158","v":0},{"$f":"+fill_data!C158","v":0},{"$f":"++fill_data!D158","v":0},{"$error":"#N/A"},{"$f":"VLOOKUP($A107,ฝนใช้การ,3)/7","v":{"$error":"#N/A"}},45,{"$error":"#N/A"},{"$error":"#N/A"},{"$error":"#N/A"},{"$error":"#N/A"}]
[15,"2013-02-07",{"$f":"+fill_data!B159","v":0},{"$f":"+fill_data!E159","v":0},{"$f":"+fill_data!C159","v":0},{"$f":"++fill_data!D159","v":0},{"$error":"#N/A"},{"$f":"VLOOKUP($A108,ฝนใช้การ,3)/7","v":{"$error":"#N/A"}},45,{"$error":"#N/A"},{"$error":"#N/A"},{"$error":"#N/A"},{"$error":"#N/A"}]
[15,"2013-02-08",{"$f":"+fill_data!B160","v":0},{"$f":"+fill_data!E160","v":0},{"$f":"+fill_data!C160","v":0},{"$f":"++fill_data!D160","v":0},{"$error":"#N/A"},{"$f":"VLOOKUP($A109,ฝนใช้การ,3)/7","v":{"$error":"#N/A"}},45,{"$error":"#N/A"},{"$error":"#N/A"},{"$error":"#N/A"},{"$error":"#N/A"}]
[15,"2013-02-09",{"$f":"+fill_data!B161","v":0},{"$f":"+fill_data!E161","v":0},{"$f":"+fill_data!C161","v":0},{"$f":"++fill_data!D161","v":0},{"$error":"#N/A"},{"$f":"VLOOKUP($A110,ฝนใช้การ,3)/7","v":{"$error":"#N/A"}},45,{"$error":"#N/A"},{"$error":"#N/A"},{"$error":"#N/A"},{"$error":"#N/A"}]
[15,"2013-02-10",{"$f":"+fill_data!B162","v":0},{"$f":"+fill_data!E162","v":0},{"$f":"+fill_data!C162","v":0},{"$f":"++fill_data!D162","v":0},{"$error":"#N/A"},{"$f":"VLOOKUP($A111,ฝนใช้การ,3)/7","v":{"$error":"#N/A"}},45,{"$error":"#N/A"},{"$error":"#N/A"},{"$error":"#N/A"},{"$error":"#N/A"}]
[15,"2013-02-11",{"$f":"+fill_data!B163","v":0},{"$f":"+fill_data!E163","v":0},{"$f":"+fill_data!C163","v":0},{"$f":"++fill_data!D163","v":0},{"$error":"#N/A"},{"$f":"VLOOKUP($A112,ฝนใช้การ,3)/7","v":{"$error":"#N/A"}},45,{"$error":"#N/A"},{"$error":"#N/A"},{"$error":"#N/A"},{"$error":"#N/A"}]
[15,"2013-02-12",{"$f":"+fill_data!B164","v":0},{"$f":"+fill_data!E164","v":0},{"$f":"+fill_data!C164","v":0},{"$f":"++fill_data!D164","v":0},{"$error":"#N/A"},{"$f":"VLOOKUP($A113,ฝนใช้การ,3)/7","v":{"$error":"#N/A"}},45,{"$error":"#N/A"},{"$error":"#N/A"},{"$error":"#N/A"},{"$error":"#N/A"}]
[15,"2013-02-13",{"$f":"+fill_data!B165","v":0},{"$f":"+fill_data!E165","v":0},{"$f":"+fill_data!C165","v":0},{"$f":"++fill_data!D165","v":0},{"$error":"#N/A"},{"$f":"VLOOKUP($A114,ฝนใช้การ,3)/7","v":{"$error":"#N/A"}},45,{"$error":"#N/A"},{"$error":"#N/A"},{"$error":"#N/A"},{"$f":"+C114+D114+E114+F114+G114","v":{"$error":"#N/A"}}]
[16,"2013-02-14",{"$f":"+fill_data!B166","v":0},{"$f":"+fill_data!E166","v":0},{"$f":"+fill_data!C166","v":0},{"$f":"++fill_data!D166","v":0},{"$error":"#N/A"},{"$f":"VLOOKUP($A115,ฝนใช้การ,3)/7","v":{"$error":"#N/A"}},45,{"$error":"#N/A"},{"$error":"#N/A"},{"$error":"#N/A"},{"$error":"#N/A"}]
[16,"2013-02-15",{"$f":"+fill_data!B167","v":0},{"$f":"+fill_data!E167","v":0},{"$f":"+fill_data!C167","v":0},{"$f":"++fill_data!D167","v":0},{"$error":"#N/A"},{"$f":"VLOOKUP($A116,ฝนใช้การ,3)/7","v":{"$error":"#N/A"}},45,{"$error":"#N/A"},{"$error":"#N/A"},{"$error":"#N/A"},{"$error":"#N/A"}]
[16,"2013-02-16",{"$f":"+fill_data!B168","v":0},{"$f":"+fill_data!E168","v":0},{"$f":"+fill_data!C168","v":0},{"$f":"++fill_data!D168","v":0},{"$error":"#N/A"},{"$f":"VLOOKUP($A117,ฝนใช้การ,3)/7","v":{"$error":"#N/A"}},45,{"$error":"#N/A"},{"$error":"#N/A"},{"$error":"#N/A"},{"$error":"#N/A"}]
[16,"2013-02-17",{"$f":"+fill_data!B169","v":0},{"$f":"+fill_data!E169","v":0},{"$f":"+fill_data!C169","v":0},{"$f":"++fill_data!D169","v":0},{"$error":"#N/A"},{"$f":"VLOOKUP($A118,ฝนใช้การ,3)/7","v":{"$error":"#N/A"}},45,{"$error":"#N/A"},{"$error":"#N/A"},{"$error":"#N/A"},{"$error":"#N/A"}]
[16,"2013-02-18",{"$f":"+fill_data!B170","v":0},{"$f":"+fill_data!E170","v":0},{"$f":"+fill_data!C170","v":0},{"$f":"++fill_data!D170","v":0},{"$error":"#N/A"},{"$f":"VLOOKUP($A119,ฝนใช้การ,3)/7","v":{"$error":"#N/A"}},45,{"$error":"#N/A"},{"$error":"#N/A"},{"$error":"#N/A"},{"$error":"#N/A"}]
[16,"2013-02-19",{"$f":"+fill_data!B171","v":0},{"$f":"+fill_data!E171","v":0},{"$f":"+fill_data!C171","v":0},{"$f":"++fill_data!D171","v":0},{"$error":"#N/A"},{"$f":"VLOOKUP($A120,ฝนใช้การ,3)/7","v":{"$error":"#N/A"}},45,{"$error":"#N/A"},{"$error":"#N/A"},{"$error":"#N/A"},{"$error":"#N/A"}]
[16,"2013-02-20",{"$f":"+fill_data!B172","v":0},{"$f":"+fill_data!E172","v":0},{"$f":"+fill_data!C172","v":0},{"$f":"++fill_data!D172","v":0},{"$error":"#N/A"},{"$f":"VLOOKUP($A121,ฝนใช้การ,3)/7","v":{"$error":"#N/A"}},45,{"$error":"#N/A"},{"$error":"#N/A"},{"$error":"#N/A"},{"$error":"#N/A"}]
[17,"2013-02-21",{"$f":"+fill_data!B173","v":0},{"$f":"+fill_data!E173","v":0},{"$f":"+fill_data!C173","v":0},{"$f":"++fill_data!D173","v":0},{"$error":"#N/A"},{"$f":"VLOOKUP($A122,ฝนใช้การ,3)/7","v":{"$error":"#N/A"}},45,{"$error":"#N/A"},{"$error":"#N/A"},{"$error":"#N/A"},{"$error":"#N/A"}]
[17,"2013-02-22",{"$f":"+fill_data!B174","v":0},{"$f":"+fill_data!E174","v":0},{"$f":"+fill_data!C174","v":0},{"$f":"++fill_data!D174","v":0},{"$error":"#N/A"},{"$f":"VLOOKUP($A123,ฝนใช้การ,3)/7","v":{"$error":"#N/A"}},45,{"$error":"#N/A"},{"$error":"#N/A"},{"$error":"#N/A"},{"$error":"#N/A"}]
[17,"2013-02-23",{"$f":"+fill_data!B175","v":0},{"$f":"+fill_data!E175","v":0},{"$f":"+fill_data!C175","v":0},{"$f":"++fill_data!D175","v":0},{"$error":"#N/A"},{"$f":"VLOOKUP($A124,ฝนใช้การ,3)/7","v":{"$error":"#N/A"}},45,{"$error":"#N/A"},{"$error":"#N/A"},{"$error":"#N/A"},{"$error":"#N/A"}]
[17,"2013-02-24",{"$f":"+fill_data!B176","v":0},{"$f":"+fill_data!E176","v":0},{"$f":"+fill_data!C176","v":0},{"$f":"++fill_data!D176","v":0},{"$error":"#N/A"},{"$f":"VLOOKUP($A125,ฝนใช้การ,3)/7","v":{"$error":"#N/A"}},45,{"$error":"#N/A"},{"$error":"#N/A"},{"$error":"#N/A"},{"$error":"#N/A"}]
[17,"2013-02-25",{"$f":"+fill_data!B177","v":0},{"$f":"+fill_data!E177","v":0},{"$f":"+fill_data!C177","v":0},{"$f":"++fill_data!D177","v":0},{"$error":"#N/A"},{"$f":"VLOOKUP($A126,ฝนใช้การ,3)/7","v":{"$error":"#N/A"}},45,{"$error":"#N/A"},{"$error":"#N/A"},{"$error":"#N/A"},{"$error":"#N/A"}]
[17,"2013-02-26",{"$f":"+fill_data!B178","v":0},{"$f":"+fill_data!E178","v":0},{"$f":"+fill_data!C178","v":0},{"$f":"++fill_data!D178","v":0},{"$error":"#N/A"},{"$f":"VLOOKUP($A127,ฝนใช้การ,3)/7","v":{"$error":"#N/A"}},45,{"$error":"#N/A"},{"$error":"#N/A"},{"$error":"#N/A"},{"$error":"#N/A"}]
[17,"2013-02-27",{"$f":"+fill_data!B179","v":0},{"$f":"+fill_data!E179","v":0},{"$f":"+fill_data!C179","v":0},{"$f":"++fill_data!D179","v":0},{"$error":"#N/A"},{"$f":"VLOOKUP($A128,ฝนใช้การ,3)/7","v":{"$error":"#N/A"}},45,{"$error":"#N/A"},{"$error":"#N/A"},{"$error":"#N/A"},{"$error":"#N/A"}]
[18,"2013-02-28",{"$f":"+fill_data!B180","v":0},{"$f":"+fill_data!E180","v":0},{"$f":"+fill_data!C180","v":0},{"$f":"++fill_data!D180","v":0},{"$error":"#N/A"},{"$f":"VLOOKUP($A129,ฝนใช้การ,3)/7","v":{"$error":"#N/A"}},45,{"$error":"#N/A"},{"$error":"#N/A"},{"$error":"#N/A"},{"$error":"#N/A"}]
[18,"2013-03-01",{"$f":"+fill_data!B181","v":0},{"$f":"+fill_data!E181","v":0},{"$f":"+fill_data!C181","v":0},{"$f":"++fill_data!D181","v":0},{"$error":"#N/A"},{"$f":"VLOOKUP($A130,ฝนใช้การ,3)/7","v":{"$error":"#N/A"}},45,{"$error":"#N/A"},{"$error":"#N/A"},{"$error":"#N/A"},{"$error":"#N/A"}]
[18,"2013-03-02",{"$f":"+fill_data!B182","v":0},{"$f":"+fill_data!E182","v":0},{"$f":"+fill_data!C182","v":0},{"$f":"++fill_data!D182","v":0},{"$error":"#N/A"},{"$f":"VLOOKUP($A131,ฝนใช้การ,3)/7","v":{"$error":"#N/A"}},45,{"$error":"#N/A"},{"$error":"#N/A"},{"$error":"#N/A"},{"$error":"#N/A"}]
[18,"2013-03-03",{"$f":"+fill_data!B183","v":0},{"$f":"+fill_data!E183","v":0},{"$f":"+fill_data!C183","v":0},{"$f":"++fill_data!D183","v":0},{"$error":"#N/A"},{"$f":"VLOOKUP($A132,ฝนใช้การ,3)/7","v":{"$error":"#N/A"}},45,{"$error":"#N/A"},{"$error":"#N/A"},{"$error":"#N/A"},{"$error":"#N/A"}]
[18,"2013-03-04",{"$f":"+fill_data!B184","v":0},{"$f":"+fill_data!E184","v":0},{"$f":"+fill_data!C184","v":0},{"$f":"++fill_data!D184","v":0},{"$error":"#N/A"},{"$f":"VLOOKUP($A133,ฝนใช้การ,3)/7","v":{"$error":"#N/A"}},45,{"$error":"#N/A"},{"$error":"#N/A"},{"$error":"#N/A"},{"$error":"#N/A"}]
[18,"2013-03-05",{"$f":"+fill_data!B185","v":0},{"$f":"+fill_data!E185","v":0},{"$f":"+fill_data!C185","v":0},{"$f":"++fill_data!D185","v":0},{"$error":"#N/A"},{"$f":"VLOOKUP($A134,ฝนใช้การ,3)/7","v":{"$error":"#N/A"}},45,{"$error":"#N/A"},{"$error":"#N/A"},{"$error":"#N/A"},{"$error":"#N/A"}]
[18,"2013-03-06",{"$f":"+fill_data!B186","v":0},{"$f":"+fill_data!E186","v":0},{"$f":"+fill_data!C186","v":0},{"$f":"++fill_data!D186","v":0},{"$error":"#N/A"},{"$f":"VLOOKUP($A135,ฝนใช้การ,3)/7","v":{"$error":"#N/A"}},45,{"$error":"#N/A"},{"$error":"#N/A"},{"$error":"#N/A"},{"$error":"#N/A"}]
[19,"2013-03-07",{"$f":"+fill_data!B187","v":0},{"$f":"+fill_data!E187","v":0},{"$f":"+fill_data!C187","v":0},{"$f":"++fill_data!D187","v":0},{"$error":"#N/A"},{"$f":"VLOOKUP($A136,ฝนใช้การ,3)/7","v":{"$error":"#N/A"}},45,{"$error":"#N/A"},{"$error":"#N/A"},{"$error":"#N/A"},{"$error":"#N/A"}]
[19,"2013-03-08",{"$f":"+fill_data!B188","v":0},{"$f":"+fill_data!E188","v":0},{"$f":"+fill_data!C188","v":0},{"$f":"++fill_data!D188","v":0},{"$error":"#N/A"},{"$f":"VLOOKUP($A137,ฝนใช้การ,3)/7","v":{"$error":"#N/A"}},45,{"$error":"#N/A"},{"$error":"#N/A"},{"$error":"#N/A"},{"$error":"#N/A"}]
[19,"2013-03-09",{"$f":"+fill_data!B189","v":0},{"$f":"+fill_data!E189","v":0},{"$f":"+fill_data!C189","v":0},{"$f":"++fill_data!D189","v":0},{"$f":"VLOOKUP($A138,ความต้องการน้ำ,3)/7","v":{"$error":"#N/A"}},{"$f":"VLOOKUP($A138,ฝนใช้การ,3)/7","v":{"$error":"#N/A"}},45,{"$error":"#N/A"},{"$f":"C138+D138+E138+F138+J138","v":{"$error":"#N/A"}},{"$error":"#N/A"},{"$error":"#N/A"}]
[19,{"$f":"+B138+1","v":"2013-03-10"},{"$f":"+fill_data!B190","v":0},{"$f":"+fill_data!E190","v":0},{"$f":"+fill_data!C190","v":0},{"$f":"++fill_data!D190","v":0},{"$error":"#N/A"},{"$f":"VLOOKUP($A139,ฝนใช้การ,3)/7","v":{"$error":"#N/A"}},45,{"$f":"IF((G139-H139)<=0,0,+(G139-H139)/(I139/100))","v":{"$error":"#N/A"}},{"$error":"#N/A"},{"$error":"#N/A"},{"$error":"#N/A"}]
[19,"2013-03-11",{"$f":"+fill_data!B191","v":0},{"$f":"+fill_data!E191","v":0},{"$f":"+fill_data!C191","v":0},{"$f":"++fill_data!D191","v":0},{"$error":"#N/A"},{"$f":"VLOOKUP($A140,ฝนใช้การ,3)/7","v":{"$error":"#N/A"}},{"$f":"+I139","v":45},{"$error":"#N/A"},{"$error":"#N/A"},{"$f":"+L139+K140","v":{"$error":"#N/A"}},{"$error":"#N/A"}]
[19,"2013-03-12",{"$f":"+fill_data!B192","v":0},{"$f":"+fill_data!E192","v":0},{"$f":"+fill_data!C192","v":0},{"$f":"++fill_data!D192","v":0},{"$error":"#N/A"},{"$f":"VLOOKUP($A141,ฝนใช้การ,3)/7","v":{"$error":"#N/A"}},45,{"$error":"#N/A"},{"$error":"#N/A"},{"$error":"#N/A"},{"$error":"#N/A"}]
[19,"2013-03-13",{"$f":"+fill_data!B193","v":0},{"$f":"+fill_data!E193","v":0},{"$f":"+fill_data!C193","v":0},{"$f":"++fill_data!D193","v":0},{"$error":"#N/A"},{"$f":"VLOOKUP($A142,ฝนใช้การ,3)/7","v":{"$error":"#N/A"}},45,{"$error":"#N/A"},{"$error":"#N/A"},{"$error":"#N/A"},{"$error":"#N/A"}]
[20,"2013-03-14",{"$f":"+fill_data!B194","v":0},{"$f":"+fill_data!E194","v":0},{"$f":"+fill_data!C194","v":0},{"$f":"++fill_data!D194","v":0},{"$error":"#N/A"},{"$f":"VLOOKUP($A143,ฝนใช้การ,3)/7","v":{"$error":"#N/A"}},45,{"$error":"#N/A"},{"$error":"#N/A"},{"$error":"#N/A"},{"$error":"#N/A"}]
[{"$f":"+A143","v":20},"2013-03-15",{"$f":"+fill_data!B195","v":0},{"$f":"+fill_data!E195","v":0},{"$f":"+fill_data!C195","v":0},{"$f":"++fill_data!D195","v":0},{"$error":"#N/A"},{"$f":"VLOOKUP($A144,ฝนใช้การ,3)/7","v":{"$error":"#N/A"}},45,{"$error":"#N/A"},{"$error":"#N/A"},{"$error":"#N/A"},{"$error":"#N/A"}]
[20,"2013-03-16",{"$f":"+fill_data!B196","v":0},{"$f":"+fill_data!E196","v":0},{"$f":"+fill_data!C196","v":0},{"$f":"++fill_data!D196","v":0},{"$error":"#N/A"},{"$f":"VLOOKUP($A145,ฝนใช้การ,3)/7","v":{"$error":"#N/A"}},45,{"$error":"#N/A"},{"$error":"#N/A"},{"$error":"#N/A"},{"$error":"#N/A"}]
[20,"2013-03-17",{"$f":"+fill_data!B197","v":0},{"$f":"+fill_data!E197","v":0},{"$f":"+fill_data!C197","v":0},{"$f":"++fill_data!D197","v":0},{"$error":"#N/A"},{"$f":"VLOOKUP($A146,ฝนใช้การ,3)/7","v":{"$error":"#N/A"}},45,{"$error":"#N/A"},{"$error":"#N/A"},{"$error":"#N/A"},{"$error":"#N/A"}]
[20,"2013-03-18",{"$f":"+fill_data!B198","v":0},{"$f":"+fill_data!E198","v":0},{"$f":"+fill_data!C198","v":0},{"$f":"++fill_data!D198","v":0},{"$error":"#N/A"},{"$f":"VLOOKUP($A147,ฝนใช้การ,3)/7","v":{"$error":"#N/A"}},45,{"$error":"#N/A"},{"$error":"#N/A"},{"$error":"#N/A"},{"$error":"#N/A"}]
[20,"2013-03-19",{"$f":"+fill_data!B199","v":0},{"$f":"+fill_data!E199","v":0},{"$f":"+fill_data!C199","v":0},{"$f":"++fill_data!D199","v":0},{"$error":"#N/A"},{"$f":"VLOOKUP($A148,ฝนใช้การ,3)/7","v":{"$error":"#N/A"}},45,{"$error":"#N/A"},{"$error":"#N/A"},{"$error":"#N/A"},{"$error":"#N/A"}]
[20,"2013-03-20",{"$f":"+fill_data!B200","v":0},{"$f":"+fill_data!E200","v":0},{"$f":"+fill_data!C200","v":0},{"$f":"++fill_data!D200","v":0},{"$error":"#N/A"},{"$f":"VLOOKUP($A149,ฝนใช้การ,3)/7","v":{"$error":"#N/A"}},45,{"$error":"#N/A"},{"$error":"#N/A"},{"$error":"#N/A"},{"$error":"#N/A"}]
[21,"2013-03-21",{"$f":"+fill_data!B201","v":0},{"$f":"+fill_data!E201","v":0},{"$f":"+fill_data!C201","v":0},{"$f":"++fill_data!D201","v":0},{"$error":"#N/A"},{"$f":"VLOOKUP($A150,ฝนใช้การ,3)/7","v":{"$error":"#N/A"}},45,{"$error":"#N/A"},{"$error":"#N/A"},{"$error":"#N/A"},{"$error":"#N/A"}]
[21,"2013-03-22",{"$f":"+fill_data!B202","v":0},{"$f":"+fill_data!E202","v":0},{"$f":"+fill_data!C202","v":0},{"$f":"++fill_data!D202","v":0},{"$error":"#N/A"},{"$f":"VLOOKUP($A151,ฝนใช้การ,3)/7","v":{"$error":"#N/A"}},45,{"$error":"#N/A"},{"$error":"#N/A"},{"$error":"#N/A"},{"$error":"#N/A"}]
[21,"2013-03-23",{"$f":"+fill_data!B203","v":0},{"$f":"+fill_data!E203","v":0},{"$f":"+fill_data!C203","v":0},{"$f":"++fill_data!D203","v":0},{"$error":"#N/A"},{"$f":"VLOOKUP($A152,ฝนใช้การ,3)/7","v":{"$error":"#N/A"}},45,{"$error":"#N/A"},{"$error":"#N/A"},{"$error":"#N/A"},{"$error":"#N/A"}]
[21,"2013-03-24",{"$f":"+fill_data!B204","v":0},{"$f":"+fill_data!E204","v":0},{"$f":"+fill_data!C204","v":0},{"$f":"++fill_data!D204","v":0},{"$error":"#N/A"},{"$f":"VLOOKUP($A153,ฝนใช้การ,3)/7","v":{"$error":"#N/A"}},45,{"$error":"#N/A"},{"$error":"#N/A"},{"$error":"#N/A"},{"$error":"#N/A"}]
[21,"2013-03-25",{"$f":"+fill_data!B205","v":0},{"$f":"+fill_data!E205","v":0},{"$f":"+fill_data!C205","v":0},{"$f":"++fill_data!D205","v":0},{"$error":"#N/A"},{"$f":"VLOOKUP($A154,ฝนใช้การ,3)/7","v":{"$error":"#N/A"}},45,{"$error":"#N/A"},{"$error":"#N/A"},{"$error":"#N/A"},{"$error":"#N/A"}]
[21,"2013-03-26",{"$f":"+fill_data!B206","v":0},{"$f":"+fill_data!E206","v":0},{"$f":"+fill_data!C206","v":0},{"$f":"++fill_data!D206","v":0},{"$error":"#N/A"},{"$f":"VLOOKUP($A155,ฝนใช้การ,3)/7","v":{"$error":"#N/A"}},45,{"$error":"#N/A"},{"$error":"#N/A"},{"$error":"#N/A"},{"$error":"#N/A"}]
[21,"2013-03-27",{"$f":"+fill_data!B207","v":0},{"$f":"+fill_data!E207","v":0},{"$f":"+fill_data!C207","v":0},{"$f":"++fill_data!D207","v":0},{"$error":"#N/A"},{"$f":"VLOOKUP($A156,ฝนใช้การ,3)/7","v":{"$error":"#N/A"}},45,{"$error":"#N/A"},{"$error":"#N/A"},{"$error":"#N/A"},{"$error":"#N/A"}]
[22,"2013-03-28",{"$f":"+fill_data!B208","v":0},{"$f":"+fill_data!E208","v":0},{"$f":"+fill_data!C208","v":0},{"$f":"++fill_data!D208","v":0},{"$error":"#N/A"},{"$f":"VLOOKUP($A157,ฝนใช้การ,3)/7","v":{"$error":"#N/A"}},45,{"$error":"#N/A"},{"$error":"#N/A"},{"$error":"#N/A"},{"$error":"#N/A"}]
[22,"2013-03-29",{"$f":"+fill_data!B209","v":0},{"$f":"+fill_data!E209","v":0},{"$f":"+fill_data!C209","v":0},{"$f":"++fill_data!D209","v":0},{"$error":"#N/A"},{"$f":"VLOOKUP($A158,ฝนใช้การ,3)/7","v":{"$error":"#N/A"}},45,{"$error":"#N/A"},{"$error":"#N/A"},{"$error":"#N/A"},{"$error":"#N/A"}]
[22,"2013-03-30",{"$f":"+fill_data!B210","v":0},{"$f":"+fill_data!E210","v":0},{"$f":"+fill_data!C210","v":0},{"$f":"++fill_data!D210","v":0},{"$error":"#N/A"},{"$f":"VLOOKUP($A159,ฝนใช้การ,3)/7","v":{"$error":"#N/A"}},45,{"$error":"#N/A"},{"$error":"#N/A"},{"$error":"#N/A"},{"$error":"#N/A"}]
[22,"2013-03-31",{"$f":"+fill_data!B211","v":0},{"$f":"+fill_data!E211","v":0},{"$f":"+fill_data!C211","v":0},{"$f":"++fill_data!D211","v":0},{"$error":"#N/A"},{"$f":"VLOOKUP($A160,ฝนใช้การ,3)/7","v":{"$error":"#N/A"}},45,{"$error":"#N/A"},{"$error":"#N/A"},{"$error":"#N/A"},{"$error":"#N/A"}]
[22,"2013-04-01",{"$f":"+fill_data!B212","v":0},{"$f":"+fill_data!E212","v":0},{"$f":"+fill_data!C212","v":0},{"$f":"++fill_data!D212","v":0},{"$error":"#N/A"},{"$f":"VLOOKUP($A161,ฝนใช้การ,3)/7","v":{"$error":"#N/A"}},45,{"$error":"#N/A"},{"$error":"#N/A"},{"$error":"#N/A"},{"$error":"#N/A"}]
[22,"2013-04-02",{"$f":"+fill_data!B213","v":0},{"$f":"+fill_data!E213","v":0},{"$f":"+fill_data!C213","v":0},{"$f":"++fill_data!D213","v":0},{"$error":"#N/A"},{"$f":"VLOOKUP($A162,ฝนใช้การ,3)/7","v":{"$error":"#N/A"}},45,{"$error":"#N/A"},{"$error":"#N/A"},{"$error":"#N/A"},{"$error":"#N/A"}]
[22,"2013-04-03",{"$f":"+fill_data!B214","v":0},{"$f":"+fill_data!E214","v":0},{"$f":"+fill_data!C214","v":0},{"$f":"++fill_data!D214","v":0},{"$error":"#N/A"},{"$f":"VLOOKUP($A163,ฝนใช้การ,3)/7","v":{"$error":"#N/A"}},45,{"$error":"#N/A"},{"$error":"#N/A"},{"$error":"#N/A"},{"$error":"#N/A"}]
[23,"2013-04-04",{"$f":"+fill_data!B215","v":0},{"$f":"+fill_data!E215","v":0},{"$f":"+fill_data!C215","v":0},{"$f":"++fill_data!D215","v":0},{"$error":"#N/A"},{"$f":"VLOOKUP($A164,ฝนใช้การ,3)/7","v":{"$error":"#N/A"}},45,{"$error":"#N/A"},{"$error":"#N/A"},{"$error":"#N/A"},{"$error":"#N/A"}]
[23,"2013-04-05",{"$f":"+fill_data!B216","v":0},{"$f":"+fill_data!E216","v":0},{"$f":"+fill_data!C216","v":0},{"$f":"++fill_data!D216","v":0},{"$error":"#N/A"},{"$f":"VLOOKUP($A165,ฝนใช้การ,3)/7","v":{"$error":"#N/A"}},45,{"$error":"#N/A"},{"$error":"#N/A"},{"$error":"#N/A"},{"$error":"#N/A"}]
[23,"2013-04-06",{"$f":"+fill_data!B217","v":0},{"$f":"+fill_data!E217","v":0},{"$f":"+fill_data!C217","v":0},{"$f":"++fill_data!D217","v":0},{"$error":"#N/A"},{"$f":"VLOOKUP($A166,ฝนใช้การ,3)/7","v":{"$error":"#N/A"}},45,{"$error":"#N/A"},{"$error":"#N/A"},{"$error":"#N/A"},{"$error":"#N/A"}]
[23,"2013-04-07",{"$f":"+fill_data!B218","v":0},{"$f":"+fill_data!E218","v":0},{"$f":"+fill_data!C218","v":0},{"$f":"++fill_data!D218","v":0},{"$error":"#N/A"},{"$f":"VLOOKUP($A167,ฝนใช้การ,3)/7","v":{"$error":"#N/A"}},45,{"$error":"#N/A"},{"$error":"#N/A"},{"$error":"#N/A"},{"$error":"#N/A"}]
[23,"2013-04-08",{"$f":"+fill_data!B219","v":0},{"$f":"+fill_data!E219","v":0},{"$f":"+fill_data!C219","v":0},{"$f":"++fill_data!D219","v":0},{"$error":"#N/A"},{"$f":"VLOOKUP($A168,ฝนใช้การ,3)/7","v":{"$error":"#N/A"}},45,{"$error":"#N/A"},{"$error":"#N/A"},{"$error":"#N/A"},{"$error":"#N/A"}]
[23,"2013-04-09",{"$f":"+fill_data!B220","v":0},{"$f":"+fill_data!E220","v":0},{"$f":"+fill_data!C220","v":0},{"$f":"++fill_data!D220","v":0},{"$error":"#N/A"},{"$f":"VLOOKUP($A169,ฝนใช้การ,3)/7","v":{"$error":"#N/A"}},45,{"$error":"#N/A"},{"$error":"#N/A"},{"$error":"#N/A"},{"$error":"#N/A"}]
[23,"2013-04-10",{"$f":"+fill_data!B221","v":0},{"$f":"+fill_data!E221","v":0},{"$f":"+fill_data!C221","v":0},{"$f":"++fill_data!D221","v":0},{"$error":"#N/A"},{"$f":"VLOOKUP($A170,ฝนใช้การ,3)/7","v":{"$error":"#N/A"}},45,{"$error":"#N/A"},{"$error":"#N/A"},{"$error":"#N/A"},{"$error":"#N/A"}]
[24,"2013-04-11",{"$f":"+fill_data!B222","v":0},{"$f":"+fill_data!E222","v":0},{"$f":"+fill_data!C222","v":0},{"$f":"++fill_data!D222","v":0},{"$error":"#N/A"},{"$f":"VLOOKUP($A171,ฝนใช้การ,3)/7","v":{"$error":"#N/A"}},45,{"$error":"#N/A"},{"$error":"#N/A"},{"$error":"#N/A"},{"$error":"#N/A"}]
[24,"2013-04-12",{"$f":"++fill_data!B223","v":0},{"$f":"+fill_data!E223","v":0},{"$f":"+fill_data!C223","v":0},{"$f":"++fill_data!D223","v":0},{"$error":"#N/A"},{"$f":"VLOOKUP($A172,ฝนใช้การ,3)/7","v":{"$error":"#N/A"}},45,{"$error":"#N/A"},{"$error":"#N/A"},{"$error":"#N/A"},{"$error":"#N/A"}]
[24,"2013-04-13",{"$f":"+fill_data!B224","v":0},{"$f":"+fill_data!E224","v":0},{"$f":"+fill_data!C224","v":0},{"$f":"++fill_data!D224","v":0},{"$error":"#N/A"},{"$f":"VLOOKUP($A173,ฝนใช้การ,3)/7","v":{"$error":"#N/A"}},45,{"$error":"#N/A"},{"$error":"#N/A"},{"$error":"#N/A"},{"$error":"#N/A"}]
[24,"2013-04-14",{"$f":"+fill_data!B225","v":0},{"$f":"+fill_data!E225","v":0},{"$f":"+fill_data!C225","v":0},{"$f":"++fill_data!D225","v":0},{"$error":"#N/A"},{"$f":"VLOOKUP($A174,ฝนใช้การ,3)/7","v":{"$error":"#N/A"}},45,{"$error":"#N/A"},{"$error":"#N/A"},{"$error":"#N/A"},{"$error":"#N/A"}]
[24,"2013-04-15",{"$f":"+fill_data!B226","v":0},{"$f":"+fill_data!E226","v":0},{"$f":"+fill_data!C226","v":0},{"$f":"++fill_data!D226","v":0},{"$error":"#N/A"},{"$f":"VLOOKUP($A175,ฝนใช้การ,3)/7","v":{"$error":"#N/A"}},45,{"$error":"#N/A"},{"$error":"#N/A"},{"$error":"#N/A"},{"$error":"#N/A"}]
[24,"2013-04-16",{"$f":"+fill_data!B227","v":0},{"$f":"+fill_data!E227","v":0},{"$f":"+fill_data!C227","v":0},{"$f":"++fill_data!D227","v":0},{"$error":"#N/A"},{"$f":"VLOOKUP($A176,ฝนใช้การ,3)/7","v":{"$error":"#N/A"}},45,{"$error":"#N/A"},{"$error":"#N/A"},{"$error":"#N/A"},{"$error":"#N/A"}]
[24,"2013-04-17",{"$f":"+fill_data!B228","v":0},{"$f":"+fill_data!E228","v":0},{"$f":"+fill_data!C228","v":0},{"$f":"++fill_data!D228","v":0},{"$error":"#N/A"},{"$f":"VLOOKUP($A177,ฝนใช้การ,3)/7","v":{"$error":"#N/A"}},45,{"$error":"#N/A"},{"$error":"#N/A"},{"$error":"#N/A"},{"$error":"#N/A"}]
[25,"2013-04-18",{"$f":"+fill_data!B229","v":0},{"$f":"+fill_data!E229","v":0},{"$f":"+fill_data!C229","v":0},{"$f":"++fill_data!D229","v":0},{"$error":"#N/A"},{"$f":"VLOOKUP($A178,ฝนใช้การ,3)/7","v":{"$error":"#N/A"}},45,{"$error":"#N/A"},{"$error":"#N/A"},{"$error":"#N/A"},{"$f":"+C178+D178+E178+F178+G178","v":{"$error":"#N/A"}}]
[25,"2013-04-19",{"$f":"+fill_data!B230","v":0},{"$f":"+fill_data!E230","v":0},{"$f":"+fill_data!C230","v":0},{"$f":"++fill_data!D230","v":0},{"$error":"#N/A"},{"$f":"VLOOKUP($A179,ฝนใช้การ,3)/7","v":{"$error":"#N/A"}},45,{"$error":"#N/A"},{"$error":"#N/A"},{"$error":"#N/A"},{"$error":"#N/A"}]
[25,"2013-04-20",{"$f":"+fill_data!B231","v":0},{"$f":"+fill_data!E231","v":0},{"$f":"+fill_data!C231","v":0},{"$f":"++fill_data!D231","v":0},{"$error":"#N/A"},{"$f":"VLOOKUP($A180,ฝนใช้การ,3)/7","v":{"$error":"#N/A"}},45,{"$error":"#N/A"},{"$error":"#N/A"},{"$error":"#N/A"},{"$error":"#N/A"}]
[25,"2013-04-21",{"$f":"+fill_data!B232","v":0},{"$f":"+fill_data!E232","v":0},{"$f":"+fill_data!C232","v":0},{"$f":"++fill_data!D232","v":0},{"$error":"#N/A"},{"$f":"VLOOKUP($A181,ฝนใช้การ,3)/7","v":{"$error":"#N/A"}},45,{"$error":"#N/A"},{"$error":"#N/A"},{"$error":"#N/A"},{"$error":"#N/A"}]
[25,"2013-04-22",{"$f":"+fill_data!B233","v":0},{"$f":"+fill_data!E233","v":0},{"$f":"+fill_data!C233","v":0},{"$f":"++fill_data!D233","v":0},{"$error":"#N/A"},{"$f":"VLOOKUP($A182,ฝนใช้การ,3)/7","v":{"$error":"#N/A"}},45,{"$error":"#N/A"},{"$error":"#N/A"},{"$error":"#N/A"},{"$error":"#N/A"}]
[25,"2013-04-23",{"$f":"+fill_data!B234","v":0},{"$f":"+fill_data!E234","v":0},{"$f":"+fill_data!C234","v":0},{"$f":"++fill_data!D234","v":0},{"$error":"#N/A"},{"$f":"VLOOKUP($A183,ฝนใช้การ,3)/7","v":{"$error":"#N/A"}},45,{"$error":"#N/A"},{"$error":"#N/A"},{"$error":"#N/A"},{"$error":"#N/A"}]
[25,"2013-04-24",{"$f":"+fill_data!B235","v":0},{"$f":"+fill_data!E235","v":0},{"$f":"+fill_data!C235","v":0},{"$f":"++fill_data!D235","v":0},{"$error":"#N/A"},{"$f":"VLOOKUP($A184,ฝนใช้การ,3)/7","v":{"$error":"#N/A"}},45,{"$error":"#N/A"},{"$error":"#N/A"},{"$error":"#N/A"},{"$error":"#N/A"}]
[26,"2013-04-25",{"$f":"+fill_data!B236","v":0},{"$f":"+fill_data!E236","v":0},{"$f":"+fill_data!C236","v":0},{"$f":"++fill_data!D236","v":0},{"$error":"#N/A"},{"$f":"VLOOKUP($A185,ฝนใช้การ,3)/7","v":{"$error":"#N/A"}},45,{"$error":"#N/A"},{"$error":"#N/A"},{"$error":"#N/A"},{"$error":"#N/A"}]
[26,"2013-04-26",{"$f":"+fill_data!B237","v":0},{"$f":"+fill_data!E237","v":0},{"$f":"+fill_data!C237","v":0},{"$f":"++fill_data!D237","v":0},{"$error":"#N/A"},{"$f":"VLOOKUP($A186,ฝนใช้การ,3)/7","v":{"$error":"#N/A"}},45,{"$error":"#N/A"},{"$error":"#N/A"},{"$error":"#N/A"},{"$error":"#N/A"}]
[26,"2013-04-27",{"$f":"+fill_data!B238","v":0},{"$f":"+fill_data!E238","v":0},{"$f":"+fill_data!C238","v":0},{"$f":"++fill_data!D238","v":0},{"$error":"#N/A"},{"$f":"VLOOKUP($A187,ฝนใช้การ,3)/7","v":{"$error":"#N/A"}},45,{"$error":"#N/A"},{"$error":"#N/A"},{"$error":"#N/A"},{"$error":"#N/A"}]
[26,"2013-04-28",{"$f":"+fill_data!B239","v":0},{"$f":"+fill_data!E239","v":0},{"$f":"+fill_data!C239","v":0},{"$f":"++fill_data!D239","v":0},{"$error":"#N/A"},{"$f":"VLOOKUP($A188,ฝนใช้การ,3)/7","v":{"$error":"#N/A"}},45,{"$error":"#N/A"},{"$error":"#N/A"},{"$error":"#N/A"},{"$error":"#N/A"}]
[26,"2013-04-29",{"$f":"+fill_data!B240","v":0},{"$f":"+fill_data!E240","v":0},{"$f":"+fill_data!C240","v":0},{"$f":"++fill_data!D240","v":0},{"$error":"#N/A"},{"$f":"VLOOKUP($A189,ฝนใช้การ,3)/7","v":{"$error":"#N/A"}},45,{"$error":"#N/A"},{"$error":"#N/A"},{"$error":"#N/A"},{"$error":"#N/A"}]
[26,"2013-04-30",{"$f":"+fill_data!B241","v":0},{"$f":"+fill_data!E241","v":0},{"$f":"+fill_data!C241","v":0},{"$f":"++fill_data!D241","v":0},{"$error":"#N/A"},{"$f":"VLOOKUP($A190,ฝนใช้การ,3)/7","v":{"$error":"#N/A"}},45,{"$error":"#N/A"},{"$error":"#N/A"},{"$error":"#N/A"},{"$error":"#N/A"}]
[26,"2013-05-01",{"$f":"+fill_data!B242","v":0},{"$f":"+fill_data!E242","v":0},{"$f":"+fill_data!C242","v":0},{"$f":"++fill_data!D242","v":0},{"$error":"#N/A"},{"$f":"VLOOKUP($A191,ฝนใช้การ,3)/7","v":{"$error":"#N/A"}},45,{"$error":"#N/A"},{"$error":"#N/A"},{"$error":"#N/A"},{"$error":"#N/A"}]
[27,"2013-05-02",{"$f":"+fill_data!B243","v":0},{"$f":"+fill_data!E243","v":0},{"$f":"+fill_data!C243","v":0},{"$f":"++fill_data!D243","v":0},{"$error":"#N/A"},{"$f":"VLOOKUP($A192,ฝนใช้การ,3)/7","v":{"$error":"#N/A"}},45,{"$error":"#N/A"},{"$error":"#N/A"},{"$error":"#N/A"},{"$error":"#N/A"}]
[27,"2013-05-03",{"$f":"+fill_data!B244","v":0},{"$f":"+fill_data!E244","v":0},{"$f":"+fill_data!C244","v":0},{"$f":"++fill_data!D244","v":0},{"$error":"#N/A"},{"$f":"VLOOKUP($A193,ฝนใช้การ,3)/7","v":{"$error":"#N/A"}},45,{"$error":"#N/A"},{"$error":"#N/A"},{"$error":"#N/A"},{"$error":"#N/A"}]
[27,"2013-05-04",{"$f":"+fill_data!B245","v":0},{"$f":"+fill_data!E245","v":0},{"$f":"+fill_data!C245","v":0},{"$f":"++fill_data!D245","v":0},{"$error":"#N/A"},{"$f":"VLOOKUP($A194,ฝนใช้การ,3)/7","v":{"$error":"#N/A"}},45,{"$error":"#N/A"},{"$error":"#N/A"},{"$error":"#N/A"},{"$error":"#N/A"}]
[27,"2013-05-05",{"$f":"+fill_data!B246","v":0},{"$f":"+fill_data!E246","v":0},{"$f":"+fill_data!C246","v":0},{"$f":"++fill_data!D246","v":0},{"$error":"#N/A"},{"$f":"VLOOKUP($A195,ฝนใช้การ,3)/7","v":{"$error":"#N/A"}},45,{"$error":"#N/A"},{"$error":"#N/A"},{"$error":"#N/A"},{"$error":"#N/A"}]
[27,"2013-05-06",{"$f":"+fill_data!B247","v":0},{"$f":"+fill_data!E247","v":0},{"$f":"+fill_data!C247","v":0},{"$f":"++fill_data!D247","v":0},{"$error":"#N/A"},{"$f":"VLOOKUP($A196,ฝนใช้การ,3)/7","v":{"$error":"#N/A"}},45,{"$error":"#N/A"},{"$error":"#N/A"},{"$error":"#N/A"},{"$error":"#N/A"}]
[27,"2013-05-07",{"$f":"+fill_data!B248","v":0},{"$f":"+fill_data!E248","v":0},{"$f":"+fill_data!C248","v":0},{"$f":"++fill_data!D248","v":0},{"$error":"#N/A"},{"$f":"VLOOKUP($A197,ฝนใช้การ,3)/7","v":{"$error":"#N/A"}},45,{"$error":"#N/A"},{"$error":"#N/A"},{"$error":"#N/A"},{"$error":"#N/A"}]
[27,"2013-05-08",{"$f":"+fill_data!B249","v":0},{"$f":"+fill_data!E249","v":0},{"$f":"+fill_data!C249","v":0},{"$f":"++fill_data!D249","v":0},{"$error":"#N/A"},{"$f":"VLOOKUP($A198,ฝนใช้การ,3)/7","v":{"$error":"#N/A"}},45,{"$error":"#N/A"},{"$error":"#N/A"},{"$error":"#N/A"},{"$error":"#N/A"}]
[28,"2013-05-09",{"$f":"+fill_data!B250","v":0},{"$f":"+fill_data!E250","v":0},{"$f":"+fill_data!C250","v":0},{"$f":"++fill_data!D250","v":0},{"$error":"#N/A"},{"$f":"VLOOKUP($A199,ฝนใช้การ,3)/7","v":{"$error":"#N/A"}},45,{"$error":"#N/A"},{"$error":"#N/A"},{"$error":"#N/A"},{"$error":"#N/A"}]
[28,"2013-05-10",{"$f":"+fill_data!B251","v":0},{"$f":"+fill_data!E251","v":0},{"$f":"+fill_data!C251","v":0},{"$f":"++fill_data!D251","v":0},{"$error":"#N/A"},{"$f":"VLOOKUP($A200,ฝนใช้การ,3)/7","v":{"$error":"#N/A"}},45,{"$error":"#N/A"},{"$error":"#N/A"},{"$error":"#N/A"},{"$error":"#N/A"}]
[28,"2013-05-11",{"$f":"+fill_data!B252","v":0},{"$f":"+fill_data!E252","v":0},{"$f":"+fill_data!C252","v":0},{"$f":"++fill_data!D252","v":0},{"$error":"#N/A"},{"$f":"VLOOKUP($A201,ฝนใช้การ,3)/7","v":{"$error":"#N/A"}},45,{"$error":"#N/A"},{"$error":"#N/A"},{"$error":"#N/A"},{"$error":"#N/A"}]
[28,"2013-05-12",{"$f":"+fill_data!B253","v":0},{"$f":"+fill_data!E253","v":0},{"$f":"+fill_data!C253","v":0},{"$f":"++fill_data!D253","v":0},{"$f":"VLOOKUP($A202,ความต้องการน้ำ,3)/7","v":{"$error":"#N/A"}},{"$f":"VLOOKUP($A202,ฝนใช้การ,3)/7","v":{"$error":"#N/A"}},45,{"$error":"#N/A"},{"$f":"C202+D202+E202+F202+J202","v":{"$error":"#N/A"}},{"$error":"#N/A"},{"$error":"#N/A"}]
[28,{"$f":"+B202+1","v":"2013-05-13"},{"$f":"+fill_data!B254","v":0},{"$f":"+fill_data!E254","v":0},{"$f":"+fill_data!C254","v":0},{"$f":"++fill_data!D254","v":0},{"$error":"#N/A"},{"$f":"VLOOKUP($A203,ฝนใช้การ,3)/7","v":{"$error":"#N/A"}},45,{"$f":"IF((G203-H203)<=0,0,+(G203-H203)/(I203/100))","v":{"$error":"#N/A"}},{"$error":"#N/A"},{"$error":"#N/A"},{"$error":"#N/A"}]
[28,"2013-05-14",{"$f":"+fill_data!B255","v":0},{"$f":"+fill_data!E255","v":0},{"$f":"+fill_data!C255","v":0},{"$f":"++fill_data!D255","v":0},{"$error":"#N/A"},{"$f":"VLOOKUP($A204,ฝนใช้การ,3)/7","v":{"$error":"#N/A"}},{"$f":"+I203","v":45},{"$error":"#N/A"},{"$error":"#N/A"},{"$f":"+L203+K204","v":{"$error":"#N/A"}},{"$error":"#N/A"}]
[28,"2013-05-15",{"$f":"+fill_data!B256","v":0},{"$f":"+fill_data!E256","v":0},{"$f":"+fill_data!C256","v":0},{"$f":"++fill_data!D256","v":0},{"$error":"#N/A"},{"$f":"VLOOKUP($A205,ฝนใช้การ,3)/7","v":{"$error":"#N/A"}},45,{"$error":"#N/A"},{"$error":"#N/A"},{"$error":"#N/A"},{"$error":"#N/A"}]
[29,"2013-05-16",{"$f":"+fill_data!B257","v":0},{"$f":"+fill_data!E257","v":0},{"$f":"+fill_data!C257","v":0},{"$f":"++fill_data!D257","v":0},{"$error":"#N/A"},{"$f":"VLOOKUP($A206,ฝนใช้การ,3)/7","v":{"$error":"#N/A"}},45,{"$error":"#N/A"},{"$error":"#N/A"},{"$error":"#N/A"},{"$error":"#N/A"}]
[29,"2013-05-17",{"$f":"+fill_data!B258","v":0},{"$f":"+fill_data!E258","v":0},{"$f":"+fill_data!C258","v":0},{"$f":"++fill_data!D258","v":0},{"$error":"#N/A"},{"$f":"VLOOKUP($A207,ฝนใช้การ,3)/7","v":{"$error":"#N/A"}},45,{"$error":"#N/A"},{"$error":"#N/A"},{"$error":"#N/A"},{"$error":"#N/A"}]
[{"$f":"+A207","v":29},"2013-05-18",{"$f":"+fill_data!B259","v":0},{"$f":"+fill_data!E259","v":0},{"$f":"+fill_data!C259","v":0},{"$f":"++fill_data!D259","v":0},{"$error":"#N/A"},{"$f":"VLOOKUP($A208,ฝนใช้การ,3)/7","v":{"$error":"#N/A"}},45,{"$error":"#N/A"},{"$error":"#N/A"},{"$error":"#N/A"},{"$error":"#N/A"}]
[29,"2013-05-19",{"$f":"+fill_data!B260","v":0},{"$f":"+fill_data!E260","v":0},{"$f":"+fill_data!C260","v":0},{"$f":"++fill_data!D260","v":0},{"$error":"#N/A"},{"$f":"VLOOKUP($A209,ฝนใช้การ,3)/7","v":{"$error":"#N/A"}},45,{"$error":"#N/A"},{"$error":"#N/A"},{"$error":"#N/A"},{"$error":"#N/A"}]
[29,"2013-05-20",{"$f":"+fill_data!B261","v":0},{"$f":"+fill_data!E261","v":0},{"$f":"+fill_data!C261","v":0},{"$f":"++fill_data!D261","v":0},{"$error":"#N/A"},{"$f":"VLOOKUP($A210,ฝนใช้การ,3)/7","v":{"$error":"#N/A"}},45,{"$error":"#N/A"},{"$error":"#N/A"},{"$error":"#N/A"},{"$error":"#N/A"}]
[29,"2013-05-21",{"$f":"+fill_data!B262","v":0},{"$f":"+fill_data!E262","v":0},{"$f":"+fill_data!C262","v":0},{"$f":"++fill_data!D262","v":0},{"$error":"#N/A"},{"$f":"VLOOKUP($A211,ฝนใช้การ,3)/7","v":{"$error":"#N/A"}},45,{"$error":"#N/A"},{"$error":"#N/A"},{"$error":"#N/A"},{"$error":"#N/A"}]
[29,"2013-05-22",{"$f":"+fill_data!B263","v":0},{"$f":"+fill_data!E263","v":0},{"$f":"+fill_data!C263","v":0},{"$f":"++fill_data!D263","v":0},{"$error":"#N/A"},{"$f":"VLOOKUP($A212,ฝนใช้การ,3)/7","v":{"$error":"#N/A"}},45,{"$error":"#N/A"},{"$error":"#N/A"},{"$error":"#N/A"},{"$error":"#N/A"}]
[30,"2013-05-23",{"$f":"+fill_data!B264","v":0},{"$f":"+fill_data!E264","v":0},{"$f":"+fill_data!C264","v":0},{"$f":"++fill_data!D264","v":0},{"$error":"#N/A"},{"$f":"VLOOKUP($A213,ฝนใช้การ,3)/7","v":{"$error":"#N/A"}},45,{"$error":"#N/A"},{"$error":"#N/A"},{"$error":"#N/A"},{"$error":"#N/A"}]
[30,"2013-05-24",{"$f":"+fill_data!B265","v":0},{"$f":"+fill_data!E265","v":0},{"$f":"+fill_data!C265","v":0},{"$f":"++fill_data!D265","v":0},{"$error":"#N/A"},{"$f":"VLOOKUP($A214,ฝนใช้การ,3)/7","v":{"$error":"#N/A"}},45,{"$error":"#N/A"},{"$error":"#N/A"},{"$error":"#N/A"},{"$error":"#N/A"}]
[30,"2013-05-25",{"$f":"+fill_data!B266","v":0},{"$f":"+fill_data!E266","v":0},{"$f":"+fill_data!C266","v":0},{"$f":"++fill_data!D266","v":0},{"$error":"#N/A"},{"$f":"VLOOKUP($A215,ฝนใช้การ,3)/7","v":{"$error":"#N/A"}},45,{"$error":"#N/A"},{"$error":"#N/A"},{"$error":"#N/A"},{"$error":"#N/A"}]
[30,"2013-05-26",{"$f":"+fill_data!B267","v":0},{"$f":"+fill_data!E267","v":0},{"$f":"+fill_data!C267","v":0},{"$f":"++fill_data!D267","v":0},{"$error":"#N/A"},{"$f":"VLOOKUP($A216,ฝนใช้การ,3)/7","v":{"$error":"#N/A"}},45,{"$error":"#N/A"},{"$error":"#N/A"},{"$error":"#N/A"},{"$error":"#N/A"}]
[30,"2013-05-27",{"$f":"+fill_data!B268","v":0},{"$f":"+fill_data!E268","v":0},{"$f":"+fill_data!C268","v":0},{"$f":"++fill_data!D268","v":0},{"$error":"#N/A"},{"$f":"VLOOKUP($A217,ฝนใช้การ,3)/7","v":{"$error":"#N/A"}},45,{"$error":"#N/A"},{"$error":"#N/A"},{"$error":"#N/A"},{"$error":"#N/A"}]
[30,"2013-05-28",{"$f":"+fill_data!B269","v":0},{"$f":"+fill_data!E269","v":0},{"$f":"+fill_data!C269","v":0},{"$f":"++fill_data!D269","v":0},{"$error":"#N/A"},{"$f":"VLOOKUP($A218,ฝนใช้การ,3)/7","v":{"$error":"#N/A"}},45,{"$error":"#N/A"},{"$error":"#N/A"},{"$error":"#N/A"},{"$error":"#N/A"}]
[30,"2013-05-29",{"$f":"+fill_data!B270","v":0},{"$f":"+fill_data!E270","v":0},{"$f":"+fill_data!C270","v":0},{"$f":"++fill_data!D270","v":0},{"$error":"#N/A"},{"$f":"VLOOKUP($A219,ฝนใช้การ,3)/7","v":{"$error":"#N/A"}},45,{"$error":"#N/A"},{"$error":"#N/A"},{"$error":"#N/A"},{"$error":"#N/A"}]
[31,"2013-05-30",{"$f":"+fill_data!B271","v":0},{"$f":"+fill_data!E271","v":0},{"$f":"+fill_data!C271","v":0},{"$f":"++fill_data!D271","v":0},{"$error":"#N/A"},{"$f":"VLOOKUP($A220,ฝนใช้การ,3)/7","v":{"$error":"#N/A"}},45,{"$error":"#N/A"},{"$error":"#N/A"},{"$error":"#N/A"},{"$error":"#N/A"}]
[31,"2013-05-31",{"$f":"+fill_data!B272","v":0},{"$f":"+fill_data!E272","v":0},{"$f":"+fill_data!C272","v":0},{"$f":"++fill_data!D272","v":0},{"$error":"#N/A"},{"$f":"VLOOKUP($A221,ฝนใช้การ,3)/7","v":{"$error":"#N/A"}},45,{"$error":"#N/A"},{"$error":"#N/A"},{"$error":"#N/A"},{"$error":"#N/A"}]
[31,"2013-06-01",{"$f":"+fill_data!B273","v":0},{"$f":"+fill_data!E273","v":0},{"$f":"+fill_data!C273","v":0},{"$f":"++fill_data!D273","v":0},{"$error":"#N/A"},{"$f":"VLOOKUP($A222,ฝนใช้การ,3)/7","v":{"$error":"#N/A"}},45,{"$error":"#N/A"},{"$error":"#N/A"},{"$error":"#N/A"},{"$error":"#N/A"}]
[31,"2013-06-02",{"$f":"+fill_data!B274","v":0},{"$f":"+fill_data!E274","v":0},{"$f":"+fill_data!C274","v":0},{"$f":"++fill_data!D274","v":0},{"$error":"#N/A"},{"$f":"VLOOKUP($A223,ฝนใช้การ,3)/7","v":{"$error":"#N/A"}},45,{"$error":"#N/A"},{"$error":"#N/A"},{"$error":"#N/A"},{"$error":"#N/A"}]
[31,"2013-06-03",{"$f":"+fill_data!B275","v":0},{"$f":"+fill_data!E275","v":0},{"$f":"+fill_data!C275","v":0},{"$f":"++fill_data!D275","v":0},{"$error":"#N/A"},{"$f":"VLOOKUP($A224,ฝนใช้การ,3)/7","v":{"$error":"#N/A"}},45,{"$error":"#N/A"},{"$error":"#N/A"},{"$error":"#N/A"},{"$error":"#N/A"}]
[31,"2013-06-04",{"$f":"+fill_data!B276","v":0},{"$f":"+fill_data!E276","v":0},{"$f":"+fill_data!C276","v":0},{"$f":"++fill_data!D276","v":0},{"$error":"#N/A"},{"$f":"VLOOKUP($A225,ฝนใช้การ,3)/7","v":{"$error":"#N/A"}},45,{"$error":"#N/A"},{"$error":"#N/A"},{"$error":"#N/A"},{"$error":"#N/A"}]
[31,"2013-06-05",{"$f":"+fill_data!B277","v":0},{"$f":"+fill_data!E277","v":0},{"$f":"+fill_data!C277","v":0},{"$f":"++fill_data!D277","v":0},{"$error":"#N/A"},{"$f":"VLOOKUP($A226,ฝนใช้การ,3)/7","v":{"$error":"#N/A"}},45,{"$error":"#N/A"},{"$error":"#N/A"},{"$error":"#N/A"},{"$error":"#N/A"}]
[32,"2013-06-06",{"$f":"+fill_data!B278","v":0},{"$f":"+fill_data!E278","v":0},{"$f":"+fill_data!C278","v":0},{"$f":"++fill_data!D278","v":0},{"$error":"#N/A"},{"$f":"VLOOKUP($A227,ฝนใช้การ,3)/7","v":{"$error":"#N/A"}},45,{"$error":"#N/A"},{"$error":"#N/A"},{"$error":"#N/A"},{"$error":"#N/A"}]
[32,"2013-06-07",{"$f":"+fill_data!B279","v":0},{"$f":"+fill_data!E279","v":0},{"$f":"+fill_data!C279","v":0},{"$f":"++fill_data!D279","v":0},{"$error":"#N/A"},{"$f":"VLOOKUP($A228,ฝนใช้การ,3)/7","v":{"$error":"#N/A"}},45,{"$error":"#N/A"},{"$error":"#N/A"},{"$error":"#N/A"},{"$error":"#N/A"}]
[32,"2013-06-08",{"$f":"+fill_data!B280","v":0},{"$f":"+fill_data!E280","v":0},{"$f":"+fill_data!C280","v":0},{"$f":"++fill_data!D280","v":0},{"$error":"#N/A"},{"$f":"VLOOKUP($A229,ฝนใช้การ,3)/7","v":{"$error":"#N/A"}},45,{"$error":"#N/A"},{"$error":"#N/A"},{"$error":"#N/A"},{"$error":"#N/A"}]
[32,"2013-06-09",{"$f":"+fill_data!B281","v":0},{"$f":"+fill_data!E281","v":0},{"$f":"+fill_data!C281","v":0},{"$f":"++fill_data!D281","v":0},{"$error":"#N/A"},{"$f":"VLOOKUP($A230,ฝนใช้การ,3)/7","v":{"$error":"#N/A"}},45,{"$error":"#N/A"},{"$error":"#N/A"},{"$error":"#N/A"},{"$error":"#N/A"}]
[32,"2013-06-10",{"$f":"+fill_data!B282","v":0},{"$f":"+fill_data!E282","v":0},{"$f":"+fill_data!C282","v":0},{"$f":"++fill_data!D282","v":0},{"$error":"#N/A"},{"$f":"VLOOKUP($A231,ฝนใช้การ,3)/7","v":{"$error":"#N/A"}},45,{"$error":"#N/A"},{"$error":"#N/A"},{"$error":"#N/A"},{"$error":"#N/A"}]
[32,"2013-06-11",{"$f":"+fill_data!B283","v":0},{"$f":"+fill_data!E283","v":0},{"$f":"+fill_data!C283","v":0},{"$f":"++fill_data!D283","v":0},{"$error":"#N/A"},{"$f":"VLOOKUP($A232,ฝนใช้การ,3)/7","v":{"$error":"#N/A"}},45,{"$error":"#N/A"},{"$error":"#N/A"},{"$error":"#N/A"},{"$error":"#N/A"}]
[32,"2013-06-12",{"$f":"+fill_data!B284","v":0},{"$f":"+fill_data!E284","v":0},{"$f":"+fill_data!C284","v":0},{"$f":"++fill_data!D284","v":0},{"$error":"#N/A"},{"$f":"VLOOKUP($A233,ฝนใช้การ,3)/7","v":{"$error":"#N/A"}},45,{"$error":"#N/A"},{"$error":"#N/A"},{"$error":"#N/A"},{"$error":"#N/A"}]
[33,"2013-06-13",{"$f":"+fill_data!B285","v":0},{"$f":"+fill_data!E285","v":0},{"$f":"+fill_data!C285","v":0},{"$f":"++fill_data!D285","v":0},{"$error":"#N/A"},{"$f":"VLOOKUP($A234,ฝนใช้การ,3)/7","v":{"$error":"#N/A"}},45,{"$error":"#N/A"},{"$error":"#N/A"},{"$error":"#N/A"},{"$error":"#N/A"}]
[33,"2013-06-14",{"$f":"+fill_data!B286","v":0},{"$f":"+fill_data!E286","v":0},{"$f":"+fill_data!C286","v":0},{"$f":"++fill_data!D286","v":0},{"$error":"#N/A"},{"$f":"VLOOKUP($A235,ฝนใช้การ,3)/7","v":{"$error":"#N/A"}},45,{"$error":"#N/A"},{"$error":"#N/A"},{"$error":"#N/A"},{"$error":"#N/A"}]
[33,"2013-06-15",{"$f":"+fill_data!B287","v":0},{"$f":"+fill_data!E287","v":0},{"$f":"+fill_data!C287","v":0},{"$f":"++fill_data!D287","v":0},{"$error":"#N/A"},{"$f":"VLOOKUP($A236,ฝนใช้การ,3)/7","v":{"$error":"#N/A"}},45,{"$error":"#N/A"},{"$error":"#N/A"},{"$error":"#N/A"},{"$error":"#N/A"}]
[33,"2013-06-16",{"$f":"+fill_data!B288","v":0},{"$f":"+fill_data!E288","v":0},{"$f":"+fill_data!C288","v":0},{"$f":"++fill_data!D288","v":0},{"$error":"#N/A"},{"$f":"VLOOKUP($A237,ฝนใช้การ,3)/7","v":{"$error":"#N/A"}},45,{"$error":"#N/A"},{"$error":"#N/A"},{"$error":"#N/A"},{"$error":"#N/A"}]
[33,"2013-06-17",{"$f":"+fill_data!B289","v":0},{"$f":"+fill_data!E289","v":0},{"$f":"+fill_data!C289","v":0},{"$f":"++fill_data!D289","v":0},{"$error":"#N/A"},{"$f":"VLOOKUP($A238,ฝนใช้การ,3)/7","v":{"$error":"#N/A"}},45,{"$error":"#N/A"},{"$error":"#N/A"},{"$error":"#N/A"},{"$error":"#N/A"}]
[33,"2013-06-18",{"$f":"+fill_data!B290","v":0},{"$f":"+fill_data!E290","v":0},{"$f":"+fill_data!C290","v":0},{"$f":"++fill_data!D290","v":0},{"$error":"#N/A"},{"$f":"VLOOKUP($A239,ฝนใช้การ,3)/7","v":{"$error":"#N/A"}},45,{"$error":"#N/A"},{"$error":"#N/A"},{"$error":"#N/A"},{"$error":"#N/A"}]
[33,"2013-06-19",{"$f":"+fill_data!B291","v":0},{"$f":"+fill_data!E291","v":0},{"$f":"+fill_data!C291","v":0},{"$f":"++fill_data!D291","v":0},{"$error":"#N/A"},{"$f":"VLOOKUP($A240,ฝนใช้การ,3)/7","v":{"$error":"#N/A"}},45,{"$error":"#N/A"},{"$error":"#N/A"},{"$error":"#N/A"},{"$error":"#N/A"}]
[34,"2013-06-20",{"$f":"+fill_data!B292","v":0},{"$f":"+fill_data!E292","v":0},{"$f":"+fill_data!C292","v":0},{"$f":"++fill_data!D292","v":0},{"$error":"#N/A"},{"$f":"VLOOKUP($A241,ฝนใช้การ,3)/7","v":{"$error":"#N/A"}},45,{"$error":"#N/A"},{"$error":"#N/A"},{"$error":"#N/A"},{"$error":"#N/A"}]
[34,"2013-06-21",{"$f":"+fill_data!B293","v":0},{"$f":"+fill_data!E293","v":0},{"$f":"+fill_data!C293","v":0},{"$f":"++fill_data!D293","v":0},{"$error":"#N/A"},{"$f":"VLOOKUP($A242,ฝนใช้การ,3)/7","v":{"$error":"#N/A"}},45,{"$error":"#N/A"},{"$error":"#N/A"},{"$error":"#N/A"},{"$f":"+C242+D242+E242+F242+G242","v":{"$error":"#N/A"}}]
[34,"2013-06-22",{"$f":"+fill_data!B294","v":0},{"$f":"+fill_data!E294","v":0},{"$f":"+fill_data!C294","v":0},{"$f":"++fill_data!D294","v":0},{"$error":"#N/A"},{"$f":"VLOOKUP($A243,ฝนใช้การ,3)/7","v":{"$error":"#N/A"}},45,{"$error":"#N/A"},{"$error":"#N/A"},{"$error":"#N/A"},{"$error":"#N/A"}]
[34,"2013-06-23",{"$f":"+fill_data!B295","v":0},{"$f":"+fill_data!E295","v":0},{"$f":"+fill_data!C295","v":0},{"$f":"++fill_data!D295","v":0},{"$error":"#N/A"},{"$f":"VLOOKUP($A244,ฝนใช้การ,3)/7","v":{"$error":"#N/A"}},45,{"$error":"#N/A"},{"$error":"#N/A"},{"$error":"#N/A"},{"$error":"#N/A"}]
[34,"2013-06-24",{"$f":"+fill_data!B296","v":0},{"$f":"+fill_data!E296","v":0},{"$f":"+fill_data!C296","v":0},{"$f":"++fill_data!D296","v":0},{"$error":"#N/A"},{"$f":"VLOOKUP($A245,ฝนใช้การ,3)/7","v":{"$error":"#N/A"}},45,{"$error":"#N/A"},{"$error":"#N/A"},{"$error":"#N/A"},{"$error":"#N/A"}]
[34,"2013-06-25",{"$f":"+fill_data!B297","v":0},{"$f":"+fill_data!E297","v":0},{"$f":"+fill_data!C297","v":0},{"$f":"++fill_data!D297","v":0},{"$error":"#N/A"},{"$f":"VLOOKUP($A246,ฝนใช้การ,3)/7","v":{"$error":"#N/A"}},45,{"$error":"#N/A"},{"$error":"#N/A"},{"$error":"#N/A"},{"$error":"#N/A"}]
[34,"2013-06-26",{"$f":"+fill_data!B298","v":0},{"$f":"+fill_data!E298","v":0},{"$f":"+fill_data!C298","v":0},{"$f":"++fill_data!D298","v":0},{"$error":"#N/A"},{"$f":"VLOOKUP($A247,ฝนใช้การ,3)/7","v":{"$error":"#N/A"}},45,{"$error":"#N/A"},{"$error":"#N/A"},{"$error":"#N/A"},{"$error":"#N/A"}]
[35,"2013-06-27",{"$f":"+fill_data!B299","v":0},{"$f":"+fill_data!E299","v":0},{"$f":"+fill_data!C299","v":0},{"$f":"++fill_data!D299","v":0},{"$error":"#N/A"},{"$f":"VLOOKUP($A248,ฝนใช้การ,3)/7","v":{"$error":"#N/A"}},45,{"$error":"#N/A"},{"$error":"#N/A"},{"$error":"#N/A"},{"$error":"#N/A"}]
[35,"2013-06-28",{"$f":"+fill_data!B300","v":0},{"$f":"+fill_data!E300","v":0},{"$f":"+fill_data!C300","v":0},{"$f":"++fill_data!D300","v":0},{"$error":"#N/A"},{"$f":"VLOOKUP($A249,ฝนใช้การ,3)/7","v":{"$error":"#N/A"}},45,{"$error":"#N/A"},{"$error":"#N/A"},{"$error":"#N/A"},{"$error":"#N/A"}]
[35,"2013-06-29",{"$f":"+fill_data!B301","v":0},{"$f":"+fill_data!E301","v":0},{"$f":"+fill_data!C301","v":0},{"$f":"++fill_data!D301","v":0},{"$error":"#N/A"},{"$f":"VLOOKUP($A250,ฝนใช้การ,3)/7","v":{"$error":"#N/A"}},45,{"$error":"#N/A"},{"$error":"#N/A"},{"$error":"#N/A"},{"$error":"#N/A"}]
[35,"2013-06-30",{"$f":"+fill_data!B302","v":0},{"$f":"+fill_data!E302","v":0},{"$f":"+fill_data!C302","v":0},{"$f":"++fill_data!D302","v":0},{"$error":"#N/A"},{"$f":"VLOOKUP($A251,ฝนใช้การ,3)/7","v":{"$error":"#N/A"}},45,{"$error":"#N/A"},{"$error":"#N/A"},{"$error":"#N/A"},{"$error":"#N/A"}]
[35,"2013-07-01",{"$f":"+fill_data!B303","v":0},{"$f":"+fill_data!E303","v":0},{"$f":"+fill_data!C303","v":0},{"$f":"++fill_data!D303","v":0},{"$error":"#N/A"},{"$f":"VLOOKUP($A252,ฝนใช้การ,3)/7","v":{"$error":"#N/A"}},45,{"$error":"#N/A"},{"$error":"#N/A"},{"$error":"#N/A"},{"$error":"#N/A"}]
[35,"2013-07-02",{"$f":"+fill_data!B304","v":0},{"$f":"+fill_data!E304","v":0},{"$f":"+fill_data!C304","v":0},{"$f":"++fill_data!D304","v":0},{"$error":"#N/A"},{"$f":"VLOOKUP($A253,ฝนใช้การ,3)/7","v":{"$error":"#N/A"}},45,{"$error":"#N/A"},{"$error":"#N/A"},{"$error":"#N/A"},{"$error":"#N/A"}]
[35,"2013-07-03",{"$f":"+fill_data!B305","v":0},{"$f":"+fill_data!E305","v":0},{"$f":"+fill_data!C305","v":0},{"$f":"++fill_data!D305","v":0},{"$error":"#N/A"},{"$f":"VLOOKUP($A254,ฝนใช้การ,3)/7","v":{"$error":"#N/A"}},45,{"$error":"#N/A"},{"$error":"#N/A"},{"$error":"#N/A"},{"$error":"#N/A"}]
[36,"2013-07-04",{"$f":"+fill_data!B306","v":0},{"$f":"+fill_data!E306","v":0},{"$f":"+fill_data!C306","v":0},{"$f":"++fill_data!D306","v":0},{"$error":"#N/A"},{"$f":"VLOOKUP($A255,ฝนใช้การ,3)/7","v":{"$error":"#N/A"}},45,{"$error":"#N/A"},{"$error":"#N/A"},{"$error":"#N/A"},{"$error":"#N/A"}]
[36,"2013-07-05",{"$f":"+fill_data!B307","v":0},{"$f":"+fill_data!E307","v":0},{"$f":"+fill_data!C307","v":0},{"$f":"++fill_data!D307","v":0},{"$error":"#N/A"},{"$f":"VLOOKUP($A256,ฝนใช้การ,3)/7","v":{"$error":"#N/A"}},45,{"$error":"#N/A"},{"$error":"#N/A"},{"$error":"#N/A"},{"$error":"#N/A"}]
[36,"2013-07-06",{"$f":"+fill_data!B308","v":0},{"$f":"+fill_data!E308","v":0},{"$f":"+fill_data!C308","v":0},{"$f":"++fill_data!D308","v":0},{"$error":"#N/A"},{"$f":"VLOOKUP($A257,ฝนใช้การ,3)/7","v":{"$error":"#N/A"}},45,{"$error":"#N/A"},{"$error":"#N/A"},{"$error":"#N/A"},{"$error":"#N/A"}]
[36,"2013-07-07",{"$f":"+fill_data!B309","v":0},{"$f":"+fill_data!E309","v":0},{"$f":"+fill_data!C309","v":0},{"$f":"++fill_data!D309","v":0},{"$error":"#N/A"},{"$f":"VLOOKUP($A258,ฝนใช้การ,3)/7","v":{"$error":"#N/A"}},45,{"$error":"#N/A"},{"$error":"#N/A"},{"$error":"#N/A"},{"$error":"#N/A"}]
[36,"2013-07-08",{"$f":"+fill_data!B310","v":0},{"$f":"+fill_data!E310","v":0},{"$f":"+fill_data!C310","v":0},{"$f":"++fill_data!D310","v":0},{"$error":"#N/A"},{"$f":"VLOOKUP($A259,ฝนใช้การ,3)/7","v":{"$error":"#N/A"}},45,{"$error":"#N/A"},{"$error":"#N/A"},{"$error":"#N/A"},{"$error":"#N/A"}]
[36,"2013-07-09",{"$f":"+fill_data!B311","v":0},{"$f":"+fill_data!E311","v":0},{"$f":"+fill_data!C311","v":0},{"$f":"++fill_data!D311","v":0},{"$error":"#N/A"},{"$f":"VLOOKUP($A260,ฝนใช้การ,3)/7","v":{"$error":"#N/A"}},45,{"$error":"#N/A"},{"$error":"#N/A"},{"$error":"#N/A"},{"$error":"#N/A"}]
[36,"2013-07-10",{"$f":"+fill_data!B312","v":0},{"$f":"+fill_data!E312","v":0},{"$f":"+fill_data!C312","v":0},{"$f":"++fill_data!D312","v":0},{"$error":"#N/A"},{"$f":"VLOOKUP($A261,ฝนใช้การ,3)/7","v":{"$error":"#N/A"}},45,{"$error":"#N/A"},{"$error":"#N/A"},{"$error":"#N/A"},{"$error":"#N/A"}]
[37,"2013-07-11",{"$f":"+fill_data!B313","v":0},{"$f":"+fill_data!E313","v":0},{"$f":"+fill_data!C313","v":0},{"$f":"++fill_data!D313","v":0},{"$error":"#N/A"},{"$f":"VLOOKUP($A262,ฝนใช้การ,3)/7","v":{"$error":"#N/A"}},45,{"$error":"#N/A"},{"$error":"#N/A"},{"$error":"#N/A"},{"$error":"#N/A"}]
[37,"2013-07-12",{"$f":"+fill_data!B314","v":0},{"$f":"+fill_data!E314","v":0},{"$f":"+fill_data!C314","v":0},{"$f":"++fill_data!D314","v":0},{"$error":"#N/A"},{"$f":"VLOOKUP($A263,ฝนใช้การ,3)/7","v":{"$error":"#N/A"}},45,{"$error":"#N/A"},{"$error":"#N/A"},{"$error":"#N/A"},{"$error":"#N/A"}]
[37,"2013-07-13",{"$f":"+fill_data!B315","v":0},{"$f":"+fill_data!E315","v":0},{"$f":"+fill_data!C315","v":0},{"$f":"++fill_data!D315","v":0},{"$error":"#N/A"},{"$f":"VLOOKUP($A264,ฝนใช้การ,3)/7","v":{"$error":"#N/A"}},45,{"$error":"#N/A"},{"$error":"#N/A"},{"$error":"#N/A"},{"$error":"#N/A"}]
[37,"2013-07-14",{"$f":"+fill_data!B316","v":0},{"$f":"+fill_data!E316","v":0},{"$f":"+fill_data!C316","v":0},{"$f":"++fill_data!D316","v":0},{"$error":"#N/A"},{"$f":"VLOOKUP($A265,ฝนใช้การ,3)/7","v":{"$error":"#N/A"}},45,{"$error":"#N/A"},{"$error":"#N/A"},{"$error":"#N/A"},{"$error":"#N/A"}]
[37,"2013-07-15",{"$f":"+fill_data!B317","v":0},{"$f":"+fill_data!E317","v":0},{"$f":"+fill_data!C317","v":0},{"$f":"++fill_data!D317","v":0},{"$f":"VLOOKUP($A266,ความต้องการน้ำ,3)/7","v":{"$error":"#N/A"}},{"$f":"VLOOKUP($A266,ฝนใช้การ,3)/7","v":{"$error":"#N/A"}},45,{"$error":"#N/A"},{"$f":"C266+D266+E266+F266+J266","v":{"$error":"#N/A"}},{"$error":"#N/A"},{"$error":"#N/A"}]
[37,{"$f":"+B266+1","v":"2013-07-16"},{"$f":"+fill_data!B318","v":0},{"$f":"+fill_data!E318","v":0},{"$f":"+fill_data!C318","v":0},{"$f":"++fill_data!D318","v":0},{"$error":"#N/A"},{"$f":"VLOOKUP($A267,ฝนใช้การ,3)/7","v":{"$error":"#N/A"}},45,{"$f":"IF((G267-H267)<=0,0,+(G267-H267)/(I267/100))","v":{"$error":"#N/A"}},{"$error":"#N/A"},{"$error":"#N/A"},{"$error":"#N/A"}]
[37,"2013-07-17",{"$f":"+fill_data!B319","v":0},{"$f":"+fill_data!E319","v":0},{"$f":"+fill_data!C319","v":0},{"$f":"++fill_data!D319","v":0},{"$error":"#N/A"},{"$f":"VLOOKUP($A268,ฝนใช้การ,3)/7","v":{"$error":"#N/A"}},{"$f":"+I267","v":45},{"$error":"#N/A"},{"$error":"#N/A"},{"$f":"+L267+K268","v":{"$error":"#N/A"}},{"$error":"#N/A"}]
[38,"2013-07-18",{"$f":"+fill_data!B320","v":0},{"$f":"+fill_data!E320","v":0},{"$f":"+fill_data!C320","v":0},{"$f":"++fill_data!D320","v":0},{"$error":"#N/A"},{"$f":"VLOOKUP($A269,ฝนใช้การ,3)/7","v":{"$error":"#N/A"}},45,{"$error":"#N/A"},{"$error":"#N/A"},{"$error":"#N/A"},{"$error":"#N/A"}]
[38,"2013-07-19",{"$f":"+fill_data!B321","v":0},{"$f":"+fill_data!E321","v":0},{"$f":"+fill_data!C321","v":0},{"$f":"++fill_data!D321","v":0},{"$error":"#N/A"},{"$f":"VLOOKUP($A270,ฝนใช้การ,3)/7","v":{"$error":"#N/A"}},45,{"$error":"#N/A"},{"$error":"#N/A"},{"$error":"#N/A"},{"$error":"#N/A"}]
[38,"2013-07-20",{"$f":"+fill_data!B322","v":0},{"$f":"+fill_data!E322","v":0},{"$f":"+fill_data!C322","v":0},{"$f":"++fill_data!D322","v":0},{"$error":"#N/A"},{"$f":"VLOOKUP($A271,ฝนใช้การ,3)/7","v":{"$error":"#N/A"}},45,{"$error":"#N/A"},{"$error":"#N/A"},{"$error":"#N/A"},{"$error":"#N/A"}]
[{"$f":"+A271","v":38},"2013-07-21",{"$f":"+fill_data!B323","v":0},{"$f":"+fill_data!E323","v":0},{"$f":"+fill_data!C323","v":0},{"$f":"++fill_data!D323","v":0},{"$error":"#N/A"},{"$f":"VLOOKUP($A272,ฝนใช้การ,3)/7","v":{"$error":"#N/A"}},45,{"$error":"#N/A"},{"$error":"#N/A"},{"$error":"#N/A"},{"$error":"#N/A"}]
[38,"2013-07-22",{"$f":"+fill_data!B324","v":0},{"$f":"+fill_data!E324","v":0},{"$f":"+fill_data!C324","v":0},{"$f":"++fill_data!D324","v":0},{"$error":"#N/A"},{"$f":"VLOOKUP($A273,ฝนใช้การ,3)/7","v":{"$error":"#N/A"}},45,{"$error":"#N/A"},{"$error":"#N/A"},{"$error":"#N/A"},{"$error":"#N/A"}]
[38,"2013-07-23",{"$f":"+fill_data!B325","v":0},{"$f":"+fill_data!E325","v":0},{"$f":"+fill_data!C325","v":0},{"$f":"++fill_data!D325","v":0},{"$error":"#N/A"},{"$f":"VLOOKUP($A274,ฝนใช้การ,3)/7","v":{"$error":"#N/A"}},45,{"$error":"#N/A"},{"$error":"#N/A"},{"$error":"#N/A"},{"$error":"#N/A"}]
[38,"2013-07-24",{"$f":"+fill_data!B326","v":0},{"$f":"+fill_data!E326","v":0},{"$f":"+fill_data!C326","v":0},{"$f":"++fill_data!D326","v":0},{"$error":"#N/A"},{"$f":"VLOOKUP($A275,ฝนใช้การ,3)/7","v":{"$error":"#N/A"}},45,{"$error":"#N/A"},{"$error":"#N/A"},{"$error":"#N/A"},{"$error":"#N/A"}]
[39,"2013-07-25",{"$f":"+fill_data!B327","v":0},{"$f":"+fill_data!E327","v":0},{"$f":"+fill_data!C327","v":0},{"$f":"++fill_data!D327","v":0},{"$error":"#N/A"},{"$f":"VLOOKUP($A276,ฝนใช้การ,3)/7","v":{"$error":"#N/A"}},45,{"$error":"#N/A"},{"$error":"#N/A"},{"$error":"#N/A"},{"$error":"#N/A"}]
[39,"2013-07-26",{"$f":"+fill_data!B328","v":0},{"$f":"+fill_data!E328","v":0},{"$f":"+fill_data!C328","v":0},{"$f":"++fill_data!D328","v":0},{"$error":"#N/A"},{"$f":"VLOOKUP($A277,ฝนใช้การ,3)/7","v":{"$error":"#N/A"}},45,{"$error":"#N/A"},{"$error":"#N/A"},{"$error":"#N/A"},{"$error":"#N/A"}]
[39,"2013-07-27",{"$f":"+fill_data!B329","v":0},{"$f":"+fill_data!E329","v":0},{"$f":"+fill_data!C329","v":0},{"$f":"++fill_data!D329","v":0},{"$error":"#N/A"},{"$f":"VLOOKUP($A278,ฝนใช้การ,3)/7","v":{"$error":"#N/A"}},45,{"$error":"#N/A"},{"$error":"#N/A"},{"$error":"#N/A"},{"$error":"#N/A"}]
[39,"2013-07-28",{"$f":"+fill_data!B330","v":0},{"$f":"+fill_data!E330","v":0},{"$f":"+fill_data!C330","v":0},{"$f":"++fill_data!D330","v":0},{"$error":"#N/A"},{"$f":"VLOOKUP($A279,ฝนใช้การ,3)/7","v":{"$error":"#N/A"}},45,{"$error":"#N/A"},{"$error":"#N/A"},{"$error":"#N/A"},{"$error":"#N/A"}]
[39,"2013-07-29",{"$f":"+fill_data!B331","v":0},{"$f":"+fill_data!E331","v":0},{"$f":"+fill_data!C331","v":0},{"$f":"++fill_data!D331","v":0},{"$error":"#N/A"},{"$f":"VLOOKUP($A280,ฝนใช้การ,3)/7","v":{"$error":"#N/A"}},45,{"$error":"#N/A"},{"$error":"#N/A"},{"$error":"#N/A"},{"$error":"#N/A"}]
[39,"2013-07-30",{"$f":"+fill_data!B332","v":0},{"$f":"+fill_data!E332","v":0},{"$f":"+fill_data!C332","v":0},{"$f":"++fill_data!D332","v":0},{"$error":"#N/A"},{"$f":"VLOOKUP($A281,ฝนใช้การ,3)/7","v":{"$error":"#N/A"}},45,{"$error":"#N/A"},{"$error":"#N/A"},{"$error":"#N/A"},{"$error":"#N/A"}]
[39,"2013-07-31",{"$f":"+fill_data!B333","v":0},{"$f":"+fill_data!E333","v":0},{"$f":"+fill_data!C333","v":0},{"$f":"++fill_data!D333","v":0},{"$error":"#N/A"},{"$f":"VLOOKUP($A282,ฝนใช้การ,3)/7","v":{"$error":"#N/A"}},45,{"$error":"#N/A"},{"$error":"#N/A"},{"$error":"#N/A"},{"$error":"#N/A"}]
[40,"2013-08-01",{"$f":"+fill_data!B334","v":0},{"$f":"+fill_data!E334","v":0},{"$f":"+fill_data!C334","v":0},{"$f":"++fill_data!D334","v":0},{"$error":"#N/A"},{"$f":"VLOOKUP($A283,ฝนใช้การ,3)/7","v":{"$error":"#N/A"}},45,{"$error":"#N/A"},{"$error":"#N/A"},{"$error":"#N/A"},{"$error":"#N/A"}]
[40,"2013-08-02",{"$f":"+fill_data!B335","v":0},{"$f":"+fill_data!E335","v":0},{"$f":"+fill_data!C335","v":0},{"$f":"++fill_data!D335","v":0},{"$error":"#N/A"},{"$f":"VLOOKUP($A284,ฝนใช้การ,3)/7","v":{"$error":"#N/A"}},45,{"$error":"#N/A"},{"$error":"#N/A"},{"$error":"#N/A"},{"$error":"#N/A"}]
[40,"2013-08-03",{"$f":"+fill_data!B336","v":0},{"$f":"+fill_data!E336","v":0},{"$f":"+fill_data!C336","v":0},{"$f":"++fill_data!D336","v":0},{"$error":"#N/A"},{"$f":"VLOOKUP($A285,ฝนใช้การ,3)/7","v":{"$error":"#N/A"}},45,{"$error":"#N/A"},{"$error":"#N/A"},{"$error":"#N/A"},{"$error":"#N/A"}]
[40,"2013-08-04",{"$f":"+fill_data!B337","v":0},{"$f":"+fill_data!E337","v":0},{"$f":"+fill_data!C337","v":0},{"$f":"++fill_data!D337","v":0},{"$error":"#N/A"},{"$f":"VLOOKUP($A286,ฝนใช้การ,3)/7","v":{"$error":"#N/A"}},45,{"$error":"#N/A"},{"$error":"#N/A"},{"$error":"#N/A"},{"$error":"#N/A"}]
[40,"2013-08-05",{"$f":"+fill_data!B338","v":0},{"$f":"+fill_data!E338","v":0},{"$f":"+fill_data!C338","v":0},{"$f":"++fill_data!D338","v":0},{"$error":"#N/A"},{"$f":"VLOOKUP($A287,ฝนใช้การ,3)/7","v":{"$error":"#N/A"}},45,{"$error":"#N/A"},{"$error":"#N/A"},{"$error":"#N/A"},{"$error":"#N/A"}]
[40,"2013-08-06",{"$f":"+fill_data!B339","v":0},{"$f":"+fill_data!E339","v":0},{"$f":"+fill_data!C339","v":0},{"$f":"++fill_data!D339","v":0},{"$error":"#N/A"},{"$f":"VLOOKUP($A288,ฝนใช้การ,3)/7","v":{"$error":"#N/A"}},45,{"$error":"#N/A"},{"$error":"#N/A"},{"$error":"#N/A"},{"$error":"#N/A"}]
[40,"2013-08-07",{"$f":"+fill_data!B340","v":0},{"$f":"+fill_data!E340","v":0},{"$f":"+fill_data!C340","v":0},{"$f":"++fill_data!D340","v":0},{"$error":"#N/A"},{"$f":"VLOOKUP($A289,ฝนใช้การ,3)/7","v":{"$error":"#N/A"}},45,{"$error":"#N/A"},{"$error":"#N/A"},{"$error":"#N/A"},{"$error":"#N/A"}]
[41,"2013-08-08",{"$f":"+fill_data!B341","v":0},{"$f":"+fill_data!E341","v":0},{"$f":"+fill_data!C341","v":0},{"$f":"++fill_data!D341","v":0},{"$error":"#N/A"},{"$f":"VLOOKUP($A290,ฝนใช้การ,3)/7","v":{"$error":"#N/A"}},45,{"$error":"#N/A"},{"$error":"#N/A"},{"$error":"#N/A"},{"$error":"#N/A"}]
[41,"2013-08-09",{"$f":"+fill_data!B342","v":0},{"$f":"+fill_data!E342","v":0},{"$f":"+fill_data!C342","v":0},{"$f":"++fill_data!D342","v":0},{"$error":"#N/A"},{"$f":"VLOOKUP($A291,ฝนใช้การ,3)/7","v":{"$error":"#N/A"}},45,{"$error":"#N/A"},{"$error":"#N/A"},{"$error":"#N/A"},{"$error":"#N/A"}]
[41,"2013-08-10",{"$f":"+fill_data!B343","v":0},{"$f":"+fill_data!E343","v":0},{"$f":"+fill_data!C343","v":0},{"$f":"++fill_data!D343","v":0},{"$error":"#N/A"},{"$f":"VLOOKUP($A292,ฝนใช้การ,3)/7","v":{"$error":"#N/A"}},45,{"$error":"#N/A"},{"$error":"#N/A"},{"$error":"#N/A"},{"$error":"#N/A"}]
[41,"2013-08-11",{"$f":"+fill_data!B344","v":0},{"$f":"+fill_data!E344","v":0},{"$f":"+fill_data!C344","v":0},{"$f":"++fill_data!D344","v":0},{"$error":"#N/A"},{"$f":"VLOOKUP($A293,ฝนใช้การ,3)/7","v":{"$error":"#N/A"}},45,{"$error":"#N/A"},{"$error":"#N/A"},{"$error":"#N/A"},{"$error":"#N/A"}]
[41,"2013-08-12",{"$f":"+fill_data!B345","v":0},{"$f":"+fill_data!E345","v":0},{"$f":"+fill_data!C345","v":0},{"$f":"++fill_data!D345","v":0},{"$error":"#N/A"},{"$f":"VLOOKUP($A294,ฝนใช้การ,3)/7","v":{"$error":"#N/A"}},45,{"$error":"#N/A"},{"$error":"#N/A"},{"$error":"#N/A"},{"$error":"#N/A"}]
[41,"2013-08-13",{"$f":"+fill_data!B346","v":0},{"$f":"+fill_data!E346","v":0},{"$f":"+fill_data!C346","v":0},{"$f":"++fill_data!D346","v":0},{"$error":"#N/A"},{"$f":"VLOOKUP($A295,ฝนใช้การ,3)/7","v":{"$error":"#N/A"}},45,{"$error":"#N/A"},{"$error":"#N/A"},{"$error":"#N/A"},{"$error":"#N/A"}]
[41,"2013-08-14",{"$f":"+fill_data!B347","v":0},{"$f":"+fill_data!E347","v":0},{"$f":"+fill_data!C347","v":0},{"$f":"++fill_data!D347","v":0},{"$error":"#N/A"},{"$f":"VLOOKUP($A296,ฝนใช้การ,3)/7","v":{"$error":"#N/A"}},45,{"$error":"#N/A"},{"$error":"#N/A"},{"$error":"#N/A"},{"$error":"#N/A"}]
[42,"2013-08-15",{"$f":"+fill_data!B348","v":0},{"$f":"+fill_data!E348","v":0},{"$f":"+fill_data!C348","v":0},{"$f":"++fill_data!D348","v":0},{"$error":"#N/A"},{"$f":"VLOOKUP($A297,ฝนใช้การ,3)/7","v":{"$error":"#N/A"}},45,{"$error":"#N/A"},{"$error":"#N/A"},{"$error":"#N/A"},{"$error":"#N/A"}]
[42,"2013-08-16",{"$f":"+fill_data!B349","v":0},{"$f":"+fill_data!E349","v":0},{"$f":"+fill_data!C349","v":0},{"$f":"++fill_data!D349","v":0},{"$error":"#N/A"},{"$f":"VLOOKUP($A298,ฝนใช้การ,3)/7","v":{"$error":"#N/A"}},45,{"$error":"#N/A"},{"$error":"#N/A"},{"$error":"#N/A"},{"$error":"#N/A"}]
[42,"2013-08-17",{"$f":"+fill_data!B350","v":0},{"$f":"+fill_data!E350","v":0},{"$f":"+fill_data!C350","v":0},{"$f":"++fill_data!D350","v":0},{"$error":"#N/A"},{"$f":"VLOOKUP($A299,ฝนใช้การ,3)/7","v":{"$error":"#N/A"}},45,{"$error":"#N/A"},{"$error":"#N/A"},{"$error":"#N/A"},{"$error":"#N/A"}]
[42,"2013-08-18",{"$f":"+fill_data!B351","v":0},{"$f":"+fill_data!E351","v":0},{"$f":"+fill_data!C351","v":0},{"$f":"++fill_data!D351","v":0},{"$error":"#N/A"},{"$f":"VLOOKUP($A300,ฝนใช้การ,3)/7","v":{"$error":"#N/A"}},45,{"$error":"#N/A"},{"$error":"#N/A"},{"$error":"#N/A"},{"$error":"#N/A"}]
[42,"2013-08-19",{"$f":"+fill_data!B352","v":0},{"$f":"+fill_data!E352","v":0},{"$f":"+fill_data!C352","v":0},{"$f":"++fill_data!D352","v":0},{"$error":"#N/A"},{"$f":"VLOOKUP($A301,ฝนใช้การ,3)/7","v":{"$error":"#N/A"}},45,{"$error":"#N/A"},{"$error":"#N/A"},{"$error":"#N/A"},{"$error":"#N/A"}]
[42,"2013-08-20",{"$f":"+fill_data!B353","v":0},{"$f":"+fill_data!E353","v":0},{"$f":"+fill_data!C353","v":0},{"$f":"++fill_data!D353","v":0},{"$error":"#N/A"},{"$f":"VLOOKUP($A302,ฝนใช้การ,3)/7","v":{"$error":"#N/A"}},45,{"$error":"#N/A"},{"$error":"#N/A"},{"$error":"#N/A"},{"$error":"#N/A"}]
[42,"2013-08-21",{"$f":"+fill_data!B354","v":0},{"$f":"+fill_data!E354","v":0},{"$f":"+fill_data!C354","v":0},{"$f":"++fill_data!D354","v":0},{"$error":"#N/A"},{"$f":"VLOOKUP($A303,ฝนใช้การ,3)/7","v":{"$error":"#N/A"}},45,{"$error":"#N/A"},{"$error":"#N/A"},{"$error":"#N/A"},{"$error":"#N/A"}]
[43,"2013-08-22",{"$f":"+fill_data!B355","v":0},{"$f":"+fill_data!E355","v":0},{"$f":"+fill_data!C355","v":0},{"$f":"++fill_data!D355","v":0},{"$error":"#N/A"},{"$f":"VLOOKUP($A304,ฝนใช้การ,3)/7","v":{"$error":"#N/A"}},45,{"$error":"#N/A"},{"$error":"#N/A"},{"$error":"#N/A"},{"$error":"#N/A"}]
[43,"2013-08-23",{"$f":"+fill_data!B356","v":0},{"$f":"+fill_data!E356","v":0},{"$f":"+fill_data!C356","v":0},{"$f":"++fill_data!D356","v":0},{"$error":"#N/A"},{"$f":"VLOOKUP($A305,ฝนใช้การ,3)/7","v":{"$error":"#N/A"}},45,{"$error":"#N/A"},{"$error":"#N/A"},{"$error":"#N/A"},{"$error":"#N/A"}]
[43,"2013-08-24",{"$f":"+fill_data!B357","v":0},{"$f":"+fill_data!E357","v":0},{"$f":"+fill_data!C357","v":0},{"$f":"++fill_data!D357","v":0},{"$error":"#N/A"},{"$f":"VLOOKUP($A306,ฝนใช้การ,3)/7","v":{"$error":"#N/A"}},45,{"$error":"#N/A"},{"$error":"#N/A"},{"$error":"#N/A"},{"$f":"+C306+D306+E306+F306+G306","v":{"$error":"#N/A"}}]
[43,"2013-08-25",{"$f":"+fill_data!B358","v":0},{"$f":"+fill_data!E358","v":0},{"$f":"+fill_data!C358","v":0},{"$f":"++fill_data!D358","v":0},{"$error":"#N/A"},{"$f":"VLOOKUP($A307,ฝนใช้การ,3)/7","v":{"$error":"#N/A"}},45,{"$error":"#N/A"},{"$error":"#N/A"},{"$error":"#N/A"},{"$error":"#N/A"}]
[43,"2013-08-26",{"$f":"+fill_data!B359","v":0},{"$f":"+fill_data!E359","v":0},{"$f":"+fill_data!C359","v":0},{"$f":"++fill_data!D359","v":0},{"$error":"#N/A"},{"$f":"VLOOKUP($A308,ฝนใช้การ,3)/7","v":{"$error":"#N/A"}},45,{"$error":"#N/A"},{"$error":"#N/A"},{"$error":"#N/A"},{"$error":"#N/A"}]
[43,"2013-08-27",{"$f":"+fill_data!B360","v":0},{"$f":"+fill_data!E360","v":0},{"$f":"+fill_data!C360","v":0},{"$f":"++fill_data!D360","v":0},{"$error":"#N/A"},{"$f":"VLOOKUP($A309,ฝนใช้การ,3)/7","v":{"$error":"#N/A"}},45,{"$error":"#N/A"},{"$error":"#N/A"},{"$error":"#N/A"},{"$error":"#N/A"}]
[43,"2013-08-28",{"$f":"+fill_data!B361","v":0},{"$f":"+fill_data!E361","v":0},{"$f":"+fill_data!C361","v":0},{"$f":"++fill_data!D361","v":0},{"$error":"#N/A"},{"$f":"VLOOKUP($A310,ฝนใช้การ,3)/7","v":{"$error":"#N/A"}},45,{"$error":"#N/A"},{"$error":"#N/A"},{"$error":"#N/A"},{"$error":"#N/A"}]
[44,"2013-08-29",{"$f":"+fill_data!B362","v":0},{"$f":"+fill_data!E362","v":0},{"$f":"+fill_data!C362","v":0},{"$f":"++fill_data!D362","v":0},{"$error":"#N/A"},{"$f":"VLOOKUP($A311,ฝนใช้การ,3)/7","v":{"$error":"#N/A"}},45,{"$error":"#N/A"},{"$error":"#N/A"},{"$error":"#N/A"},{"$error":"#N/A"}]
[44,"2013-08-30",{"$f":"+fill_data!B363","v":0},{"$f":"+fill_data!E363","v":0},{"$f":"+fill_data!C363","v":0},{"$f":"++fill_data!D363","v":0},{"$error":"#N/A"},{"$f":"VLOOKUP($A312,ฝนใช้การ,3)/7","v":{"$error":"#N/A"}},45,{"$error":"#N/A"},{"$error":"#N/A"},{"$error":"#N/A"},{"$error":"#N/A"}]
[44,"2013-08-31",{"$f":"+fill_data!B364","v":0},{"$f":"+fill_data!E364","v":0},{"$f":"+fill_data!C364","v":0},{"$f":"++fill_data!D364","v":0},{"$error":"#N/A"},{"$f":"VLOOKUP($A313,ฝนใช้การ,3)/7","v":{"$error":"#N/A"}},45,{"$error":"#N/A"},{"$error":"#N/A"},{"$error":"#N/A"},{"$error":"#N/A"}]
[44,"2013-09-01",{"$f":"+fill_data!B365","v":0},{"$f":"+fill_data!E365","v":0},{"$f":"+fill_data!C365","v":0},{"$f":"++fill_data!D365","v":0},{"$error":"#N/A"},{"$f":"VLOOKUP($A314,ฝนใช้การ,3)/7","v":{"$error":"#N/A"}},45,{"$error":"#N/A"},{"$error":"#N/A"},{"$error":"#N/A"},{"$error":"#N/A"}]
[44,"2013-09-02",{"$f":"+fill_data!B366","v":0},{"$f":"+fill_data!E366","v":0},{"$f":"+fill_data!C366","v":0},{"$f":"++fill_data!D366","v":0},{"$error":"#N/A"},{"$f":"VLOOKUP($A315,ฝนใช้การ,3)/7","v":{"$error":"#N/A"}},45,{"$error":"#N/A"},{"$error":"#N/A"},{"$error":"#N/A"},{"$error":"#N/A"}]
[44,"2013-09-03",{"$f":"+fill_data!B367","v":0},{"$f":"+fill_data!E367","v":0},{"$f":"+fill_data!C367","v":0},{"$f":"++fill_data!D367","v":0},{"$error":"#N/A"},{"$f":"VLOOKUP($A316,ฝนใช้การ,3)/7","v":{"$error":"#N/A"}},45,{"$error":"#N/A"},{"$error":"#N/A"},{"$error":"#N/A"},{"$error":"#N/A"}]
[44,"2013-09-04",{"$f":"+fill_data!B368","v":0},{"$f":"+fill_data!E368","v":0},{"$f":"+fill_data!C368","v":0},{"$f":"++fill_data!D368","v":0},{"$error":"#N/A"},{"$f":"VLOOKUP($A317,ฝนใช้การ,3)/7","v":{"$error":"#N/A"}},45,{"$error":"#N/A"},{"$error":"#N/A"},{"$error":"#N/A"},{"$error":"#N/A"}]
[45,"2013-09-05",{"$f":"+fill_data!B369","v":0},{"$f":"+fill_data!E369","v":0},{"$f":"+fill_data!C369","v":0},{"$f":"++fill_data!D369","v":0},{"$error":"#N/A"},{"$f":"VLOOKUP($A318,ฝนใช้การ,3)/7","v":{"$error":"#N/A"}},45,{"$error":"#N/A"},{"$error":"#N/A"},{"$error":"#N/A"},{"$error":"#N/A"}]
[45,"2013-09-06",{"$f":"+fill_data!B370","v":0},{"$f":"+fill_data!E370","v":0},{"$f":"+fill_data!C370","v":0},{"$f":"++fill_data!D370","v":0},{"$error":"#N/A"},{"$f":"VLOOKUP($A319,ฝนใช้การ,3)/7","v":{"$error":"#N/A"}},45,{"$error":"#N/A"},{"$error":"#N/A"},{"$error":"#N/A"},{"$error":"#N/A"}]
[45,"2013-09-07",{"$f":"+fill_data!B371","v":0},{"$f":"+fill_data!E371","v":0},{"$f":"+fill_data!C371","v":0},{"$f":"++fill_data!D371","v":0},{"$error":"#N/A"},{"$f":"VLOOKUP($A320,ฝนใช้การ,3)/7","v":{"$error":"#N/A"}},45,{"$error":"#N/A"},{"$error":"#N/A"},{"$error":"#N/A"},{"$error":"#N/A"}]
[45,"2013-09-08",{"$f":"+fill_data!B372","v":0},{"$f":"+fill_data!E372","v":0},{"$f":"+fill_data!C372","v":0},{"$f":"++fill_data!D372","v":0},{"$error":"#N/A"},{"$f":"VLOOKUP($A321,ฝนใช้การ,3)/7","v":{"$error":"#N/A"}},45,{"$error":"#N/A"},{"$error":"#N/A"},{"$error":"#N/A"},{"$error":"#N/A"}]
[45,"2013-09-09",{"$f":"+fill_data!B373","v":0},{"$f":"+fill_data!E373","v":0},{"$f":"+fill_data!C373","v":0},{"$f":"++fill_data!D373","v":0},{"$error":"#N/A"},{"$f":"VLOOKUP($A322,ฝนใช้การ,3)/7","v":{"$error":"#N/A"}},45,{"$error":"#N/A"},{"$error":"#N/A"},{"$error":"#N/A"},{"$error":"#N/A"}]
[45,"2013-09-10",{"$f":"+fill_data!B374","v":0},{"$f":"+fill_data!E374","v":0},{"$f":"+fill_data!C374","v":0},{"$f":"++fill_data!D374","v":0},{"$error":"#N/A"},{"$f":"VLOOKUP($A323,ฝนใช้การ,3)/7","v":{"$error":"#N/A"}},45,{"$error":"#N/A"},{"$error":"#N/A"},{"$error":"#N/A"},{"$error":"#N/A"}]
[45,"2013-09-11",{"$f":"+fill_data!B375","v":0},{"$f":"+fill_data!E375","v":0},{"$f":"+fill_data!C375","v":0},{"$f":"++fill_data!D375","v":0},{"$error":"#N/A"},{"$f":"VLOOKUP($A324,ฝนใช้การ,3)/7","v":{"$error":"#N/A"}},45,{"$error":"#N/A"},{"$error":"#N/A"},{"$error":"#N/A"},{"$error":"#N/A"}]
[46,"2013-09-12",{"$f":"+fill_data!B376","v":0},{"$f":"+fill_data!E376","v":0},{"$f":"+fill_data!C376","v":0},{"$f":"++fill_data!D376","v":0},{"$error":"#N/A"},{"$f":"VLOOKUP($A325,ฝนใช้การ,3)/7","v":{"$error":"#N/A"}},45,{"$error":"#N/A"},{"$error":"#N/A"},{"$error":"#N/A"},{"$error":"#N/A"}]
[46,"2013-09-13",{"$f":"+fill_data!B377","v":0},{"$f":"+fill_data!E377","v":0},{"$f":"+fill_data!C377","v":0},{"$f":"++fill_data!D377","v":0},{"$error":"#N/A"},{"$f":"VLOOKUP($A326,ฝนใช้การ,3)/7","v":{"$error":"#N/A"}},45,{"$error":"#N/A"},{"$error":"#N/A"},{"$error":"#N/A"},{"$error":"#N/A"}]
[46,"2013-09-14",{"$f":"+fill_data!B378","v":0},{"$f":"+fill_data!E378","v":0},{"$f":"+fill_data!C378","v":0},{"$f":"++fill_data!D378","v":0},{"$error":"#N/A"},{"$f":"VLOOKUP($A327,ฝนใช้การ,3)/7","v":{"$error":"#N/A"}},45,{"$error":"#N/A"},{"$error":"#N/A"},{"$error":"#N/A"},{"$error":"#N/A"}]
[46,"2013-09-15",{"$f":"+fill_data!B379","v":0},{"$f":"+fill_data!E379","v":0},{"$f":"+fill_data!C379","v":0},{"$f":"++fill_data!D379","v":0},{"$error":"#N/A"},{"$f":"VLOOKUP($A328,ฝนใช้การ,3)/7","v":{"$error":"#N/A"}},45,{"$error":"#N/A"},{"$error":"#N/A"},{"$error":"#N/A"},{"$error":"#N/A"}]
[46,"2013-09-16",{"$f":"+fill_data!B380","v":0},{"$f":"+fill_data!E380","v":0},{"$f":"+fill_data!C380","v":0},{"$f":"++fill_data!D380","v":0},{"$error":"#N/A"},{"$f":"VLOOKUP($A329,ฝนใช้การ,3)/7","v":{"$error":"#N/A"}},45,{"$error":"#N/A"},{"$error":"#N/A"},{"$error":"#N/A"},{"$error":"#N/A"}]
[46,"2013-09-17",{"$f":"+fill_data!B381","v":0},{"$f":"+fill_data!E381","v":0},{"$f":"+fill_data!C381","v":0},{"$f":"++fill_data!D381","v":0},{"$f":"VLOOKUP($A330,ความต้องการน้ำ,3)/7","v":{"$error":"#N/A"}},{"$f":"VLOOKUP($A330,ฝนใช้การ,3)/7","v":{"$error":"#N/A"}},45,{"$error":"#N/A"},{"$f":"C330+D330+E330+F330+J330","v":{"$error":"#N/A"}},{"$error":"#N/A"},{"$error":"#N/A"}]
[46,{"$f":"+B330+1","v":"2013-09-18"},{"$f":"+fill_data!B382","v":0},{"$f":"+fill_data!E382","v":0},{"$f":"+fill_data!C382","v":0},{"$f":"++fill_data!D382","v":0},{"$error":"#N/A"},{"$f":"VLOOKUP($A331,ฝนใช้การ,3)/7","v":{"$error":"#N/A"}},45,{"$f":"IF((G331-H331)<=0,0,+(G331-H331)/(I331/100))","v":{"$error":"#N/A"}},{"$error":"#N/A"},{"$error":"#N/A"},{"$error":"#N/A"}]
[47,"2013-09-19",{"$f":"+fill_data!B383","v":0},{"$f":"+fill_data!E383","v":0},{"$f":"+fill_data!C383","v":0},{"$f":"++fill_data!D383","v":0},{"$error":"#N/A"},{"$f":"VLOOKUP($A332,ฝนใช้การ,3)/7","v":{"$error":"#N/A"}},{"$f":"+I331","v":45},{"$error":"#N/A"},{"$error":"#N/A"},{"$f":"+L331+K332","v":{"$error":"#N/A"}},{"$error":"#N/A"}]
[47,"2013-09-20",{"$f":"+fill_data!B384","v":0},{"$f":"+fill_data!E384","v":0},{"$f":"+fill_data!C384","v":0},{"$f":"++fill_data!D384","v":0},{"$error":"#N/A"},{"$f":"VLOOKUP($A333,ฝนใช้การ,3)/7","v":{"$error":"#N/A"}},45,{"$error":"#N/A"},{"$error":"#N/A"},{"$error":"#N/A"},{"$error":"#N/A"}]
[47,"2013-09-21",{"$f":"+fill_data!B385","v":0},{"$f":"+fill_data!E385","v":0},{"$f":"+fill_data!C385","v":0},{"$f":"++fill_data!D385","v":0},{"$error":"#N/A"},{"$f":"VLOOKUP($A334,ฝนใช้การ,3)/7","v":{"$error":"#N/A"}},45,{"$error":"#N/A"},{"$error":"#N/A"},{"$error":"#N/A"},{"$error":"#N/A"}]
[47,"2013-09-22",{"$f":"+fill_data!B386","v":0},{"$f":"+fill_data!E386","v":0},{"$f":"+fill_data!C386","v":0},{"$f":"++fill_data!D386","v":0},{"$error":"#N/A"},{"$f":"VLOOKUP($A335,ฝนใช้การ,3)/7","v":{"$error":"#N/A"}},45,{"$error":"#N/A"},{"$error":"#N/A"},{"$error":"#N/A"},{"$error":"#N/A"}]
[{"$f":"+A335","v":47},"2013-09-23",{"$f":"+fill_data!B387","v":0},{"$f":"+fill_data!E387","v":0},{"$f":"+fill_data!C387","v":0},{"$f":"++fill_data!D387","v":0},{"$error":"#N/A"},{"$f":"VLOOKUP($A336,ฝนใช้การ,3)/7","v":{"$error":"#N/A"}},45,{"$error":"#N/A"},{"$error":"#N/A"},{"$error":"#N/A"},{"$error":"#N/A"}]
[47,"2013-09-24",{"$f":"+fill_data!B388","v":0},{"$f":"+fill_data!E388","v":0},{"$f":"+fill_data!C388","v":0},{"$f":"++fill_data!D388","v":0},{"$error":"#N/A"},{"$f":"VLOOKUP($A337,ฝนใช้การ,3)/7","v":{"$error":"#N/A"}},45,{"$error":"#N/A"},{"$error":"#N/A"},{"$error":"#N/A"},{"$error":"#N/A"}]
[47,"2013-09-25",{"$f":"+fill_data!B389","v":0},{"$f":"+fill_data!E389","v":0},{"$f":"+fill_data!C389","v":0},{"$f":"++fill_data!D389","v":0},{"$error":"#N/A"},{"$f":"VLOOKUP($A338,ฝนใช้การ,3)/7","v":{"$error":"#N/A"}},45,{"$error":"#N/A"},{"$error":"#N/A"},{"$error":"#N/A"},{"$error":"#N/A"}]
[48,"2013-09-26",{"$f":"+fill_data!B390","v":0},{"$f":"+fill_data!E390","v":0},{"$f":"+fill_data!C390","v":0},{"$f":"++fill_data!D390","v":0},{"$error":"#N/A"},{"$f":"VLOOKUP($A339,ฝนใช้การ,3)/7","v":{"$error":"#N/A"}},45,{"$error":"#N/A"},{"$error":"#N/A"},{"$error":"#N/A"},{"$error":"#N/A"}]
[48,"2013-09-27",{"$f":"+fill_data!B391","v":0},{"$f":"+fill_data!E391","v":0},{"$f":"+fill_data!C391","v":0},{"$f":"++fill_data!D391","v":0},{"$error":"#N/A"},{"$f":"VLOOKUP($A340,ฝนใช้การ,3)/7","v":{"$error":"#N/A"}},45,{"$error":"#N/A"},{"$error":"#N/A"},{"$error":"#N/A"},{"$error":"#N/A"}]
[48,"2013-09-28",{"$f":"+fill_data!B392","v":0},{"$f":"+fill_data!E392","v":0},{"$f":"+fill_data!C392","v":0},{"$f":"++fill_data!D392","v":0},{"$error":"#N/A"},{"$f":"VLOOKUP($A341,ฝนใช้การ,3)/7","v":{"$error":"#N/A"}},45,{"$error":"#N/A"},{"$error":"#N/A"},{"$error":"#N/A"},{"$error":"#N/A"}]
[48,"2013-09-29",{"$f":"+fill_data!B393","v":0},{"$f":"+fill_data!E393","v":0},{"$f":"+fill_data!C393","v":0},{"$f":"++fill_data!D393","v":0},{"$error":"#N/A"},{"$f":"VLOOKUP($A342,ฝนใช้การ,3)/7","v":{"$error":"#N/A"}},45,{"$error":"#N/A"},{"$error":"#N/A"},{"$error":"#N/A"},{"$error":"#N/A"}]
[48,"2013-09-30",{"$f":"+fill_data!B394","v":0},{"$f":"+fill_data!E394","v":0},{"$f":"+fill_data!C394","v":0},{"$f":"++fill_data!D394","v":0},{"$error":"#N/A"},{"$f":"VLOOKUP($A343,ฝนใช้การ,3)/7","v":{"$error":"#N/A"}},45,{"$error":"#N/A"},{"$error":"#N/A"},{"$error":"#N/A"},{"$error":"#N/A"}]
[48,"2013-10-01",{"$f":"+fill_data!B395","v":0},{"$f":"+fill_data!E395","v":0},{"$f":"+fill_data!C395","v":0},{"$f":"++fill_data!D395","v":0},{"$error":"#N/A"},{"$f":"VLOOKUP($A344,ฝนใช้การ,3)/7","v":{"$error":"#N/A"}},45,{"$error":"#N/A"},{"$error":"#N/A"},{"$error":"#N/A"},{"$error":"#N/A"}]
[48,"2013-10-02",{"$f":"+fill_data!B396","v":0},{"$f":"+fill_data!E396","v":0},{"$f":"+fill_data!C396","v":0},{"$f":"++fill_data!D396","v":0},{"$error":"#N/A"},{"$f":"VLOOKUP($A345,ฝนใช้การ,3)/7","v":{"$error":"#N/A"}},45,{"$error":"#N/A"},{"$error":"#N/A"},{"$error":"#N/A"},{"$error":"#N/A"}]
[49,"2013-10-03",{"$f":"+fill_data!B397","v":0},{"$f":"+fill_data!E397","v":0},{"$f":"+fill_data!C397","v":0},{"$f":"++fill_data!D397","v":0},{"$error":"#N/A"},{"$f":"VLOOKUP($A346,ฝนใช้การ,3)/7","v":{"$error":"#N/A"}},45,{"$error":"#N/A"},{"$error":"#N/A"},{"$error":"#N/A"},{"$error":"#N/A"}]
[49,"2013-10-04",{"$f":"+fill_data!B398","v":0},{"$f":"+fill_data!E398","v":0},{"$f":"+fill_data!C398","v":0},{"$f":"++fill_data!D398","v":0},{"$error":"#N/A"},{"$f":"VLOOKUP($A347,ฝนใช้การ,3)/7","v":{"$error":"#N/A"}},45,{"$error":"#N/A"},{"$error":"#N/A"},{"$error":"#N/A"},{"$error":"#N/A"}]
[49,"2013-10-05",{"$f":"+fill_data!B399","v":0},{"$f":"+fill_data!E399","v":0},{"$f":"+fill_data!C399","v":0},{"$f":"++fill_data!D399","v":0},{"$error":"#N/A"},{"$f":"VLOOKUP($A348,ฝนใช้การ,3)/7","v":{"$error":"#N/A"}},45,{"$error":"#N/A"},{"$error":"#N/A"},{"$error":"#N/A"},{"$error":"#N/A"}]
[49,"2013-10-06",{"$f":"+fill_data!B400","v":0},{"$f":"+fill_data!E400","v":0},{"$f":"+fill_data!C400","v":0},{"$f":"++fill_data!D400","v":0},{"$error":"#N/A"},{"$f":"VLOOKUP($A349,ฝนใช้การ,3)/7","v":{"$error":"#N/A"}},45,{"$error":"#N/A"},{"$error":"#N/A"},{"$error":"#N/A"},{"$error":"#N/A"}]
[49,"2013-10-07",{"$f":"+fill_data!B401","v":0},{"$f":"+fill_data!E401","v":0},{"$f":"+fill_data!C401","v":0},{"$f":"++fill_data!D401","v":0},{"$error":"#N/A"},{"$f":"VLOOKUP($A350,ฝนใช้การ,3)/7","v":{"$error":"#N/A"}},45,{"$error":"#N/A"},{"$error":"#N/A"},{"$error":"#N/A"},{"$error":"#N/A"}]
[49,"2013-10-08",{"$f":"+fill_data!B402","v":0},{"$f":"+fill_data!E402","v":0},{"$f":"+fill_data!C402","v":0},{"$f":"++fill_data!D402","v":0},{"$error":"#N/A"},{"$f":"VLOOKUP($A351,ฝนใช้การ,3)/7","v":{"$error":"#N/A"}},45,{"$error":"#N/A"},{"$error":"#N/A"},{"$error":"#N/A"},{"$error":"#N/A"}]
[49,"2013-10-09",{"$f":"+fill_data!B403","v":0},{"$f":"+fill_data!E403","v":0},{"$f":"+fill_data!C403","v":0},{"$f":"++fill_data!D403","v":0},{"$error":"#N/A"},{"$f":"VLOOKUP($A352,ฝนใช้การ,3)/7","v":{"$error":"#N/A"}},45,{"$error":"#N/A"},{"$error":"#N/A"},{"$error":"#N/A"},{"$error":"#N/A"}]
[50,"2013-10-10",{"$f":"+fill_data!B404","v":0},{"$f":"+fill_data!E404","v":0},{"$f":"+fill_data!C404","v":0},{"$f":"++fill_data!D404","v":0},{"$error":"#N/A"},{"$f":"VLOOKUP($A353,ฝนใช้การ,3)/7","v":{"$error":"#N/A"}},45,{"$error":"#N/A"},{"$error":"#N/A"},{"$error":"#N/A"},{"$error":"#N/A"}]
[50,"2013-10-11",{"$f":"+fill_data!B405","v":0},{"$f":"+fill_data!E405","v":0},{"$f":"+fill_data!C405","v":0},{"$f":"++fill_data!D405","v":0},{"$error":"#N/A"},{"$f":"VLOOKUP($A354,ฝนใช้การ,3)/7","v":{"$error":"#N/A"}},45,{"$error":"#N/A"},{"$error":"#N/A"},{"$error":"#N/A"},{"$error":"#N/A"}]
[50,"2013-10-12",{"$f":"+fill_data!B406","v":0},{"$f":"+fill_data!E406","v":0},{"$f":"+fill_data!C406","v":0},{"$f":"++fill_data!D406","v":0},{"$error":"#N/A"},{"$f":"VLOOKUP($A355,ฝนใช้การ,3)/7","v":{"$error":"#N/A"}},45,{"$error":"#N/A"},{"$error":"#N/A"},{"$error":"#N/A"},{"$error":"#N/A"}]
[50,"2013-10-13",{"$f":"+fill_data!B407","v":0},{"$f":"+fill_data!E407","v":0},{"$f":"+fill_data!C407","v":0},{"$f":"++fill_data!D407","v":0},{"$error":"#N/A"},{"$f":"VLOOKUP($A356,ฝนใช้การ,3)/7","v":{"$error":"#N/A"}},45,{"$error":"#N/A"},{"$error":"#N/A"},{"$error":"#N/A"},{"$error":"#N/A"}]
[50,"2013-10-14",{"$f":"+fill_data!B408","v":0},{"$f":"+fill_data!E408","v":0},{"$f":"+fill_data!C408","v":0},{"$f":"++fill_data!D408","v":0},{"$error":"#N/A"},{"$f":"VLOOKUP($A357,ฝนใช้การ,3)/7","v":{"$error":"#N/A"}},45,{"$error":"#N/A"},{"$error":"#N/A"},{"$error":"#N/A"},{"$error":"#N/A"}]
[50,"2013-10-15",{"$f":"+fill_data!B409","v":0},{"$f":"+fill_data!E409","v":0},{"$f":"+fill_data!C409","v":0},{"$f":"++fill_data!D409","v":0},{"$error":"#N/A"},{"$f":"VLOOKUP($A358,ฝนใช้การ,3)/7","v":{"$error":"#N/A"}},45,{"$error":"#N/A"},{"$error":"#N/A"},{"$error":"#N/A"},{"$error":"#N/A"}]
[50,"2013-10-16",{"$f":"+fill_data!B410","v":0},{"$f":"+fill_data!E410","v":0},{"$f":"+fill_data!C410","v":0},{"$f":"++fill_data!D410","v":0},{"$error":"#N/A"},{"$f":"VLOOKUP($A359,ฝนใช้การ,3)/7","v":{"$error":"#N/A"}},45,{"$error":"#N/A"},{"$error":"#N/A"},{"$error":"#N/A"},{"$error":"#N/A"}]
[51,"2013-10-17",{"$f":"+fill_data!B411","v":0},{"$f":"+fill_data!E411","v":0},{"$f":"+fill_data!C411","v":0},{"$f":"++fill_data!D411","v":0},{"$error":"#N/A"},{"$f":"VLOOKUP($A360,ฝนใช้การ,3)/7","v":{"$error":"#N/A"}},45,{"$error":"#N/A"},{"$error":"#N/A"},{"$error":"#N/A"},{"$error":"#N/A"}]
[51,"2013-10-18",{"$f":"+fill_data!B412","v":0},{"$f":"+fill_data!E412","v":0},{"$f":"+fill_data!C412","v":0},{"$f":"++fill_data!D412","v":0},{"$error":"#N/A"},{"$f":"VLOOKUP($A361,ฝนใช้การ,3)/7","v":{"$error":"#N/A"}},45,{"$error":"#N/A"},{"$error":"#N/A"},{"$error":"#N/A"},{"$error":"#N/A"}]
[51,"2013-10-19",{"$f":"+fill_data!B413","v":0},{"$f":"+fill_data!E413","v":0},{"$f":"+fill_data!C413","v":0},{"$f":"++fill_data!D413","v":0},{"$error":"#N/A"},{"$f":"VLOOKUP($A362,ฝนใช้การ,3)/7","v":{"$error":"#N/A"}},45,{"$error":"#N/A"},{"$error":"#N/A"},{"$error":"#N/A"},{"$error":"#N/A"}]
[51,"2013-10-20",{"$f":"+fill_data!B414","v":0},{"$f":"+fill_data!E414","v":0},{"$f":"+fill_data!C414","v":0},{"$f":"++fill_data!D414","v":0},{"$error":"#N/A"},{"$f":"VLOOKUP($A363,ฝนใช้การ,3)/7","v":{"$error":"#N/A"}},45,{"$error":"#N/A"},{"$error":"#N/A"},{"$error":"#N/A"},{"$error":"#N/A"}]
[51,"2013-10-21",{"$f":"+fill_data!B415","v":0},{"$f":"+fill_data!E415","v":0},{"$f":"+fill_data!C415","v":0},{"$f":"++fill_data!D415","v":0},{"$error":"#N/A"},{"$f":"VLOOKUP($A364,ฝนใช้การ,3)/7","v":{"$error":"#N/A"}},45,{"$error":"#N/A"},{"$error":"#N/A"},{"$error":"#N/A"},{"$error":"#N/A"}]
[51,"2013-10-22",{"$f":"+fill_data!B416","v":0},{"$f":"+fill_data!E416","v":0},{"$f":"+fill_data!C416","v":0},{"$f":"++fill_data!D416","v":0},{"$error":"#N/A"},{"$f":"VLOOKUP($A365,ฝนใช้การ,3)/7","v":{"$error":"#N/A"}},45,{"$error":"#N/A"},{"$error":"#N/A"},{"$error":"#N/A"},{"$error":"#N/A"}]
[51,"2013-10-23",{"$f":"+fill_data!B417","v":0},{"$f":"+fill_data!E417","v":0},{"$f":"+fill_data!C417","v":0},{"$f":"++fill_data!D417","v":0},{"$error":"#N/A"},{"$f":"VLOOKUP($A366,ฝนใช้การ,3)/7","v":{"$error":"#N/A"}},45,{"$error":"#N/A"},{"$error":"#N/A"},{"$error":"#N/A"},{"$error":"#N/A"}]
[52,"2013-10-24",{"$f":"+fill_data!B418","v":0},{"$f":"+fill_data!E418","v":0},{"$f":"+fill_data!C418","v":0},{"$f":"++fill_data!D418","v":0},{"$error":"#N/A"},{"$f":"VLOOKUP($A367,ฝนใช้การ,3)/7","v":{"$error":"#N/A"}},45,{"$error":"#N/A"},{"$error":"#N/A"},{"$error":"#N/A"},{"$error":"#N/A"}]
[52,"2013-10-25",{"$f":"+fill_data!B419","v":0},{"$f":"+fill_data!E419","v":0},{"$f":"+fill_data!C419","v":0},{"$f":"++fill_data!D419","v":0},{"$error":"#N/A"},{"$f":"VLOOKUP($A368,ฝนใช้การ,3)/7","v":{"$error":"#N/A"}},45,{"$error":"#N/A"},{"$error":"#N/A"},{"$error":"#N/A"},{"$error":"#N/A"}]
[52,"2013-10-26",{"$f":"+fill_data!B420","v":0},{"$f":"+fill_data!E420","v":0},{"$f":"+fill_data!C420","v":0},{"$f":"++fill_data!D420","v":0},{"$error":"#N/A"},{"$f":"VLOOKUP($A369,ฝนใช้การ,3)/7","v":{"$error":"#N/A"}},45,{"$error":"#N/A"},{"$error":"#N/A"},{"$error":"#N/A"},{"$error":"#N/A"}]
[52,"2013-10-27",{"$f":"+fill_data!B421","v":0},{"$f":"+fill_data!E421","v":0},{"$f":"+fill_data!C421","v":0},{"$f":"++fill_data!D421","v":0},{"$error":"#N/A"},{"$f":"VLOOKUP($A370,ฝนใช้การ,3)/7","v":{"$error":"#N/A"}},45,{"$error":"#N/A"},{"$error":"#N/A"},{"$error":"#N/A"},{"$f":"+C370+D370+E370+F370+G370","v":{"$error":"#N/A"}}]
[52,"2013-10-28",{"$f":"+fill_data!B422","v":0},{"$f":"+fill_data!E422","v":0},{"$f":"+fill_data!C422","v":0},{"$f":"++fill_data!D422","v":0},{"$error":"#N/A"},{"$f":"VLOOKUP($A371,ฝนใช้การ,3)/7","v":{"$error":"#N/A"}},45,{"$error":"#N/A"},{"$error":"#N/A"},{"$error":"#N/A"},{"$f":"+C371+D371+E371+F371+G371","v":{"$error":"#N/A"}}]
[52,"2013-10-29",{"$f":"+fill_data!B423","v":0},{"$f":"+fill_data!E423","v":0},{"$f":"+fill_data!C423","v":0},{"$f":"++fill_data!D423","v":0},{"$error":"#N/A"},{"$f":"VLOOKUP($A372,ฝนใช้การ,3)/7","v":{"$error":"#N/A"}},45,{"$error":"#N/A"},{"$error":"#N/A"},{"$error":"#N/A"},{"$f":"+C372+D372+E372+F372+G372","v":{"$error":"#N/A"}}]
[52,"2013-10-30",{"$f":"+fill_data!B424","v":0},{"$f":"+fill_data!E424","v":0},{"$f":"+fill_data!C424","v":0},{"$f":"++fill_data!D424","v":0},{"$error":"#N/A"},{"$f":"VLOOKUP($A373,ฝนใช้การ,3)/7","v":{"$error":"#N/A"}},45,{"$error":"#N/A"},{"$error":"#N/A"},{"$error":"#N/A"},{"$f":"+C373+D373+E373+F373+G373","v":{"$error":"#N/A"}}]
[52,"2013-10-31",{"$f":"+fill_data!B425","v":0},{"$f":"+fill_data!E425","v":0},{"$f":"+fill_data!C425","v":0},{"$f":"++fill_data!D425","v":0},{"$error":"#N/A"},{"$f":"VLOOKUP($A374,ฝนใช้การ,3)/7","v":{"$error":"#N/A"}},45,{"$error":"#N/A"},{"$error":"#N/A"},{"$error":"#N/A"},{"$f":"+C374+D374+E374+F374+G374","v":{"$error":"#N/A"}}]
["รวมทั้งหมด",null,{"$f":"SUM(C10:C374)","v":0},0,0,0,{"$error":"#N/A"},{"$error":"#N/A"},{"$f":"AVERAGE(I10:I374)","v":45},{"$f":"SUM(J10:J374)","v":{"$error":"#N/A"}},{"$f":"SUM(K10:K374)","v":{"$error":"#N/A"}},{"$f":"SUM(L10:L374)","v":{"$error":"#N/A"}},{"$f":"SUM(M10:M374)","v":{"$error":"#N/A"}}]
[]
[]
[null,null,null,null,null,null,null,null,null,null,null,null,null,null,null,null,null,null,"จ.น.02.1-51(ต่อ)"]
["คำอธิบายความหมายในแต่ละคอลัมน์"]
[null,"'(1)",null,null,"สัปดาห์การส่งน้ำ โดย สศก. กำหนดระยะเวลาปลูกพืชฤดูฝน ดังนี้ พื้นที่ทั่วไปเริ่มวันที่ 1 พฤศจิกายน -30 เมษายน ยกเว้นพื้นที่ภาคใต้ฝั่งตะวันออก เริ่ม 1 มีนาคม  - 30 มิถุนายน"]
[null,null,null,null,"หรือ สัปดาห์ที่ 1 เริ่มนับตั้งแต่วันที่ 1 พ.ย. ถึงวันพุธแรกของเดือน ในกรณีการส่งน้ำไม่เป็นไปตามที่กำหนดขอให้พิจารณาปรับตามความเหมาะสมของแต่ละพื้นที่"]
[null,"(2)",null,null,"ช่วงวันที่ ให้นับตั้งแต่วันพฤหัสบดีเป็นวันแรกของสัปดาห์สิ้นสุดวันพุธ เพื่อให้สอดคล้องกับการรายงานความก้าวหน้าการปลูกพืชประจำสัปดาห์"]
[null,"(3)",null,null,"หมายถึง ระดับน้ำในอ่างเก็บน้ำ ณ  วันต้นสัปดาห์"]
[null,"(4)",null,null,": ข้อมูลปริมาณน้ำในอ่างฯ วันแรกของสัปดาห์ (วันที่ 1 พ.ย.)"]
[null,"(5)",null,null,": ข้อมูลการระเหยที่ตรวจวัดได้จากสถานีใกล้เคียงที่เป็นตัวแทนที่เลือกใช้ในปีนี้ เช่น สถานีตรวจวัดของกรมอุตุประจำอำเภอ หรือ ที่หัวงานเขื่อนหากไม่มีให้ใช้อัตรา 1 มม./วัน"]
[null,"(6)",null,null,"  = 0.7 คูณอัตราการระเหยที่วัดได้จาก Epan"]
[null,"(7)",null,null,": water surface area พื้นที่ผิวน้ำของอ่างฯ วัดจากโค้งพื้นที่ผิวน้ำจากระดับน้ำในอ่างฯ ของวันแรกของสัปดาห์ หน่วย ตารางกิโลเมตร"]
[null,"(8)",null,null,"  =Net_ Evap/1000*WSA*1000*1000"]
[null,"(9)",null,null,": ข้อมูลคาดการณ์ปริมาณน้ำไหลลงอ่าง"]
[null,"(10)",null,null,"ปริมาณน้ำในอ่างฯวันแรก-ปริมาณการระเหย+ปริมาณน้ำไหลลงอ่าง"]
[null,"(11)",null,null,": water supply ปริมาณน้ำส่งเพื่อการประปา"]
[null,"(12)",null,null,"การใช้น้ำในกิจกรรมอื่นๆ"]
[null,"(13)",null,null,": ปริมาณน้ำส่งเพื่อการอุตสาหกรรม"]
[null,"(14)",null,null,": ปริมาณน้ำส่งเพื่อรักษาระบบนิเวศ  ให้ใช้ปริมาณที่น้อยที่สุดที่เคยส่ง"]
[null,"(15)",null,null,": crop water requirement ความต้องการน้ำของพืช  = Kc*Eto*พื้นที่เพาะปลูก"]
[null,"(16)",null,null,": Effective rainfall ปริมาณฝนใช้การ คือ ปริมาณฝนที่สามารถใช้งานได้ พิจารณาจากข้อมูลการศึกษาของโครงการเพื่อเทียบสัดส่วนกับฝนคาดการณ์ที่จะตก"]
[null,null,null,null,"และแปลงเป็นปริมาณน้ำโดย ER=ฝนใช้การในสัปดาห์นั้น*พื้นที่เพาะปลูก"]
[null,"(17)",null,null,": ค่าประสิทธิภาพโครงการ ที่มีการประเมิน และนำมาใช้ในปีนี้ "]
[null,"(18)",null,null,": ปริมาณน้ำส่งจากเขื่อนเพื่อการเกษตร = (15)-((16)*(17)/100)"]
[null,"(19)",null,null,": ปริมาณน้ำส่งออกจากเขื่อนทั้งหมด = (11)+(12)+(13)+(14)+(18)"]
[null,"(20)",null,null,": ปริมาณน้ำในอ่างฯวันแรกของสัปดาห์ต่อไป=(10)-(19)"]
[]
[]
[]
[]
[]
[]
["*****","ให้แนบโค้งความจุของทุกอ่างฯมาด้วย"]

{"sheet":"สอน.จน.1","index":2,"n_rows":61,"n_cols":34,"rows_kept":61,"cut":false,"hidden":false,"merged":[[6,8,6,10],[58,0,58,1],[0,0,0,10],[1,0,1,10],[2,0,2,10],[3,0,3,7],[4,1,5,1],[4,2,4,7],[4,8,5,10]]}
["แบบฟอร์ม สอน.จน. - 1",null,null,null,null,null,null,null,null,null,null,null,null,"ประจำปี(พ.ศ.)",2555,null,"เริ่ม","เดือนที่",null,null,null,null,null,null,null,{"$f":"DATE(O1-543,11,1)","v":"2012-11-01"}]
[{"$f":"\"ตารางที่ 1 แผนการจัดสรรน้ำรายสัปดาห์จากอ่างเก็บน้ำ โครงการฯ \"&fill_data!D1&\" จังหวัด \"&fill_data!C4","v":"ตารางที่ 1 แผนการจัดสรรน้ำรายสัปดาห์จากอ่างเก็บน้ำ โครงการฯ  จังหวัด "},null,null,null,null,null,null,null,null,null,null,null,null,"เริ่มวันที่","2012-11-01",null,{"$f":"MATCH(O2,ROS!B10:B374,0)","v":1},{"$f":"MONTH(O2)","v":11}]
[{"$f":"\"ประจำปี พ.ศ. \"&O1&\"/\"&O1+1","v":"ประจำปี พ.ศ. 2555/2556"},null,null,null,null,null,null,null,null,null,null,null,null,"สิ้นสุดวันที่","2013-10-31"]
[null,null,null,null,null,null,null,null,null,null,null,null,null,"รูปแบบการป้อนวัน วัน/เดือน/ปี ค.ศ."]
["สัปดาห์","ช่วงวันที่ ","ความต้องการน้ำจากอ่างฯ ล้าน ม.3",null,null,null,null,null,"หมายเหตุ"]
["ที่",null,"การเกษตร","อุปโภค-บริโภค","อุตสาหกรรม","รักษาระบบนิเวศ","อื่นๆ","รวม",null,null,null,null,null,null,null,null,null,null,null,null,null,null,null,null,null,null,null,null,null,null,null,null,null,{"$f":"+Q2","v":1}]
[1,{"$f":"Z7","v":"1 - 7 พ.ย. 55"},{"$f":"IF(B7<>\"\",SUM(OFFSET(ROS!$J$9,$Q$2+((A7-1)*7),0,7,1)),\"\")","v":{"$error":"#N/A"}},{"$f":"IF(C7<>\"\",SUM(OFFSET(ROS!$C$9,$Q$2+((A7-1)*7),0,7,1)),\"\")","v":{"$error":"#N/A"}},{"$f":"IF(C7<>\"\",SUM(OFFSET(ROS!$E$9,$Q$2+((A7-1)*7),0,7,1)),\"\")","v":{"$error":"#N/A"}},{"$f":"IF(C7<>\"\",SUM(OFFSET(ROS!$F$9,$Q$2+((A7-1)*7),0,7,1)),\"\")","v":{"$error":"#N/A"}},{"$f":"IF(C7<>\"\",SUM(OFFSET(ROS!$D$9,$Q$2+((A7-1)*7),0,7,1)),\"\")","v":{"$error":"#N/A"}},{"$f":"SUM(C7:G7)","v":{"$error":"#N/A"}},"ความต้องการน้ำรายเดือน - ล้าน ม.3",null,null,null,null,null,null,null,{"$f":"+O2","v":41214},{"$f":"IF($O$3>Q7+6,Q7+6,$O$3)","v":41220},null,{"$f":"+DAY(Q7)","v":1},{"$f":"OFFSET($AB$6,MONTH(Q7),0,1,1)","v":"พ.ย."},{"$f":"YEAR(Q7)+543-2500","v":55},{"$f":"+DAY(R7)","v":7},{"$f":"OFFSET($AB$6,MONTH(R7),0,1,1)","v":"พ.ย."},{"$f":"YEAR(R7)+543-2500","v":55},{"$f":"IF(Q7<>R7,IF(U7=X7,T7&\" - \"&W7&\" \"&U7&\" \"&V7,T7&\" \"&U7&IF(V7=Y7,\"\",\" \"&V7)&\" - \"&W7&\" \"&X7&Y7),\"\")","v":"1 - 7 พ.ย. 55"},1,"ม.ค.",{"$f":"O2","v":"2012-11-01"},null,{"$f":"+O2","v":"2012-11-01"},{"$f":"IF(DATE(YEAR(AC7),MONTH(AC7)+1,1)<$O$3,DATE(YEAR(AC7),MONTH(AC7)+1,1),$O$3+1)","v":"2012-12-01"},{"$f":"IF(AE7<>\"\",AF7-AE7,-1)","v":30},{"$f":"+AH6+AG7","v":31}]
[{"$f":"A7+1","v":2},{"$f":"Z8","v":"8 - 14 พ.ย. 55"},{"$f":"IF(B8<>\"\",SUM(OFFSET(ROS!$J$9,$Q$2+((A8-1)*7),0,7,1)),\"\")","v":{"$error":"#N/A"}},{"$f":"IF(C8<>\"\",SUM(OFFSET(ROS!$C$9,$Q$2+((A8-1)*7),0,7,1)),\"\")","v":{"$error":"#N/A"}},{"$f":"IF(C8<>\"\",SUM(OFFSET(ROS!$E$9,$Q$2+((A8-1)*7),0,7,1)),\"\")","v":{"$error":"#N/A"}},{"$f":"IF(C8<>\"\",SUM(OFFSET(ROS!$F$9,$Q$2+((A8-1)*7),0,7,1)),\"\")","v":{"$error":"#N/A"}},{"$f":"IF(C8<>\"\",SUM(OFFSET(ROS!$D$9,$Q$2+((A8-1)*7),0,7,1)),\"\")","v":{"$error":"#N/A"}},{"$f":"SUM(C8:G8)","v":{"$error":"#N/A"}},{"$f":"IF(AG7>0,+AC7,\"\")","v":"2012-11-01"},{"$f":"IF(AG7>0,\"=\",\"\")","v":"="},{"$f":"IF(AG7>0,SUM(OFFSET(ROS!$K$9,AH6,0,AG7,1)),\"\")","v":{"$error":"#N/A"}},null,null,null,null,null,{"$f":"IF($O$3>Q7+7,Q7+7,$O$3)","v":41221},{"$f":"IF($O$3>Q8+6,Q8+6,$O$3)","v":41227},null,{"$f":"+DAY(Q8)","v":8},{"$f":"OFFSET($AB$6,MONTH(Q8),0,1,1)","v":"พ.ย."},{"$f":"YEAR(Q8)+543-2500","v":55},{"$f":"+DAY(R8)","v":14},{"$f":"OFFSET($AB$6,MONTH(R8),0,1,1)","v":"พ.ย."},{"$f":"YEAR(R8)+543-2500","v":55},"8 - 14 พ.ย. 55",2,"ก.พ.",{"$f":"DATE(YEAR(AC7),MONTH(AC7)+1,1)","v":"2012-12-01"},null,{"$f":"IF(AF7<$O$3,AF7,\"\")","v":"2012-12-01"},{"$f":"IF(AE8<>\"\",IF(DATE(YEAR(AC8),MONTH(AC8)+1,1)<$O$3,DATE(YEAR(AC8),MONTH(AC8)+1,1),$O$3+1),\"\")","v":"2013-01-01"},{"$f":"IF(AE8<>\"\",AF8-AE8,-1)","v":31},62]
[{"$f":"A8+1","v":3},"15 - 21 พ.ย. 55",{"$f":"IF(B9<>\"\",SUM(OFFSET(ROS!$J$9,$Q$2+((A9-1)*7),0,7,1)),\"\")","v":{"$error":"#N/A"}},{"$f":"IF(C9<>\"\",SUM(OFFSET(ROS!$C$9,$Q$2+((A9-1)*7),0,7,1)),\"\")","v":{"$error":"#N/A"}},{"$f":"IF(C9<>\"\",SUM(OFFSET(ROS!$E$9,$Q$2+((A9-1)*7),0,7,1)),\"\")","v":{"$error":"#N/A"}},{"$f":"IF(C9<>\"\",SUM(OFFSET(ROS!$F$9,$Q$2+((A9-1)*7),0,7,1)),\"\")","v":{"$error":"#N/A"}},{"$f":"IF(C9<>\"\",SUM(OFFSET(ROS!$D$9,$Q$2+((A9-1)*7),0,7,1)),\"\")","v":{"$error":"#N/A"}},{"$f":"SUM(C9:G9)","v":{"$error":"#N/A"}},{"$f":"IF(AG8>0,+AC8,\"\")","v":"2012-12-01"},{"$f":"IF(AG8>0,\"=\",\"\")","v":"="},{"$f":"IF(AG8>0,SUM(OFFSET(ROS!$K$9,AH7,0,AG8,1)),\"\")","v":{"$error":"#N/A"}},null,null,null,null,null,{"$f":"IF($O$3>Q8+7,Q8+7,$O$3)","v":41228},41234,null,15,"พ.ย.",55,21,"พ.ย.",55,"15 - 21 พ.ย. 55",3,"มี.ค.",{"$f":"DATE(YEAR(AC8),MONTH(AC8)+1,1)","v":"2013-01-01"},null,"2013-01-01",{"$f":"IF(AE9<>\"\",IF(DATE(YEAR(AC9),MONTH(AC9)+1,1)<$O$3,DATE(YEAR(AC9),MONTH(AC9)+1,1),$O$3+1),\"\")","v":"2013-02-01"},31,93]
[4,"22 - 28 พ.ย. 55",{"$f":"IF(B10<>\"\",SUM(OFFSET(ROS!$J$9,$Q$2+((A10-1)*7),0,7,1)),\"\")","v":{"$error":"#N/A"}},{"$f":"IF(C10<>\"\",SUM(OFFSET(ROS!$C$9,$Q$2+((A10-1)*7),0,7,1)),\"\")","v":{"$error":"#N/A"}},{"$f":"IF(C10<>\"\",SUM(OFFSET(ROS!$E$9,$Q$2+((A10-1)*7),0,7,1)),\"\")","v":{"$error":"#N/A"}},{"$f":"IF(C10<>\"\",SUM(OFFSET(ROS!$F$9,$Q$2+((A10-1)*7),0,7,1)),\"\")","v":{"$error":"#N/A"}},{"$f":"IF(C10<>\"\",SUM(OFFSET(ROS!$D$9,$Q$2+((A10-1)*7),0,7,1)),\"\")","v":{"$error":"#N/A"}},{"$error":"#N/A"},"2013-01-01","=",{"$f":"IF(AG9>0,SUM(OFFSET(ROS!$K$9,AH8,0,AG9,1)),\"\")","v":{"$error":"#N/A"}},null,null,null,null,null,41235,41241,null,22,"พ.ย.",55,28,"พ.ย.",55,"22 - 28 พ.ย. 55",4,"เม.ย.","2013-02-01",null,"2013-02-01","2013-03-01",28,121]
[5,"29 พ.ย. - 5 ธ.ค.55",{"$f":"IF(B11<>\"\",SUM(OFFSET(ROS!$J$9,$Q$2+((A11-1)*7),0,7,1)),\"\")","v":{"$error":"#N/A"}},{"$f":"IF(C11<>\"\",SUM(OFFSET(ROS!$C$9,$Q$2+((A11-1)*7),0,7,1)),\"\")","v":{"$error":"#N/A"}},{"$f":"IF(C11<>\"\",SUM(OFFSET(ROS!$E$9,$Q$2+((A11-1)*7),0,7,1)),\"\")","v":{"$error":"#N/A"}},{"$f":"IF(C11<>\"\",SUM(OFFSET(ROS!$F$9,$Q$2+((A11-1)*7),0,7,1)),\"\")","v":{"$error":"#N/A"}},{"$f":"IF(C11<>\"\",SUM(OFFSET(ROS!$D$9,$Q$2+((A11-1)*7),0,7,1)),\"\")","v":{"$error":"#N/A"}},{"$error":"#N/A"},"2013-02-01","=",{"$f":"IF(AG10>0,SUM(OFFSET(ROS!$K$9,AH9,0,AG10,1)),\"\")","v":{"$error":"#N/A"}},null,null,null,null,null,41242,41248,null,29,"พ.ย.",55,5,"ธ.ค.",55,"29 พ.ย. - 5 ธ.ค.55",5,"พ.ค.","2013-03-01",null,"2013-03-01","2013-04-01",31,152]
[6,"6 - 12 ธ.ค. 55",{"$f":"IF(B12<>\"\",SUM(OFFSET(ROS!$J$9,$Q$2+((A12-1)*7),0,7,1)),\"\")","v":{"$error":"#N/A"}},{"$f":"IF(C12<>\"\",SUM(OFFSET(ROS!$C$9,$Q$2+((A12-1)*7),0,7,1)),\"\")","v":{"$error":"#N/A"}},{"$f":"IF(C12<>\"\",SUM(OFFSET(ROS!$E$9,$Q$2+((A12-1)*7),0,7,1)),\"\")","v":{"$error":"#N/A"}},{"$f":"IF(C12<>\"\",SUM(OFFSET(ROS!$F$9,$Q$2+((A12-1)*7),0,7,1)),\"\")","v":{"$error":"#N/A"}},{"$f":"IF(C12<>\"\",SUM(OFFSET(ROS!$D$9,$Q$2+((A12-1)*7),0,7,1)),\"\")","v":{"$error":"#N/A"}},{"$error":"#N/A"},"2013-03-01","=",{"$f":"IF(AG11>0,SUM(OFFSET(ROS!$K$9,AH10,0,AG11,1)),\"\")","v":{"$error":"#N/A"}},null,null,null,null,null,41249,41255,null,6,"ธ.ค.",55,12,"ธ.ค.",55,"6 - 12 ธ.ค. 55",6,"มิ.ย.","2013-04-01",null,"2013-04-01",{"$f":"IF(AE12<>\"\",IF(DATE(YEAR(AC12),MONTH(AC12)+1,1)<$O$3,DATE(YEAR(AC12),MONTH(AC12)+1,1),$O$3+1),\"\")","v":"2013-05-01"},30,182]
[7,"13 - 19 ธ.ค. 55",{"$f":"IF(B13<>\"\",SUM(OFFSET(ROS!$J$9,$Q$2+((A13-1)*7),0,7,1)),\"\")","v":{"$error":"#N/A"}},{"$f":"IF(C13<>\"\",SUM(OFFSET(ROS!$C$9,$Q$2+((A13-1)*7),0,7,1)),\"\")","v":{"$error":"#N/A"}},{"$f":"IF(C13<>\"\",SUM(OFFSET(ROS!$E$9,$Q$2+((A13-1)*7),0,7,1)),\"\")","v":{"$error":"#N/A"}},{"$f":"IF(C13<>\"\",SUM(OFFSET(ROS!$F$9,$Q$2+((A13-1)*7),0,7,1)),\"\")","v":{"$error":"#N/A"}},{"$f":"IF(C13<>\"\",SUM(OFFSET(ROS!$D$9,$Q$2+((A13-1)*7),0,7,1)),\"\")","v":{"$error":"#N/A"}},{"$error":"#N/A"},"2013-04-01","=",{"$f":"IF(AG12>0,SUM(OFFSET(ROS!$K$9,AH11,0,AG12,1)),\"\")","v":{"$error":"#N/A"}},null,null,null,null,null,41256,41262,null,13,"ธ.ค.",55,19,"ธ.ค.",55,"13 - 19 ธ.ค. 55",7,"ก.ค.","2013-05-01",null,"2013-05-01","2013-06-01",31,213]
[8,"20 - 26 ธ.ค. 55",{"$f":"IF(B14<>\"\",SUM(OFFSET(ROS!$J$9,$Q$2+((A14-1)*7),0,7,1)),\"\")","v":{"$error":"#N/A"}},{"$f":"IF(C14<>\"\",SUM(OFFSET(ROS!$C$9,$Q$2+((A14-1)*7),0,7,1)),\"\")","v":{"$error":"#N/A"}},{"$f":"IF(C14<>\"\",SUM(OFFSET(ROS!$E$9,$Q$2+((A14-1)*7),0,7,1)),\"\")","v":{"$error":"#N/A"}},{"$f":"IF(C14<>\"\",SUM(OFFSET(ROS!$F$9,$Q$2+((A14-1)*7),0,7,1)),\"\")","v":{"$error":"#N/A"}},{"$f":"IF(C14<>\"\",SUM(OFFSET(ROS!$D$9,$Q$2+((A14-1)*7),0,7,1)),\"\")","v":{"$error":"#N/A"}},{"$error":"#N/A"},"2013-05-01","=",{"$f":"IF(AG13>0,SUM(OFFSET(ROS!$K$9,AH12,0,AG13,1)),\"\")","v":{"$error":"#N/A"}},null,null,null,null,null,41263,41269,null,20,"ธ.ค.",55,26,"ธ.ค.",55,"20 - 26 ธ.ค. 55",8,"ส.ค.","2013-06-01",null,{"$f":"IF(AF13<>$O$3,AF13,\"\")","v":"2013-06-01"},"2013-07-01",30,243]
[9,"27 ธ.ค. 55 - 2 ม.ค.56",{"$f":"IF(B15<>\"\",SUM(OFFSET(ROS!$J$9,$Q$2+((A15-1)*7),0,7,1)),\"\")","v":{"$error":"#N/A"}},{"$f":"IF(C15<>\"\",SUM(OFFSET(ROS!$C$9,$Q$2+((A15-1)*7),0,7,1)),\"\")","v":{"$error":"#N/A"}},{"$f":"IF(C15<>\"\",SUM(OFFSET(ROS!$E$9,$Q$2+((A15-1)*7),0,7,1)),\"\")","v":{"$error":"#N/A"}},{"$f":"IF(C15<>\"\",SUM(OFFSET(ROS!$F$9,$Q$2+((A15-1)*7),0,7,1)),\"\")","v":{"$error":"#N/A"}},{"$f":"IF(C15<>\"\",SUM(OFFSET(ROS!$D$9,$Q$2+((A15-1)*7),0,7,1)),\"\")","v":{"$error":"#N/A"}},{"$error":"#N/A"},"2013-06-01","=",{"$f":"IF(AG14>0,SUM(OFFSET(ROS!$K$9,AH13,0,AG14,1)),\"\")","v":{"$error":"#N/A"}},null,null,null,null,null,41270,41276,null,27,"ธ.ค.",55,2,"ม.ค.",56,"27 ธ.ค. 55 - 2 ม.ค.56",9,"ก.ย.","2013-07-01",null,{"$f":"IF(AF14<>$O$3,AF14,\"\")","v":"2013-07-01"},"2013-08-01",31,274]
[10,"3 - 9 ม.ค. 56",{"$f":"IF(B16<>\"\",SUM(OFFSET(ROS!$J$9,$Q$2+((A16-1)*7),0,7,1)),\"\")","v":{"$error":"#N/A"}},{"$f":"IF(C16<>\"\",SUM(OFFSET(ROS!$C$9,$Q$2+((A16-1)*7),0,7,1)),\"\")","v":{"$error":"#N/A"}},{"$f":"IF(C16<>\"\",SUM(OFFSET(ROS!$E$9,$Q$2+((A16-1)*7),0,7,1)),\"\")","v":{"$error":"#N/A"}},{"$f":"IF(C16<>\"\",SUM(OFFSET(ROS!$F$9,$Q$2+((A16-1)*7),0,7,1)),\"\")","v":{"$error":"#N/A"}},{"$f":"IF(C16<>\"\",SUM(OFFSET(ROS!$D$9,$Q$2+((A16-1)*7),0,7,1)),\"\")","v":{"$error":"#N/A"}},{"$error":"#N/A"},"2013-07-01","=",{"$f":"IF(AG15>0,SUM(OFFSET(ROS!$K$9,AH14,0,AG15,1)),\"\")","v":{"$error":"#N/A"}},null,null,null,null,null,41277,41283,null,3,"ม.ค.",56,9,"ม.ค.",56,"3 - 9 ม.ค. 56",10,"ต.ค.","2013-08-01",null,{"$f":"IF(AF15<>$O$3,AF15,\"\")","v":"2013-08-01"},"2013-09-01",31,305]
[11,"10 - 16 ม.ค. 56",{"$f":"IF(B17<>\"\",SUM(OFFSET(ROS!$J$9,$Q$2+((A17-1)*7),0,7,1)),\"\")","v":{"$error":"#N/A"}},{"$f":"IF(C17<>\"\",SUM(OFFSET(ROS!$C$9,$Q$2+((A17-1)*7),0,7,1)),\"\")","v":{"$error":"#N/A"}},{"$f":"IF(C17<>\"\",SUM(OFFSET(ROS!$E$9,$Q$2+((A17-1)*7),0,7,1)),\"\")","v":{"$error":"#N/A"}},{"$f":"IF(C17<>\"\",SUM(OFFSET(ROS!$F$9,$Q$2+((A17-1)*7),0,7,1)),\"\")","v":{"$error":"#N/A"}},{"$f":"IF(C17<>\"\",SUM(OFFSET(ROS!$D$9,$Q$2+((A17-1)*7),0,7,1)),\"\")","v":{"$error":"#N/A"}},{"$error":"#N/A"},"2013-08-01","=",{"$f":"IF(AG16>0,SUM(OFFSET(ROS!$K$9,AH15,0,AG16,1)),\"\")","v":{"$error":"#N/A"}},null,null,null,null,null,41284,41290,null,10,"ม.ค.",56,16,"ม.ค.",56,"10 - 16 ม.ค. 56",11,"พ.ย.","2013-09-01",null,{"$f":"IF(AF16<>$O$3,AF16,\"\")","v":"2013-09-01"},"2013-10-01",30,335]
[12,"17 - 23 ม.ค. 56",{"$f":"IF(B18<>\"\",SUM(OFFSET(ROS!$J$9,$Q$2+((A18-1)*7),0,7,1)),\"\")","v":{"$error":"#N/A"}},{"$f":"IF(C18<>\"\",SUM(OFFSET(ROS!$C$9,$Q$2+((A18-1)*7),0,7,1)),\"\")","v":{"$error":"#N/A"}},{"$f":"IF(C18<>\"\",SUM(OFFSET(ROS!$E$9,$Q$2+((A18-1)*7),0,7,1)),\"\")","v":{"$error":"#N/A"}},{"$f":"IF(C18<>\"\",SUM(OFFSET(ROS!$F$9,$Q$2+((A18-1)*7),0,7,1)),\"\")","v":{"$error":"#N/A"}},{"$f":"IF(C18<>\"\",SUM(OFFSET(ROS!$D$9,$Q$2+((A18-1)*7),0,7,1)),\"\")","v":{"$error":"#N/A"}},{"$error":"#N/A"},"2013-09-01","=",{"$f":"IF(AG17>0,SUM(OFFSET(ROS!$K$9,AH16,0,AG17,1)),\"\")","v":{"$error":"#N/A"}},null,null,null,null,null,41291,41297,null,17,"ม.ค.",56,23,"ม.ค.",56,"17 - 23 ม.ค. 56",12,"ธ.ค.",{"$f":"DATE(YEAR(AC17),MONTH(AC17)+1,1)","v":"2013-10-01"},null,{"$f":"IF(AF17<>$O$3,AF17,\"\")","v":"2013-10-01"},{"$f":"IF(AE18<>\"\",IF(DATE(YEAR(AC18),MONTH(AC18)+1,1)<$O$3,DATE(YEAR(AC18),MONTH(AC18)+1,1),$O$3+1),\"\")","v":"2013-11-01"},{"$f":"IF(AE18<>\"\",AF18-AE18,-1)","v":31},{"$f":"+AH17+AG18","v":366}]
[13,"24 - 30 ม.ค. 56",{"$f":"IF(B19<>\"\",SUM(OFFSET(ROS!$J$9,$Q$2+((A19-1)*7),0,7,1)),\"\")","v":{"$error":"#N/A"}},{"$f":"IF(C19<>\"\",SUM(OFFSET(ROS!$C$9,$Q$2+((A19-1)*7),0,7,1)),\"\")","v":{"$error":"#N/A"}},{"$f":"IF(C19<>\"\",SUM(OFFSET(ROS!$E$9,$Q$2+((A19-1)*7),0,7,1)),\"\")","v":{"$error":"#N/A"}},{"$f":"IF(C19<>\"\",SUM(OFFSET(ROS!$F$9,$Q$2+((A19-1)*7),0,7,1)),\"\")","v":{"$error":"#N/A"}},{"$f":"IF(C19<>\"\",SUM(OFFSET(ROS!$D$9,$Q$2+((A19-1)*7),0,7,1)),\"\")","v":{"$error":"#N/A"}},{"$error":"#N/A"},"2013-10-01","=",{"$f":"IF(AG18>0,SUM(OFFSET(ROS!$K$9,AH17,0,AG18,1)),\"\")","v":{"$error":"#N/A"}},null,null,null,null,null,41298,41304,null,24,"ม.ค.",56,30,"ม.ค.",56,"24 - 30 ม.ค. 56"]
[14,"31 ม.ค. - 6 ก.พ.56",{"$f":"IF(B20<>\"\",SUM(OFFSET(ROS!$J$9,$Q$2+((A20-1)*7),0,7,1)),\"\")","v":{"$error":"#N/A"}},{"$f":"IF(C20<>\"\",SUM(OFFSET(ROS!$C$9,$Q$2+((A20-1)*7),0,7,1)),\"\")","v":{"$error":"#N/A"}},{"$f":"IF(C20<>\"\",SUM(OFFSET(ROS!$E$9,$Q$2+((A20-1)*7),0,7,1)),\"\")","v":{"$error":"#N/A"}},{"$f":"IF(C20<>\"\",SUM(OFFSET(ROS!$F$9,$Q$2+((A20-1)*7),0,7,1)),\"\")","v":{"$error":"#N/A"}},{"$f":"IF(C20<>\"\",SUM(OFFSET(ROS!$D$9,$Q$2+((A20-1)*7),0,7,1)),\"\")","v":{"$error":"#N/A"}},{"$error":"#N/A"},"รวม",null,{"$f":"SUM(K8:K19)","v":{"$error":"#N/A"}},null,null,null,null,null,41305,41311,null,31,"ม.ค.",56,6,"ก.พ.",56,"31 ม.ค. - 6 ก.พ.56"]
[15,"7 - 13 ก.พ. 56",{"$f":"IF(B21<>\"\",SUM(OFFSET(ROS!$J$9,$Q$2+((A21-1)*7),0,7,1)),\"\")","v":{"$error":"#N/A"}},{"$f":"IF(C21<>\"\",SUM(OFFSET(ROS!$C$9,$Q$2+((A21-1)*7),0,7,1)),\"\")","v":{"$error":"#N/A"}},{"$f":"IF(C21<>\"\",SUM(OFFSET(ROS!$E$9,$Q$2+((A21-1)*7),0,7,1)),\"\")","v":{"$error":"#N/A"}},{"$f":"IF(C21<>\"\",SUM(OFFSET(ROS!$F$9,$Q$2+((A21-1)*7),0,7,1)),\"\")","v":{"$error":"#N/A"}},{"$f":"IF(C21<>\"\",SUM(OFFSET(ROS!$D$9,$Q$2+((A21-1)*7),0,7,1)),\"\")","v":{"$error":"#N/A"}},{"$error":"#N/A"},null,null,null,null,null,null,null,null,41312,41318,null,7,"ก.พ.",56,13,"ก.พ.",56,"7 - 13 ก.พ. 56"]
[16,"14 - 20 ก.พ. 56",{"$f":"IF(B22<>\"\",SUM(OFFSET(ROS!$J$9,$Q$2+((A22-1)*7),0,7,1)),\"\")","v":{"$error":"#N/A"}},{"$f":"IF(C22<>\"\",SUM(OFFSET(ROS!$C$9,$Q$2+((A22-1)*7),0,7,1)),\"\")","v":{"$error":"#N/A"}},{"$f":"IF(C22<>\"\",SUM(OFFSET(ROS!$E$9,$Q$2+((A22-1)*7),0,7,1)),\"\")","v":{"$error":"#N/A"}},{"$f":"IF(C22<>\"\",SUM(OFFSET(ROS!$F$9,$Q$2+((A22-1)*7),0,7,1)),\"\")","v":{"$error":"#N/A"}},{"$f":"IF(C22<>\"\",SUM(OFFSET(ROS!$D$9,$Q$2+((A22-1)*7),0,7,1)),\"\")","v":{"$error":"#N/A"}},{"$error":"#N/A"},null,null,null,null,null,null,null,null,41319,41325,null,14,"ก.พ.",56,20,"ก.พ.",56,"14 - 20 ก.พ. 56"]
[17,"21 - 27 ก.พ. 56",{"$f":"IF(B23<>\"\",SUM(OFFSET(ROS!$J$9,$Q$2+((A23-1)*7),0,7,1)),\"\")","v":{"$error":"#N/A"}},{"$f":"IF(C23<>\"\",SUM(OFFSET(ROS!$C$9,$Q$2+((A23-1)*7),0,7,1)),\"\")","v":{"$error":"#N/A"}},{"$f":"IF(C23<>\"\",SUM(OFFSET(ROS!$E$9,$Q$2+((A23-1)*7),0,7,1)),\"\")","v":{"$error":"#N/A"}},{"$f":"IF(C23<>\"\",SUM(OFFSET(ROS!$F$9,$Q$2+((A23-1)*7),0,7,1)),\"\")","v":{"$error":"#N/A"}},{"$f":"IF(C23<>\"\",SUM(OFFSET(ROS!$D$9,$Q$2+((A23-1)*7),0,7,1)),\"\")","v":{"$error":"#N/A"}},{"$error":"#N/A"},null,null,null,null,null,null,null,null,41326,41332,null,21,"ก.พ.",56,27,"ก.พ.",56,"21 - 27 ก.พ. 56"]
[18,"28 ก.พ. - 6 มี.ค.56",{"$f":"IF(B24<>\"\",SUM(OFFSET(ROS!$J$9,$Q$2+((A24-1)*7),0,7,1)),\"\")","v":{"$error":"#N/A"}},{"$f":"IF(C24<>\"\",SUM(OFFSET(ROS!$C$9,$Q$2+((A24-1)*7),0,7,1)),\"\")","v":{"$error":"#N/A"}},{"$f":"IF(C24<>\"\",SUM(OFFSET(ROS!$E$9,$Q$2+((A24-1)*7),0,7,1)),\"\")","v":{"$error":"#N/A"}},{"$f":"IF(C24<>\"\",SUM(OFFSET(ROS!$F$9,$Q$2+((A24-1)*7),0,7,1)),\"\")","v":{"$error":"#N/A"}},{"$f":"IF(C24<>\"\",SUM(OFFSET(ROS!$D$9,$Q$2+((A24-1)*7),0,7,1)),\"\")","v":{"$error":"#N/A"}},{"$error":"#N/A"},null,null,null,null,null,null,null,null,41333,41339,null,28,"ก.พ.",56,6,"มี.ค.",56,"28 ก.พ. - 6 มี.ค.56"]
[19,"7 - 13 มี.ค. 56",{"$f":"IF(B25<>\"\",SUM(OFFSET(ROS!$J$9,$Q$2+((A25-1)*7),0,7,1)),\"\")","v":{"$error":"#N/A"}},{"$f":"IF(C25<>\"\",SUM(OFFSET(ROS!$C$9,$Q$2+((A25-1)*7),0,7,1)),\"\")","v":{"$error":"#N/A"}},{"$f":"IF(C25<>\"\",SUM(OFFSET(ROS!$E$9,$Q$2+((A25-1)*7),0,7,1)),\"\")","v":{"$error":"#N/A"}},{"$f":"IF(C25<>\"\",SUM(OFFSET(ROS!$F$9,$Q$2+((A25-1)*7),0,7,1)),\"\")","v":{"$error":"#N/A"}},{"$f":"IF(C25<>\"\",SUM(OFFSET(ROS!$D$9,$Q$2+((A25-1)*7),0,7,1)),\"\")","v":{"$error":"#N/A"}},{"$error":"#N/A"},null,null,null,null,null,null,null,null,41340,41346,null,7,"มี.ค.",56,13,"มี.ค.",56,"7 - 13 มี.ค. 56"]
[20,"14 - 20 มี.ค. 56",{"$f":"IF(B26<>\"\",SUM(OFFSET(ROS!$J$9,$Q$2+((A26-1)*7),0,7,1)),\"\")","v":{"$error":"#N/A"}},{"$f":"IF(C26<>\"\",SUM(OFFSET(ROS!$C$9,$Q$2+((A26-1)*7),0,7,1)),\"\")","v":{"$error":"#N/A"}},{"$f":"IF(C26<>\"\",SUM(OFFSET(ROS!$E$9,$Q$2+((A26-1)*7),0,7,1)),\"\")","v":{"$error":"#N/A"}},{"$f":"IF(C26<>\"\",SUM(OFFSET(ROS!$F$9,$Q$2+((A26-1)*7),0,7,1)),\"\")","v":{"$error":"#N/A"}},{"$f":"IF(C26<>\"\",SUM(OFFSET(ROS!$D$9,$Q$2+((A26-1)*7),0,7,1)),\"\")","v":{"$error":"#N/A"}},{"$error":"#N/A"},null,null,null,null,null,null,null,null,41347,41353,null,14,"มี.ค.",56,20,"มี.ค.",56,"14 - 20 มี.ค. 56"]
[21,"21 - 27 มี.ค. 56",{"$f":"IF(B27<>\"\",SUM(OFFSET(ROS!$J$9,$Q$2+((A27-1)*7),0,7,1)),\"\")","v":{"$error":"#N/A"}},{"$f":"IF(C27<>\"\",SUM(OFFSET(ROS!$C$9,$Q$2+((A27-1)*7),0,7,1)),\"\")","v":{"$error":"#N/A"}},{"$f":"IF(C27<>\"\",SUM(OFFSET(ROS!$E$9,$Q$2+((A27-1)*7),0,7,1)),\"\")","v":{"$error":"#N/A"}},{"$f":"IF(C27<>\"\",SUM(OFFSET(ROS!$F$9,$Q$2+((A27-1)*7),0,7,1)),\"\")","v":{"$error":"#N/A"}},{"$f":"IF(C27<>\"\",SUM(OFFSET(ROS!$D$9,$Q$2+((A27-1)*7),0,7,1)),\"\")","v":{"$error":"#N/A"}},{"$error":"#N/A"},null,null,null,null,null,null,null,null,41354,41360,null,21,"มี.ค.",56,27,"มี.ค.",56,"21 - 27 มี.ค. 56"]
[22,"28 มี.ค. - 3 เม.ย.56",{"$f":"IF(B28<>\"\",SUM(OFFSET(ROS!$J$9,$Q$2+((A28-1)*7),0,7,1)),\"\")","v":{"$error":"#N/A"}},{"$f":"IF(C28<>\"\",SUM(OFFSET(ROS!$C$9,$Q$2+((A28-1)*7),0,7,1)),\"\")","v":{"$error":"#N/A"}},{"$f":"IF(C28<>\"\",SUM(OFFSET(ROS!$E$9,$Q$2+((A28-1)*7),0,7,1)),\"\")","v":{"$error":"#N/A"}},{"$f":"IF(C28<>\"\",SUM(OFFSET(ROS!$F$9,$Q$2+((A28-1)*7),0,7,1)),\"\")","v":{"$error":"#N/A"}},{"$f":"IF(C28<>\"\",SUM(OFFSET(ROS!$D$9,$Q$2+((A28-1)*7),0,7,1)),\"\")","v":{"$error":"#N/A"}},{"$error":"#N/A"},null,null,null,null,null,null,null,null,41361,41367,null,28,"มี.ค.",56,3,"เม.ย.",56,"28 มี.ค. - 3 เม.ย.56"]
[23,"4 - 10 เม.ย. 56",{"$f":"IF(B29<>\"\",SUM(OFFSET(ROS!$J$9,$Q$2+((A29-1)*7),0,7,1)),\"\")","v":{"$error":"#N/A"}},{"$f":"IF(C29<>\"\",SUM(OFFSET(ROS!$C$9,$Q$2+((A29-1)*7),0,7,1)),\"\")","v":{"$error":"#N/A"}},{"$f":"IF(C29<>\"\",SUM(OFFSET(ROS!$E$9,$Q$2+((A29-1)*7),0,7,1)),\"\")","v":{"$error":"#N/A"}},{"$f":"IF(C29<>\"\",SUM(OFFSET(ROS!$F$9,$Q$2+((A29-1)*7),0,7,1)),\"\")","v":{"$error":"#N/A"}},{"$f":"IF(C29<>\"\",SUM(OFFSET(ROS!$D$9,$Q$2+((A29-1)*7),0,7,1)),\"\")","v":{"$error":"#N/A"}},{"$error":"#N/A"},null,null,null,null,null,null,null,null,41368,41374,null,4,"เม.ย.",56,10,"เม.ย.",56,"4 - 10 เม.ย. 56"]
[24,"11 - 17 เม.ย. 56",{"$f":"IF(B30<>\"\",SUM(OFFSET(ROS!$J$9,$Q$2+((A30-1)*7),0,7,1)),\"\")","v":{"$error":"#N/A"}},{"$f":"IF(C30<>\"\",SUM(OFFSET(ROS!$C$9,$Q$2+((A30-1)*7),0,7,1)),\"\")","v":{"$error":"#N/A"}},{"$f":"IF(C30<>\"\",SUM(OFFSET(ROS!$E$9,$Q$2+((A30-1)*7),0,7,1)),\"\")","v":{"$error":"#N/A"}},{"$f":"IF(C30<>\"\",SUM(OFFSET(ROS!$F$9,$Q$2+((A30-1)*7),0,7,1)),\"\")","v":{"$error":"#N/A"}},{"$f":"IF(C30<>\"\",SUM(OFFSET(ROS!$D$9,$Q$2+((A30-1)*7),0,7,1)),\"\")","v":{"$error":"#N/A"}},{"$error":"#N/A"},null,null,null,null,null,null,null,null,41375,41381,null,11,"เม.ย.",56,17,"เม.ย.",56,"11 - 17 เม.ย. 56"]
[25,"18 - 24 เม.ย. 56",{"$f":"IF(B31<>\"\",SUM(OFFSET(ROS!$J$9,$Q$2+((A31-1)*7),0,7,1)),\"\")","v":{"$error":"#N/A"}},{"$f":"IF(C31<>\"\",SUM(OFFSET(ROS!$C$9,$Q$2+((A31-1)*7),0,7,1)),\"\")","v":{"$error":"#N/A"}},{"$f":"IF(C31<>\"\",SUM(OFFSET(ROS!$E$9,$Q$2+((A31-1)*7),0,7,1)),\"\")","v":{"$error":"#N/A"}},{"$f":"IF(C31<>\"\",SUM(OFFSET(ROS!$F$9,$Q$2+((A31-1)*7),0,7,1)),\"\")","v":{"$error":"#N/A"}},{"$f":"IF(C31<>\"\",SUM(OFFSET(ROS!$D$9,$Q$2+((A31-1)*7),0,7,1)),\"\")","v":{"$error":"#N/A"}},{"$error":"#N/A"},null,null,null,null,null,null,null,null,41382,41388,null,18,"เม.ย.",56,24,"เม.ย.",56,"18 - 24 เม.ย. 56"]
[26,"25 เม.ย. - 1 พ.ค.56",{"$f":"IF(B32<>\"\",SUM(OFFSET(ROS!$J$9,$Q$2+((A32-1)*7),0,7,1)),\"\")","v":{"$error":"#N/A"}},{"$f":"IF(C32<>\"\",SUM(OFFSET(ROS!$C$9,$Q$2+((A32-1)*7),0,7,1)),\"\")","v":{"$error":"#N/A"}},{"$f":"IF(C32<>\"\",SUM(OFFSET(ROS!$E$9,$Q$2+((A32-1)*7),0,7,1)),\"\")","v":{"$error":"#N/A"}},{"$f":"IF(C32<>\"\",SUM(OFFSET(ROS!$F$9,$Q$2+((A32-1)*7),0,7,1)),\"\")","v":{"$error":"#N/A"}},{"$f":"IF(C32<>\"\",SUM(OFFSET(ROS!$D$9,$Q$2+((A32-1)*7),0,7,1)),\"\")","v":{"$error":"#N/A"}},{"$error":"#N/A"},null,null,null,null,null,null,null,null,41389,41395,null,25,"เม.ย.",56,1,"พ.ค.",56,"25 เม.ย. - 1 พ.ค.56"]
[27,"2 - 8 พ.ค. 56",{"$f":"IF(B33<>\"\",SUM(OFFSET(ROS!$J$9,$Q$2+((A33-1)*7),0,7,1)),\"\")","v":{"$error":"#N/A"}},{"$f":"IF(C33<>\"\",SUM(OFFSET(ROS!$C$9,$Q$2+((A33-1)*7),0,7,1)),\"\")","v":{"$error":"#N/A"}},{"$f":"IF(C33<>\"\",SUM(OFFSET(ROS!$E$9,$Q$2+((A33-1)*7),0,7,1)),\"\")","v":{"$error":"#N/A"}},{"$f":"IF(C33<>\"\",SUM(OFFSET(ROS!$F$9,$Q$2+((A33-1)*7),0,7,1)),\"\")","v":{"$error":"#N/A"}},{"$f":"IF(C33<>\"\",SUM(OFFSET(ROS!$D$9,$Q$2+((A33-1)*7),0,7,1)),\"\")","v":{"$error":"#N/A"}},{"$error":"#N/A"},null,null,null,null,null,null,null,null,41396,41402,null,2,"พ.ค.",56,8,"พ.ค.",56,"2 - 8 พ.ค. 56"]
[28,"9 - 15 พ.ค. 56",{"$f":"IF(B34<>\"\",SUM(OFFSET(ROS!$J$9,$Q$2+((A34-1)*7),0,7,1)),\"\")","v":{"$error":"#N/A"}},{"$f":"IF(C34<>\"\",SUM(OFFSET(ROS!$C$9,$Q$2+((A34-1)*7),0,7,1)),\"\")","v":{"$error":"#N/A"}},{"$f":"IF(C34<>\"\",SUM(OFFSET(ROS!$E$9,$Q$2+((A34-1)*7),0,7,1)),\"\")","v":{"$error":"#N/A"}},{"$f":"IF(C34<>\"\",SUM(OFFSET(ROS!$F$9,$Q$2+((A34-1)*7),0,7,1)),\"\")","v":{"$error":"#N/A"}},{"$f":"IF(C34<>\"\",SUM(OFFSET(ROS!$D$9,$Q$2+((A34-1)*7),0,7,1)),\"\")","v":{"$error":"#N/A"}},{"$error":"#N/A"},null,null,null,null,null,null,null,null,41403,41409,null,9,"พ.ค.",56,15,"พ.ค.",56,"9 - 15 พ.ค. 56"]
[29,"16 - 22 พ.ค. 56",{"$f":"IF(B35<>\"\",SUM(OFFSET(ROS!$J$9,$Q$2+((A35-1)*7),0,7,1)),\"\")","v":{"$error":"#N/A"}},{"$f":"IF(C35<>\"\",SUM(OFFSET(ROS!$C$9,$Q$2+((A35-1)*7),0,7,1)),\"\")","v":{"$error":"#N/A"}},{"$f":"IF(C35<>\"\",SUM(OFFSET(ROS!$E$9,$Q$2+((A35-1)*7),0,7,1)),\"\")","v":{"$error":"#N/A"}},{"$f":"IF(C35<>\"\",SUM(OFFSET(ROS!$F$9,$Q$2+((A35-1)*7),0,7,1)),\"\")","v":{"$error":"#N/A"}},{"$f":"IF(C35<>\"\",SUM(OFFSET(ROS!$D$9,$Q$2+((A35-1)*7),0,7,1)),\"\")","v":{"$error":"#N/A"}},{"$error":"#N/A"},null,null,null,null,null,null,null,null,41410,41416,null,16,"พ.ค.",56,22,"พ.ค.",56,"16 - 22 พ.ค. 56"]
[30,"23 - 29 พ.ค. 56",{"$f":"IF(B36<>\"\",SUM(OFFSET(ROS!$J$9,$Q$2+((A36-1)*7),0,7,1)),\"\")","v":{"$error":"#N/A"}},{"$f":"IF(C36<>\"\",SUM(OFFSET(ROS!$C$9,$Q$2+((A36-1)*7),0,7,1)),\"\")","v":{"$error":"#N/A"}},{"$f":"IF(C36<>\"\",SUM(OFFSET(ROS!$E$9,$Q$2+((A36-1)*7),0,7,1)),\"\")","v":{"$error":"#N/A"}},{"$f":"IF(C36<>\"\",SUM(OFFSET(ROS!$F$9,$Q$2+((A36-1)*7),0,7,1)),\"\")","v":{"$error":"#N/A"}},{"$f":"IF(C36<>\"\",SUM(OFFSET(ROS!$D$9,$Q$2+((A36-1)*7),0,7,1)),\"\")","v":{"$error":"#N/A"}},{"$error":"#N/A"},null,null,null,null,null,null,null,null,41417,41423,null,23,"พ.ค.",56,29,"พ.ค.",56,"23 - 29 พ.ค. 56"]
[31,"30 พ.ค. - 5 มิ.ย.56",{"$f":"IF(B37<>\"\",SUM(OFFSET(ROS!$J$9,$Q$2+((A37-1)*7),0,7,1)),\"\")","v":{"$error":"#N/A"}},{"$f":"IF(C37<>\"\",SUM(OFFSET(ROS!$C$9,$Q$2+((A37-1)*7),0,7,1)),\"\")","v":{"$error":"#N/A"}},{"$f":"IF(C37<>\"\",SUM(OFFSET(ROS!$E$9,$Q$2+((A37-1)*7),0,7,1)),\"\")","v":{"$error":"#N/A"}},{"$f":"IF(C37<>\"\",SUM(OFFSET(ROS!$F$9,$Q$2+((A37-1)*7),0,7,1)),\"\")","v":{"$error":"#N/A"}},{"$f":"IF(C37<>\"\",SUM(OFFSET(ROS!$D$9,$Q$2+((A37-1)*7),0,7,1)),\"\")","v":{"$error":"#N/A"}},{"$error":"#N/A"},null,null,null,null,null,null,null,null,41424,41430,null,30,"พ.ค.",56,5,"มิ.ย.",56,"30 พ.ค. - 5 มิ.ย.56"]
[32,"6 - 12 มิ.ย. 56",{"$f":"IF(B38<>\"\",SUM(OFFSET(ROS!$J$9,$Q$2+((A38-1)*7),0,7,1)),\"\")","v":{"$error":"#N/A"}},{"$f":"IF(C38<>\"\",SUM(OFFSET(ROS!$C$9,$Q$2+((A38-1)*7),0,7,1)),\"\")","v":{"$error":"#N/A"}},{"$f":"IF(C38<>\"\",SUM(OFFSET(ROS!$E$9,$Q$2+((A38-1)*7),0,7,1)),\"\")","v":{"$error":"#N/A"}},{"$f":"IF(C38<>\"\",SUM(OFFSET(ROS!$F$9,$Q$2+((A38-1)*7),0,7,1)),\"\")","v":{"$error":"#N/A"}},{"$f":"IF(C38<>\"\",SUM(OFFSET(ROS!$D$9,$Q$2+((A38-1)*7),0,7,1)),\"\")","v":{"$error":"#N/A"}},{"$error":"#N/A"},null,null,null,null,null,null,null,null,41431,41437,null,6,"มิ.ย.",56,12,"มิ.ย.",56,"6 - 12 มิ.ย. 56"]
[33,"13 - 19 มิ.ย. 56",{"$f":"IF(B39<>\"\",SUM(OFFSET(ROS!$J$9,$Q$2+((A39-1)*7),0,7,1)),\"\")","v":{"$error":"#N/A"}},{"$f":"IF(C39<>\"\",SUM(OFFSET(ROS!$C$9,$Q$2+((A39-1)*7),0,7,1)),\"\")","v":{"$error":"#N/A"}},{"$f":"IF(C39<>\"\",SUM(OFFSET(ROS!$E$9,$Q$2+((A39-1)*7),0,7,1)),\"\")","v":{"$error":"#N/A"}},{"$f":"IF(C39<>\"\",SUM(OFFSET(ROS!$F$9,$Q$2+((A39-1)*7),0,7,1)),\"\")","v":{"$error":"#N/A"}},{"$f":"IF(C39<>\"\",SUM(OFFSET(ROS!$D$9,$Q$2+((A39-1)*7),0,7,1)),\"\")","v":{"$error":"#N/A"}},{"$error":"#N/A"},null,null,null,null,null,null,null,null,41438,41444,null,13,"มิ.ย.",56,19,"มิ.ย.",56,"13 - 19 มิ.ย. 56"]
[34,"20 - 26 มิ.ย. 56",{"$f":"IF(B40<>\"\",SUM(OFFSET(ROS!$J$9,$Q$2+((A40-1)*7),0,7,1)),\"\")","v":{"$error":"#N/A"}},{"$f":"IF(C40<>\"\",SUM(OFFSET(ROS!$C$9,$Q$2+((A40-1)*7),0,7,1)),\"\")","v":{"$error":"#N/A"}},{"$f":"IF(C40<>\"\",SUM(OFFSET(ROS!$E$9,$Q$2+((A40-1)*7),0,7,1)),\"\")","v":{"$error":"#N/A"}},{"$f":"IF(C40<>\"\",SUM(OFFSET(ROS!$F$9,$Q$2+((A40-1)*7),0,7,1)),\"\")","v":{"$error":"#N/A"}},{"$f":"IF(C40<>\"\",SUM(OFFSET(ROS!$D$9,$Q$2+((A40-1)*7),0,7,1)),\"\")","v":{"$error":"#N/A"}},{"$error":"#N/A"},null,null,null,null,null,null,null,null,41445,41451,null,20,"มิ.ย.",56,26,"มิ.ย.",56,"20 - 26 มิ.ย. 56"]
[35,"27 มิ.ย. - 3 ก.ค.56",{"$f":"IF(B41<>\"\",SUM(OFFSET(ROS!$J$9,$Q$2+((A41-1)*7),0,7,1)),\"\")","v":{"$error":"#N/A"}},{"$f":"IF(C41<>\"\",SUM(OFFSET(ROS!$C$9,$Q$2+((A41-1)*7),0,7,1)),\"\")","v":{"$error":"#N/A"}},{"$f":"IF(C41<>\"\",SUM(OFFSET(ROS!$E$9,$Q$2+((A41-1)*7),0,7,1)),\"\")","v":{"$error":"#N/A"}},{"$f":"IF(C41<>\"\",SUM(OFFSET(ROS!$F$9,$Q$2+((A41-1)*7),0,7,1)),\"\")","v":{"$error":"#N/A"}},{"$f":"IF(C41<>\"\",SUM(OFFSET(ROS!$D$9,$Q$2+((A41-1)*7),0,7,1)),\"\")","v":{"$error":"#N/A"}},{"$error":"#N/A"},null,null,null,null,null,null,null,null,41452,41458,null,27,"มิ.ย.",56,3,"ก.ค.",56,"27 มิ.ย. - 3 ก.ค.56"]
[36,"4 - 10 ก.ค. 56",{"$f":"IF(B42<>\"\",SUM(OFFSET(ROS!$J$9,$Q$2+((A42-1)*7),0,7,1)),\"\")","v":{"$error":"#N/A"}},{"$f":"IF(C42<>\"\",SUM(OFFSET(ROS!$C$9,$Q$2+((A42-1)*7),0,7,1)),\"\")","v":{"$error":"#N/A"}},{"$f":"IF(C42<>\"\",SUM(OFFSET(ROS!$E$9,$Q$2+((A42-1)*7),0,7,1)),\"\")","v":{"$error":"#N/A"}},{"$f":"IF(C42<>\"\",SUM(OFFSET(ROS!$F$9,$Q$2+((A42-1)*7),0,7,1)),\"\")","v":{"$error":"#N/A"}},{"$f":"IF(C42<>\"\",SUM(OFFSET(ROS!$D$9,$Q$2+((A42-1)*7),0,7,1)),\"\")","v":{"$error":"#N/A"}},{"$error":"#N/A"},null,null,null,null,null,null,null,null,41459,41465,null,4,"ก.ค.",56,10,"ก.ค.",56,"4 - 10 ก.ค. 56"]
[37,"11 - 17 ก.ค. 56",{"$f":"IF(B43<>\"\",SUM(OFFSET(ROS!$J$9,$Q$2+((A43-1)*7),0,7,1)),\"\")","v":{"$error":"#N/A"}},{"$f":"IF(C43<>\"\",SUM(OFFSET(ROS!$C$9,$Q$2+((A43-1)*7),0,7,1)),\"\")","v":{"$error":"#N/A"}},{"$f":"IF(C43<>\"\",SUM(OFFSET(ROS!$E$9,$Q$2+((A43-1)*7),0,7,1)),\"\")","v":{"$error":"#N/A"}},{"$f":"IF(C43<>\"\",SUM(OFFSET(ROS!$F$9,$Q$2+((A43-1)*7),0,7,1)),\"\")","v":{"$error":"#N/A"}},{"$f":"IF(C43<>\"\",SUM(OFFSET(ROS!$D$9,$Q$2+((A43-1)*7),0,7,1)),\"\")","v":{"$error":"#N/A"}},{"$error":"#N/A"},null,null,null,null,null,null,null,null,41466,41472,null,11,"ก.ค.",56,17,"ก.ค.",56,"11 - 17 ก.ค. 56"]
[38,"18 - 24 ก.ค. 56",{"$f":"IF(B44<>\"\",SUM(OFFSET(ROS!$J$9,$Q$2+((A44-1)*7),0,7,1)),\"\")","v":{"$error":"#N/A"}},{"$f":"IF(C44<>\"\",SUM(OFFSET(ROS!$C$9,$Q$2+((A44-1)*7),0,7,1)),\"\")","v":{"$error":"#N/A"}},{"$f":"IF(C44<>\"\",SUM(OFFSET(ROS!$E$9,$Q$2+((A44-1)*7),0,7,1)),\"\")","v":{"$error":"#N/A"}},{"$f":"IF(C44<>\"\",SUM(OFFSET(ROS!$F$9,$Q$2+((A44-1)*7),0,7,1)),\"\")","v":{"$error":"#N/A"}},{"$f":"IF(C44<>\"\",SUM(OFFSET(ROS!$D$9,$Q$2+((A44-1)*7),0,7,1)),\"\")","v":{"$error":"#N/A"}},{"$error":"#N/A"},null,null,null,null,null,null,null,null,41473,41479,null,18,"ก.ค.",56,24,"ก.ค.",56,"18 - 24 ก.ค. 56"]
[39,"25 - 31 ก.ค. 56",{"$f":"IF(B45<>\"\",SUM(OFFSET(ROS!$J$9,$Q$2+((A45-1)*7),0,7,1)),\"\")","v":{"$error":"#N/A"}},{"$f":"IF(C45<>\"\",SUM(OFFSET(ROS!$C$9,$Q$2+((A45-1)*7),0,7,1)),\"\")","v":{"$error":"#N/A"}},{"$f":"IF(C45<>\"\",SUM(OFFSET(ROS!$E$9,$Q$2+((A45-1)*7),0,7,1)),\"\")","v":{"$error":"#N/A"}},{"$f":"IF(C45<>\"\",SUM(OFFSET(ROS!$F$9,$Q$2+((A45-1)*7),0,7,1)),\"\")","v":{"$error":"#N/A"}},{"$f":"IF(C45<>\"\",SUM(OFFSET(ROS!$D$9,$Q$2+((A45-1)*7),0,7,1)),\"\")","v":{"$error":"#N/A"}},{"$error":"#N/A"},null,null,null,null,null,null,null,null,41480,41486,null,25,"ก.ค.",56,31,"ก.ค.",56,"25 - 31 ก.ค. 56"]
[40,"1 - 7 ส.ค. 56",{"$f":"IF(B46<>\"\",SUM(OFFSET(ROS!$J$9,$Q$2+((A46-1)*7),0,7,1)),\"\")","v":{"$error":"#N/A"}},{"$f":"IF(C46<>\"\",SUM(OFFSET(ROS!$C$9,$Q$2+((A46-1)*7),0,7,1)),\"\")","v":{"$error":"#N/A"}},{"$f":"IF(C46<>\"\",SUM(OFFSET(ROS!$E$9,$Q$2+((A46-1)*7),0,7,1)),\"\")","v":{"$error":"#N/A"}},{"$f":"IF(C46<>\"\",SUM(OFFSET(ROS!$F$9,$Q$2+((A46-1)*7),0,7,1)),\"\")","v":{"$error":"#N/A"}},{"$f":"IF(C46<>\"\",SUM(OFFSET(ROS!$D$9,$Q$2+((A46-1)*7),0,7,1)),\"\")","v":{"$error":"#N/A"}},{"$error":"#N/A"},null,null,null,null,null,null,null,null,41487,41493,null,1,"ส.ค.",56,7,"ส.ค.",56,"1 - 7 ส.ค. 56"]
[41,"8 - 14 ส.ค. 56",{"$f":"IF(B47<>\"\",SUM(OFFSET(ROS!$J$9,$Q$2+((A47-1)*7),0,7,1)),\"\")","v":{"$error":"#N/A"}},{"$f":"IF(C47<>\"\",SUM(OFFSET(ROS!$C$9,$Q$2+((A47-1)*7),0,7,1)),\"\")","v":{"$error":"#N/A"}},{"$f":"IF(C47<>\"\",SUM(OFFSET(ROS!$E$9,$Q$2+((A47-1)*7),0,7,1)),\"\")","v":{"$error":"#N/A"}},{"$f":"IF(C47<>\"\",SUM(OFFSET(ROS!$F$9,$Q$2+((A47-1)*7),0,7,1)),\"\")","v":{"$error":"#N/A"}},{"$f":"IF(C47<>\"\",SUM(OFFSET(ROS!$D$9,$Q$2+((A47-1)*7),0,7,1)),\"\")","v":{"$error":"#N/A"}},{"$error":"#N/A"},null,null,null,null,null,null,null,null,41494,41500,null,8,"ส.ค.",56,14,"ส.ค.",56,"8 - 14 ส.ค. 56"]
[42,"15 - 21 ส.ค. 56",{"$f":"IF(B48<>\"\",SUM(OFFSET(ROS!$J$9,$Q$2+((A48-1)*7),0,7,1)),\"\")","v":{"$error":"#N/A"}},{"$f":"IF(C48<>\"\",SUM(OFFSET(ROS!$C$9,$Q$2+((A48-1)*7),0,7,1)),\"\")","v":{"$error":"#N/A"}},{"$f":"IF(C48<>\"\",SUM(OFFSET(ROS!$E$9,$Q$2+((A48-1)*7),0,7,1)),\"\")","v":{"$error":"#N/A"}},{"$f":"IF(C48<>\"\",SUM(OFFSET(ROS!$F$9,$Q$2+((A48-1)*7),0,7,1)),\"\")","v":{"$error":"#N/A"}},{"$f":"IF(C48<>\"\",SUM(OFFSET(ROS!$D$9,$Q$2+((A48-1)*7),0,7,1)),\"\")","v":{"$error":"#N/A"}},{"$error":"#N/A"},null,null,null,null,null,null,null,null,41501,41507,null,15,"ส.ค.",56,21,"ส.ค.",56,"15 - 21 ส.ค. 56"]
[43,"22 - 28 ส.ค. 56",{"$f":"IF(B49<>\"\",SUM(OFFSET(ROS!$J$9,$Q$2+((A49-1)*7),0,7,1)),\"\")","v":{"$error":"#N/A"}},{"$f":"IF(C49<>\"\",SUM(OFFSET(ROS!$C$9,$Q$2+((A49-1)*7),0,7,1)),\"\")","v":{"$error":"#N/A"}},{"$f":"IF(C49<>\"\",SUM(OFFSET(ROS!$E$9,$Q$2+((A49-1)*7),0,7,1)),\"\")","v":{"$error":"#N/A"}},{"$f":"IF(C49<>\"\",SUM(OFFSET(ROS!$F$9,$Q$2+((A49-1)*7),0,7,1)),\"\")","v":{"$error":"#N/A"}},{"$f":"IF(C49<>\"\",SUM(OFFSET(ROS!$D$9,$Q$2+((A49-1)*7),0,7,1)),\"\")","v":{"$error":"#N/A"}},{"$error":"#N/A"},null,null,null,null,null,null,null,null,41508,41514,null,22,"ส.ค.",56,28,"ส.ค.",56,"22 - 28 ส.ค. 56"]
[44,"29 ส.ค. - 4 ก.ย.56",{"$f":"IF(B50<>\"\",SUM(OFFSET(ROS!$J$9,$Q$2+((A50-1)*7),0,7,1)),\"\")","v":{"$error":"#N/A"}},{"$f":"IF(C50<>\"\",SUM(OFFSET(ROS!$C$9,$Q$2+((A50-1)*7),0,7,1)),\"\")","v":{"$error":"#N/A"}},{"$f":"IF(C50<>\"\",SUM(OFFSET(ROS!$E$9,$Q$2+((A50-1)*7),0,7,1)),\"\")","v":{"$error":"#N/A"}},{"$f":"IF(C50<>\"\",SUM(OFFSET(ROS!$F$9,$Q$2+((A50-1)*7),0,7,1)),\"\")","v":{"$error":"#N/A"}},{"$f":"IF(C50<>\"\",SUM(OFFSET(ROS!$D$9,$Q$2+((A50-1)*7),0,7,1)),\"\")","v":{"$error":"#N/A"}},{"$error":"#N/A"},null,null,null,null,null,null,null,null,41515,41521,null,29,"ส.ค.",56,4,"ก.ย.",56,"29 ส.ค. - 4 ก.ย.56"]
[45,"5 - 11 ก.ย. 56",{"$f":"IF(B51<>\"\",SUM(OFFSET(ROS!$J$9,$Q$2+((A51-1)*7),0,7,1)),\"\")","v":{"$error":"#N/A"}},{"$f":"IF(C51<>\"\",SUM(OFFSET(ROS!$C$9,$Q$2+((A51-1)*7),0,7,1)),\"\")","v":{"$error":"#N/A"}},{"$f":"IF(C51<>\"\",SUM(OFFSET(ROS!$E$9,$Q$2+((A51-1)*7),0,7,1)),\"\")","v":{"$error":"#N/A"}},{"$f":"IF(C51<>\"\",SUM(OFFSET(ROS!$F$9,$Q$2+((A51-1)*7),0,7,1)),\"\")","v":{"$error":"#N/A"}},{"$f":"IF(C51<>\"\",SUM(OFFSET(ROS!$D$9,$Q$2+((A51-1)*7),0,7,1)),\"\")","v":{"$error":"#N/A"}},{"$error":"#N/A"},null,null,null,null,null,null,null,null,41522,41528,null,5,"ก.ย.",56,11,"ก.ย.",56,"5 - 11 ก.ย. 56"]
[46,"12 - 18 ก.ย. 56",{"$f":"IF(B52<>\"\",SUM(OFFSET(ROS!$J$9,$Q$2+((A52-1)*7),0,7,1)),\"\")","v":{"$error":"#N/A"}},{"$f":"IF(C52<>\"\",SUM(OFFSET(ROS!$C$9,$Q$2+((A52-1)*7),0,7,1)),\"\")","v":{"$error":"#N/A"}},{"$f":"IF(C52<>\"\",SUM(OFFSET(ROS!$E$9,$Q$2+((A52-1)*7),0,7,1)),\"\")","v":{"$error":"#N/A"}},{"$f":"IF(C52<>\"\",SUM(OFFSET(ROS!$F$9,$Q$2+((A52-1)*7),0,7,1)),\"\")","v":{"$error":"#N/A"}},{"$f":"IF(C52<>\"\",SUM(OFFSET(ROS!$D$9,$Q$2+((A52-1)*7),0,7,1)),\"\")","v":{"$error":"#N/A"}},{"$error":"#N/A"},null,null,null,null,null,null,null,null,41529,41535,null,12,"ก.ย.",56,18,"ก.ย.",56,"12 - 18 ก.ย. 56"]
[47,"19 - 25 ก.ย. 56",{"$f":"IF(B53<>\"\",SUM(OFFSET(ROS!$J$9,$Q$2+((A53-1)*7),0,7,1)),\"\")","v":{"$error":"#N/A"}},{"$f":"IF(C53<>\"\",SUM(OFFSET(ROS!$C$9,$Q$2+((A53-1)*7),0,7,1)),\"\")","v":{"$error":"#N/A"}},{"$f":"IF(C53<>\"\",SUM(OFFSET(ROS!$E$9,$Q$2+((A53-1)*7),0,7,1)),\"\")","v":{"$error":"#N/A"}},{"$f":"IF(C53<>\"\",SUM(OFFSET(ROS!$F$9,$Q$2+((A53-1)*7),0,7,1)),\"\")","v":{"$error":"#N/A"}},{"$f":"IF(C53<>\"\",SUM(OFFSET(ROS!$D$9,$Q$2+((A53-1)*7),0,7,1)),\"\")","v":{"$error":"#N/A"}},{"$error":"#N/A"},null,null,null,null,null,null,null,null,41536,41542,null,19,"ก.ย.",56,25,"ก.ย.",56,"19 - 25 ก.ย. 56"]
[48,"26 ก.ย. - 2 ต.ค.56",{"$f":"IF(B54<>\"\",SUM(OFFSET(ROS!$J$9,$Q$2+((A54-1)*7),0,7,1)),\"\")","v":{"$error":"#N/A"}},{"$f":"IF(C54<>\"\",SUM(OFFSET(ROS!$C$9,$Q$2+((A54-1)*7),0,7,1)),\"\")","v":{"$error":"#N/A"}},{"$f":"IF(C54<>\"\",SUM(OFFSET(ROS!$E$9,$Q$2+((A54-1)*7),0,7,1)),\"\")","v":{"$error":"#N/A"}},{"$f":"IF(C54<>\"\",SUM(OFFSET(ROS!$F$9,$Q$2+((A54-1)*7),0,7,1)),\"\")","v":{"$error":"#N/A"}},{"$f":"IF(C54<>\"\",SUM(OFFSET(ROS!$D$9,$Q$2+((A54-1)*7),0,7,1)),\"\")","v":{"$error":"#N/A"}},{"$error":"#N/A"},null,null,null,null,null,null,null,null,{"$f":"IF($O$3>Q53+7,Q53+7,$O$3)","v":41543},41549,null,{"$f":"+DAY(Q54)","v":26},{"$f":"OFFSET($AB$6,MONTH(Q54),0,1,1)","v":"ก.ย."},{"$f":"YEAR(Q54)+543-2500","v":56},{"$f":"+DAY(R54)","v":2},{"$f":"OFFSET($AB$6,MONTH(R54),0,1,1)","v":"ต.ค."},{"$f":"YEAR(R54)+543-2500","v":56},"26 ก.ย. - 2 ต.ค.56"]
[49,"3 - 9 ต.ค. 56",{"$f":"IF(B55<>\"\",SUM(OFFSET(ROS!$J$9,$Q$2+((A55-1)*7),0,7,1)),\"\")","v":{"$error":"#N/A"}},{"$f":"IF(C55<>\"\",SUM(OFFSET(ROS!$C$9,$Q$2+((A55-1)*7),0,7,1)),\"\")","v":{"$error":"#N/A"}},{"$f":"IF(C55<>\"\",SUM(OFFSET(ROS!$E$9,$Q$2+((A55-1)*7),0,7,1)),\"\")","v":{"$error":"#N/A"}},{"$f":"IF(C55<>\"\",SUM(OFFSET(ROS!$F$9,$Q$2+((A55-1)*7),0,7,1)),\"\")","v":{"$error":"#N/A"}},{"$f":"IF(C55<>\"\",SUM(OFFSET(ROS!$D$9,$Q$2+((A55-1)*7),0,7,1)),\"\")","v":{"$error":"#N/A"}},{"$error":"#N/A"},null,null,null,null,null,null,null,null,{"$f":"IF($O$3>Q54+7,Q54+7,$O$3)","v":41550},41556,null,{"$f":"+DAY(Q55)","v":3},{"$f":"OFFSET($AB$6,MONTH(Q55),0,1,1)","v":"ต.ค."},{"$f":"YEAR(Q55)+543-2500","v":56},{"$f":"+DAY(R55)","v":9},{"$f":"OFFSET($AB$6,MONTH(R55),0,1,1)","v":"ต.ค."},{"$f":"YEAR(R55)+543-2500","v":56},"3 - 9 ต.ค. 56"]
[50,"10 - 16 ต.ค. 56",{"$f":"IF(B56<>\"\",SUM(OFFSET(ROS!$J$9,$Q$2+((A56-1)*7),0,7,1)),\"\")","v":{"$error":"#N/A"}},{"$f":"IF(C56<>\"\",SUM(OFFSET(ROS!$C$9,$Q$2+((A56-1)*7),0,7,1)),\"\")","v":{"$error":"#N/A"}},{"$f":"IF(C56<>\"\",SUM(OFFSET(ROS!$E$9,$Q$2+((A56-1)*7),0,7,1)),\"\")","v":{"$error":"#N/A"}},{"$f":"IF(C56<>\"\",SUM(OFFSET(ROS!$F$9,$Q$2+((A56-1)*7),0,7,1)),\"\")","v":{"$error":"#N/A"}},{"$f":"IF(C56<>\"\",SUM(OFFSET(ROS!$D$9,$Q$2+((A56-1)*7),0,7,1)),\"\")","v":{"$error":"#N/A"}},{"$error":"#N/A"},null,null,null,null,null,null,null,null,{"$f":"IF($O$3>Q55+7,Q55+7,$O$3)","v":41557},41563,null,{"$f":"+DAY(Q56)","v":10},{"$f":"OFFSET($AB$6,MONTH(Q56),0,1,1)","v":"ต.ค."},{"$f":"YEAR(Q56)+543-2500","v":56},{"$f":"+DAY(R56)","v":16},{"$f":"OFFSET($AB$6,MONTH(R56),0,1,1)","v":"ต.ค."},{"$f":"YEAR(R56)+543-2500","v":56},"10 - 16 ต.ค. 56"]
[51,"17 - 23 ต.ค. 56",{"$f":"IF(B57<>\"\",SUM(OFFSET(ROS!$J$9,$Q$2+((A57-1)*7),0,7,1)),\"\")","v":{"$error":"#N/A"}},{"$f":"IF(C57<>\"\",SUM(OFFSET(ROS!$C$9,$Q$2+((A57-1)*7),0,7,1)),\"\")","v":{"$error":"#N/A"}},{"$f":"IF(C57<>\"\",SUM(OFFSET(ROS!$E$9,$Q$2+((A57-1)*7),0,7,1)),\"\")","v":{"$error":"#N/A"}},{"$f":"IF(C57<>\"\",SUM(OFFSET(ROS!$F$9,$Q$2+((A57-1)*7),0,7,1)),\"\")","v":{"$error":"#N/A"}},{"$f":"IF(C57<>\"\",SUM(OFFSET(ROS!$D$9,$Q$2+((A57-1)*7),0,7,1)),\"\")","v":{"$error":"#N/A"}},{"$error":"#N/A"},null,null,null,null,null,null,null,null,{"$f":"IF($O$3>Q56+7,Q56+7,$O$3)","v":41564},41570,null,{"$f":"+DAY(Q57)","v":17},{"$f":"OFFSET($AB$6,MONTH(Q57),0,1,1)","v":"ต.ค."},{"$f":"YEAR(Q57)+543-2500","v":56},{"$f":"+DAY(R57)","v":23},{"$f":"OFFSET($AB$6,MONTH(R57),0,1,1)","v":"ต.ค."},{"$f":"YEAR(R57)+543-2500","v":56},"17 - 23 ต.ค. 56"]
[52,"24 - 31 ต.ค. 56",{"$f":"IF(B58<>\"\",SUM(OFFSET(ROS!$J$9,$Q$2+((A58-1)*7),0,8,1)),\"\")","v":{"$error":"#N/A"}},{"$f":"IF(C58<>\"\",SUM(OFFSET(ROS!$C$9,$Q$2+((A58-1)*7),0,8,1)),\"\")","v":{"$error":"#N/A"}},{"$f":"IF(C58<>\"\",SUM(OFFSET(ROS!$E$9,$Q$2+((A58-1)*7),0,8,1)),\"\")","v":{"$error":"#N/A"}},{"$f":"IF(C58<>\"\",SUM(OFFSET(ROS!$F$9,$Q$2+((A58-1)*7),0,8,1)),\"\")","v":{"$error":"#N/A"}},{"$f":"IF(C58<>\"\",SUM(OFFSET(ROS!$D$9,$Q$2+((A58-1)*7),0,8,1)),\"\")","v":{"$error":"#N/A"}},{"$f":"SUM(C58:G58)","v":{"$error":"#N/A"}},null,null,null,null,null,null,null,null,{"$f":"IF($O$3>Q57+7,Q57+7,$O$3)","v":41571},{"$f":"IF($O$3>Q58+6,Q58+7,$O$3)","v":41578},null,{"$f":"+DAY(Q58)","v":24},{"$f":"OFFSET($AB$6,MONTH(Q58),0,1,1)","v":"ต.ค."},{"$f":"YEAR(Q58)+543-2500","v":56},{"$f":"+DAY(R58)","v":31},{"$f":"OFFSET($AB$6,MONTH(R58),0,1,1)","v":"ต.ค."},{"$f":"YEAR(R58)+543-2500","v":56},"24 - 31 ต.ค. 56"]
["รวม (ล้าน ม.3)",null,{"$f":"SUM(C7:C58)","v":{"$error":"#N/A"}},{"$error":"#N/A"},{"$error":"#N/A"},{"$error":"#N/A"},{"$error":"#N/A"},{"$error":"#N/A"}]
[]
["หมายเหตุ :  กำหนดให้วันเริ่มต้นในแต่ละสัปดาห์คือวัน"]

{"sheet":"paddy_dry","index":3,"n_rows":79,"n_cols":36,"rows_kept":79,"cut":false,"hidden":false,"merged":[[6,3,6,4],[3,3,3,4],[4,3,4,4]]}
[null,"ตารางแสดงรายละเอียดการคำนวณความต้องการน้ำของพืช"]
[null,null,null,null,null,"สัปดาห์","พื้นที่ (ไร่)"]
[null,null,null,null,null,1,{"$f":"+fill_data!M10","v":0},null,null,null,null,null,null,null,null,null,null,null,{"$f":"+E6","v":9},1]
[null,"จังหวัด",null,{"$f":"+fill_data!C4","v":0},null,{"$f":"IF(F3=\"\",\"\",IF(F3+1<=$E$9,F3+1,\"\"))","v":2},{"$f":"+fill_data!M11","v":0},null,null,null,null,null,null,null,null,null,null,null,{"$f":"IF(+S3+1>52,+S3+1-52,S3+1)","v":10},2]
[null,"ชนิดพืช",null,{"$f":"+fill_data!J11","v":"ข้าว กข.(นาดำ)"},null,3,{"$f":"+fill_data!M12","v":0},null,null,null,null,null,null,null,null,null,null,null,{"$f":"IF(+S4+1>52,+S4+1-52,S4+1)","v":11},3]
[null,"สัปดาห์เริ่มต้น",null,{"$f":"VLOOKUP(D5,Crop!B3:C35,2,FALSE)","v":13},{"$f":"+fill_data!K12","v":9},4,{"$f":"+fill_data!M13","v":0},null,null,null,null,null,null,null,null,null,null,null,12,4]
[null,"ใช้ค่า ETo ของจังหวัด",null,{"$f":"+fill_data!C5","v":{"$error":"#N/A"}},null,"",{"$f":"+fill_data!M14","v":0},null,null,null,null,null,null,null,null,null,null,null,13,5]
[null,"พื้นที่โครงการ, ไร่",null,null,{"$f":"fill_data!K13","v":0},"",{"$f":"+fill_data!M15","v":0},null,null,null,null,null,null,null,null,null,null,null,14,6]
[null,"เวลาปลูกจนเต็มพื้นที่, สัปดาห์",null,null,{"$f":"+fill_data!K14","v":4},"",{"$f":"+fill_data!M16","v":0},null,null,null,null,null,null,null,null,null,null,null,15,7]
[null,"ปริมาณน้ำรั่วซึม, มม./สัปดาห์",null,null,{"$f":"+fill_data!D6","v":0},"",{"$f":"+fill_data!M17","v":0},null,"*ภาคกลาง กำหนดให้ใช้ 1 มม./วัน ส่วนภาคอื่นๆใช้ 2 มม./วัน",null,null,null,null,null,null,null,null,null,16,8]
[null,"ปริมาณน้ำเตรียมแปลง, มม./สัปดาห์",null,null,{"$f":"+fill_data!K15","v":240},"",{"$f":"+fill_data!M18","v":0},null,"*กำหนดระยะเวลาในการเตรียมแปลง 1 สัปดาห์",null,null,null,null,null,null,null,null,null,17,9]
[null,null,null,null,null,"",{"$f":"+fill_data!M19","v":0},null,null,null,null,null,null,null,null,null,null,null,18,10,null,null,null,null,null,null,null,null,null,{"$f":"+MONTH(D32)","v":12}]
[null,null,null,null,null,{"$f":"IF(F12=\"\",\"\",IF(F12+1<=$E$9,F12+1,\"\"))","v":""},{"$f":"+fill_data!M20","v":0},null,null,null,null,null,null,null,null,null,null,null,19,11]
[null,null,null,null,null,"",{"$f":"+fill_data!M21","v":0},null,null,null,null,null,null,null,null,null,null,null,20,12]
[null,null,null,null,null,"",{"$f":"+fill_data!M22","v":0},null,null,null,null,null,null,null,null,null,null,null,21,13]
[null,null,null,null,null,"",{"$f":"+fill_data!M23","v":0},null,null,null,null,null,null,null,null,null,null,null,22,14]
[null,null,null,null,null,"",{"$f":"+fill_data!M24","v":0},null,null,null,null,null,null,null,null,null,null,null,23,15]
[null,null,null,null,null,"",{"$f":"+fill_data!M25","v":0},null,null,null,null,null,null,null,null,null,null,null,24,16]
[null,null,null,null,null,"",{"$f":"+fill_data!M26","v":0},null,null,null,null,null,null,null,null,null,null,null,25,17]
[null,null,null,null,null,"",{"$f":"+fill_data!M27","v":0},null,null,null,null,null,null,null,null,null,null,null,26,18]
[null,null,null,null,null,"",{"$f":"+fill_data!M28","v":0},null,null,null,null,null,null,null,null,null,null,null,27,19]
[null,null,null,null,null,{"$f":"IF(F21=\"\",\"\",IF(F21+1<=$E$9,F21+1,\"\"))","v":""},{"$f":"+fill_data!M29","v":0},null,null,null,null,null,null,null,null,null,null,null,28,20]
[]
[null,"(1)","(2)","(3)","(4)","(5)","(6)","(7.1)","(7.2)","(7.3)","(7.4)","(7.5)","(7.6)","(7.7)","(7.8)","(7.9)","(7.10)","(7.11)","(7.12)","(7.13)","(7.14)","(7.15)","(7.16)","(7.17)","(7.18)","(7.19)","(7.20)","(8)","(9)","(10)","(11)","(12)","(13)","(14)","(15)"]
[null,"ช่วงเวลาสัปดาห์",null,"เดือน","สัปดาห์","สัปดาห์","Kc","พื้นที่เพาะปลูกในแต่ละสัปดาห์ (ไร่)",null,null,null,null,null,null,null,null,null,null,null,null,null,null,null,null,null,null,null,"รวมพื้นที่","Weighted","ETo","ความต้องการน้ำ",null,"ปริมาณน้ำเตรียมแปลง",null,"ความต้องการน้ำ","ฝนใช้การ"]
[null,"เริ่มต้น","สิ้นสุด",null,null,"ของ Kc",null,1,2,3,4,5,6,7,8,9,10,11,12,13,14,15,16,17,18,19,20,"(ไร่)","Kc",null,"(มม.)","(ลบ.ม.)","(ไร่)","(ลบ.ม.)","(ลบ.ม.)","(ลบ.ม.)"]
[null,"2008-11-01","2008-11-07",{"$f":"+C27","v":"2008-11-07"},1,{"$f":"IF(ISERROR(VLOOKUP(E27,Crop!$I$3:$J$70,2,FALSE)),0,VLOOKUP(paddy_dry!E27,Crop!$I$3:$J$71,2,FALSE))","v":0},{"$f":"IF(ISERROR(HLOOKUP($D$5,Kc!$C$3:$AI$57,paddy_dry!F27+3,FALSE)),0,HLOOKUP($D$5,Kc!$C$3:$AI$57,paddy_dry!F27+3,FALSE))","v":0},{"$f":"IF(G27>0,IF(H$26>$E$9,0,VLOOKUP(H$26,$F$3:$G$23,2,FALSE)),0)","v":0},{"$f":"IF(H78>0,IF(I$26>$E$9,0,VLOOKUP(I$26,$F$3:$G$23,2,FALSE)),0)","v":0},0,0,0,0,0,0,0,0,0,{"$f":"IF(R78>0,IF(S$26>$E$9,0,VLOOKUP(S$26,$F$3:$G$23,2,FALSE)),0)","v":0},0,0,0,0,0,0,0,0,{"$f":"SUM(H27:AA27)","v":0},{"$f":"IF(ISERROR((H27*G27+I27*G78+J27*G77+K27*G76+L27*G75+M27*G74+N27*G73+O27*G72+P27*G71+Q27*G70+R27*G69+S27*G68+T27*G67+U27*G66+V27*G65+W27*G64+X27*G63+Y27*G62+Z27*G61+AA27*G60)/AB27),0,(H27*G27+I27*G78+J27*G77+K27*G76+L27*G75+M27*G74+N27*G73+O27*G72+P27*G71+Q27*G70+R27*G69+S27*G68+T27*G67+U27*G66+V27*G65+W27*G64+X27*G63+Y27*G62+Z27*G61+AA27*G60)/AB27)","v":0},{"$f":"VLOOKUP($D$7,ETo!$B$4:$P$88,MONTH(D27)+2,FALSE)/4","v":{"$error":"#N/A"}},{"$f":"IF(AC27*AD27=0,0,(AC27*AD27)+$E$10)","v":{"$error":"#N/A"}},{"$f":"AE27*AB27*1.6","v":{"$error":"#N/A"}},{"$f":"IF(ISERROR(INDEX(H27:AA27,1,IF(E27<$E$6,0,VLOOKUP(E27,$S$3:$T$22,2,FALSE)))),0,INDEX(H27:AA27,1,IF(E27<$E$6,0,VLOOKUP(E27,$S$3:$T$22,2,FALSE))))","v":0},{"$f":"AG27*$E$11*1.6","v":0},{"$f":"AF27+AH27","v":{"$error":"#N/A"}},{"$f":"VLOOKUP(MONTH(D27),[0]!rainforpaddy,4)/1000*AB27*1600*7","v":{"$error":"#N/A"}}]
[null,{"$f":"C27+1","v":"2008-11-08"},{"$f":"B28+6","v":"2008-11-14"},{"$f":"+C28","v":"2008-11-14"},2,{"$f":"IF(ISERROR(VLOOKUP(E28,Crop!$I$3:$J$70,2,FALSE)),0,VLOOKUP(paddy_dry!E28,Crop!$I$3:$J$71,2,FALSE))","v":0},{"$f":"IF(ISERROR(HLOOKUP($D$5,Kc!$C$3:$AI$57,paddy_dry!F28+3,FALSE)),0,HLOOKUP($D$5,Kc!$C$3:$AI$57,paddy_dry!F28+3,FALSE))","v":0},0,{"$f":"IF(H27>0,IF(I$26>$E$9,0,VLOOKUP(I$26,$F$3:$G$23,2,FALSE)),0)","v":0},0,0,0,0,0,0,0,0,0,{"$f":"IF(R27>0,IF(S$26>$E$9,0,VLOOKUP(S$26,$F$3:$G$23,2,FALSE)),0)","v":0},0,0,0,0,0,0,0,0,{"$f":"SUM(H28:AA28)","v":0},{"$f":"IF(ISERROR((H28*G28+I28*G27+J28*G78+K28*G77+L28*G76+M28*G75+N28*G74+O28*G73+P28*G72+Q28*G71+R28*G70+S28*G69+T28*G68+U28*G67+V28*G66+W28*G65+X28*G64+Y28*G63+Z28*G62+AA28*G61)/AB28),0,(H28*G28+I28*G27+J28*G78+K28*G77+L28*G76+M28*G75+N28*G74+O28*G73+P28*G72+Q28*G71+R28*G70+S28*G69+T28*G68+U28*G67+V28*G66+W28*G65+X28*G64+Y28*G63+Z28*G62+AA28*G61)/AB28)","v":0},{"$f":"VLOOKUP($D$7,ETo!$B$4:$P$88,MONTH(D28)+2,FALSE)/4","v":{"$error":"#N/A"}},{"$f":"IF(AC28*AD28=0,0,(AC28*AD28)+$E$10)","v":{"$error":"#N/A"}},{"$f":"AE28*AB28*1.6","v":{"$error":"#N/A"}},{"$f":"IF(ISERROR(INDEX(H28:AA28,1,IF(E28<$E$6,0,VLOOKUP(E28,$S$3:$T$22,2,FALSE)))),0,INDEX(H28:AA28,1,IF(E28<$E$6,0,VLOOKUP(E28,$S$3:$T$22,2,FALSE))))","v":0},{"$f":"AG28*$E$11*1.6","v":0},{"$f":"AF28+AH28","v":{"$error":"#N/A"}},{"$f":"VLOOKUP(MONTH(D28),[0]!rainforpaddy,4)/1000*AB28*1600*7","v":{"$error":"#N/A"}}]
[null,{"$f":"C28+1","v":"2008-11-15"},{"$f":"B29+6","v":"2008-11-21"},{"$f":"+C29","v":"2008-11-21"},3,{"$f":"IF(ISERROR(VLOOKUP(E29,Crop!$I$3:$J$70,2,FALSE)),0,VLOOKUP(paddy_dry!E29,Crop!$I$3:$J$71,2,FALSE))","v":0},{"$f":"IF(ISERROR(HLOOKUP($D$5,Kc!$C$3:$AI$57,paddy_dry!F29+3,FALSE)),0,HLOOKUP($D$5,Kc!$C$3:$AI$57,paddy_dry!F29+3,FALSE))","v":0},0,0,0,0,0,0,0,0,0,0,0,0,0,0,0,0,0,0,0,0,0,{"$f":"IF(ISERROR((H29*G29+I29*G28+J29*G27+K29*G78+L29*G77+M29*G76+N29*G75+O29*G74+P29*G73+Q29*G72+R29*G71+S29*G70+T29*G69+U29*G68+V29*G67+W29*G66+X29*G65+Y29*G64+Z29*G63+AA29*G62)/AB29),0,(H29*G29+I29*G28+J29*G27+K29*G78+L29*G77+M29*G76+N29*G75+O29*G74+P29*G73+Q29*G72+R29*G71+S29*G70+T29*G69+U29*G68+V29*G67+W29*G66+X29*G65+Y29*G64+Z29*G63+AA29*G62)/AB29)","v":0},{"$f":"VLOOKUP($D$7,ETo!$B$4:$P$88,MONTH(D29)+2,FALSE)/4","v":{"$error":"#N/A"}},{"$error":"#N/A"},{"$error":"#N/A"},{"$f":"IF(ISERROR(INDEX(H29:AA29,1,IF(E29<$E$6,0,VLOOKUP(E29,$S$3:$T$22,2,FALSE)))),0,INDEX(H29:AA29,1,IF(E29<$E$6,0,VLOOKUP(E29,$S$3:$T$22,2,FALSE))))","v":0},{"$f":"AG29*$E$11*1.6","v":0},{"$error":"#N/A"},{"$f":"VLOOKUP(MONTH(D29),[0]!rainforpaddy,4)/1000*AB29*1600*7","v":{"$error":"#N/A"}}]
[null,"2008-11-22","2008-11-28","2008-11-28",4,{"$f":"IF(ISERROR(VLOOKUP(E30,Crop!$I$3:$J$70,2,FALSE)),0,VLOOKUP(paddy_dry!E30,Crop!$I$3:$J$71,2,FALSE))","v":0},{"$f":"IF(ISERROR(HLOOKUP($D$5,Kc!$C$3:$AI$57,paddy_dry!F30+3,FALSE)),0,HLOOKUP($D$5,Kc!$C$3:$AI$57,paddy_dry!F30+3,FALSE))","v":0},0,0,0,0,0,0,0,0,0,0,0,0,0,0,0,0,0,0,0,0,0,{"$f":"IF(ISERROR((H30*G30+I30*G29+J30*G28+K30*G27+L30*G78+M30*G77+N30*G76+O30*G75+P30*G74+Q30*G73+R30*G72+S30*G71+T30*G70+U30*G69+V30*G68+W30*G67+X30*G66+Y30*G65+Z30*G64+AA30*G63)/AB30),0,(H30*G30+I30*G29+J30*G28+K30*G27+L30*G78+M30*G77+N30*G76+O30*G75+P30*G74+Q30*G73+R30*G72+S30*G71+T30*G70+U30*G69+V30*G68+W30*G67+X30*G66+Y30*G65+Z30*G64+AA30*G63)/AB30)","v":0},{"$f":"VLOOKUP($D$7,ETo!$B$4:$P$88,MONTH(D30)+2,FALSE)/4","v":{"$error":"#N/A"}},{"$error":"#N/A"},{"$error":"#N/A"},{"$f":"IF(ISERROR(INDEX(H30:AA30,1,IF(E30<$E$6,0,VLOOKUP(E30,$S$3:$T$22,2,FALSE)))),0,INDEX(H30:AA30,1,IF(E30<$E$6,0,VLOOKUP(E30,$S$3:$T$22,2,FALSE))))","v":0},{"$f":"AG30*$E$11*1.6","v":0},{"$error":"#N/A"},{"$f":"VLOOKUP(MONTH(D30),[0]!rainforpaddy,4)/1000*AB30*1600*7","v":{"$error":"#N/A"}}]
[null,"2008-11-29","2008-12-05","2008-12-05",5,{"$f":"IF(ISERROR(VLOOKUP(E31,Crop!$I$3:$J$70,2,FALSE)),0,VLOOKUP(paddy_dry!E31,Crop!$I$3:$J$71,2,FALSE))","v":0},{"$f":"IF(ISERROR(HLOOKUP($D$5,Kc!$C$3:$AI$57,paddy_dry!F31+3,FALSE)),0,HLOOKUP($D$5,Kc!$C$3:$AI$57,paddy_dry!F31+3,FALSE))","v":0},0,0,0,0,0,0,0,0,0,0,0,0,0,0,0,0,0,0,0,0,0,{"$f":"IF(ISERROR((H31*G31+I31*G30+J31*G29+K31*G28+L31*G27+M31*G78+N31*G77+O31*G76+P31*G75+Q31*G74+R31*G73+S31*G72+T31*G71+U31*G70+V31*G69+W31*G68+X31*G67+Y31*G66+Z31*G65+AA31*G64)/AB31),0,(H31*G31+I31*G30+J31*G29+K31*G28+L31*G27+M31*G78+N31*G77+O31*G76+P31*G75+Q31*G74+R31*G73+S31*G72+T31*G71+U31*G70+V31*G69+W31*G68+X31*G67+Y31*G66+Z31*G65+AA31*G64)/AB31)","v":0},{"$f":"VLOOKUP($D$7,ETo!$B$4:$P$88,MONTH(D31)+2,FALSE)/4","v":{"$error":"#N/A"}},{"$error":"#N/A"},{"$error":"#N/A"},{"$f":"IF(ISERROR(INDEX(H31:AA31,1,IF(E31<$E$6,0,VLOOKUP(E31,$S$3:$T$22,2,FALSE)))),0,INDEX(H31:AA31,1,IF(E31<$E$6,0,VLOOKUP(E31,$S$3:$T$22,2,FALSE))))","v":0},{"$f":"AG31*$E$11*1.6","v":0},{"$error":"#N/A"},{"$f":"VLOOKUP(MONTH(D31),[0]!rainforpaddy,4)/1000*AB31*1600*7","v":{"$error":"#N/A"}}]
[null,"2008-12-06","2008-12-12","2008-12-12",6,{"$f":"IF(ISERROR(VLOOKUP(E32,Crop!$I$3:$J$70,2,FALSE)),0,VLOOKUP(paddy_dry!E32,Crop!$I$3:$J$71,2,FALSE))","v":0},{"$f":"IF(ISERROR(HLOOKUP($D$5,Kc!$C$3:$AI$57,paddy_dry!F32+3,FALSE)),0,HLOOKUP($D$5,Kc!$C$3:$AI$57,paddy_dry!F32+3,FALSE))","v":0},0,0,0,0,0,0,0,0,0,0,0,0,0,0,0,0,0,0,0,0,0,{"$f":"IF(ISERROR((H32*G32+I32*G31+J32*G30+K32*G29+L32*G28+M32*G27+N32*G78+O32*G77+P32*G76+Q32*G75+R32*G74+S32*G73+T32*G72+U32*G71+V32*G70+W32*G69+X32*G68+Y32*G67+Z32*G66+AA32*G65)/AB32),0,(H32*G32+I32*G31+J32*G30+K32*G29+L32*G28+M32*G27+N32*G78+O32*G77+P32*G76+Q32*G75+R32*G74+S32*G73+T32*G72+U32*G71+V32*G70+W32*G69+X32*G68+Y32*G67+Z32*G66+AA32*G65)/AB32)","v":0},{"$f":"VLOOKUP($D$7,ETo!$B$4:$P$88,MONTH(D32)+2,FALSE)/4","v":{"$error":"#N/A"}},{"$error":"#N/A"},{"$error":"#N/A"},{"$f":"IF(ISERROR(INDEX(H32:AA32,1,IF(E32<$E$6,0,VLOOKUP(E32,$S$3:$T$22,2,FALSE)))),0,INDEX(H32:AA32,1,IF(E32<$E$6,0,VLOOKUP(E32,$S$3:$T$22,2,FALSE))))","v":0},{"$f":"AG32*$E$11*1.6","v":0},{"$error":"#N/A"},{"$f":"VLOOKUP(MONTH(D32),[0]!rainforpaddy,4)/1000*AB32*1600*7","v":{"$error":"#N/A"}}]
[null,"2008-12-13","2008-12-19","2008-12-19",7,{"$f":"IF(ISERROR(VLOOKUP(E33,Crop!$I$3:$J$70,2,FALSE)),0,VLOOKUP(paddy_dry!E33,Crop!$I$3:$J$71,2,FALSE))","v":0},{"$f":"IF(ISERROR(HLOOKUP($D$5,Kc!$C$3:$AI$57,paddy_dry!F33+3,FALSE)),0,HLOOKUP($D$5,Kc!$C$3:$AI$57,paddy_dry!F33+3,FALSE))","v":0},0,0,0,0,0,0,0,0,0,0,0,0,0,0,0,0,0,0,0,0,0,{"$f":"IF(ISERROR((H33*G33+I33*G32+J33*G31+K33*G30+L33*G29+M33*G28+N33*G27+O33*G78+P33*G77+Q33*G76+R33*G75+S33*G74+T33*G73+U33*G72+V33*G71+W33*G70+X33*G69+Y33*G68+Z33*G67+AA33*G66)/AB33),0,(H33*G33+I33*G32+J33*G31+K33*G30+L33*G29+M33*G28+N33*G27+O33*G78+P33*G77+Q33*G76+R33*G75+S33*G74+T33*G73+U33*G72+V33*G71+W33*G70+X33*G69+Y33*G68+Z33*G67+AA33*G66)/AB33)","v":0},{"$f":"VLOOKUP($D$7,ETo!$B$4:$P$88,MONTH(D33)+2,FALSE)/4","v":{"$error":"#N/A"}},{"$error":"#N/A"},{"$error":"#N/A"},0,0,{"$error":"#N/A"},{"$f":"VLOOKUP(MONTH(D33),[0]!rainforpaddy,4)/1000*AB33*1600*7","v":{"$error":"#N/A"}}]
[null,"2008-12-20","2008-12-26","2008-12-26",8,{"$f":"IF(ISERROR(VLOOKUP(E34,Crop!$I$3:$J$70,2,FALSE)),0,VLOOKUP(paddy_dry!E34,Crop!$I$3:$J$71,2,FALSE))","v":0},{"$f":"IF(ISERROR(HLOOKUP($D$5,Kc!$C$3:$AI$57,paddy_dry!F34+3,FALSE)),0,HLOOKUP($D$5,Kc!$C$3:$AI$57,paddy_dry!F34+3,FALSE))","v":0},0,0,0,0,0,0,0,0,0,0,0,0,0,0,0,0,0,0,0,0,0,{"$f":"IF(ISERROR((H34*G34+I34*G33+J34*G32+K34*G31+L34*G30+M34*G29+N34*G28+O34*G27+P34*G78+Q34*G77+R34*G76+S34*G75+T34*G74+U34*G73+V34*G72+W34*G71+X34*G70+Y34*G69+Z34*G68+AA34*G67)/AB34),0,(H34*G34+I34*G33+J34*G32+K34*G31+L34*G30+M34*G29+N34*G28+O34*G27+P34*G78+Q34*G77+R34*G76+S34*G75+T34*G74+U34*G73+V34*G72+W34*G71+X34*G70+Y34*G69+Z34*G68+AA34*G67)/AB34)","v":0},{"$f":"VLOOKUP($D$7,ETo!$B$4:$P$88,MONTH(D34)+2,FALSE)/4","v":{"$error":"#N/A"}},{"$error":"#N/A"},{"$error":"#N/A"},0,0,{"$error":"#N/A"},{"$f":"VLOOKUP(MONTH(D34),[0]!rainforpaddy,4)/1000*AB34*1600*7","v":{"$error":"#N/A"}}]
[null,"2008-12-27","2009-01-02","2009-01-02",9,{"$f":"IF(ISERROR(VLOOKUP(E35,Crop!$I$3:$J$70,2,FALSE)),0,VLOOKUP(paddy_dry!E35,Crop!$I$3:$J$71,2,FALSE))","v":1},{"$f":"IF(ISERROR(HLOOKUP($D$5,Kc!$C$3:$AI$57,paddy_dry!F35+3,FALSE)),0,HLOOKUP($D$5,Kc!$C$3:$AI$57,paddy_dry!F35+3,FALSE))","v":1.03},0,0,0,0,0,0,0,0,0,0,0,0,0,0,0,0,0,0,0,0,0,{"$f":"IF(ISERROR((H35*G35+I35*G34+J35*G33+K35*G32+L35*G31+M35*G30+N35*G29+O35*G28+P35*G27+Q35*G78+R35*G77+S35*G76+T35*G75+U35*G74+V35*G73+W35*G72+X35*G71+Y35*G70+Z35*G69+AA35*G68)/AB35),0,(H35*G35+I35*G34+J35*G33+K35*G32+L35*G31+M35*G30+N35*G29+O35*G28+P35*G27+Q35*G78+R35*G77+S35*G76+T35*G75+U35*G74+V35*G73+W35*G72+X35*G71+Y35*G70+Z35*G69+AA35*G68)/AB35)","v":0},{"$f":"VLOOKUP($D$7,ETo!$B$4:$P$88,MONTH(D35)+2,FALSE)/4","v":{"$error":"#N/A"}},{"$error":"#N/A"},{"$error":"#N/A"},0,0,{"$error":"#N/A"},{"$f":"VLOOKUP(MONTH(D35),[0]!rainforpaddy,4)/1000*AB35*1600*7","v":{"$error":"#N/A"}}]
[null,"2009-01-03","2009-01-09","2009-01-09",10,{"$f":"IF(ISERROR(VLOOKUP(E36,Crop!$I$3:$J$70,2,FALSE)),0,VLOOKUP(paddy_dry!E36,Crop!$I$3:$J$71,2,FALSE))","v":2},{"$f":"IF(ISERROR(HLOOKUP($D$5,Kc!$C$3:$AI$57,paddy_dry!F36+3,FALSE)),0,HLOOKUP($D$5,Kc!$C$3:$AI$57,paddy_dry!F36+3,FALSE))","v":1.07},{"$f":"IF(G36>0,IF(H$26>$E$9,0,VLOOKUP(H$26,$F$3:$G$23,2,FALSE)),0)","v":0},0,0,0,0,0,0,0,0,0,0,0,0,0,0,0,0,0,0,0,0,{"$f":"IF(ISERROR((H36*G36+I36*G35+J36*G34+K36*G33+L36*G32+M36*G31+N36*G30+O36*G29+P36*G28+Q36*G27+R36*G78+S36*G77+T36*G76+U36*G75+V36*G74+W36*G73+X36*G72+Y36*G71+Z36*G70+AA36*G69)/AB36),0,(H36*G36+I36*G35+J36*G34+K36*G33+L36*G32+M36*G31+N36*G30+O36*G29+P36*G28+Q36*G27+R36*G78+S36*G77+T36*G76+U36*G75+V36*G74+W36*G73+X36*G72+Y36*G71+Z36*G70+AA36*G69)/AB36)","v":0},{"$f":"VLOOKUP($D$7,ETo!$B$4:$P$88,MONTH(D36)+2,FALSE)/4","v":{"$error":"#N/A"}},{"$error":"#N/A"},{"$error":"#N/A"},0,0,{"$error":"#N/A"},{"$f":"VLOOKUP(MONTH(D36),[0]!rainforpaddy,4)/1000*AB36*1600*7","v":{"$error":"#N/A"}}]
[null,"2009-01-10","2009-01-16","2009-01-16",11,{"$f":"IF(ISERROR(VLOOKUP(E37,Crop!$I$3:$J$70,2,FALSE)),0,VLOOKUP(paddy_dry!E37,Crop!$I$3:$J$71,2,FALSE))","v":3},{"$f":"IF(ISERROR(HLOOKUP($D$5,Kc!$C$3:$AI$57,paddy_dry!F37+3,FALSE)),0,HLOOKUP($D$5,Kc!$C$3:$AI$57,paddy_dry!F37+3,FALSE))","v":1.1200000000000001},0,{"$f":"IF(H36>0,IF(I$26>$E$9,0,VLOOKUP(I$26,$F$3:$G$23,2,FALSE)),0)","v":0},{"$f":"IF(I36>0,IF(J$26>$E$9,0,VLOOKUP(J$26,$F$3:$G$12,2,FALSE)),0)","v":0},{"$f":"IF(J36>0,IF(K$26>$E$9,0,VLOOKUP(K$26,$F$3:$G$23,2,FALSE)),0)","v":0},0,0,0,0,0,0,0,0,0,{"$f":"IF(T36>0,IF(U$26>$E$9,0,VLOOKUP(U$26,$F$3:$G$23,2,FALSE)),0)","v":0},0,0,0,0,0,0,0,{"$f":"IF(ISERROR((H37*G37+I37*G36+J37*G35+K37*G34+L37*G33+M37*G32+N37*G31+O37*G30+P37*G29+Q37*G28+R37*G27+S37*G78+T37*G77+U37*G76+V37*G75+W37*G74+X37*G73+Y37*G72+Z37*G71+AA37*G70)/AB37),0,(H37*G37+I37*G36+J37*G35+K37*G34+L37*G33+M37*G32+N37*G31+O37*G30+P37*G29+Q37*G28+R37*G27+S37*G78+T37*G77+U37*G76+V37*G75+W37*G74+X37*G73+Y37*G72+Z37*G71+AA37*G70)/AB37)","v":0},{"$f":"VLOOKUP($D$7,ETo!$B$4:$P$88,MONTH(D37)+2,FALSE)/4","v":{"$error":"#N/A"}},{"$error":"#N/A"},{"$error":"#N/A"},0,0,{"$error":"#N/A"},{"$f":"VLOOKUP(MONTH(D37),[0]!rainforpaddy,4)/1000*AB37*1600*7","v":{"$error":"#N/A"}}]
[null,"2009-01-17","2009-01-23","2009-01-23",12,{"$f":"IF(ISERROR(VLOOKUP(E38,Crop!$I$3:$J$70,2,FALSE)),0,VLOOKUP(paddy_dry!E38,Crop!$I$3:$J$71,2,FALSE))","v":4},{"$f":"IF(ISERROR(HLOOKUP($D$5,Kc!$C$3:$AI$57,paddy_dry!F38+3,FALSE)),0,HLOOKUP($D$5,Kc!$C$3:$AI$57,paddy_dry!F38+3,FALSE))","v":1.29},0,0,0,0,0,0,0,0,0,0,0,0,0,0,0,0,0,0,0,0,0,{"$f":"IF(ISERROR((H38*G38+I38*G37+J38*G36+K38*G35+L38*G34+M38*G33+N38*G32+O38*G31+P38*G30+Q38*G29+R38*G28+S38*G27+T38*G78+U38*G77+V38*G76+W38*G75+X38*G74+Y38*G73+Z38*G72+AA38*G71)/AB38),0,(H38*G38+I38*G37+J38*G36+K38*G35+L38*G34+M38*G33+N38*G32+O38*G31+P38*G30+Q38*G29+R38*G28+S38*G27+T38*G78+U38*G77+V38*G76+W38*G75+X38*G74+Y38*G73+Z38*G72+AA38*G71)/AB38)","v":0},{"$f":"VLOOKUP($D$7,ETo!$B$4:$P$88,MONTH(D38)+2,FALSE)/4","v":{"$error":"#N/A"}},{"$error":"#N/A"},{"$error":"#N/A"},0,0,{"$error":"#N/A"},{"$f":"VLOOKUP(MONTH(D38),[0]!rainforpaddy,4)/1000*AB38*1600*7","v":{"$error":"#N/A"}}]
[null,"2009-01-24","2009-01-30","2009-01-30",13,{"$f":"IF(ISERROR(VLOOKUP(E39,Crop!$I$3:$J$70,2,FALSE)),0,VLOOKUP(paddy_dry!E39,Crop!$I$3:$J$71,2,FALSE))","v":5},{"$f":"IF(ISERROR(HLOOKUP($D$5,Kc!$C$3:$AI$57,paddy_dry!F39+3,FALSE)),0,HLOOKUP($D$5,Kc!$C$3:$AI$57,paddy_dry!F39+3,FALSE))","v":1.38},0,0,0,0,0,0,0,0,0,0,0,0,0,0,0,0,0,0,0,0,0,{"$f":"IF(ISERROR((H39*G39+I39*G38+J39*G37+K39*G36+L39*G35+M39*G34+N39*G33+O39*G32+P39*G31+Q39*G30+R39*G29+S39*G28+T39*G27+U39*G78+V39*G77+W39*G76+X39*G75+Y39*G74+Z39*G73+AA39*G72)/AB39),0,(H39*G39+I39*G38+J39*G37+K39*G36+L39*G35+M39*G34+N39*G33+O39*G32+P39*G31+Q39*G30+R39*G29+S39*G28+T39*G27+U39*G78+V39*G77+W39*G76+X39*G75+Y39*G74+Z39*G73+AA39*G72)/AB39)","v":0},{"$f":"VLOOKUP($D$7,ETo!$B$4:$P$88,MONTH(D39)+2,FALSE)/4","v":{"$error":"#N/A"}},{"$error":"#N/A"},{"$error":"#N/A"},0,0,{"$error":"#N/A"},{"$f":"VLOOKUP(MONTH(D39),[0]!rainforpaddy,4)/1000*AB39*1600*7","v":{"$error":"#N/A"}}]
[null,"2009-01-31","2009-02-06","2009-02-06",14,{"$f":"IF(ISERROR(VLOOKUP(E40,Crop!$I$3:$J$70,2,FALSE)),0,VLOOKUP(paddy_dry!E40,Crop!$I$3:$J$71,2,FALSE))","v":6},{"$f":"IF(ISERROR(HLOOKUP($D$5,Kc!$C$3:$AI$57,paddy_dry!F40+3,FALSE)),0,HLOOKUP($D$5,Kc!$C$3:$AI$57,paddy_dry!F40+3,FALSE))","v":1.45},0,0,0,0,0,0,0,0,0,0,0,0,0,0,0,0,0,0,0,0,0,{"$f":"IF(ISERROR((H40*G40+I40*G39+J40*G38+K40*G37+L40*G36+M40*G35+N40*G34+O40*G33+P40*G32+Q40*G31+R40*G30+S40*G29+T40*G28+U40*G27+V40*G78+W40*G77+X40*G76+Y40*G75+Z40*G74+AA40*G73)/AB40),0,(H40*G40+I40*G39+J40*G38+K40*G37+L40*G36+M40*G35+N40*G34+O40*G33+P40*G32+Q40*G31+R40*G30+S40*G29+T40*G28+U40*G27+V40*G78+W40*G77+X40*G76+Y40*G75+Z40*G74+AA40*G73)/AB40)","v":0},{"$f":"VLOOKUP($D$7,ETo!$B$4:$P$88,MONTH(D40)+2,FALSE)/4","v":{"$error":"#N/A"}},{"$error":"#N/A"},{"$error":"#N/A"},0,0,{"$error":"#N/A"},{"$f":"VLOOKUP(MONTH(D40),[0]!rainforpaddy,4)/1000*AB40*1600*7","v":{"$error":"#N/A"}}]
[null,"2009-02-07","2009-02-13","2009-02-13",15,{"$f":"IF(ISERROR(VLOOKUP(E41,Crop!$I$3:$J$70,2,FALSE)),0,VLOOKUP(paddy_dry!E41,Crop!$I$3:$J$71,2,FALSE))","v":7},{"$f":"IF(ISERROR(HLOOKUP($D$5,Kc!$C$3:$AI$57,paddy_dry!F41+3,FALSE)),0,HLOOKUP($D$5,Kc!$C$3:$AI$57,paddy_dry!F41+3,FALSE))","v":1.5},0,0,0,0,0,0,0,0,0,0,0,0,0,0,0,0,0,0,0,0,0,{"$f":"IF(ISERROR((H41*G41+I41*G40+J41*G39+K41*G38+L41*G37+M41*G36+N41*G35+O41*G34+P41*G33+Q41*G32+R41*G31+S41*G30+T41*G29+U41*G28+V41*G27+W41*G78+X41*G77+Y41*G76+Z41*G75+AA41*G74)/AB41),0,(H41*G41+I41*G40+J41*G39+K41*G38+L41*G37+M41*G36+N41*G35+O41*G34+P41*G33+Q41*G32+R41*G31+S41*G30+T41*G29+U41*G28+V41*G27+W41*G78+X41*G77+Y41*G76+Z41*G75+AA41*G74)/AB41)","v":0},{"$f":"VLOOKUP($D$7,ETo!$B$4:$P$88,MONTH(D41)+2,FALSE)/4","v":{"$error":"#N/A"}},{"$error":"#N/A"},{"$error":"#N/A"},0,0,{"$error":"#N/A"},{"$f":"VLOOKUP(MONTH(D41),[0]!rainforpaddy,4)/1000*AB41*1600*7","v":{"$error":"#N/A"}}]
[null,"2009-02-14","2009-02-20","2009-02-20",16,{"$f":"IF(ISERROR(VLOOKUP(E42,Crop!$I$3:$J$70,2,FALSE)),0,VLOOKUP(paddy_dry!E42,Crop!$I$3:$J$71,2,FALSE))","v":8},{"$f":"IF(ISERROR(HLOOKUP($D$5,Kc!$C$3:$AI$57,paddy_dry!F42+3,FALSE)),0,HLOOKUP($D$5,Kc!$C$3:$AI$57,paddy_dry!F42+3,FALSE))","v":1.48},0,0,0,0,0,0,0,0,0,0,0,0,0,0,0,0,0,0,0,0,0,{"$f":"IF(ISERROR((H42*G42+I42*G41+J42*G40+K42*G39+L42*G38+M42*G37+N42*G36+O42*G35+P42*G34+Q42*G33+R42*G32+S42*G31+T42*G30+U42*G29+V42*G28+W42*G27+X42*G78+Y42*G77+Z42*G76+AA42*G75)/AB42),0,(H42*G42+I42*G41+J42*G40+K42*G39+L42*G38+M42*G37+N42*G36+O42*G35+P42*G34+Q42*G33+R42*G32+S42*G31+T42*G30+U42*G29+V42*G28+W42*G27+X42*G78+Y42*G77+Z42*G76+AA42*G75)/AB42)","v":0},{"$f":"VLOOKUP($D$7,ETo!$B$4:$P$88,MONTH(D42)+2,FALSE)/4","v":{"$error":"#N/A"}},{"$error":"#N/A"},{"$error":"#N/A"},0,0,{"$error":"#N/A"},{"$f":"VLOOKUP(MONTH(D42),[0]!rainforpaddy,4)/1000*AB42*1600*7","v":{"$error":"#N/A"}}]
[null,"2009-02-21","2009-02-27","2009-02-27",17,{"$f":"IF(ISERROR(VLOOKUP(E43,Crop!$I$3:$J$70,2,FALSE)),0,VLOOKUP(paddy_dry!E43,Crop!$I$3:$J$71,2,FALSE))","v":9},{"$f":"IF(ISERROR(HLOOKUP($D$5,Kc!$C$3:$AI$57,paddy_dry!F43+3,FALSE)),0,HLOOKUP($D$5,Kc!$C$3:$AI$57,paddy_dry!F43+3,FALSE))","v":1.42},0,0,0,0,0,0,0,0,0,0,0,0,0,0,0,0,0,0,0,0,0,{"$f":"IF(ISERROR((H43*G43+I43*G42+J43*G41+K43*G40+L43*G39+M43*G38+N43*G37+O43*G36+P43*G35+Q43*G34+R43*G33+S43*G32+T43*G31+U43*G30+V43*G29+W43*G28+X43*G27+Y43*G78+Z43*G77+AA43*G76)/AB43),0,(H43*G43+I43*G42+J43*G41+K43*G40+L43*G39+M43*G38+N43*G37+O43*G36+P43*G35+Q43*G34+R43*G33+S43*G32+T43*G31+U43*G30+V43*G29+W43*G28+X43*G27+Y43*G78+Z43*G77+AA43*G76)/AB43)","v":0},{"$f":"VLOOKUP($D$7,ETo!$B$4:$P$88,MONTH(D43)+2,FALSE)/4","v":{"$error":"#N/A"}},{"$error":"#N/A"},{"$error":"#N/A"},0,0,{"$error":"#N/A"},{"$f":"VLOOKUP(MONTH(D43),[0]!rainforpaddy,4)/1000*AB43*1600*7","v":{"$error":"#N/A"}}]
[null,"2009-02-28","2009-03-06","2009-03-06",18,{"$f":"IF(ISERROR(VLOOKUP(E44,Crop!$I$3:$J$70,2,FALSE)),0,VLOOKUP(paddy_dry!E44,Crop!$I$3:$J$71,2,FALSE))","v":10},{"$f":"IF(ISERROR(HLOOKUP($D$5,Kc!$C$3:$AI$57,paddy_dry!F44+3,FALSE)),0,HLOOKUP($D$5,Kc!$C$3:$AI$57,paddy_dry!F44+3,FALSE))","v":1.34},0,0,0,0,0,0,0,0,0,0,0,0,0,0,0,0,0,0,0,0,0,{"$f":"IF(ISERROR((H44*G44+I44*G43+J44*G42+K44*G41+L44*G40+M44*G39+N44*G38+O44*G37+P44*G36+Q44*G35+R44*G34+S44*G33+T44*G32+U44*G31+V44*G30+W44*G29+X44*G28+Y44*G27+Z44*G78+AA44*G77)/AB44),0,(H44*G44+I44*G43+J44*G42+K44*G41+L44*G40+M44*G39+N44*G38+O44*G37+P44*G36+Q44*G35+R44*G34+S44*G33+T44*G32+U44*G31+V44*G30+W44*G29+X44*G28+Y44*G27+Z44*G78+AA44*G77)/AB44)","v":0},{"$f":"VLOOKUP($D$7,ETo!$B$4:$P$88,MONTH(D44)+2,FALSE)/4","v":{"$error":"#N/A"}},{"$error":"#N/A"},{"$error":"#N/A"},0,0,{"$error":"#N/A"},{"$f":"VLOOKUP(MONTH(D44),[0]!rainforpaddy,4)/1000*AB44*1600*7","v":{"$error":"#N/A"}}]
[null,"2009-03-07","2009-03-13","2009-03-13",19,{"$f":"IF(ISERROR(VLOOKUP(E45,Crop!$I$3:$J$70,2,FALSE)),0,VLOOKUP(paddy_dry!E45,Crop!$I$3:$J$71,2,FALSE))","v":11},{"$f":"IF(ISERROR(HLOOKUP($D$5,Kc!$C$3:$AI$57,paddy_dry!F45+3,FALSE)),0,HLOOKUP($D$5,Kc!$C$3:$AI$57,paddy_dry!F45+3,FALSE))","v":1.23},0,0,0,0,0,0,0,0,0,0,0,0,0,0,0,0,0,0,0,0,0,{"$f":"IF(ISERROR((H45*G45+I45*G44+J45*G43+K45*G42+L45*G41+M45*G40+N45*G39+O45*G38+P45*G37+Q45*G36+R45*G35+S45*G34+T45*G33+U45*G32+V45*G31+W45*G30+X45*G29+Y45*G28+Z45*G27+AA45*G78)/AB45),0,(H45*G45+I45*G44+J45*G43+K45*G42+L45*G41+M45*G40+N45*G39+O45*G38+P45*G37+Q45*G36+R45*G35+S45*G34+T45*G33+U45*G32+V45*G31+W45*G30+X45*G29+Y45*G28+Z45*G27+AA45*G78)/AB45)","v":0},{"$f":"VLOOKUP($D$7,ETo!$B$4:$P$88,MONTH(D45)+2,FALSE)/4","v":{"$error":"#N/A"}},{"$error":"#N/A"},{"$error":"#N/A"},0,0,{"$error":"#N/A"},{"$f":"VLOOKUP(MONTH(D45),[0]!rainforpaddy,4)/1000*AB45*1600*7","v":{"$error":"#N/A"}}]
[null,"2009-03-14","2009-03-20","2009-03-20",20,{"$f":"IF(ISERROR(VLOOKUP(E46,Crop!$I$3:$J$70,2,FALSE)),0,VLOOKUP(paddy_dry!E46,Crop!$I$3:$J$71,2,FALSE))","v":12},{"$f":"IF(ISERROR(HLOOKUP($D$5,Kc!$C$3:$AI$57,paddy_dry!F46+3,FALSE)),0,HLOOKUP($D$5,Kc!$C$3:$AI$57,paddy_dry!F46+3,FALSE))","v":0.94},0,0,0,0,0,0,0,0,0,0,0,0,0,0,0,0,0,0,0,0,0,{"$f":"IF(ISERROR((H46*G46+I46*G45+J46*G44+K46*G43+L46*G42+M46*G41+N46*G40+O46*G39+P46*G38+Q46*G37+R46*G36+S46*G35+T46*G34+U46*G33+V46*G32+W46*G31+X46*G30+Y46*G29+Z46*G28+AA46*G27)/AB46),0,(H46*G46+I46*G45+J46*G44+K46*G43+L46*G42+M46*G41+N46*G40+O46*G39+P46*G38+Q46*G37+R46*G36+S46*G35+T46*G34+U46*G33+V46*G32+W46*G31+X46*G30+Y46*G29+Z46*G28+AA46*G27)/AB46)","v":0},{"$f":"VLOOKUP($D$7,ETo!$B$4:$P$88,MONTH(D46)+2,FALSE)/4","v":{"$error":"#N/A"}},{"$error":"#N/A"},{"$error":"#N/A"},0,0,{"$error":"#N/A"},{"$f":"VLOOKUP(MONTH(D46),[0]!rainforpaddy,4)/1000*AB46*1600*7","v":{"$error":"#N/A"}}]
[null,"2009-03-21","2009-03-27","2009-03-27",21,{"$f":"IF(ISERROR(VLOOKUP(E47,Crop!$I$3:$J$70,2,FALSE)),0,VLOOKUP(paddy_dry!E47,Crop!$I$3:$J$71,2,FALSE))","v":13},{"$f":"IF(ISERROR(HLOOKUP($D$5,Kc!$C$3:$AI$57,paddy_dry!F47+3,FALSE)),0,HLOOKUP($D$5,Kc!$C$3:$AI$57,paddy_dry!F47+3,FALSE))","v":0.86},0,0,0,{"$f":"IF(J46>0,IF(K$26>$E$9,0,VLOOKUP(K$26,$F$3:$G$23,2,FALSE)),0)","v":0},0,0,0,0,0,0,0,0,0,{"$f":"IF(T46>0,IF(U$26>$E$9,0,VLOOKUP(U$26,$F$3:$G$23,2,FALSE)),0)","v":0},0,0,0,0,0,0,0,{"$f":"IF(ISERROR((H47*G47+I47*G46+J47*G45+K47*G44+L47*G43+M47*G42+N47*G41+O47*G40+P47*G39+Q47*G38+R47*G37+S47*G36+T47*G35+U47*G34+V47*G33+W47*G32+X47*G31+Y47*G30+Z47*G29+AA47*G28)/AB47),0,(H47*G47+I47*G46+J47*G45+K47*G44+L47*G43+M47*G42+N47*G41+O47*G40+P47*G39+Q47*G38+R47*G37+S47*G36+T47*G35+U47*G34+V47*G33+W47*G32+X47*G31+Y47*G30+Z47*G29+AA47*G28)/AB47)","v":0},{"$f":"VLOOKUP($D$7,ETo!$B$4:$P$88,MONTH(D47)+2,FALSE)/4","v":{"$error":"#N/A"}},{"$error":"#N/A"},{"$error":"#N/A"},0,0,{"$error":"#N/A"},{"$f":"VLOOKUP(MONTH(D47),[0]!rainforpaddy,4)/1000*AB47*1600*7","v":{"$error":"#N/A"}}]
[null,"2009-03-28","2009-04-03","2009-04-03",22,{"$f":"IF(ISERROR(VLOOKUP(E48,Crop!$I$3:$J$70,2,FALSE)),0,VLOOKUP(paddy_dry!E48,Crop!$I$3:$J$71,2,FALSE))","v":0},{"$f":"IF(ISERROR(HLOOKUP($D$5,Kc!$C$3:$AI$57,paddy_dry!F48+3,FALSE)),0,HLOOKUP($D$5,Kc!$C$3:$AI$57,paddy_dry!F48+3,FALSE))","v":0},0,0,0,0,0,0,0,0,0,0,0,0,0,0,0,0,0,0,0,0,0,{"$f":"IF(ISERROR((H48*G48+I48*G47+J48*G46+K48*G45+L48*G44+M48*G43+N48*G42+O48*G41+P48*G40+Q48*G39+R48*G38+S48*G37+T48*G36+U48*G35+V48*G34+W48*G33+X48*G32+Y48*G31+Z48*G30+AA48*G29)/AB48),0,(H48*G48+I48*G47+J48*G46+K48*G45+L48*G44+M48*G43+N48*G42+O48*G41+P48*G40+Q48*G39+R48*G38+S48*G37+T48*G36+U48*G35+V48*G34+W48*G33+X48*G32+Y48*G31+Z48*G30+AA48*G29)/AB48)","v":0},{"$f":"VLOOKUP($D$7,ETo!$B$4:$P$88,MONTH(D48)+2,FALSE)/4","v":{"$error":"#N/A"}},{"$error":"#N/A"},{"$error":"#N/A"},0,0,{"$error":"#N/A"},{"$f":"VLOOKUP(MONTH(D48),[0]!rainforpaddy,4)/1000*AB48*1600*7","v":{"$error":"#N/A"}}]
[null,"2009-04-04","2009-04-10","2009-04-10",23,{"$f":"IF(ISERROR(VLOOKUP(E49,Crop!$I$3:$J$70,2,FALSE)),0,VLOOKUP(paddy_dry!E49,Crop!$I$3:$J$71,2,FALSE))","v":0},{"$f":"IF(ISERROR(HLOOKUP($D$5,Kc!$C$3:$AI$57,paddy_dry!F49+3,FALSE)),0,HLOOKUP($D$5,Kc!$C$3:$AI$57,paddy_dry!F49+3,FALSE))","v":0},0,0,0,0,0,0,0,0,0,0,0,0,0,0,0,0,0,0,0,0,0,0,{"$f":"VLOOKUP($D$7,ETo!$B$4:$P$88,MONTH(D49)+2,FALSE)/4","v":{"$error":"#N/A"}},{"$error":"#N/A"},{"$error":"#N/A"},0,0,{"$error":"#N/A"},{"$f":"VLOOKUP(MONTH(D49),[0]!rainforpaddy,4)/1000*AB49*1600*7","v":{"$error":"#N/A"}}]
[null,"2009-04-11","2009-04-17","2009-04-17",24,{"$f":"IF(ISERROR(VLOOKUP(E50,Crop!$I$3:$J$70,2,FALSE)),0,VLOOKUP(paddy_dry!E50,Crop!$I$3:$J$71,2,FALSE))","v":0},{"$f":"IF(ISERROR(HLOOKUP($D$5,Kc!$C$3:$AI$57,paddy_dry!F50+3,FALSE)),0,HLOOKUP($D$5,Kc!$C$3:$AI$57,paddy_dry!F50+3,FALSE))","v":0},0,0,0,0,0,0,0,0,0,0,0,0,0,0,0,0,0,0,0,0,0,0,{"$f":"VLOOKUP($D$7,ETo!$B$4:$P$88,MONTH(D50)+2,FALSE)/4","v":{"$error":"#N/A"}},{"$error":"#N/A"},{"$error":"#N/A"},0,0,{"$error":"#N/A"},{"$f":"VLOOKUP(MONTH(D50),[0]!rainforpaddy,4)/1000*AB50*1600*7","v":{"$error":"#N/A"}}]
[null,"2009-04-18","2009-04-24","2009-04-24",25,{"$f":"IF(ISERROR(VLOOKUP(E51,Crop!$I$3:$J$70,2,FALSE)),0,VLOOKUP(paddy_dry!E51,Crop!$I$3:$J$71,2,FALSE))","v":0},{"$f":"IF(ISERROR(HLOOKUP($D$5,Kc!$C$3:$AI$57,paddy_dry!F51+3,FALSE)),0,HLOOKUP($D$5,Kc!$C$3:$AI$57,paddy_dry!F51+3,FALSE))","v":0},0,0,0,0,0,0,0,0,0,0,0,0,0,0,0,0,0,0,0,0,0,0,{"$f":"VLOOKUP($D$7,ETo!$B$4:$P$88,MONTH(D51)+2,FALSE)/4","v":{"$error":"#N/A"}},{"$error":"#N/A"},{"$error":"#N/A"},0,0,{"$error":"#N/A"},{"$f":"VLOOKUP(MONTH(D51),[0]!rainforpaddy,4)/1000*AB51*1600*7","v":{"$error":"#N/A"}}]
[null,"2009-04-25","2009-05-01","2009-05-01",26,{"$f":"IF(ISERROR(VLOOKUP(E52,Crop!$I$3:$J$70,2,FALSE)),0,VLOOKUP(paddy_dry!E52,Crop!$I$3:$J$71,2,FALSE))","v":0},{"$f":"IF(ISERROR(HLOOKUP($D$5,Kc!$C$3:$AI$57,paddy_dry!F52+3,FALSE)),0,HLOOKUP($D$5,Kc!$C$3:$AI$57,paddy_dry!F52+3,FALSE))","v":0},0,0,0,0,0,0,0,0,0,0,0,0,0,0,0,0,0,0,0,0,0,0,{"$f":"VLOOKUP($D$7,ETo!$B$4:$P$88,MONTH(D52)+2,FALSE)/4","v":{"$error":"#N/A"}},{"$error":"#N/A"},{"$error":"#N/A"},0,0,{"$error":"#N/A"},{"$f":"VLOOKUP(MONTH(D52),[0]!rainforpaddy,4)/1000*AB52*1600*7","v":{"$error":"#N/A"}}]
[null,"2009-05-02","2009-05-08","2009-05-08",27,{"$f":"IF(ISERROR(VLOOKUP(E53,Crop!$I$3:$J$70,2,FALSE)),0,VLOOKUP(paddy_dry!E53,Crop!$I$3:$J$71,2,FALSE))","v":0},{"$f":"IF(ISERROR(HLOOKUP($D$5,Kc!$C$3:$AI$57,paddy_dry!F53+3,FALSE)),0,HLOOKUP($D$5,Kc!$C$3:$AI$57,paddy_dry!F53+3,FALSE))","v":0},0,0,0,0,0,0,0,0,0,0,0,0,0,0,0,0,0,0,0,0,0,0,{"$f":"VLOOKUP($D$7,ETo!$B$4:$P$88,MONTH(D53)+2,FALSE)/4","v":{"$error":"#N/A"}},{"$error":"#N/A"},{"$error":"#N/A"},0,0,{"$error":"#N/A"},{"$f":"VLOOKUP(MONTH(D53),[0]!rainforpaddy,4)/1000*AB53*1600*7","v":{"$error":"#N/A"}}]
[null,"2009-05-09","2009-05-15","2009-05-15",28,{"$f":"IF(ISERROR(VLOOKUP(E54,Crop!$I$3:$J$70,2,FALSE)),0,VLOOKUP(paddy_dry!E54,Crop!$I$3:$J$71,2,FALSE))","v":0},{"$f":"IF(ISERROR(HLOOKUP($D$5,Kc!$C$3:$AI$57,paddy_dry!F54+3,FALSE)),0,HLOOKUP($D$5,Kc!$C$3:$AI$57,paddy_dry!F54+3,FALSE))","v":0},0,0,0,0,0,0,0,0,0,0,0,0,0,0,0,0,0,0,0,0,0,0,{"$f":"VLOOKUP($D$7,ETo!$B$4:$P$88,MONTH(D54)+2,FALSE)/4","v":{"$error":"#N/A"}},{"$error":"#N/A"},{"$error":"#N/A"},0,0,{"$error":"#N/A"},{"$f":"VLOOKUP(MONTH(D54),[0]!rainforpaddy,4)/1000*AB54*1600*7","v":{"$error":"#N/A"}}]
[null,"2009-05-16","2009-05-22","2009-05-22",29,{"$f":"IF(ISERROR(VLOOKUP(E55,Crop!$I$3:$J$70,2,FALSE)),0,VLOOKUP(paddy_dry!E55,Crop!$I$3:$J$71,2,FALSE))","v":0},{"$f":"IF(ISERROR(HLOOKUP($D$5,Kc!$C$3:$AI$57,paddy_dry!F55+3,FALSE)),0,HLOOKUP($D$5,Kc!$C$3:$AI$57,paddy_dry!F55+3,FALSE))","v":0},0,0,0,0,0,0,0,0,0,0,0,0,0,0,0,0,0,0,0,0,0,0,{"$f":"VLOOKUP($D$7,ETo!$B$4:$P$88,MONTH(D55)+2,FALSE)/4","v":{"$error":"#N/A"}},{"$error":"#N/A"},{"$error":"#N/A"},0,0,{"$error":"#N/A"},{"$f":"VLOOKUP(MONTH(D55),[0]!rainforpaddy,4)/1000*AB55*1600*7","v":{"$error":"#N/A"}}]
[null,"2009-05-23","2009-05-29","2009-05-29",30,{"$f":"IF(ISERROR(VLOOKUP(E56,Crop!$I$3:$J$70,2,FALSE)),0,VLOOKUP(paddy_dry!E56,Crop!$I$3:$J$71,2,FALSE))","v":0},{"$f":"IF(ISERROR(HLOOKUP($D$5,Kc!$C$3:$AI$57,paddy_dry!F56+3,FALSE)),0,HLOOKUP($D$5,Kc!$C$3:$AI$57,paddy_dry!F56+3,FALSE))","v":0},0,0,0,0,0,0,0,0,0,0,0,0,0,0,0,0,0,0,0,0,0,0,{"$f":"VLOOKUP($D$7,ETo!$B$4:$P$88,MONTH(D56)+2,FALSE)/4","v":{"$error":"#N/A"}},{"$error":"#N/A"},{"$error":"#N/A"},0,0,{"$error":"#N/A"},{"$f":"VLOOKUP(MONTH(D56),[0]!rainforpaddy,4)/1000*AB56*1600*7","v":{"$error":"#N/A"}}]
[null,"2009-05-30","2009-06-05","2009-06-05",31,{"$f":"IF(ISERROR(VLOOKUP(E57,Crop!$I$3:$J$70,2,FALSE)),0,VLOOKUP(paddy_dry!E57,Crop!$I$3:$J$71,2,FALSE))","v":0},{"$f":"IF(ISERROR(HLOOKUP($D$5,Kc!$C$3:$AI$57,paddy_dry!F57+3,FALSE)),0,HLOOKUP($D$5,Kc!$C$3:$AI$57,paddy_dry!F57+3,FALSE))","v":0},0,0,0,{"$f":"IF(J56>0,IF(K$26>$E$9,0,VLOOKUP(K$26,$F$3:$G$23,2,FALSE)),0)","v":0},0,0,0,0,0,0,0,0,0,{"$f":"IF(T56>0,IF(U$26>$E$9,0,VLOOKUP(U$26,$F$3:$G$23,2,FALSE)),0)","v":0},0,0,0,0,0,0,0,0,{"$f":"VLOOKUP($D$7,ETo!$B$4:$P$88,MONTH(D57)+2,FALSE)/4","v":{"$error":"#N/A"}},{"$error":"#N/A"},{"$error":"#N/A"},0,0,{"$error":"#N/A"},{"$f":"VLOOKUP(MONTH(D57),[0]!rainforpaddy,4)/1000*AB57*1600*7","v":{"$error":"#N/A"}}]
[null,"2009-06-06","2009-06-12","2009-06-12",32,{"$f":"IF(ISERROR(VLOOKUP(E58,Crop!$I$3:$J$70,2,FALSE)),0,VLOOKUP(paddy_dry!E58,Crop!$I$3:$J$71,2,FALSE))","v":0},{"$f":"IF(ISERROR(HLOOKUP($D$5,Kc!$C$3:$AI$57,paddy_dry!F58+3,FALSE)),0,HLOOKUP($D$5,Kc!$C$3:$AI$57,paddy_dry!F58+3,FALSE))","v":0},0,0,0,0,0,0,0,0,0,0,0,0,0,0,0,0,0,0,0,0,0,0,{"$f":"VLOOKUP($D$7,ETo!$B$4:$P$88,MONTH(D58)+2,FALSE)/4","v":{"$error":"#N/A"}},{"$error":"#N/A"},{"$error":"#N/A"},0,0,{"$error":"#N/A"},{"$f":"VLOOKUP(MONTH(D58),[0]!rainforpaddy,4)/1000*AB58*1600*7","v":{"$error":"#N/A"}}]
[null,"2009-06-13","2009-06-19","2009-06-19",33,{"$f":"IF(ISERROR(VLOOKUP(E59,Crop!$I$3:$J$70,2,FALSE)),0,VLOOKUP(paddy_dry!E59,Crop!$I$3:$J$71,2,FALSE))","v":0},{"$f":"IF(ISERROR(HLOOKUP($D$5,Kc!$C$3:$AI$57,paddy_dry!F59+3,FALSE)),0,HLOOKUP($D$5,Kc!$C$3:$AI$57,paddy_dry!F59+3,FALSE))","v":0},0,0,0,0,0,0,0,0,0,0,0,0,0,0,0,0,0,0,0,0,0,0,{"$f":"VLOOKUP($D$7,ETo!$B$4:$P$88,MONTH(D59)+2,FALSE)/4","v":{"$error":"#N/A"}},{"$error":"#N/A"},{"$error":"#N/A"},0,0,{"$error":"#N/A"},{"$f":"VLOOKUP(MONTH(D59),[0]!rainforpaddy,4)/1000*AB59*1600*7","v":{"$error":"#N/A"}}]
[null,"2009-06-20","2009-06-26","2009-06-26",34,{"$f":"IF(ISERROR(VLOOKUP(E60,Crop!$I$3:$J$70,2,FALSE)),0,VLOOKUP(paddy_dry!E60,Crop!$I$3:$J$71,2,FALSE))","v":0},{"$f":"IF(ISERROR(HLOOKUP($D$5,Kc!$C$3:$AI$57,paddy_dry!F60+3,FALSE)),0,HLOOKUP($D$5,Kc!$C$3:$AI$57,paddy_dry!F60+3,FALSE))","v":0},0,0,0,0,0,0,0,0,0,0,0,0,0,0,0,0,0,0,0,0,0,0,{"$f":"VLOOKUP($D$7,ETo!$B$4:$P$88,MONTH(D60)+2,FALSE)/4","v":{"$error":"#N/A"}},{"$error":"#N/A"},{"$error":"#N/A"},0,0,{"$error":"#N/A"},{"$f":"VLOOKUP(MONTH(D60),[0]!rainforpaddy,4)/1000*AB60*1600*7","v":{"$error":"#N/A"}}]
[null,"2009-06-27","2009-07-03","2009-07-03",35,{"$f":"IF(ISERROR(VLOOKUP(E61,Crop!$I$3:$J$70,2,FALSE)),0,VLOOKUP(paddy_dry!E61,Crop!$I$3:$J$71,2,FALSE))","v":0},{"$f":"IF(ISERROR(HLOOKUP($D$5,Kc!$C$3:$AI$57,paddy_dry!F61+3,FALSE)),0,HLOOKUP($D$5,Kc!$C$3:$AI$57,paddy_dry!F61+3,FALSE))","v":0},0,0,0,0,0,0,0,0,0,0,0,0,0,0,0,0,0,0,0,0,0,0,{"$f":"VLOOKUP($D$7,ETo!$B$4:$P$88,MONTH(D61)+2,FALSE)/4","v":{"$error":"#N/A"}},{"$error":"#N/A"},{"$error":"#N/A"},0,0,{"$error":"#N/A"},{"$f":"VLOOKUP(MONTH(D61),[0]!rainforpaddy,4)/1000*AB61*1600*7","v":{"$error":"#N/A"}}]
[null,"2009-07-04","2009-07-10","2009-07-10",36,{"$f":"IF(ISERROR(VLOOKUP(E62,Crop!$I$3:$J$70,2,FALSE)),0,VLOOKUP(paddy_dry!E62,Crop!$I$3:$J$71,2,FALSE))","v":0},{"$f":"IF(ISERROR(HLOOKUP($D$5,Kc!$C$3:$AI$57,paddy_dry!F62+3,FALSE)),0,HLOOKUP($D$5,Kc!$C$3:$AI$57,paddy_dry!F62+3,FALSE))","v":0},0,0,0,0,0,0,0,0,0,0,0,0,0,0,0,0,0,0,0,0,0,0,{"$f":"VLOOKUP($D$7,ETo!$B$4:$P$88,MONTH(D62)+2,FALSE)/4","v":{"$error":"#N/A"}},{"$error":"#N/A"},{"$error":"#N/A"},0,0,{"$error":"#N/A"},{"$f":"VLOOKUP(MONTH(D62),[0]!rainforpaddy,4)/1000*AB62*1600*7","v":{"$error":"#N/A"}}]
[null,"2009-07-11","2009-07-17","2009-07-17",37,{"$f":"IF(ISERROR(VLOOKUP(E63,Crop!$I$3:$J$70,2,FALSE)),0,VLOOKUP(paddy_dry!E63,Crop!$I$3:$J$71,2,FALSE))","v":0},{"$f":"IF(ISERROR(HLOOKUP($D$5,Kc!$C$3:$AI$57,paddy_dry!F63+3,FALSE)),0,HLOOKUP($D$5,Kc!$C$3:$AI$57,paddy_dry!F63+3,FALSE))","v":0},0,0,0,0,0,0,0,0,0,0,0,0,0,0,0,0,0,0,0,0,0,0,{"$f":"VLOOKUP($D$7,ETo!$B$4:$P$88,MONTH(D63)+2,FALSE)/4","v":{"$error":"#N/A"}},{"$error":"#N/A"},{"$error":"#N/A"},0,0,{"$error":"#N/A"},{"$f":"VLOOKUP(MONTH(D63),[0]!rainforpaddy,4)/1000*AB63*1600*7","v":{"$error":"#N/A"}}]
[null,"2009-07-18","2009-07-24","2009-07-24",38,{"$f":"IF(ISERROR(VLOOKUP(E64,Crop!$I$3:$J$70,2,FALSE)),0,VLOOKUP(paddy_dry!E64,Crop!$I$3:$J$71,2,FALSE))","v":0},{"$f":"IF(ISERROR(HLOOKUP($D$5,Kc!$C$3:$AI$57,paddy_dry!F64+3,FALSE)),0,HLOOKUP($D$5,Kc!$C$3:$AI$57,paddy_dry!F64+3,FALSE))","v":0},0,0,0,0,0,0,0,0,0,0,0,0,0,0,0,0,0,0,0,0,0,0,{"$f":"VLOOKUP($D$7,ETo!$B$4:$P$88,MONTH(D64)+2,FALSE)/4","v":{"$error":"#N/A"}},{"$error":"#N/A"},{"$error":"#N/A"},0,0,{"$error":"#N/A"},{"$f":"VLOOKUP(MONTH(D64),[0]!rainforpaddy,4)/1000*AB64*1600*7","v":{"$error":"#N/A"}}]
[null,"2009-07-25","2009-07-31","2009-07-31",39,{"$f":"IF(ISERROR(VLOOKUP(E65,Crop!$I$3:$J$70,2,FALSE)),0,VLOOKUP(paddy_dry!E65,Crop!$I$3:$J$71,2,FALSE))","v":0},{"$f":"IF(ISERROR(HLOOKUP($D$5,Kc!$C$3:$AI$57,paddy_dry!F65+3,FALSE)),0,HLOOKUP($D$5,Kc!$C$3:$AI$57,paddy_dry!F65+3,FALSE))","v":0},0,0,0,0,0,0,0,0,0,0,0,0,0,0,0,0,0,0,0,0,0,0,{"$f":"VLOOKUP($D$7,ETo!$B$4:$P$88,MONTH(D65)+2,FALSE)/4","v":{"$error":"#N/A"}},{"$error":"#N/A"},{"$error":"#N/A"},0,0,{"$error":"#N/A"},{"$f":"VLOOKUP(MONTH(D65),[0]!rainforpaddy,4)/1000*AB65*1600*7","v":{"$error":"#N/A"}}]
[null,"2009-08-01","2009-08-07","2009-08-07",40,{"$f":"IF(ISERROR(VLOOKUP(E66,Crop!$I$3:$J$70,2,FALSE)),0,VLOOKUP(paddy_dry!E66,Crop!$I$3:$J$71,2,FALSE))","v":0},{"$f":"IF(ISERROR(HLOOKUP($D$5,Kc!$C$3:$AI$57,paddy_dry!F66+3,FALSE)),0,HLOOKUP($D$5,Kc!$C$3:$AI$57,paddy_dry!F66+3,FALSE))","v":0},0,0,0,0,0,0,0,0,0,0,0,0,0,0,0,0,0,0,0,0,0,0,{"$f":"VLOOKUP($D$7,ETo!$B$4:$P$88,MONTH(D66)+2,FALSE)/4","v":{"$error":"#N/A"}},{"$error":"#N/A"},{"$error":"#N/A"},0,0,{"$error":"#N/A"},{"$f":"VLOOKUP(MONTH(D66),[0]!rainforpaddy,4)/1000*AB66*1600*7","v":{"$error":"#N/A"}}]
[null,"2009-08-08","2009-08-14","2009-08-14",41,{"$f":"IF(ISERROR(VLOOKUP(E67,Crop!$I$3:$J$70,2,FALSE)),0,VLOOKUP(paddy_dry!E67,Crop!$I$3:$J$71,2,FALSE))","v":0},{"$f":"IF(ISERROR(HLOOKUP($D$5,Kc!$C$3:$AI$57,paddy_dry!F67+3,FALSE)),0,HLOOKUP($D$5,Kc!$C$3:$AI$57,paddy_dry!F67+3,FALSE))","v":0},0,0,0,{"$f":"IF(J66>0,IF(K$26>$E$9,0,VLOOKUP(K$26,$F$3:$G$23,2,FALSE)),0)","v":0},0,0,0,0,0,0,0,0,0,{"$f":"IF(T66>0,IF(U$26>$E$9,0,VLOOKUP(U$26,$F$3:$G$23,2,FALSE)),0)","v":0},0,0,0,0,0,0,0,0,{"$f":"VLOOKUP($D$7,ETo!$B$4:$P$88,MONTH(D67)+2,FALSE)/4","v":{"$error":"#N/A"}},{"$error":"#N/A"},{"$error":"#N/A"},0,0,{"$error":"#N/A"},{"$f":"VLOOKUP(MONTH(D67),[0]!rainforpaddy,4)/1000*AB67*1600*7","v":{"$error":"#N/A"}}]
[null,"2009-08-15","2009-08-21","2009-08-21",42,{"$f":"IF(ISERROR(VLOOKUP(E68,Crop!$I$3:$J$70,2,FALSE)),0,VLOOKUP(paddy_dry!E68,Crop!$I$3:$J$71,2,FALSE))","v":0},{"$f":"IF(ISERROR(HLOOKUP($D$5,Kc!$C$3:$AI$57,paddy_dry!F68+3,FALSE)),0,HLOOKUP($D$5,Kc!$C$3:$AI$57,paddy_dry!F68+3,FALSE))","v":0},0,0,0,0,0,0,0,0,0,0,0,0,0,0,0,0,0,0,0,0,0,0,{"$f":"VLOOKUP($D$7,ETo!$B$4:$P$88,MONTH(D68)+2,FALSE)/4","v":{"$error":"#N/A"}},{"$error":"#N/A"},{"$error":"#N/A"},0,0,{"$error":"#N/A"},{"$f":"VLOOKUP(MONTH(D68),[0]!rainforpaddy,4)/1000*AB68*1600*7","v":{"$error":"#N/A"}}]
[null,"2009-08-22","2009-08-28","2009-08-28",43,{"$f":"IF(ISERROR(VLOOKUP(E69,Crop!$I$3:$J$70,2,FALSE)),0,VLOOKUP(paddy_dry!E69,Crop!$I$3:$J$71,2,FALSE))","v":0},{"$f":"IF(ISERROR(HLOOKUP($D$5,Kc!$C$3:$AI$57,paddy_dry!F69+3,FALSE)),0,HLOOKUP($D$5,Kc!$C$3:$AI$57,paddy_dry!F69+3,FALSE))","v":0},0,0,0,0,0,0,0,0,0,0,0,0,0,0,0,0,0,0,0,0,0,0,{"$f":"VLOOKUP($D$7,ETo!$B$4:$P$88,MONTH(D69)+2,FALSE)/4","v":{"$error":"#N/A"}},{"$error":"#N/A"},{"$error":"#N/A"},0,0,{"$error":"#N/A"},{"$f":"VLOOKUP(MONTH(D69),[0]!rainforpaddy,4)/1000*AB69*1600*7","v":{"$error":"#N/A"}}]
[null,"2009-08-29","2009-09-04","2009-09-04",44,{"$f":"IF(ISERROR(VLOOKUP(E70,Crop!$I$3:$J$70,2,FALSE)),0,VLOOKUP(paddy_dry!E70,Crop!$I$3:$J$71,2,FALSE))","v":0},{"$f":"IF(ISERROR(HLOOKUP($D$5,Kc!$C$3:$AI$57,paddy_dry!F70+3,FALSE)),0,HLOOKUP($D$5,Kc!$C$3:$AI$57,paddy_dry!F70+3,FALSE))","v":0},0,0,0,0,0,0,0,0,0,0,0,0,0,0,0,0,0,0,0,0,0,0,{"$f":"VLOOKUP($D$7,ETo!$B$4:$P$88,MONTH(D70)+2,FALSE)/4","v":{"$error":"#N/A"}},{"$error":"#N/A"},{"$error":"#N/A"},0,0,{"$error":"#N/A"},{"$f":"VLOOKUP(MONTH(D70),[0]!rainforpaddy,4)/1000*AB70*1600*7","v":{"$error":"#N/A"}}]
[null,"2009-09-05","2009-09-11","2009-09-11",45,{"$f":"IF(ISERROR(VLOOKUP(E71,Crop!$I$3:$J$70,2,FALSE)),0,VLOOKUP(paddy_dry!E71,Crop!$I$3:$J$71,2,FALSE))","v":0},{"$f":"IF(ISERROR(HLOOKUP($D$5,Kc!$C$3:$AI$57,paddy_dry!F71+3,FALSE)),0,HLOOKUP($D$5,Kc!$C$3:$AI$57,paddy_dry!F71+3,FALSE))","v":0},0,0,0,0,0,0,0,0,0,0,0,0,0,0,0,0,0,0,0,0,0,0,{"$f":"VLOOKUP($D$7,ETo!$B$4:$P$88,MONTH(D71)+2,FALSE)/4","v":{"$error":"#N/A"}},{"$error":"#N/A"},{"$error":"#N/A"},0,0,{"$error":"#N/A"},{"$f":"VLOOKUP(MONTH(D71),[0]!rainforpaddy,4)/1000*AB71*1600*7","v":{"$error":"#N/A"}}]
[null,"2009-09-12","2009-09-18","2009-09-18",46,{"$f":"IF(ISERROR(VLOOKUP(E72,Crop!$I$3:$J$70,2,FALSE)),0,VLOOKUP(paddy_dry!E72,Crop!$I$3:$J$71,2,FALSE))","v":0},{"$f":"IF(ISERROR(HLOOKUP($D$5,Kc!$C$3:$AI$57,paddy_dry!F72+3,FALSE)),0,HLOOKUP($D$5,Kc!$C$3:$AI$57,paddy_dry!F72+3,FALSE))","v":0},0,0,0,0,0,0,0,0,0,0,0,0,0,0,0,0,0,0,0,0,0,0,{"$f":"VLOOKUP($D$7,ETo!$B$4:$P$88,MONTH(D72)+2,FALSE)/4","v":{"$error":"#N/A"}},{"$error":"#N/A"},{"$error":"#N/A"},0,0,{"$error":"#N/A"},{"$f":"VLOOKUP(MONTH(D72),[0]!rainforpaddy,4)/1000*AB72*1600*7","v":{"$error":"#N/A"}}]
[null,"2009-09-19","2009-09-25","2009-09-25",47,{"$f":"IF(ISERROR(VLOOKUP(E73,Crop!$I$3:$J$70,2,FALSE)),0,VLOOKUP(paddy_dry!E73,Crop!$I$3:$J$71,2,FALSE))","v":0},{"$f":"IF(ISERROR(HLOOKUP($D$5,Kc!$C$3:$AI$57,paddy_dry!F73+3,FALSE)),0,HLOOKUP($D$5,Kc!$C$3:$AI$57,paddy_dry!F73+3,FALSE))","v":0},0,0,0,0,0,0,0,0,0,0,0,0,0,0,0,0,0,0,0,0,0,0,{"$f":"VLOOKUP($D$7,ETo!$B$4:$P$88,MONTH(D73)+2,FALSE)/4","v":{"$error":"#N/A"}},{"$error":"#N/A"},{"$error":"#N/A"},0,0,{"$error":"#N/A"},{"$f":"VLOOKUP(MONTH(D73),[0]!rainforpaddy,4)/1000*AB73*1600*7","v":{"$error":"#N/A"}}]
[null,"2009-09-26","2009-10-02","2009-10-02",48,{"$f":"IF(ISERROR(VLOOKUP(E74,Crop!$I$3:$J$70,2,FALSE)),0,VLOOKUP(paddy_dry!E74,Crop!$I$3:$J$71,2,FALSE))","v":0},{"$f":"IF(ISERROR(HLOOKUP($D$5,Kc!$C$3:$AI$57,paddy_dry!F74+3,FALSE)),0,HLOOKUP($D$5,Kc!$C$3:$AI$57,paddy_dry!F74+3,FALSE))","v":0},0,0,0,0,0,0,0,0,0,0,0,0,0,0,0,0,0,0,0,0,0,0,{"$f":"VLOOKUP($D$7,ETo!$B$4:$P$88,MONTH(D74)+2,FALSE)/4","v":{"$error":"#N/A"}},{"$error":"#N/A"},{"$error":"#N/A"},0,0,{"$error":"#N/A"},{"$f":"VLOOKUP(MONTH(D74),[0]!rainforpaddy,4)/1000*AB74*1600*7","v":{"$error":"#N/A"}}]
[null,"2009-10-03","2009-10-09","2009-10-09",49,{"$f":"IF(ISERROR(VLOOKUP(E75,Crop!$I$3:$J$70,2,FALSE)),0,VLOOKUP(paddy_dry!E75,Crop!$I$3:$J$71,2,FALSE))","v":0},{"$f":"IF(ISERROR(HLOOKUP($D$5,Kc!$C$3:$AI$57,paddy_dry!F75+3,FALSE)),0,HLOOKUP($D$5,Kc!$C$3:$AI$57,paddy_dry!F75+3,FALSE))","v":0},0,0,0,0,0,0,0,0,0,0,0,0,0,0,0,0,0,0,0,0,0,0,{"$f":"VLOOKUP($D$7,ETo!$B$4:$P$88,MONTH(D75)+2,FALSE)/4","v":{"$error":"#N/A"}},{"$error":"#N/A"},{"$error":"#N/A"},0,0,{"$error":"#N/A"},{"$f":"VLOOKUP(MONTH(D75),[0]!rainforpaddy,4)/1000*AB75*1600*7","v":{"$error":"#N/A"}}]
[null,"2009-10-10","2009-10-16","2009-10-16",50,{"$f":"IF(ISERROR(VLOOKUP(E76,Crop!$I$3:$J$70,2,FALSE)),0,VLOOKUP(paddy_dry!E76,Crop!$I$3:$J$71,2,FALSE))","v":0},{"$f":"IF(ISERROR(HLOOKUP($D$5,Kc!$C$3:$AI$57,paddy_dry!F76+3,FALSE)),0,HLOOKUP($D$5,Kc!$C$3:$AI$57,paddy_dry!F76+3,FALSE))","v":0},0,0,0,0,0,0,0,0,0,0,0,0,0,0,0,0,0,0,0,0,0,0,{"$f":"VLOOKUP($D$7,ETo!$B$4:$P$88,MONTH(D76)+2,FALSE)/4","v":{"$error":"#N/A"}},{"$error":"#N/A"},{"$error":"#N/A"},0,0,{"$error":"#N/A"},{"$f":"VLOOKUP(MONTH(D76),[0]!rainforpaddy,4)/1000*AB76*1600*7","v":{"$error":"#N/A"}}]
[null,"2009-10-17","2009-10-23","2009-10-23",51,{"$f":"IF(ISERROR(VLOOKUP(E77,Crop!$I$3:$J$70,2,FALSE)),0,VLOOKUP(paddy_dry!E77,Crop!$I$3:$J$71,2,FALSE))","v":0},{"$f":"IF(ISERROR(HLOOKUP($D$5,Kc!$C$3:$AI$57,paddy_dry!F77+3,FALSE)),0,HLOOKUP($D$5,Kc!$C$3:$AI$57,paddy_dry!F77+3,FALSE))","v":0},0,0,0,0,0,0,0,0,0,0,0,0,0,0,0,0,0,0,0,0,0,0,{"$f":"VLOOKUP($D$7,ETo!$B$4:$P$88,MONTH(D77)+2,FALSE)/4","v":{"$error":"#N/A"}},{"$error":"#N/A"},{"$error":"#N/A"},0,0,{"$error":"#N/A"},{"$f":"VLOOKUP(MONTH(D77),[0]!rainforpaddy,4)/1000*AB77*1600*7","v":{"$error":"#N/A"}}]
[null,"2009-10-24","2009-10-30","2009-10-30",52,{"$f":"IF(ISERROR(VLOOKUP(E78,Crop!$I$3:$J$70,2,FALSE)),0,VLOOKUP(paddy_dry!E78,Crop!$I$3:$J$71,2,FALSE))","v":0},{"$f":"IF(ISERROR(HLOOKUP($D$5,Kc!$C$3:$AI$57,paddy_dry!F78+3,FALSE)),0,HLOOKUP($D$5,Kc!$C$3:$AI$57,paddy_dry!F78+3,FALSE))","v":0},0,0,0,0,0,0,0,0,0,0,0,0,0,0,0,0,0,0,0,0,0,0,{"$f":"VLOOKUP($D$7,ETo!$B$4:$P$88,MONTH(D78)+2,FALSE)/4","v":{"$error":"#N/A"}},{"$error":"#N/A"},{"$error":"#N/A"},0,0,{"$error":"#N/A"},{"$f":"VLOOKUP(MONTH(D78),[0]!rainforpaddy,4)/1000*AB78*1600*7","v":{"$error":"#N/A"}}]
[null,null,null,null,null,null,null,null,null,null,null,null,null,null,null,null,null,null,null,null,null,null,null,null,null,null,null,null,null,null,null,null,null,null,{"$f":"SUM(AI27:AI78)","v":{"$error":"#N/A"}},{"$f":"SUM(AJ27:AJ78)","v":{"$error":"#N/A"}}]

{"sheet":"paddy_rain","index":4,"n_rows":79,"n_cols":46,"rows_kept":79,"cut":false,"hidden":false,"merged":[[6,3,6,4],[3,3,3,4],[4,3,4,4]]}
[null,"ตารางแสดงรายละเอียดการคำนวณความต้องการน้ำของพืช"]
[null,null,null,null,null,"สัปดาห์","พื้นที่ (ไร่)"]
[null,null,null,null,null,1,{"$f":"+fill_data!F10","v":0},null,null,null,null,null,null,null,null,null,null,null,{"$f":"+E6","v":33},1]
[null,"จังหวัด",null,{"$f":"+fill_data!C4","v":0},null,{"$f":"IF(F3=\"\",\"\",IF(F3+1<=$E$9,F3+1,\"\"))","v":2},{"$f":"+fill_data!F11","v":0},null,null,null,null,null,null,null,null,null,null,null,{"$f":"IF(+S3+1>52,+S3+1-52,S3+1)","v":34},2]
[null,"ชนิดพืช",null,{"$f":"+fill_data!C11","v":"ข้าว กข.(นาดำ)"},null,3,{"$f":"+fill_data!F12","v":0},null,null,null,null,null,null,null,null,null,null,null,{"$f":"IF(+S4+1>52,+S4+1-52,S4+1)","v":35},3]
[null,"สัปดาห์เริ่มต้น",null,{"$f":"VLOOKUP(D5,Crop!B3:C35,2,FALSE)","v":13},{"$f":"+fill_data!D12","v":33},4,{"$f":"+fill_data!F13","v":0},null,null,null,null,null,null,null,null,null,null,null,36,4]
[null,"ใช้ค่า ETo ของจังหวัด",null,{"$f":"+fill_data!C5","v":{"$error":"#N/A"}},null,5,{"$f":"+fill_data!F14","v":0},null,null,null,null,null,null,null,null,null,null,null,37,5]
[null,"พื้นที่โครงการ, ไร่",null,null,{"$f":"fill_data!D13","v":0},6,{"$f":"+fill_data!F15","v":0},null,null,null,null,null,null,null,null,null,null,null,38,6]
[null,"เวลาปลูกจนเต็มพื้นที่, สัปดาห์",null,null,{"$f":"+fill_data!D14","v":7},7,{"$f":"+fill_data!F16","v":0},null,null,null,null,null,null,null,null,null,null,null,39,7]
[null,"ปริมาณน้ำรั่วซึม, มม./สัปดาห์",null,null,{"$f":"+fill_data!D6","v":0},"",{"$f":"+fill_data!F17","v":0},null,"*ภาคกลาง กำหนดให้ใช้ 1 มม./วัน ส่วนภาคอื่นๆใช้ 2 มม./วัน",null,null,null,null,null,null,null,null,null,40,8]
[null,"ปริมาณน้ำเตรียมแปลง, มม./สัปดาห์",null,null,{"$f":"+fill_data!D15","v":240},"",{"$f":"+fill_data!F18","v":0},null,"*กำหนดระยะเวลาในการเตรียมแปลง 1 สัปดาห์",null,null,null,null,null,null,null,null,null,41,9]
[null,null,null,null,null,"",{"$f":"+fill_data!F19","v":0},null,null,null,null,null,null,null,null,null,null,null,42,10,null,null,null,null,null,null,null,null,null,{"$f":"+MONTH(D32)","v":12}]
[null,null,null,null,null,{"$f":"IF(F12=\"\",\"\",IF(F12+1<=$E$9,F12+1,\"\"))","v":""},{"$f":"+fill_data!F20","v":0},null,null,null,null,null,null,null,null,null,null,null,43,11]
[null,null,null,null,null,"",{"$f":"+fill_data!F21","v":0},null,null,null,null,null,null,null,null,null,null,null,44,12]
[null,null,null,null,null,"",{"$f":"+fill_data!F22","v":0},null,null,null,null,null,null,null,null,null,null,null,45,13]
[null,null,null,null,null,"",{"$f":"+fill_data!F23","v":0},null,null,null,null,null,null,null,null,null,null,null,46,14]
[null,null,null,null,null,"",{"$f":"+fill_data!F24","v":0},null,null,null,null,null,null,null,null,null,null,null,47,15]
[null,null,null,null,null,"",{"$f":"+fill_data!F25","v":0},null,null,null,null,null,null,null,null,null,null,null,48,16]
[null,null,null,null,null,"",{"$f":"+fill_data!F26","v":0},null,null,null,null,null,null,null,null,null,null,null,49,17]
[null,null,null,null,null,"",{"$f":"+fill_data!F27","v":0},null,null,null,null,null,null,null,null,null,null,null,50,18]
[null,null,null,null,null,"",{"$f":"+fill_data!F28","v":0},null,null,null,null,null,null,null,null,null,null,null,51,19]
[null,null,null,null,null,"",{"$f":"+fill_data!F29","v":0},null,null,null,null,null,null,null,null,null,null,null,52,20]
[]
[null,"(1)","(2)","(3)","(4)","(5)","(6)","(7.1)","(7.2)","(7.3)","(7.4)","(7.5)","(7.6)","(7.7)","(7.8)","(7.9)","(7.10)","(7.11)","(7.12)","(7.13)","(7.14)","(7.15)","(7.16)","(7.17)","(7.18)","(7.19)","(7.20)","(8)","(9)","(10)","(11)","(12)","(13)","(14)","(15)","(16)","(7.20)","(8)","(9)","(10)","(11)","(12)","(13)","(14)","(15)","(16)"]
[null,"ช่วงเวลาสัปดาห์",null,"เดือน","สัปดาห์","สัปดาห์","Kc","พื้นที่เพาะปลูกในแต่ละสัปดาห์ (ไร่)",null,null,null,null,null,null,null,null,null,null,null,null,null,null,null,null,null,null,null,"รวมพื้นที่","Weighted","ETo","ความต้องการน้ำ",null,"ปริมาณน้ำเตรียมแปลง",null,"ความต้องการน้ำ","ฝนใช้การ"]
[null,"เริ่มต้น","สิ้นสุด",null,null,"ของ Kc",null,1,2,3,4,5,6,7,8,9,10,11,12,13,14,15,16,17,18,19,20,"(ไร่)","Kc",null,"(มม.)","(ลบ.ม.)","(ไร่)","(ลบ.ม.)","(ลบ.ม.)","(ลบ.ม.)"]
[null,"2008-11-01","2008-11-07",{"$f":"+C27","v":"2008-11-07"},1,{"$f":"IF(ISERROR(VLOOKUP(E27,Crop!$X$3:$Y$70,2,FALSE)),0,VLOOKUP(E27,Crop!$X$3:$Y$70,2,FALSE))","v":0},{"$f":"IF(ISERROR(HLOOKUP($D$5,Kc!$C$3:$AI$57,paddy_rain!F27+3,FALSE)),0,HLOOKUP($D$5,Kc!$C$3:$AI$57,paddy_rain!F27+3,FALSE))","v":0},{"$f":"IF(G27>0,IF(H$26>$E$9,0,VLOOKUP(H$26,$F$3:$G$23,2,FALSE)),0)","v":0},{"$f":"IF(H78>0,IF(I$26>$E$9,0,VLOOKUP(I$26,$F$3:$G$23,2,FALSE)),0)","v":0},0,0,0,0,0,0,0,0,0,{"$f":"IF(R78>0,IF(S$26>$E$9,0,VLOOKUP(S$26,$F$3:$G$23,2,FALSE)),0)","v":0},0,0,0,0,0,0,0,0,{"$f":"SUM(H27:AA27)","v":0},{"$f":"IF(ISERROR((H27*G27+I27*G78+J27*G77+K27*G76+L27*G75+M27*G74+N27*G73+O27*G72+P27*G71+Q27*G70+R27*G69+S27*G68+T27*G67+U27*G66+V27*G65+W27*G64+X27*G63+Y27*G62+Z27*G61+AA27*G60)/AB27),0,(H27*G27+I27*G78+J27*G77+K27*G76+L27*G75+M27*G74+N27*G73+O27*G72+P27*G71+Q27*G70+R27*G69+S27*G68+T27*G67+U27*G66+V27*G65+W27*G64+X27*G63+Y27*G62+Z27*G61+AA27*G60)/AB27)","v":0},{"$f":"VLOOKUP($D$7,ETo!$B$4:$P$88,MONTH(D27)+2,FALSE)/4","v":{"$error":"#N/A"}},{"$f":"IF(AC27*AD27=0,0,(AC27*AD27)+$E$10)","v":{"$error":"#N/A"}},{"$f":"AE27*AB27*1.6","v":{"$error":"#N/A"}},{"$f":"IF(ISERROR(INDEX(H27:AA27,1,IF(E27<$E$6,0,VLOOKUP(E27,$S$3:$T$22,2,FALSE)))),0,INDEX(H27:AA27,1,IF(E27<$E$6,0,VLOOKUP(E27,$S$3:$T$22,2,FALSE))))","v":0},{"$f":"AG27*$E$11*1.6","v":0},{"$f":"AF27+AH27","v":{"$error":"#N/A"}},{"$f":"VLOOKUP(MONTH(D27),[0]!rainforpaddy,4)/1000*AB27*1600*7","v":{"$error":"#N/A"}}]
[null,{"$f":"C27+1","v":"2008-11-08"},{"$f":"B28+6","v":"2008-11-14"},"2008-11-14",2,{"$f":"IF(ISERROR(VLOOKUP(E28,Crop!$X$3:$Y$70,2,FALSE)),0,VLOOKUP(E28,Crop!$X$3:$Y$70,2,FALSE))","v":0},{"$f":"IF(ISERROR(HLOOKUP($D$5,Kc!$C$3:$AI$57,paddy_rain!F28+3,FALSE)),0,HLOOKUP($D$5,Kc!$C$3:$AI$57,paddy_rain!F28+3,FALSE))","v":0},0,{"$f":"IF(H27>0,IF(I$26>$E$9,0,VLOOKUP(I$26,$F$3:$G$23,2,FALSE)),0)","v":0},0,0,0,0,0,0,0,0,0,{"$f":"IF(R27>0,IF(S$26>$E$9,0,VLOOKUP(S$26,$F$3:$G$23,2,FALSE)),0)","v":0},0,0,0,0,0,0,0,0,{"$f":"SUM(H28:AA28)","v":0},{"$f":"IF(ISERROR((H28*G28+I28*G27+J28*G78+K28*G77+L28*G76+M28*G75+N28*G74+O28*G73+P28*G72+Q28*G71+R28*G70+S28*G69+T28*G68+U28*G67+V28*G66+W28*G65+X28*G64+Y28*G63+Z28*G62+AA28*G61)/AB28),0,(H28*G28+I28*G27+J28*G78+K28*G77+L28*G76+M28*G75+N28*G74+O28*G73+P28*G72+Q28*G71+R28*G70+S28*G69+T28*G68+U28*G67+V28*G66+W28*G65+X28*G64+Y28*G63+Z28*G62+AA28*G61)/AB28)","v":0},{"$f":"VLOOKUP($D$7,ETo!$B$4:$P$88,MONTH(D28)+2,FALSE)/4","v":{"$error":"#N/A"}},{"$error":"#N/A"},{"$error":"#N/A"},{"$f":"IF(ISERROR(INDEX(H28:AA28,1,IF(E28<$E$6,0,VLOOKUP(E28,$S$3:$T$22,2,FALSE)))),0,INDEX(H28:AA28,1,IF(E28<$E$6,0,VLOOKUP(E28,$S$3:$T$22,2,FALSE))))","v":0},{"$f":"AG28*$E$11*1.6","v":0},{"$error":"#N/A"},{"$f":"VLOOKUP(MONTH(D28),[0]!rainforpaddy,4)/1000*AB28*1600*7","v":{"$error":"#N/A"}}]
[null,"2008-11-15","2008-11-21","2008-11-21",3,{"$f":"IF(ISERROR(VLOOKUP(E29,Crop!$X$3:$Y$70,2,FALSE)),0,VLOOKUP(E29,Crop!$X$3:$Y$70,2,FALSE))","v":0},{"$f":"IF(ISERROR(HLOOKUP($D$5,Kc!$C$3:$AI$57,paddy_rain!F29+3,FALSE)),0,HLOOKUP($D$5,Kc!$C$3:$AI$57,paddy_rain!F29+3,FALSE))","v":0},0,0,0,0,0,0,0,0,0,0,0,0,0,0,0,0,0,0,0,0,0,{"$f":"IF(ISERROR((H29*G29+I29*G28+J29*G27+K29*G78+L29*G77+M29*G76+N29*G75+O29*G74+P29*G73+Q29*G72+R29*G71+S29*G70+T29*G69+U29*G68+V29*G67+W29*G66+X29*G65+Y29*G64+Z29*G63+AA29*G62)/AB29),0,(H29*G29+I29*G28+J29*G27+K29*G78+L29*G77+M29*G76+N29*G75+O29*G74+P29*G73+Q29*G72+R29*G71+S29*G70+T29*G69+U29*G68+V29*G67+W29*G66+X29*G65+Y29*G64+Z29*G63+AA29*G62)/AB29)","v":0},{"$f":"VLOOKUP($D$7,ETo!$B$4:$P$88,MONTH(D29)+2,FALSE)/4","v":{"$error":"#N/A"}},{"$error":"#N/A"},{"$error":"#N/A"},{"$f":"IF(ISERROR(INDEX(H29:AA29,1,IF(E29<$E$6,0,VLOOKUP(E29,$S$3:$T$22,2,FALSE)))),0,INDEX(H29:AA29,1,IF(E29<$E$6,0,VLOOKUP(E29,$S$3:$T$22,2,FALSE))))","v":0},{"$f":"AG29*$E$11*1.6","v":0},{"$error":"#N/A"},{"$f":"VLOOKUP(MONTH(D29),[0]!rainforpaddy,4)/1000*AB29*1600*7","v":{"$error":"#N/A"}}]
[null,"2008-11-22","2008-11-28","2008-11-28",4,{"$f":"IF(ISERROR(VLOOKUP(E30,Crop!$X$3:$Y$70,2,FALSE)),0,VLOOKUP(E30,Crop!$X$3:$Y$70,2,FALSE))","v":0},{"$f":"IF(ISERROR(HLOOKUP($D$5,Kc!$C$3:$AI$57,paddy_rain!F30+3,FALSE)),0,HLOOKUP($D$5,Kc!$C$3:$AI$57,paddy_rain!F30+3,FALSE))","v":0},0,0,0,0,0,0,0,0,0,0,0,0,0,0,0,0,0,0,0,0,0,{"$f":"IF(ISERROR((H30*G30+I30*G29+J30*G28+K30*G27+L30*G78+M30*G77+N30*G76+O30*G75+P30*G74+Q30*G73+R30*G72+S30*G71+T30*G70+U30*G69+V30*G68+W30*G67+X30*G66+Y30*G65+Z30*G64+AA30*G63)/AB30),0,(H30*G30+I30*G29+J30*G28+K30*G27+L30*G78+M30*G77+N30*G76+O30*G75+P30*G74+Q30*G73+R30*G72+S30*G71+T30*G70+U30*G69+V30*G68+W30*G67+X30*G66+Y30*G65+Z30*G64+AA30*G63)/AB30)","v":0},{"$f":"VLOOKUP($D$7,ETo!$B$4:$P$88,MONTH(D30)+2,FALSE)/4","v":{"$error":"#N/A"}},{"$error":"#N/A"},{"$error":"#N/A"},{"$f":"IF(ISERROR(INDEX(H30:AA30,1,IF(E30<$E$6,0,VLOOKUP(E30,$S$3:$T$22,2,FALSE)))),0,INDEX(H30:AA30,1,IF(E30<$E$6,0,VLOOKUP(E30,$S$3:$T$22,2,FALSE))))","v":0},{"$f":"AG30*$E$11*1.6","v":0},{"$error":"#N/A"},{"$f":"VLOOKUP(MONTH(D30),[0]!rainforpaddy,4)/1000*AB30*1600*7","v":{"$error":"#N/A"}}]
[null,"2008-11-29","2008-12-05","2008-12-05",5,{"$f":"IF(ISERROR(VLOOKUP(E31,Crop!$X$3:$Y$70,2,FALSE)),0,VLOOKUP(E31,Crop!$X$3:$Y$70,2,FALSE))","v":0},{"$f":"IF(ISERROR(HLOOKUP($D$5,Kc!$C$3:$AI$57,paddy_rain!F31+3,FALSE)),0,HLOOKUP($D$5,Kc!$C$3:$AI$57,paddy_rain!F31+3,FALSE))","v":0},0,0,0,0,0,0,0,0,0,0,0,0,0,0,0,0,0,0,0,0,0,{"$f":"IF(ISERROR((H31*G31+I31*G30+J31*G29+K31*G28+L31*G27+M31*G78+N31*G77+O31*G76+P31*G75+Q31*G74+R31*G73+S31*G72+T31*G71+U31*G70+V31*G69+W31*G68+X31*G67+Y31*G66+Z31*G65+AA31*G64)/AB31),0,(H31*G31+I31*G30+J31*G29+K31*G28+L31*G27+M31*G78+N31*G77+O31*G76+P31*G75+Q31*G74+R31*G73+S31*G72+T31*G71+U31*G70+V31*G69+W31*G68+X31*G67+Y31*G66+Z31*G65+AA31*G64)/AB31)","v":0},{"$f":"VLOOKUP($D$7,ETo!$B$4:$P$88,MONTH(D31)+2,FALSE)/4","v":{"$error":"#N/A"}},{"$error":"#N/A"},{"$error":"#N/A"},{"$f":"IF(ISERROR(INDEX(H31:AA31,1,IF(E31<$E$6,0,VLOOKUP(E31,$S$3:$T$22,2,FALSE)))),0,INDEX(H31:AA31,1,IF(E31<$E$6,0,VLOOKUP(E31,$S$3:$T$22,2,FALSE))))","v":0},{"$f":"AG31*$E$11*1.6","v":0},{"$error":"#N/A"},{"$f":"VLOOKUP(MONTH(D31),[0]!rainforpaddy,4)/1000*AB31*1600*7","v":{"$error":"#N/A"}}]
[null,"2008-12-06","2008-12-12","2008-12-12",6,{"$f":"IF(ISERROR(VLOOKUP(E32,Crop!$X$3:$Y$70,2,FALSE)),0,VLOOKUP(E32,Crop!$X$3:$Y$70,2,FALSE))","v":0},{"$f":"IF(ISERROR(HLOOKUP($D$5,Kc!$C$3:$AI$57,paddy_rain!F32+3,FALSE)),0,HLOOKUP($D$5,Kc!$C$3:$AI$57,paddy_rain!F32+3,FALSE))","v":0},0,0,0,0,0,0,0,0,0,0,0,0,0,0,0,0,0,0,0,0,0,{"$f":"IF(ISERROR((H32*G32+I32*G31+J32*G30+K32*G29+L32*G28+M32*G27+N32*G78+O32*G77+P32*G76+Q32*G75+R32*G74+S32*G73+T32*G72+U32*G71+V32*G70+W32*G69+X32*G68+Y32*G67+Z32*G66+AA32*G65)/AB32),0,(H32*G32+I32*G31+J32*G30+K32*G29+L32*G28+M32*G27+N32*G78+O32*G77+P32*G76+Q32*G75+R32*G74+S32*G73+T32*G72+U32*G71+V32*G70+W32*G69+X32*G68+Y32*G67+Z32*G66+AA32*G65)/AB32)","v":0},{"$f":"VLOOKUP($D$7,ETo!$B$4:$P$88,MONTH(D32)+2,FALSE)/4","v":{"$error":"#N/A"}},{"$error":"#N/A"},{"$error":"#N/A"},{"$f":"IF(ISERROR(INDEX(H32:AA32,1,IF(E32<$E$6,0,VLOOKUP(E32,$S$3:$T$22,2,FALSE)))),0,INDEX(H32:AA32,1,IF(E32<$E$6,0,VLOOKUP(E32,$S$3:$T$22,2,FALSE))))","v":0},{"$f":"AG32*$E$11*1.6","v":0},{"$error":"#N/A"},{"$f":"VLOOKUP(MONTH(D32),[0]!rainforpaddy,4)/1000*AB32*1600*7","v":{"$error":"#N/A"}}]
[null,"2008-12-13","2008-12-19","2008-12-19",7,{"$f":"IF(ISERROR(VLOOKUP(E33,Crop!$X$3:$Y$70,2,FALSE)),0,VLOOKUP(E33,Crop!$X$3:$Y$70,2,FALSE))","v":0},{"$f":"IF(ISERROR(HLOOKUP($D$5,Kc!$C$3:$AI$57,paddy_rain!F33+3,FALSE)),0,HLOOKUP($D$5,Kc!$C$3:$AI$57,paddy_rain!F33+3,FALSE))","v":0},0,0,0,0,0,0,0,0,0,0,0,0,0,0,0,0,0,0,0,0,0,{"$f":"IF(ISERROR((H33*G33+I33*G32+J33*G31+K33*G30+L33*G29+M33*G28+N33*G27+O33*G78+P33*G77+Q33*G76+R33*G75+S33*G74+T33*G73+U33*G72+V33*G71+W33*G70+X33*G69+Y33*G68+Z33*G67+AA33*G66)/AB33),0,(H33*G33+I33*G32+J33*G31+K33*G30+L33*G29+M33*G28+N33*G27+O33*G78+P33*G77+Q33*G76+R33*G75+S33*G74+T33*G73+U33*G72+V33*G71+W33*G70+X33*G69+Y33*G68+Z33*G67+AA33*G66)/AB33)","v":0},{"$f":"VLOOKUP($D$7,ETo!$B$4:$P$88,MONTH(D33)+2,FALSE)/4","v":{"$error":"#N/A"}},{"$error":"#N/A"},{"$error":"#N/A"},0,0,{"$error":"#N/A"},{"$f":"VLOOKUP(MONTH(D33),[0]!rainforpaddy,4)/1000*AB33*1600*7","v":{"$error":"#N/A"}}]
[null,"2008-12-20","2008-12-26","2008-12-26",8,{"$f":"IF(ISERROR(VLOOKUP(E34,Crop!$X$3:$Y$70,2,FALSE)),0,VLOOKUP(E34,Crop!$X$3:$Y$70,2,FALSE))","v":0},{"$f":"IF(ISERROR(HLOOKUP($D$5,Kc!$C$3:$AI$57,paddy_rain!F34+3,FALSE)),0,HLOOKUP($D$5,Kc!$C$3:$AI$57,paddy_rain!F34+3,FALSE))","v":0},0,0,0,0,0,0,0,0,0,0,0,0,0,0,0,0,0,0,0,0,0,{"$f":"IF(ISERROR((H34*G34+I34*G33+J34*G32+K34*G31+L34*G30+M34*G29+N34*G28+O34*G27+P34*G78+Q34*G77+R34*G76+S34*G75+T34*G74+U34*G73+V34*G72+W34*G71+X34*G70+Y34*G69+Z34*G68+AA34*G67)/AB34),0,(H34*G34+I34*G33+J34*G32+K34*G31+L34*G30+M34*G29+N34*G28+O34*G27+P34*G78+Q34*G77+R34*G76+S34*G75+T34*G74+U34*G73+V34*G72+W34*G71+X34*G70+Y34*G69+Z34*G68+AA34*G67)/AB34)","v":0},{"$f":"VLOOKUP($D$7,ETo!$B$4:$P$88,MONTH(D34)+2,FALSE)/4","v":{"$error":"#N/A"}},{"$error":"#N/A"},{"$error":"#N/A"},0,0,{"$error":"#N/A"},{"$f":"VLOOKUP(MONTH(D34),[0]!rainforpaddy,4)/1000*AB34*1600*7","v":{"$error":"#N/A"}}]
[null,"2008-12-27","2009-01-02","2009-01-02",9,{"$f":"IF(ISERROR(VLOOKUP(E35,Crop!$X$3:$Y$70,2,FALSE)),0,VLOOKUP(E35,Crop!$X$3:$Y$70,2,FALSE))","v":0},{"$f":"IF(ISERROR(HLOOKUP($D$5,Kc!$C$3:$AI$57,paddy_rain!F35+3,FALSE)),0,HLOOKUP($D$5,Kc!$C$3:$AI$57,paddy_rain!F35+3,FALSE))","v":0},0,0,0,0,0,0,0,0,0,0,0,0,0,0,0,0,0,0,0,0,0,{"$f":"IF(ISERROR((H35*G35+I35*G34+J35*G33+K35*G32+L35*G31+M35*G30+N35*G29+O35*G28+P35*G27+Q35*G78+R35*G77+S35*G76+T35*G75+U35*G74+V35*G73+W35*G72+X35*G71+Y35*G70+Z35*G69+AA35*G68)/AB35),0,(H35*G35+I35*G34+J35*G33+K35*G32+L35*G31+M35*G30+N35*G29+O35*G28+P35*G27+Q35*G78+R35*G77+S35*G76+T35*G75+U35*G74+V35*G73+W35*G72+X35*G71+Y35*G70+Z35*G69+AA35*G68)/AB35)","v":0},{"$f":"VLOOKUP($D$7,ETo!$B$4:$P$88,MONTH(D35)+2,FALSE)/4","v":{"$error":"#N/A"}},{"$error":"#N/A"},{"$error":"#N/A"},0,0,{"$error":"#N/A"},{"$f":"VLOOKUP(MONTH(D35),[0]!rainforpaddy,4)/1000*AB35*1600*7","v":{"$error":"#N/A"}}]
[null,"2009-01-03","2009-01-09","2009-01-09",10,{"$f":"IF(ISERROR(VLOOKUP(E36,Crop!$X$3:$Y$70,2,FALSE)),0,VLOOKUP(E36,Crop!$X$3:$Y$70,2,FALSE))","v":0},{"$f":"IF(ISERROR(HLOOKUP($D$5,Kc!$C$3:$AI$57,paddy_rain!F36+3,FALSE)),0,HLOOKUP($D$5,Kc!$C$3:$AI$57,paddy_rain!F36+3,FALSE))","v":0},{"$f":"IF(G36>0,IF(H$26>$E$9,0,VLOOKUP(H$26,$F$3:$G$23,2,FALSE)),0)","v":0},0,0,0,0,0,0,0,0,0,0,0,0,0,0,0,0,0,0,0,0,{"$f":"IF(ISERROR((H36*G36+I36*G35+J36*G34+K36*G33+L36*G32+M36*G31+N36*G30+O36*G29+P36*G28+Q36*G27+R36*G78+S36*G77+T36*G76+U36*G75+V36*G74+W36*G73+X36*G72+Y36*G71+Z36*G70+AA36*G69)/AB36),0,(H36*G36+I36*G35+J36*G34+K36*G33+L36*G32+M36*G31+N36*G30+O36*G29+P36*G28+Q36*G27+R36*G78+S36*G77+T36*G76+U36*G75+V36*G74+W36*G73+X36*G72+Y36*G71+Z36*G70+AA36*G69)/AB36)","v":0},{"$f":"VLOOKUP($D$7,ETo!$B$4:$P$88,MONTH(D36)+2,FALSE)/4","v":{"$error":"#N/A"}},{"$error":"#N/A"},{"$error":"#N/A"},0,0,{"$error":"#N/A"},{"$f":"VLOOKUP(MONTH(D36),[0]!rainforpaddy,4)/1000*AB36*1600*7","v":{"$error":"#N/A"}}]
[null,"2009-01-10","2009-01-16","2009-01-16",11,{"$f":"IF(ISERROR(VLOOKUP(E37,Crop!$X$3:$Y$70,2,FALSE)),0,VLOOKUP(E37,Crop!$X$3:$Y$70,2,FALSE))","v":0},{"$f":"IF(ISERROR(HLOOKUP($D$5,Kc!$C$3:$AI$57,paddy_rain!F37+3,FALSE)),0,HLOOKUP($D$5,Kc!$C$3:$AI$57,paddy_rain!F37+3,FALSE))","v":0},0,{"$f":"IF(H36>0,IF(I$26>$E$9,0,VLOOKUP(I$26,$F$3:$G$23,2,FALSE)),0)","v":0},{"$f":"IF(I36>0,IF(J$26>$E$9,0,VLOOKUP(J$26,$F$3:$G$12,2,FALSE)),0)","v":0},{"$f":"IF(J36>0,IF(K$26>$E$9,0,VLOOKUP(K$26,$F$3:$G$23,2,FALSE)),0)","v":0},0,0,0,0,0,0,0,0,0,{"$f":"IF(T36>0,IF(U$26>$E$9,0,VLOOKUP(U$26,$F$3:$G$23,2,FALSE)),0)","v":0},0,0,0,0,0,0,0,{"$f":"IF(ISERROR((H37*G37+I37*G36+J37*G35+K37*G34+L37*G33+M37*G32+N37*G31+O37*G30+P37*G29+Q37*G28+R37*G27+S37*G78+T37*G77+U37*G76+V37*G75+W37*G74+X37*G73+Y37*G72+Z37*G71+AA37*G70)/AB37),0,(H37*G37+I37*G36+J37*G35+K37*G34+L37*G33+M37*G32+N37*G31+O37*G30+P37*G29+Q37*G28+R37*G27+S37*G78+T37*G77+U37*G76+V37*G75+W37*G74+X37*G73+Y37*G72+Z37*G71+AA37*G70)/AB37)","v":0},{"$f":"VLOOKUP($D$7,ETo!$B$4:$P$88,MONTH(D37)+2,FALSE)/4","v":{"$error":"#N/A"}},{"$error":"#N/A"},{"$error":"#N/A"},0,0,{"$error":"#N/A"},{"$f":"VLOOKUP(MONTH(D37),[0]!rainforpaddy,4)/1000*AB37*1600*7","v":{"$error":"#N/A"}}]
[null,"2009-01-17","2009-01-23","2009-01-23",12,{"$f":"IF(ISERROR(VLOOKUP(E38,Crop!$X$3:$Y$70,2,FALSE)),0,VLOOKUP(E38,Crop!$X$3:$Y$70,2,FALSE))","v":0},{"$f":"IF(ISERROR(HLOOKUP($D$5,Kc!$C$3:$AI$57,paddy_rain!F38+3,FALSE)),0,HLOOKUP($D$5,Kc!$C$3:$AI$57,paddy_rain!F38+3,FALSE))","v":0},0,0,0,0,0,0,0,0,0,0,0,0,0,0,0,0,0,0,0,0,0,{"$f":"IF(ISERROR((H38*G38+I38*G37+J38*G36+K38*G35+L38*G34+M38*G33+N38*G32+O38*G31+P38*G30+Q38*G29+R38*G28+S38*G27+T38*G78+U38*G77+V38*G76+W38*G75+X38*G74+Y38*G73+Z38*G72+AA38*G71)/AB38),0,(H38*G38+I38*G37+J38*G36+K38*G35+L38*G34+M38*G33+N38*G32+O38*G31+P38*G30+Q38*G29+R38*G28+S38*G27+T38*G78+U38*G77+V38*G76+W38*G75+X38*G74+Y38*G73+Z38*G72+AA38*G71)/AB38)","v":0},{"$f":"VLOOKUP($D$7,ETo!$B$4:$P$88,MONTH(D38)+2,FALSE)/4","v":{"$error":"#N/A"}},{"$error":"#N/A"},{"$error":"#N/A"},0,0,{"$error":"#N/A"},{"$f":"VLOOKUP(MONTH(D38),[0]!rainforpaddy,4)/1000*AB38*1600*7","v":{"$error":"#N/A"}}]
[null,"2009-01-24","2009-01-30","2009-01-30",13,{"$f":"IF(ISERROR(VLOOKUP(E39,Crop!$X$3:$Y$70,2,FALSE)),0,VLOOKUP(E39,Crop!$X$3:$Y$70,2,FALSE))","v":0},{"$f":"IF(ISERROR(HLOOKUP($D$5,Kc!$C$3:$AI$57,paddy_rain!F39+3,FALSE)),0,HLOOKUP($D$5,Kc!$C$3:$AI$57,paddy_rain!F39+3,FALSE))","v":0},0,0,0,0,0,0,0,0,0,0,0,0,0,0,0,0,0,0,0,0,0,{"$f":"IF(ISERROR((H39*G39+I39*G38+J39*G37+K39*G36+L39*G35+M39*G34+N39*G33+O39*G32+P39*G31+Q39*G30+R39*G29+S39*G28+T39*G27+U39*G78+V39*G77+W39*G76+X39*G75+Y39*G74+Z39*G73+AA39*G72)/AB39),0,(H39*G39+I39*G38+J39*G37+K39*G36+L39*G35+M39*G34+N39*G33+O39*G32+P39*G31+Q39*G30+R39*G29+S39*G28+T39*G27+U39*G78+V39*G77+W39*G76+X39*G75+Y39*G74+Z39*G73+AA39*G72)/AB39)","v":0},{"$f":"VLOOKUP($D$7,ETo!$B$4:$P$88,MONTH(D39)+2,FALSE)/4","v":{"$error":"#N/A"}},{"$error":"#N/A"},{"$error":"#N/A"},0,0,{"$error":"#N/A"},{"$f":"VLOOKUP(MONTH(D39),[0]!rainforpaddy,4)/1000*AB39*1600*7","v":{"$error":"#N/A"}}]
[null,"2009-01-31","2009-02-06","2009-02-06",14,{"$f":"IF(ISERROR(VLOOKUP(E40,Crop!$X$3:$Y$70,2,FALSE)),0,VLOOKUP(E40,Crop!$X$3:$Y$70,2,FALSE))","v":0},{"$f":"IF(ISERROR(HLOOKUP($D$5,Kc!$C$3:$AI$57,paddy_rain!F40+3,FALSE)),0,HLOOKUP($D$5,Kc!$C$3:$AI$57,paddy_rain!F40+3,FALSE))","v":0},0,0,0,0,0,0,0,0,0,0,0,0,0,0,0,0,0,0,0,0,0,{"$f":"IF(ISERROR((H40*G40+I40*G39+J40*G38+K40*G37+L40*G36+M40*G35+N40*G34+O40*G33+P40*G32+Q40*G31+R40*G30+S40*G29+T40*G28+U40*G27+V40*G78+W40*G77+X40*G76+Y40*G75+Z40*G74+AA40*G73)/AB40),0,(H40*G40+I40*G39+J40*G38+K40*G37+L40*G36+M40*G35+N40*G34+O40*G33+P40*G32+Q40*G31+R40*G30+S40*G29+T40*G28+U40*G27+V40*G78+W40*G77+X40*G76+Y40*G75+Z40*G74+AA40*G73)/AB40)","v":0},{"$f":"VLOOKUP($D$7,ETo!$B$4:$P$88,MONTH(D40)+2,FALSE)/4","v":{"$error":"#N/A"}},{"$error":"#N/A"},{"$error":"#N/A"},0,0,{"$error":"#N/A"},{"$f":"VLOOKUP(MONTH(D40),[0]!rainforpaddy,4)/1000*AB40*1600*7","v":{"$error":"#N/A"}}]
[null,"2009-02-07","2009-02-13","2009-02-13",15,{"$f":"IF(ISERROR(VLOOKUP(E41,Crop!$X$3:$Y$70,2,FALSE)),0,VLOOKUP(E41,Crop!$X$3:$Y$70,2,FALSE))","v":0},{"$f":"IF(ISERROR(HLOOKUP($D$5,Kc!$C$3:$AI$57,paddy_rain!F41+3,FALSE)),0,HLOOKUP($D$5,Kc!$C$3:$AI$57,paddy_rain!F41+3,FALSE))","v":0},0,0,0,0,0,0,0,0,0,0,0,0,0,0,0,0,0,0,0,0,0,{"$f":"IF(ISERROR((H41*G41+I41*G40+J41*G39+K41*G38+L41*G37+M41*G36+N41*G35+O41*G34+P41*G33+Q41*G32+R41*G31+S41*G30+T41*G29+U41*G28+V41*G27+W41*G78+X41*G77+Y41*G76+Z41*G75+AA41*G74)/AB41),0,(H41*G41+I41*G40+J41*G39+K41*G38+L41*G37+M41*G36+N41*G35+O41*G34+P41*G33+Q41*G32+R41*G31+S41*G30+T41*G29+U41*G28+V41*G27+W41*G78+X41*G77+Y41*G76+Z41*G75+AA41*G74)/AB41)","v":0},{"$f":"VLOOKUP($D$7,ETo!$B$4:$P$88,MONTH(D41)+2,FALSE)/4","v":{"$error":"#N/A"}},{"$error":"#N/A"},{"$error":"#N/A"},0,0,{"$error":"#N/A"},{"$f":"VLOOKUP(MONTH(D41),[0]!rainforpaddy,4)/1000*AB41*1600*7","v":{"$error":"#N/A"}}]
[null,"2009-02-14","2009-02-20","2009-02-20",16,{"$f":"IF(ISERROR(VLOOKUP(E42,Crop!$X$3:$Y$70,2,FALSE)),0,VLOOKUP(E42,Crop!$X$3:$Y$70,2,FALSE))","v":0},{"$f":"IF(ISERROR(HLOOKUP($D$5,Kc!$C$3:$AI$57,paddy_rain!F42+3,FALSE)),0,HLOOKUP($D$5,Kc!$C$3:$AI$57,paddy_rain!F42+3,FALSE))","v":0},0,0,0,0,0,0,0,0,0,0,0,0,0,0,0,0,0,0,0,0,0,{"$f":"IF(ISERROR((H42*G42+I42*G41+J42*G40+K42*G39+L42*G38+M42*G37+N42*G36+O42*G35+P42*G34+Q42*G33+R42*G32+S42*G31+T42*G30+U42*G29+V42*G28+W42*G27+X42*G78+Y42*G77+Z42*G76+AA42*G75)/AB42),0,(H42*G42+I42*G41+J42*G40+K42*G39+L42*G38+M42*G37+N42*G36+O42*G35+P42*G34+Q42*G33+R42*G32+S42*G31+T42*G30+U42*G29+V42*G28+W42*G27+X42*G78+Y42*G77+Z42*G76+AA42*G75)/AB42)","v":0},{"$f":"VLOOKUP($D$7,ETo!$B$4:$P$88,MONTH(D42)+2,FALSE)/4","v":{"$error":"#N/A"}},{"$error":"#N/A"},{"$error":"#N/A"},0,0,{"$error":"#N/A"},{"$f":"VLOOKUP(MONTH(D42),[0]!rainforpaddy,4)/1000*AB42*1600*7","v":{"$error":"#N/A"}}]
[null,"2009-02-21","2009-02-27","2009-02-27",17,{"$f":"IF(ISERROR(VLOOKUP(E43,Crop!$X$3:$Y$70,2,FALSE)),0,VLOOKUP(E43,Crop!$X$3:$Y$70,2,FALSE))","v":0},{"$f":"IF(ISERROR(HLOOKUP($D$5,Kc!$C$3:$AI$57,paddy_rain!F43+3,FALSE)),0,HLOOKUP($D$5,Kc!$C$3:$AI$57,paddy_rain!F43+3,FALSE))","v":0},0,0,0,0,0,0,0,0,0,0,0,0,0,0,0,0,0,0,0,0,0,{"$f":"IF(ISERROR((H43*G43+I43*G42+J43*G41+K43*G40+L43*G39+M43*G38+N43*G37+O43*G36+P43*G35+Q43*G34+R43*G33+S43*G32+T43*G31+U43*G30+V43*G29+W43*G28+X43*G27+Y43*G78+Z43*G77+AA43*G76)/AB43),0,(H43*G43+I43*G42+J43*G41+K43*G40+L43*G39+M43*G38+N43*G37+O43*G36+P43*G35+Q43*G34+R43*G33+S43*G32+T43*G31+U43*G30+V43*G29+W43*G28+X43*G27+Y43*G78+Z43*G77+AA43*G76)/AB43)","v":0},{"$f":"VLOOKUP($D$7,ETo!$B$4:$P$88,MONTH(D43)+2,FALSE)/4","v":{"$error":"#N/A"}},{"$error":"#N/A"},{"$error":"#N/A"},0,0,{"$error":"#N/A"},{"$f":"VLOOKUP(MONTH(D43),[0]!rainforpaddy,4)/1000*AB43*1600*7","v":{"$error":"#N/A"}}]
[null,"2009-02-28","2009-03-06","2009-03-06",18,{"$f":"IF(ISERROR(VLOOKUP(E44,Crop!$X$3:$Y$70,2,FALSE)),0,VLOOKUP(E44,Crop!$X$3:$Y$70,2,FALSE))","v":0},{"$f":"IF(ISERROR(HLOOKUP($D$5,Kc!$C$3:$AI$57,paddy_rain!F44+3,FALSE)),0,HLOOKUP($D$5,Kc!$C$3:$AI$57,paddy_rain!F44+3,FALSE))","v":0},0,0,0,0,0,0,0,0,0,0,0,0,0,0,0,0,0,0,0,0,0,{"$f":"IF(ISERROR((H44*G44+I44*G43+J44*G42+K44*G41+L44*G40+M44*G39+N44*G38+O44*G37+P44*G36+Q44*G35+R44*G34+S44*G33+T44*G32+U44*G31+V44*G30+W44*G29+X44*G28+Y44*G27+Z44*G78+AA44*G77)/AB44),0,(H44*G44+I44*G43+J44*G42+K44*G41+L44*G40+M44*G39+N44*G38+O44*G37+P44*G36+Q44*G35+R44*G34+S44*G33+T44*G32+U44*G31+V44*G30+W44*G29+X44*G28+Y44*G27+Z44*G78+AA44*G77)/AB44)","v":0},{"$f":"VLOOKUP($D$7,ETo!$B$4:$P$88,MONTH(D44)+2,FALSE)/4","v":{"$error":"#N/A"}},{"$error":"#N/A"},{"$error":"#N/A"},0,0,{"$error":"#N/A"},{"$f":"VLOOKUP(MONTH(D44),[0]!rainforpaddy,4)/1000*AB44*1600*7","v":{"$error":"#N/A"}}]
[null,"2009-03-07","2009-03-13","2009-03-13",19,{"$f":"IF(ISERROR(VLOOKUP(E45,Crop!$X$3:$Y$70,2,FALSE)),0,VLOOKUP(E45,Crop!$X$3:$Y$70,2,FALSE))","v":0},{"$f":"IF(ISERROR(HLOOKUP($D$5,Kc!$C$3:$AI$57,paddy_rain!F45+3,FALSE)),0,HLOOKUP($D$5,Kc!$C$3:$AI$57,paddy_rain!F45+3,FALSE))","v":0},0,0,0,0,0,0,0,0,0,0,0,0,0,0,0,0,0,0,0,0,0,{"$f":"IF(ISERROR((H45*G45+I45*G44+J45*G43+K45*G42+L45*G41+M45*G40+N45*G39+O45*G38+P45*G37+Q45*G36+R45*G35+S45*G34+T45*G33+U45*G32+V45*G31+W45*G30+X45*G29+Y45*G28+Z45*G27+AA45*G78)/AB45),0,(H45*G45+I45*G44+J45*G43+K45*G42+L45*G41+M45*G40+N45*G39+O45*G38+P45*G37+Q45*G36+R45*G35+S45*G34+T45*G33+U45*G32+V45*G31+W45*G30+X45*G29+Y45*G28+Z45*G27+AA45*G78)/AB45)","v":0},{"$f":"VLOOKUP($D$7,ETo!$B$4:$P$88,MONTH(D45)+2,FALSE)/4","v":{"$error":"#N/A"}},{"$error":"#N/A"},{"$error":"#N/A"},0,0,{"$error":"#N/A"},{"$f":"VLOOKUP(MONTH(D45),[0]!rainforpaddy,4)/1000*AB45*1600*7","v":{"$error":"#N/A"}}]
[null,"2009-03-14","2009-03-20","2009-03-20",20,{"$f":"IF(ISERROR(VLOOKUP(E46,Crop!$X$3:$Y$70,2,FALSE)),0,VLOOKUP(E46,Crop!$X$3:$Y$70,2,FALSE))","v":0},{"$f":"IF(ISERROR(HLOOKUP($D$5,Kc!$C$3:$AI$57,paddy_rain!F46+3,FALSE)),0,HLOOKUP($D$5,Kc!$C$3:$AI$57,paddy_rain!F46+3,FALSE))","v":0},0,0,0,0,0,0,0,0,0,0,0,0,0,0,0,0,0,0,0,0,0,{"$f":"IF(ISERROR((H46*G46+I46*G45+J46*G44+K46*G43+L46*G42+M46*G41+N46*G40+O46*G39+P46*G38+Q46*G37+R46*G36+S46*G35+T46*G34+U46*G33+V46*G32+W46*G31+X46*G30+Y46*G29+Z46*G28+AA46*G27)/AB46),0,(H46*G46+I46*G45+J46*G44+K46*G43+L46*G42+M46*G41+N46*G40+O46*G39+P46*G38+Q46*G37+R46*G36+S46*G35+T46*G34+U46*G33+V46*G32+W46*G31+X46*G30+Y46*G29+Z46*G28+AA46*G27)/AB46)","v":0},{"$f":"VLOOKUP($D$7,ETo!$B$4:$P$88,MONTH(D46)+2,FALSE)/4","v":{"$error":"#N/A"}},{"$error":"#N/A"},{"$error":"#N/A"},0,0,{"$error":"#N/A"},{"$f":"VLOOKUP(MONTH(D46),[0]!rainforpaddy,4)/1000*AB46*1600*7","v":{"$error":"#N/A"}}]
[null,"2009-03-21","2009-03-27","2009-03-27",21,{"$f":"IF(ISERROR(VLOOKUP(E47,Crop!$X$3:$Y$70,2,FALSE)),0,VLOOKUP(E47,Crop!$X$3:$Y$70,2,FALSE))","v":0},{"$f":"IF(ISERROR(HLOOKUP($D$5,Kc!$C$3:$AI$57,paddy_rain!F47+3,FALSE)),0,HLOOKUP($D$5,Kc!$C$3:$AI$57,paddy_rain!F47+3,FALSE))","v":0},0,0,0,{"$f":"IF(J46>0,IF(K$26>$E$9,0,VLOOKUP(K$26,$F$3:$G$23,2,FALSE)),0)","v":0},0,0,0,0,0,0,0,0,0,{"$f":"IF(T46>0,IF(U$26>$E$9,0,VLOOKUP(U$26,$F$3:$G$23,2,FALSE)),0)","v":0},0,0,0,0,0,0,0,{"$f":"IF(ISERROR((H47*G47+I47*G46+J47*G45+K47*G44+L47*G43+M47*G42+N47*G41+O47*G40+P47*G39+Q47*G38+R47*G37+S47*G36+T47*G35+U47*G34+V47*G33+W47*G32+X47*G31+Y47*G30+Z47*G29+AA47*G28)/AB47),0,(H47*G47+I47*G46+J47*G45+K47*G44+L47*G43+M47*G42+N47*G41+O47*G40+P47*G39+Q47*G38+R47*G37+S47*G36+T47*G35+U47*G34+V47*G33+W47*G32+X47*G31+Y47*G30+Z47*G29+AA47*G28)/AB47)","v":0},{"$f":"VLOOKUP($D$7,ETo!$B$4:$P$88,MONTH(D47)+2,FALSE)/4","v":{"$error":"#N/A"}},{"$error":"#N/A"},{"$error":"#N/A"},0,0,{"$error":"#N/A"},{"$f":"VLOOKUP(MONTH(D47),[0]!rainforpaddy,4)/1000*AB47*1600*7","v":{"$error":"#N/A"}}]
[null,"2009-03-28","2009-04-03","2009-04-03",22,{"$f":"IF(ISERROR(VLOOKUP(E48,Crop!$X$3:$Y$70,2,FALSE)),0,VLOOKUP(E48,Crop!$X$3:$Y$70,2,FALSE))","v":0},{"$f":"IF(ISERROR(HLOOKUP($D$5,Kc!$C$3:$AI$57,paddy_rain!F48+3,FALSE)),0,HLOOKUP($D$5,Kc!$C$3:$AI$57,paddy_rain!F48+3,FALSE))","v":0},0,0,0,0,0,0,0,0,0,0,0,0,0,0,0,0,0,0,0,0,0,{"$f":"IF(ISERROR((H48*G48+I48*G47+J48*G46+K48*G45+L48*G44+M48*G43+N48*G42+O48*G41+P48*G40+Q48*G39+R48*G38+S48*G37+T48*G36+U48*G35+V48*G34+W48*G33+X48*G32+Y48*G31+Z48*G30+AA48*G29)/AB48),0,(H48*G48+I48*G47+J48*G46+K48*G45+L48*G44+M48*G43+N48*G42+O48*G41+P48*G40+Q48*G39+R48*G38+S48*G37+T48*G36+U48*G35+V48*G34+W48*G33+X48*G32+Y48*G31+Z48*G30+AA48*G29)/AB48)","v":0},{"$f":"VLOOKUP($D$7,ETo!$B$4:$P$88,MONTH(D48)+2,FALSE)/4","v":{"$error":"#N/A"}},{"$error":"#N/A"},{"$error":"#N/A"},0,0,{"$error":"#N/A"},{"$f":"VLOOKUP(MONTH(D48),[0]!rainforpaddy,4)/1000*AB48*1600*7","v":{"$error":"#N/A"}}]
[null,"2009-04-04","2009-04-10","2009-04-10",23,{"$f":"IF(ISERROR(VLOOKUP(E49,Crop!$X$3:$Y$70,2,FALSE)),0,VLOOKUP(E49,Crop!$X$3:$Y$70,2,FALSE))","v":0},{"$f":"IF(ISERROR(HLOOKUP($D$5,Kc!$C$3:$AI$57,paddy_rain!F49+3,FALSE)),0,HLOOKUP($D$5,Kc!$C$3:$AI$57,paddy_rain!F49+3,FALSE))","v":0},0,0,0,0,0,0,0,0,0,0,0,0,0,0,0,0,0,0,0,0,0,0,{"$f":"VLOOKUP($D$7,ETo!$B$4:$P$88,MONTH(D49)+2,FALSE)/4","v":{"$error":"#N/A"}},{"$error":"#N/A"},{"$error":"#N/A"},0,0,{"$error":"#N/A"},{"$f":"VLOOKUP(MONTH(D49),[0]!rainforpaddy,4)/1000*AB49*1600*7","v":{"$error":"#N/A"}}]
[null,"2009-04-11","2009-04-17","2009-04-17",24,{"$f":"IF(ISERROR(VLOOKUP(E50,Crop!$X$3:$Y$70,2,FALSE)),0,VLOOKUP(E50,Crop!$X$3:$Y$70,2,FALSE))","v":0},{"$f":"IF(ISERROR(HLOOKUP($D$5,Kc!$C$3:$AI$57,paddy_rain!F50+3,FALSE)),0,HLOOKUP($D$5,Kc!$C$3:$AI$57,paddy_rain!F50+3,FALSE))","v":0},0,0,0,0,0,0,0,0,0,0,0,0,0,0,0,0,0,0,0,0,0,0,{"$f":"VLOOKUP($D$7,ETo!$B$4:$P$88,MONTH(D50)+2,FALSE)/4","v":{"$error":"#N/A"}},{"$error":"#N/A"},{"$error":"#N/A"},0,0,{"$error":"#N/A"},{"$f":"VLOOKUP(MONTH(D50),[0]!rainforpaddy,4)/1000*AB50*1600*7","v":{"$error":"#N/A"}}]
[null,"2009-04-18","2009-04-24","2009-04-24",25,{"$f":"IF(ISERROR(VLOOKUP(E51,Crop!$X$3:$Y$70,2,FALSE)),0,VLOOKUP(E51,Crop!$X$3:$Y$70,2,FALSE))","v":0},{"$f":"IF(ISERROR(HLOOKUP($D$5,Kc!$C$3:$AI$57,paddy_rain!F51+3,FALSE)),0,HLOOKUP($D$5,Kc!$C$3:$AI$57,paddy_rain!F51+3,FALSE))","v":0},0,0,0,0,0,0,0,0,0,0,0,0,0,0,0,0,0,0,0,0,0,0,{"$f":"VLOOKUP($D$7,ETo!$B$4:$P$88,MONTH(D51)+2,FALSE)/4","v":{"$error":"#N/A"}},{"$error":"#N/A"},{"$error":"#N/A"},0,0,{"$error":"#N/A"},{"$f":"VLOOKUP(MONTH(D51),[0]!rainforpaddy,4)/1000*AB51*1600*7","v":{"$error":"#N/A"}}]
[null,"2009-04-25","2009-05-01","2009-05-01",26,{"$f":"IF(ISERROR(VLOOKUP(E52,Crop!$X$3:$Y$70,2,FALSE)),0,VLOOKUP(E52,Crop!$X$3:$Y$70,2,FALSE))","v":0},{"$f":"IF(ISERROR(HLOOKUP($D$5,Kc!$C$3:$AI$57,paddy_rain!F52+3,FALSE)),0,HLOOKUP($D$5,Kc!$C$3:$AI$57,paddy_rain!F52+3,FALSE))","v":0},0,0,0,0,0,0,0,0,0,0,0,0,0,0,0,0,0,0,0,0,0,0,{"$f":"VLOOKUP($D$7,ETo!$B$4:$P$88,MONTH(D52)+2,FALSE)/4","v":{"$error":"#N/A"}},{"$error":"#N/A"},{"$error":"#N/A"},0,0,{"$error":"#N/A"},{"$f":"VLOOKUP(MONTH(D52),[0]!rainforpaddy,4)/1000*AB52*1600*7","v":{"$error":"#N/A"}}]
[null,"2009-05-02","2009-05-08","2009-05-08",27,{"$f":"IF(ISERROR(VLOOKUP(E53,Crop!$X$3:$Y$70,2,FALSE)),0,VLOOKUP(E53,Crop!$X$3:$Y$70,2,FALSE))","v":0},{"$f":"IF(ISERROR(HLOOKUP($D$5,Kc!$C$3:$AI$57,paddy_rain!F53+3,FALSE)),0,HLOOKUP($D$5,Kc!$C$3:$AI$57,paddy_rain!F53+3,FALSE))","v":0},0,0,0,0,0,0,0,0,0,0,0,0,0,0,0,0,0,0,0,0,0,0,{"$f":"VLOOKUP($D$7,ETo!$B$4:$P$88,MONTH(D53)+2,FALSE)/4","v":{"$error":"#N/A"}},{"$error":"#N/A"},{"$error":"#N/A"},0,0,{"$error":"#N/A"},{"$f":"VLOOKUP(MONTH(D53),[0]!rainforpaddy,4)/1000*AB53*1600*7","v":{"$error":"#N/A"}}]
[null,"2009-05-09","2009-05-15","2009-05-15",28,{"$f":"IF(ISERROR(VLOOKUP(E54,Crop!$X$3:$Y$70,2,FALSE)),0,VLOOKUP(E54,Crop!$X$3:$Y$70,2,FALSE))","v":0},{"$f":"IF(ISERROR(HLOOKUP($D$5,Kc!$C$3:$AI$57,paddy_rain!F54+3,FALSE)),0,HLOOKUP($D$5,Kc!$C$3:$AI$57,paddy_rain!F54+3,FALSE))","v":0},0,0,0,0,0,0,0,0,0,0,0,0,0,0,0,0,0,0,0,0,0,0,{"$f":"VLOOKUP($D$7,ETo!$B$4:$P$88,MONTH(D54)+2,FALSE)/4","v":{"$error":"#N/A"}},{"$error":"#N/A"},{"$error":"#N/A"},0,0,{"$error":"#N/A"},{"$f":"VLOOKUP(MONTH(D54),[0]!rainforpaddy,4)/1000*AB54*1600*7","v":{"$error":"#N/A"}}]
[null,"2009-05-16","2009-05-22","2009-05-22",29,{"$f":"IF(ISERROR(VLOOKUP(E55,Crop!$X$3:$Y$70,2,FALSE)),0,VLOOKUP(E55,Crop!$X$3:$Y$70,2,FALSE))","v":0},{"$f":"IF(ISERROR(HLOOKUP($D$5,Kc!$C$3:$AI$57,paddy_rain!F55+3,FALSE)),0,HLOOKUP($D$5,Kc!$C$3:$AI$57,paddy_rain!F55+3,FALSE))","v":0},0,0,0,0,0,0,0,0,0,0,0,0,0,0,0,0,0,0,0,0,0,0,{"$f":"VLOOKUP($D$7,ETo!$B$4:$P$88,MONTH(D55)+2,FALSE)/4","v":{"$error":"#N/A"}},{"$error":"#N/A"},{"$error":"#N/A"},0,0,{"$error":"#N/A"},{"$f":"VLOOKUP(MONTH(D55),[0]!rainforpaddy,4)/1000*AB55*1600*7","v":{"$error":"#N/A"}}]
[null,"2009-05-23","2009-05-29","2009-05-29",30,{"$f":"IF(ISERROR(VLOOKUP(E56,Crop!$X$3:$Y$70,2,FALSE)),0,VLOOKUP(E56,Crop!$X$3:$Y$70,2,FALSE))","v":0},{"$f":"IF(ISERROR(HLOOKUP($D$5,Kc!$C$3:$AI$57,paddy_rain!F56+3,FALSE)),0,HLOOKUP($D$5,Kc!$C$3:$AI$57,paddy_rain!F56+3,FALSE))","v":0},0,0,0,0,0,0,0,0,0,0,0,0,0,0,0,0,0,0,0,0,0,0,{"$f":"VLOOKUP($D$7,ETo!$B$4:$P$88,MONTH(D56)+2,FALSE)/4","v":{"$error":"#N/A"}},{"$error":"#N/A"},{"$error":"#N/A"},0,0,{"$error":"#N/A"},{"$f":"VLOOKUP(MONTH(D56),[0]!rainforpaddy,4)/1000*AB56*1600*7","v":{"$error":"#N/A"}}]
[null,"2009-05-30","2009-06-05","2009-06-05",31,{"$f":"IF(ISERROR(VLOOKUP(E57,Crop!$X$3:$Y$70,2,FALSE)),0,VLOOKUP(E57,Crop!$X$3:$Y$70,2,FALSE))","v":0},{"$f":"IF(ISERROR(HLOOKUP($D$5,Kc!$C$3:$AI$57,paddy_rain!F57+3,FALSE)),0,HLOOKUP($D$5,Kc!$C$3:$AI$57,paddy_rain!F57+3,FALSE))","v":0},0,0,0,{"$f":"IF(J56>0,IF(K$26>$E$9,0,VLOOKUP(K$26,$F$3:$G$23,2,FALSE)),0)","v":0},0,0,0,0,0,0,0,0,0,{"$f":"IF(T56>0,IF(U$26>$E$9,0,VLOOKUP(U$26,$F$3:$G$23,2,FALSE)),0)","v":0},0,0,0,0,0,0,0,0,{"$f":"VLOOKUP($D$7,ETo!$B$4:$P$88,MONTH(D57)+2,FALSE)/4","v":{"$error":"#N/A"}},{"$error":"#N/A"},{"$error":"#N/A"},0,0,{"$error":"#N/A"},{"$f":"VLOOKUP(MONTH(D57),[0]!rainforpaddy,4)/1000*AB57*1600*7","v":{"$error":"#N/A"}}]
[null,"2009-06-06","2009-06-12","2009-06-12",32,{"$f":"IF(ISERROR(VLOOKUP(E58,Crop!$X$3:$Y$70,2,FALSE)),0,VLOOKUP(E58,Crop!$X$3:$Y$70,2,FALSE))","v":0},{"$f":"IF(ISERROR(HLOOKUP($D$5,Kc!$C$3:$AI$57,paddy_rain!F58+3,FALSE)),0,HLOOKUP($D$5,Kc!$C$3:$AI$57,paddy_rain!F58+3,FALSE))","v":0},0,0,0,0,0,0,0,0,0,0,0,0,0,0,0,0,0,0,0,0,0,0,{"$f":"VLOOKUP($D$7,ETo!$B$4:$P$88,MONTH(D58)+2,FALSE)/4","v":{"$error":"#N/A"}},{"$error":"#N/A"},{"$error":"#N/A"},0,0,{"$error":"#N/A"},{"$f":"VLOOKUP(MONTH(D58),[0]!rainforpaddy,4)/1000*AB58*1600*7","v":{"$error":"#N/A"}}]
[null,"2009-06-13","2009-06-19",{"$f":"+C59","v":"2009-06-19"},33,{"$f":"IF(ISERROR(VLOOKUP(E59,Crop!$X$3:$Y$70,2,FALSE)),0,VLOOKUP(E59,Crop!$X$3:$Y$70,2,FALSE))","v":1},{"$f":"IF(ISERROR(HLOOKUP($D$5,Kc!$C$3:$AI$57,paddy_rain!F59+3,FALSE)),0,HLOOKUP($D$5,Kc!$C$3:$AI$57,paddy_rain!F59+3,FALSE))","v":1.03},0,0,0,0,0,0,0,0,0,0,0,0,0,0,0,0,0,0,0,0,0,0,{"$f":"VLOOKUP($D$7,ETo!$B$4:$P$88,MONTH(D59)+2,FALSE)/4","v":{"$error":"#N/A"}},{"$f":"IF(AC59*AD59=0,0,(AC59*AD59)+$E$10)","v":{"$error":"#N/A"}},{"$f":"AE59*AB59*1.6","v":{"$error":"#N/A"}},0,0,{"$f":"AF59+AH59","v":{"$error":"#N/A"}},{"$f":"VLOOKUP(MONTH(D59),[0]!rainforpaddy,4)/1000*AB59*1600*7","v":{"$error":"#N/A"}}]
[null,{"$f":"C59+1","v":"2009-06-20"},{"$f":"B60+6","v":"2009-06-26"},"2009-06-26",34,{"$f":"IF(ISERROR(VLOOKUP(E60,Crop!$X$3:$Y$70,2,FALSE)),0,VLOOKUP(E60,Crop!$X$3:$Y$70,2,FALSE))","v":2},{"$f":"IF(ISERROR(HLOOKUP($D$5,Kc!$C$3:$AI$57,paddy_rain!F60+3,FALSE)),0,HLOOKUP($D$5,Kc!$C$3:$AI$57,paddy_rain!F60+3,FALSE))","v":1.07},0,0,0,0,0,0,0,0,0,0,0,0,0,0,0,0,0,0,0,0,0,0,{"$f":"VLOOKUP($D$7,ETo!$B$4:$P$88,MONTH(D60)+2,FALSE)/4","v":{"$error":"#N/A"}},{"$error":"#N/A"},{"$error":"#N/A"},0,0,{"$error":"#N/A"},{"$f":"VLOOKUP(MONTH(D60),[0]!rainforpaddy,4)/1000*AB60*1600*7","v":{"$error":"#N/A"}}]
[null,"2009-06-27","2009-07-03","2009-07-03",35,{"$f":"IF(ISERROR(VLOOKUP(E61,Crop!$X$3:$Y$70,2,FALSE)),0,VLOOKUP(E61,Crop!$X$3:$Y$70,2,FALSE))","v":3},{"$f":"IF(ISERROR(HLOOKUP($D$5,Kc!$C$3:$AI$57,paddy_rain!F61+3,FALSE)),0,HLOOKUP($D$5,Kc!$C$3:$AI$57,paddy_rain!F61+3,FALSE))","v":1.1200000000000001},0,0,0,0,0,0,0,0,0,0,0,0,0,0,0,0,0,0,0,0,0,0,{"$f":"VLOOKUP($D$7,ETo!$B$4:$P$88,MONTH(D61)+2,FALSE)/4","v":{"$error":"#N/A"}},{"$error":"#N/A"},{"$error":"#N/A"},0,0,{"$error":"#N/A"},{"$f":"VLOOKUP(MONTH(D61),[0]!rainforpaddy,4)/1000*AB61*1600*7","v":{"$error":"#N/A"}}]
[null,"2009-07-04","2009-07-10","2009-07-10",36,{"$f":"IF(ISERROR(VLOOKUP(E62,Crop!$X$3:$Y$70,2,FALSE)),0,VLOOKUP(E62,Crop!$X$3:$Y$70,2,FALSE))","v":4},{"$f":"IF(ISERROR(HLOOKUP($D$5,Kc!$C$3:$AI$57,paddy_rain!F62+3,FALSE)),0,HLOOKUP($D$5,Kc!$C$3:$AI$57,paddy_rain!F62+3,FALSE))","v":1.29},0,0,0,0,0,0,0,0,0,0,0,0,0,0,0,0,0,0,0,0,0,0,{"$f":"VLOOKUP($D$7,ETo!$B$4:$P$88,MONTH(D62)+2,FALSE)/4","v":{"$error":"#N/A"}},{"$error":"#N/A"},{"$error":"#N/A"},0,0,{"$error":"#N/A"},{"$f":"VLOOKUP(MONTH(D62),[0]!rainforpaddy,4)/1000*AB62*1600*7","v":{"$error":"#N/A"}}]
[null,"2009-07-11","2009-07-17","2009-07-17",37,{"$f":"IF(ISERROR(VLOOKUP(E63,Crop!$X$3:$Y$70,2,FALSE)),0,VLOOKUP(E63,Crop!$X$3:$Y$70,2,FALSE))","v":5},{"$f":"IF(ISERROR(HLOOKUP($D$5,Kc!$C$3:$AI$57,paddy_rain!F63+3,FALSE)),0,HLOOKUP($D$5,Kc!$C$3:$AI$57,paddy_rain!F63+3,FALSE))","v":1.38},0,0,0,0,0,0,0,0,0,0,0,0,0,0,0,0,0,0,0,0,0,0,{"$f":"VLOOKUP($D$7,ETo!$B$4:$P$88,MONTH(D63)+2,FALSE)/4","v":{"$error":"#N/A"}},{"$error":"#N/A"},{"$error":"#N/A"},0,0,{"$error":"#N/A"},{"$f":"VLOOKUP(MONTH(D63),[0]!rainforpaddy,4)/1000*AB63*1600*7","v":{"$error":"#N/A"}}]
[null,"2009-07-18","2009-07-24","2009-07-24",38,{"$f":"IF(ISERROR(VLOOKUP(E64,Crop!$X$3:$Y$70,2,FALSE)),0,VLOOKUP(E64,Crop!$X$3:$Y$70,2,FALSE))","v":6},{"$f":"IF(ISERROR(HLOOKUP($D$5,Kc!$C$3:$AI$57,paddy_rain!F64+3,FALSE)),0,HLOOKUP($D$5,Kc!$C$3:$AI$57,paddy_rain!F64+3,FALSE))","v":1.45},0,0,0,0,0,0,0,0,0,0,0,0,0,0,0,0,0,0,0,0,0,0,{"$f":"VLOOKUP($D$7,ETo!$B$4:$P$88,MONTH(D64)+2,FALSE)/4","v":{"$error":"#N/A"}},{"$error":"#N/A"},{"$error":"#N/A"},0,0,{"$error":"#N/A"},{"$f":"VLOOKUP(MONTH(D64),[0]!rainforpaddy,4)/1000*AB64*1600*7","v":{"$error":"#N/A"}}]
[null,"2009-07-25","2009-07-31","2009-07-31",39,{"$f":"IF(ISERROR(VLOOKUP(E65,Crop!$X$3:$Y$70,2,FALSE)),0,VLOOKUP(E65,Crop!$X$3:$Y$70,2,FALSE))","v":7},{"$f":"IF(ISERROR(HLOOKUP($D$5,Kc!$C$3:$AI$57,paddy_rain!F65+3,FALSE)),0,HLOOKUP($D$5,Kc!$C$3:$AI$57,paddy_rain!F65+3,FALSE))","v":1.5},0,0,0,0,0,0,0,0,0,0,0,0,0,0,0,0,0,0,0,0,0,0,{"$f":"VLOOKUP($D$7,ETo!$B$4:$P$88,MONTH(D65)+2,FALSE)/4","v":{"$error":"#N/A"}},{"$error":"#N/A"},{"$error":"#N/A"},0,0,{"$error":"#N/A"},{"$f":"VLOOKUP(MONTH(D65),[0]!rainforpaddy,4)/1000*AB65*1600*7","v":{"$error":"#N/A"}}]
[null,"2009-08-01","2009-08-07","2009-08-07",40,{"$f":"IF(ISERROR(VLOOKUP(E66,Crop!$X$3:$Y$70,2,FALSE)),0,VLOOKUP(E66,Crop!$X$3:$Y$70,2,FALSE))","v":8},{"$f":"IF(ISERROR(HLOOKUP($D$5,Kc!$C$3:$AI$57,paddy_rain!F66+3,FALSE)),0,HLOOKUP($D$5,Kc!$C$3:$AI$57,paddy_rain!F66+3,FALSE))","v":1.48},0,0,0,0,0,0,0,0,0,0,0,0,0,0,0,0,0,0,0,0,0,0,{"$f":"VLOOKUP($D$7,ETo!$B$4:$P$88,MONTH(D66)+2,FALSE)/4","v":{"$error":"#N/A"}},{"$error":"#N/A"},{"$error":"#N/A"},0,0,{"$error":"#N/A"},{"$f":"VLOOKUP(MONTH(D66),[0]!rainforpaddy,4)/1000*AB66*1600*7","v":{"$error":"#N/A"}}]
[null,"2009-08-08","2009-08-14","2009-08-14",41,{"$f":"IF(ISERROR(VLOOKUP(E67,Crop!$X$3:$Y$70,2,FALSE)),0,VLOOKUP(E67,Crop!$X$3:$Y$70,2,FALSE))","v":9},{"$f":"IF(ISERROR(HLOOKUP($D$5,Kc!$C$3:$AI$57,paddy_rain!F67+3,FALSE)),0,HLOOKUP($D$5,Kc!$C$3:$AI$57,paddy_rain!F67+3,FALSE))","v":1.42},0,0,0,{"$f":"IF(J66>0,IF(K$26>$E$9,0,VLOOKUP(K$26,$F$3:$G$23,2,FALSE)),0)","v":0},0,0,0,0,0,0,0,0,0,{"$f":"IF(T66>0,IF(U$26>$E$9,0,VLOOKUP(U$26,$F$3:$G$23,2,FALSE)),0)","v":0},0,0,0,0,0,0,0,0,{"$f":"VLOOKUP($D$7,ETo!$B$4:$P$88,MONTH(D67)+2,FALSE)/4","v":{"$error":"#N/A"}},{"$error":"#N/A"},{"$error":"#N/A"},0,0,{"$error":"#N/A"},{"$f":"VLOOKUP(MONTH(D67),[0]!rainforpaddy,4)/1000*AB67*1600*7","v":{"$error":"#N/A"}}]
[null,"2009-08-15","2009-08-21","2009-08-21",42,{"$f":"IF(ISERROR(VLOOKUP(E68,Crop!$X$3:$Y$70,2,FALSE)),0,VLOOKUP(E68,Crop!$X$3:$Y$70,2,FALSE))","v":10},{"$f":"IF(ISERROR(HLOOKUP($D$5,Kc!$C$3:$AI$57,paddy_rain!F68+3,FALSE)),0,HLOOKUP($D$5,Kc!$C$3:$AI$57,paddy_rain!F68+3,FALSE))","v":1.34},0,0,0,0,0,0,0,0,0,0,0,0,0,0,0,0,0,0,0,0,0,0,{"$f":"VLOOKUP($D$7,ETo!$B$4:$P$88,MONTH(D68)+2,FALSE)/4","v":{"$error":"#N/A"}},{"$error":"#N/A"},{"$error":"#N/A"},0,0,{"$error":"#N/A"},{"$f":"VLOOKUP(MONTH(D68),[0]!rainforpaddy,4)/1000*AB68*1600*7","v":{"$error":"#N/A"}}]
[null,"2009-08-22","2009-08-28","2009-08-28",43,{"$f":"IF(ISERROR(VLOOKUP(E69,Crop!$X$3:$Y$70,2,FALSE)),0,VLOOKUP(E69,Crop!$X$3:$Y$70,2,FALSE))","v":11},{"$f":"IF(ISERROR(HLOOKUP($D$5,Kc!$C$3:$AI$57,paddy_rain!F69+3,FALSE)),0,HLOOKUP($D$5,Kc!$C$3:$AI$57,paddy_rain!F69+3,FALSE))","v":1.23},0,0,0,0,0,0,0,0,0,0,0,0,0,0,0,0,0,0,0,0,0,0,{"$f":"VLOOKUP($D$7,ETo!$B$4:$P$88,MONTH(D69)+2,FALSE)/4","v":{"$error":"#N/A"}},{"$error":"#N/A"},{"$error":"#N/A"},0,0,{"$error":"#N/A"},{"$f":"VLOOKUP(MONTH(D69),[0]!rainforpaddy,4)/1000*AB69*1600*7","v":{"$error":"#N/A"}}]
[null,"2009-08-29","2009-09-04","2009-09-04",44,{"$f":"IF(ISERROR(VLOOKUP(E70,Crop!$X$3:$Y$70,2,FALSE)),0,VLOOKUP(E70,Crop!$X$3:$Y$70,2,FALSE))","v":12},{"$f":"IF(ISERROR(HLOOKUP($D$5,Kc!$C$3:$AI$57,paddy_rain!F70+3,FALSE)),0,HLOOKUP($D$5,Kc!$C$3:$AI$57,paddy_rain!F70+3,FALSE))","v":0.94},0,0,0,0,0,0,0,0,0,0,0,0,0,0,0,0,0,0,0,0,0,0,{"$f":"VLOOKUP($D$7,ETo!$B$4:$P$88,MONTH(D70)+2,FALSE)/4","v":{"$error":"#N/A"}},{"$error":"#N/A"},{"$error":"#N/A"},0,0,{"$error":"#N/A"},{"$f":"VLOOKUP(MONTH(D70),[0]!rainforpaddy,4)/1000*AB70*1600*7","v":{"$error":"#N/A"}}]
[null,"2009-09-05","2009-09-11","2009-09-11",45,{"$f":"IF(ISERROR(VLOOKUP(E71,Crop!$X$3:$Y$70,2,FALSE)),0,VLOOKUP(E71,Crop!$X$3:$Y$70,2,FALSE))","v":13},{"$f":"IF(ISERROR(HLOOKUP($D$5,Kc!$C$3:$AI$57,paddy_rain!F71+3,FALSE)),0,HLOOKUP($D$5,Kc!$C$3:$AI$57,paddy_rain!F71+3,FALSE))","v":0.86},0,0,0,0,0,0,0,0,0,0,0,0,0,0,0,0,0,0,0,0,0,0,{"$f":"VLOOKUP($D$7,ETo!$B$4:$P$88,MONTH(D71)+2,FALSE)/4","v":{"$error":"#N/A"}},{"$error":"#N/A"},{"$error":"#N/A"},0,0,{"$error":"#N/A"},{"$f":"VLOOKUP(MONTH(D71),[0]!rainforpaddy,4)/1000*AB71*1600*7","v":{"$error":"#N/A"}}]
[null,"2009-09-12","2009-09-18","2009-09-18",46,{"$f":"IF(ISERROR(VLOOKUP(E72,Crop!$X$3:$Y$70,2,FALSE)),0,VLOOKUP(E72,Crop!$X$3:$Y$70,2,FALSE))","v":0},{"$f":"IF(ISERROR(HLOOKUP($D$5,Kc!$C$3:$AI$57,paddy_rain!F72+3,FALSE)),0,HLOOKUP($D$5,Kc!$C$3:$AI$57,paddy_rain!F72+3,FALSE))","v":0},0,0,0,0,0,0,0,0,0,0,0,0,0,0,0,0,0,0,0,0,0,0,{"$f":"VLOOKUP($D$7,ETo!$B$4:$P$88,MONTH(D72)+2,FALSE)/4","v":{"$error":"#N/A"}},{"$error":"#N/A"},{"$error":"#N/A"},0,0,{"$error":"#N/A"},{"$f":"VLOOKUP(MONTH(D72),[0]!rainforpaddy,4)/1000*AB72*1600*7","v":{"$error":"#N/A"}}]
[null,"2009-09-19","2009-09-25","2009-09-25",47,{"$f":"IF(ISERROR(VLOOKUP(E73,Crop!$X$3:$Y$70,2,FALSE)),0,VLOOKUP(E73,Crop!$X$3:$Y$70,2,FALSE))","v":0},{"$f":"IF(ISERROR(HLOOKUP($D$5,Kc!$C$3:$AI$57,paddy_rain!F73+3,FALSE)),0,HLOOKUP($D$5,Kc!$C$3:$AI$57,paddy_rain!F73+3,FALSE))","v":0},0,0,0,0,0,0,0,0,0,0,0,0,0,0,0,0,0,0,0,0,0,0,{"$f":"VLOOKUP($D$7,ETo!$B$4:$P$88,MONTH(D73)+2,FALSE)/4","v":{"$error":"#N/A"}},{"$error":"#N/A"},{"$error":"#N/A"},0,0,{"$error":"#N/A"},{"$f":"VLOOKUP(MONTH(D73),[0]!rainforpaddy,4)/1000*AB73*1600*7","v":{"$error":"#N/A"}}]
[null,"2009-09-26","2009-10-02","2009-10-02",48,{"$f":"IF(ISERROR(VLOOKUP(E74,Crop!$X$3:$Y$70,2,FALSE)),0,VLOOKUP(E74,Crop!$X$3:$Y$70,2,FALSE))","v":0},{"$f":"IF(ISERROR(HLOOKUP($D$5,Kc!$C$3:$AI$57,paddy_rain!F74+3,FALSE)),0,HLOOKUP($D$5,Kc!$C$3:$AI$57,paddy_rain!F74+3,FALSE))","v":0},0,0,0,0,0,0,0,0,0,0,0,0,0,0,0,0,0,0,0,0,0,0,{"$f":"VLOOKUP($D$7,ETo!$B$4:$P$88,MONTH(D74)+2,FALSE)/4","v":{"$error":"#N/A"}},{"$error":"#N/A"},{"$error":"#N/A"},0,0,{"$error":"#N/A"},{"$f":"VLOOKUP(MONTH(D74),[0]!rainforpaddy,4)/1000*AB74*1600*7","v":{"$error":"#N/A"}}]
[null,"2009-10-03","2009-10-09","2009-10-09",49,{"$f":"IF(ISERROR(VLOOKUP(E75,Crop!$X$3:$Y$70,2,FALSE)),0,VLOOKUP(E75,Crop!$X$3:$Y$70,2,FALSE))","v":0},{"$f":"IF(ISERROR(HLOOKUP($D$5,Kc!$C$3:$AI$57,paddy_rain!F75+3,FALSE)),0,HLOOKUP($D$5,Kc!$C$3:$AI$57,paddy_rain!F75+3,FALSE))","v":0},0,0,0,0,0,0,0,0,0,0,0,0,0,0,0,0,0,0,0,0,0,0,{"$f":"VLOOKUP($D$7,ETo!$B$4:$P$88,MONTH(D75)+2,FALSE)/4","v":{"$error":"#N/A"}},{"$error":"#N/A"},{"$error":"#N/A"},0,0,{"$error":"#N/A"},{"$f":"VLOOKUP(MONTH(D75),[0]!rainforpaddy,4)/1000*AB75*1600*7","v":{"$error":"#N/A"}}]
[null,"2009-10-10","2009-10-16","2009-10-16",50,{"$f":"IF(ISERROR(VLOOKUP(E76,Crop!$X$3:$Y$70,2,FALSE)),0,VLOOKUP(E76,Crop!$X$3:$Y$70,2,FALSE))","v":0},{"$f":"IF(ISERROR(HLOOKUP($D$5,Kc!$C$3:$AI$57,paddy_rain!F76+3,FALSE)),0,HLOOKUP($D$5,Kc!$C$3:$AI$57,paddy_rain!F76+3,FALSE))","v":0},0,0,0,0,0,0,0,0,0,0,0,0,0,0,0,0,0,0,0,0,0,0,{"$f":"VLOOKUP($D$7,ETo!$B$4:$P$88,MONTH(D76)+2,FALSE)/4","v":{"$error":"#N/A"}},{"$error":"#N/A"},{"$error":"#N/A"},0,0,{"$error":"#N/A"},{"$f":"VLOOKUP(MONTH(D76),[0]!rainforpaddy,4)/1000*AB76*1600*7","v":{"$error":"#N/A"}}]
[null,"2009-10-17","2009-10-23","2009-10-23",51,{"$f":"IF(ISERROR(VLOOKUP(E77,Crop!$X$3:$Y$70,2,FALSE)),0,VLOOKUP(E77,Crop!$X$3:$Y$70,2,FALSE))","v":0},{"$f":"IF(ISERROR(HLOOKUP($D$5,Kc!$C$3:$AI$57,paddy_rain!F77+3,FALSE)),0,HLOOKUP($D$5,Kc!$C$3:$AI$57,paddy_rain!F77+3,FALSE))","v":0},0,0,0,0,0,0,0,0,0,0,0,0,0,0,0,0,0,0,0,0,0,0,{"$f":"VLOOKUP($D$7,ETo!$B$4:$P$88,MONTH(D77)+2,FALSE)/4","v":{"$error":"#N/A"}},{"$error":"#N/A"},{"$error":"#N/A"},0,0,{"$error":"#N/A"},{"$f":"VLOOKUP(MONTH(D77),[0]!rainforpaddy,4)/1000*AB77*1600*7","v":{"$error":"#N/A"}}]
[null,"2009-10-24","2009-10-30","2009-10-30",52,{"$f":"IF(ISERROR(VLOOKUP(E78,Crop!$X$3:$Y$70,2,FALSE)),0,VLOOKUP(E78,Crop!$X$3:$Y$70,2,FALSE))","v":0},{"$f":"IF(ISERROR(HLOOKUP($D$5,Kc!$C$3:$AI$57,paddy_rain!F78+3,FALSE)),0,HLOOKUP($D$5,Kc!$C$3:$AI$57,paddy_rain!F78+3,FALSE))","v":0},0,0,0,0,0,0,0,0,0,0,0,0,0,0,0,0,0,0,0,0,0,0,{"$f":"VLOOKUP($D$7,ETo!$B$4:$P$88,MONTH(D78)+2,FALSE)/4","v":{"$error":"#N/A"}},{"$error":"#N/A"},{"$error":"#N/A"},0,0,{"$error":"#N/A"},{"$f":"VLOOKUP(MONTH(D78),[0]!rainforpaddy,4)/1000*AB78*1600*7","v":{"$error":"#N/A"}}]
[null,null,null,null,null,null,null,null,null,null,null,null,null,null,null,null,null,null,null,null,null,null,null,null,null,null,null,null,null,null,null,null,null,null,{"$f":"SUM(AI27:AI78)","v":{"$error":"#N/A"}},{"$f":"SUM(AJ27:AJ78)","v":{"$error":"#N/A"}}]

{"sheet":"upland_dry","index":5,"n_rows":79,"n_cols":36,"rows_kept":79,"cut":false,"hidden":false,"merged":[[6,3,6,4],[3,3,3,4],[4,3,4,4]]}
[null,"ตารางแสดงรายละเอียดการคำนวณความต้องการน้ำของพืช"]
[null,null,null,null,null,"สัปดาห์","พื้นที่ (ไร่)"]
[null,null,null,null,null,1,{"$f":"+fill_data!M32","v":0},null,null,null,null,null,null,null,null,null,null,null,{"$f":"+E6","v":10},1]
[null,"จังหวัด",null,{"$f":"+fill_data!C4","v":0},null,{"$f":"IF(F3=\"\",\"\",IF(F3+1<=$E$9,F3+1,\"\"))","v":2},{"$f":"+fill_data!M33","v":0},null,null,null,null,null,null,null,null,null,null,null,{"$f":"IF(+S3+1>52,+S3+1-52,S3+1)","v":11},2]
[null,"ชนิดพืช",null,{"$f":"+fill_data!J33","v":"ถั่ว\nเขียว"},null,3,{"$f":"+fill_data!M34","v":0},null,null,null,null,null,null,null,null,null,null,null,{"$f":"IF(+S4+1>52,+S4+1-52,S4+1)","v":12},3]
[null,"สัปดาห์เริ่มต้น",null,{"$f":"VLOOKUP(D5,Crop!$B$3:$C$35,2,FALSE)","v":9},{"$f":"+fill_data!K34","v":10},"",{"$f":"+fill_data!M35","v":0},null,null,null,null,null,null,null,null,null,null,null,13,4]
[null,"ใช้ค่า ETo ของจังหวัด",null,{"$f":"+fill_data!C5","v":{"$error":"#N/A"}},null,"",{"$f":"+fill_data!M36","v":0},null,null,null,null,null,null,null,null,null,null,null,14,5]
[null,"พื้นที่โครงการ, ไร่",null,null,{"$f":"fill_data!K35","v":0},"",{"$f":"+fill_data!M37","v":0},null,null,null,null,null,null,null,null,null,null,null,15,6]
[null,"เวลาปลูกจนเต็มพื้นที่, สัปดาห์",null,null,{"$f":"+fill_data!K36","v":3},"",{"$f":"+fill_data!M38","v":0},null,null,null,null,null,null,null,null,null,null,null,16,7]
[null,"ปริมาณน้ำรั่วซึม, มม./สัปดาห์",null,null,{"$f":"+fill_data!D6","v":0},"",{"$f":"+fill_data!M39","v":0},null,"*ภาคกลาง กำหนดให้ใช้ 1 มม./วัน ส่วนภาคอื่นๆใช้ 2 มม./วัน",null,null,null,null,null,null,null,null,null,17,8]
[null,"ปริมาณน้ำเตรียมแปลง, มม./สัปดาห์",null,null,{"$f":"+fill_data!K37","v":30},"",{"$f":"+fill_data!M40","v":0},null,"*กำหนดระยะเวลาในการเตรียมแปลง 1 สัปดาห์",null,null,null,null,null,null,null,null,null,18,9]
[null,null,null,null,null,"",{"$f":"+fill_data!M41","v":0},null,null,null,null,null,null,null,null,null,null,null,19,10,null,null,null,null," =IF(ISERROR((H26*G26+I26*G77+J26*G76+K26*G75+L26*G74+M26*G73+N26*G72+O26*G71+P26*G70+Q26*G69)/AB26),0,(H26*G26+I26*G77+J26*G76+K26*G75+L26*G74+M26*G73+N26*G72+O26*G71+P26*G70+Q26*G69)/AB26)"]
[null,null,null,null,null,"",{"$f":"+fill_data!M42","v":0},null,null,null,null,null,null,null,null,null,null,null,20,11]
[null,null,null,null,null,"",{"$f":"+fill_data!M43","v":0},null,null,null,null,null,null,null,null,null,null,null,21,12]
[null,null,null,null,null,"",{"$f":"+fill_data!M44","v":0},null,null,null,null,null,null,null,null,null,null,null,22,13]
[null,null,null,null,null,"",{"$f":"+fill_data!M45","v":0},null,null,null,null,null,null,null,null,null,null,null,23,14]
[null,null,null,null,null,"",{"$f":"+fill_data!M46","v":0},null,null,null,null,null,null,null,null,null,null,null,24,15]
[null,null,null,null,null,"",{"$f":"+fill_data!M47","v":0},null,null,null,null,null,null,null,null,null,null,null,25,16]
[null,null,null,null,null,"",{"$f":"+fill_data!M48","v":0},null,null,null,null,null,null,null,null,null,null,null,26,17]
[null,null,null,null,null,"",{"$f":"+fill_data!M49","v":0},null,null,null,null,null,null,null,null,null,null,null,27,18]
[null,null,null,null,null,"",{"$f":"+fill_data!M50","v":0},null,null,null,null,null,null,null,null,null,null,null,28,19]
[null,null,null,null,null,{"$f":"IF(F21=\"\",\"\",IF(F21+1<=$E$9,F21+1,\"\"))","v":""},{"$f":"+fill_data!M51","v":0},null,null,null,null,null,null,null,null,null,null,null,29,20]
[]
[null,"(1)","(2)","(3)","(4)","(5)","(6)","(7.1)","(7.2)","(7.3)","(7.4)","(7.5)","(7.6)","(7.7)","(7.8)","(7.9)","(7.10)","(7.11)","(7.12)","(7.13)","(7.14)","(7.15)","(7.16)","(7.17)","(7.18)","(7.19)","(7.20)","(8)","(9)","(10)","(11)","(12)","(13)","(14)","(15)","(16)"]
[null,"ช่วงเวลาสัปดาห์",null,"เดือน","สัปดาห์","สัปดาห์","Kc","พื้นที่เพาะปลูกในแต่ละสัปดาห์ (ไร่)",null,null,null,null,null,null,null,null,null,null,null,null,null,null,null,null,null,null,null,"รวมพื้นที่","Weighted","ETo","ความต้องการน้ำ",null,"ปริมาณน้ำเตรียมแปลง",null,"ความต้องการน้ำ","ฝนใช้การ"]
[null,"เริ่มต้น","สิ้นสุด",null,null,"ของ Kc",null,1,2,3,4,5,6,7,8,9,10,11,12,13,14,15,16,17,18,19,20,"(ไร่)","Kc",null,"(มม.)","(ลบ.ม.)","(ไร่)","(ลบ.ม.)","(ลบ.ม.)","(ลบ.ม.)"]
[null,"2008-11-01",{"$f":"B27+6","v":"2008-11-07"},{"$f":"+C27","v":"2008-11-07"},1,{"$f":"IF(ISERROR(VLOOKUP(E27,Crop!$N$3:$O$70,2,FALSE)),0,VLOOKUP(E27,Crop!$N$3:$O$70,2,FALSE))","v":0},{"$f":"IF(ISERROR(HLOOKUP($D$5,Kc!$C$3:$AI$57,upland_dry!F27+3,FALSE)),0,HLOOKUP($D$5,Kc!$C$3:$AI$57,upland_dry!F27+3,FALSE))","v":0},{"$f":"IF(G27>0,IF(H$26>$E$9,0,VLOOKUP(H$26,$F$3:$G$23,2,FALSE)),0)","v":0},{"$f":"IF(H78>0,IF(I$26>$E$9,0,VLOOKUP(I$26,$F$3:$G$23,2,FALSE)),0)","v":0},0,0,0,0,0,0,0,0,0,{"$f":"IF(R78>0,IF(S$26>$E$9,0,VLOOKUP(S$26,$F$3:$G$23,2,FALSE)),0)","v":0},0,0,0,0,0,0,0,0,{"$f":"SUM(H27:AA27)","v":0},{"$f":"IF(ISERROR((H27*G27+I27*G78+J27*G77+K27*G76+L27*G75+M27*G74+N27*G73+O27*G72+P27*G71+Q27*G70+R27*G69+S27*G68+T27*G67+U27*G66+V27*G65+W27*G64+X27*G63+Y27*G62+Z27*G61+AA27*G60)/AB27),0,(H27*G27+I27*G78+J27*G77+K27*G76+L27*G75+M27*G74+N27*G73+O27*G72+P27*G71+Q27*G70+R27*G69+S27*G68+T27*G67+U27*G66+V27*G65+W27*G64+X27*G63+Y27*G62+Z27*G61+AA27*G60)/AB27)","v":0},{"$f":"VLOOKUP($D$7,ETo!$B$4:$P$88,MONTH(D27)+2,FALSE)/4","v":{"$error":"#N/A"}},{"$f":"IF(AC27*AD27=0,0,(AC27*AD27)+$E$10)","v":{"$error":"#N/A"}},{"$f":"AE27*AB27*1.6","v":{"$error":"#N/A"}},{"$f":"IF(ISERROR(INDEX(H27:AA27,1,IF(E27<$E$6,0,VLOOKUP(E27,$S$3:$T$22,2,FALSE)))),0,INDEX(H27:AA27,1,IF(E27<$E$6,0,VLOOKUP(E27,$S$3:$T$22,2,FALSE))))","v":0},{"$f":"AG27*$E$11*1.6","v":0},{"$f":"AF27+AH27","v":{"$error":"#N/A"}},{"$f":"VLOOKUP(MONTH(D27),[0]!rainforuplandcrop,4)/1000*AB27*1600*7","v":{"$error":"#N/A"}}]
[null,{"$f":"C27+1","v":"2008-11-08"},{"$f":"B28+6","v":"2008-11-14"},{"$f":"+C28","v":"2008-11-14"},2,{"$f":"IF(ISERROR(VLOOKUP(E28,Crop!$N$3:$O$70,2,FALSE)),0,VLOOKUP(E28,Crop!$N$3:$O$70,2,FALSE))","v":0},{"$f":"IF(ISERROR(HLOOKUP($D$5,Kc!$C$3:$AI$57,upland_dry!F28+3,FALSE)),0,HLOOKUP($D$5,Kc!$C$3:$AI$57,upland_dry!F28+3,FALSE))","v":0},0,{"$f":"IF(H27>0,IF(I$26>$E$9,0,VLOOKUP(I$26,$F$3:$G$23,2,FALSE)),0)","v":0},0,0,0,0,0,0,0,0,0,{"$f":"IF(R27>0,IF(S$26>$E$9,0,VLOOKUP(S$26,$F$3:$G$23,2,FALSE)),0)","v":0},0,0,0,0,0,0,0,0,{"$f":"SUM(H28:AA28)","v":0},{"$f":"IF(ISERROR((H28*G28+I28*G27+J28*G78+K28*G77+L28*G76+M28*G75+N28*G74+O28*G73+P28*G72+Q28*G71+R28*G70+S28*G69+T28*G68+U28*G67+V28*G66+W28*G65+X28*G64+Y28*G63+Z28*G62+AA28*G61)/AB28),0,(H28*G28+I28*G27+J28*G78+K28*G77+L28*G76+M28*G75+N28*G74+O28*G73+P28*G72+Q28*G71+R28*G70+S28*G69+T28*G68+U28*G67+V28*G66+W28*G65+X28*G64+Y28*G63+Z28*G62+AA28*G61)/AB28)","v":0},{"$f":"VLOOKUP($D$7,ETo!$B$4:$P$88,MONTH(D28)+2,FALSE)/4","v":{"$error":"#N/A"}},{"$error":"#N/A"},{"$error":"#N/A"},{"$f":"IF(ISERROR(INDEX(H28:AA28,1,IF(E28<$E$6,0,VLOOKUP(E28,$S$3:$T$22,2,FALSE)))),0,INDEX(H28:AA28,1,IF(E28<$E$6,0,VLOOKUP(E28,$S$3:$T$22,2,FALSE))))","v":0},{"$f":"AG28*$E$11*1.6","v":0},{"$error":"#N/A"},{"$f":"VLOOKUP(MONTH(D28),[0]!rainforuplandcrop,4)/1000*AB28*1600*7","v":{"$error":"#N/A"}}]
[null,"2008-11-15","2008-11-21",{"$f":"+C29","v":"2008-11-21"},3,{"$f":"IF(ISERROR(VLOOKUP(E29,Crop!$N$3:$O$70,2,FALSE)),0,VLOOKUP(E29,Crop!$N$3:$O$70,2,FALSE))","v":0},{"$f":"IF(ISERROR(HLOOKUP($D$5,Kc!$C$3:$AI$57,upland_dry!F29+3,FALSE)),0,HLOOKUP($D$5,Kc!$C$3:$AI$57,upland_dry!F29+3,FALSE))","v":0},0,0,0,0,0,0,0,0,0,0,0,0,0,0,0,0,0,0,0,0,0,{"$f":"IF(ISERROR((H29*G29+I29*G28+J29*G27+K29*G78+L29*G77+M29*G76+N29*G75+O29*G74+P29*G73+Q29*G72+R29*G71+S29*G70+T29*G69+U29*G68+V29*G67+W29*G66+X29*G65+Y29*G64+Z29*G63+AA29*G62)/AB29),0,(H29*G29+I29*G28+J29*G27+K29*G78+L29*G77+M29*G76+N29*G75+O29*G74+P29*G73+Q29*G72+R29*G71+S29*G70+T29*G69+U29*G68+V29*G67+W29*G66+X29*G65+Y29*G64+Z29*G63+AA29*G62)/AB29)","v":0},{"$f":"VLOOKUP($D$7,ETo!$B$4:$P$88,MONTH(D29)+2,FALSE)/4","v":{"$error":"#N/A"}},{"$error":"#N/A"},{"$error":"#N/A"},{"$f":"IF(ISERROR(INDEX(H29:AA29,1,IF(E29<$E$6,0,VLOOKUP(E29,$S$3:$T$22,2,FALSE)))),0,INDEX(H29:AA29,1,IF(E29<$E$6,0,VLOOKUP(E29,$S$3:$T$22,2,FALSE))))","v":0},{"$f":"AG29*$E$11*1.6","v":0},{"$error":"#N/A"},{"$f":"VLOOKUP(MONTH(D29),[0]!rainforuplandcrop,4)/1000*AB29*1600*7","v":{"$error":"#N/A"}}]
[null,"2008-11-22","2008-11-28","2008-11-28",4,{"$f":"IF(ISERROR(VLOOKUP(E30,Crop!$N$3:$O$70,2,FALSE)),0,VLOOKUP(E30,Crop!$N$3:$O$70,2,FALSE))","v":0},{"$f":"IF(ISERROR(HLOOKUP($D$5,Kc!$C$3:$AI$57,upland_dry!F30+3,FALSE)),0,HLOOKUP($D$5,Kc!$C$3:$AI$57,upland_dry!F30+3,FALSE))","v":0},0,0,0,0,0,0,0,0,0,0,0,0,0,0,0,0,0,0,0,0,0,{"$f":"IF(ISERROR((H30*G30+I30*G29+J30*G28+K30*G27+L30*G78+M30*G77+N30*G76+O30*G75+P30*G74+Q30*G73+R30*G72+S30*G71+T30*G70+U30*G69+V30*G68+W30*G67+X30*G66+Y30*G65+Z30*G64+AA30*G63)/AB30),0,(H30*G30+I30*G29+J30*G28+K30*G27+L30*G78+M30*G77+N30*G76+O30*G75+P30*G74+Q30*G73+R30*G72+S30*G71+T30*G70+U30*G69+V30*G68+W30*G67+X30*G66+Y30*G65+Z30*G64+AA30*G63)/AB30)","v":0},{"$f":"VLOOKUP($D$7,ETo!$B$4:$P$88,MONTH(D30)+2,FALSE)/4","v":{"$error":"#N/A"}},{"$error":"#N/A"},{"$error":"#N/A"},{"$f":"IF(ISERROR(INDEX(H30:AA30,1,IF(E30<$E$6,0,VLOOKUP(E30,$S$3:$T$22,2,FALSE)))),0,INDEX(H30:AA30,1,IF(E30<$E$6,0,VLOOKUP(E30,$S$3:$T$22,2,FALSE))))","v":0},{"$f":"AG30*$E$11*1.6","v":0},{"$error":"#N/A"},{"$f":"VLOOKUP(MONTH(D30),[0]!rainforuplandcrop,4)/1000*AB30*1600*7","v":{"$error":"#N/A"}}]
[null,"2008-11-29","2008-12-05","2008-12-05",5,{"$f":"IF(ISERROR(VLOOKUP(E31,Crop!$N$3:$O$70,2,FALSE)),0,VLOOKUP(E31,Crop!$N$3:$O$70,2,FALSE))","v":0},{"$f":"IF(ISERROR(HLOOKUP($D$5,Kc!$C$3:$AI$57,upland_dry!F31+3,FALSE)),0,HLOOKUP($D$5,Kc!$C$3:$AI$57,upland_dry!F31+3,FALSE))","v":0},0,0,0,0,0,0,0,0,0,0,0,0,0,0,0,0,0,0,0,0,0,{"$f":"IF(ISERROR((H31*G31+I31*G30+J31*G29+K31*G28+L31*G27+M31*G78+N31*G77+O31*G76+P31*G75+Q31*G74+R31*G73+S31*G72+T31*G71+U31*G70+V31*G69+W31*G68+X31*G67+Y31*G66+Z31*G65+AA31*G64)/AB31),0,(H31*G31+I31*G30+J31*G29+K31*G28+L31*G27+M31*G78+N31*G77+O31*G76+P31*G75+Q31*G74+R31*G73+S31*G72+T31*G71+U31*G70+V31*G69+W31*G68+X31*G67+Y31*G66+Z31*G65+AA31*G64)/AB31)","v":0},{"$f":"VLOOKUP($D$7,ETo!$B$4:$P$88,MONTH(D31)+2,FALSE)/4","v":{"$error":"#N/A"}},{"$error":"#N/A"},{"$error":"#N/A"},{"$f":"IF(ISERROR(INDEX(H31:AA31,1,IF(E31<$E$6,0,VLOOKUP(E31,$S$3:$T$22,2,FALSE)))),0,INDEX(H31:AA31,1,IF(E31<$E$6,0,VLOOKUP(E31,$S$3:$T$22,2,FALSE))))","v":0},{"$f":"AG31*$E$11*1.6","v":0},{"$error":"#N/A"},{"$f":"VLOOKUP(MONTH(D31),[0]!rainforuplandcrop,4)/1000*AB31*1600*7","v":{"$error":"#N/A"}}]
[null,"2008-12-06","2008-12-12","2008-12-12",6,{"$f":"IF(ISERROR(VLOOKUP(E32,Crop!$N$3:$O$70,2,FALSE)),0,VLOOKUP(E32,Crop!$N$3:$O$70,2,FALSE))","v":0},{"$f":"IF(ISERROR(HLOOKUP($D$5,Kc!$C$3:$AI$57,upland_dry!F32+3,FALSE)),0,HLOOKUP($D$5,Kc!$C$3:$AI$57,upland_dry!F32+3,FALSE))","v":0},0,0,0,0,0,0,0,0,0,0,0,0,0,0,0,0,0,0,0,0,0,{"$f":"IF(ISERROR((H32*G32+I32*G31+J32*G30+K32*G29+L32*G28+M32*G27+N32*G78+O32*G77+P32*G76+Q32*G75+R32*G74+S32*G73+T32*G72+U32*G71+V32*G70+W32*G69+X32*G68+Y32*G67+Z32*G66+AA32*G65)/AB32),0,(H32*G32+I32*G31+J32*G30+K32*G29+L32*G28+M32*G27+N32*G78+O32*G77+P32*G76+Q32*G75+R32*G74+S32*G73+T32*G72+U32*G71+V32*G70+W32*G69+X32*G68+Y32*G67+Z32*G66+AA32*G65)/AB32)","v":0},{"$f":"VLOOKUP($D$7,ETo!$B$4:$P$88,MONTH(D32)+2,FALSE)/4","v":{"$error":"#N/A"}},{"$error":"#N/A"},{"$error":"#N/A"},{"$f":"IF(ISERROR(INDEX(H32:AA32,1,IF(E32<$E$6,0,VLOOKUP(E32,$S$3:$T$22,2,FALSE)))),0,INDEX(H32:AA32,1,IF(E32<$E$6,0,VLOOKUP(E32,$S$3:$T$22,2,FALSE))))","v":0},{"$f":"AG32*$E$11*1.6","v":0},{"$error":"#N/A"},{"$f":"VLOOKUP(MONTH(D32),[0]!rainforuplandcrop,4)/1000*AB32*1600*7","v":{"$error":"#N/A"}}]
[null,"2008-12-13","2008-12-19","2008-12-19",7,{"$f":"IF(ISERROR(VLOOKUP(E33,Crop!$N$3:$O$70,2,FALSE)),0,VLOOKUP(E33,Crop!$N$3:$O$70,2,FALSE))","v":0},{"$f":"IF(ISERROR(HLOOKUP($D$5,Kc!$C$3:$AI$57,upland_dry!F33+3,FALSE)),0,HLOOKUP($D$5,Kc!$C$3:$AI$57,upland_dry!F33+3,FALSE))","v":0},0,0,0,0,0,0,0,0,0,0,0,0,0,0,0,0,0,0,0,0,0,{"$f":"IF(ISERROR((H33*G33+I33*G32+J33*G31+K33*G30+L33*G29+M33*G28+N33*G27+O33*G78+P33*G77+Q33*G76+R33*G75+S33*G74+T33*G73+U33*G72+V33*G71+W33*G70+X33*G69+Y33*G68+Z33*G67+AA33*G66)/AB33),0,(H33*G33+I33*G32+J33*G31+K33*G30+L33*G29+M33*G28+N33*G27+O33*G78+P33*G77+Q33*G76+R33*G75+S33*G74+T33*G73+U33*G72+V33*G71+W33*G70+X33*G69+Y33*G68+Z33*G67+AA33*G66)/AB33)","v":0},{"$f":"VLOOKUP($D$7,ETo!$B$4:$P$88,MONTH(D33)+2,FALSE)/4","v":{"$error":"#N/A"}},{"$error":"#N/A"},{"$error":"#N/A"},0,0,{"$error":"#N/A"},{"$f":"VLOOKUP(MONTH(D33),[0]!rainforuplandcrop,4)/1000*AB33*1600*7","v":{"$error":"#N/A"}}]
[null,"2008-12-20","2008-12-26","2008-12-26",8,{"$f":"IF(ISERROR(VLOOKUP(E34,Crop!$N$3:$O$70,2,FALSE)),0,VLOOKUP(E34,Crop!$N$3:$O$70,2,FALSE))","v":0},{"$f":"IF(ISERROR(HLOOKUP($D$5,Kc!$C$3:$AI$57,upland_dry!F34+3,FALSE)),0,HLOOKUP($D$5,Kc!$C$3:$AI$57,upland_dry!F34+3,FALSE))","v":0},0,0,0,0,0,0,0,0,0,0,0,0,0,0,0,0,0,0,0,0,0,{"$f":"IF(ISERROR((H34*G34+I34*G33+J34*G32+K34*G31+L34*G30+M34*G29+N34*G28+O34*G27+P34*G78+Q34*G77+R34*G76+S34*G75+T34*G74+U34*G73+V34*G72+W34*G71+X34*G70+Y34*G69+Z34*G68+AA34*G67)/AB34),0,(H34*G34+I34*G33+J34*G32+K34*G31+L34*G30+M34*G29+N34*G28+O34*G27+P34*G78+Q34*G77+R34*G76+S34*G75+T34*G74+U34*G73+V34*G72+W34*G71+X34*G70+Y34*G69+Z34*G68+AA34*G67)/AB34)","v":0},{"$f":"VLOOKUP($D$7,ETo!$B$4:$P$88,MONTH(D34)+2,FALSE)/4","v":{"$error":"#N/A"}},{"$error":"#N/A"},{"$error":"#N/A"},0,0,{"$error":"#N/A"},{"$f":"VLOOKUP(MONTH(D34),[0]!rainforuplandcrop,4)/1000*AB34*1600*7","v":{"$error":"#N/A"}}]
[null,"2008-12-27","2009-01-02","2009-01-02",9,{"$f":"IF(ISERROR(VLOOKUP(E35,Crop!$N$3:$O$70,2,FALSE)),0,VLOOKUP(E35,Crop!$N$3:$O$70,2,FALSE))","v":0},{"$f":"IF(ISERROR(HLOOKUP($D$5,Kc!$C$3:$AI$57,upland_dry!F35+3,FALSE)),0,HLOOKUP($D$5,Kc!$C$3:$AI$57,upland_dry!F35+3,FALSE))","v":0},0,0,0,0,0,0,0,0,0,0,0,0,0,0,0,0,0,0,0,0,0,{"$f":"IF(ISERROR((H35*G35+I35*G34+J35*G33+K35*G32+L35*G31+M35*G30+N35*G29+O35*G28+P35*G27+Q35*G78+R35*G77+S35*G76+T35*G75+U35*G74+V35*G73+W35*G72+X35*G71+Y35*G70+Z35*G69+AA35*G68)/AB35),0,(H35*G35+I35*G34+J35*G33+K35*G32+L35*G31+M35*G30+N35*G29+O35*G28+P35*G27+Q35*G78+R35*G77+S35*G76+T35*G75+U35*G74+V35*G73+W35*G72+X35*G71+Y35*G70+Z35*G69+AA35*G68)/AB35)","v":0},{"$f":"VLOOKUP($D$7,ETo!$B$4:$P$88,MONTH(D35)+2,FALSE)/4","v":{"$error":"#N/A"}},{"$error":"#N/A"},{"$error":"#N/A"},0,0,{"$error":"#N/A"},{"$f":"VLOOKUP(MONTH(D35),[0]!rainforuplandcrop,4)/1000*AB35*1600*7","v":{"$error":"#N/A"}}]
[null,"2009-01-03","2009-01-09","2009-01-09",10,{"$f":"IF(ISERROR(VLOOKUP(E36,Crop!$N$3:$O$70,2,FALSE)),0,VLOOKUP(E36,Crop!$N$3:$O$70,2,FALSE))","v":1},{"$f":"IF(ISERROR(HLOOKUP($D$5,Kc!$C$3:$AI$57,upland_dry!F36+3,FALSE)),0,HLOOKUP($D$5,Kc!$C$3:$AI$57,upland_dry!F36+3,FALSE))","v":0.57999999999999996},{"$f":"IF(G36>0,IF(H$26>$E$9,0,VLOOKUP(H$26,$F$3:$G$23,2,FALSE)),0)","v":0},0,0,0,0,0,0,0,0,0,0,0,0,0,0,0,0,0,0,0,0,{"$f":"IF(ISERROR((H36*G36+I36*G35+J36*G34+K36*G33+L36*G32+M36*G31+N36*G30+O36*G29+P36*G28+Q36*G27+R36*G78+S36*G77+T36*G76+U36*G75+V36*G74+W36*G73+X36*G72+Y36*G71+Z36*G70+AA36*G69)/AB36),0,(H36*G36+I36*G35+J36*G34+K36*G33+L36*G32+M36*G31+N36*G30+O36*G29+P36*G28+Q36*G27+R36*G78+S36*G77+T36*G76+U36*G75+V36*G74+W36*G73+X36*G72+Y36*G71+Z36*G70+AA36*G69)/AB36)","v":0},{"$f":"VLOOKUP($D$7,ETo!$B$4:$P$88,MONTH(D36)+2,FALSE)/4","v":{"$error":"#N/A"}},{"$error":"#N/A"},{"$error":"#N/A"},0,0,{"$error":"#N/A"},{"$f":"VLOOKUP(MONTH(D36),[0]!rainforuplandcrop,4)/1000*AB36*1600*7","v":{"$error":"#N/A"}}]
[null,"2009-01-10","2009-01-16","2009-01-16",11,{"$f":"IF(ISERROR(VLOOKUP(E37,Crop!$N$3:$O$70,2,FALSE)),0,VLOOKUP(E37,Crop!$N$3:$O$70,2,FALSE))","v":2},{"$f":"IF(ISERROR(HLOOKUP($D$5,Kc!$C$3:$AI$57,upland_dry!F37+3,FALSE)),0,HLOOKUP($D$5,Kc!$C$3:$AI$57,upland_dry!F37+3,FALSE))","v":0.87},0,{"$f":"IF(H36>0,IF(I$26>$E$9,0,VLOOKUP(I$26,$F$3:$G$23,2,FALSE)),0)","v":0},{"$f":"IF(I36>0,IF(J$26>$E$9,0,VLOOKUP(J$26,$F$3:$G$12,2,FALSE)),0)","v":0},{"$f":"IF(J36>0,IF(K$26>$E$9,0,VLOOKUP(K$26,$F$3:$G$23,2,FALSE)),0)","v":0},0,0,0,0,0,0,0,0,0,{"$f":"IF(T36>0,IF(U$26>$E$9,0,VLOOKUP(U$26,$F$3:$G$23,2,FALSE)),0)","v":0},0,0,0,0,0,0,0,{"$f":"IF(ISERROR((H37*G37+I37*G36+J37*G35+K37*G34+L37*G33+M37*G32+N37*G31+O37*G30+P37*G29+Q37*G28+R37*G27+S37*G78+T37*G77+U37*G76+V37*G75+W37*G74+X37*G73+Y37*G72+Z37*G71+AA37*G70)/AB37),0,(H37*G37+I37*G36+J37*G35+K37*G34+L37*G33+M37*G32+N37*G31+O37*G30+P37*G29+Q37*G28+R37*G27+S37*G78+T37*G77+U37*G76+V37*G75+W37*G74+X37*G73+Y37*G72+Z37*G71+AA37*G70)/AB37)","v":0},{"$f":"VLOOKUP($D$7,ETo!$B$4:$P$88,MONTH(D37)+2,FALSE)/4","v":{"$error":"#N/A"}},{"$error":"#N/A"},{"$error":"#N/A"},0,0,{"$error":"#N/A"},{"$f":"VLOOKUP(MONTH(D37),[0]!rainforuplandcrop,4)/1000*AB37*1600*7","v":{"$error":"#N/A"}}]
[null,"2009-01-17","2009-01-23","2009-01-23",12,{"$f":"IF(ISERROR(VLOOKUP(E38,Crop!$N$3:$O$70,2,FALSE)),0,VLOOKUP(E38,Crop!$N$3:$O$70,2,FALSE))","v":3},{"$f":"IF(ISERROR(HLOOKUP($D$5,Kc!$C$3:$AI$57,upland_dry!F38+3,FALSE)),0,HLOOKUP($D$5,Kc!$C$3:$AI$57,upland_dry!F38+3,FALSE))","v":1.18},0,0,0,0,0,0,0,0,0,0,0,0,0,0,0,0,0,0,0,0,0,{"$f":"IF(ISERROR((H38*G38+I38*G37+J38*G36+K38*G35+L38*G34+M38*G33+N38*G32+O38*G31+P38*G30+Q38*G29+R38*G28+S38*G27+T38*G78+U38*G77+V38*G76+W38*G75+X38*G74+Y38*G73+Z38*G72+AA38*G71)/AB38),0,(H38*G38+I38*G37+J38*G36+K38*G35+L38*G34+M38*G33+N38*G32+O38*G31+P38*G30+Q38*G29+R38*G28+S38*G27+T38*G78+U38*G77+V38*G76+W38*G75+X38*G74+Y38*G73+Z38*G72+AA38*G71)/AB38)","v":0},{"$f":"VLOOKUP($D$7,ETo!$B$4:$P$88,MONTH(D38)+2,FALSE)/4","v":{"$error":"#N/A"}},{"$error":"#N/A"},{"$error":"#N/A"},0,0,{"$error":"#N/A"},{"$f":"VLOOKUP(MONTH(D38),[0]!rainforuplandcrop,4)/1000*AB38*1600*7","v":{"$error":"#N/A"}}]
[null,"2009-01-24","2009-01-30","2009-01-30",13,{"$f":"IF(ISERROR(VLOOKUP(E39,Crop!$N$3:$O$70,2,FALSE)),0,VLOOKUP(E39,Crop!$N$3:$O$70,2,FALSE))","v":4},{"$f":"IF(ISERROR(HLOOKUP($D$5,Kc!$C$3:$AI$57,upland_dry!F39+3,FALSE)),0,HLOOKUP($D$5,Kc!$C$3:$AI$57,upland_dry!F39+3,FALSE))","v":1.4},0,0,0,0,0,0,0,0,0,0,0,0,0,0,0,0,0,0,0,0,0,{"$f":"IF(ISERROR((H39*G39+I39*G38+J39*G37+K39*G36+L39*G35+M39*G34+N39*G33+O39*G32+P39*G31+Q39*G30+R39*G29+S39*G28+T39*G27+U39*G78+V39*G77+W39*G76+X39*G75+Y39*G74+Z39*G73+AA39*G72)/AB39),0,(H39*G39+I39*G38+J39*G37+K39*G36+L39*G35+M39*G34+N39*G33+O39*G32+P39*G31+Q39*G30+R39*G29+S39*G28+T39*G27+U39*G78+V39*G77+W39*G76+X39*G75+Y39*G74+Z39*G73+AA39*G72)/AB39)","v":0},{"$f":"VLOOKUP($D$7,ETo!$B$4:$P$88,MONTH(D39)+2,FALSE)/4","v":{"$error":"#N/A"}},{"$error":"#N/A"},{"$error":"#N/A"},0,0,{"$error":"#N/A"},{"$f":"VLOOKUP(MONTH(D39),[0]!rainforuplandcrop,4)/1000*AB39*1600*7","v":{"$error":"#N/A"}}]
[null,"2009-01-31","2009-02-06","2009-02-06",14,{"$f":"IF(ISERROR(VLOOKUP(E40,Crop!$N$3:$O$70,2,FALSE)),0,VLOOKUP(E40,Crop!$N$3:$O$70,2,FALSE))","v":5},{"$f":"IF(ISERROR(HLOOKUP($D$5,Kc!$C$3:$AI$57,upland_dry!F40+3,FALSE)),0,HLOOKUP($D$5,Kc!$C$3:$AI$57,upland_dry!F40+3,FALSE))","v":1.28},0,0,0,0,0,0,0,0,0,0,0,0,0,0,0,0,0,0,0,0,0,{"$f":"IF(ISERROR((H40*G40+I40*G39+J40*G38+K40*G37+L40*G36+M40*G35+N40*G34+O40*G33+P40*G32+Q40*G31+R40*G30+S40*G29+T40*G28+U40*G27+V40*G78+W40*G77+X40*G76+Y40*G75+Z40*G74+AA40*G73)/AB40),0,(H40*G40+I40*G39+J40*G38+K40*G37+L40*G36+M40*G35+N40*G34+O40*G33+P40*G32+Q40*G31+R40*G30+S40*G29+T40*G28+U40*G27+V40*G78+W40*G77+X40*G76+Y40*G75+Z40*G74+AA40*G73)/AB40)","v":0},{"$f":"VLOOKUP($D$7,ETo!$B$4:$P$88,MONTH(D40)+2,FALSE)/4","v":{"$error":"#N/A"}},{"$error":"#N/A"},{"$error":"#N/A"},0,0,{"$error":"#N/A"},{"$f":"VLOOKUP(MONTH(D40),[0]!rainforuplandcrop,4)/1000*AB40*1600*7","v":{"$error":"#N/A"}}]
[null,"2009-02-07","2009-02-13","2009-02-13",15,{"$f":"IF(ISERROR(VLOOKUP(E41,Crop!$N$3:$O$70,2,FALSE)),0,VLOOKUP(E41,Crop!$N$3:$O$70,2,FALSE))","v":6},{"$f":"IF(ISERROR(HLOOKUP($D$5,Kc!$C$3:$AI$57,upland_dry!F41+3,FALSE)),0,HLOOKUP($D$5,Kc!$C$3:$AI$57,upland_dry!F41+3,FALSE))","v":1.19},0,0,0,0,0,0,0,0,0,0,0,0,0,0,0,0,0,0,0,0,0,{"$f":"IF(ISERROR((H41*G41+I41*G40+J41*G39+K41*G38+L41*G37+M41*G36+N41*G35+O41*G34+P41*G33+Q41*G32+R41*G31+S41*G30+T41*G29+U41*G28+V41*G27+W41*G78+X41*G77+Y41*G76+Z41*G75+AA41*G74)/AB41),0,(H41*G41+I41*G40+J41*G39+K41*G38+L41*G37+M41*G36+N41*G35+O41*G34+P41*G33+Q41*G32+R41*G31+S41*G30+T41*G29+U41*G28+V41*G27+W41*G78+X41*G77+Y41*G76+Z41*G75+AA41*G74)/AB41)","v":0},{"$f":"VLOOKUP($D$7,ETo!$B$4:$P$88,MONTH(D41)+2,FALSE)/4","v":{"$error":"#N/A"}},{"$error":"#N/A"},{"$error":"#N/A"},0,0,{"$error":"#N/A"},{"$f":"VLOOKUP(MONTH(D41),[0]!rainforuplandcrop,4)/1000*AB41*1600*7","v":{"$error":"#N/A"}}]
[null,"2009-02-14","2009-02-20","2009-02-20",16,{"$f":"IF(ISERROR(VLOOKUP(E42,Crop!$N$3:$O$70,2,FALSE)),0,VLOOKUP(E42,Crop!$N$3:$O$70,2,FALSE))","v":7},{"$f":"IF(ISERROR(HLOOKUP($D$5,Kc!$C$3:$AI$57,upland_dry!F42+3,FALSE)),0,HLOOKUP($D$5,Kc!$C$3:$AI$57,upland_dry!F42+3,FALSE))","v":0.66},0,0,0,0,0,0,0,0,0,0,0,0,0,0,0,0,0,0,0,0,0,{"$f":"IF(ISERROR((H42*G42+I42*G41+J42*G40+K42*G39+L42*G38+M42*G37+N42*G36+O42*G35+P42*G34+Q42*G33+R42*G32+S42*G31+T42*G30+U42*G29+V42*G28+W42*G27+X42*G78+Y42*G77+Z42*G76+AA42*G75)/AB42),0,(H42*G42+I42*G41+J42*G40+K42*G39+L42*G38+M42*G37+N42*G36+O42*G35+P42*G34+Q42*G33+R42*G32+S42*G31+T42*G30+U42*G29+V42*G28+W42*G27+X42*G78+Y42*G77+Z42*G76+AA42*G75)/AB42)","v":0},{"$f":"VLOOKUP($D$7,ETo!$B$4:$P$88,MONTH(D42)+2,FALSE)/4","v":{"$error":"#N/A"}},{"$error":"#N/A"},{"$error":"#N/A"},0,0,{"$error":"#N/A"},{"$f":"VLOOKUP(MONTH(D42),[0]!rainforuplandcrop,4)/1000*AB42*1600*7","v":{"$error":"#N/A"}}]
[null,"2009-02-21","2009-02-27","2009-02-27",17,{"$f":"IF(ISERROR(VLOOKUP(E43,Crop!$N$3:$O$70,2,FALSE)),0,VLOOKUP(E43,Crop!$N$3:$O$70,2,FALSE))","v":8},{"$f":"IF(ISERROR(HLOOKUP($D$5,Kc!$C$3:$AI$57,upland_dry!F43+3,FALSE)),0,HLOOKUP($D$5,Kc!$C$3:$AI$57,upland_dry!F43+3,FALSE))","v":0.44},0,0,0,0,0,0,0,0,0,0,0,0,0,0,0,0,0,0,0,0,0,{"$f":"IF(ISERROR((H43*G43+I43*G42+J43*G41+K43*G40+L43*G39+M43*G38+N43*G37+O43*G36+P43*G35+Q43*G34+R43*G33+S43*G32+T43*G31+U43*G30+V43*G29+W43*G28+X43*G27+Y43*G78+Z43*G77+AA43*G76)/AB43),0,(H43*G43+I43*G42+J43*G41+K43*G40+L43*G39+M43*G38+N43*G37+O43*G36+P43*G35+Q43*G34+R43*G33+S43*G32+T43*G31+U43*G30+V43*G29+W43*G28+X43*G27+Y43*G78+Z43*G77+AA43*G76)/AB43)","v":0},{"$f":"VLOOKUP($D$7,ETo!$B$4:$P$88,MONTH(D43)+2,FALSE)/4","v":{"$error":"#N/A"}},{"$error":"#N/A"},{"$error":"#N/A"},0,0,{"$error":"#N/A"},{"$f":"VLOOKUP(MONTH(D43),[0]!rainforuplandcrop,4)/1000*AB43*1600*7","v":{"$error":"#N/A"}}]
[null,"2009-02-28","2009-03-06","2009-03-06",18,{"$f":"IF(ISERROR(VLOOKUP(E44,Crop!$N$3:$O$70,2,FALSE)),0,VLOOKUP(E44,Crop!$N$3:$O$70,2,FALSE))","v":9},{"$f":"IF(ISERROR(HLOOKUP($D$5,Kc!$C$3:$AI$57,upland_dry!F44+3,FALSE)),0,HLOOKUP($D$5,Kc!$C$3:$AI$57,upland_dry!F44+3,FALSE))","v":0.34},0,0,0,0,0,0,0,0,0,0,0,0,0,0,0,0,0,0,0,0,0,{"$f":"IF(ISERROR((H44*G44+I44*G43+J44*G42+K44*G41+L44*G40+M44*G39+N44*G38+O44*G37+P44*G36+Q44*G35+R44*G34+S44*G33+T44*G32+U44*G31+V44*G30+W44*G29+X44*G28+Y44*G27+Z44*G78+AA44*G77)/AB44),0,(H44*G44+I44*G43+J44*G42+K44*G41+L44*G40+M44*G39+N44*G38+O44*G37+P44*G36+Q44*G35+R44*G34+S44*G33+T44*G32+U44*G31+V44*G30+W44*G29+X44*G28+Y44*G27+Z44*G78+AA44*G77)/AB44)","v":0},{"$f":"VLOOKUP($D$7,ETo!$B$4:$P$88,MONTH(D44)+2,FALSE)/4","v":{"$error":"#N/A"}},{"$error":"#N/A"},{"$error":"#N/A"},0,0,{"$error":"#N/A"},{"$f":"VLOOKUP(MONTH(D44),[0]!rainforuplandcrop,4)/1000*AB44*1600*7","v":{"$error":"#N/A"}}]
[null,"2009-03-07","2009-03-13","2009-03-13",19,{"$f":"IF(ISERROR(VLOOKUP(E45,Crop!$N$3:$O$70,2,FALSE)),0,VLOOKUP(E45,Crop!$N$3:$O$70,2,FALSE))","v":0},{"$f":"IF(ISERROR(HLOOKUP($D$5,Kc!$C$3:$AI$57,upland_dry!F45+3,FALSE)),0,HLOOKUP($D$5,Kc!$C$3:$AI$57,upland_dry!F45+3,FALSE))","v":0},0,0,0,0,0,0,0,0,0,0,0,0,0,0,0,0,0,0,0,0,0,{"$f":"IF(ISERROR((H45*G45+I45*G44+J45*G43+K45*G42+L45*G41+M45*G40+N45*G39+O45*G38+P45*G37+Q45*G36+R45*G35+S45*G34+T45*G33+U45*G32+V45*G31+W45*G30+X45*G29+Y45*G28+Z45*G27+AA45*G78)/AB45),0,(H45*G45+I45*G44+J45*G43+K45*G42+L45*G41+M45*G40+N45*G39+O45*G38+P45*G37+Q45*G36+R45*G35+S45*G34+T45*G33+U45*G32+V45*G31+W45*G30+X45*G29+Y45*G28+Z45*G27+AA45*G78)/AB45)","v":0},{"$f":"VLOOKUP($D$7,ETo!$B$4:$P$88,MONTH(D45)+2,FALSE)/4","v":{"$error":"#N/A"}},{"$error":"#N/A"},{"$error":"#N/A"},0,0,{"$error":"#N/A"},{"$f":"VLOOKUP(MONTH(D45),[0]!rainforuplandcrop,4)/1000*AB45*1600*7","v":{"$error":"#N/A"}}]
[null,"2009-03-14","2009-03-20","2009-03-20",20,{"$f":"IF(ISERROR(VLOOKUP(E46,Crop!$N$3:$O$70,2,FALSE)),0,VLOOKUP(E46,Crop!$N$3:$O$70,2,FALSE))","v":0},{"$f":"IF(ISERROR(HLOOKUP($D$5,Kc!$C$3:$AI$57,upland_dry!F46+3,FALSE)),0,HLOOKUP($D$5,Kc!$C$3:$AI$57,upland_dry!F46+3,FALSE))","v":0},0,0,0,0,0,0,0,0,0,0,0,0,0,0,0,0,0,0,0,0,0,{"$f":"IF(ISERROR((H46*G46+I46*G45+J46*G44+K46*G43+L46*G42+M46*G41+N46*G40+O46*G39+P46*G38+Q46*G37+R46*G36+S46*G35+T46*G34+U46*G33+V46*G32+W46*G31+X46*G30+Y46*G29+Z46*G28+AA46*G27)/AB46),0,(H46*G46+I46*G45+J46*G44+K46*G43+L46*G42+M46*G41+N46*G40+O46*G39+P46*G38+Q46*G37+R46*G36+S46*G35+T46*G34+U46*G33+V46*G32+W46*G31+X46*G30+Y46*G29+Z46*G28+AA46*G27)/AB46)","v":0},{"$f":"VLOOKUP($D$7,ETo!$B$4:$P$88,MONTH(D46)+2,FALSE)/4","v":{"$error":"#N/A"}},{"$error":"#N/A"},{"$error":"#N/A"},0,0,{"$error":"#N/A"},{"$f":"VLOOKUP(MONTH(D46),[0]!rainforuplandcrop,4)/1000*AB46*1600*7","v":{"$error":"#N/A"}}]
[null,"2009-03-21","2009-03-27","2009-03-27",21,{"$f":"IF(ISERROR(VLOOKUP(E47,Crop!$N$3:$O$70,2,FALSE)),0,VLOOKUP(E47,Crop!$N$3:$O$70,2,FALSE))","v":0},{"$f":"IF(ISERROR(HLOOKUP($D$5,Kc!$C$3:$AI$57,upland_dry!F47+3,FALSE)),0,HLOOKUP($D$5,Kc!$C$3:$AI$57,upland_dry!F47+3,FALSE))","v":0},0,0,0,{"$f":"IF(J46>0,IF(K$26>$E$9,0,VLOOKUP(K$26,$F$3:$G$23,2,FALSE)),0)","v":0},0,0,0,0,0,0,0,0,0,{"$f":"IF(T46>0,IF(U$26>$E$9,0,VLOOKUP(U$26,$F$3:$G$23,2,FALSE)),0)","v":0},0,0,0,0,0,0,0,{"$f":"IF(ISERROR((H47*G47+I47*G46+J47*G45+K47*G44+L47*G43+M47*G42+N47*G41+O47*G40+P47*G39+Q47*G38+R47*G37+S47*G36+T47*G35+U47*G34+V47*G33+W47*G32+X47*G31+Y47*G30+Z47*G29+AA47*G28)/AB47),0,(H47*G47+I47*G46+J47*G45+K47*G44+L47*G43+M47*G42+N47*G41+O47*G40+P47*G39+Q47*G38+R47*G37+S47*G36+T47*G35+U47*G34+V47*G33+W47*G32+X47*G31+Y47*G30+Z47*G29+AA47*G28)/AB47)","v":0},{"$f":"VLOOKUP($D$7,ETo!$B$4:$P$88,MONTH(D47)+2,FALSE)/4","v":{"$error":"#N/A"}},{"$error":"#N/A"},{"$error":"#N/A"},0,0,{"$error":"#N/A"},{"$f":"VLOOKUP(MONTH(D47),[0]!rainforuplandcrop,4)/1000*AB47*1600*7","v":{"$error":"#N/A"}}]
[null,"2009-03-28","2009-04-03","2009-04-03",22,{"$f":"IF(ISERROR(VLOOKUP(E48,Crop!$N$3:$O$70,2,FALSE)),0,VLOOKUP(E48,Crop!$N$3:$O$70,2,FALSE))","v":0},{"$f":"IF(ISERROR(HLOOKUP($D$5,Kc!$C$3:$AI$57,upland_dry!F48+3,FALSE)),0,HLOOKUP($D$5,Kc!$C$3:$AI$57,upland_dry!F48+3,FALSE))","v":0},0,0,0,0,0,0,0,0,0,0,0,0,0,0,0,0,0,0,0,0,0,{"$f":"IF(ISERROR((H48*G48+I48*G47+J48*G46+K48*G45+L48*G44+M48*G43+N48*G42+O48*G41+P48*G40+Q48*G39+R48*G38+S48*G37+T48*G36+U48*G35+V48*G34+W48*G33+X48*G32+Y48*G31+Z48*G30+AA48*G29)/AB48),0,(H48*G48+I48*G47+J48*G46+K48*G45+L48*G44+M48*G43+N48*G42+O48*G41+P48*G40+Q48*G39+R48*G38+S48*G37+T48*G36+U48*G35+V48*G34+W48*G33+X48*G32+Y48*G31+Z48*G30+AA48*G29)/AB48)","v":0},{"$f":"VLOOKUP($D$7,ETo!$B$4:$P$88,MONTH(D48)+2,FALSE)/4","v":{"$error":"#N/A"}},{"$error":"#N/A"},{"$error":"#N/A"},0,0,{"$error":"#N/A"},{"$f":"VLOOKUP(MONTH(D48),[0]!rainforuplandcrop,4)/1000*AB48*1600*7","v":{"$error":"#N/A"}}]
[null,"2009-04-04","2009-04-10","2009-04-10",23,{"$f":"IF(ISERROR(VLOOKUP(E49,Crop!$N$3:$O$70,2,FALSE)),0,VLOOKUP(E49,Crop!$N$3:$O$70,2,FALSE))","v":0},{"$f":"IF(ISERROR(HLOOKUP($D$5,Kc!$C$3:$AI$57,upland_dry!F49+3,FALSE)),0,HLOOKUP($D$5,Kc!$C$3:$AI$57,upland_dry!F49+3,FALSE))","v":0},0,0,0,0,0,0,0,0,0,0,0,0,0,0,0,0,0,0,0,0,0,0,{"$f":"VLOOKUP($D$7,ETo!$B$4:$P$88,MONTH(D49)+2,FALSE)/4","v":{"$error":"#N/A"}},{"$error":"#N/A"},{"$error":"#N/A"},0,0,{"$error":"#N/A"},{"$f":"VLOOKUP(MONTH(D49),[0]!rainforuplandcrop,4)/1000*AB49*1600*7","v":{"$error":"#N/A"}}]
[null,"2009-04-11","2009-04-17","2009-04-17",24,{"$f":"IF(ISERROR(VLOOKUP(E50,Crop!$N$3:$O$70,2,FALSE)),0,VLOOKUP(E50,Crop!$N$3:$O$70,2,FALSE))","v":0},{"$f":"IF(ISERROR(HLOOKUP($D$5,Kc!$C$3:$AI$57,upland_dry!F50+3,FALSE)),0,HLOOKUP($D$5,Kc!$C$3:$AI$57,upland_dry!F50+3,FALSE))","v":0},0,0,0,0,0,0,0,0,0,0,0,0,0,0,0,0,0,0,0,0,0,0,{"$f":"VLOOKUP($D$7,ETo!$B$4:$P$88,MONTH(D50)+2,FALSE)/4","v":{"$error":"#N/A"}},{"$error":"#N/A"},{"$error":"#N/A"},0,0,{"$error":"#N/A"},{"$f":"VLOOKUP(MONTH(D50),[0]!rainforuplandcrop,4)/1000*AB50*1600*7","v":{"$error":"#N/A"}}]
[null,"2009-04-18","2009-04-24","2009-04-24",25,{"$f":"IF(ISERROR(VLOOKUP(E51,Crop!$N$3:$O$70,2,FALSE)),0,VLOOKUP(E51,Crop!$N$3:$O$70,2,FALSE))","v":0},{"$f":"IF(ISERROR(HLOOKUP($D$5,Kc!$C$3:$AI$57,upland_dry!F51+3,FALSE)),0,HLOOKUP($D$5,Kc!$C$3:$AI$57,upland_dry!F51+3,FALSE))","v":0},0,0,0,0,0,0,0,0,0,0,0,0,0,0,0,0,0,0,0,0,0,0,{"$f":"VLOOKUP($D$7,ETo!$B$4:$P$88,MONTH(D51)+2,FALSE)/4","v":{"$error":"#N/A"}},{"$error":"#N/A"},{"$error":"#N/A"},0,0,{"$error":"#N/A"},{"$f":"VLOOKUP(MONTH(D51),[0]!rainforuplandcrop,4)/1000*AB51*1600*7","v":{"$error":"#N/A"}}]
[null,"2009-04-25","2009-05-01","2009-05-01",26,{"$f":"IF(ISERROR(VLOOKUP(E52,Crop!$N$3:$O$70,2,FALSE)),0,VLOOKUP(E52,Crop!$N$3:$O$70,2,FALSE))","v":0},{"$f":"IF(ISERROR(HLOOKUP($D$5,Kc!$C$3:$AI$57,upland_dry!F52+3,FALSE)),0,HLOOKUP($D$5,Kc!$C$3:$AI$57,upland_dry!F52+3,FALSE))","v":0},0,0,0,0,0,0,0,0,0,0,0,0,0,0,0,0,0,0,0,0,0,0,{"$f":"VLOOKUP($D$7,ETo!$B$4:$P$88,MONTH(D52)+2,FALSE)/4","v":{"$error":"#N/A"}},{"$error":"#N/A"},{"$error":"#N/A"},0,0,{"$error":"#N/A"},{"$f":"VLOOKUP(MONTH(D52),[0]!rainforuplandcrop,4)/1000*AB52*1600*7","v":{"$error":"#N/A"}}]
[null,"2009-05-02","2009-05-08","2009-05-08",27,{"$f":"IF(ISERROR(VLOOKUP(E53,Crop!$N$3:$O$70,2,FALSE)),0,VLOOKUP(E53,Crop!$N$3:$O$70,2,FALSE))","v":0},{"$f":"IF(ISERROR(HLOOKUP($D$5,Kc!$C$3:$AI$57,upland_dry!F53+3,FALSE)),0,HLOOKUP($D$5,Kc!$C$3:$AI$57,upland_dry!F53+3,FALSE))","v":0},0,0,0,0,0,0,0,0,0,0,0,0,0,0,0,0,0,0,0,0,0,0,{"$f":"VLOOKUP($D$7,ETo!$B$4:$P$88,MONTH(D53)+2,FALSE)/4","v":{"$error":"#N/A"}},{"$error":"#N/A"},{"$error":"#N/A"},0,0,{"$error":"#N/A"},{"$f":"VLOOKUP(MONTH(D53),[0]!rainforuplandcrop,4)/1000*AB53*1600*7","v":{"$error":"#N/A"}}]
[null,"2009-05-09","2009-05-15","2009-05-15",28,{"$f":"IF(ISERROR(VLOOKUP(E54,Crop!$N$3:$O$70,2,FALSE)),0,VLOOKUP(E54,Crop!$N$3:$O$70,2,FALSE))","v":0},{"$f":"IF(ISERROR(HLOOKUP($D$5,Kc!$C$3:$AI$57,upland_dry!F54+3,FALSE)),0,HLOOKUP($D$5,Kc!$C$3:$AI$57,upland_dry!F54+3,FALSE))","v":0},0,0,0,0,0,0,0,0,0,0,0,0,0,0,0,0,0,0,0,0,0,0,{"$f":"VLOOKUP($D$7,ETo!$B$4:$P$88,MONTH(D54)+2,FALSE)/4","v":{"$error":"#N/A"}},{"$error":"#N/A"},{"$error":"#N/A"},0,0,{"$error":"#N/A"},{"$f":"VLOOKUP(MONTH(D54),[0]!rainforuplandcrop,4)/1000*AB54*1600*7","v":{"$error":"#N/A"}}]
[null,"2009-05-16","2009-05-22","2009-05-22",29,{"$f":"IF(ISERROR(VLOOKUP(E55,Crop!$N$3:$O$70,2,FALSE)),0,VLOOKUP(E55,Crop!$N$3:$O$70,2,FALSE))","v":0},{"$f":"IF(ISERROR(HLOOKUP($D$5,Kc!$C$3:$AI$57,upland_dry!F55+3,FALSE)),0,HLOOKUP($D$5,Kc!$C$3:$AI$57,upland_dry!F55+3,FALSE))","v":0},0,0,0,0,0,0,0,0,0,0,0,0,0,0,0,0,0,0,0,0,0,0,{"$f":"VLOOKUP($D$7,ETo!$B$4:$P$88,MONTH(D55)+2,FALSE)/4","v":{"$error":"#N/A"}},{"$error":"#N/A"},{"$error":"#N/A"},0,0,{"$error":"#N/A"},{"$f":"VLOOKUP(MONTH(D55),[0]!rainforuplandcrop,4)/1000*AB55*1600*7","v":{"$error":"#N/A"}}]
[null,"2009-05-23","2009-05-29","2009-05-29",30,{"$f":"IF(ISERROR(VLOOKUP(E56,Crop!$N$3:$O$70,2,FALSE)),0,VLOOKUP(E56,Crop!$N$3:$O$70,2,FALSE))","v":0},{"$f":"IF(ISERROR(HLOOKUP($D$5,Kc!$C$3:$AI$57,upland_dry!F56+3,FALSE)),0,HLOOKUP($D$5,Kc!$C$3:$AI$57,upland_dry!F56+3,FALSE))","v":0},0,0,0,0,0,0,0,0,0,0,0,0,0,0,0,0,0,0,0,0,0,0,{"$f":"VLOOKUP($D$7,ETo!$B$4:$P$88,MONTH(D56)+2,FALSE)/4","v":{"$error":"#N/A"}},{"$error":"#N/A"},{"$error":"#N/A"},0,0,{"$error":"#N/A"},{"$f":"VLOOKUP(MONTH(D56),[0]!rainforuplandcrop,4)/1000*AB56*1600*7","v":{"$error":"#N/A"}}]
[null,"2009-05-30","2009-06-05","2009-06-05",31,{"$f":"IF(ISERROR(VLOOKUP(E57,Crop!$N$3:$O$70,2,FALSE)),0,VLOOKUP(E57,Crop!$N$3:$O$70,2,FALSE))","v":0},{"$f":"IF(ISERROR(HLOOKUP($D$5,Kc!$C$3:$AI$57,upland_dry!F57+3,FALSE)),0,HLOOKUP($D$5,Kc!$C$3:$AI$57,upland_dry!F57+3,FALSE))","v":0},0,0,0,{"$f":"IF(J56>0,IF(K$26>$E$9,0,VLOOKUP(K$26,$F$3:$G$23,2,FALSE)),0)","v":0},0,0,0,0,0,0,0,0,0,{"$f":"IF(T56>0,IF(U$26>$E$9,0,VLOOKUP(U$26,$F$3:$G$23,2,FALSE)),0)","v":0},0,0,0,0,0,0,0,0,{"$f":"VLOOKUP($D$7,ETo!$B$4:$P$88,MONTH(D57)+2,FALSE)/4","v":{"$error":"#N/A"}},{"$error":"#N/A"},{"$error":"#N/A"},0,0,{"$error":"#N/A"},{"$f":"VLOOKUP(MONTH(D57),[0]!rainforuplandcrop,4)/1000*AB57*1600*7","v":{"$error":"#N/A"}}]
[null,"2009-06-06","2009-06-12","2009-06-12",32,{"$f":"IF(ISERROR(VLOOKUP(E58,Crop!$N$3:$O$70,2,FALSE)),0,VLOOKUP(E58,Crop!$N$3:$O$70,2,FALSE))","v":0},{"$f":"IF(ISERROR(HLOOKUP($D$5,Kc!$C$3:$AI$57,upland_dry!F58+3,FALSE)),0,HLOOKUP($D$5,Kc!$C$3:$AI$57,upland_dry!F58+3,FALSE))","v":0},0,0,0,0,0,0,0,0,0,0,0,0,0,0,0,0,0,0,0,0,0,0,{"$f":"VLOOKUP($D$7,ETo!$B$4:$P$88,MONTH(D58)+2,FALSE)/4","v":{"$error":"#N/A"}},{"$error":"#N/A"},{"$error":"#N/A"},0,0,{"$error":"#N/A"},{"$f":"VLOOKUP(MONTH(D58),[0]!rainforuplandcrop,4)/1000*AB58*1600*7","v":{"$error":"#N/A"}}]
[null,"2009-06-13","2009-06-19","2009-06-19",33,{"$f":"IF(ISERROR(VLOOKUP(E59,Crop!$N$3:$O$70,2,FALSE)),0,VLOOKUP(E59,Crop!$N$3:$O$70,2,FALSE))","v":0},{"$f":"IF(ISERROR(HLOOKUP($D$5,Kc!$C$3:$AI$57,upland_dry!F59+3,FALSE)),0,HLOOKUP($D$5,Kc!$C$3:$AI$57,upland_dry!F59+3,FALSE))","v":0},0,0,0,0,0,0,0,0,0,0,0,0,0,0,0,0,0,0,0,0,0,0,{"$f":"VLOOKUP($D$7,ETo!$B$4:$P$88,MONTH(D59)+2,FALSE)/4","v":{"$error":"#N/A"}},{"$f":"IF(AC59*AD59=0,0,(AC59*AD59)+$E$10)","v":{"$error":"#N/A"}},{"$f":"AE59*AB59*1.6","v":{"$error":"#N/A"}},0,0,{"$f":"AF59+AH59","v":{"$error":"#N/A"}},{"$f":"VLOOKUP(MONTH(D59),[0]!rainforuplandcrop,4)/1000*AB59*1600*7","v":{"$error":"#N/A"}}]
[null,{"$f":"C59+1","v":"2009-06-20"},{"$f":"B60+6","v":"2009-06-26"},"2009-06-26",34,{"$f":"IF(ISERROR(VLOOKUP(E60,Crop!$N$3:$O$70,2,FALSE)),0,VLOOKUP(E60,Crop!$N$3:$O$70,2,FALSE))","v":0},{"$f":"IF(ISERROR(HLOOKUP($D$5,Kc!$C$3:$AI$57,upland_dry!F60+3,FALSE)),0,HLOOKUP($D$5,Kc!$C$3:$AI$57,upland_dry!F60+3,FALSE))","v":0},0,0,0,0,0,0,0,0,0,0,0,0,0,0,0,0,0,0,0,0,0,0,{"$f":"VLOOKUP($D$7,ETo!$B$4:$P$88,MONTH(D60)+2,FALSE)/4","v":{"$error":"#N/A"}},{"$error":"#N/A"},{"$error":"#N/A"},0,0,{"$error":"#N/A"},{"$f":"VLOOKUP(MONTH(D60),[0]!rainforuplandcrop,4)/1000*AB60*1600*7","v":{"$error":"#N/A"}}]
[null,"2009-06-27","2009-07-03","2009-07-03",35,{"$f":"IF(ISERROR(VLOOKUP(E61,Crop!$N$3:$O$70,2,FALSE)),0,VLOOKUP(E61,Crop!$N$3:$O$70,2,FALSE))","v":0},{"$f":"IF(ISERROR(HLOOKUP($D$5,Kc!$C$3:$AI$57,upland_dry!F61+3,FALSE)),0,HLOOKUP($D$5,Kc!$C$3:$AI$57,upland_dry!F61+3,FALSE))","v":0},0,0,0,0,0,0,0,0,0,0,0,0,0,0,0,0,0,0,0,0,0,0,{"$f":"VLOOKUP($D$7,ETo!$B$4:$P$88,MONTH(D61)+2,FALSE)/4","v":{"$error":"#N/A"}},{"$error":"#N/A"},{"$error":"#N/A"},0,0,{"$error":"#N/A"},{"$f":"VLOOKUP(MONTH(D61),[0]!rainforuplandcrop,4)/1000*AB61*1600*7","v":{"$error":"#N/A"}}]
[null,"2009-07-04","2009-07-10","2009-07-10",36,{"$f":"IF(ISERROR(VLOOKUP(E62,Crop!$N$3:$O$70,2,FALSE)),0,VLOOKUP(E62,Crop!$N$3:$O$70,2,FALSE))","v":0},{"$f":"IF(ISERROR(HLOOKUP($D$5,Kc!$C$3:$AI$57,upland_dry!F62+3,FALSE)),0,HLOOKUP($D$5,Kc!$C$3:$AI$57,upland_dry!F62+3,FALSE))","v":0},0,0,0,0,0,0,0,0,0,0,0,0,0,0,0,0,0,0,0,0,0,0,{"$f":"VLOOKUP($D$7,ETo!$B$4:$P$88,MONTH(D62)+2,FALSE)/4","v":{"$error":"#N/A"}},{"$error":"#N/A"},{"$error":"#N/A"},0,0,{"$error":"#N/A"},{"$f":"VLOOKUP(MONTH(D62),[0]!rainforuplandcrop,4)/1000*AB62*1600*7","v":{"$error":"#N/A"}}]
[null,"2009-07-11","2009-07-17","2009-07-17",37,{"$f":"IF(ISERROR(VLOOKUP(E63,Crop!$N$3:$O$70,2,FALSE)),0,VLOOKUP(E63,Crop!$N$3:$O$70,2,FALSE))","v":0},{"$f":"IF(ISERROR(HLOOKUP($D$5,Kc!$C$3:$AI$57,upland_dry!F63+3,FALSE)),0,HLOOKUP($D$5,Kc!$C$3:$AI$57,upland_dry!F63+3,FALSE))","v":0},0,0,0,0,0,0,0,0,0,0,0,0,0,0,0,0,0,0,0,0,0,0,{"$f":"VLOOKUP($D$7,ETo!$B$4:$P$88,MONTH(D63)+2,FALSE)/4","v":{"$error":"#N/A"}},{"$error":"#N/A"},{"$error":"#N/A"},0,0,{"$error":"#N/A"},{"$f":"VLOOKUP(MONTH(D63),[0]!rainforuplandcrop,4)/1000*AB63*1600*7","v":{"$error":"#N/A"}}]
[null,"2009-07-18","2009-07-24","2009-07-24",38,{"$f":"IF(ISERROR(VLOOKUP(E64,Crop!$N$3:$O$70,2,FALSE)),0,VLOOKUP(E64,Crop!$N$3:$O$70,2,FALSE))","v":0},{"$f":"IF(ISERROR(HLOOKUP($D$5,Kc!$C$3:$AI$57,upland_dry!F64+3,FALSE)),0,HLOOKUP($D$5,Kc!$C$3:$AI$57,upland_dry!F64+3,FALSE))","v":0},0,0,0,0,0,0,0,0,0,0,0,0,0,0,0,0,0,0,0,0,0,0,{"$f":"VLOOKUP($D$7,ETo!$B$4:$P$88,MONTH(D64)+2,FALSE)/4","v":{"$error":"#N/A"}},{"$error":"#N/A"},{"$error":"#N/A"},0,0,{"$error":"#N/A"},{"$f":"VLOOKUP(MONTH(D64),[0]!rainforuplandcrop,4)/1000*AB64*1600*7","v":{"$error":"#N/A"}}]
[null,"2009-07-25","2009-07-31","2009-07-31",39,{"$f":"IF(ISERROR(VLOOKUP(E65,Crop!$N$3:$O$70,2,FALSE)),0,VLOOKUP(E65,Crop!$N$3:$O$70,2,FALSE))","v":0},{"$f":"IF(ISERROR(HLOOKUP($D$5,Kc!$C$3:$AI$57,upland_dry!F65+3,FALSE)),0,HLOOKUP($D$5,Kc!$C$3:$AI$57,upland_dry!F65+3,FALSE))","v":0},0,0,0,0,0,0,0,0,0,0,0,0,0,0,0,0,0,0,0,0,0,0,{"$f":"VLOOKUP($D$7,ETo!$B$4:$P$88,MONTH(D65)+2,FALSE)/4","v":{"$error":"#N/A"}},{"$error":"#N/A"},{"$error":"#N/A"},0,0,{"$error":"#N/A"},{"$f":"VLOOKUP(MONTH(D65),[0]!rainforuplandcrop,4)/1000*AB65*1600*7","v":{"$error":"#N/A"}}]
[null,"2009-08-01","2009-08-07","2009-08-07",40,{"$f":"IF(ISERROR(VLOOKUP(E66,Crop!$N$3:$O$70,2,FALSE)),0,VLOOKUP(E66,Crop!$N$3:$O$70,2,FALSE))","v":0},{"$f":"IF(ISERROR(HLOOKUP($D$5,Kc!$C$3:$AI$57,upland_dry!F66+3,FALSE)),0,HLOOKUP($D$5,Kc!$C$3:$AI$57,upland_dry!F66+3,FALSE))","v":0},0,0,0,0,0,0,0,0,0,0,0,0,0,0,0,0,0,0,0,0,0,0,{"$f":"VLOOKUP($D$7,ETo!$B$4:$P$88,MONTH(D66)+2,FALSE)/4","v":{"$error":"#N/A"}},{"$error":"#N/A"},{"$error":"#N/A"},0,0,{"$error":"#N/A"},{"$f":"VLOOKUP(MONTH(D66),[0]!rainforuplandcrop,4)/1000*AB66*1600*7","v":{"$error":"#N/A"}}]
[null,"2009-08-08","2009-08-14","2009-08-14",41,{"$f":"IF(ISERROR(VLOOKUP(E67,Crop!$N$3:$O$70,2,FALSE)),0,VLOOKUP(E67,Crop!$N$3:$O$70,2,FALSE))","v":0},{"$f":"IF(ISERROR(HLOOKUP($D$5,Kc!$C$3:$AI$57,upland_dry!F67+3,FALSE)),0,HLOOKUP($D$5,Kc!$C$3:$AI$57,upland_dry!F67+3,FALSE))","v":0},0,0,0,{"$f":"IF(J66>0,IF(K$26>$E$9,0,VLOOKUP(K$26,$F$3:$G$23,2,FALSE)),0)","v":0},0,0,0,0,0,0,0,0,0,{"$f":"IF(T66>0,IF(U$26>$E$9,0,VLOOKUP(U$26,$F$3:$G$23,2,FALSE)),0)","v":0},0,0,0,0,0,0,0,0,{"$f":"VLOOKUP($D$7,ETo!$B$4:$P$88,MONTH(D67)+2,FALSE)/4","v":{"$error":"#N/A"}},{"$error":"#N/A"},{"$error":"#N/A"},0,0,{"$error":"#N/A"},{"$f":"VLOOKUP(MONTH(D67),[0]!rainforuplandcrop,4)/1000*AB67*1600*7","v":{"$error":"#N/A"}}]
[null,"2009-08-15","2009-08-21","2009-08-21",42,{"$f":"IF(ISERROR(VLOOKUP(E68,Crop!$N$3:$O$70,2,FALSE)),0,VLOOKUP(E68,Crop!$N$3:$O$70,2,FALSE))","v":0},{"$f":"IF(ISERROR(HLOOKUP($D$5,Kc!$C$3:$AI$57,upland_dry!F68+3,FALSE)),0,HLOOKUP($D$5,Kc!$C$3:$AI$57,upland_dry!F68+3,FALSE))","v":0},0,0,0,0,0,0,0,0,0,0,0,0,0,0,0,0,0,0,0,0,0,0,{"$f":"VLOOKUP($D$7,ETo!$B$4:$P$88,MONTH(D68)+2,FALSE)/4","v":{"$error":"#N/A"}},{"$error":"#N/A"},{"$error":"#N/A"},0,0,{"$error":"#N/A"},{"$f":"VLOOKUP(MONTH(D68),[0]!rainforuplandcrop,4)/1000*AB68*1600*7","v":{"$error":"#N/A"}}]
[null,"2009-08-22","2009-08-28","2009-08-28",43,{"$f":"IF(ISERROR(VLOOKUP(E69,Crop!$N$3:$O$70,2,FALSE)),0,VLOOKUP(E69,Crop!$N$3:$O$70,2,FALSE))","v":0},{"$f":"IF(ISERROR(HLOOKUP($D$5,Kc!$C$3:$AI$57,upland_dry!F69+3,FALSE)),0,HLOOKUP($D$5,Kc!$C$3:$AI$57,upland_dry!F69+3,FALSE))","v":0},0,0,0,0,0,0,0,0,0,0,0,0,0,0,0,0,0,0,0,0,0,0,{"$f":"VLOOKUP($D$7,ETo!$B$4:$P$88,MONTH(D69)+2,FALSE)/4","v":{"$error":"#N/A"}},{"$error":"#N/A"},{"$error":"#N/A"},0,0,{"$error":"#N/A"},{"$f":"VLOOKUP(MONTH(D69),[0]!rainforuplandcrop,4)/1000*AB69*1600*7","v":{"$error":"#N/A"}}]
[null,"2009-08-29","2009-09-04","2009-09-04",44,{"$f":"IF(ISERROR(VLOOKUP(E70,Crop!$N$3:$O$70,2,FALSE)),0,VLOOKUP(E70,Crop!$N$3:$O$70,2,FALSE))","v":0},{"$f":"IF(ISERROR(HLOOKUP($D$5,Kc!$C$3:$AI$57,upland_dry!F70+3,FALSE)),0,HLOOKUP($D$5,Kc!$C$3:$AI$57,upland_dry!F70+3,FALSE))","v":0},0,0,0,0,0,0,0,0,0,0,0,0,0,0,0,0,0,0,0,0,0,0,{"$f":"VLOOKUP($D$7,ETo!$B$4:$P$88,MONTH(D70)+2,FALSE)/4","v":{"$error":"#N/A"}},{"$error":"#N/A"},{"$error":"#N/A"},0,0,{"$error":"#N/A"},{"$f":"VLOOKUP(MONTH(D70),[0]!rainforuplandcrop,4)/1000*AB70*1600*7","v":{"$error":"#N/A"}}]
[null,"2009-09-05","2009-09-11","2009-09-11",45,{"$f":"IF(ISERROR(VLOOKUP(E71,Crop!$N$3:$O$70,2,FALSE)),0,VLOOKUP(E71,Crop!$N$3:$O$70,2,FALSE))","v":0},{"$f":"IF(ISERROR(HLOOKUP($D$5,Kc!$C$3:$AI$57,upland_dry!F71+3,FALSE)),0,HLOOKUP($D$5,Kc!$C$3:$AI$57,upland_dry!F71+3,FALSE))","v":0},0,0,0,0,0,0,0,0,0,0,0,0,0,0,0,0,0,0,0,0,0,0,{"$f":"VLOOKUP($D$7,ETo!$B$4:$P$88,MONTH(D71)+2,FALSE)/4","v":{"$error":"#N/A"}},{"$error":"#N/A"},{"$error":"#N/A"},0,0,{"$error":"#N/A"},{"$f":"VLOOKUP(MONTH(D71),[0]!rainforuplandcrop,4)/1000*AB71*1600*7","v":{"$error":"#N/A"}}]
[null,"2009-09-12","2009-09-18","2009-09-18",46,{"$f":"IF(ISERROR(VLOOKUP(E72,Crop!$N$3:$O$70,2,FALSE)),0,VLOOKUP(E72,Crop!$N$3:$O$70,2,FALSE))","v":0},{"$f":"IF(ISERROR(HLOOKUP($D$5,Kc!$C$3:$AI$57,upland_dry!F72+3,FALSE)),0,HLOOKUP($D$5,Kc!$C$3:$AI$57,upland_dry!F72+3,FALSE))","v":0},0,0,0,0,0,0,0,0,0,0,0,0,0,0,0,0,0,0,0,0,0,0,{"$f":"VLOOKUP($D$7,ETo!$B$4:$P$88,MONTH(D72)+2,FALSE)/4","v":{"$error":"#N/A"}},{"$error":"#N/A"},{"$error":"#N/A"},0,0,{"$error":"#N/A"},{"$f":"VLOOKUP(MONTH(D72),[0]!rainforuplandcrop,4)/1000*AB72*1600*7","v":{"$error":"#N/A"}}]
[null,"2009-09-19","2009-09-25","2009-09-25",47,{"$f":"IF(ISERROR(VLOOKUP(E73,Crop!$N$3:$O$70,2,FALSE)),0,VLOOKUP(E73,Crop!$N$3:$O$70,2,FALSE))","v":0},{"$f":"IF(ISERROR(HLOOKUP($D$5,Kc!$C$3:$AI$57,upland_dry!F73+3,FALSE)),0,HLOOKUP($D$5,Kc!$C$3:$AI$57,upland_dry!F73+3,FALSE))","v":0},0,0,0,0,0,0,0,0,0,0,0,0,0,0,0,0,0,0,0,0,0,0,{"$f":"VLOOKUP($D$7,ETo!$B$4:$P$88,MONTH(D73)+2,FALSE)/4","v":{"$error":"#N/A"}},{"$error":"#N/A"},{"$error":"#N/A"},0,0,{"$error":"#N/A"},{"$f":"VLOOKUP(MONTH(D73),[0]!rainforuplandcrop,4)/1000*AB73*1600*7","v":{"$error":"#N/A"}}]
[null,"2009-09-26","2009-10-02","2009-10-02",48,{"$f":"IF(ISERROR(VLOOKUP(E74,Crop!$N$3:$O$70,2,FALSE)),0,VLOOKUP(E74,Crop!$N$3:$O$70,2,FALSE))","v":0},{"$f":"IF(ISERROR(HLOOKUP($D$5,Kc!$C$3:$AI$57,upland_dry!F74+3,FALSE)),0,HLOOKUP($D$5,Kc!$C$3:$AI$57,upland_dry!F74+3,FALSE))","v":0},0,0,0,0,0,0,0,0,0,0,0,0,0,0,0,0,0,0,0,0,0,0,{"$f":"VLOOKUP($D$7,ETo!$B$4:$P$88,MONTH(D74)+2,FALSE)/4","v":{"$error":"#N/A"}},{"$error":"#N/A"},{"$error":"#N/A"},0,0,{"$error":"#N/A"},{"$f":"VLOOKUP(MONTH(D74),[0]!rainforuplandcrop,4)/1000*AB74*1600*7","v":{"$error":"#N/A"}}]
[null,"2009-10-03","2009-10-09","2009-10-09",49,{"$f":"IF(ISERROR(VLOOKUP(E75,Crop!$N$3:$O$70,2,FALSE)),0,VLOOKUP(E75,Crop!$N$3:$O$70,2,FALSE))","v":0},{"$f":"IF(ISERROR(HLOOKUP($D$5,Kc!$C$3:$AI$57,upland_dry!F75+3,FALSE)),0,HLOOKUP($D$5,Kc!$C$3:$AI$57,upland_dry!F75+3,FALSE))","v":0},0,0,0,0,0,0,0,0,0,0,0,0,0,0,0,0,0,0,0,0,0,0,{"$f":"VLOOKUP($D$7,ETo!$B$4:$P$88,MONTH(D75)+2,FALSE)/4","v":{"$error":"#N/A"}},{"$error":"#N/A"},{"$error":"#N/A"},0,0,{"$error":"#N/A"},{"$f":"VLOOKUP(MONTH(D75),[0]!rainforuplandcrop,4)/1000*AB75*1600*7","v":{"$error":"#N/A"}}]
[null,"2009-10-10","2009-10-16","2009-10-16",50,{"$f":"IF(ISERROR(VLOOKUP(E76,Crop!$N$3:$O$70,2,FALSE)),0,VLOOKUP(E76,Crop!$N$3:$O$70,2,FALSE))","v":0},{"$f":"IF(ISERROR(HLOOKUP($D$5,Kc!$C$3:$AI$57,upland_dry!F76+3,FALSE)),0,HLOOKUP($D$5,Kc!$C$3:$AI$57,upland_dry!F76+3,FALSE))","v":0},0,0,0,0,0,0,0,0,0,0,0,0,0,0,0,0,0,0,0,0,0,0,{"$f":"VLOOKUP($D$7,ETo!$B$4:$P$88,MONTH(D76)+2,FALSE)/4","v":{"$error":"#N/A"}},{"$error":"#N/A"},{"$error":"#N/A"},0,0,{"$error":"#N/A"},{"$f":"VLOOKUP(MONTH(D76),[0]!rainforuplandcrop,4)/1000*AB76*1600*7","v":{"$error":"#N/A"}}]
[null,"2009-10-17","2009-10-23","2009-10-23",51,{"$f":"IF(ISERROR(VLOOKUP(E77,Crop!$N$3:$O$70,2,FALSE)),0,VLOOKUP(E77,Crop!$N$3:$O$70,2,FALSE))","v":0},{"$f":"IF(ISERROR(HLOOKUP($D$5,Kc!$C$3:$AI$57,upland_dry!F77+3,FALSE)),0,HLOOKUP($D$5,Kc!$C$3:$AI$57,upland_dry!F77+3,FALSE))","v":0},0,0,0,0,0,0,0,0,0,0,0,0,0,0,0,0,0,0,0,0,0,0,{"$f":"VLOOKUP($D$7,ETo!$B$4:$P$88,MONTH(D77)+2,FALSE)/4","v":{"$error":"#N/A"}},{"$error":"#N/A"},{"$error":"#N/A"},0,0,{"$error":"#N/A"},{"$f":"VLOOKUP(MONTH(D77),[0]!rainforuplandcrop,4)/1000*AB77*1600*7","v":{"$error":"#N/A"}}]
[null,"2009-10-24","2009-10-30","2009-10-30",52,{"$f":"IF(ISERROR(VLOOKUP(E78,Crop!$N$3:$O$70,2,FALSE)),0,VLOOKUP(E78,Crop!$N$3:$O$70,2,FALSE))","v":0},{"$f":"IF(ISERROR(HLOOKUP($D$5,Kc!$C$3:$AI$57,upland_dry!F78+3,FALSE)),0,HLOOKUP($D$5,Kc!$C$3:$AI$57,upland_dry!F78+3,FALSE))","v":0},0,0,0,0,0,0,0,0,0,0,0,0,0,0,0,0,0,0,0,0,0,0,{"$f":"VLOOKUP($D$7,ETo!$B$4:$P$88,MONTH(D78)+2,FALSE)/4","v":{"$error":"#N/A"}},{"$error":"#N/A"},{"$error":"#N/A"},0,0,{"$error":"#N/A"},{"$f":"VLOOKUP(MONTH(D78),[0]!rainforuplandcrop,4)/1000*AB78*1600*7","v":{"$error":"#N/A"}}]
[null,null,null,null,null,null,null,null,null,null,null,null,null,null,null,null,null,null,null,null,null,null,null,null,null,null,null,null,null,null,null,null,null,null,{"$f":"SUM(AI27:AI78)","v":{"$error":"#N/A"}},{"$f":"SUM(AJ27:AJ78)","v":{"$error":"#N/A"}}]

{"sheet":"upland_rain","index":6,"n_rows":79,"n_cols":36,"rows_kept":79,"cut":false,"hidden":false,"merged":[[6,3,6,4],[3,3,3,4],[4,3,4,4]]}
[null,"ตารางแสดงรายละเอียดการคำนวณความต้องการน้ำของพืช"]
[null,null,null,null,null,"สัปดาห์","พื้นที่ (ไร่)"]
[null,null,null,null,null,1,{"$f":"+fill_data!F32","v":0},null,null,null,null,null,null,null,null,null,null,null,{"$f":"+E6","v":27},1]
[null,"จังหวัด",null,{"$f":"+fill_data!C4","v":0},null,{"$f":"IF(F3=\"\",\"\",IF(F3+1<=$E$9,F3+1,\"\"))","v":2},{"$f":"+fill_data!F33","v":0},null,null,null,null,null,null,null,null,null,null,null,{"$f":"IF(+S3+1>52,+S3+1-52,S3+1)","v":28},2]
[null,"ชนิดพืช",null,{"$f":"+fill_data!C33","v":"ข้าวโพดเลี้ยงสัตว์"},null,3,{"$f":"+fill_data!F34","v":0},null,null,null,null,null,null,null,null,null,null,null,{"$f":"IF(+S4+1>52,+S4+1-52,S4+1)","v":29},3]
[null,"สัปดาห์เริ่มต้น",null,{"$f":"VLOOKUP(D5,Crop!$B$3:$C$35,2,FALSE)","v":14},{"$f":"+fill_data!D34","v":27},4,{"$f":"+fill_data!F35","v":0},null,null,null,null,null,null,null,null,null,null,null,30,4]
[null,"ใช้ค่า ETo ของจังหวัด",null,{"$f":"+fill_data!C5","v":{"$error":"#N/A"}},null,5,{"$f":"+fill_data!F36","v":0},null,null,null,null,null,null,null,null,null,null,null,31,5]
[null,"พื้นที่โครงการ, ไร่",null,null,{"$f":"fill_data!D35","v":0},"",{"$f":"+fill_data!F37","v":0},null,null,null,null,null,null,null,null,null,null,null,32,6]
[null,"เวลาปลูกจนเต็มพื้นที่, สัปดาห์",null,null,{"$f":"+fill_data!D36","v":5},"",{"$f":"+fill_data!F38","v":0},null,null,null,null,null,null,null,null,null,null,null,33,7]
[null,"ปริมาณน้ำรั่วซึม, มม./สัปดาห์",null,null,{"$f":"+fill_data!D6","v":0},"",{"$f":"+fill_data!F39","v":0},null,"*ภาคกลาง กำหนดให้ใช้ 1 มม./วัน ส่วนภาคอื่นๆใช้ 2 มม./วัน",null,null,null,null,null,null,null,null,null,34,8]
[null,"ปริมาณน้ำเตรียมแปลง, มม./สัปดาห์",null,null,{"$f":"+fill_data!D37","v":30},"",{"$f":"+fill_data!F40","v":0},null,"*กำหนดระยะเวลาในการเตรียมแปลง 1 สัปดาห์",null,null,null,null,null,null,null,null,null,35,9]
[null,null,null,null,null,"",{"$f":"+fill_data!F41","v":0},null,null,null,null,null,null,null,null,null,null,null,36,10]
[null,null,null,null,null,{"$f":"IF(F12=\"\",\"\",IF(F12+1<=$E$9,F12+1,\"\"))","v":""},{"$f":"+fill_data!F42","v":0},null,null,null,null,null,null,null,null,null,null,null,37,11]
[null,null,null,null,null,"",{"$f":"+fill_data!F43","v":0},null,null,null,null,null,null,null,null,null,null,null,38,12]
[null,null,null,null,null,"",{"$f":"+fill_data!F44","v":0},null,null,null,null,null,null,null,null,null,null,null,39,13]
[null,null,null,null,null,"",{"$f":"+fill_data!F45","v":0},null,null,null,null,null,null,null,null,null,null,null,40,14]
[null,null,null,null,null,"",{"$f":"+fill_data!F46","v":0},null,null,null,null,null,null,null,null,null,null,null,41,15]
[null,null,null,null,null,"",{"$f":"+fill_data!F47","v":0},null,null,null,null,null,null,null,null,null,null,null,42,16]
[null,null,null,null,null,"",{"$f":"+fill_data!F48","v":0},null,null,null,null,null,null,null,null,null,null,null,43,17]
[null,null,null,null,null,"",{"$f":"+fill_data!F49","v":0},null,null,null,null,null,null,null,null,null,null,null,44,18]
[null,null,null,null,null,"",{"$f":"+fill_data!F50","v":0},null,null,null,null,null,null,null,null,null,null,null,45,19]
[null,null,null,null,null,"",{"$f":"+fill_data!F51","v":0},null,null,null,null,null,null,null,null,null,null,null,46,20]
[]
[null,"(1)","(2)","(3)","(4)","(5)","(6)","(7.1)","(7.2)","(7.3)","(7.4)","(7.5)","(7.6)","(7.7)","(7.8)","(7.9)","(7.10)","(7.11)","(7.12)","(7.13)","(7.14)","(7.15)","(7.16)","(7.17)","(7.18)","(7.19)","(7.20)","(8)","(9)","(10)","(11)","(12)","(13)","(14)","(15)","(16)"]
[null,"ช่วงเวลาสัปดาห์",null,"เดือน","สัปดาห์","สัปดาห์","Kc","พื้นที่เพาะปลูกในแต่ละสัปดาห์ (ไร่)",null,null,null,null,null,null,null,null,null,null,null,null,null,null,null,null,null,null,null,"รวมพื้นที่","Weighted","ETo","ความต้องการน้ำ",null,"ปริมาณน้ำเตรียมแปลง",null,"ความต้องการน้ำ","ฝนใช้การ"]
[null,"เริ่มต้น","สิ้นสุด",null,null,"ของ Kc",null,1,2,3,4,5,6,7,8,9,10,11,12,13,14,15,16,17,18,19,20,"(ไร่)","Kc",null,"(มม.)","(ลบ.ม.)","(ไร่)","(ลบ.ม.)","(ลบ.ม.)","(ลบ.ม.)"]
[null,"2008-11-01",{"$f":"B27+6","v":"2008-11-07"},{"$f":"+C27","v":"2008-11-07"},1,{"$f":"IF(ISERROR(VLOOKUP(E27,Crop!$AC$3:$AD$70,2,FALSE)),0,VLOOKUP(E27,Crop!$AC$3:$AD$70,2,FALSE))","v":0},{"$f":"IF(ISERROR(HLOOKUP($D$5,Kc!$C$3:$AI$57,upland_rain!F27+3,FALSE)),0,HLOOKUP($D$5,Kc!$C$3:$AI$57,upland_rain!F27+3,FALSE))","v":0},{"$f":"IF(G27>0,IF(H$26>$E$9,0,VLOOKUP(H$26,$F$3:$G$23,2,FALSE)),0)","v":0},{"$f":"IF(H78>0,IF(I$26>$E$9,0,VLOOKUP(I$26,$F$3:$G$23,2,FALSE)),0)","v":0},0,0,0,0,0,0,0,0,0,{"$f":"IF(R78>0,IF(S$26>$E$9,0,VLOOKUP(S$26,$F$3:$G$23,2,FALSE)),0)","v":0},0,0,0,0,0,0,0,0,{"$f":"SUM(H27:AA27)","v":0},{"$f":"IF(ISERROR((H27*G27+I27*G78+J27*G77+K27*G76+L27*G75+M27*G74+N27*G73+O27*G72+P27*G71+Q27*G70+R27*G69+S27*G68+T27*G67+U27*G66+V27*G65+W27*G64+X27*G63+Y27*G62+Z27*G61+AA27*G60)/AB27),0,(H27*G27+I27*G78+J27*G77+K27*G76+L27*G75+M27*G74+N27*G73+O27*G72+P27*G71+Q27*G70+R27*G69+S27*G68+T27*G67+U27*G66+V27*G65+W27*G64+X27*G63+Y27*G62+Z27*G61+AA27*G60)/AB27)","v":0},{"$f":"VLOOKUP($D$7,ETo!$B$4:$P$88,MONTH(D27)+2,FALSE)/4","v":{"$error":"#N/A"}},{"$f":"IF(AC27*AD27=0,0,(AC27*AD27)+$E$10)","v":{"$error":"#N/A"}},{"$f":"AE27*AB27*1.6","v":{"$error":"#N/A"}},{"$f":"IF(ISERROR(INDEX(H27:AA27,1,IF(E27<$E$6,0,VLOOKUP(E27,$S$3:$T$22,2,FALSE)))),0,INDEX(H27:AA27,1,IF(E27<$E$6,0,VLOOKUP(E27,$S$3:$T$22,2,FALSE))))","v":0},{"$f":"AG27*$E$11*1.6","v":0},{"$f":"AF27+AH27","v":{"$error":"#N/A"}},{"$f":"VLOOKUP(MONTH(D27),[0]!rainforuplandcrop,4)/1000*AB27*1600*7","v":{"$error":"#N/A"}}]
[null,{"$f":"C27+1","v":"2008-11-08"},{"$f":"B28+6","v":"2008-11-14"},"2008-11-14",2,{"$f":"IF(ISERROR(VLOOKUP(E28,Crop!$AC$3:$AD$70,2,FALSE)),0,VLOOKUP(E28,Crop!$AC$3:$AD$70,2,FALSE))","v":0},{"$f":"IF(ISERROR(HLOOKUP($D$5,Kc!$C$3:$AI$57,upland_rain!F28+3,FALSE)),0,HLOOKUP($D$5,Kc!$C$3:$AI$57,upland_rain!F28+3,FALSE))","v":0},0,{"$f":"IF(H27>0,IF(I$26>$E$9,0,VLOOKUP(I$26,$F$3:$G$23,2,FALSE)),0)","v":0},0,0,0,0,0,0,0,0,0,{"$f":"IF(R27>0,IF(S$26>$E$9,0,VLOOKUP(S$26,$F$3:$G$23,2,FALSE)),0)","v":0},0,0,0,0,0,0,0,0,{"$f":"SUM(H28:AA28)","v":0},{"$f":"IF(ISERROR((H28*G28+I28*G27+J28*G78+K28*G77+L28*G76+M28*G75+N28*G74+O28*G73+P28*G72+Q28*G71+R28*G70+S28*G69+T28*G68+U28*G67+V28*G66+W28*G65+X28*G64+Y28*G63+Z28*G62+AA28*G61)/AB28),0,(H28*G28+I28*G27+J28*G78+K28*G77+L28*G76+M28*G75+N28*G74+O28*G73+P28*G72+Q28*G71+R28*G70+S28*G69+T28*G68+U28*G67+V28*G66+W28*G65+X28*G64+Y28*G63+Z28*G62+AA28*G61)/AB28)","v":0},{"$f":"VLOOKUP($D$7,ETo!$B$4:$P$88,MONTH(D28)+2,FALSE)/4","v":{"$error":"#N/A"}},{"$error":"#N/A"},{"$error":"#N/A"},{"$f":"IF(ISERROR(INDEX(H28:AA28,1,IF(E28<$E$6,0,VLOOKUP(E28,$S$3:$T$22,2,FALSE)))),0,INDEX(H28:AA28,1,IF(E28<$E$6,0,VLOOKUP(E28,$S$3:$T$22,2,FALSE))))","v":0},{"$f":"AG28*$E$11*1.6","v":0},{"$error":"#N/A"},{"$f":"VLOOKUP(MONTH(D28),[0]!rainforuplandcrop,4)/1000*AB28*1600*7","v":{"$error":"#N/A"}}]
[null,"2008-11-15","2008-11-21","2008-11-21",3,{"$f":"IF(ISERROR(VLOOKUP(E29,Crop!$AC$3:$AD$70,2,FALSE)),0,VLOOKUP(E29,Crop!$AC$3:$AD$70,2,FALSE))","v":0},{"$f":"IF(ISERROR(HLOOKUP($D$5,Kc!$C$3:$AI$57,upland_rain!F29+3,FALSE)),0,HLOOKUP($D$5,Kc!$C$3:$AI$57,upland_rain!F29+3,FALSE))","v":0},0,0,0,0,0,0,0,0,0,0,0,0,0,0,0,0,0,0,0,0,0,{"$f":"IF(ISERROR((H29*G29+I29*G28+J29*G27+K29*G78+L29*G77+M29*G76+N29*G75+O29*G74+P29*G73+Q29*G72+R29*G71+S29*G70+T29*G69+U29*G68+V29*G67+W29*G66+X29*G65+Y29*G64+Z29*G63+AA29*G62)/AB29),0,(H29*G29+I29*G28+J29*G27+K29*G78+L29*G77+M29*G76+N29*G75+O29*G74+P29*G73+Q29*G72+R29*G71+S29*G70+T29*G69+U29*G68+V29*G67+W29*G66+X29*G65+Y29*G64+Z29*G63+AA29*G62)/AB29)","v":0},{"$f":"VLOOKUP($D$7,ETo!$B$4:$P$88,MONTH(D29)+2,FALSE)/4","v":{"$error":"#N/A"}},{"$error":"#N/A"},{"$error":"#N/A"},{"$f":"IF(ISERROR(INDEX(H29:AA29,1,IF(E29<$E$6,0,VLOOKUP(E29,$S$3:$T$22,2,FALSE)))),0,INDEX(H29:AA29,1,IF(E29<$E$6,0,VLOOKUP(E29,$S$3:$T$22,2,FALSE))))","v":0},{"$f":"AG29*$E$11*1.6","v":0},{"$error":"#N/A"},{"$f":"VLOOKUP(MONTH(D29),[0]!rainforuplandcrop,4)/1000*AB29*1600*7","v":{"$error":"#N/A"}}]
[null,"2008-11-22","2008-11-28","2008-11-28",4,{"$f":"IF(ISERROR(VLOOKUP(E30,Crop!$AC$3:$AD$70,2,FALSE)),0,VLOOKUP(E30,Crop!$AC$3:$AD$70,2,FALSE))","v":0},{"$f":"IF(ISERROR(HLOOKUP($D$5,Kc!$C$3:$AI$57,upland_rain!F30+3,FALSE)),0,HLOOKUP($D$5,Kc!$C$3:$AI$57,upland_rain!F30+3,FALSE))","v":0},0,0,0,0,0,0,0,0,0,0,0,0,0,0,0,0,0,0,0,0,0,{"$f":"IF(ISERROR((H30*G30+I30*G29+J30*G28+K30*G27+L30*G78+M30*G77+N30*G76+O30*G75+P30*G74+Q30*G73+R30*G72+S30*G71+T30*G70+U30*G69+V30*G68+W30*G67+X30*G66+Y30*G65+Z30*G64+AA30*G63)/AB30),0,(H30*G30+I30*G29+J30*G28+K30*G27+L30*G78+M30*G77+N30*G76+O30*G75+P30*G74+Q30*G73+R30*G72+S30*G71+T30*G70+U30*G69+V30*G68+W30*G67+X30*G66+Y30*G65+Z30*G64+AA30*G63)/AB30)","v":0},{"$f":"VLOOKUP($D$7,ETo!$B$4:$P$88,MONTH(D30)+2,FALSE)/4","v":{"$error":"#N/A"}},{"$error":"#N/A"},{"$error":"#N/A"},{"$f":"IF(ISERROR(INDEX(H30:AA30,1,IF(E30<$E$6,0,VLOOKUP(E30,$S$3:$T$22,2,FALSE)))),0,INDEX(H30:AA30,1,IF(E30<$E$6,0,VLOOKUP(E30,$S$3:$T$22,2,FALSE))))","v":0},{"$f":"AG30*$E$11*1.6","v":0},{"$error":"#N/A"},{"$f":"VLOOKUP(MONTH(D30),[0]!rainforuplandcrop,4)/1000*AB30*1600*7","v":{"$error":"#N/A"}}]
[null,"2008-11-29","2008-12-05","2008-12-05",5,{"$f":"IF(ISERROR(VLOOKUP(E31,Crop!$AC$3:$AD$70,2,FALSE)),0,VLOOKUP(E31,Crop!$AC$3:$AD$70,2,FALSE))","v":0},{"$f":"IF(ISERROR(HLOOKUP($D$5,Kc!$C$3:$AI$57,upland_rain!F31+3,FALSE)),0,HLOOKUP($D$5,Kc!$C$3:$AI$57,upland_rain!F31+3,FALSE))","v":0},0,0,0,0,0,0,0,0,0,0,0,0,0,0,0,0,0,0,0,0,0,{"$f":"IF(ISERROR((H31*G31+I31*G30+J31*G29+K31*G28+L31*G27+M31*G78+N31*G77+O31*G76+P31*G75+Q31*G74+R31*G73+S31*G72+T31*G71+U31*G70+V31*G69+W31*G68+X31*G67+Y31*G66+Z31*G65+AA31*G64)/AB31),0,(H31*G31+I31*G30+J31*G29+K31*G28+L31*G27+M31*G78+N31*G77+O31*G76+P31*G75+Q31*G74+R31*G73+S31*G72+T31*G71+U31*G70+V31*G69+W31*G68+X31*G67+Y31*G66+Z31*G65+AA31*G64)/AB31)","v":0},{"$f":"VLOOKUP($D$7,ETo!$B$4:$P$88,MONTH(D31)+2,FALSE)/4","v":{"$error":"#N/A"}},{"$error":"#N/A"},{"$error":"#N/A"},{"$f":"IF(ISERROR(INDEX(H31:AA31,1,IF(E31<$E$6,0,VLOOKUP(E31,$S$3:$T$22,2,FALSE)))),0,INDEX(H31:AA31,1,IF(E31<$E$6,0,VLOOKUP(E31,$S$3:$T$22,2,FALSE))))","v":0},{"$f":"AG31*$E$11*1.6","v":0},{"$error":"#N/A"},{"$f":"VLOOKUP(MONTH(D31),[0]!rainforuplandcrop,4)/1000*AB31*1600*7","v":{"$error":"#N/A"}}]
[null,"2008-12-06","2008-12-12","2008-12-12",6,{"$f":"IF(ISERROR(VLOOKUP(E32,Crop!$AC$3:$AD$70,2,FALSE)),0,VLOOKUP(E32,Crop!$AC$3:$AD$70,2,FALSE))","v":0},{"$f":"IF(ISERROR(HLOOKUP($D$5,Kc!$C$3:$AI$57,upland_rain!F32+3,FALSE)),0,HLOOKUP($D$5,Kc!$C$3:$AI$57,upland_rain!F32+3,FALSE))","v":0},0,0,0,0,0,0,0,0,0,0,0,0,0,0,0,0,0,0,0,0,0,{"$f":"IF(ISERROR((H32*G32+I32*G31+J32*G30+K32*G29+L32*G28+M32*G27+N32*G78+O32*G77+P32*G76+Q32*G75+R32*G74+S32*G73+T32*G72+U32*G71+V32*G70+W32*G69+X32*G68+Y32*G67+Z32*G66+AA32*G65)/AB32),0,(H32*G32+I32*G31+J32*G30+K32*G29+L32*G28+M32*G27+N32*G78+O32*G77+P32*G76+Q32*G75+R32*G74+S32*G73+T32*G72+U32*G71+V32*G70+W32*G69+X32*G68+Y32*G67+Z32*G66+AA32*G65)/AB32)","v":0},{"$f":"VLOOKUP($D$7,ETo!$B$4:$P$88,MONTH(D32)+2,FALSE)/4","v":{"$error":"#N/A"}},{"$error":"#N/A"},{"$error":"#N/A"},{"$f":"IF(ISERROR(INDEX(H32:AA32,1,IF(E32<$E$6,0,VLOOKUP(E32,$S$3:$T$22,2,FALSE)))),0,INDEX(H32:AA32,1,IF(E32<$E$6,0,VLOOKUP(E32,$S$3:$T$22,2,FALSE))))","v":0},{"$f":"AG32*$E$11*1.6","v":0},{"$error":"#N/A"},{"$f":"VLOOKUP(MONTH(D32),[0]!rainforuplandcrop,4)/1000*AB32*1600*7","v":{"$error":"#N/A"}}]
[null,"2008-12-13","2008-12-19","2008-12-19",7,{"$f":"IF(ISERROR(VLOOKUP(E33,Crop!$AC$3:$AD$70,2,FALSE)),0,VLOOKUP(E33,Crop!$AC$3:$AD$70,2,FALSE))","v":0},{"$f":"IF(ISERROR(HLOOKUP($D$5,Kc!$C$3:$AI$57,upland_rain!F33+3,FALSE)),0,HLOOKUP($D$5,Kc!$C$3:$AI$57,upland_rain!F33+3,FALSE))","v":0},0,0,0,0,0,0,0,0,0,0,0,0,0,0,0,0,0,0,0,0,0,{"$f":"IF(ISERROR((H33*G33+I33*G32+J33*G31+K33*G30+L33*G29+M33*G28+N33*G27+O33*G78+P33*G77+Q33*G76+R33*G75+S33*G74+T33*G73+U33*G72+V33*G71+W33*G70+X33*G69+Y33*G68+Z33*G67+AA33*G66)/AB33),0,(H33*G33+I33*G32+J33*G31+K33*G30+L33*G29+M33*G28+N33*G27+O33*G78+P33*G77+Q33*G76+R33*G75+S33*G74+T33*G73+U33*G72+V33*G71+W33*G70+X33*G69+Y33*G68+Z33*G67+AA33*G66)/AB33)","v":0},{"$f":"VLOOKUP($D$7,ETo!$B$4:$P$88,MONTH(D33)+2,FALSE)/4","v":{"$error":"#N/A"}},{"$error":"#N/A"},{"$error":"#N/A"},0,0,{"$error":"#N/A"},{"$f":"VLOOKUP(MONTH(D33),[0]!rainforuplandcrop,4)/1000*AB33*1600*7","v":{"$error":"#N/A"}}]
[null,"2008-12-20","2008-12-26","2008-12-26",8,{"$f":"IF(ISERROR(VLOOKUP(E34,Crop!$AC$3:$AD$70,2,FALSE)),0,VLOOKUP(E34,Crop!$AC$3:$AD$70,2,FALSE))","v":0},{"$f":"IF(ISERROR(HLOOKUP($D$5,Kc!$C$3:$AI$57,upland_rain!F34+3,FALSE)),0,HLOOKUP($D$5,Kc!$C$3:$AI$57,upland_rain!F34+3,FALSE))","v":0},0,0,0,0,0,0,0,0,0,0,0,0,0,0,0,0,0,0,0,0,0,{"$f":"IF(ISERROR((H34*G34+I34*G33+J34*G32+K34*G31+L34*G30+M34*G29+N34*G28+O34*G27+P34*G78+Q34*G77+R34*G76+S34*G75+T34*G74+U34*G73+V34*G72+W34*G71+X34*G70+Y34*G69+Z34*G68+AA34*G67)/AB34),0,(H34*G34+I34*G33+J34*G32+K34*G31+L34*G30+M34*G29+N34*G28+O34*G27+P34*G78+Q34*G77+R34*G76+S34*G75+T34*G74+U34*G73+V34*G72+W34*G71+X34*G70+Y34*G69+Z34*G68+AA34*G67)/AB34)","v":0},{"$f":"VLOOKUP($D$7,ETo!$B$4:$P$88,MONTH(D34)+2,FALSE)/4","v":{"$error":"#N/A"}},{"$error":"#N/A"},{"$error":"#N/A"},0,0,{"$error":"#N/A"},{"$f":"VLOOKUP(MONTH(D34),[0]!rainforuplandcrop,4)/1000*AB34*1600*7","v":{"$error":"#N/A"}}]
[null,"2008-12-27","2009-01-02","2009-01-02",9,{"$f":"IF(ISERROR(VLOOKUP(E35,Crop!$AC$3:$AD$70,2,FALSE)),0,VLOOKUP(E35,Crop!$AC$3:$AD$70,2,FALSE))","v":0},{"$f":"IF(ISERROR(HLOOKUP($D$5,Kc!$C$3:$AI$57,upland_rain!F35+3,FALSE)),0,HLOOKUP($D$5,Kc!$C$3:$AI$57,upland_rain!F35+3,FALSE))","v":0},0,0,0,0,0,0,0,0,0,0,0,0,0,0,0,0,0,0,0,0,0,{"$f":"IF(ISERROR((H35*G35+I35*G34+J35*G33+K35*G32+L35*G31+M35*G30+N35*G29+O35*G28+P35*G27+Q35*G78+R35*G77+S35*G76+T35*G75+U35*G74+V35*G73+W35*G72+X35*G71+Y35*G70+Z35*G69+AA35*G68)/AB35),0,(H35*G35+I35*G34+J35*G33+K35*G32+L35*G31+M35*G30+N35*G29+O35*G28+P35*G27+Q35*G78+R35*G77+S35*G76+T35*G75+U35*G74+V35*G73+W35*G72+X35*G71+Y35*G70+Z35*G69+AA35*G68)/AB35)","v":0},{"$f":"VLOOKUP($D$7,ETo!$B$4:$P$88,MONTH(D35)+2,FALSE)/4","v":{"$error":"#N/A"}},{"$error":"#N/A"},{"$error":"#N/A"},0,0,{"$error":"#N/A"},{"$f":"VLOOKUP(MONTH(D35),[0]!rainforuplandcrop,4)/1000*AB35*1600*7","v":{"$error":"#N/A"}}]
[null,"2009-01-03","2009-01-09","2009-01-09",10,{"$f":"IF(ISERROR(VLOOKUP(E36,Crop!$AC$3:$AD$70,2,FALSE)),0,VLOOKUP(E36,Crop!$AC$3:$AD$70,2,FALSE))","v":0},{"$f":"IF(ISERROR(HLOOKUP($D$5,Kc!$C$3:$AI$57,upland_rain!F36+3,FALSE)),0,HLOOKUP($D$5,Kc!$C$3:$AI$57,upland_rain!F36+3,FALSE))","v":0},{"$f":"IF(G36>0,IF(H$26>$E$9,0,VLOOKUP(H$26,$F$3:$G$23,2,FALSE)),0)","v":0},0,0,0,0,0,0,0,0,0,0,0,0,0,0,0,0,0,0,0,0,{"$f":"IF(ISERROR((H36*G36+I36*G35+J36*G34+K36*G33+L36*G32+M36*G31+N36*G30+O36*G29+P36*G28+Q36*G27+R36*G78+S36*G77+T36*G76+U36*G75+V36*G74+W36*G73+X36*G72+Y36*G71+Z36*G70+AA36*G69)/AB36),0,(H36*G36+I36*G35+J36*G34+K36*G33+L36*G32+M36*G31+N36*G30+O36*G29+P36*G28+Q36*G27+R36*G78+S36*G77+T36*G76+U36*G75+V36*G74+W36*G73+X36*G72+Y36*G71+Z36*G70+AA36*G69)/AB36)","v":0},{"$f":"VLOOKUP($D$7,ETo!$B$4:$P$88,MONTH(D36)+2,FALSE)/4","v":{"$error":"#N/A"}},{"$error":"#N/A"},{"$error":"#N/A"},0,0,{"$error":"#N/A"},{"$f":"VLOOKUP(MONTH(D36),[0]!rainforuplandcrop,4)/1000*AB36*1600*7","v":{"$error":"#N/A"}}]
[null,"2009-01-10","2009-01-16","2009-01-16",11,{"$f":"IF(ISERROR(VLOOKUP(E37,Crop!$AC$3:$AD$70,2,FALSE)),0,VLOOKUP(E37,Crop!$AC$3:$AD$70,2,FALSE))","v":0},{"$f":"IF(ISERROR(HLOOKUP($D$5,Kc!$C$3:$AI$57,upland_rain!F37+3,FALSE)),0,HLOOKUP($D$5,Kc!$C$3:$AI$57,upland_rain!F37+3,FALSE))","v":0},0,{"$f":"IF(H36>0,IF(I$26>$E$9,0,VLOOKUP(I$26,$F$3:$G$23,2,FALSE)),0)","v":0},{"$f":"IF(I36>0,IF(J$26>$E$9,0,VLOOKUP(J$26,$F$3:$G$12,2,FALSE)),0)","v":0},{"$f":"IF(J36>0,IF(K$26>$E$9,0,VLOOKUP(K$26,$F$3:$G$23,2,FALSE)),0)","v":0},0,0,0,0,0,0,0,0,0,{"$f":"IF(T36>0,IF(U$26>$E$9,0,VLOOKUP(U$26,$F$3:$G$23,2,FALSE)),0)","v":0},0,0,0,0,0,0,0,{"$f":"IF(ISERROR((H37*G37+I37*G36+J37*G35+K37*G34+L37*G33+M37*G32+N37*G31+O37*G30+P37*G29+Q37*G28+R37*G27+S37*G78+T37*G77+U37*G76+V37*G75+W37*G74+X37*G73+Y37*G72+Z37*G71+AA37*G70)/AB37),0,(H37*G37+I37*G36+J37*G35+K37*G34+L37*G33+M37*G32+N37*G31+O37*G30+P37*G29+Q37*G28+R37*G27+S37*G78+T37*G77+U37*G76+V37*G75+W37*G74+X37*G73+Y37*G72+Z37*G71+AA37*G70)/AB37)","v":0},{"$f":"VLOOKUP($D$7,ETo!$B$4:$P$88,MONTH(D37)+2,FALSE)/4","v":{"$error":"#N/A"}},{"$error":"#N/A"},{"$error":"#N/A"},0,0,{"$error":"#N/A"},{"$f":"VLOOKUP(MONTH(D37),[0]!rainforuplandcrop,4)/1000*AB37*1600*7","v":{"$error":"#N/A"}}]
[null,"2009-01-17","2009-01-23","2009-01-23",12,{"$f":"IF(ISERROR(VLOOKUP(E38,Crop!$AC$3:$AD$70,2,FALSE)),0,VLOOKUP(E38,Crop!$AC$3:$AD$70,2,FALSE))","v":0},{"$f":"IF(ISERROR(HLOOKUP($D$5,Kc!$C$3:$AI$57,upland_rain!F38+3,FALSE)),0,HLOOKUP($D$5,Kc!$C$3:$AI$57,upland_rain!F38+3,FALSE))","v":0},0,0,0,0,0,0,0,0,0,0,0,0,0,0,0,0,0,0,0,0,0,{"$f":"IF(ISERROR((H38*G38+I38*G37+J38*G36+K38*G35+L38*G34+M38*G33+N38*G32+O38*G31+P38*G30+Q38*G29+R38*G28+S38*G27+T38*G78+U38*G77+V38*G76+W38*G75+X38*G74+Y38*G73+Z38*G72+AA38*G71)/AB38),0,(H38*G38+I38*G37+J38*G36+K38*G35+L38*G34+M38*G33+N38*G32+O38*G31+P38*G30+Q38*G29+R38*G28+S38*G27+T38*G78+U38*G77+V38*G76+W38*G75+X38*G74+Y38*G73+Z38*G72+AA38*G71)/AB38)","v":0},{"$f":"VLOOKUP($D$7,ETo!$B$4:$P$88,MONTH(D38)+2,FALSE)/4","v":{"$error":"#N/A"}},{"$error":"#N/A"},{"$error":"#N/A"},0,0,{"$error":"#N/A"},{"$f":"VLOOKUP(MONTH(D38),[0]!rainforuplandcrop,4)/1000*AB38*1600*7","v":{"$error":"#N/A"}}]
[null,"2009-01-24","2009-01-30","2009-01-30",13,{"$f":"IF(ISERROR(VLOOKUP(E39,Crop!$AC$3:$AD$70,2,FALSE)),0,VLOOKUP(E39,Crop!$AC$3:$AD$70,2,FALSE))","v":0},{"$f":"IF(ISERROR(HLOOKUP($D$5,Kc!$C$3:$AI$57,upland_rain!F39+3,FALSE)),0,HLOOKUP($D$5,Kc!$C$3:$AI$57,upland_rain!F39+3,FALSE))","v":0},0,0,0,0,0,0,0,0,0,0,0,0,0,0,0,0,0,0,0,0,0,{"$f":"IF(ISERROR((H39*G39+I39*G38+J39*G37+K39*G36+L39*G35+M39*G34+N39*G33+O39*G32+P39*G31+Q39*G30+R39*G29+S39*G28+T39*G27+U39*G78+V39*G77+W39*G76+X39*G75+Y39*G74+Z39*G73+AA39*G72)/AB39),0,(H39*G39+I39*G38+J39*G37+K39*G36+L39*G35+M39*G34+N39*G33+O39*G32+P39*G31+Q39*G30+R39*G29+S39*G28+T39*G27+U39*G78+V39*G77+W39*G76+X39*G75+Y39*G74+Z39*G73+AA39*G72)/AB39)","v":0},{"$f":"VLOOKUP($D$7,ETo!$B$4:$P$88,MONTH(D39)+2,FALSE)/4","v":{"$error":"#N/A"}},{"$error":"#N/A"},{"$error":"#N/A"},0,0,{"$error":"#N/A"},{"$f":"VLOOKUP(MONTH(D39),[0]!rainforuplandcrop,4)/1000*AB39*1600*7","v":{"$error":"#N/A"}}]
[null,"2009-01-31","2009-02-06","2009-02-06",14,{"$f":"IF(ISERROR(VLOOKUP(E40,Crop!$AC$3:$AD$70,2,FALSE)),0,VLOOKUP(E40,Crop!$AC$3:$AD$70,2,FALSE))","v":0},{"$f":"IF(ISERROR(HLOOKUP($D$5,Kc!$C$3:$AI$57,upland_rain!F40+3,FALSE)),0,HLOOKUP($D$5,Kc!$C$3:$AI$57,upland_rain!F40+3,FALSE))","v":0},0,0,0,0,0,0,0,0,0,0,0,0,0,0,0,0,0,0,0,0,0,{"$f":"IF(ISERROR((H40*G40+I40*G39+J40*G38+K40*G37+L40*G36+M40*G35+N40*G34+O40*G33+P40*G32+Q40*G31+R40*G30+S40*G29+T40*G28+U40*G27+V40*G78+W40*G77+X40*G76+Y40*G75+Z40*G74+AA40*G73)/AB40),0,(H40*G40+I40*G39+J40*G38+K40*G37+L40*G36+M40*G35+N40*G34+O40*G33+P40*G32+Q40*G31+R40*G30+S40*G29+T40*G28+U40*G27+V40*G78+W40*G77+X40*G76+Y40*G75+Z40*G74+AA40*G73)/AB40)","v":0},{"$f":"VLOOKUP($D$7,ETo!$B$4:$P$88,MONTH(D40)+2,FALSE)/4","v":{"$error":"#N/A"}},{"$error":"#N/A"},{"$error":"#N/A"},0,0,{"$error":"#N/A"},{"$f":"VLOOKUP(MONTH(D40),[0]!rainforuplandcrop,4)/1000*AB40*1600*7","v":{"$error":"#N/A"}}]
[null,"2009-02-07","2009-02-13","2009-02-13",15,{"$f":"IF(ISERROR(VLOOKUP(E41,Crop!$AC$3:$AD$70,2,FALSE)),0,VLOOKUP(E41,Crop!$AC$3:$AD$70,2,FALSE))","v":0},{"$f":"IF(ISERROR(HLOOKUP($D$5,Kc!$C$3:$AI$57,upland_rain!F41+3,FALSE)),0,HLOOKUP($D$5,Kc!$C$3:$AI$57,upland_rain!F41+3,FALSE))","v":0},0,0,0,0,0,0,0,0,0,0,0,0,0,0,0,0,0,0,0,0,0,{"$f":"IF(ISERROR((H41*G41+I41*G40+J41*G39+K41*G38+L41*G37+M41*G36+N41*G35+O41*G34+P41*G33+Q41*G32+R41*G31+S41*G30+T41*G29+U41*G28+V41*G27+W41*G78+X41*G77+Y41*G76+Z41*G75+AA41*G74)/AB41),0,(H41*G41+I41*G40+J41*G39+K41*G38+L41*G37+M41*G36+N41*G35+O41*G34+P41*G33+Q41*G32+R41*G31+S41*G30+T41*G29+U41*G28+V41*G27+W41*G78+X41*G77+Y41*G76+Z41*G75+AA41*G74)/AB41)","v":0},{"$f":"VLOOKUP($D$7,ETo!$B$4:$P$88,MONTH(D41)+2,FALSE)/4","v":{"$error":"#N/A"}},{"$error":"#N/A"},{"$error":"#N/A"},0,0,{"$error":"#N/A"},{"$f":"VLOOKUP(MONTH(D41),[0]!rainforuplandcrop,4)/1000*AB41*1600*7","v":{"$error":"#N/A"}}]
[null,"2009-02-14","2009-02-20","2009-02-20",16,{"$f":"IF(ISERROR(VLOOKUP(E42,Crop!$AC$3:$AD$70,2,FALSE)),0,VLOOKUP(E42,Crop!$AC$3:$AD$70,2,FALSE))","v":0},{"$f":"IF(ISERROR(HLOOKUP($D$5,Kc!$C$3:$AI$57,upland_rain!F42+3,FALSE)),0,HLOOKUP($D$5,Kc!$C$3:$AI$57,upland_rain!F42+3,FALSE))","v":0},0,0,0,0,0,0,0,0,0,0,0,0,0,0,0,0,0,0,0,0,0,{"$f":"IF(ISERROR((H42*G42+I42*G41+J42*G40+K42*G39+L42*G38+M42*G37+N42*G36+O42*G35+P42*G34+Q42*G33+R42*G32+S42*G31+T42*G30+U42*G29+V42*G28+W42*G27+X42*G78+Y42*G77+Z42*G76+AA42*G75)/AB42),0,(H42*G42+I42*G41+J42*G40+K42*G39+L42*G38+M42*G37+N42*G36+O42*G35+P42*G34+Q42*G33+R42*G32+S42*G31+T42*G30+U42*G29+V42*G28+W42*G27+X42*G78+Y42*G77+Z42*G76+AA42*G75)/AB42)","v":0},{"$f":"VLOOKUP($D$7,ETo!$B$4:$P$88,MONTH(D42)+2,FALSE)/4","v":{"$error":"#N/A"}},{"$error":"#N/A"},{"$error":"#N/A"},0,0,{"$error":"#N/A"},{"$f":"VLOOKUP(MONTH(D42),[0]!rainforuplandcrop,4)/1000*AB42*1600*7","v":{"$error":"#N/A"}}]
[null,"2009-02-21","2009-02-27","2009-02-27",17,{"$f":"IF(ISERROR(VLOOKUP(E43,Crop!$AC$3:$AD$70,2,FALSE)),0,VLOOKUP(E43,Crop!$AC$3:$AD$70,2,FALSE))","v":0},{"$f":"IF(ISERROR(HLOOKUP($D$5,Kc!$C$3:$AI$57,upland_rain!F43+3,FALSE)),0,HLOOKUP($D$5,Kc!$C$3:$AI$57,upland_rain!F43+3,FALSE))","v":0},0,0,0,0,0,0,0,0,0,0,0,0,0,0,0,0,0,0,0,0,0,{"$f":"IF(ISERROR((H43*G43+I43*G42+J43*G41+K43*G40+L43*G39+M43*G38+N43*G37+O43*G36+P43*G35+Q43*G34+R43*G33+S43*G32+T43*G31+U43*G30+V43*G29+W43*G28+X43*G27+Y43*G78+Z43*G77+AA43*G76)/AB43),0,(H43*G43+I43*G42+J43*G41+K43*G40+L43*G39+M43*G38+N43*G37+O43*G36+P43*G35+Q43*G34+R43*G33+S43*G32+T43*G31+U43*G30+V43*G29+W43*G28+X43*G27+Y43*G78+Z43*G77+AA43*G76)/AB43)","v":0},{"$f":"VLOOKUP($D$7,ETo!$B$4:$P$88,MONTH(D43)+2,FALSE)/4","v":{"$error":"#N/A"}},{"$error":"#N/A"},{"$error":"#N/A"},0,0,{"$error":"#N/A"},{"$f":"VLOOKUP(MONTH(D43),[0]!rainforuplandcrop,4)/1000*AB43*1600*7","v":{"$error":"#N/A"}}]
[null,"2009-02-28","2009-03-06","2009-03-06",18,{"$f":"IF(ISERROR(VLOOKUP(E44,Crop!$AC$3:$AD$70,2,FALSE)),0,VLOOKUP(E44,Crop!$AC$3:$AD$70,2,FALSE))","v":0},{"$f":"IF(ISERROR(HLOOKUP($D$5,Kc!$C$3:$AI$57,upland_rain!F44+3,FALSE)),0,HLOOKUP($D$5,Kc!$C$3:$AI$57,upland_rain!F44+3,FALSE))","v":0},0,0,0,0,0,0,0,0,0,0,0,0,0,0,0,0,0,0,0,0,0,{"$f":"IF(ISERROR((H44*G44+I44*G43+J44*G42+K44*G41+L44*G40+M44*G39+N44*G38+O44*G37+P44*G36+Q44*G35+R44*G34+S44*G33+T44*G32+U44*G31+V44*G30+W44*G29+X44*G28+Y44*G27+Z44*G78+AA44*G77)/AB44),0,(H44*G44+I44*G43+J44*G42+K44*G41+L44*G40+M44*G39+N44*G38+O44*G37+P44*G36+Q44*G35+R44*G34+S44*G33+T44*G32+U44*G31+V44*G30+W44*G29+X44*G28+Y44*G27+Z44*G78+AA44*G77)/AB44)","v":0},{"$f":"VLOOKUP($D$7,ETo!$B$4:$P$88,MONTH(D44)+2,FALSE)/4","v":{"$error":"#N/A"}},{"$error":"#N/A"},{"$error":"#N/A"},0,0,{"$error":"#N/A"},{"$f":"VLOOKUP(MONTH(D44),[0]!rainforuplandcrop,4)/1000*AB44*1600*7","v":{"$error":"#N/A"}}]
[null,"2009-03-07","2009-03-13","2009-03-13",19,{"$f":"IF(ISERROR(VLOOKUP(E45,Crop!$AC$3:$AD$70,2,FALSE)),0,VLOOKUP(E45,Crop!$AC$3:$AD$70,2,FALSE))","v":0},{"$f":"IF(ISERROR(HLOOKUP($D$5,Kc!$C$3:$AI$57,upland_rain!F45+3,FALSE)),0,HLOOKUP($D$5,Kc!$C$3:$AI$57,upland_rain!F45+3,FALSE))","v":0},0,0,0,0,0,0,0,0,0,0,0,0,0,0,0,0,0,0,0,0,0,{"$f":"IF(ISERROR((H45*G45+I45*G44+J45*G43+K45*G42+L45*G41+M45*G40+N45*G39+O45*G38+P45*G37+Q45*G36+R45*G35+S45*G34+T45*G33+U45*G32+V45*G31+W45*G30+X45*G29+Y45*G28+Z45*G27+AA45*G78)/AB45),0,(H45*G45+I45*G44+J45*G43+K45*G42+L45*G41+M45*G40+N45*G39+O45*G38+P45*G37+Q45*G36+R45*G35+S45*G34+T45*G33+U45*G32+V45*G31+W45*G30+X45*G29+Y45*G28+Z45*G27+AA45*G78)/AB45)","v":0},{"$f":"VLOOKUP($D$7,ETo!$B$4:$P$88,MONTH(D45)+2,FALSE)/4","v":{"$error":"#N/A"}},{"$error":"#N/A"},{"$error":"#N/A"},0,0,{"$error":"#N/A"},{"$f":"VLOOKUP(MONTH(D45),[0]!rainforuplandcrop,4)/1000*AB45*1600*7","v":{"$error":"#N/A"}}]
[null,"2009-03-14","2009-03-20","2009-03-20",20,{"$f":"IF(ISERROR(VLOOKUP(E46,Crop!$AC$3:$AD$70,2,FALSE)),0,VLOOKUP(E46,Crop!$AC$3:$AD$70,2,FALSE))","v":0},{"$f":"IF(ISERROR(HLOOKUP($D$5,Kc!$C$3:$AI$57,upland_rain!F46+3,FALSE)),0,HLOOKUP($D$5,Kc!$C$3:$AI$57,upland_rain!F46+3,FALSE))","v":0},0,0,0,0,0,0,0,0,0,0,0,0,0,0,0,0,0,0,0,0,0,{"$f":"IF(ISERROR((H46*G46+I46*G45+J46*G44+K46*G43+L46*G42+M46*G41+N46*G40+O46*G39+P46*G38+Q46*G37+R46*G36+S46*G35+T46*G34+U46*G33+V46*G32+W46*G31+X46*G30+Y46*G29+Z46*G28+AA46*G27)/AB46),0,(H46*G46+I46*G45+J46*G44+K46*G43+L46*G42+M46*G41+N46*G40+O46*G39+P46*G38+Q46*G37+R46*G36+S46*G35+T46*G34+U46*G33+V46*G32+W46*G31+X46*G30+Y46*G29+Z46*G28+AA46*G27)/AB46)","v":0},{"$f":"VLOOKUP($D$7,ETo!$B$4:$P$88,MONTH(D46)+2,FALSE)/4","v":{"$error":"#N/A"}},{"$error":"#N/A"},{"$error":"#N/A"},0,0,{"$error":"#N/A"},{"$f":"VLOOKUP(MONTH(D46),[0]!rainforuplandcrop,4)/1000*AB46*1600*7","v":{"$error":"#N/A"}}]
[null,"2009-03-21","2009-03-27","2009-03-27",21,{"$f":"IF(ISERROR(VLOOKUP(E47,Crop!$AC$3:$AD$70,2,FALSE)),0,VLOOKUP(E47,Crop!$AC$3:$AD$70,2,FALSE))","v":0},{"$f":"IF(ISERROR(HLOOKUP($D$5,Kc!$C$3:$AI$57,upland_rain!F47+3,FALSE)),0,HLOOKUP($D$5,Kc!$C$3:$AI$57,upland_rain!F47+3,FALSE))","v":0},0,0,0,{"$f":"IF(J46>0,IF(K$26>$E$9,0,VLOOKUP(K$26,$F$3:$G$23,2,FALSE)),0)","v":0},0,0,0,0,0,0,0,0,0,{"$f":"IF(T46>0,IF(U$26>$E$9,0,VLOOKUP(U$26,$F$3:$G$23,2,FALSE)),0)","v":0},0,0,0,0,0,0,0,{"$f":"IF(ISERROR((H47*G47+I47*G46+J47*G45+K47*G44+L47*G43+M47*G42+N47*G41+O47*G40+P47*G39+Q47*G38+R47*G37+S47*G36+T47*G35+U47*G34+V47*G33+W47*G32+X47*G31+Y47*G30+Z47*G29+AA47*G28)/AB47),0,(H47*G47+I47*G46+J47*G45+K47*G44+L47*G43+M47*G42+N47*G41+O47*G40+P47*G39+Q47*G38+R47*G37+S47*G36+T47*G35+U47*G34+V47*G33+W47*G32+X47*G31+Y47*G30+Z47*G29+AA47*G28)/AB47)","v":0},{"$f":"VLOOKUP($D$7,ETo!$B$4:$P$88,MONTH(D47)+2,FALSE)/4","v":{"$error":"#N/A"}},{"$error":"#N/A"},{"$error":"#N/A"},0,0,{"$error":"#N/A"},{"$f":"VLOOKUP(MONTH(D47),[0]!rainforuplandcrop,4)/1000*AB47*1600*7","v":{"$error":"#N/A"}}]
[null,"2009-03-28","2009-04-03","2009-04-03",22,{"$f":"IF(ISERROR(VLOOKUP(E48,Crop!$AC$3:$AD$70,2,FALSE)),0,VLOOKUP(E48,Crop!$AC$3:$AD$70,2,FALSE))","v":0},{"$f":"IF(ISERROR(HLOOKUP($D$5,Kc!$C$3:$AI$57,upland_rain!F48+3,FALSE)),0,HLOOKUP($D$5,Kc!$C$3:$AI$57,upland_rain!F48+3,FALSE))","v":0},0,0,0,0,0,0,0,0,0,0,0,0,0,0,0,0,0,0,0,0,0,{"$f":"IF(ISERROR((H48*G48+I48*G47+J48*G46+K48*G45+L48*G44+M48*G43+N48*G42+O48*G41+P48*G40+Q48*G39+R48*G38+S48*G37+T48*G36+U48*G35+V48*G34+W48*G33+X48*G32+Y48*G31+Z48*G30+AA48*G29)/AB48),0,(H48*G48+I48*G47+J48*G46+K48*G45+L48*G44+M48*G43+N48*G42+O48*G41+P48*G40+Q48*G39+R48*G38+S48*G37+T48*G36+U48*G35+V48*G34+W48*G33+X48*G32+Y48*G31+Z48*G30+AA48*G29)/AB48)","v":0},{"$f":"VLOOKUP($D$7,ETo!$B$4:$P$88,MONTH(D48)+2,FALSE)/4","v":{"$error":"#N/A"}},{"$error":"#N/A"},{"$error":"#N/A"},0,0,{"$error":"#N/A"},{"$f":"VLOOKUP(MONTH(D48),[0]!rainforuplandcrop,4)/1000*AB48*1600*7","v":{"$error":"#N/A"}}]
[null,"2009-04-04","2009-04-10","2009-04-10",23,{"$f":"IF(ISERROR(VLOOKUP(E49,Crop!$AC$3:$AD$70,2,FALSE)),0,VLOOKUP(E49,Crop!$AC$3:$AD$70,2,FALSE))","v":0},{"$f":"IF(ISERROR(HLOOKUP($D$5,Kc!$C$3:$AI$57,upland_rain!F49+3,FALSE)),0,HLOOKUP($D$5,Kc!$C$3:$AI$57,upland_rain!F49+3,FALSE))","v":0},0,0,0,0,0,0,0,0,0,0,0,0,0,0,0,0,0,0,0,0,0,0,{"$f":"VLOOKUP($D$7,ETo!$B$4:$P$88,MONTH(D49)+2,FALSE)/4","v":{"$error":"#N/A"}},{"$error":"#N/A"},{"$error":"#N/A"},0,0,{"$error":"#N/A"},{"$f":"VLOOKUP(MONTH(D49),[0]!rainforuplandcrop,4)/1000*AB49*1600*7","v":{"$error":"#N/A"}}]
[null,"2009-04-11","2009-04-17","2009-04-17",24,{"$f":"IF(ISERROR(VLOOKUP(E50,Crop!$AC$3:$AD$70,2,FALSE)),0,VLOOKUP(E50,Crop!$AC$3:$AD$70,2,FALSE))","v":0},{"$f":"IF(ISERROR(HLOOKUP($D$5,Kc!$C$3:$AI$57,upland_rain!F50+3,FALSE)),0,HLOOKUP($D$5,Kc!$C$3:$AI$57,upland_rain!F50+3,FALSE))","v":0},0,0,0,0,0,0,0,0,0,0,0,0,0,0,0,0,0,0,0,0,0,0,{"$f":"VLOOKUP($D$7,ETo!$B$4:$P$88,MONTH(D50)+2,FALSE)/4","v":{"$error":"#N/A"}},{"$error":"#N/A"},{"$error":"#N/A"},0,0,{"$error":"#N/A"},{"$f":"VLOOKUP(MONTH(D50),[0]!rainforuplandcrop,4)/1000*AB50*1600*7","v":{"$error":"#N/A"}}]
[null,"2009-04-18","2009-04-24","2009-04-24",25,{"$f":"IF(ISERROR(VLOOKUP(E51,Crop!$AC$3:$AD$70,2,FALSE)),0,VLOOKUP(E51,Crop!$AC$3:$AD$70,2,FALSE))","v":0},{"$f":"IF(ISERROR(HLOOKUP($D$5,Kc!$C$3:$AI$57,upland_rain!F51+3,FALSE)),0,HLOOKUP($D$5,Kc!$C$3:$AI$57,upland_rain!F51+3,FALSE))","v":0},0,0,0,0,0,0,0,0,0,0,0,0,0,0,0,0,0,0,0,0,0,0,{"$f":"VLOOKUP($D$7,ETo!$B$4:$P$88,MONTH(D51)+2,FALSE)/4","v":{"$error":"#N/A"}},{"$error":"#N/A"},{"$error":"#N/A"},0,0,{"$error":"#N/A"},{"$f":"VLOOKUP(MONTH(D51),[0]!rainforuplandcrop,4)/1000*AB51*1600*7","v":{"$error":"#N/A"}}]
[null,"2009-04-25","2009-05-01","2009-05-01",26,{"$f":"IF(ISERROR(VLOOKUP(E52,Crop!$AC$3:$AD$70,2,FALSE)),0,VLOOKUP(E52,Crop!$AC$3:$AD$70,2,FALSE))","v":0},{"$f":"IF(ISERROR(HLOOKUP($D$5,Kc!$C$3:$AI$57,upland_rain!F52+3,FALSE)),0,HLOOKUP($D$5,Kc!$C$3:$AI$57,upland_rain!F52+3,FALSE))","v":0},0,0,0,0,0,0,0,0,0,0,0,0,0,0,0,0,0,0,0,0,0,0,{"$f":"VLOOKUP($D$7,ETo!$B$4:$P$88,MONTH(D52)+2,FALSE)/4","v":{"$error":"#N/A"}},{"$error":"#N/A"},{"$error":"#N/A"},0,0,{"$error":"#N/A"},{"$f":"VLOOKUP(MONTH(D52),[0]!rainforuplandcrop,4)/1000*AB52*1600*7","v":{"$error":"#N/A"}}]
[null,"2009-05-02","2009-05-08","2009-05-08",27,{"$f":"IF(ISERROR(VLOOKUP(E53,Crop!$AC$3:$AD$70,2,FALSE)),0,VLOOKUP(E53,Crop!$AC$3:$AD$70,2,FALSE))","v":1},{"$f":"IF(ISERROR(HLOOKUP($D$5,Kc!$C$3:$AI$57,upland_rain!F53+3,FALSE)),0,HLOOKUP($D$5,Kc!$C$3:$AI$57,upland_rain!F53+3,FALSE))","v":0.63},0,0,0,0,0,0,0,0,0,0,0,0,0,0,0,0,0,0,0,0,0,0,{"$f":"VLOOKUP($D$7,ETo!$B$4:$P$88,MONTH(D53)+2,FALSE)/4","v":{"$error":"#N/A"}},{"$error":"#N/A"},{"$error":"#N/A"},0,0,{"$error":"#N/A"},{"$f":"VLOOKUP(MONTH(D53),[0]!rainforuplandcrop,4)/1000*AB53*1600*7","v":{"$error":"#N/A"}}]
[null,"2009-05-09","2009-05-15","2009-05-15",28,{"$f":"IF(ISERROR(VLOOKUP(E54,Crop!$AC$3:$AD$70,2,FALSE)),0,VLOOKUP(E54,Crop!$AC$3:$AD$70,2,FALSE))","v":2},{"$f":"IF(ISERROR(HLOOKUP($D$5,Kc!$C$3:$AI$57,upland_rain!F54+3,FALSE)),0,HLOOKUP($D$5,Kc!$C$3:$AI$57,upland_rain!F54+3,FALSE))","v":0.72},0,0,0,0,0,0,0,0,0,0,0,0,0,0,0,0,0,0,0,0,0,0,{"$f":"VLOOKUP($D$7,ETo!$B$4:$P$88,MONTH(D54)+2,FALSE)/4","v":{"$error":"#N/A"}},{"$error":"#N/A"},{"$error":"#N/A"},0,0,{"$error":"#N/A"},{"$f":"VLOOKUP(MONTH(D54),[0]!rainforuplandcrop,4)/1000*AB54*1600*7","v":{"$error":"#N/A"}}]
[null,"2009-05-16","2009-05-22","2009-05-22",29,{"$f":"IF(ISERROR(VLOOKUP(E55,Crop!$AC$3:$AD$70,2,FALSE)),0,VLOOKUP(E55,Crop!$AC$3:$AD$70,2,FALSE))","v":3},{"$f":"IF(ISERROR(HLOOKUP($D$5,Kc!$C$3:$AI$57,upland_rain!F55+3,FALSE)),0,HLOOKUP($D$5,Kc!$C$3:$AI$57,upland_rain!F55+3,FALSE))","v":0.86},0,0,0,0,0,0,0,0,0,0,0,0,0,0,0,0,0,0,0,0,0,0,{"$f":"VLOOKUP($D$7,ETo!$B$4:$P$88,MONTH(D55)+2,FALSE)/4","v":{"$error":"#N/A"}},{"$error":"#N/A"},{"$error":"#N/A"},0,0,{"$error":"#N/A"},{"$f":"VLOOKUP(MONTH(D55),[0]!rainforuplandcrop,4)/1000*AB55*1600*7","v":{"$error":"#N/A"}}]
[null,"2009-05-23","2009-05-29","2009-05-29",30,{"$f":"IF(ISERROR(VLOOKUP(E56,Crop!$AC$3:$AD$70,2,FALSE)),0,VLOOKUP(E56,Crop!$AC$3:$AD$70,2,FALSE))","v":4},{"$f":"IF(ISERROR(HLOOKUP($D$5,Kc!$C$3:$AI$57,upland_rain!F56+3,FALSE)),0,HLOOKUP($D$5,Kc!$C$3:$AI$57,upland_rain!F56+3,FALSE))","v":1.1299999999999999},0,0,0,0,0,0,0,0,0,0,0,0,0,0,0,0,0,0,0,0,0,0,{"$f":"VLOOKUP($D$7,ETo!$B$4:$P$88,MONTH(D56)+2,FALSE)/4","v":{"$error":"#N/A"}},{"$error":"#N/A"},{"$error":"#N/A"},0,0,{"$error":"#N/A"},{"$f":"VLOOKUP(MONTH(D56),[0]!rainforuplandcrop,4)/1000*AB56*1600*7","v":{"$error":"#N/A"}}]
[null,"2009-05-30","2009-06-05","2009-06-05",31,{"$f":"IF(ISERROR(VLOOKUP(E57,Crop!$AC$3:$AD$70,2,FALSE)),0,VLOOKUP(E57,Crop!$AC$3:$AD$70,2,FALSE))","v":5},{"$f":"IF(ISERROR(HLOOKUP($D$5,Kc!$C$3:$AI$57,upland_rain!F57+3,FALSE)),0,HLOOKUP($D$5,Kc!$C$3:$AI$57,upland_rain!F57+3,FALSE))","v":1.35},0,0,0,{"$f":"IF(J56>0,IF(K$26>$E$9,0,VLOOKUP(K$26,$F$3:$G$23,2,FALSE)),0)","v":0},0,0,0,0,0,0,0,0,0,{"$f":"IF(T56>0,IF(U$26>$E$9,0,VLOOKUP(U$26,$F$3:$G$23,2,FALSE)),0)","v":0},0,0,0,0,0,0,0,0,{"$f":"VLOOKUP($D$7,ETo!$B$4:$P$88,MONTH(D57)+2,FALSE)/4","v":{"$error":"#N/A"}},{"$error":"#N/A"},{"$error":"#N/A"},0,0,{"$error":"#N/A"},{"$f":"VLOOKUP(MONTH(D57),[0]!rainforuplandcrop,4)/1000*AB57*1600*7","v":{"$error":"#N/A"}}]
[null,"2009-06-06","2009-06-12","2009-06-12",32,{"$f":"IF(ISERROR(VLOOKUP(E58,Crop!$AC$3:$AD$70,2,FALSE)),0,VLOOKUP(E58,Crop!$AC$3:$AD$70,2,FALSE))","v":6},{"$f":"IF(ISERROR(HLOOKUP($D$5,Kc!$C$3:$AI$57,upland_rain!F58+3,FALSE)),0,HLOOKUP($D$5,Kc!$C$3:$AI$57,upland_rain!F58+3,FALSE))","v":1.52},0,0,0,0,0,0,0,0,0,0,0,0,0,0,0,0,0,0,0,0,0,0,{"$f":"VLOOKUP($D$7,ETo!$B$4:$P$88,MONTH(D58)+2,FALSE)/4","v":{"$error":"#N/A"}},{"$error":"#N/A"},{"$error":"#N/A"},0,0,{"$error":"#N/A"},{"$f":"VLOOKUP(MONTH(D58),[0]!rainforuplandcrop,4)/1000*AB58*1600*7","v":{"$error":"#N/A"}}]
[null,"2009-06-13","2009-06-19",{"$f":"+C59","v":"2009-06-19"},33,{"$f":"IF(ISERROR(VLOOKUP(E59,Crop!$AC$3:$AD$70,2,FALSE)),0,VLOOKUP(E59,Crop!$AC$3:$AD$70,2,FALSE))","v":7},{"$f":"IF(ISERROR(HLOOKUP($D$5,Kc!$C$3:$AI$57,upland_rain!F59+3,FALSE)),0,HLOOKUP($D$5,Kc!$C$3:$AI$57,upland_rain!F59+3,FALSE))","v":1.61},0,0,0,0,0,0,0,0,0,0,0,0,0,0,0,0,0,0,0,0,0,0,{"$f":"VLOOKUP($D$7,ETo!$B$4:$P$88,MONTH(D59)+2,FALSE)/4","v":{"$error":"#N/A"}},{"$f":"IF(AC59*AD59=0,0,(AC59*AD59)+$E$10)","v":{"$error":"#N/A"}},{"$f":"AE59*AB59*1.6","v":{"$error":"#N/A"}},0,0,{"$f":"AF59+AH59","v":{"$error":"#N/A"}},{"$f":"VLOOKUP(MONTH(D59),[0]!rainforuplandcrop,4)/1000*AB59*1600*7","v":{"$error":"#N/A"}}]
[null,{"$f":"C59+1","v":"2009-06-20"},{"$f":"B60+6","v":"2009-06-26"},"2009-06-26",34,{"$f":"IF(ISERROR(VLOOKUP(E60,Crop!$AC$3:$AD$70,2,FALSE)),0,VLOOKUP(E60,Crop!$AC$3:$AD$70,2,FALSE))","v":8},{"$f":"IF(ISERROR(HLOOKUP($D$5,Kc!$C$3:$AI$57,upland_rain!F60+3,FALSE)),0,HLOOKUP($D$5,Kc!$C$3:$AI$57,upland_rain!F60+3,FALSE))","v":1.63},0,0,0,0,0,0,0,0,0,0,0,0,0,0,0,0,0,0,0,0,0,0,{"$f":"VLOOKUP($D$7,ETo!$B$4:$P$88,MONTH(D60)+2,FALSE)/4","v":{"$error":"#N/A"}},{"$error":"#N/A"},{"$error":"#N/A"},0,0,{"$error":"#N/A"},{"$f":"VLOOKUP(MONTH(D60),[0]!rainforuplandcrop,4)/1000*AB60*1600*7","v":{"$error":"#N/A"}}]
[null,"2009-06-27","2009-07-03","2009-07-03",35,{"$f":"IF(ISERROR(VLOOKUP(E61,Crop!$AC$3:$AD$70,2,FALSE)),0,VLOOKUP(E61,Crop!$AC$3:$AD$70,2,FALSE))","v":9},{"$f":"IF(ISERROR(HLOOKUP($D$5,Kc!$C$3:$AI$57,upland_rain!F61+3,FALSE)),0,HLOOKUP($D$5,Kc!$C$3:$AI$57,upland_rain!F61+3,FALSE))","v":1.58},0,0,0,0,0,0,0,0,0,0,0,0,0,0,0,0,0,0,0,0,0,0,{"$f":"VLOOKUP($D$7,ETo!$B$4:$P$88,MONTH(D61)+2,FALSE)/4","v":{"$error":"#N/A"}},{"$error":"#N/A"},{"$error":"#N/A"},0,0,{"$error":"#N/A"},{"$f":"VLOOKUP(MONTH(D61),[0]!rainforuplandcrop,4)/1000*AB61*1600*7","v":{"$error":"#N/A"}}]
[null,"2009-07-04","2009-07-10","2009-07-10",36,{"$f":"IF(ISERROR(VLOOKUP(E62,Crop!$AC$3:$AD$70,2,FALSE)),0,VLOOKUP(E62,Crop!$AC$3:$AD$70,2,FALSE))","v":10},{"$f":"IF(ISERROR(HLOOKUP($D$5,Kc!$C$3:$AI$57,upland_rain!F62+3,FALSE)),0,HLOOKUP($D$5,Kc!$C$3:$AI$57,upland_rain!F62+3,FALSE))","v":1.5},0,0,0,0,0,0,0,0,0,0,0,0,0,0,0,0,0,0,0,0,0,0,{"$f":"VLOOKUP($D$7,ETo!$B$4:$P$88,MONTH(D62)+2,FALSE)/4","v":{"$error":"#N/A"}},{"$error":"#N/A"},{"$error":"#N/A"},0,0,{"$error":"#N/A"},{"$f":"VLOOKUP(MONTH(D62),[0]!rainforuplandcrop,4)/1000*AB62*1600*7","v":{"$error":"#N/A"}}]
[null,"2009-07-11","2009-07-17","2009-07-17",37,{"$f":"IF(ISERROR(VLOOKUP(E63,Crop!$AC$3:$AD$70,2,FALSE)),0,VLOOKUP(E63,Crop!$AC$3:$AD$70,2,FALSE))","v":11},{"$f":"IF(ISERROR(HLOOKUP($D$5,Kc!$C$3:$AI$57,upland_rain!F63+3,FALSE)),0,HLOOKUP($D$5,Kc!$C$3:$AI$57,upland_rain!F63+3,FALSE))","v":1.38},0,0,0,0,0,0,0,0,0,0,0,0,0,0,0,0,0,0,0,0,0,0,{"$f":"VLOOKUP($D$7,ETo!$B$4:$P$88,MONTH(D63)+2,FALSE)/4","v":{"$error":"#N/A"}},{"$error":"#N/A"},{"$error":"#N/A"},0,0,{"$error":"#N/A"},{"$f":"VLOOKUP(MONTH(D63),[0]!rainforuplandcrop,4)/1000*AB63*1600*7","v":{"$error":"#N/A"}}]
[null,"2009-07-18","2009-07-24","2009-07-24",38,{"$f":"IF(ISERROR(VLOOKUP(E64,Crop!$AC$3:$AD$70,2,FALSE)),0,VLOOKUP(E64,Crop!$AC$3:$AD$70,2,FALSE))","v":12},{"$f":"IF(ISERROR(HLOOKUP($D$5,Kc!$C$3:$AI$57,upland_rain!F64+3,FALSE)),0,HLOOKUP($D$5,Kc!$C$3:$AI$57,upland_rain!F64+3,FALSE))","v":1.1499999999999999},0,0,0,0,0,0,0,0,0,0,0,0,0,0,0,0,0,0,0,0,0,0,{"$f":"VLOOKUP($D$7,ETo!$B$4:$P$88,MONTH(D64)+2,FALSE)/4","v":{"$error":"#N/A"}},{"$error":"#N/A"},{"$error":"#N/A"},0,0,{"$error":"#N/A"},{"$f":"VLOOKUP(MONTH(D64),[0]!rainforuplandcrop,4)/1000*AB64*1600*7","v":{"$error":"#N/A"}}]
[null,"2009-07-25","2009-07-31","2009-07-31",39,{"$f":"IF(ISERROR(VLOOKUP(E65,Crop!$AC$3:$AD$70,2,FALSE)),0,VLOOKUP(E65,Crop!$AC$3:$AD$70,2,FALSE))","v":13},{"$f":"IF(ISERROR(HLOOKUP($D$5,Kc!$C$3:$AI$57,upland_rain!F65+3,FALSE)),0,HLOOKUP($D$5,Kc!$C$3:$AI$57,upland_rain!F65+3,FALSE))","v":0.9},0,0,0,0,0,0,0,0,0,0,0,0,0,0,0,0,0,0,0,0,0,0,{"$f":"VLOOKUP($D$7,ETo!$B$4:$P$88,MONTH(D65)+2,FALSE)/4","v":{"$error":"#N/A"}},{"$error":"#N/A"},{"$error":"#N/A"},0,0,{"$error":"#N/A"},{"$f":"VLOOKUP(MONTH(D65),[0]!rainforuplandcrop,4)/1000*AB65*1600*7","v":{"$error":"#N/A"}}]
[null,"2009-08-01","2009-08-07","2009-08-07",40,{"$f":"IF(ISERROR(VLOOKUP(E66,Crop!$AC$3:$AD$70,2,FALSE)),0,VLOOKUP(E66,Crop!$AC$3:$AD$70,2,FALSE))","v":14},{"$f":"IF(ISERROR(HLOOKUP($D$5,Kc!$C$3:$AI$57,upland_rain!F66+3,FALSE)),0,HLOOKUP($D$5,Kc!$C$3:$AI$57,upland_rain!F66+3,FALSE))","v":0.67},0,0,0,0,0,0,0,0,0,0,0,0,0,0,0,0,0,0,0,0,0,0,{"$f":"VLOOKUP($D$7,ETo!$B$4:$P$88,MONTH(D66)+2,FALSE)/4","v":{"$error":"#N/A"}},{"$error":"#N/A"},{"$error":"#N/A"},0,0,{"$error":"#N/A"},{"$f":"VLOOKUP(MONTH(D66),[0]!rainforuplandcrop,4)/1000*AB66*1600*7","v":{"$error":"#N/A"}}]
[null,"2009-08-08","2009-08-14","2009-08-14",41,{"$f":"IF(ISERROR(VLOOKUP(E67,Crop!$AC$3:$AD$70,2,FALSE)),0,VLOOKUP(E67,Crop!$AC$3:$AD$70,2,FALSE))","v":0},{"$f":"IF(ISERROR(HLOOKUP($D$5,Kc!$C$3:$AI$57,upland_rain!F67+3,FALSE)),0,HLOOKUP($D$5,Kc!$C$3:$AI$57,upland_rain!F67+3,FALSE))","v":0},0,0,0,{"$f":"IF(J66>0,IF(K$26>$E$9,0,VLOOKUP(K$26,$F$3:$G$23,2,FALSE)),0)","v":0},0,0,0,0,0,0,0,0,0,{"$f":"IF(T66>0,IF(U$26>$E$9,0,VLOOKUP(U$26,$F$3:$G$23,2,FALSE)),0)","v":0},0,0,0,0,0,0,0,0,{"$f":"VLOOKUP($D$7,ETo!$B$4:$P$88,MONTH(D67)+2,FALSE)/4","v":{"$error":"#N/A"}},{"$error":"#N/A"},{"$error":"#N/A"},0,0,{"$error":"#N/A"},{"$f":"VLOOKUP(MONTH(D67),[0]!rainforuplandcrop,4)/1000*AB67*1600*7","v":{"$error":"#N/A"}}]
[null,"2009-08-15","2009-08-21","2009-08-21",42,{"$f":"IF(ISERROR(VLOOKUP(E68,Crop!$AC$3:$AD$70,2,FALSE)),0,VLOOKUP(E68,Crop!$AC$3:$AD$70,2,FALSE))","v":0},{"$f":"IF(ISERROR(HLOOKUP($D$5,Kc!$C$3:$AI$57,upland_rain!F68+3,FALSE)),0,HLOOKUP($D$5,Kc!$C$3:$AI$57,upland_rain!F68+3,FALSE))","v":0},0,0,0,0,0,0,0,0,0,0,0,0,0,0,0,0,0,0,0,0,0,0,{"$f":"VLOOKUP($D$7,ETo!$B$4:$P$88,MONTH(D68)+2,FALSE)/4","v":{"$error":"#N/A"}},{"$error":"#N/A"},{"$error":"#N/A"},0,0,{"$error":"#N/A"},{"$f":"VLOOKUP(MONTH(D68),[0]!rainforuplandcrop,4)/1000*AB68*1600*7","v":{"$error":"#N/A"}}]
[null,"2009-08-22","2009-08-28","2009-08-28",43,{"$f":"IF(ISERROR(VLOOKUP(E69,Crop!$AC$3:$AD$70,2,FALSE)),0,VLOOKUP(E69,Crop!$AC$3:$AD$70,2,FALSE))","v":0},{"$f":"IF(ISERROR(HLOOKUP($D$5,Kc!$C$3:$AI$57,upland_rain!F69+3,FALSE)),0,HLOOKUP($D$5,Kc!$C$3:$AI$57,upland_rain!F69+3,FALSE))","v":0},0,0,0,0,0,0,0,0,0,0,0,0,0,0,0,0,0,0,0,0,0,0,{"$f":"VLOOKUP($D$7,ETo!$B$4:$P$88,MONTH(D69)+2,FALSE)/4","v":{"$error":"#N/A"}},{"$error":"#N/A"},{"$error":"#N/A"},0,0,{"$error":"#N/A"},{"$f":"VLOOKUP(MONTH(D69),[0]!rainforuplandcrop,4)/1000*AB69*1600*7","v":{"$error":"#N/A"}}]
[null,"2009-08-29","2009-09-04","2009-09-04",44,{"$f":"IF(ISERROR(VLOOKUP(E70,Crop!$AC$3:$AD$70,2,FALSE)),0,VLOOKUP(E70,Crop!$AC$3:$AD$70,2,FALSE))","v":0},{"$f":"IF(ISERROR(HLOOKUP($D$5,Kc!$C$3:$AI$57,upland_rain!F70+3,FALSE)),0,HLOOKUP($D$5,Kc!$C$3:$AI$57,upland_rain!F70+3,FALSE))","v":0},0,0,0,0,0,0,0,0,0,0,0,0,0,0,0,0,0,0,0,0,0,0,{"$f":"VLOOKUP($D$7,ETo!$B$4:$P$88,MONTH(D70)+2,FALSE)/4","v":{"$error":"#N/A"}},{"$error":"#N/A"},{"$error":"#N/A"},0,0,{"$error":"#N/A"},{"$f":"VLOOKUP(MONTH(D70),[0]!rainforuplandcrop,4)/1000*AB70*1600*7","v":{"$error":"#N/A"}}]
[null,"2009-09-05","2009-09-11","2009-09-11",45,{"$f":"IF(ISERROR(VLOOKUP(E71,Crop!$AC$3:$AD$70,2,FALSE)),0,VLOOKUP(E71,Crop!$AC$3:$AD$70,2,FALSE))","v":0},{"$f":"IF(ISERROR(HLOOKUP($D$5,Kc!$C$3:$AI$57,upland_rain!F71+3,FALSE)),0,HLOOKUP($D$5,Kc!$C$3:$AI$57,upland_rain!F71+3,FALSE))","v":0},0,0,0,0,0,0,0,0,0,0,0,0,0,0,0,0,0,0,0,0,0,0,{"$f":"VLOOKUP($D$7,ETo!$B$4:$P$88,MONTH(D71)+2,FALSE)/4","v":{"$error":"#N/A"}},{"$error":"#N/A"},{"$error":"#N/A"},0,0,{"$error":"#N/A"},{"$f":"VLOOKUP(MONTH(D71),[0]!rainforuplandcrop,4)/1000*AB71*1600*7","v":{"$error":"#N/A"}}]
[null,"2009-09-12","2009-09-18","2009-09-18",46,{"$f":"IF(ISERROR(VLOOKUP(E72,Crop!$AC$3:$AD$70,2,FALSE)),0,VLOOKUP(E72,Crop!$AC$3:$AD$70,2,FALSE))","v":0},{"$f":"IF(ISERROR(HLOOKUP($D$5,Kc!$C$3:$AI$57,upland_rain!F72+3,FALSE)),0,HLOOKUP($D$5,Kc!$C$3:$AI$57,upland_rain!F72+3,FALSE))","v":0},0,0,0,0,0,0,0,0,0,0,0,0,0,0,0,0,0,0,0,0,0,0,{"$f":"VLOOKUP($D$7,ETo!$B$4:$P$88,MONTH(D72)+2,FALSE)/4","v":{"$error":"#N/A"}},{"$error":"#N/A"},{"$error":"#N/A"},0,0,{"$error":"#N/A"},{"$f":"VLOOKUP(MONTH(D72),[0]!rainforuplandcrop,4)/1000*AB72*1600*7","v":{"$error":"#N/A"}}]
[null,"2009-09-19","2009-09-25","2009-09-25",47,{"$f":"IF(ISERROR(VLOOKUP(E73,Crop!$AC$3:$AD$70,2,FALSE)),0,VLOOKUP(E73,Crop!$AC$3:$AD$70,2,FALSE))","v":0},{"$f":"IF(ISERROR(HLOOKUP($D$5,Kc!$C$3:$AI$57,upland_rain!F73+3,FALSE)),0,HLOOKUP($D$5,Kc!$C$3:$AI$57,upland_rain!F73+3,FALSE))","v":0},0,0,0,0,0,0,0,0,0,0,0,0,0,0,0,0,0,0,0,0,0,0,{"$f":"VLOOKUP($D$7,ETo!$B$4:$P$88,MONTH(D73)+2,FALSE)/4","v":{"$error":"#N/A"}},{"$error":"#N/A"},{"$error":"#N/A"},0,0,{"$error":"#N/A"},{"$f":"VLOOKUP(MONTH(D73),[0]!rainforuplandcrop,4)/1000*AB73*1600*7","v":{"$error":"#N/A"}}]
[null,"2009-09-26","2009-10-02","2009-10-02",48,{"$f":"IF(ISERROR(VLOOKUP(E74,Crop!$AC$3:$AD$70,2,FALSE)),0,VLOOKUP(E74,Crop!$AC$3:$AD$70,2,FALSE))","v":0},{"$f":"IF(ISERROR(HLOOKUP($D$5,Kc!$C$3:$AI$57,upland_rain!F74+3,FALSE)),0,HLOOKUP($D$5,Kc!$C$3:$AI$57,upland_rain!F74+3,FALSE))","v":0},0,0,0,0,0,0,0,0,0,0,0,0,0,0,0,0,0,0,0,0,0,0,{"$f":"VLOOKUP($D$7,ETo!$B$4:$P$88,MONTH(D74)+2,FALSE)/4","v":{"$error":"#N/A"}},{"$error":"#N/A"},{"$error":"#N/A"},0,0,{"$error":"#N/A"},{"$f":"VLOOKUP(MONTH(D74),[0]!rainforuplandcrop,4)/1000*AB74*1600*7","v":{"$error":"#N/A"}}]
[null,"2009-10-03","2009-10-09","2009-10-09",49,{"$f":"IF(ISERROR(VLOOKUP(E75,Crop!$AC$3:$AD$70,2,FALSE)),0,VLOOKUP(E75,Crop!$AC$3:$AD$70,2,FALSE))","v":0},{"$f":"IF(ISERROR(HLOOKUP($D$5,Kc!$C$3:$AI$57,upland_rain!F75+3,FALSE)),0,HLOOKUP($D$5,Kc!$C$3:$AI$57,upland_rain!F75+3,FALSE))","v":0},0,0,0,0,0,0,0,0,0,0,0,0,0,0,0,0,0,0,0,0,0,0,{"$f":"VLOOKUP($D$7,ETo!$B$4:$P$88,MONTH(D75)+2,FALSE)/4","v":{"$error":"#N/A"}},{"$error":"#N/A"},{"$error":"#N/A"},0,0,{"$error":"#N/A"},{"$f":"VLOOKUP(MONTH(D75),[0]!rainforuplandcrop,4)/1000*AB75*1600*7","v":{"$error":"#N/A"}}]
[null,"2009-10-10","2009-10-16","2009-10-16",50,{"$f":"IF(ISERROR(VLOOKUP(E76,Crop!$AC$3:$AD$70,2,FALSE)),0,VLOOKUP(E76,Crop!$AC$3:$AD$70,2,FALSE))","v":0},{"$f":"IF(ISERROR(HLOOKUP($D$5,Kc!$C$3:$AI$57,upland_rain!F76+3,FALSE)),0,HLOOKUP($D$5,Kc!$C$3:$AI$57,upland_rain!F76+3,FALSE))","v":0},0,0,0,0,0,0,0,0,0,0,0,0,0,0,0,0,0,0,0,0,0,0,{"$f":"VLOOKUP($D$7,ETo!$B$4:$P$88,MONTH(D76)+2,FALSE)/4","v":{"$error":"#N/A"}},{"$error":"#N/A"},{"$error":"#N/A"},0,0,{"$error":"#N/A"},{"$f":"VLOOKUP(MONTH(D76),[0]!rainforuplandcrop,4)/1000*AB76*1600*7","v":{"$error":"#N/A"}}]
[null,"2009-10-17","2009-10-23","2009-10-23",51,{"$f":"IF(ISERROR(VLOOKUP(E77,Crop!$AC$3:$AD$70,2,FALSE)),0,VLOOKUP(E77,Crop!$AC$3:$AD$70,2,FALSE))","v":0},{"$f":"IF(ISERROR(HLOOKUP($D$5,Kc!$C$3:$AI$57,upland_rain!F77+3,FALSE)),0,HLOOKUP($D$5,Kc!$C$3:$AI$57,upland_rain!F77+3,FALSE))","v":0},0,0,0,0,0,0,0,0,0,0,0,0,0,0,0,0,0,0,0,0,0,0,{"$f":"VLOOKUP($D$7,ETo!$B$4:$P$88,MONTH(D77)+2,FALSE)/4","v":{"$error":"#N/A"}},{"$error":"#N/A"},{"$error":"#N/A"},0,0,{"$error":"#N/A"},{"$f":"VLOOKUP(MONTH(D77),[0]!rainforuplandcrop,4)/1000*AB77*1600*7","v":{"$error":"#N/A"}}]
[null,"2009-10-24","2009-10-30","2009-10-30",52,{"$f":"IF(ISERROR(VLOOKUP(E78,Crop!$AC$3:$AD$70,2,FALSE)),0,VLOOKUP(E78,Crop!$AC$3:$AD$70,2,FALSE))","v":0},{"$f":"IF(ISERROR(HLOOKUP($D$5,Kc!$C$3:$AI$57,upland_rain!F78+3,FALSE)),0,HLOOKUP($D$5,Kc!$C$3:$AI$57,upland_rain!F78+3,FALSE))","v":0},0,0,0,0,0,0,0,0,0,0,0,0,0,0,0,0,0,0,0,0,0,0,{"$f":"VLOOKUP($D$7,ETo!$B$4:$P$88,MONTH(D78)+2,FALSE)/4","v":{"$error":"#N/A"}},{"$error":"#N/A"},{"$error":"#N/A"},0,0,{"$error":"#N/A"},{"$f":"VLOOKUP(MONTH(D78),[0]!rainforuplandcrop,4)/1000*AB78*1600*7","v":{"$error":"#N/A"}}]
[null,null,null,null,null,null,null,null,null,null,null,null,null,null,null,null,null,null,null,null,null,null,null,null,null,null,null,null,null,null,null,null,null,null,{"$f":"SUM(AI27:AI78)","v":{"$error":"#N/A"}},{"$f":"SUM(AJ27:AJ78)","v":{"$error":"#N/A"}}]

{"sheet":"plant","index":7,"n_rows":68,"n_cols":26,"rows_kept":68,"cut":false,"hidden":false,"merged":[]}
[null,"ตารางแสดงรายละเอียดการคำนวณความต้องการน้ำของพืช"]
[null,null,null,null,null,"สัปดาห์","พื้นที่ (ไร่)"]
[null,null,null,null,null,1,{"$f":"+E8","v":0}]
[null,"จังหวัด",null,{"$f":"+fill_data!C4","v":0},null,{"$f":"IF(F3=\"\",\"\",IF(F3+1<=$E$9,F3+1,\"\"))","v":""}]
[null,"ชนิดพืช",null,{"$f":"+fill_data!C54","v":"ยางพารา**"},null,""]
[null,"สัปดาห์เริ่มต้น",null,{"$f":"VLOOKUP(D5,Crop!$B$3:$C$35,2,FALSE)","v":52},1,""]
[null,"ใช้ค่า ETo ของจังหวัด",null,{"$f":"VLOOKUP(D4,Prv!$D$3:$E$78,2,FALSE)","v":{"$error":"#N/A"}},null,""]
[null,"พื้นที่โครงการ, ไร่",null,null,{"$f":"+fill_data!D55","v":0},""]
[null,"เวลาปลูกจนเต็มพื้นที่, สัปดาห์",null,null,1,""]
[null,"ปริมาณน้ำรั่วซึม, มม./สัปดาห์",null,null,{"$f":"+fill_data!D6","v":0},"",null,null,"*ภาคกลาง กำหนดให้ใช้ 1 มม./วัน ส่วนภาคอื่นๆใช้ 2 มม./วัน"]
[null,"ปริมาณน้ำเตรียมแปลง, มม./สัปดาห์",null,null,null,"",null,null,"*กำหนดระยะเวลาในการเตรียมแปลง 1 สัปดาห์"]
[null,null,null,null,null,""]
[null,"(1)","(2)","(3)","(4)","(5)","(6)","(7.1)","(7.2)","(7.3)","(7.4)","(7.5)","(7.6)","(7.7)","(7.8)","(7.9)","(7.10)","(8)","(9)","(10)","(11)","(12)","(13)","(14)","(15)"]
[null,"ช่วงเวลาสัปดาห์",null,"เดือน","สัปดาห์","สัปดาห์","Kc","พื้นที่เพาะปลูกในแต่ละสัปดาห์ (ไร่)",null,null,null,null,null,null,null,null,null,"รวมพื้นที่","Weighted","ETo","ความต้องการน้ำ",null,"ปริมาณน้ำเตรียมแปลง",null,"ความต้องการน้ำ","ฝนใช้การ"]
[null,"เริ่มต้น","สิ้นสุด",null,null,"ของ Kc",null,1,2,3,4,5,6,7,8,9,10,"(ไร่)","Kc",null,"(มม.)","(ลบ.ม.)","(ไร่)","(ลบ.ม.)","(ลบ.ม.)","(ลบ.ม.)"]
[null,"2008-11-01",{"$f":"B16+6","v":"2008-11-07"},{"$f":"+C16","v":"2008-11-07"},1,{"$f":"IF(ISERROR(VLOOKUP(E16,Crop!$S$3:$T$70,2,FALSE)),0,VLOOKUP(E16,Crop!$S$3:$T$70,2,FALSE))","v":1},{"$f":"IF(ISERROR(HLOOKUP($D$5,Kc!$C$3:$AI$57,plant!F16+3,FALSE)),0,HLOOKUP($D$5,Kc!$C$3:$AI$57,plant!F16+3,FALSE))","v":2.19},{"$f":"IF(G16>0,IF(H$15>$E$9,0,VLOOKUP(H$15,$F$3:$G$12,2,FALSE)),0)","v":0},{"$f":"IF(H67>0,IF(I$15>$E$9,0,VLOOKUP(I$15,$F$3:$G$12,2,FALSE)),0)","v":0},0,0,0,0,0,0,0,0,{"$f":"SUM(H16:Q16)","v":0},{"$f":"IF(ISERROR((H16*G16+I16*G67+J16*G66+K16*G65+L16*G64+M16*G63+N16*G62+O16*G61+P16*G60+Q16*G59)/R16),0,(H16*G16+I16*G67+J16*G66+K16*G65+L16*G64+M16*G63+N16*G62+O16*G61+P16*G60+Q16*G59)/R16)","v":0},{"$f":"VLOOKUP($D$7,ETo!$B$4:$P$88,MONTH(D16)+2,FALSE)/4","v":{"$error":"#N/A"}},{"$f":"IF(S16*T16=0,0,(S16*T16)+$E$10)","v":{"$error":"#N/A"}},{"$f":"U16*R16*1.6*0.45","v":{"$error":"#N/A"}},{"$f":"IF(ISERROR(INDEX(H16:L16,1,F16)),0,INDEX(H16:L16,1,F16))","v":0},{"$f":"W16*$E$11*1.6","v":0},{"$f":"V16+X16","v":{"$error":"#N/A"}},{"$f":"VLOOKUP(MONTH(D16),[0]!rainforuplandcrop,4)/1000*R16*1600*7","v":{"$error":"#N/A"}}]
[null,{"$f":"C16+1","v":"2008-11-08"},{"$f":"B17+6","v":"2008-11-14"},{"$f":"+C17","v":"2008-11-14"},2,{"$f":"IF(ISERROR(VLOOKUP(E17,Crop!$S$3:$T$70,2,FALSE)),0,VLOOKUP(E17,Crop!$S$3:$T$70,2,FALSE))","v":2},{"$f":"IF(ISERROR(HLOOKUP($D$5,Kc!$C$3:$AI$57,plant!F17+3,FALSE)),0,HLOOKUP($D$5,Kc!$C$3:$AI$57,plant!F17+3,FALSE))","v":2.19},0,{"$f":"IF(H16>0,IF(I$15>$E$9,0,VLOOKUP(I$15,$F$3:$G$12,2,FALSE)),0)","v":0},0,0,0,0,0,0,0,0,0,{"$f":"IF(ISERROR((H17*G17+I17*G16+J17*G67+K17*G66+L17*G65+M17*G64+N17*G63+O17*G62+P17*G61+Q17*G60)/R17),0,(H17*G17+I17*G16+J17*G67+K17*G66+L17*G65+M17*G64+N17*G63+O17*G62+P17*G61+Q17*G60)/R17)","v":0},{"$f":"VLOOKUP($D$7,ETo!$B$4:$P$88,MONTH(D17)+2,FALSE)/4","v":{"$error":"#N/A"}},{"$error":"#N/A"},{"$error":"#N/A"},0,0,{"$error":"#N/A"},{"$f":"VLOOKUP(MONTH(D17),[0]!rainforuplandcrop,4)/1000*R17*1600*7","v":{"$error":"#N/A"}}]
[null,"2008-11-15","2008-11-21",{"$f":"+C18","v":"2008-11-21"},3,{"$f":"IF(ISERROR(VLOOKUP(E18,Crop!$S$3:$T$70,2,FALSE)),0,VLOOKUP(E18,Crop!$S$3:$T$70,2,FALSE))","v":3},{"$f":"IF(ISERROR(HLOOKUP($D$5,Kc!$C$3:$AI$57,plant!F18+3,FALSE)),0,HLOOKUP($D$5,Kc!$C$3:$AI$57,plant!F18+3,FALSE))","v":2.19},0,0,0,0,0,0,0,0,0,0,0,{"$f":"IF(ISERROR((H18*G18+I18*G17+J18*G16+K18*G67+L18*G66+M18*G65+N18*G64+O18*G63+P18*G62+Q18*G61)/R18),0,(H18*G18+I18*G17+J18*G16+K18*G67+L18*G66+M18*G65+N18*G64+O18*G63+P18*G62+Q18*G61)/R18)","v":0},{"$f":"VLOOKUP($D$7,ETo!$B$4:$P$88,MONTH(D18)+2,FALSE)/4","v":{"$error":"#N/A"}},{"$error":"#N/A"},{"$error":"#N/A"},0,0,{"$error":"#N/A"},{"$f":"VLOOKUP(MONTH(D18),[0]!rainforuplandcrop,4)/1000*R18*1600*7","v":{"$error":"#N/A"}}]
[null,"2008-11-22","2008-11-28","2008-11-28",4,{"$f":"IF(ISERROR(VLOOKUP(E19,Crop!$S$3:$T$70,2,FALSE)),0,VLOOKUP(E19,Crop!$S$3:$T$70,2,FALSE))","v":4},{"$f":"IF(ISERROR(HLOOKUP($D$5,Kc!$C$3:$AI$57,plant!F19+3,FALSE)),0,HLOOKUP($D$5,Kc!$C$3:$AI$57,plant!F19+3,FALSE))","v":2.19},0,0,0,0,0,0,0,0,0,0,0,{"$f":"IF(ISERROR((H19*G19+I19*G18+J19*G17+K19*G16+L19*G67+M19*G66+N19*G65+O19*G64+P19*G63+Q19*G62)/R19),0,(H19*G19+I19*G18+J19*G17+K19*G16+L19*G67+M19*G66+N19*G65+O19*G64+P19*G63+Q19*G62)/R19)","v":0},{"$f":"VLOOKUP($D$7,ETo!$B$4:$P$88,MONTH(D19)+2,FALSE)/4","v":{"$error":"#N/A"}},{"$error":"#N/A"},{"$error":"#N/A"},0,0,{"$error":"#N/A"},{"$f":"VLOOKUP(MONTH(D19),[0]!rainforuplandcrop,4)/1000*R19*1600*7","v":{"$error":"#N/A"}}]
[null,"2008-11-29","2008-12-05","2008-12-05",5,{"$f":"IF(ISERROR(VLOOKUP(E20,Crop!$S$3:$T$70,2,FALSE)),0,VLOOKUP(E20,Crop!$S$3:$T$70,2,FALSE))","v":5},{"$f":"IF(ISERROR(HLOOKUP($D$5,Kc!$C$3:$AI$57,plant!F20+3,FALSE)),0,HLOOKUP($D$5,Kc!$C$3:$AI$57,plant!F20+3,FALSE))","v":2.19},0,0,0,0,0,0,0,0,0,0,0,{"$f":"IF(ISERROR((H20*G20+I20*G19+J20*G18+K20*G17+L20*G16+M20*G67+N20*G66+O20*G65+P20*G64+Q20*G63)/R20),0,(H20*G20+I20*G19+J20*G18+K20*G17+L20*G16+M20*G67+N20*G66+O20*G65+P20*G64+Q20*G63)/R20)","v":0},{"$f":"VLOOKUP($D$7,ETo!$B$4:$P$88,MONTH(D20)+2,FALSE)/4","v":{"$error":"#N/A"}},{"$error":"#N/A"},{"$error":"#N/A"},0,0,{"$error":"#N/A"},{"$f":"VLOOKUP(MONTH(D20),[0]!rainforuplandcrop,4)/1000*R20*1600*7","v":{"$error":"#N/A"}}]
[null,"2008-12-06","2008-12-12","2008-12-12",6,{"$f":"IF(ISERROR(VLOOKUP(E21,Crop!$S$3:$T$70,2,FALSE)),0,VLOOKUP(E21,Crop!$S$3:$T$70,2,FALSE))","v":6},{"$f":"IF(ISERROR(HLOOKUP($D$5,Kc!$C$3:$AI$57,plant!F21+3,FALSE)),0,HLOOKUP($D$5,Kc!$C$3:$AI$57,plant!F21+3,FALSE))","v":2.19},0,0,0,0,0,0,0,0,0,0,0,{"$f":"IF(ISERROR((H21*G21+I21*G20+J21*G19+K21*G18+L21*G17+M21*G16+N21*G67+O21*G66+P21*G65+Q21*G64)/R21),0,(H21*G21+I21*G20+J21*G19+K21*G18+L21*G17+M21*G16+N21*G67+O21*G66+P21*G65+Q21*G64)/R21)","v":0},{"$f":"VLOOKUP($D$7,ETo!$B$4:$P$88,MONTH(D21)+2,FALSE)/4","v":{"$error":"#N/A"}},{"$error":"#N/A"},{"$error":"#N/A"},0,0,{"$error":"#N/A"},{"$f":"VLOOKUP(MONTH(D21),[0]!rainforuplandcrop,4)/1000*R21*1600*7","v":{"$error":"#N/A"}}]
[null,"2008-12-13","2008-12-19","2008-12-19",7,{"$f":"IF(ISERROR(VLOOKUP(E22,Crop!$S$3:$T$70,2,FALSE)),0,VLOOKUP(E22,Crop!$S$3:$T$70,2,FALSE))","v":7},{"$f":"IF(ISERROR(HLOOKUP($D$5,Kc!$C$3:$AI$57,plant!F22+3,FALSE)),0,HLOOKUP($D$5,Kc!$C$3:$AI$57,plant!F22+3,FALSE))","v":2.19},0,0,0,0,0,0,0,0,0,0,0,{"$f":"IF(ISERROR((H22*G22+I22*G21+J22*G20+K22*G19+L22*G18+M22*G17+N22*G16+O22*G67+P22*G66+Q22*G65)/R22),0,(H22*G22+I22*G21+J22*G20+K22*G19+L22*G18+M22*G17+N22*G16+O22*G67+P22*G66+Q22*G65)/R22)","v":0},{"$f":"VLOOKUP($D$7,ETo!$B$4:$P$88,MONTH(D22)+2,FALSE)/4","v":{"$error":"#N/A"}},{"$error":"#N/A"},{"$error":"#N/A"},0,0,{"$error":"#N/A"},{"$f":"VLOOKUP(MONTH(D22),[0]!rainforuplandcrop,4)/1000*R22*1600*7","v":{"$error":"#N/A"}}]
[null,"2008-12-20","2008-12-26","2008-12-26",8,{"$f":"IF(ISERROR(VLOOKUP(E23,Crop!$S$3:$T$70,2,FALSE)),0,VLOOKUP(E23,Crop!$S$3:$T$70,2,FALSE))","v":8},{"$f":"IF(ISERROR(HLOOKUP($D$5,Kc!$C$3:$AI$57,plant!F23+3,FALSE)),0,HLOOKUP($D$5,Kc!$C$3:$AI$57,plant!F23+3,FALSE))","v":2.19},0,0,0,0,0,0,0,0,0,0,0,{"$f":"IF(ISERROR((H23*G23+I23*G22+J23*G21+K23*G20+L23*G19+M23*G18+N23*G17+O23*G16+P23*G67+Q23*G66)/R23),0,(H23*G23+I23*G22+J23*G21+K23*G20+L23*G19+M23*G18+N23*G17+O23*G16+P23*G67+Q23*G66)/R23)","v":0},{"$f":"VLOOKUP($D$7,ETo!$B$4:$P$88,MONTH(D23)+2,FALSE)/4","v":{"$error":"#N/A"}},{"$error":"#N/A"},{"$error":"#N/A"},0,0,{"$error":"#N/A"},{"$f":"VLOOKUP(MONTH(D23),[0]!rainforuplandcrop,4)/1000*R23*1600*7","v":{"$error":"#N/A"}}]
[null,"2008-12-27","2009-01-02","2009-01-02",9,{"$f":"IF(ISERROR(VLOOKUP(E24,Crop!$S$3:$T$70,2,FALSE)),0,VLOOKUP(E24,Crop!$S$3:$T$70,2,FALSE))","v":9},{"$f":"IF(ISERROR(HLOOKUP($D$5,Kc!$C$3:$AI$57,plant!F24+3,FALSE)),0,HLOOKUP($D$5,Kc!$C$3:$AI$57,plant!F24+3,FALSE))","v":2.19},0,0,0,0,0,0,0,0,0,0,0,{"$f":"IF(ISERROR((H24*G24+I24*G23+J24*G22+K24*G21+L24*G20+M24*G19+N24*G18+O24*G17+P24*G16+Q24*G67)/R24),0,(H24*G24+I24*G23+J24*G22+K24*G21+L24*G20+M24*G19+N24*G18+O24*G17+P24*G16+Q24*G67)/R24)","v":0},{"$f":"VLOOKUP($D$7,ETo!$B$4:$P$88,MONTH(D24)+2,FALSE)/4","v":{"$error":"#N/A"}},{"$error":"#N/A"},{"$error":"#N/A"},0,0,{"$error":"#N/A"},{"$f":"VLOOKUP(MONTH(D24),[0]!rainforuplandcrop,4)/1000*R24*1600*7","v":{"$error":"#N/A"}}]
[null,"2009-01-03","2009-01-09","2009-01-09",10,{"$f":"IF(ISERROR(VLOOKUP(E25,Crop!$S$3:$T$70,2,FALSE)),0,VLOOKUP(E25,Crop!$S$3:$T$70,2,FALSE))","v":10},{"$f":"IF(ISERROR(HLOOKUP($D$5,Kc!$C$3:$AI$57,plant!F25+3,FALSE)),0,HLOOKUP($D$5,Kc!$C$3:$AI$57,plant!F25+3,FALSE))","v":2.19},0,0,0,0,0,0,0,0,0,0,0,{"$f":"IF(ISERROR((H25*G25+I25*G24+J25*G23+K25*G22+L25*G21+M25*G20+N25*G19+O25*G18+P25*G17+Q25*G16)/R25),0,(H25*G25+I25*G24+J25*G23+K25*G22+L25*G21+M25*G20+N25*G19+O25*G18+P25*G17+Q25*G16)/R25)","v":0},{"$f":"VLOOKUP($D$7,ETo!$B$4:$P$88,MONTH(D25)+2,FALSE)/4","v":{"$error":"#N/A"}},{"$error":"#N/A"},{"$error":"#N/A"},0,0,{"$error":"#N/A"},{"$f":"VLOOKUP(MONTH(D25),[0]!rainforuplandcrop,4)/1000*R25*1600*7","v":{"$error":"#N/A"}}]
[null,"2009-01-10","2009-01-16","2009-01-16",11,{"$f":"IF(ISERROR(VLOOKUP(E26,Crop!$S$3:$T$70,2,FALSE)),0,VLOOKUP(E26,Crop!$S$3:$T$70,2,FALSE))","v":11},{"$f":"IF(ISERROR(HLOOKUP($D$5,Kc!$C$3:$AI$57,plant!F26+3,FALSE)),0,HLOOKUP($D$5,Kc!$C$3:$AI$57,plant!F26+3,FALSE))","v":2.19},0,0,0,0,0,0,0,0,0,0,0,0,{"$f":"VLOOKUP($D$7,ETo!$B$4:$P$88,MONTH(D26)+2,FALSE)/4","v":{"$error":"#N/A"}},{"$error":"#N/A"},{"$error":"#N/A"},0,0,{"$error":"#N/A"},{"$f":"VLOOKUP(MONTH(D26),[0]!rainforuplandcrop,4)/1000*R26*1600*7","v":{"$error":"#N/A"}}]
[null,"2009-01-17","2009-01-23","2009-01-23",12,{"$f":"IF(ISERROR(VLOOKUP(E27,Crop!$S$3:$T$70,2,FALSE)),0,VLOOKUP(E27,Crop!$S$3:$T$70,2,FALSE))","v":12},{"$f":"IF(ISERROR(HLOOKUP($D$5,Kc!$C$3:$AI$57,plant!F27+3,FALSE)),0,HLOOKUP($D$5,Kc!$C$3:$AI$57,plant!F27+3,FALSE))","v":2.19},0,{"$f":"IF(H26>0,IF(I$15>$E$9,0,VLOOKUP(I$15,$F$3:$G$12,2,FALSE)),0)","v":0},0,0,0,0,0,0,0,0,0,0,{"$f":"VLOOKUP($D$7,ETo!$B$4:$P$88,MONTH(D27)+2,FALSE)/4","v":{"$error":"#N/A"}},{"$error":"#N/A"},{"$error":"#N/A"},0,0,{"$error":"#N/A"},{"$f":"VLOOKUP(MONTH(D27),[0]!rainforuplandcrop,4)/1000*R27*1600*7","v":{"$error":"#N/A"}}]
[null,"2009-01-24","2009-01-30","2009-01-30",13,{"$f":"IF(ISERROR(VLOOKUP(E28,Crop!$S$3:$T$70,2,FALSE)),0,VLOOKUP(E28,Crop!$S$3:$T$70,2,FALSE))","v":13},{"$f":"IF(ISERROR(HLOOKUP($D$5,Kc!$C$3:$AI$57,plant!F28+3,FALSE)),0,HLOOKUP($D$5,Kc!$C$3:$AI$57,plant!F28+3,FALSE))","v":2.19},0,0,0,0,0,0,0,0,0,0,0,0,{"$f":"VLOOKUP($D$7,ETo!$B$4:$P$88,MONTH(D28)+2,FALSE)/4","v":{"$error":"#N/A"}},{"$error":"#N/A"},{"$error":"#N/A"},0,0,{"$error":"#N/A"},{"$f":"VLOOKUP(MONTH(D28),[0]!rainforuplandcrop,4)/1000*R28*1600*7","v":{"$error":"#N/A"}}]
[null,"2009-01-31","2009-02-06","2009-02-06",14,{"$f":"IF(ISERROR(VLOOKUP(E29,Crop!$S$3:$T$70,2,FALSE)),0,VLOOKUP(E29,Crop!$S$3:$T$70,2,FALSE))","v":14},{"$f":"IF(ISERROR(HLOOKUP($D$5,Kc!$C$3:$AI$57,plant!F29+3,FALSE)),0,HLOOKUP($D$5,Kc!$C$3:$AI$57,plant!F29+3,FALSE))","v":2.19},0,0,0,0,0,0,0,0,0,0,0,0,{"$f":"VLOOKUP($D$7,ETo!$B$4:$P$88,MONTH(D29)+2,FALSE)/4","v":{"$error":"#N/A"}},{"$error":"#N/A"},{"$error":"#N/A"},0,0,{"$error":"#N/A"},{"$f":"VLOOKUP(MONTH(D29),[0]!rainforuplandcrop,4)/1000*R29*1600*7","v":{"$error":"#N/A"}}]
[null,"2009-02-07","2009-02-13","2009-02-13",15,{"$f":"IF(ISERROR(VLOOKUP(E30,Crop!$S$3:$T$70,2,FALSE)),0,VLOOKUP(E30,Crop!$S$3:$T$70,2,FALSE))","v":15},{"$f":"IF(ISERROR(HLOOKUP($D$5,Kc!$C$3:$AI$57,plant!F30+3,FALSE)),0,HLOOKUP($D$5,Kc!$C$3:$AI$57,plant!F30+3,FALSE))","v":2.19},0,0,0,0,0,0,0,0,0,0,0,0,{"$f":"VLOOKUP($D$7,ETo!$B$4:$P$88,MONTH(D30)+2,FALSE)/4","v":{"$error":"#N/A"}},{"$error":"#N/A"},{"$error":"#N/A"},0,0,{"$error":"#N/A"},{"$f":"VLOOKUP(MONTH(D30),[0]!rainforuplandcrop,4)/1000*R30*1600*7","v":{"$error":"#N/A"}}]
[null,"2009-02-14","2009-02-20","2009-02-20",16,{"$f":"IF(ISERROR(VLOOKUP(E31,Crop!$S$3:$T$70,2,FALSE)),0,VLOOKUP(E31,Crop!$S$3:$T$70,2,FALSE))","v":16},{"$f":"IF(ISERROR(HLOOKUP($D$5,Kc!$C$3:$AI$57,plant!F31+3,FALSE)),0,HLOOKUP($D$5,Kc!$C$3:$AI$57,plant!F31+3,FALSE))","v":2.19},0,0,0,0,0,0,0,0,0,0,0,0,{"$f":"VLOOKUP($D$7,ETo!$B$4:$P$88,MONTH(D31)+2,FALSE)/4","v":{"$error":"#N/A"}},{"$error":"#N/A"},{"$error":"#N/A"},0,0,{"$error":"#N/A"},{"$f":"VLOOKUP(MONTH(D31),[0]!rainforuplandcrop,4)/1000*R31*1600*7","v":{"$error":"#N/A"}}]
[null,"2009-02-21","2009-02-27","2009-02-27",17,{"$f":"IF(ISERROR(VLOOKUP(E32,Crop!$S$3:$T$70,2,FALSE)),0,VLOOKUP(E32,Crop!$S$3:$T$70,2,FALSE))","v":17},{"$f":"IF(ISERROR(HLOOKUP($D$5,Kc!$C$3:$AI$57,plant!F32+3,FALSE)),0,HLOOKUP($D$5,Kc!$C$3:$AI$57,plant!F32+3,FALSE))","v":2.19},0,0,0,0,0,0,0,0,0,0,0,0,{"$f":"VLOOKUP($D$7,ETo!$B$4:$P$88,MONTH(D32)+2,FALSE)/4","v":{"$error":"#N/A"}},{"$error":"#N/A"},{"$error":"#N/A"},0,0,{"$error":"#N/A"},{"$f":"VLOOKUP(MONTH(D32),[0]!rainforuplandcrop,4)/1000*R32*1600*7","v":{"$error":"#N/A"}}]
[null,"2009-02-28","2009-03-06","2009-03-06",18,{"$f":"IF(ISERROR(VLOOKUP(E33,Crop!$S$3:$T$70,2,FALSE)),0,VLOOKUP(E33,Crop!$S$3:$T$70,2,FALSE))","v":18},{"$f":"IF(ISERROR(HLOOKUP($D$5,Kc!$C$3:$AI$57,plant!F33+3,FALSE)),0,HLOOKUP($D$5,Kc!$C$3:$AI$57,plant!F33+3,FALSE))","v":2.19},0,0,0,0,0,0,0,0,0,0,0,0,{"$f":"VLOOKUP($D$7,ETo!$B$4:$P$88,MONTH(D33)+2,FALSE)/4","v":{"$error":"#N/A"}},{"$error":"#N/A"},{"$error":"#N/A"},0,0,{"$error":"#N/A"},{"$f":"VLOOKUP(MONTH(D33),[0]!rainforuplandcrop,4)/1000*R33*1600*7","v":{"$error":"#N/A"}}]
[null,"2009-03-07","2009-03-13","2009-03-13",19,{"$f":"IF(ISERROR(VLOOKUP(E34,Crop!$S$3:$T$70,2,FALSE)),0,VLOOKUP(E34,Crop!$S$3:$T$70,2,FALSE))","v":19},{"$f":"IF(ISERROR(HLOOKUP($D$5,Kc!$C$3:$AI$57,plant!F34+3,FALSE)),0,HLOOKUP($D$5,Kc!$C$3:$AI$57,plant!F34+3,FALSE))","v":2.19},0,0,0,0,0,0,0,0,0,0,0,0,{"$f":"VLOOKUP($D$7,ETo!$B$4:$P$88,MONTH(D34)+2,FALSE)/4","v":{"$error":"#N/A"}},{"$error":"#N/A"},{"$error":"#N/A"},0,0,{"$error":"#N/A"},{"$f":"VLOOKUP(MONTH(D34),[0]!rainforuplandcrop,4)/1000*R34*1600*7","v":{"$error":"#N/A"}}]
[null,"2009-03-14","2009-03-20","2009-03-20",20,{"$f":"IF(ISERROR(VLOOKUP(E35,Crop!$S$3:$T$70,2,FALSE)),0,VLOOKUP(E35,Crop!$S$3:$T$70,2,FALSE))","v":20},{"$f":"IF(ISERROR(HLOOKUP($D$5,Kc!$C$3:$AI$57,plant!F35+3,FALSE)),0,HLOOKUP($D$5,Kc!$C$3:$AI$57,plant!F35+3,FALSE))","v":2.19},0,0,0,0,0,0,0,0,0,0,0,0,{"$f":"VLOOKUP($D$7,ETo!$B$4:$P$88,MONTH(D35)+2,FALSE)/4","v":{"$error":"#N/A"}},{"$error":"#N/A"},{"$error":"#N/A"},0,0,{"$error":"#N/A"},{"$f":"VLOOKUP(MONTH(D35),[0]!rainforuplandcrop,4)/1000*R35*1600*7","v":{"$error":"#N/A"}}]
[null,"2009-03-21","2009-03-27","2009-03-27",21,{"$f":"IF(ISERROR(VLOOKUP(E36,Crop!$S$3:$T$70,2,FALSE)),0,VLOOKUP(E36,Crop!$S$3:$T$70,2,FALSE))","v":21},{"$f":"IF(ISERROR(HLOOKUP($D$5,Kc!$C$3:$AI$57,plant!F36+3,FALSE)),0,HLOOKUP($D$5,Kc!$C$3:$AI$57,plant!F36+3,FALSE))","v":2.19},0,0,0,0,0,0,0,0,0,0,0,0,{"$f":"VLOOKUP($D$7,ETo!$B$4:$P$88,MONTH(D36)+2,FALSE)/4","v":{"$error":"#N/A"}},{"$error":"#N/A"},{"$error":"#N/A"},0,0,{"$error":"#N/A"},{"$f":"VLOOKUP(MONTH(D36),[0]!rainforuplandcrop,4)/1000*R36*1600*7","v":{"$error":"#N/A"}}]
[null,"2009-03-28","2009-04-03","2009-04-03",22,{"$f":"IF(ISERROR(VLOOKUP(E37,Crop!$S$3:$T$70,2,FALSE)),0,VLOOKUP(E37,Crop!$S$3:$T$70,2,FALSE))","v":22},{"$f":"IF(ISERROR(HLOOKUP($D$5,Kc!$C$3:$AI$57,plant!F37+3,FALSE)),0,HLOOKUP($D$5,Kc!$C$3:$AI$57,plant!F37+3,FALSE))","v":2.19},0,{"$f":"IF(H36>0,IF(I$15>$E$9,0,VLOOKUP(I$15,$F$3:$G$12,2,FALSE)),0)","v":0},0,0,0,0,0,0,0,0,0,0,{"$f":"VLOOKUP($D$7,ETo!$B$4:$P$88,MONTH(D37)+2,FALSE)/4","v":{"$error":"#N/A"}},{"$error":"#N/A"},{"$error":"#N/A"},0,0,{"$error":"#N/A"},{"$f":"VLOOKUP(MONTH(D37),[0]!rainforuplandcrop,4)/1000*R37*1600*7","v":{"$error":"#N/A"}}]
[null,"2009-04-04","2009-04-10","2009-04-10",23,{"$f":"IF(ISERROR(VLOOKUP(E38,Crop!$S$3:$T$70,2,FALSE)),0,VLOOKUP(E38,Crop!$S$3:$T$70,2,FALSE))","v":23},{"$f":"IF(ISERROR(HLOOKUP($D$5,Kc!$C$3:$AI$57,plant!F38+3,FALSE)),0,HLOOKUP($D$5,Kc!$C$3:$AI$57,plant!F38+3,FALSE))","v":2.19},0,0,0,0,0,0,0,0,0,0,0,0,{"$f":"VLOOKUP($D$7,ETo!$B$4:$P$88,MONTH(D38)+2,FALSE)/4","v":{"$error":"#N/A"}},{"$error":"#N/A"},{"$error":"#N/A"},0,0,{"$error":"#N/A"},{"$f":"VLOOKUP(MONTH(D38),[0]!rainforuplandcrop,4)/1000*R38*1600*7","v":{"$error":"#N/A"}}]
[null,"2009-04-11","2009-04-17","2009-04-17",24,{"$f":"IF(ISERROR(VLOOKUP(E39,Crop!$S$3:$T$70,2,FALSE)),0,VLOOKUP(E39,Crop!$S$3:$T$70,2,FALSE))","v":24},{"$f":"IF(ISERROR(HLOOKUP($D$5,Kc!$C$3:$AI$57,plant!F39+3,FALSE)),0,HLOOKUP($D$5,Kc!$C$3:$AI$57,plant!F39+3,FALSE))","v":2.19},0,0,0,0,0,0,0,0,0,0,0,0,{"$f":"VLOOKUP($D$7,ETo!$B$4:$P$88,MONTH(D39)+2,FALSE)/4","v":{"$error":"#N/A"}},{"$error":"#N/A"},{"$error":"#N/A"},0,0,{"$error":"#N/A"},{"$f":"VLOOKUP(MONTH(D39),[0]!rainforuplandcrop,4)/1000*R39*1600*7","v":{"$error":"#N/A"}}]
[null,"2009-04-18","2009-04-24","2009-04-24",25,{"$f":"IF(ISERROR(VLOOKUP(E40,Crop!$S$3:$T$70,2,FALSE)),0,VLOOKUP(E40,Crop!$S$3:$T$70,2,FALSE))","v":25},{"$f":"IF(ISERROR(HLOOKUP($D$5,Kc!$C$3:$AI$57,plant!F40+3,FALSE)),0,HLOOKUP($D$5,Kc!$C$3:$AI$57,plant!F40+3,FALSE))","v":2.19},0,0,0,0,0,0,0,0,0,0,0,0,{"$f":"VLOOKUP($D$7,ETo!$B$4:$P$88,MONTH(D40)+2,FALSE)/4","v":{"$error":"#N/A"}},{"$error":"#N/A"},{"$error":"#N/A"},0,0,{"$error":"#N/A"},{"$f":"VLOOKUP(MONTH(D40),[0]!rainforuplandcrop,4)/1000*R40*1600*7","v":{"$error":"#N/A"}}]
[null,"2009-04-25","2009-05-01","2009-05-01",26,{"$f":"IF(ISERROR(VLOOKUP(E41,Crop!$S$3:$T$70,2,FALSE)),0,VLOOKUP(E41,Crop!$S$3:$T$70,2,FALSE))","v":26},{"$f":"IF(ISERROR(HLOOKUP($D$5,Kc!$C$3:$AI$57,plant!F41+3,FALSE)),0,HLOOKUP($D$5,Kc!$C$3:$AI$57,plant!F41+3,FALSE))","v":2.19},0,0,0,0,0,0,0,0,0,0,0,0,{"$f":"VLOOKUP($D$7,ETo!$B$4:$P$88,MONTH(D41)+2,FALSE)/4","v":{"$error":"#N/A"}},{"$error":"#N/A"},{"$error":"#N/A"},0,0,{"$error":"#N/A"},{"$f":"VLOOKUP(MONTH(D41),[0]!rainforuplandcrop,4)/1000*R41*1600*7","v":{"$error":"#N/A"}}]
[null,"2009-05-02","2009-05-08","2009-05-08",27,{"$f":"IF(ISERROR(VLOOKUP(E42,Crop!$S$3:$T$70,2,FALSE)),0,VLOOKUP(E42,Crop!$S$3:$T$70,2,FALSE))","v":27},{"$f":"IF(ISERROR(HLOOKUP($D$5,Kc!$C$3:$AI$57,plant!F42+3,FALSE)),0,HLOOKUP($D$5,Kc!$C$3:$AI$57,plant!F42+3,FALSE))","v":2.19},0,0,0,0,0,0,0,0,0,0,0,0,{"$f":"VLOOKUP($D$7,ETo!$B$4:$P$88,MONTH(D42)+2,FALSE)/4","v":{"$error":"#N/A"}},{"$error":"#N/A"},{"$error":"#N/A"},0,0,{"$error":"#N/A"},{"$f":"VLOOKUP(MONTH(D42),[0]!rainforuplandcrop,4)/1000*R42*1600*7","v":{"$error":"#N/A"}}]
[null,"2009-05-09","2009-05-15","2009-05-15",28,{"$f":"IF(ISERROR(VLOOKUP(E43,Crop!$S$3:$T$70,2,FALSE)),0,VLOOKUP(E43,Crop!$S$3:$T$70,2,FALSE))","v":28},{"$f":"IF(ISERROR(HLOOKUP($D$5,Kc!$C$3:$AI$57,plant!F43+3,FALSE)),0,HLOOKUP($D$5,Kc!$C$3:$AI$57,plant!F43+3,FALSE))","v":2.19},0,0,0,0,0,0,0,0,0,0,0,0,{"$f":"VLOOKUP($D$7,ETo!$B$4:$P$88,MONTH(D43)+2,FALSE)/4","v":{"$error":"#N/A"}},{"$error":"#N/A"},{"$error":"#N/A"},0,0,{"$error":"#N/A"},{"$f":"VLOOKUP(MONTH(D43),[0]!rainforuplandcrop,4)/1000*R43*1600*7","v":{"$error":"#N/A"}}]
[null,"2009-05-16","2009-05-22","2009-05-22",29,{"$f":"IF(ISERROR(VLOOKUP(E44,Crop!$S$3:$T$70,2,FALSE)),0,VLOOKUP(E44,Crop!$S$3:$T$70,2,FALSE))","v":29},{"$f":"IF(ISERROR(HLOOKUP($D$5,Kc!$C$3:$AI$57,plant!F44+3,FALSE)),0,HLOOKUP($D$5,Kc!$C$3:$AI$57,plant!F44+3,FALSE))","v":2.19},0,0,0,0,0,0,0,0,0,0,0,0,{"$f":"VLOOKUP($D$7,ETo!$B$4:$P$88,MONTH(D44)+2,FALSE)/4","v":{"$error":"#N/A"}},{"$error":"#N/A"},{"$error":"#N/A"},0,0,{"$error":"#N/A"},{"$f":"VLOOKUP(MONTH(D44),[0]!rainforuplandcrop,4)/1000*R44*1600*7","v":{"$error":"#N/A"}}]
[null,"2009-05-23","2009-05-29","2009-05-29",30,{"$f":"IF(ISERROR(VLOOKUP(E45,Crop!$S$3:$T$70,2,FALSE)),0,VLOOKUP(E45,Crop!$S$3:$T$70,2,FALSE))","v":30},{"$f":"IF(ISERROR(HLOOKUP($D$5,Kc!$C$3:$AI$57,plant!F45+3,FALSE)),0,HLOOKUP($D$5,Kc!$C$3:$AI$57,plant!F45+3,FALSE))","v":2.19},0,0,0,0,0,0,0,0,0,0,0,0,{"$f":"VLOOKUP($D$7,ETo!$B$4:$P$88,MONTH(D45)+2,FALSE)/4","v":{"$error":"#N/A"}},{"$error":"#N/A"},{"$error":"#N/A"},0,0,{"$error":"#N/A"},{"$f":"VLOOKUP(MONTH(D45),[0]!rainforuplandcrop,4)/1000*R45*1600*7","v":{"$error":"#N/A"}}]
[null,"2009-05-30","2009-06-05","2009-06-05",31,{"$f":"IF(ISERROR(VLOOKUP(E46,Crop!$S$3:$T$70,2,FALSE)),0,VLOOKUP(E46,Crop!$S$3:$T$70,2,FALSE))","v":31},{"$f":"IF(ISERROR(HLOOKUP($D$5,Kc!$C$3:$AI$57,plant!F46+3,FALSE)),0,HLOOKUP($D$5,Kc!$C$3:$AI$57,plant!F46+3,FALSE))","v":2.19},0,0,0,0,0,0,0,0,0,0,0,0,{"$f":"VLOOKUP($D$7,ETo!$B$4:$P$88,MONTH(D46)+2,FALSE)/4","v":{"$error":"#N/A"}},{"$error":"#N/A"},{"$error":"#N/A"},0,0,{"$error":"#N/A"},{"$f":"VLOOKUP(MONTH(D46),[0]!rainforuplandcrop,4)/1000*R46*1600*7","v":{"$error":"#N/A"}}]
[null,"2009-06-06","2009-06-12","2009-06-12",32,{"$f":"IF(ISERROR(VLOOKUP(E47,Crop!$S$3:$T$70,2,FALSE)),0,VLOOKUP(E47,Crop!$S$3:$T$70,2,FALSE))","v":32},{"$f":"IF(ISERROR(HLOOKUP($D$5,Kc!$C$3:$AI$57,plant!F47+3,FALSE)),0,HLOOKUP($D$5,Kc!$C$3:$AI$57,plant!F47+3,FALSE))","v":2.19},0,{"$f":"IF(H46>0,IF(I$15>$E$9,0,VLOOKUP(I$15,$F$3:$G$12,2,FALSE)),0)","v":0},0,0,0,0,0,0,0,0,0,0,{"$f":"VLOOKUP($D$7,ETo!$B$4:$P$88,MONTH(D47)+2,FALSE)/4","v":{"$error":"#N/A"}},{"$error":"#N/A"},{"$error":"#N/A"},0,0,{"$error":"#N/A"},{"$f":"VLOOKUP(MONTH(D47),[0]!rainforuplandcrop,4)/1000*R47*1600*7","v":{"$error":"#N/A"}}]
[null,"2009-06-13","2009-06-19","2009-06-19",33,{"$f":"IF(ISERROR(VLOOKUP(E48,Crop!$S$3:$T$70,2,FALSE)),0,VLOOKUP(E48,Crop!$S$3:$T$70,2,FALSE))","v":33},{"$f":"IF(ISERROR(HLOOKUP($D$5,Kc!$C$3:$AI$57,plant!F48+3,FALSE)),0,HLOOKUP($D$5,Kc!$C$3:$AI$57,plant!F48+3,FALSE))","v":2.19},{"$f":"IF(G48>0,IF(H$15>$E$9,0,VLOOKUP(H$15,$F$3:$G$12,2,FALSE)),0)","v":0},0,0,0,0,0,0,0,0,0,{"$f":"SUM(H48:Q48)","v":0},0,{"$f":"VLOOKUP($D$7,ETo!$B$4:$P$88,MONTH(D48)+2,FALSE)/4","v":{"$error":"#N/A"}},{"$f":"IF(S48*T48=0,0,(S48*T48)+$E$10)","v":{"$error":"#N/A"}},{"$error":"#N/A"},{"$f":"IF(ISERROR(INDEX(H48:L48,1,F48)),0,INDEX(H48:L48,1,F48))","v":0},{"$f":"W48*$E$11*1.6","v":0},{"$f":"V48+X48","v":{"$error":"#N/A"}},{"$f":"VLOOKUP(MONTH(D48),[0]!rainforuplandcrop,4)/1000*R48*1600*7","v":{"$error":"#N/A"}}]
[null,{"$f":"C48+1","v":"2009-06-20"},{"$f":"B49+6","v":"2009-06-26"},"2009-06-26",34,{"$f":"IF(ISERROR(VLOOKUP(E49,Crop!$S$3:$T$70,2,FALSE)),0,VLOOKUP(E49,Crop!$S$3:$T$70,2,FALSE))","v":34},{"$f":"IF(ISERROR(HLOOKUP($D$5,Kc!$C$3:$AI$57,plant!F49+3,FALSE)),0,HLOOKUP($D$5,Kc!$C$3:$AI$57,plant!F49+3,FALSE))","v":2.19},0,0,0,0,0,0,0,0,0,0,0,0,{"$f":"VLOOKUP($D$7,ETo!$B$4:$P$88,MONTH(D49)+2,FALSE)/4","v":{"$error":"#N/A"}},{"$error":"#N/A"},{"$error":"#N/A"},0,0,{"$error":"#N/A"},{"$f":"VLOOKUP(MONTH(D49),[0]!rainforuplandcrop,4)/1000*R49*1600*7","v":{"$error":"#N/A"}}]
[null,"2009-06-27","2009-07-03","2009-07-03",35,{"$f":"IF(ISERROR(VLOOKUP(E50,Crop!$S$3:$T$70,2,FALSE)),0,VLOOKUP(E50,Crop!$S$3:$T$70,2,FALSE))","v":35},{"$f":"IF(ISERROR(HLOOKUP($D$5,Kc!$C$3:$AI$57,plant!F50+3,FALSE)),0,HLOOKUP($D$5,Kc!$C$3:$AI$57,plant!F50+3,FALSE))","v":2.19},0,0,0,0,0,0,0,0,0,0,0,0,{"$f":"VLOOKUP($D$7,ETo!$B$4:$P$88,MONTH(D50)+2,FALSE)/4","v":{"$error":"#N/A"}},{"$error":"#N/A"},{"$error":"#N/A"},0,0,{"$error":"#N/A"},{"$f":"VLOOKUP(MONTH(D50),[0]!rainforuplandcrop,4)/1000*R50*1600*7","v":{"$error":"#N/A"}}]
[null,"2009-07-04","2009-07-10","2009-07-10",36,{"$f":"IF(ISERROR(VLOOKUP(E51,Crop!$S$3:$T$70,2,FALSE)),0,VLOOKUP(E51,Crop!$S$3:$T$70,2,FALSE))","v":36},{"$f":"IF(ISERROR(HLOOKUP($D$5,Kc!$C$3:$AI$57,plant!F51+3,FALSE)),0,HLOOKUP($D$5,Kc!$C$3:$AI$57,plant!F51+3,FALSE))","v":2.19},0,0,0,0,0,0,0,0,0,0,0,0,{"$f":"VLOOKUP($D$7,ETo!$B$4:$P$88,MONTH(D51)+2,FALSE)/4","v":{"$error":"#N/A"}},{"$error":"#N/A"},{"$error":"#N/A"},0,0,{"$error":"#N/A"},{"$f":"VLOOKUP(MONTH(D51),[0]!rainforuplandcrop,4)/1000*R51*1600*7","v":{"$error":"#N/A"}}]
[null,"2009-07-11","2009-07-17","2009-07-17",37,{"$f":"IF(ISERROR(VLOOKUP(E52,Crop!$S$3:$T$70,2,FALSE)),0,VLOOKUP(E52,Crop!$S$3:$T$70,2,FALSE))","v":37},{"$f":"IF(ISERROR(HLOOKUP($D$5,Kc!$C$3:$AI$57,plant!F52+3,FALSE)),0,HLOOKUP($D$5,Kc!$C$3:$AI$57,plant!F52+3,FALSE))","v":2.19},0,0,0,0,0,0,0,0,0,0,0,0,{"$f":"VLOOKUP($D$7,ETo!$B$4:$P$88,MONTH(D52)+2,FALSE)/4","v":{"$error":"#N/A"}},{"$error":"#N/A"},{"$error":"#N/A"},0,0,{"$error":"#N/A"},{"$f":"VLOOKUP(MONTH(D52),[0]!rainforuplandcrop,4)/1000*R52*1600*7","v":{"$error":"#N/A"}}]
[null,"2009-07-18","2009-07-24","2009-07-24",38,{"$f":"IF(ISERROR(VLOOKUP(E53,Crop!$S$3:$T$70,2,FALSE)),0,VLOOKUP(E53,Crop!$S$3:$T$70,2,FALSE))","v":38},{"$f":"IF(ISERROR(HLOOKUP($D$5,Kc!$C$3:$AI$57,plant!F53+3,FALSE)),0,HLOOKUP($D$5,Kc!$C$3:$AI$57,plant!F53+3,FALSE))","v":2.19},0,0,0,0,0,0,0,0,0,0,0,0,{"$f":"VLOOKUP($D$7,ETo!$B$4:$P$88,MONTH(D53)+2,FALSE)/4","v":{"$error":"#N/A"}},{"$error":"#N/A"},{"$error":"#N/A"},0,0,{"$error":"#N/A"},{"$f":"VLOOKUP(MONTH(D53),[0]!rainforuplandcrop,4)/1000*R53*1600*7","v":{"$error":"#N/A"}}]
[null,"2009-07-25","2009-07-31","2009-07-31",39,{"$f":"IF(ISERROR(VLOOKUP(E54,Crop!$S$3:$T$70,2,FALSE)),0,VLOOKUP(E54,Crop!$S$3:$T$70,2,FALSE))","v":39},{"$f":"IF(ISERROR(HLOOKUP($D$5,Kc!$C$3:$AI$57,plant!F54+3,FALSE)),0,HLOOKUP($D$5,Kc!$C$3:$AI$57,plant!F54+3,FALSE))","v":2.19},0,0,0,0,0,0,0,0,0,0,0,0,{"$f":"VLOOKUP($D$7,ETo!$B$4:$P$88,MONTH(D54)+2,FALSE)/4","v":{"$error":"#N/A"}},{"$error":"#N/A"},{"$error":"#N/A"},0,0,{"$error":"#N/A"},{"$f":"VLOOKUP(MONTH(D54),[0]!rainforuplandcrop,4)/1000*R54*1600*7","v":{"$error":"#N/A"}}]
[null,"2009-08-01","2009-08-07","2009-08-07",40,{"$f":"IF(ISERROR(VLOOKUP(E55,Crop!$S$3:$T$70,2,FALSE)),0,VLOOKUP(E55,Crop!$S$3:$T$70,2,FALSE))","v":40},{"$f":"IF(ISERROR(HLOOKUP($D$5,Kc!$C$3:$AI$57,plant!F55+3,FALSE)),0,HLOOKUP($D$5,Kc!$C$3:$AI$57,plant!F55+3,FALSE))","v":2.19},0,0,0,0,0,0,0,0,0,0,0,0,{"$f":"VLOOKUP($D$7,ETo!$B$4:$P$88,MONTH(D55)+2,FALSE)/4","v":{"$error":"#N/A"}},{"$error":"#N/A"},{"$error":"#N/A"},0,0,{"$error":"#N/A"},{"$f":"VLOOKUP(MONTH(D55),[0]!rainforuplandcrop,4)/1000*R55*1600*7","v":{"$error":"#N/A"}}]
[null,"2009-08-08","2009-08-14","2009-08-14",41,{"$f":"IF(ISERROR(VLOOKUP(E56,Crop!$S$3:$T$70,2,FALSE)),0,VLOOKUP(E56,Crop!$S$3:$T$70,2,FALSE))","v":41},{"$f":"IF(ISERROR(HLOOKUP($D$5,Kc!$C$3:$AI$57,plant!F56+3,FALSE)),0,HLOOKUP($D$5,Kc!$C$3:$AI$57,plant!F56+3,FALSE))","v":2.19},0,0,0,0,0,0,0,0,0,0,0,0,{"$f":"VLOOKUP($D$7,ETo!$B$4:$P$88,MONTH(D56)+2,FALSE)/4","v":{"$error":"#N/A"}},{"$error":"#N/A"},{"$error":"#N/A"},0,0,{"$error":"#N/A"},{"$f":"VLOOKUP(MONTH(D56),[0]!rainforuplandcrop,4)/1000*R56*1600*7","v":{"$error":"#N/A"}}]
[null,"2009-08-15","2009-08-21","2009-08-21",42,{"$f":"IF(ISERROR(VLOOKUP(E57,Crop!$S$3:$T$70,2,FALSE)),0,VLOOKUP(E57,Crop!$S$3:$T$70,2,FALSE))","v":42},{"$f":"IF(ISERROR(HLOOKUP($D$5,Kc!$C$3:$AI$57,plant!F57+3,FALSE)),0,HLOOKUP($D$5,Kc!$C$3:$AI$57,plant!F57+3,FALSE))","v":2.19},0,{"$f":"IF(H56>0,IF(I$15>$E$9,0,VLOOKUP(I$15,$F$3:$G$12,2,FALSE)),0)","v":0},0,0,0,0,0,0,0,0,0,0,{"$f":"VLOOKUP($D$7,ETo!$B$4:$P$88,MONTH(D57)+2,FALSE)/4","v":{"$error":"#N/A"}},{"$error":"#N/A"},{"$error":"#N/A"},0,0,{"$error":"#N/A"},{"$f":"VLOOKUP(MONTH(D57),[0]!rainforuplandcrop,4)/1000*R57*1600*7","v":{"$error":"#N/A"}}]
[null,"2009-08-22","2009-08-28","2009-08-28",43,{"$f":"IF(ISERROR(VLOOKUP(E58,Crop!$S$3:$T$70,2,FALSE)),0,VLOOKUP(E58,Crop!$S$3:$T$70,2,FALSE))","v":43},{"$f":"IF(ISERROR(HLOOKUP($D$5,Kc!$C$3:$AI$57,plant!F58+3,FALSE)),0,HLOOKUP($D$5,Kc!$C$3:$AI$57,plant!F58+3,FALSE))","v":2.19},0,0,0,0,0,0,0,0,0,0,0,0,{"$f":"VLOOKUP($D$7,ETo!$B$4:$P$88,MONTH(D58)+2,FALSE)/4","v":{"$error":"#N/A"}},{"$error":"#N/A"},{"$error":"#N/A"},0,0,{"$error":"#N/A"},{"$f":"VLOOKUP(MONTH(D58),[0]!rainforuplandcrop,4)/1000*R58*1600*7","v":{"$error":"#N/A"}}]
[null,"2009-08-29","2009-09-04","2009-09-04",44,{"$f":"IF(ISERROR(VLOOKUP(E59,Crop!$S$3:$T$70,2,FALSE)),0,VLOOKUP(E59,Crop!$S$3:$T$70,2,FALSE))","v":44},{"$f":"IF(ISERROR(HLOOKUP($D$5,Kc!$C$3:$AI$57,plant!F59+3,FALSE)),0,HLOOKUP($D$5,Kc!$C$3:$AI$57,plant!F59+3,FALSE))","v":2.19},0,0,0,0,0,0,0,0,0,0,0,0,{"$f":"VLOOKUP($D$7,ETo!$B$4:$P$88,MONTH(D59)+2,FALSE)/4","v":{"$error":"#N/A"}},{"$error":"#N/A"},{"$error":"#N/A"},0,0,{"$error":"#N/A"},{"$f":"VLOOKUP(MONTH(D59),[0]!rainforuplandcrop,4)/1000*R59*1600*7","v":{"$error":"#N/A"}}]
[null,"2009-09-05","2009-09-11","2009-09-11",45,{"$f":"IF(ISERROR(VLOOKUP(E60,Crop!$S$3:$T$70,2,FALSE)),0,VLOOKUP(E60,Crop!$S$3:$T$70,2,FALSE))","v":45},{"$f":"IF(ISERROR(HLOOKUP($D$5,Kc!$C$3:$AI$57,plant!F60+3,FALSE)),0,HLOOKUP($D$5,Kc!$C$3:$AI$57,plant!F60+3,FALSE))","v":2.19},0,0,0,0,0,0,0,0,0,0,0,0,{"$f":"VLOOKUP($D$7,ETo!$B$4:$P$88,MONTH(D60)+2,FALSE)/4","v":{"$error":"#N/A"}},{"$error":"#N/A"},{"$error":"#N/A"},0,0,{"$error":"#N/A"},{"$f":"VLOOKUP(MONTH(D60),[0]!rainforuplandcrop,4)/1000*R60*1600*7","v":{"$error":"#N/A"}}]
[null,"2009-09-12","2009-09-18","2009-09-18",46,{"$f":"IF(ISERROR(VLOOKUP(E61,Crop!$S$3:$T$70,2,FALSE)),0,VLOOKUP(E61,Crop!$S$3:$T$70,2,FALSE))","v":46},{"$f":"IF(ISERROR(HLOOKUP($D$5,Kc!$C$3:$AI$57,plant!F61+3,FALSE)),0,HLOOKUP($D$5,Kc!$C$3:$AI$57,plant!F61+3,FALSE))","v":2.19},0,0,0,0,0,0,0,0,0,0,0,0,{"$f":"VLOOKUP($D$7,ETo!$B$4:$P$88,MONTH(D61)+2,FALSE)/4","v":{"$error":"#N/A"}},{"$error":"#N/A"},{"$error":"#N/A"},0,0,{"$error":"#N/A"},{"$f":"VLOOKUP(MONTH(D61),[0]!rainforuplandcrop,4)/1000*R61*1600*7","v":{"$error":"#N/A"}}]
[null,"2009-09-19","2009-09-25","2009-09-25",47,{"$f":"IF(ISERROR(VLOOKUP(E62,Crop!$S$3:$T$70,2,FALSE)),0,VLOOKUP(E62,Crop!$S$3:$T$70,2,FALSE))","v":47},{"$f":"IF(ISERROR(HLOOKUP($D$5,Kc!$C$3:$AI$57,plant!F62+3,FALSE)),0,HLOOKUP($D$5,Kc!$C$3:$AI$57,plant!F62+3,FALSE))","v":2.19},0,0,0,0,0,0,0,0,0,0,0,0,{"$f":"VLOOKUP($D$7,ETo!$B$4:$P$88,MONTH(D62)+2,FALSE)/4","v":{"$error":"#N/A"}},{"$error":"#N/A"},{"$error":"#N/A"},0,0,{"$error":"#N/A"},{"$f":"VLOOKUP(MONTH(D62),[0]!rainforuplandcrop,4)/1000*R62*1600*7","v":{"$error":"#N/A"}}]
[null,"2009-09-26","2009-10-02","2009-10-02",48,{"$f":"IF(ISERROR(VLOOKUP(E63,Crop!$S$3:$T$70,2,FALSE)),0,VLOOKUP(E63,Crop!$S$3:$T$70,2,FALSE))","v":48},{"$f":"IF(ISERROR(HLOOKUP($D$5,Kc!$C$3:$AI$57,plant!F63+3,FALSE)),0,HLOOKUP($D$5,Kc!$C$3:$AI$57,plant!F63+3,FALSE))","v":2.19},0,0,0,0,0,0,0,0,0,0,0,0,{"$f":"VLOOKUP($D$7,ETo!$B$4:$P$88,MONTH(D63)+2,FALSE)/4","v":{"$error":"#N/A"}},{"$error":"#N/A"},{"$error":"#N/A"},0,0,{"$error":"#N/A"},{"$f":"VLOOKUP(MONTH(D63),[0]!rainforuplandcrop,4)/1000*R63*1600*7","v":{"$error":"#N/A"}}]
[null,"2009-10-03","2009-10-09","2009-10-09",49,{"$f":"IF(ISERROR(VLOOKUP(E64,Crop!$S$3:$T$70,2,FALSE)),0,VLOOKUP(E64,Crop!$S$3:$T$70,2,FALSE))","v":49},{"$f":"IF(ISERROR(HLOOKUP($D$5,Kc!$C$3:$AI$57,plant!F64+3,FALSE)),0,HLOOKUP($D$5,Kc!$C$3:$AI$57,plant!F64+3,FALSE))","v":2.19},0,0,0,0,0,0,0,0,0,0,0,0,{"$f":"VLOOKUP($D$7,ETo!$B$4:$P$88,MONTH(D64)+2,FALSE)/4","v":{"$error":"#N/A"}},{"$error":"#N/A"},{"$error":"#N/A"},0,0,{"$error":"#N/A"},{"$f":"VLOOKUP(MONTH(D64),[0]!rainforuplandcrop,4)/1000*R64*1600*7","v":{"$error":"#N/A"}}]
[null,"2009-10-10","2009-10-16","2009-10-16",50,{"$f":"IF(ISERROR(VLOOKUP(E65,Crop!$S$3:$T$70,2,FALSE)),0,VLOOKUP(E65,Crop!$S$3:$T$70,2,FALSE))","v":50},{"$f":"IF(ISERROR(HLOOKUP($D$5,Kc!$C$3:$AI$57,plant!F65+3,FALSE)),0,HLOOKUP($D$5,Kc!$C$3:$AI$57,plant!F65+3,FALSE))","v":2.19},0,0,0,0,0,0,0,0,0,0,0,0,{"$f":"VLOOKUP($D$7,ETo!$B$4:$P$88,MONTH(D65)+2,FALSE)/4","v":{"$error":"#N/A"}},{"$error":"#N/A"},{"$error":"#N/A"},0,0,{"$error":"#N/A"},{"$f":"VLOOKUP(MONTH(D65),[0]!rainforuplandcrop,4)/1000*R65*1600*7","v":{"$error":"#N/A"}}]
[null,"2009-10-17","2009-10-23","2009-10-23",51,{"$f":"IF(ISERROR(VLOOKUP(E66,Crop!$S$3:$T$70,2,FALSE)),0,VLOOKUP(E66,Crop!$S$3:$T$70,2,FALSE))","v":51},{"$f":"IF(ISERROR(HLOOKUP($D$5,Kc!$C$3:$AI$57,plant!F66+3,FALSE)),0,HLOOKUP($D$5,Kc!$C$3:$AI$57,plant!F66+3,FALSE))","v":2.19},0,0,0,0,0,0,0,0,0,0,0,0,{"$f":"VLOOKUP($D$7,ETo!$B$4:$P$88,MONTH(D66)+2,FALSE)/4","v":{"$error":"#N/A"}},{"$error":"#N/A"},{"$error":"#N/A"},0,0,{"$error":"#N/A"},{"$f":"VLOOKUP(MONTH(D66),[0]!rainforuplandcrop,4)/1000*R66*1600*7","v":{"$error":"#N/A"}}]
[null,"2009-10-24","2009-10-30","2009-10-30",52,{"$f":"IF(ISERROR(VLOOKUP(E67,Crop!$S$3:$T$70,2,FALSE)),0,VLOOKUP(E67,Crop!$S$3:$T$70,2,FALSE))","v":52},{"$f":"IF(ISERROR(HLOOKUP($D$5,Kc!$C$3:$AI$57,plant!F67+3,FALSE)),0,HLOOKUP($D$5,Kc!$C$3:$AI$57,plant!F67+3,FALSE))","v":2.19},0,0,0,0,0,0,0,0,0,0,0,0,{"$f":"VLOOKUP($D$7,ETo!$B$4:$P$88,MONTH(D67)+2,FALSE)/4","v":{"$error":"#N/A"}},{"$error":"#N/A"},{"$f":"U67*R67*1.6*0.45","v":{"$error":"#N/A"}},0,0,{"$error":"#N/A"},{"$f":"VLOOKUP(MONTH(D67),[0]!rainforuplandcrop,4)/1000*R67*1600*7","v":{"$error":"#N/A"}}]
[null,null,null,null,null,null,null,null,null,null,null,null,null,null,null,null,null,null,null,null,null,null,null,null,{"$f":"SUM(Y16:Y67)","v":{"$error":"#N/A"}},{"$f":"SUM(Z16:Z67)","v":{"$error":"#N/A"}}]

{"sheet":"fishpond","index":8,"n_rows":63,"n_cols":39,"rows_kept":63,"cut":false,"hidden":false,"merged":[[2,3,2,4],[4,3,4,4]]}
[null,"ตารางแสดงรายละเอียดการคำนวณความต้องการน้ำของบ่อปลา"]
[]
[null,"จังหวัด",null,{"$f":"+fill_data!C4","v":0}]
[null,"สัปดาห์เริ่มต้น",null,null,1]
[null,"ใช้ค่า ETo ของจังหวัด",null,{"$f":"VLOOKUP(D3,Prv!$D$3:$E$78,2,FALSE)","v":{"$error":"#N/A"}}]
[null,"พื้นที่บ่อปลา, ไร่",null,null,{"$f":"+fill_data!K54","v":0}]
[]
[null,"(1)","(2)","(3)","(4)","(5)","(6)","(8)"]
[null,"ช่วงเวลาสัปดาห์",null,"เดือน","สัปดาห์","ความต้องการน้ำ (มม.)",null,"ความต้องการน้ำ","ฝนใช้การ"]
[null,"เริ่มต้น","สิ้นสุด",null,null,"เปลี่ยนน้ำ","ระเหยและรั่วซึม","(ลบ.ม.)","(ลบ.ม.)",null,null,null,null,3,3,3,3,4,4,4,4,4,4,4,4,4,4,4,4,4,4,4,4,4,4,4,4,4,4]
[null,"2008-11-01",{"$f":"B11+6","v":"2008-11-07"},{"$f":"+C11","v":"2008-11-07"},1,1200,{"$f":"VLOOKUP($D$5,evap!$B$4:$P$88,MONTH(D11)+2,FALSE)/4*0.7+7","v":{"$error":"#N/A"}},{"$f":"+(F11*J11+G11*K11)*$E$6/100*1.6","v":{"$error":"#N/A"}},{"$f":"VLOOKUP(MONTH(D11),[0]!rainforpaddy,4)/1000*$E$6*1600*7","v":{"$error":"#N/A"}},{"$f":"SUMIF($N11:$AM11,1,$N$10:$AM$10)","v":3},{"$f":"SUMIF($N11:$AM11,2,$N$10:$AM$10)","v":84},null,1,1,0,0,0,0,2,2,2,2,2,2,2,2,2,2,2,2,2,2,2,2,2,2,2,2,2]
[null,{"$f":"C11+1","v":"2008-11-08"},{"$f":"B12+6","v":"2008-11-14"},{"$f":"+C12","v":"2008-11-14"},2,1200,{"$f":"VLOOKUP($D$5,evap!$B$4:$P$88,MONTH(D12)+2,FALSE)/4*0.7+7","v":{"$error":"#N/A"}},{"$error":"#N/A"},{"$f":"VLOOKUP(MONTH(D12),[0]!rainforpaddy,4)/1000*$E$6*1600*7","v":{"$error":"#N/A"}},{"$f":"SUMIF($N12:$AM12,1,$N$10:$AM$10)","v":3},{"$f":"SUMIF($N12:$AM12,2,$N$10:$AM$10)","v":83},null,2,2,1,0,0,0,0,2,2,2,2,2,2,2,2,2,2,2,2,2,2,2,2,2,2,2,2]
[null,"2008-11-15","2008-11-21",{"$f":"+C13","v":"2008-11-21"},3,1200,{"$f":"VLOOKUP($D$5,evap!$B$4:$P$88,MONTH(D13)+2,FALSE)/4*0.7+7","v":{"$error":"#N/A"}},{"$error":"#N/A"},{"$f":"VLOOKUP(MONTH(D13),[0]!rainforpaddy,4)/1000*$E$6*1600*7","v":{"$error":"#N/A"}},3,82,null,3,2,2,1,0,0,0,0,2,2,2,2,2,2,2,2,2,2,2,2,2,2,2,2,2,2,2]
[null,"2008-11-22","2008-11-28","2008-11-28",4,1200,{"$f":"VLOOKUP($D$5,evap!$B$4:$P$88,MONTH(D14)+2,FALSE)/4*0.7+7","v":{"$error":"#N/A"}},{"$error":"#N/A"},{"$f":"VLOOKUP(MONTH(D14),[0]!rainforpaddy,4)/1000*$E$6*1600*7","v":{"$error":"#N/A"}},3,81,null,4,2,2,2,1,0,0,0,0,2,2,2,2,2,2,2,2,2,2,2,2,2,2,2,2,2,2]
[null,"2008-11-29","2008-12-05","2008-12-05",5,1200,{"$f":"VLOOKUP($D$5,evap!$B$4:$P$88,MONTH(D15)+2,FALSE)/4*0.7+7","v":{"$error":"#N/A"}},{"$error":"#N/A"},{"$f":"VLOOKUP(MONTH(D15),[0]!rainforpaddy,4)/1000*$E$6*1600*7","v":{"$error":"#N/A"}},4,80,null,5,2,2,2,2,1,0,0,0,0,2,2,2,2,2,2,2,2,2,2,2,2,2,2,2,2,2]
[null,"2008-12-06","2008-12-12","2008-12-12",6,1200,{"$f":"VLOOKUP($D$5,evap!$B$4:$P$88,MONTH(D16)+2,FALSE)/4*0.7+7","v":{"$error":"#N/A"}},{"$error":"#N/A"},{"$f":"VLOOKUP(MONTH(D16),[0]!rainforpaddy,4)/1000*$E$6*1600*7","v":{"$error":"#N/A"}},4,80,null,6,2,2,2,2,2,1,0,0,0,0,2,2,2,2,2,2,2,2,2,2,2,2,2,2,2,2]
[null,"2008-12-13","2008-12-19","2008-12-19",7,1200,{"$f":"VLOOKUP($D$5,evap!$B$4:$P$88,MONTH(D17)+2,FALSE)/4*0.7+7","v":{"$error":"#N/A"}},{"$error":"#N/A"},{"$f":"VLOOKUP(MONTH(D17),[0]!rainforpaddy,4)/1000*$E$6*1600*7","v":{"$error":"#N/A"}},4,80,null,7,2,2,2,2,2,2,1,0,0,0,0,2,2,2,2,2,2,2,2,2,2,2,2,2,2,2]
[null,"2008-12-20","2008-12-26","2008-12-26",8,1200,{"$f":"VLOOKUP($D$5,evap!$B$4:$P$88,MONTH(D18)+2,FALSE)/4*0.7+7","v":{"$error":"#N/A"}},{"$error":"#N/A"},{"$f":"VLOOKUP(MONTH(D18),[0]!rainforpaddy,4)/1000*$E$6*1600*7","v":{"$error":"#N/A"}},4,80,null,8,2,2,2,2,2,2,2,1,0,0,0,0,2,2,2,2,2,2,2,2,2,2,2,2,2,2]
[null,"2008-12-27","2009-01-02","2009-01-02",9,1200,{"$f":"VLOOKUP($D$5,evap!$B$4:$P$88,MONTH(D19)+2,FALSE)/4*0.7+7","v":{"$error":"#N/A"}},{"$error":"#N/A"},{"$f":"VLOOKUP(MONTH(D19),[0]!rainforpaddy,4)/1000*$E$6*1600*7","v":{"$error":"#N/A"}},4,80,null,9,2,2,2,2,2,2,2,2,1,0,0,0,0,2,2,2,2,2,2,2,2,2,2,2,2,2]
[null,"2009-01-03","2009-01-09","2009-01-09",10,1200,{"$f":"VLOOKUP($D$5,evap!$B$4:$P$88,MONTH(D20)+2,FALSE)/4*0.7+7","v":{"$error":"#N/A"}},{"$error":"#N/A"},{"$f":"VLOOKUP(MONTH(D20),[0]!rainforpaddy,4)/1000*$E$6*1600*7","v":{"$error":"#N/A"}},4,80,null,10,2,2,2,2,2,2,2,2,2,1,0,0,0,0,2,2,2,2,2,2,2,2,2,2,2,2]
[null,"2009-01-10","2009-01-16","2009-01-16",11,1200,{"$f":"VLOOKUP($D$5,evap!$B$4:$P$88,MONTH(D21)+2,FALSE)/4*0.7+7","v":{"$error":"#N/A"}},{"$error":"#N/A"},{"$f":"VLOOKUP(MONTH(D21),[0]!rainforpaddy,4)/1000*$E$6*1600*7","v":{"$error":"#N/A"}},4,80,null,11,2,2,2,2,2,2,2,2,2,2,1,0,0,0,0,2,2,2,2,2,2,2,2,2,2,2]
[null,"2009-01-17","2009-01-23","2009-01-23",12,1200,{"$f":"VLOOKUP($D$5,evap!$B$4:$P$88,MONTH(D22)+2,FALSE)/4*0.7+7","v":{"$error":"#N/A"}},{"$error":"#N/A"},{"$f":"VLOOKUP(MONTH(D22),[0]!rainforpaddy,4)/1000*$E$6*1600*7","v":{"$error":"#N/A"}},4,80,null,12,2,2,2,2,2,2,2,2,2,2,2,1,0,0,0,0,2,2,2,2,2,2,2,2,2,2]
[null,"2009-01-24","2009-01-30","2009-01-30",13,1200,{"$f":"VLOOKUP($D$5,evap!$B$4:$P$88,MONTH(D23)+2,FALSE)/4*0.7+7","v":{"$error":"#N/A"}},{"$error":"#N/A"},{"$f":"VLOOKUP(MONTH(D23),[0]!rainforpaddy,4)/1000*$E$6*1600*7","v":{"$error":"#N/A"}},4,80,null,13,2,2,2,2,2,2,2,2,2,2,2,2,1,0,0,0,0,2,2,2,2,2,2,2,2,2]
[null,"2009-01-31","2009-02-06","2009-02-06",14,1200,{"$f":"VLOOKUP($D$5,evap!$B$4:$P$88,MONTH(D24)+2,FALSE)/4*0.7+7","v":{"$error":"#N/A"}},{"$error":"#N/A"},{"$f":"VLOOKUP(MONTH(D24),[0]!rainforpaddy,4)/1000*$E$6*1600*7","v":{"$error":"#N/A"}},4,80,null,14,2,2,2,2,2,2,2,2,2,2,2,2,2,1,0,0,0,0,2,2,2,2,2,2,2,2]
[null,"2009-02-07","2009-02-13","2009-02-13",15,1200,{"$f":"VLOOKUP($D$5,evap!$B$4:$P$88,MONTH(D25)+2,FALSE)/4*0.7+7","v":{"$error":"#N/A"}},{"$error":"#N/A"},{"$f":"VLOOKUP(MONTH(D25),[0]!rainforpaddy,4)/1000*$E$6*1600*7","v":{"$error":"#N/A"}},4,80,null,15,2,2,2,2,2,2,2,2,2,2,2,2,2,2,1,0,0,0,0,2,2,2,2,2,2,2]
[null,"2009-02-14","2009-02-20","2009-02-20",16,1200,{"$f":"VLOOKUP($D$5,evap!$B$4:$P$88,MONTH(D26)+2,FALSE)/4*0.7+7","v":{"$error":"#N/A"}},{"$error":"#N/A"},{"$f":"VLOOKUP(MONTH(D26),[0]!rainforpaddy,4)/1000*$E$6*1600*7","v":{"$error":"#N/A"}},4,80,null,16,2,2,2,2,2,2,2,2,2,2,2,2,2,2,2,1,0,0,0,0,2,2,2,2,2,2]
[null,"2009-02-21","2009-02-27","2009-02-27",17,1200,{"$f":"VLOOKUP($D$5,evap!$B$4:$P$88,MONTH(D27)+2,FALSE)/4*0.7+7","v":{"$error":"#N/A"}},{"$error":"#N/A"},{"$f":"VLOOKUP(MONTH(D27),[0]!rainforpaddy,4)/1000*$E$6*1600*7","v":{"$error":"#N/A"}},4,80,null,17,2,2,2,2,2,2,2,2,2,2,2,2,2,2,2,2,1,0,0,0,0,2,2,2,2,2]
[null,"2009-02-28","2009-03-06","2009-03-06",18,1200,{"$f":"VLOOKUP($D$5,evap!$B$4:$P$88,MONTH(D28)+2,FALSE)/4*0.7+7","v":{"$error":"#N/A"}},{"$error":"#N/A"},{"$f":"VLOOKUP(MONTH(D28),[0]!rainforpaddy,4)/1000*$E$6*1600*7","v":{"$error":"#N/A"}},4,80,null,18,2,2,2,2,2,2,2,2,2,2,2,2,2,2,2,2,2,1,0,0,0,0,2,2,2,2]
[null,"2009-03-07","2009-03-13","2009-03-13",19,1200,{"$f":"VLOOKUP($D$5,evap!$B$4:$P$88,MONTH(D29)+2,FALSE)/4*0.7+7","v":{"$error":"#N/A"}},{"$error":"#N/A"},{"$f":"VLOOKUP(MONTH(D29),[0]!rainforpaddy,4)/1000*$E$6*1600*7","v":{"$error":"#N/A"}},4,80,null,19,2,2,2,2,2,2,2,2,2,2,2,2,2,2,2,2,2,2,1,0,0,0,0,2,2,2]
[null,"2009-03-14","2009-03-20","2009-03-20",20,1200,{"$f":"VLOOKUP($D$5,evap!$B$4:$P$88,MONTH(D30)+2,FALSE)/4*0.7+7","v":{"$error":"#N/A"}},{"$error":"#N/A"},{"$f":"VLOOKUP(MONTH(D30),[0]!rainforpaddy,4)/1000*$E$6*1600*7","v":{"$error":"#N/A"}},4,80,null,20,2,2,2,2,2,2,2,2,2,2,2,2,2,2,2,2,2,2,2,1,0,0,0,0,2,2]
[null,"2009-03-21","2009-03-27","2009-03-27",21,1200,{"$f":"VLOOKUP($D$5,evap!$B$4:$P$88,MONTH(D31)+2,FALSE)/4*0.7+7","v":{"$error":"#N/A"}},{"$error":"#N/A"},{"$f":"VLOOKUP(MONTH(D31),[0]!rainforpaddy,4)/1000*$E$6*1600*7","v":{"$error":"#N/A"}},4,80,null,21,2,2,2,2,2,2,2,2,2,2,2,2,2,2,2,2,2,2,2,2,1,0,0,0,0,2]
[null,"2009-03-28","2009-04-03","2009-04-03",22,1200,{"$f":"VLOOKUP($D$5,evap!$B$4:$P$88,MONTH(D32)+2,FALSE)/4*0.7+7","v":{"$error":"#N/A"}},{"$error":"#N/A"},{"$f":"VLOOKUP(MONTH(D32),[0]!rainforpaddy,4)/1000*$E$6*1600*7","v":{"$error":"#N/A"}},4,80,null,22,2,2,2,2,2,2,2,2,2,2,2,2,2,2,2,2,2,2,2,2,2,1,0,0,0,0]
[null,"2009-04-04","2009-04-10","2009-04-10",23,1200,{"$f":"VLOOKUP($D$5,evap!$B$4:$P$88,MONTH(D33)+2,FALSE)/4*0.7+7","v":{"$error":"#N/A"}},{"$error":"#N/A"},{"$f":"VLOOKUP(MONTH(D33),[0]!rainforpaddy,4)/1000*$E$6*1600*7","v":{"$error":"#N/A"}},4,81,null,23,0,2,2,2,2,2,2,2,2,2,2,2,2,2,2,2,2,2,2,2,2,2,1,0,0,0]
[null,"2009-04-11","2009-04-17","2009-04-17",24,1200,{"$f":"VLOOKUP($D$5,evap!$B$4:$P$88,MONTH(D34)+2,FALSE)/4*0.7+7","v":{"$error":"#N/A"}},{"$error":"#N/A"},{"$f":"VLOOKUP(MONTH(D34),[0]!rainforpaddy,4)/1000*$E$6*1600*7","v":{"$error":"#N/A"}},4,82,null,24,0,0,2,2,2,2,2,2,2,2,2,2,2,2,2,2,2,2,2,2,2,2,2,1,0,0]
[null,"2009-04-18","2009-04-24","2009-04-24",25,1200,{"$f":"VLOOKUP($D$5,evap!$B$4:$P$88,MONTH(D35)+2,FALSE)/4*0.7+7","v":{"$error":"#N/A"}},{"$error":"#N/A"},{"$f":"VLOOKUP(MONTH(D35),[0]!rainforpaddy,4)/1000*$E$6*1600*7","v":{"$error":"#N/A"}},4,83,null,25,0,0,0,2,2,2,2,2,2,2,2,2,2,2,2,2,2,2,2,2,2,2,2,2,1,0]
[null,"2009-04-25","2009-05-01","2009-05-01",26,1200,{"$f":"VLOOKUP($D$5,evap!$B$4:$P$88,MONTH(D36)+2,FALSE)/4*0.7+7","v":{"$error":"#N/A"}},{"$error":"#N/A"},{"$f":"VLOOKUP(MONTH(D36),[0]!rainforpaddy,4)/1000*$E$6*1600*7","v":{"$error":"#N/A"}},4,84,null,26,0,0,0,0,2,2,2,2,2,2,2,2,2,2,2,2,2,2,2,2,2,2,2,2,2,1]
[null,"2009-05-02","2009-05-08","2009-05-08",27,1200,{"$f":"VLOOKUP($D$5,evap!$B$4:$P$88,MONTH(D37)+2,FALSE)/4*0.7+7","v":{"$error":"#N/A"}},{"$error":"#N/A"},{"$f":"VLOOKUP(MONTH(D37),[0]!rainforpaddy,4)/1000*$E$6*1600*7","v":{"$error":"#N/A"}},3,84,null,27,1,0,0,0,0,2,2,2,2,2,2,2,2,2,2,2,2,2,2,2,2,2,2,2,2,2]
[null,"2009-05-09","2009-05-15","2009-05-15",28,1200,{"$f":"VLOOKUP($D$5,evap!$B$4:$P$88,MONTH(D38)+2,FALSE)/4*0.7+7","v":{"$error":"#N/A"}},{"$error":"#N/A"},{"$f":"VLOOKUP(MONTH(D38),[0]!rainforpaddy,4)/1000*$E$6*1600*7","v":{"$error":"#N/A"}},3,83,null,28,2,1,0,0,0,0,2,2,2,2,2,2,2,2,2,2,2,2,2,2,2,2,2,2,2,2]
[null,"2009-05-16","2009-05-22","2009-05-22",29,1200,{"$f":"VLOOKUP($D$5,evap!$B$4:$P$88,MONTH(D39)+2,FALSE)/4*0.7+7","v":{"$error":"#N/A"}},{"$error":"#N/A"},{"$f":"VLOOKUP(MONTH(D39),[0]!rainforpaddy,4)/1000*$E$6*1600*7","v":{"$error":"#N/A"}},3,82,null,29,2,2,1,0,0,0,0,2,2,2,2,2,2,2,2,2,2,2,2,2,2,2,2,2,2,2]
[null,"2009-05-23","2009-05-29","2009-05-29",30,1200,{"$f":"VLOOKUP($D$5,evap!$B$4:$P$88,MONTH(D40)+2,FALSE)/4*0.7+7","v":{"$error":"#N/A"}},{"$error":"#N/A"},{"$f":"VLOOKUP(MONTH(D40),[0]!rainforpaddy,4)/1000*$E$6*1600*7","v":{"$error":"#N/A"}},3,81,null,30,2,2,2,1,0,0,0,0,2,2,2,2,2,2,2,2,2,2,2,2,2,2,2,2,2,2]
[null,"2009-05-30","2009-06-05","2009-06-05",31,1200,{"$f":"VLOOKUP($D$5,evap!$B$4:$P$88,MONTH(D41)+2,FALSE)/4*0.7+7","v":{"$error":"#N/A"}},{"$error":"#N/A"},{"$f":"VLOOKUP(MONTH(D41),[0]!rainforpaddy,4)/1000*$E$6*1600*7","v":{"$error":"#N/A"}},4,80,null,31,2,2,2,2,1,0,0,0,0,2,2,2,2,2,2,2,2,2,2,2,2,2,2,2,2,2]
[null,"2009-06-06","2009-06-12","2009-06-12",32,1200,{"$f":"VLOOKUP($D$5,evap!$B$4:$P$88,MONTH(D42)+2,FALSE)/4*0.7+7","v":{"$error":"#N/A"}},{"$error":"#N/A"},{"$f":"VLOOKUP(MONTH(D42),[0]!rainforpaddy,4)/1000*$E$6*1600*7","v":{"$error":"#N/A"}},4,80,null,32,2,2,2,2,2,1,0,0,0,0,2,2,2,2,2,2,2,2,2,2,2,2,2,2,2,2]
[null,"2009-06-13",{"$f":"B43+6","v":"2009-06-19"},"2009-06-19",33,1200,{"$f":"VLOOKUP($D$5,evap!$B$4:$P$88,MONTH(D43)+2,FALSE)/4*0.7+7","v":{"$error":"#N/A"}},{"$f":"+(F43*J43+G43*K43)*$E$6/100*1.6","v":{"$error":"#N/A"}},{"$f":"VLOOKUP(MONTH(D43),[0]!rainforpaddy,4)/1000*$E$6*1600*7","v":{"$error":"#N/A"}},4,80,null,33,2,2,2,2,2,2,1,0,0,0,0,2,2,2,2,2,2,2,2,2,2,2,2,2,2,2]
[null,{"$f":"C43+1","v":"2009-06-20"},"2009-06-26","2009-06-26",34,1200,{"$f":"VLOOKUP($D$5,evap!$B$4:$P$88,MONTH(D44)+2,FALSE)/4*0.7+7","v":{"$error":"#N/A"}},{"$error":"#N/A"},{"$f":"VLOOKUP(MONTH(D44),[0]!rainforpaddy,4)/1000*$E$6*1600*7","v":{"$error":"#N/A"}},4,80,null,34,2,2,2,2,2,2,2,1,0,0,0,0,2,2,2,2,2,2,2,2,2,2,2,2,2,2]
[null,"2009-06-27","2009-07-03","2009-07-03",35,1200,{"$f":"VLOOKUP($D$5,evap!$B$4:$P$88,MONTH(D45)+2,FALSE)/4*0.7+7","v":{"$error":"#N/A"}},{"$error":"#N/A"},{"$f":"VLOOKUP(MONTH(D45),[0]!rainforpaddy,4)/1000*$E$6*1600*7","v":{"$error":"#N/A"}},4,80,null,35,2,2,2,2,2,2,2,2,1,0,0,0,0,2,2,2,2,2,2,2,2,2,2,2,2,2]
[null,"2009-07-04","2009-07-10","2009-07-10",36,1200,{"$f":"VLOOKUP($D$5,evap!$B$4:$P$88,MONTH(D46)+2,FALSE)/4*0.7+7","v":{"$error":"#N/A"}},{"$error":"#N/A"},{"$f":"VLOOKUP(MONTH(D46),[0]!rainforpaddy,4)/1000*$E$6*1600*7","v":{"$error":"#N/A"}},4,80,null,36,2,2,2,2,2,2,2,2,2,1,0,0,0,0,2,2,2,2,2,2,2,2,2,2,2,2]
[null,"2009-07-11","2009-07-17","2009-07-17",37,1200,{"$f":"VLOOKUP($D$5,evap!$B$4:$P$88,MONTH(D47)+2,FALSE)/4*0.7+7","v":{"$error":"#N/A"}},{"$error":"#N/A"},{"$f":"VLOOKUP(MONTH(D47),[0]!rainforpaddy,4)/1000*$E$6*1600*7","v":{"$error":"#N/A"}},4,80,null,37,2,2,2,2,2,2,2,2,2,2,1,0,0,0,0,2,2,2,2,2,2,2,2,2,2,2]
[null,"2009-07-18","2009-07-24","2009-07-24",38,1200,{"$f":"VLOOKUP($D$5,evap!$B$4:$P$88,MONTH(D48)+2,FALSE)/4*0.7+7","v":{"$error":"#N/A"}},{"$error":"#N/A"},{"$f":"VLOOKUP(MONTH(D48),[0]!rainforpaddy,4)/1000*$E$6*1600*7","v":{"$error":"#N/A"}},4,80,null,38,2,2,2,2,2,2,2,2,2,2,2,1,0,0,0,0,2,2,2,2,2,2,2,2,2,2]
[null,"2009-07-25","2009-07-31","2009-07-31",39,1200,{"$f":"VLOOKUP($D$5,evap!$B$4:$P$88,MONTH(D49)+2,FALSE)/4*0.7+7","v":{"$error":"#N/A"}},{"$error":"#N/A"},{"$f":"VLOOKUP(MONTH(D49),[0]!rainforpaddy,4)/1000*$E$6*1600*7","v":{"$error":"#N/A"}},4,80,null,39,2,2,2,2,2,2,2,2,2,2,2,2,1,0,0,0,0,2,2,2,2,2,2,2,2,2]
[null,"2009-08-01","2009-08-07","2009-08-07",40,1200,{"$f":"VLOOKUP($D$5,evap!$B$4:$P$88,MONTH(D50)+2,FALSE)/4*0.7+7","v":{"$error":"#N/A"}},{"$error":"#N/A"},{"$f":"VLOOKUP(MONTH(D50),[0]!rainforpaddy,4)/1000*$E$6*1600*7","v":{"$error":"#N/A"}},4,80,null,40,2,2,2,2,2,2,2,2,2,2,2,2,2,1,0,0,0,0,2,2,2,2,2,2,2,2]
[null,"2009-08-08","2009-08-14","2009-08-14",41,1200,{"$f":"VLOOKUP($D$5,evap!$B$4:$P$88,MONTH(D51)+2,FALSE)/4*0.7+7","v":{"$error":"#N/A"}},{"$error":"#N/A"},{"$f":"VLOOKUP(MONTH(D51),[0]!rainforpaddy,4)/1000*$E$6*1600*7","v":{"$error":"#N/A"}},4,80,null,41,2,2,2,2,2,2,2,2,2,2,2,2,2,2,1,0,0,0,0,2,2,2,2,2,2,2]
[null,"2009-08-15","2009-08-21","2009-08-21",42,1200,{"$f":"VLOOKUP($D$5,evap!$B$4:$P$88,MONTH(D52)+2,FALSE)/4*0.7+7","v":{"$error":"#N/A"}},{"$error":"#N/A"},{"$f":"VLOOKUP(MONTH(D52),[0]!rainforpaddy,4)/1000*$E$6*1600*7","v":{"$error":"#N/A"}},4,80,null,42,2,2,2,2,2,2,2,2,2,2,2,2,2,2,2,1,0,0,0,0,2,2,2,2,2,2]
[null,"2009-08-22","2009-08-28","2009-08-28",43,1200,{"$f":"VLOOKUP($D$5,evap!$B$4:$P$88,MONTH(D53)+2,FALSE)/4*0.7+7","v":{"$error":"#N/A"}},{"$error":"#N/A"},{"$f":"VLOOKUP(MONTH(D53),[0]!rainforpaddy,4)/1000*$E$6*1600*7","v":{"$error":"#N/A"}},4,80,null,43,2,2,2,2,2,2,2,2,2,2,2,2,2,2,2,2,1,0,0,0,0,2,2,2,2,2]
[null,"2009-08-29","2009-09-04","2009-09-04",44,1200,{"$f":"VLOOKUP($D$5,evap!$B$4:$P$88,MONTH(D54)+2,FALSE)/4*0.7+7","v":{"$error":"#N/A"}},{"$error":"#N/A"},{"$f":"VLOOKUP(MONTH(D54),[0]!rainforpaddy,4)/1000*$E$6*1600*7","v":{"$error":"#N/A"}},4,80,null,44,2,2,2,2,2,2,2,2,2,2,2,2,2,2,2,2,2,1,0,0,0,0,2,2,2,2]
[null,"2009-09-05","2009-09-11","2009-09-11",45,1200,{"$f":"VLOOKUP($D$5,evap!$B$4:$P$88,MONTH(D55)+2,FALSE)/4*0.7+7","v":{"$error":"#N/A"}},{"$error":"#N/A"},{"$f":"VLOOKUP(MONTH(D55),[0]!rainforpaddy,4)/1000*$E$6*1600*7","v":{"$error":"#N/A"}},4,80,null,45,2,2,2,2,2,2,2,2,2,2,2,2,2,2,2,2,2,2,1,0,0,0,0,2,2,2]
[null,"2009-09-12","2009-09-18","2009-09-18",46,1200,{"$f":"VLOOKUP($D$5,evap!$B$4:$P$88,MONTH(D56)+2,FALSE)/4*0.7+7","v":{"$error":"#N/A"}},{"$error":"#N/A"},{"$f":"VLOOKUP(MONTH(D56),[0]!rainforpaddy,4)/1000*$E$6*1600*7","v":{"$error":"#N/A"}},4,80,null,46,2,2,2,2,2,2,2,2,2,2,2,2,2,2,2,2,2,2,2,1,0,0,0,0,2,2]
[null,"2009-09-19","2009-09-25","2009-09-25",47,1200,{"$f":"VLOOKUP($D$5,evap!$B$4:$P$88,MONTH(D57)+2,FALSE)/4*0.7+7","v":{"$error":"#N/A"}},{"$error":"#N/A"},{"$f":"VLOOKUP(MONTH(D57),[0]!rainforpaddy,4)/1000*$E$6*1600*7","v":{"$error":"#N/A"}},4,80,null,47,2,2,2,2,2,2,2,2,2,2,2,2,2,2,2,2,2,2,2,2,1,0,0,0,0,2]
[null,"2009-09-26","2009-10-02","2009-10-02",48,1200,{"$f":"VLOOKUP($D$5,evap!$B$4:$P$88,MONTH(D58)+2,FALSE)/4*0.7+7","v":{"$error":"#N/A"}},{"$error":"#N/A"},{"$f":"VLOOKUP(MONTH(D58),[0]!rainforpaddy,4)/1000*$E$6*1600*7","v":{"$error":"#N/A"}},4,80,null,48,2,2,2,2,2,2,2,2,2,2,2,2,2,2,2,2,2,2,2,2,2,1,0,0,0,0]
[null,"2009-10-03","2009-10-09","2009-10-09",49,1200,{"$f":"VLOOKUP($D$5,evap!$B$4:$P$88,MONTH(D59)+2,FALSE)/4*0.7+7","v":{"$error":"#N/A"}},{"$error":"#N/A"},{"$f":"VLOOKUP(MONTH(D59),[0]!rainforpaddy,4)/1000*$E$6*1600*7","v":{"$error":"#N/A"}},4,81,null,49,0,2,2,2,2,2,2,2,2,2,2,2,2,2,2,2,2,2,2,2,2,2,1,0,0,0]
[null,"2009-10-10","2009-10-16","2009-10-16",50,1200,{"$f":"VLOOKUP($D$5,evap!$B$4:$P$88,MONTH(D60)+2,FALSE)/4*0.7+7","v":{"$error":"#N/A"}},{"$error":"#N/A"},{"$f":"VLOOKUP(MONTH(D60),[0]!rainforpaddy,4)/1000*$E$6*1600*7","v":{"$error":"#N/A"}},4,82,null,50,0,0,2,2,2,2,2,2,2,2,2,2,2,2,2,2,2,2,2,2,2,2,2,1,0,0]
[null,"2009-10-17","2009-10-23","2009-10-23",51,1200,{"$f":"VLOOKUP($D$5,evap!$B$4:$P$88,MONTH(D61)+2,FALSE)/4*0.7+7","v":{"$error":"#N/A"}},{"$error":"#N/A"},{"$f":"VLOOKUP(MONTH(D61),[0]!rainforpaddy,4)/1000*$E$6*1600*7","v":{"$error":"#N/A"}},4,83,null,51,0,0,0,2,2,2,2,2,2,2,2,2,2,2,2,2,2,2,2,2,2,2,2,2,1,0]
[null,"2009-10-24","2009-10-30","2009-10-30",52,1200,{"$f":"VLOOKUP($D$5,evap!$B$4:$P$88,MONTH(D62)+2,FALSE)/4*0.7+7","v":{"$error":"#N/A"}},{"$error":"#N/A"},{"$f":"VLOOKUP(MONTH(D62),[0]!rainforpaddy,4)/1000*$E$6*1600*7","v":{"$error":"#N/A"}},4,84,null,52,0,0,0,0,2,2,2,2,2,2,2,2,2,2,2,2,2,2,2,2,2,2,2,2,2,1]
[null,null,null,null,null,null,null,{"$f":"SUM(H11:H62)","v":{"$error":"#N/A"}},{"$f":"SUM(I11:I62)","v":{"$error":"#N/A"}}]

{"sheet":"prawnpond","index":9,"n_rows":63,"n_cols":11,"rows_kept":63,"cut":false,"hidden":false,"merged":[[2,3,2,4],[4,3,4,4]]}
[null,"ตารางแสดงรายละเอียดการคำนวณความต้องการน้ำของบ่อกุ้ง"]
[]
[null,"จังหวัด",null,{"$f":"+fill_data!C4","v":0}]
[null,"สัปดาห์เริ่มต้น",null,null,1]
[null,"ใช้ค่า ETo ของจังหวัด",null,{"$f":"VLOOKUP(D3,Prv!D3:E78,2,FALSE)","v":{"$error":"#N/A"}}]
[null,"พื้นที่บ่อกุ้ง, ไร่",null,null,{"$f":"+fill_data!K55","v":0}]
[]
[null,"(1)","(2)","(3)","(4)","(5)","(6)","(8)"]
[null,"ช่วงเวลาสัปดาห์",null,"เดือน","สัปดาห์","ความต้องการน้ำ (มม.)",null,"ความต้องการน้ำ",null,null,"ฝนใช้การ"]
[null,"เริ่มต้น","สิ้นสุด",null,null,"เปลี่ยนน้ำ","ถ่ายน้ำ","(ลบ.ม.)",null,null,"(ลบ.ม.)"]
[null,"2008-11-01",{"$f":"B11+6","v":"2008-11-07"},{"$f":"+C11","v":"2008-11-07"},1,1200,{"$f":"VLOOKUP($D$5,evap!$B$4:$P$88,MONTH(D11)+2,FALSE)/4*0.7+7","v":{"$error":"#N/A"}},{"$f":"+(F11*I11+G11*J11)*$E$6/100*1.6","v":{"$error":"#N/A"}},3,97,{"$f":"VLOOKUP(MONTH(D11),[0]!rainforpaddy,4)/1000*$E$6*1600*7","v":{"$error":"#N/A"}}]
[null,{"$f":"C11+1","v":"2008-11-08"},"2008-11-14",{"$f":"+C12","v":"2008-11-14"},2,1200,{"$f":"VLOOKUP($D$5,evap!$B$4:$P$88,MONTH(D12)+2,FALSE)/4*0.7+7","v":{"$error":"#N/A"}},{"$f":"+(F12*I12+G12*J12)*$E$6/100*1.6","v":{"$error":"#N/A"}},3,97,{"$f":"VLOOKUP(MONTH(D12),[0]!rainforpaddy,4)/1000*$E$6*1600*7","v":{"$error":"#N/A"}}]
[null,"2008-11-15","2008-11-21",{"$f":"+C13","v":"2008-11-21"},3,1200,{"$f":"VLOOKUP($D$5,evap!$B$4:$P$88,MONTH(D13)+2,FALSE)/4*0.7+7","v":{"$error":"#N/A"}},{"$error":"#N/A"},3,97,{"$f":"VLOOKUP(MONTH(D13),[0]!rainforpaddy,4)/1000*$E$6*1600*7","v":{"$error":"#N/A"}}]
[null,"2008-11-22","2008-11-28","2008-11-28",4,1200,{"$f":"VLOOKUP($D$5,evap!$B$4:$P$88,MONTH(D14)+2,FALSE)/4*0.7+7","v":{"$error":"#N/A"}},{"$error":"#N/A"},3,97,{"$f":"VLOOKUP(MONTH(D14),[0]!rainforpaddy,4)/1000*$E$6*1600*7","v":{"$error":"#N/A"}}]
[null,"2008-11-29","2008-12-05","2008-12-05",5,1200,{"$f":"VLOOKUP($D$5,evap!$B$4:$P$88,MONTH(D15)+2,FALSE)/4*0.7+7","v":{"$error":"#N/A"}},{"$error":"#N/A"},4,96,{"$f":"VLOOKUP(MONTH(D15),[0]!rainforpaddy,4)/1000*$E$6*1600*7","v":{"$error":"#N/A"}}]
[null,"2008-12-06","2008-12-12","2008-12-12",6,1200,{"$f":"VLOOKUP($D$5,evap!$B$4:$P$88,MONTH(D16)+2,FALSE)/4*0.7+7","v":{"$error":"#N/A"}},{"$error":"#N/A"},4,96,{"$f":"VLOOKUP(MONTH(D16),[0]!rainforpaddy,4)/1000*$E$6*1600*7","v":{"$error":"#N/A"}}]
[null,"2008-12-13","2008-12-19","2008-12-19",7,1200,{"$f":"VLOOKUP($D$5,evap!$B$4:$P$88,MONTH(D17)+2,FALSE)/4*0.7+7","v":{"$error":"#N/A"}},{"$error":"#N/A"},4,96,{"$f":"VLOOKUP(MONTH(D17),[0]!rainforpaddy,4)/1000*$E$6*1600*7","v":{"$error":"#N/A"}}]
[null,"2008-12-20","2008-12-26","2008-12-26",8,1200,{"$f":"VLOOKUP($D$5,evap!$B$4:$P$88,MONTH(D18)+2,FALSE)/4*0.7+7","v":{"$error":"#N/A"}},{"$error":"#N/A"},4,96,{"$f":"VLOOKUP(MONTH(D18),[0]!rainforpaddy,4)/1000*$E$6*1600*7","v":{"$error":"#N/A"}}]
[null,"2008-12-27","2009-01-02","2009-01-02",9,1200,{"$f":"VLOOKUP($D$5,evap!$B$4:$P$88,MONTH(D19)+2,FALSE)/4*0.7+7","v":{"$error":"#N/A"}},{"$error":"#N/A"},4,96,{"$f":"VLOOKUP(MONTH(D19),[0]!rainforpaddy,4)/1000*$E$6*1600*7","v":{"$error":"#N/A"}}]
[null,"2009-01-03","2009-01-09","2009-01-09",10,1200,{"$f":"VLOOKUP($D$5,evap!$B$4:$P$88,MONTH(D20)+2,FALSE)/4*0.7+7","v":{"$error":"#N/A"}},{"$error":"#N/A"},4,96,{"$f":"VLOOKUP(MONTH(D20),[0]!rainforpaddy,4)/1000*$E$6*1600*7","v":{"$error":"#N/A"}}]
[null,"2009-01-10","2009-01-16","2009-01-16",11,1200,{"$f":"VLOOKUP($D$5,evap!$B$4:$P$88,MONTH(D21)+2,FALSE)/4*0.7+7","v":{"$error":"#N/A"}},{"$error":"#N/A"},4,96,{"$f":"VLOOKUP(MONTH(D21),[0]!rainforpaddy,4)/1000*$E$6*1600*7","v":{"$error":"#N/A"}}]
[null,"2009-01-17","2009-01-23","2009-01-23",12,1200,{"$f":"VLOOKUP($D$5,evap!$B$4:$P$88,MONTH(D22)+2,FALSE)/4*0.7+7","v":{"$error":"#N/A"}},{"$error":"#N/A"},4,96,{"$f":"VLOOKUP(MONTH(D22),[0]!rainforpaddy,4)/1000*$E$6*1600*7","v":{"$error":"#N/A"}}]
[null,"2009-01-24","2009-01-30","2009-01-30",13,1200,{"$f":"VLOOKUP($D$5,evap!$B$4:$P$88,MONTH(D23)+2,FALSE)/4*0.7+7","v":{"$error":"#N/A"}},{"$error":"#N/A"},4,96,{"$f":"VLOOKUP(MONTH(D23),[0]!rainforpaddy,4)/1000*$E$6*1600*7","v":{"$error":"#N/A"}}]
[null,"2009-01-31","2009-02-06","2009-02-06",14,1200,{"$f":"VLOOKUP($D$5,evap!$B$4:$P$88,MONTH(D24)+2,FALSE)/4*0.7+7","v":{"$error":"#N/A"}},{"$error":"#N/A"},4,96,{"$f":"VLOOKUP(MONTH(D24),[0]!rainforpaddy,4)/1000*$E$6*1600*7","v":{"$error":"#N/A"}}]
[null,"2009-02-07","2009-02-13","2009-02-13",15,1200,{"$f":"VLOOKUP($D$5,evap!$B$4:$P$88,MONTH(D25)+2,FALSE)/4*0.7+7","v":{"$error":"#N/A"}},{"$error":"#N/A"},4,96,{"$f":"VLOOKUP(MONTH(D25),[0]!rainforpaddy,4)/1000*$E$6*1600*7","v":{"$error":"#N/A"}}]
[null,"2009-02-14","2009-02-20","2009-02-20",16,1200,{"$f":"VLOOKUP($D$5,evap!$B$4:$P$88,MONTH(D26)+2,FALSE)/4*0.7+7","v":{"$error":"#N/A"}},{"$error":"#N/A"},4,96,{"$f":"VLOOKUP(MONTH(D26),[0]!rainforpaddy,4)/1000*$E$6*1600*7","v":{"$error":"#N/A"}}]
[null,"2009-02-21","2009-02-27","2009-02-27",17,1200,{"$f":"VLOOKUP($D$5,evap!$B$4:$P$88,MONTH(D27)+2,FALSE)/4*0.7+7","v":{"$error":"#N/A"}},{"$error":"#N/A"},4,96,{"$f":"VLOOKUP(MONTH(D27),[0]!rainforpaddy,4)/1000*$E$6*1600*7","v":{"$error":"#N/A"}}]
[null,"2009-02-28","2009-03-06","2009-03-06",18,1200,{"$f":"VLOOKUP($D$5,evap!$B$4:$P$88,MONTH(D28)+2,FALSE)/4*0.7+7","v":{"$error":"#N/A"}},{"$error":"#N/A"},4,96,{"$f":"VLOOKUP(MONTH(D28),[0]!rainforpaddy,4)/1000*$E$6*1600*7","v":{"$error":"#N/A"}}]
[null,"2009-03-07","2009-03-13","2009-03-13",19,1200,{"$f":"VLOOKUP($D$5,evap!$B$4:$P$88,MONTH(D29)+2,FALSE)/4*0.7+7","v":{"$error":"#N/A"}},{"$error":"#N/A"},4,96,{"$f":"VLOOKUP(MONTH(D29),[0]!rainforpaddy,4)/1000*$E$6*1600*7","v":{"$error":"#N/A"}}]
[null,"2009-03-14","2009-03-20","2009-03-20",20,1200,{"$f":"VLOOKUP($D$5,evap!$B$4:$P$88,MONTH(D30)+2,FALSE)/4*0.7+7","v":{"$error":"#N/A"}},{"$error":"#N/A"},4,96,{"$f":"VLOOKUP(MONTH(D30),[0]!rainforpaddy,4)/1000*$E$6*1600*7","v":{"$error":"#N/A"}}]
[null,"2009-03-21","2009-03-27","2009-03-27",21,1200,{"$f":"VLOOKUP($D$5,evap!$B$4:$P$88,MONTH(D31)+2,FALSE)/4*0.7+7","v":{"$error":"#N/A"}},{"$error":"#N/A"},4,96,{"$f":"VLOOKUP(MONTH(D31),[0]!rainforpaddy,4)/1000*$E$6*1600*7","v":{"$error":"#N/A"}}]
[null,"2009-03-28","2009-04-03","2009-04-03",22,1200,{"$f":"VLOOKUP($D$5,evap!$B$4:$P$88,MONTH(D32)+2,FALSE)/4*0.7+7","v":{"$error":"#N/A"}},{"$error":"#N/A"},4,96,{"$f":"VLOOKUP(MONTH(D32),[0]!rainforpaddy,4)/1000*$E$6*1600*7","v":{"$error":"#N/A"}}]
[null,"2009-04-04","2009-04-10","2009-04-10",23,1200,{"$f":"VLOOKUP($D$5,evap!$B$4:$P$88,MONTH(D33)+2,FALSE)/4*0.7+7","v":{"$error":"#N/A"}},{"$error":"#N/A"},4,96,{"$f":"VLOOKUP(MONTH(D33),[0]!rainforpaddy,4)/1000*$E$6*1600*7","v":{"$error":"#N/A"}}]
[null,"2009-04-11","2009-04-17","2009-04-17",24,1200,{"$f":"VLOOKUP($D$5,evap!$B$4:$P$88,MONTH(D34)+2,FALSE)/4*0.7+7","v":{"$error":"#N/A"}},{"$error":"#N/A"},4,96,{"$f":"VLOOKUP(MONTH(D34),[0]!rainforpaddy,4)/1000*$E$6*1600*7","v":{"$error":"#N/A"}}]
[null,"2009-04-18","2009-04-24","2009-04-24",25,1200,{"$f":"VLOOKUP($D$5,evap!$B$4:$P$88,MONTH(D35)+2,FALSE)/4*0.7+7","v":{"$error":"#N/A"}},{"$error":"#N/A"},4,96,{"$f":"VLOOKUP(MONTH(D35),[0]!rainforpaddy,4)/1000*$E$6*1600*7","v":{"$error":"#N/A"}}]
[null,"2009-04-25","2009-05-01","2009-05-01",26,1200,{"$f":"VLOOKUP($D$5,evap!$B$4:$P$88,MONTH(D36)+2,FALSE)/4*0.7+7","v":{"$error":"#N/A"}},{"$error":"#N/A"},4,96,{"$f":"VLOOKUP(MONTH(D36),[0]!rainforpaddy,4)/1000*$E$6*1600*7","v":{"$error":"#N/A"}}]
[null,"2009-05-02","2009-05-08","2009-05-08",27,1200,{"$f":"VLOOKUP($D$5,evap!$B$4:$P$88,MONTH(D37)+2,FALSE)/4*0.7+7","v":{"$error":"#N/A"}},{"$error":"#N/A"},3,97,{"$f":"VLOOKUP(MONTH(D37),[0]!rainforpaddy,4)/1000*$E$6*1600*7","v":{"$error":"#N/A"}}]
[null,"2009-05-09","2009-05-15","2009-05-15",28,1200,{"$f":"VLOOKUP($D$5,evap!$B$4:$P$88,MONTH(D38)+2,FALSE)/4*0.7+7","v":{"$error":"#N/A"}},{"$error":"#N/A"},3,97,{"$f":"VLOOKUP(MONTH(D38),[0]!rainforpaddy,4)/1000*$E$6*1600*7","v":{"$error":"#N/A"}}]
[null,"2009-05-16","2009-05-22","2009-05-22",29,1200,{"$f":"VLOOKUP($D$5,evap!$B$4:$P$88,MONTH(D39)+2,FALSE)/4*0.7+7","v":{"$error":"#N/A"}},{"$error":"#N/A"},3,97,{"$f":"VLOOKUP(MONTH(D39),[0]!rainforpaddy,4)/1000*$E$6*1600*7","v":{"$error":"#N/A"}}]
[null,"2009-05-23","2009-05-29","2009-05-29",30,1200,{"$f":"VLOOKUP($D$5,evap!$B$4:$P$88,MONTH(D40)+2,FALSE)/4*0.7+7","v":{"$error":"#N/A"}},{"$error":"#N/A"},3,97,{"$f":"VLOOKUP(MONTH(D40),[0]!rainforpaddy,4)/1000*$E$6*1600*7","v":{"$error":"#N/A"}}]
[null,"2009-05-30","2009-06-05","2009-06-05",31,1200,{"$f":"VLOOKUP($D$5,evap!$B$4:$P$88,MONTH(D41)+2,FALSE)/4*0.7+7","v":{"$error":"#N/A"}},{"$error":"#N/A"},4,96,{"$f":"VLOOKUP(MONTH(D41),[0]!rainforpaddy,4)/1000*$E$6*1600*7","v":{"$error":"#N/A"}}]
[null,"2009-06-06","2009-06-12","2009-06-12",32,1200,{"$f":"VLOOKUP($D$5,evap!$B$4:$P$88,MONTH(D42)+2,FALSE)/4*0.7+7","v":{"$error":"#N/A"}},{"$error":"#N/A"},4,96,{"$f":"VLOOKUP(MONTH(D42),[0]!rainforpaddy,4)/1000*$E$6*1600*7","v":{"$error":"#N/A"}}]
[null,"2009-06-13",{"$f":"B43+6","v":"2009-06-19"},"2009-06-19",33,1200,{"$f":"VLOOKUP($D$5,evap!$B$4:$P$88,MONTH(D43)+2,FALSE)/4*0.7+7","v":{"$error":"#N/A"}},{"$error":"#N/A"},4,96,{"$f":"VLOOKUP(MONTH(D43),[0]!rainforpaddy,4)/1000*$E$6*1600*7","v":{"$error":"#N/A"}}]
[null,{"$f":"C43+1","v":"2009-06-20"},"2009-06-26","2009-06-26",34,1200,{"$f":"VLOOKUP($D$5,evap!$B$4:$P$88,MONTH(D44)+2,FALSE)/4*0.7+7","v":{"$error":"#N/A"}},{"$error":"#N/A"},4,96,{"$f":"VLOOKUP(MONTH(D44),[0]!rainforpaddy,4)/1000*$E$6*1600*7","v":{"$error":"#N/A"}}]
[null,"2009-06-27","2009-07-03","2009-07-03",35,1200,{"$f":"VLOOKUP($D$5,evap!$B$4:$P$88,MONTH(D45)+2,FALSE)/4*0.7+7","v":{"$error":"#N/A"}},{"$error":"#N/A"},4,96,{"$f":"VLOOKUP(MONTH(D45),[0]!rainforpaddy,4)/1000*$E$6*1600*7","v":{"$error":"#N/A"}}]
[null,"2009-07-04","2009-07-10","2009-07-10",36,1200,{"$f":"VLOOKUP($D$5,evap!$B$4:$P$88,MONTH(D46)+2,FALSE)/4*0.7+7","v":{"$error":"#N/A"}},{"$error":"#N/A"},4,96,{"$f":"VLOOKUP(MONTH(D46),[0]!rainforpaddy,4)/1000*$E$6*1600*7","v":{"$error":"#N/A"}}]
[null,"2009-07-11","2009-07-17","2009-07-17",37,1200,{"$f":"VLOOKUP($D$5,evap!$B$4:$P$88,MONTH(D47)+2,FALSE)/4*0.7+7","v":{"$error":"#N/A"}},{"$error":"#N/A"},4,96,{"$f":"VLOOKUP(MONTH(D47),[0]!rainforpaddy,4)/1000*$E$6*1600*7","v":{"$error":"#N/A"}}]
[null,"2009-07-18","2009-07-24","2009-07-24",38,1200,{"$f":"VLOOKUP($D$5,evap!$B$4:$P$88,MONTH(D48)+2,FALSE)/4*0.7+7","v":{"$error":"#N/A"}},{"$error":"#N/A"},4,96,{"$f":"VLOOKUP(MONTH(D48),[0]!rainforpaddy,4)/1000*$E$6*1600*7","v":{"$error":"#N/A"}}]
[null,"2009-07-25","2009-07-31","2009-07-31",39,1200,{"$f":"VLOOKUP($D$5,evap!$B$4:$P$88,MONTH(D49)+2,FALSE)/4*0.7+7","v":{"$error":"#N/A"}},{"$error":"#N/A"},4,96,{"$f":"VLOOKUP(MONTH(D49),[0]!rainforpaddy,4)/1000*$E$6*1600*7","v":{"$error":"#N/A"}}]
[null,"2009-08-01","2009-08-07","2009-08-07",40,1200,{"$f":"VLOOKUP($D$5,evap!$B$4:$P$88,MONTH(D50)+2,FALSE)/4*0.7+7","v":{"$error":"#N/A"}},{"$error":"#N/A"},4,96,{"$f":"VLOOKUP(MONTH(D50),[0]!rainforpaddy,4)/1000*$E$6*1600*7","v":{"$error":"#N/A"}}]
[null,"2009-08-08","2009-08-14","2009-08-14",41,1200,{"$f":"VLOOKUP($D$5,evap!$B$4:$P$88,MONTH(D51)+2,FALSE)/4*0.7+7","v":{"$error":"#N/A"}},{"$error":"#N/A"},4,96,{"$f":"VLOOKUP(MONTH(D51),[0]!rainforpaddy,4)/1000*$E$6*1600*7","v":{"$error":"#N/A"}}]
[null,"2009-08-15","2009-08-21","2009-08-21",42,1200,{"$f":"VLOOKUP($D$5,evap!$B$4:$P$88,MONTH(D52)+2,FALSE)/4*0.7+7","v":{"$error":"#N/A"}},{"$error":"#N/A"},4,96,{"$f":"VLOOKUP(MONTH(D52),[0]!rainforpaddy,4)/1000*$E$6*1600*7","v":{"$error":"#N/A"}}]
[null,"2009-08-22","2009-08-28","2009-08-28",43,1200,{"$f":"VLOOKUP($D$5,evap!$B$4:$P$88,MONTH(D53)+2,FALSE)/4*0.7+7","v":{"$error":"#N/A"}},{"$error":"#N/A"},4,96,{"$f":"VLOOKUP(MONTH(D53),[0]!rainforpaddy,4)/1000*$E$6*1600*7","v":{"$error":"#N/A"}}]
[null,"2009-08-29","2009-09-04","2009-09-04",44,1200,{"$f":"VLOOKUP($D$5,evap!$B$4:$P$88,MONTH(D54)+2,FALSE)/4*0.7+7","v":{"$error":"#N/A"}},{"$error":"#N/A"},4,96,{"$f":"VLOOKUP(MONTH(D54),[0]!rainforpaddy,4)/1000*$E$6*1600*7","v":{"$error":"#N/A"}}]
[null,"2009-09-05","2009-09-11","2009-09-11",45,1200,{"$f":"VLOOKUP($D$5,evap!$B$4:$P$88,MONTH(D55)+2,FALSE)/4*0.7+7","v":{"$error":"#N/A"}},{"$error":"#N/A"},4,96,{"$f":"VLOOKUP(MONTH(D55),[0]!rainforpaddy,4)/1000*$E$6*1600*7","v":{"$error":"#N/A"}}]
[null,"2009-09-12","2009-09-18","2009-09-18",46,1200,{"$f":"VLOOKUP($D$5,evap!$B$4:$P$88,MONTH(D56)+2,FALSE)/4*0.7+7","v":{"$error":"#N/A"}},{"$error":"#N/A"},4,96,{"$f":"VLOOKUP(MONTH(D56),[0]!rainforpaddy,4)/1000*$E$6*1600*7","v":{"$error":"#N/A"}}]
[null,"2009-09-19","2009-09-25","2009-09-25",47,1200,{"$f":"VLOOKUP($D$5,evap!$B$4:$P$88,MONTH(D57)+2,FALSE)/4*0.7+7","v":{"$error":"#N/A"}},{"$error":"#N/A"},4,96,{"$f":"VLOOKUP(MONTH(D57),[0]!rainforpaddy,4)/1000*$E$6*1600*7","v":{"$error":"#N/A"}}]
[null,"2009-09-26","2009-10-02","2009-10-02",48,1200,{"$f":"VLOOKUP($D$5,evap!$B$4:$P$88,MONTH(D58)+2,FALSE)/4*0.7+7","v":{"$error":"#N/A"}},{"$error":"#N/A"},4,96,{"$f":"VLOOKUP(MONTH(D58),[0]!rainforpaddy,4)/1000*$E$6*1600*7","v":{"$error":"#N/A"}}]
[null,"2009-10-03","2009-10-09","2009-10-09",49,1200,{"$f":"VLOOKUP($D$5,evap!$B$4:$P$88,MONTH(D59)+2,FALSE)/4*0.7+7","v":{"$error":"#N/A"}},{"$error":"#N/A"},4,96,{"$f":"VLOOKUP(MONTH(D59),[0]!rainforpaddy,4)/1000*$E$6*1600*7","v":{"$error":"#N/A"}}]
[null,"2009-10-10","2009-10-16","2009-10-16",50,1200,{"$f":"VLOOKUP($D$5,evap!$B$4:$P$88,MONTH(D60)+2,FALSE)/4*0.7+7","v":{"$error":"#N/A"}},{"$error":"#N/A"},4,96,{"$f":"VLOOKUP(MONTH(D60),[0]!rainforpaddy,4)/1000*$E$6*1600*7","v":{"$error":"#N/A"}}]
[null,"2009-10-17","2009-10-23","2009-10-23",51,1200,{"$f":"VLOOKUP($D$5,evap!$B$4:$P$88,MONTH(D61)+2,FALSE)/4*0.7+7","v":{"$error":"#N/A"}},{"$error":"#N/A"},4,96,{"$f":"VLOOKUP(MONTH(D61),[0]!rainforpaddy,4)/1000*$E$6*1600*7","v":{"$error":"#N/A"}}]
[null,"2009-10-24","2009-10-30","2009-10-30",52,1200,{"$f":"VLOOKUP($D$5,evap!$B$4:$P$88,MONTH(D62)+2,FALSE)/4*0.7+7","v":{"$error":"#N/A"}},{"$error":"#N/A"},4,96,{"$f":"VLOOKUP(MONTH(D62),[0]!rainforpaddy,4)/1000*$E$6*1600*7","v":{"$error":"#N/A"}}]
[null,null,null,null,null,null,null,{"$f":"SUM(H11:H62)","v":{"$error":"#N/A"}},null,null,{"$f":"SUM(K11:K62)","v":{"$error":"#N/A"}}]

{"sheet":"Prv","index":10,"n_rows":79,"n_cols":5,"rows_kept":79,"cut":false,"hidden":true,"merged":[]}
[]
[null,"no","prv_code","prv_name","ETo_sta"]
[null,1,109,"ชัยนาท","ลพบุรี"]
[null,2,124,"นนทบุรี","กรุงเทพมหานคร"]
[null,3,128,"ปทุมธานี","กรุงเทพมหานคร"]
[null,4,132,"กรุงเทพมหานคร","กรุงเทพมหานคร"]
[null,5,133,"พระนครศรีอยุธยา","สุพรรณบุรี"]
[null,6,149,"ลพบุรี","ลพบุรี"]
[null,7,160,"สระบุรี","ลพบุรี"]
[null,8,161,"สิงห์บุรี","ลพบุรี"]
[null,9,167,"อ่างทอง","สุพรรณบุรี"]
[null,10,206,"จันทบุรี","จันทบุรี"]
[null,11,207,"ฉะเชิงเทรา","กบินทร์บุรี"]
[null,12,208,"ชลบุรี","ชลบุรี"]
[null,13,215,"ตราด","จันทบุรี"]
[null,14,218,"นครนายก","ปราจีนบุรี"]
[null,15,230,"ปราจีนบุรี","ปราจีนบุรี"]
[null,16,247,"ระยอง","ระยอง"]
[null,17,257,"สมุทรปราการ","กรุงเทพมหานคร"]
[null,18,274,"สระแก้ว","สระแก้ว"]
[null,19,302,"กาญจนบุรี","กาญจนบุรี"]
[null,20,319,"นครปฐม","กาญจนบุรี"]
[null,21,329,"ประจวบคีรีขันธ์","ประจวบคีรีขันธ์"]
[null,22,338,"เพชรบุรี","เพชรบุรี"]
[null,23,348,"ราชบุรี","กาญจนบุรี"]
[null,24,358,"สมุทรสงคราม","เพชรบุรี"]
[null,25,359,"สมุทรสาคร","กรุงเทพมหานคร"]
[null,26,363,"สุพรรณบุรี","สุพรรณบุรี"]
[null,27,404,"กำแพงเพชร","กำแพงเพชร"]
[null,28,412,"เชียงราย","เชียงราย"]
[null,29,413,"เชียงใหม่","เชียงใหม่"]
[null,30,416,"ตาก","ตาก"]
[null,31,423,"นครสวรรค์","นครสวรรค์"]
[null,32,426,"น่าน","น่าน"]
[null,33,436,"พิจิตร","พิษณุโลก"]
[null,34,437,"พิษณุโลก","พิษณุโลก"]
[null,35,439,"เพชรบูรณ์","เพชรบูรณ์"]
[null,36,440,"แพร่","แพร่"]
[null,37,443,"แม่ฮ่องสอน","แม่ฮ่องสอน"]
[null,38,450,"ลำปาง","ลำปาง"]
[null,39,451,"ลำพูน","ลำพูน"]
[null,40,462,"สุโขทัย","สุโขทัย"]
[null,41,469,"อุตรดิตถ์","อุตรดิตถ์"]
[null,42,470,"อุทัยธานี","นครสวรรค์"]
[null,43,472,"พะเยา","พะเยา"]
[null,44,503,"กาฬสินธุ์","กมลาไสย"]
[null,45,505,"ขอนแก่น","ขอนแก่น"]
[null,46,510,"ชัยภูมิ","ชัยภูมิ"]
[null,47,517,"ยโสธร","ร้อยเอ็ด"]
[null,48,520,"นครพนม","นครพนม"]
[null,49,521,"นครราชสีมา","นครราชสีมา"]
[null,50,527,"บุรีรัมย์","นางรอง"]
[null,51,542,"มหาสารคาม","โกสุมพิสัย"]
[null,52,545,"ร้อยเอ็ด","ร้อยเอ็ด"]
[null,53,552,"เลย","เลย"]
[null,54,553,"ศรีสะเกษ","อุบลราชธานี"]
[null,55,554,"สกลนคร","สกลนคร"]
[null,56,565,"สุรินทร์","สุรินทร์"]
[null,57,566,"หนองคาย","หนองคาย"]
[null,58,568,"อุดรธานี","อุดรธานี"]
[null,59,571,"อุบลราชธานี","อุบลราชธานี"]
[null,60,573,"มุกดาหาร","มุกดาหาร"]
[null,61,575,"หนองบัวลำภู","อุดรธานี"]
[null,62,576,"อำนาจเจริญ","มุกดาหาร"]
[null,63,601,"กระบี่","นครศรีธรรมราช"]
[null,64,611,"ชุมพร","ชุมพร"]
[null,65,614,"ตรัง","ท่าอากาศยานตรัง"]
[null,66,622,"นครศรีธรรมราช","นครศรีธรรมราช"]
[null,67,625,"นราธิวาส","นราธิวาส"]
[null,68,631,"ปัตตานี","ท่าอากาศยานปัตตานี"]
[null,69,634,"พังงา","ท่าอากาศยานภูเก็ต"]
[null,70,635,"พัทลุง","ท่าอากาศยานตรัง"]
[null,71,641,"ภูเก็ต","ภูเก็ต"]
[null,72,644,"ยะลา","นราธิวาส"]
[null,73,646,"ระนอง","ระนอง"]
[null,74,655,"สงขลา","สงขลา"]
[null,75,656,"สตูล","สตูล"]
[null,76,664,"สุราษฎร์ธานี","สุราษฎร์ธานี"]
[null,77,null,"บึงกาฬ","หนองคาย"]

{"sheet":"ความต้องการน้ำรายสัปดาห์","index":11,"n_rows":63,"n_cols":10,"rows_kept":63,"cut":false,"hidden":true,"merged":[[0,0,0,7],[56,0,56,1]]}
["แผนความต้องการน้ำเพื่อการเกษตร - ล้าน ลบ.ม."]
["สัปดาห์","ระหว่างวันที่","รวม","ข้าวนาปรัง","ข้าวนาปี","พืชไร่ฤดูแล้ง","พืชไร่ฤดูฝน","ไม้ผล","บ่อปลา","บ่อกุ้ง"]
["ที่"]
["(1)","(2)","(3)","(4)","(5)","(6)","(7)","(8)","(9)","(10)"]
[1,"1-7 พ.ย. 51",{"$f":"SUM(D5:J5)","v":{"$error":"#N/A"}},{"$f":"+paddy_dry!AI27/1000000","v":{"$error":"#N/A"}},{"$f":"+paddy_rain!AI27/1000000","v":{"$error":"#N/A"}},{"$f":"+upland_dry!AI27/1000000","v":{"$error":"#N/A"}},{"$f":"+upland_rain!AI27/1000000","v":{"$error":"#N/A"}},{"$f":"+plant!Y16/1000000","v":{"$error":"#N/A"}},{"$f":"++fishpond!H11/1000000","v":{"$error":"#N/A"}},{"$f":"+prawnpond!H11/1000000","v":{"$error":"#N/A"}}]
[{"$f":"A5+1","v":2},"8-14 พ.ย. 51",{"$f":"SUM(D6:J6)","v":{"$error":"#N/A"}},{"$f":"+paddy_dry!AI28/1000000","v":{"$error":"#N/A"}},{"$f":"+paddy_rain!AI28/1000000","v":{"$error":"#N/A"}},{"$f":"+upland_dry!AI28/1000000","v":{"$error":"#N/A"}},{"$f":"+upland_rain!AI28/1000000","v":{"$error":"#N/A"}},{"$f":"+plant!Y17/1000000","v":{"$error":"#N/A"}},{"$f":"++fishpond!H12/1000000","v":{"$error":"#N/A"}},{"$f":"+prawnpond!H12/1000000","v":{"$error":"#N/A"}}]
[3,"15-21 พ.ย. 51",{"$error":"#N/A"},{"$f":"+paddy_dry!AI29/1000000","v":{"$error":"#N/A"}},{"$f":"+paddy_rain!AI29/1000000","v":{"$error":"#N/A"}},{"$f":"+upland_dry!AI29/1000000","v":{"$error":"#N/A"}},{"$f":"+upland_rain!AI29/1000000","v":{"$error":"#N/A"}},{"$f":"+plant!Y18/1000000","v":{"$error":"#N/A"}},{"$f":"++fishpond!H13/1000000","v":{"$error":"#N/A"}},{"$f":"+prawnpond!H13/1000000","v":{"$error":"#N/A"}}]
[4,"22 -28 พ.ย. 51",{"$error":"#N/A"},{"$f":"+paddy_dry!AI30/1000000","v":{"$error":"#N/A"}},{"$f":"+paddy_rain!AI30/1000000","v":{"$error":"#N/A"}},{"$f":"+upland_dry!AI30/1000000","v":{"$error":"#N/A"}},{"$f":"+upland_rain!AI30/1000000","v":{"$error":"#N/A"}},{"$f":"+plant!Y19/1000000","v":{"$error":"#N/A"}},{"$f":"++fishpond!H14/1000000","v":{"$error":"#N/A"}},{"$f":"+prawnpond!H14/1000000","v":{"$error":"#N/A"}}]
[5,"29 พ.ย.-5 ธ.ค. 51",{"$error":"#N/A"},{"$f":"+paddy_dry!AI31/1000000","v":{"$error":"#N/A"}},{"$f":"+paddy_rain!AI31/1000000","v":{"$error":"#N/A"}},{"$f":"+upland_dry!AI31/1000000","v":{"$error":"#N/A"}},{"$f":"+upland_rain!AI31/1000000","v":{"$error":"#N/A"}},{"$f":"+plant!Y20/1000000","v":{"$error":"#N/A"}},{"$f":"++fishpond!H15/1000000","v":{"$error":"#N/A"}},{"$f":"+prawnpond!H15/1000000","v":{"$error":"#N/A"}}]
[6,"6-112 ธ.ค.51",{"$error":"#N/A"},{"$f":"+paddy_dry!AI32/1000000","v":{"$error":"#N/A"}},{"$f":"+paddy_rain!AI32/1000000","v":{"$error":"#N/A"}},{"$f":"+upland_dry!AI32/1000000","v":{"$error":"#N/A"}},{"$f":"+upland_rain!AI32/1000000","v":{"$error":"#N/A"}},{"$f":"+plant!Y21/1000000","v":{"$error":"#N/A"}},{"$f":"++fishpond!H16/1000000","v":{"$error":"#N/A"}},{"$f":"+prawnpond!H16/1000000","v":{"$error":"#N/A"}}]
[7,"13-19 ธ.ค.51",{"$error":"#N/A"},{"$f":"+paddy_dry!AI33/1000000","v":{"$error":"#N/A"}},{"$f":"+paddy_rain!AI33/1000000","v":{"$error":"#N/A"}},{"$f":"+upland_dry!AI33/1000000","v":{"$error":"#N/A"}},{"$f":"+upland_rain!AI33/1000000","v":{"$error":"#N/A"}},{"$f":"+plant!Y22/1000000","v":{"$error":"#N/A"}},{"$f":"++fishpond!H17/1000000","v":{"$error":"#N/A"}},{"$f":"+prawnpond!H17/1000000","v":{"$error":"#N/A"}}]
[8,"20-26 ธ.ค. 51",{"$error":"#N/A"},{"$f":"+paddy_dry!AI34/1000000","v":{"$error":"#N/A"}},{"$f":"+paddy_rain!AI34/1000000","v":{"$error":"#N/A"}},{"$f":"+upland_dry!AI34/1000000","v":{"$error":"#N/A"}},{"$f":"+upland_rain!AI34/1000000","v":{"$error":"#N/A"}},{"$f":"+plant!Y23/1000000","v":{"$error":"#N/A"}},{"$f":"++fishpond!H18/1000000","v":{"$error":"#N/A"}},{"$f":"+prawnpond!H18/1000000","v":{"$error":"#N/A"}}]
[9,"27ธ.ค. 51-02 ม.ค.52",{"$error":"#N/A"},{"$f":"+paddy_dry!AI35/1000000","v":{"$error":"#N/A"}},{"$f":"+paddy_rain!AI35/1000000","v":{"$error":"#N/A"}},{"$f":"+upland_dry!AI35/1000000","v":{"$error":"#N/A"}},{"$f":"+upland_rain!AI35/1000000","v":{"$error":"#N/A"}},{"$f":"+plant!Y24/1000000","v":{"$error":"#N/A"}},{"$f":"++fishpond!H19/1000000","v":{"$error":"#N/A"}},{"$f":"+prawnpond!H19/1000000","v":{"$error":"#N/A"}}]
[10,"3-9 ม.ค. 52",{"$error":"#N/A"},{"$f":"+paddy_dry!AI36/1000000","v":{"$error":"#N/A"}},{"$f":"+paddy_rain!AI36/1000000","v":{"$error":"#N/A"}},{"$f":"+upland_dry!AI36/1000000","v":{"$error":"#N/A"}},{"$f":"+upland_rain!AI36/1000000","v":{"$error":"#N/A"}},{"$f":"+plant!Y25/1000000","v":{"$error":"#N/A"}},{"$f":"++fishpond!H20/1000000","v":{"$error":"#N/A"}},{"$f":"+prawnpond!H20/1000000","v":{"$error":"#N/A"}}]
[11,"10-16 ม.ค. 52",{"$error":"#N/A"},{"$f":"+paddy_dry!AI37/1000000","v":{"$error":"#N/A"}},{"$f":"+paddy_rain!AI37/1000000","v":{"$error":"#N/A"}},{"$f":"+upland_dry!AI37/1000000","v":{"$error":"#N/A"}},{"$f":"+upland_rain!AI37/1000000","v":{"$error":"#N/A"}},{"$f":"+plant!Y26/1000000","v":{"$error":"#N/A"}},{"$f":"++fishpond!H21/1000000","v":{"$error":"#N/A"}},{"$f":"+prawnpond!H21/1000000","v":{"$error":"#N/A"}}]
[12,"17-23 ม.ค. 52",{"$error":"#N/A"},{"$f":"+paddy_dry!AI38/1000000","v":{"$error":"#N/A"}},{"$f":"+paddy_rain!AI38/1000000","v":{"$error":"#N/A"}},{"$f":"+upland_dry!AI38/1000000","v":{"$error":"#N/A"}},{"$f":"+upland_rain!AI38/1000000","v":{"$error":"#N/A"}},{"$f":"+plant!Y27/1000000","v":{"$error":"#N/A"}},{"$f":"++fishpond!H22/1000000","v":{"$error":"#N/A"}},{"$f":"+prawnpond!H22/1000000","v":{"$error":"#N/A"}}]
[13,"24-30 ม.ค. 52",{"$error":"#N/A"},{"$f":"+paddy_dry!AI39/1000000","v":{"$error":"#N/A"}},{"$f":"+paddy_rain!AI39/1000000","v":{"$error":"#N/A"}},{"$f":"+upland_dry!AI39/1000000","v":{"$error":"#N/A"}},{"$f":"+upland_rain!AI39/1000000","v":{"$error":"#N/A"}},{"$f":"+plant!Y28/1000000","v":{"$error":"#N/A"}},{"$f":"++fishpond!H23/1000000","v":{"$error":"#N/A"}},{"$f":"+prawnpond!H23/1000000","v":{"$error":"#N/A"}}]
[14,"31 ม.ค.-6 ก.พ. 52",{"$error":"#N/A"},{"$f":"+paddy_dry!AI40/1000000","v":{"$error":"#N/A"}},{"$f":"+paddy_rain!AI40/1000000","v":{"$error":"#N/A"}},{"$f":"+upland_dry!AI40/1000000","v":{"$error":"#N/A"}},{"$f":"+upland_rain!AI40/1000000","v":{"$error":"#N/A"}},{"$f":"+plant!Y29/1000000","v":{"$error":"#N/A"}},{"$f":"++fishpond!H24/1000000","v":{"$error":"#N/A"}},{"$f":"+prawnpond!H24/1000000","v":{"$error":"#N/A"}}]
[15,"7-13 ก.พ. 52",{"$error":"#N/A"},{"$f":"+paddy_dry!AI41/1000000","v":{"$error":"#N/A"}},{"$f":"+paddy_rain!AI41/1000000","v":{"$error":"#N/A"}},{"$f":"+upland_dry!AI41/1000000","v":{"$error":"#N/A"}},{"$f":"+upland_rain!AI41/1000000","v":{"$error":"#N/A"}},{"$f":"+plant!Y30/1000000","v":{"$error":"#N/A"}},{"$f":"++fishpond!H25/1000000","v":{"$error":"#N/A"}},{"$f":"+prawnpond!H25/1000000","v":{"$error":"#N/A"}}]
[16,"14-20 ก.พ. 52",{"$error":"#N/A"},{"$f":"+paddy_dry!AI42/1000000","v":{"$error":"#N/A"}},{"$f":"+paddy_rain!AI42/1000000","v":{"$error":"#N/A"}},{"$f":"+upland_dry!AI42/1000000","v":{"$error":"#N/A"}},{"$f":"+upland_rain!AI42/1000000","v":{"$error":"#N/A"}},{"$f":"+plant!Y31/1000000","v":{"$error":"#N/A"}},{"$f":"++fishpond!H26/1000000","v":{"$error":"#N/A"}},{"$f":"+prawnpond!H26/1000000","v":{"$error":"#N/A"}}]
[17,"21-27 ก.พ. 52",{"$error":"#N/A"},{"$f":"+paddy_dry!AI43/1000000","v":{"$error":"#N/A"}},{"$f":"+paddy_rain!AI43/1000000","v":{"$error":"#N/A"}},{"$f":"+upland_dry!AI43/1000000","v":{"$error":"#N/A"}},{"$f":"+upland_rain!AI43/1000000","v":{"$error":"#N/A"}},{"$f":"+plant!Y32/1000000","v":{"$error":"#N/A"}},{"$f":"++fishpond!H27/1000000","v":{"$error":"#N/A"}},{"$f":"+prawnpond!H27/1000000","v":{"$error":"#N/A"}}]
[18,"28 ก.พ.-6 มี.ค. 52",{"$error":"#N/A"},{"$f":"+paddy_dry!AI44/1000000","v":{"$error":"#N/A"}},{"$f":"+paddy_rain!AI44/1000000","v":{"$error":"#N/A"}},{"$f":"+upland_dry!AI44/1000000","v":{"$error":"#N/A"}},{"$f":"+upland_rain!AI44/1000000","v":{"$error":"#N/A"}},{"$f":"+plant!Y33/1000000","v":{"$error":"#N/A"}},{"$f":"++fishpond!H28/1000000","v":{"$error":"#N/A"}},{"$f":"+prawnpond!H28/1000000","v":{"$error":"#N/A"}}]
[19,"7-13 มี.ค.52",{"$error":"#N/A"},{"$f":"+paddy_dry!AI45/1000000","v":{"$error":"#N/A"}},{"$f":"+paddy_rain!AI45/1000000","v":{"$error":"#N/A"}},{"$f":"+upland_dry!AI45/1000000","v":{"$error":"#N/A"}},{"$f":"+upland_rain!AI45/1000000","v":{"$error":"#N/A"}},{"$f":"+plant!Y34/1000000","v":{"$error":"#N/A"}},{"$f":"++fishpond!H29/1000000","v":{"$error":"#N/A"}},{"$f":"+prawnpond!H29/1000000","v":{"$error":"#N/A"}}]
[20,"14-20 มี.ค. 52",{"$error":"#N/A"},{"$f":"+paddy_dry!AI46/1000000","v":{"$error":"#N/A"}},{"$f":"+paddy_rain!AI46/1000000","v":{"$error":"#N/A"}},{"$f":"+upland_dry!AI46/1000000","v":{"$error":"#N/A"}},{"$f":"+upland_rain!AI46/1000000","v":{"$error":"#N/A"}},{"$f":"+plant!Y35/1000000","v":{"$error":"#N/A"}},{"$f":"++fishpond!H30/1000000","v":{"$error":"#N/A"}},{"$f":"+prawnpond!H30/1000000","v":{"$error":"#N/A"}}]
[21,"21-27 มี.ค. 52",{"$error":"#N/A"},{"$f":"+paddy_dry!AI47/1000000","v":{"$error":"#N/A"}},{"$f":"+paddy_rain!AI47/1000000","v":{"$error":"#N/A"}},{"$f":"+upland_dry!AI47/1000000","v":{"$error":"#N/A"}},{"$f":"+upland_rain!AI47/1000000","v":{"$error":"#N/A"}},{"$f":"+plant!Y36/1000000","v":{"$error":"#N/A"}},{"$f":"++fishpond!H31/1000000","v":{"$error":"#N/A"}},{"$f":"+prawnpond!H31/1000000","v":{"$error":"#N/A"}}]
[22,"28 มี.ค.-3 เม.ย.52",{"$error":"#N/A"},{"$f":"+paddy_dry!AI48/1000000","v":{"$error":"#N/A"}},{"$f":"+paddy_rain!AI48/1000000","v":{"$error":"#N/A"}},{"$f":"+upland_dry!AI48/1000000","v":{"$error":"#N/A"}},{"$f":"+upland_rain!AI48/1000000","v":{"$error":"#N/A"}},{"$f":"+plant!Y37/1000000","v":{"$error":"#N/A"}},{"$f":"++fishpond!H32/1000000","v":{"$error":"#N/A"}},{"$f":"+prawnpond!H32/1000000","v":{"$error":"#N/A"}}]
[23,"4-10 เม.ย.52",{"$error":"#N/A"},{"$f":"+paddy_dry!AI49/1000000","v":{"$error":"#N/A"}},{"$f":"+paddy_rain!AI49/1000000","v":{"$error":"#N/A"}},{"$f":"+upland_dry!AI49/1000000","v":{"$error":"#N/A"}},{"$f":"+upland_rain!AI49/1000000","v":{"$error":"#N/A"}},{"$f":"+plant!Y38/1000000","v":{"$error":"#N/A"}},{"$f":"++fishpond!H33/1000000","v":{"$error":"#N/A"}},{"$f":"+prawnpond!H33/1000000","v":{"$error":"#N/A"}}]
[24,"11-17 เม.ย. 52",{"$error":"#N/A"},{"$f":"+paddy_dry!AI50/1000000","v":{"$error":"#N/A"}},{"$f":"+paddy_rain!AI50/1000000","v":{"$error":"#N/A"}},{"$f":"+upland_dry!AI50/1000000","v":{"$error":"#N/A"}},{"$f":"+upland_rain!AI50/1000000","v":{"$error":"#N/A"}},{"$f":"+plant!Y39/1000000","v":{"$error":"#N/A"}},{"$f":"++fishpond!H34/1000000","v":{"$error":"#N/A"}},{"$f":"+prawnpond!H34/1000000","v":{"$error":"#N/A"}}]
[25,"18-24 เม.ย. 52",{"$error":"#N/A"},{"$f":"+paddy_dry!AI51/1000000","v":{"$error":"#N/A"}},{"$f":"+paddy_rain!AI51/1000000","v":{"$error":"#N/A"}},{"$f":"+upland_dry!AI51/1000000","v":{"$error":"#N/A"}},{"$f":"+upland_rain!AI51/1000000","v":{"$error":"#N/A"}},{"$f":"+plant!Y40/1000000","v":{"$error":"#N/A"}},{"$f":"++fishpond!H35/1000000","v":{"$error":"#N/A"}},{"$f":"+prawnpond!H35/1000000","v":{"$error":"#N/A"}}]
[26,"25 เม.ย.- 1 พ.ค. 52",{"$error":"#N/A"},{"$f":"+paddy_dry!AI52/1000000","v":{"$error":"#N/A"}},{"$f":"+paddy_rain!AI52/1000000","v":{"$error":"#N/A"}},{"$f":"+upland_dry!AI52/1000000","v":{"$error":"#N/A"}},{"$f":"+upland_rain!AI52/1000000","v":{"$error":"#N/A"}},{"$f":"+plant!Y41/1000000","v":{"$error":"#N/A"}},{"$f":"++fishpond!H36/1000000","v":{"$error":"#N/A"}},{"$f":"+prawnpond!H36/1000000","v":{"$error":"#N/A"}}]
[27,"2-8 พ.ค. 52",{"$error":"#N/A"},{"$f":"+paddy_dry!AI53/1000000","v":{"$error":"#N/A"}},{"$f":"+paddy_rain!AI53/1000000","v":{"$error":"#N/A"}},{"$f":"+upland_dry!AI53/1000000","v":{"$error":"#N/A"}},{"$f":"+upland_rain!AI53/1000000","v":{"$error":"#N/A"}},{"$f":"+plant!Y42/1000000","v":{"$error":"#N/A"}},{"$f":"++fishpond!H37/1000000","v":{"$error":"#N/A"}},{"$f":"+prawnpond!H37/1000000","v":{"$error":"#N/A"}}]
[28,"9-15 พ.ค. 52",{"$error":"#N/A"},{"$f":"+paddy_dry!AI54/1000000","v":{"$error":"#N/A"}},{"$f":"+paddy_rain!AI54/1000000","v":{"$error":"#N/A"}},{"$f":"+upland_dry!AI54/1000000","v":{"$error":"#N/A"}},{"$f":"+upland_rain!AI54/1000000","v":{"$error":"#N/A"}},{"$f":"+plant!Y43/1000000","v":{"$error":"#N/A"}},{"$f":"++fishpond!H38/1000000","v":{"$error":"#N/A"}},{"$f":"+prawnpond!H38/1000000","v":{"$error":"#N/A"}}]
[29,"16-22 พ.ค. 52",{"$error":"#N/A"},{"$f":"+paddy_dry!AI55/1000000","v":{"$error":"#N/A"}},{"$f":"+paddy_rain!AI55/1000000","v":{"$error":"#N/A"}},{"$f":"+upland_dry!AI55/1000000","v":{"$error":"#N/A"}},{"$f":"+upland_rain!AI55/1000000","v":{"$error":"#N/A"}},{"$f":"+plant!Y44/1000000","v":{"$error":"#N/A"}},{"$f":"++fishpond!H39/1000000","v":{"$error":"#N/A"}},{"$f":"+prawnpond!H39/1000000","v":{"$error":"#N/A"}}]
[30,"23-29 พ.ค. 52",{"$error":"#N/A"},{"$f":"+paddy_dry!AI56/1000000","v":{"$error":"#N/A"}},{"$f":"+paddy_rain!AI56/1000000","v":{"$error":"#N/A"}},{"$f":"+upland_dry!AI56/1000000","v":{"$error":"#N/A"}},{"$f":"+upland_rain!AI56/1000000","v":{"$error":"#N/A"}},{"$f":"+plant!Y45/1000000","v":{"$error":"#N/A"}},{"$f":"++fishpond!H40/1000000","v":{"$error":"#N/A"}},{"$f":"+prawnpond!H40/1000000","v":{"$error":"#N/A"}}]
[31,"30 พ.ค.-5 มิ.ย. 52",{"$error":"#N/A"},{"$f":"+paddy_dry!AI57/1000000","v":{"$error":"#N/A"}},{"$f":"+paddy_rain!AI57/1000000","v":{"$error":"#N/A"}},{"$f":"+upland_dry!AI57/1000000","v":{"$error":"#N/A"}},{"$f":"+upland_rain!AI57/1000000","v":{"$error":"#N/A"}},{"$f":"+plant!Y46/1000000","v":{"$error":"#N/A"}},{"$f":"++fishpond!H41/1000000","v":{"$error":"#N/A"}},{"$f":"+prawnpond!H41/1000000","v":{"$error":"#N/A"}}]
[32,"6 - 12 มิ.ย.52",{"$error":"#N/A"},{"$f":"+paddy_dry!AI58/1000000","v":{"$error":"#N/A"}},{"$f":"+paddy_rain!AI58/1000000","v":{"$error":"#N/A"}},{"$f":"+upland_dry!AI58/1000000","v":{"$error":"#N/A"}},{"$f":"+upland_rain!AI58/1000000","v":{"$error":"#N/A"}},{"$f":"+plant!Y47/1000000","v":{"$error":"#N/A"}},{"$f":"++fishpond!H42/1000000","v":{"$error":"#N/A"}},{"$f":"+prawnpond!H42/1000000","v":{"$error":"#N/A"}}]
[33,"13 - 19 มิ.ย.52",{"$error":"#N/A"},{"$f":"+paddy_dry!AI59/1000000","v":{"$error":"#N/A"}},{"$f":"+paddy_rain!AI59/1000000","v":{"$error":"#N/A"}},{"$f":"+upland_dry!AI59/1000000","v":{"$error":"#N/A"}},{"$f":"+upland_rain!AI59/1000000","v":{"$error":"#N/A"}},{"$f":"+plant!Y48/1000000","v":{"$error":"#N/A"}},{"$f":"++fishpond!H43/1000000","v":{"$error":"#N/A"}},{"$f":"+prawnpond!H43/1000000","v":{"$error":"#N/A"}}]
[{"$f":"A37+1","v":34},"20 - 26 มิ.ย.52",{"$error":"#N/A"},{"$f":"+paddy_dry!AI60/1000000","v":{"$error":"#N/A"}},{"$f":"+paddy_rain!AI60/1000000","v":{"$error":"#N/A"}},{"$f":"+upland_dry!AI60/1000000","v":{"$error":"#N/A"}},{"$f":"+upland_rain!AI60/1000000","v":{"$error":"#N/A"}},{"$f":"+plant!Y49/1000000","v":{"$error":"#N/A"}},{"$f":"++fishpond!H44/1000000","v":{"$error":"#N/A"}},{"$f":"+prawnpond!H44/1000000","v":{"$error":"#N/A"}}]
[35,"27 มิ.ย. - 3 ก.ค.52",{"$error":"#N/A"},{"$f":"+paddy_dry!AI61/1000000","v":{"$error":"#N/A"}},{"$f":"+paddy_rain!AI61/1000000","v":{"$error":"#N/A"}},{"$f":"+upland_dry!AI61/1000000","v":{"$error":"#N/A"}},{"$f":"+upland_rain!AI61/1000000","v":{"$error":"#N/A"}},{"$f":"+plant!Y50/1000000","v":{"$error":"#N/A"}},{"$f":"++fishpond!H45/1000000","v":{"$error":"#N/A"}},{"$f":"+prawnpond!H45/1000000","v":{"$error":"#N/A"}}]
[36,"4 - 10 ก.ค.52",{"$error":"#N/A"},{"$f":"+paddy_dry!AI62/1000000","v":{"$error":"#N/A"}},{"$f":"+paddy_rain!AI62/1000000","v":{"$error":"#N/A"}},{"$f":"+upland_dry!AI62/1000000","v":{"$error":"#N/A"}},{"$f":"+upland_rain!AI62/1000000","v":{"$error":"#N/A"}},{"$f":"+plant!Y51/1000000","v":{"$error":"#N/A"}},{"$f":"++fishpond!H46/1000000","v":{"$error":"#N/A"}},{"$f":"+prawnpond!H46/1000000","v":{"$error":"#N/A"}}]
[37,"11 - 17 ก.ค.52",{"$error":"#N/A"},{"$f":"+paddy_dry!AI63/1000000","v":{"$error":"#N/A"}},{"$f":"+paddy_rain!AI63/1000000","v":{"$error":"#N/A"}},{"$f":"+upland_dry!AI63/1000000","v":{"$error":"#N/A"}},{"$f":"+upland_rain!AI63/1000000","v":{"$error":"#N/A"}},{"$f":"+plant!Y52/1000000","v":{"$error":"#N/A"}},{"$f":"++fishpond!H47/1000000","v":{"$error":"#N/A"}},{"$f":"+prawnpond!H47/1000000","v":{"$error":"#N/A"}}]
[38,"18 - 24 ก.ค.52",{"$error":"#N/A"},{"$f":"+paddy_dry!AI64/1000000","v":{"$error":"#N/A"}},{"$f":"+paddy_rain!AI64/1000000","v":{"$error":"#N/A"}},{"$f":"+upland_dry!AI64/1000000","v":{"$error":"#N/A"}},{"$f":"+upland_rain!AI64/1000000","v":{"$error":"#N/A"}},{"$f":"+plant!Y53/1000000","v":{"$error":"#N/A"}},{"$f":"++fishpond!H48/1000000","v":{"$error":"#N/A"}},{"$f":"+prawnpond!H48/1000000","v":{"$error":"#N/A"}}]
[39,"25 - 31 ก.ค.52",{"$error":"#N/A"},{"$f":"+paddy_dry!AI65/1000000","v":{"$error":"#N/A"}},{"$f":"+paddy_rain!AI65/1000000","v":{"$error":"#N/A"}},{"$f":"+upland_dry!AI65/1000000","v":{"$error":"#N/A"}},{"$f":"+upland_rain!AI65/1000000","v":{"$error":"#N/A"}},{"$f":"+plant!Y54/1000000","v":{"$error":"#N/A"}},{"$f":"++fishpond!H49/1000000","v":{"$error":"#N/A"}},{"$f":"+prawnpond!H49/1000000","v":{"$error":"#N/A"}}]
[40,"1 - 7 ส.ค.52",{"$error":"#N/A"},{"$f":"+paddy_dry!AI66/1000000","v":{"$error":"#N/A"}},{"$f":"+paddy_rain!AI66/1000000","v":{"$error":"#N/A"}},{"$f":"+upland_dry!AI66/1000000","v":{"$error":"#N/A"}},{"$f":"+upland_rain!AI66/1000000","v":{"$error":"#N/A"}},{"$f":"+plant!Y55/1000000","v":{"$error":"#N/A"}},{"$f":"++fishpond!H50/1000000","v":{"$error":"#N/A"}},{"$f":"+prawnpond!H50/1000000","v":{"$error":"#N/A"}}]
[41,"8 - 14 ส.ค.52",{"$error":"#N/A"},{"$f":"+paddy_dry!AI67/1000000","v":{"$error":"#N/A"}},{"$f":"+paddy_rain!AI67/1000000","v":{"$error":"#N/A"}},{"$f":"+upland_dry!AI67/1000000","v":{"$error":"#N/A"}},{"$f":"+upland_rain!AI67/1000000","v":{"$error":"#N/A"}},{"$f":"+plant!Y56/1000000","v":{"$error":"#N/A"}},{"$f":"++fishpond!H51/1000000","v":{"$error":"#N/A"}},{"$f":"+prawnpond!H51/1000000","v":{"$error":"#N/A"}}]
[42,"15 - 21 ส.ค.52",{"$error":"#N/A"},{"$f":"+paddy_dry!AI68/1000000","v":{"$error":"#N/A"}},{"$f":"+paddy_rain!AI68/1000000","v":{"$error":"#N/A"}},{"$f":"+upland_dry!AI68/1000000","v":{"$error":"#N/A"}},{"$f":"+upland_rain!AI68/1000000","v":{"$error":"#N/A"}},{"$f":"+plant!Y57/1000000","v":{"$error":"#N/A"}},{"$f":"++fishpond!H52/1000000","v":{"$error":"#N/A"}},{"$f":"+prawnpond!H52/1000000","v":{"$error":"#N/A"}}]
[43,"22 - 28 ส.ค.52",{"$error":"#N/A"},{"$f":"+paddy_dry!AI69/1000000","v":{"$error":"#N/A"}},{"$f":"+paddy_rain!AI69/1000000","v":{"$error":"#N/A"}},{"$f":"+upland_dry!AI69/1000000","v":{"$error":"#N/A"}},{"$f":"+upland_rain!AI69/1000000","v":{"$error":"#N/A"}},{"$f":"+plant!Y58/1000000","v":{"$error":"#N/A"}},{"$f":"++fishpond!H53/1000000","v":{"$error":"#N/A"}},{"$f":"+prawnpond!H53/1000000","v":{"$error":"#N/A"}}]
[44,"29 ส.ค. - 4 ก.ย.52",{"$error":"#N/A"},{"$f":"+paddy_dry!AI70/1000000","v":{"$error":"#N/A"}},{"$f":"+paddy_rain!AI70/1000000","v":{"$error":"#N/A"}},{"$f":"+upland_dry!AI70/1000000","v":{"$error":"#N/A"}},{"$f":"+upland_rain!AI70/1000000","v":{"$error":"#N/A"}},{"$f":"+plant!Y59/1000000","v":{"$error":"#N/A"}},{"$f":"++fishpond!H54/1000000","v":{"$error":"#N/A"}},{"$f":"+prawnpond!H54/1000000","v":{"$error":"#N/A"}}]
[45,"5 - 11 ก.ย.52",{"$error":"#N/A"},{"$f":"+paddy_dry!AI71/1000000","v":{"$error":"#N/A"}},{"$f":"+paddy_rain!AI71/1000000","v":{"$error":"#N/A"}},{"$f":"+upland_dry!AI71/1000000","v":{"$error":"#N/A"}},{"$f":"+upland_rain!AI71/1000000","v":{"$error":"#N/A"}},{"$f":"+plant!Y60/1000000","v":{"$error":"#N/A"}},{"$f":"++fishpond!H55/1000000","v":{"$error":"#N/A"}},{"$f":"+prawnpond!H55/1000000","v":{"$error":"#N/A"}}]
[46,"12 - 18 ก.ย.52",{"$error":"#N/A"},{"$f":"+paddy_dry!AI72/1000000","v":{"$error":"#N/A"}},{"$f":"+paddy_rain!AI72/1000000","v":{"$error":"#N/A"}},{"$f":"+upland_dry!AI72/1000000","v":{"$error":"#N/A"}},{"$f":"+upland_rain!AI72/1000000","v":{"$error":"#N/A"}},{"$f":"+plant!Y61/1000000","v":{"$error":"#N/A"}},{"$f":"++fishpond!H56/1000000","v":{"$error":"#N/A"}},{"$f":"+prawnpond!H56/1000000","v":{"$error":"#N/A"}}]
[47,"19 - 25 ก.ย.52",{"$error":"#N/A"},{"$f":"+paddy_dry!AI73/1000000","v":{"$error":"#N/A"}},{"$f":"+paddy_rain!AI73/1000000","v":{"$error":"#N/A"}},{"$f":"+upland_dry!AI73/1000000","v":{"$error":"#N/A"}},{"$f":"+upland_rain!AI73/1000000","v":{"$error":"#N/A"}},{"$f":"+plant!Y62/1000000","v":{"$error":"#N/A"}},{"$f":"++fishpond!H57/1000000","v":{"$error":"#N/A"}},{"$f":"+prawnpond!H57/1000000","v":{"$error":"#N/A"}}]
[48,"26 ก.ย.- 2 ต.ค.52",{"$error":"#N/A"},{"$f":"+paddy_dry!AI74/1000000","v":{"$error":"#N/A"}},{"$f":"+paddy_rain!AI74/1000000","v":{"$error":"#N/A"}},{"$f":"+upland_dry!AI74/1000000","v":{"$error":"#N/A"}},{"$f":"+upland_rain!AI74/1000000","v":{"$error":"#N/A"}},{"$f":"+plant!Y63/1000000","v":{"$error":"#N/A"}},{"$f":"++fishpond!H58/1000000","v":{"$error":"#N/A"}},{"$f":"+prawnpond!H58/1000000","v":{"$error":"#N/A"}}]
[49,"3 - 9ต.ค.52",{"$error":"#N/A"},{"$f":"+paddy_dry!AI75/1000000","v":{"$error":"#N/A"}},{"$f":"+paddy_rain!AI75/1000000","v":{"$error":"#N/A"}},{"$f":"+upland_dry!AI75/1000000","v":{"$error":"#N/A"}},{"$f":"+upland_rain!AI75/1000000","v":{"$error":"#N/A"}},{"$f":"+plant!Y64/1000000","v":{"$error":"#N/A"}},{"$f":"++fishpond!H59/1000000","v":{"$error":"#N/A"}},{"$f":"+prawnpond!H59/1000000","v":{"$error":"#N/A"}}]
[50,"10 - 16ต.ค.52",{"$error":"#N/A"},{"$f":"+paddy_dry!AI76/1000000","v":{"$error":"#N/A"}},{"$f":"+paddy_rain!AI76/1000000","v":{"$error":"#N/A"}},{"$f":"+upland_dry!AI76/1000000","v":{"$error":"#N/A"}},{"$f":"+upland_rain!AI76/1000000","v":{"$error":"#N/A"}},{"$f":"+plant!Y65/1000000","v":{"$error":"#N/A"}},{"$f":"++fishpond!H60/1000000","v":{"$error":"#N/A"}},{"$f":"+prawnpond!H60/1000000","v":{"$error":"#N/A"}}]
[51,"17 - 23ต.ค.52",{"$error":"#N/A"},{"$f":"+paddy_dry!AI77/1000000","v":{"$error":"#N/A"}},{"$f":"+paddy_rain!AI77/1000000","v":{"$error":"#N/A"}},{"$f":"+upland_dry!AI77/1000000","v":{"$error":"#N/A"}},{"$f":"+upland_rain!AI77/1000000","v":{"$error":"#N/A"}},{"$f":"+plant!Y66/1000000","v":{"$error":"#N/A"}},{"$f":"++fishpond!H61/1000000","v":{"$error":"#N/A"}},{"$f":"+prawnpond!H61/1000000","v":{"$error":"#N/A"}}]
[52,"24 - 31ต.ค.52",{"$error":"#N/A"},{"$f":"+paddy_dry!AI78/1000000","v":{"$error":"#N/A"}},{"$f":"+paddy_rain!AI78/1000000","v":{"$error":"#N/A"}},{"$f":"+upland_dry!AI78/1000000","v":{"$error":"#N/A"}},{"$f":"+upland_rain!AI78/1000000","v":{"$error":"#N/A"}},{"$f":"+plant!Y67/1000000","v":{"$error":"#N/A"}},{"$f":"++fishpond!H62/1000000","v":{"$error":"#N/A"}},{"$f":"+prawnpond!H62/1000000","v":{"$error":"#N/A"}}]
["รวมทั้งหมด",null,{"$f":"SUM(C5:C56)","v":{"$error":"#N/A"}},{"$f":"SUM(D5:D56)","v":{"$error":"#N/A"}},{"$error":"#N/A"},{"$error":"#N/A"},{"$error":"#N/A"},{"$error":"#N/A"},{"$error":"#N/A"},{"$error":"#N/A"}]
["หมายเหตุ"]
[null,"1.สำนักงานเศรษฐกิจการเกษตร  กำหนดระยะเวลาการปลูกพืชฤดูฝนเริ่มวันที่ 1 พ.ย.- 30 เม.ย. ยกเว้นพื้นที่ภาคใต้ฝั่งตะวันออกเริ่มวันที่ 1 มี.ค.-30 มิ.ย."]
[null,"2.แหล่งน้ำต้นทุน  หมายถึง อ่างเก็บน้ำ หรือแหล่งน้ำธรรมชาติ"]
[null,"3.ค่าแหล่งน้ำต้นทุนต้นสัปดาห์ หมายถึงค่าปริมาณน้ำวันที่ 1 ของสัปดาห์ เช่น สัปดาห์ที่ 1 คือ วันที่ 1  พ.ย."]
[null,"4.ความต้องการน้ำชลประทานเพื่อการเกษตร หมายถึงความต้องการน้ำที่พืชต้องการหักปริมาณฝนใช้การและคิดประสิทธิภาพการส่งน้ำแล้ว"]
[null,"5.ค่าคาดการณ์ปริมาณน้ำท่าเหนืออาคาร เป็นค่าที่โครงการประเมินจากข้อมูลสถิติน้ำท่าและคาดว่าจะเกิดขึ้นในปีนี้"]

{"sheet":"Crop","index":12,"n_rows":70,"n_cols":30,"rows_kept":70,"cut":false,"hidden":false,"merged":[[0,25,0,29],[0,10,0,14],[0,5,0,9],[0,15,0,19],[0,20,0,24]]}
[null,null,null,null,null,"ข้าว",null,null,null,null,"พืชไร่",null,null,null,null,"ไม้ผล",null,null,null,null,"นาปี",null,null,null,null,"พืชไร่ฤดูฝน"]
[null,"cropname","week",null,null,"Week","Kc-week","Week","Week","Kc-Week","Week","Kc-week","Week","Week","Kc-Week","Week","Kc-week","Week","Week","Kc-Week","Week","Kc-week","Week","Week","Kc-Week","Week","Kc-week","Week","Week","Kc-Week"]
[null,{"$f":"Kc!C3","v":"ข้าว กข.(นาดำ)"},{"$f":"COUNT(Kc!C6:C57)","v":13},null,null,1,{"$f":"IF(AND(Crop!G2>0,G2<paddy_dry!$D$6),Crop!G2+1,IF(F3=paddy_dry!$E$6,1,0))","v":0},1,{"$f":"IF(ISERROR(VLOOKUP(F3,$G$3:$H$70,2,FALSE)),0,VLOOKUP(F3,$G$3:$H$70,2,FALSE))","v":9},1,1,{"$f":"IF(AND(Crop!L2>0,L2<upland_dry!$D$6),Crop!L2+1,IF(K3=upland_dry!$E$6,1,0))","v":0},1,{"$f":"IF(ISERROR(VLOOKUP(K3,$L$3:$M$70,2,FALSE)),0,VLOOKUP(K3,$L$3:$M$70,2,FALSE))","v":10},1,1,{"$f":"IF(AND(Crop!Q2>0,Q2<plant!$D$6),Crop!Q2+1,IF(P3=plant!$E$6,1,0))","v":1},1,{"$f":"IF(ISERROR(VLOOKUP(P3,$Q$3:$R$70,2,FALSE)),0,VLOOKUP(P3,$Q$3:$R$70,2,FALSE))","v":1},1,1,{"$f":"IF(AND(Crop!V2>0,V2<paddy_rain!$D$6),Crop!V2+1,IF(U3=paddy_rain!$E$6,1,0))","v":0},1,{"$f":"IF(ISERROR(VLOOKUP(U3,$V$3:$W$70,2,FALSE)),0,VLOOKUP(U3,$V$3:$W$70,2,FALSE))","v":33},1,1,{"$f":"IF(AND(Crop!AA2>0,AA2<upland_rain!$D$6),Crop!AA2+1,IF(Z3=upland_rain!$E$6,1,0))","v":0},1,{"$f":"IF(ISERROR(VLOOKUP(Z3,$AA$3:$AB$70,2,FALSE)),0,VLOOKUP(Z3,$AA$3:$AB$70,2,FALSE))","v":27},1]
[null,{"$f":"Kc!D3","v":"ข้าวบาสมาติ"},{"$f":"COUNT(Kc!D6:D57)","v":14},null,null,2,{"$f":"IF(AND(Crop!G3>0,G3<paddy_dry!$D$6),Crop!G3+1,IF(F4=paddy_dry!$E$6,1,0))","v":0},2,10,2,2,{"$f":"IF(AND(Crop!L3>0,L3<upland_dry!$D$6),Crop!L3+1,IF(K4=upland_dry!$E$6,1,0))","v":0},2,{"$f":"IF(ISERROR(VLOOKUP(K4,$L$3:$M$70,2,FALSE)),0,VLOOKUP(K4,$L$3:$M$70,2,FALSE))","v":11},2,2,{"$f":"IF(AND(Crop!Q3>0,Q3<plant!$D$6),Crop!Q3+1,IF(P4=plant!$E$6,1,0))","v":2},2,{"$f":"IF(ISERROR(VLOOKUP(P4,$Q$3:$R$70,2,FALSE)),0,VLOOKUP(P4,$Q$3:$R$70,2,FALSE))","v":2},2,2,{"$f":"IF(AND(Crop!V3>0,V3<paddy_rain!$D$6),Crop!V3+1,IF(U4=paddy_rain!$E$6,1,0))","v":0},2,{"$f":"IF(ISERROR(VLOOKUP(U4,$V$3:$W$70,2,FALSE)),0,VLOOKUP(U4,$V$3:$W$70,2,FALSE))","v":34},2,2,{"$f":"IF(AND(Crop!AA3>0,AA3<upland_rain!$D$6),Crop!AA3+1,IF(Z4=upland_rain!$E$6,1,0))","v":0},2,{"$f":"IF(ISERROR(VLOOKUP(Z4,$AA$3:$AB$70,2,FALSE)),0,VLOOKUP(Z4,$AA$3:$AB$70,2,FALSE))","v":28},2]
[null,{"$f":"Kc!E3","v":"ข้าวนาหว่านน้ำตม"},{"$f":"COUNT(Kc!E6:E57)","v":14},null,null,3,{"$f":"IF(AND(Crop!G4>0,G4<paddy_dry!$D$6),Crop!G4+1,IF(F5=paddy_dry!$E$6,1,0))","v":0},3,11,3,3,{"$f":"IF(AND(Crop!L4>0,L4<upland_dry!$D$6),Crop!L4+1,IF(K5=upland_dry!$E$6,1,0))","v":0},3,12,3,3,{"$f":"IF(AND(Crop!Q4>0,Q4<plant!$D$6),Crop!Q4+1,IF(P5=plant!$E$6,1,0))","v":3},3,3,3,3,{"$f":"IF(AND(Crop!V4>0,V4<paddy_rain!$D$6),Crop!V4+1,IF(U5=paddy_rain!$E$6,1,0))","v":0},3,35,3,3,{"$f":"IF(AND(Crop!AA4>0,AA4<upland_rain!$D$6),Crop!AA4+1,IF(Z5=upland_rain!$E$6,1,0))","v":0},3,29,3]
[null,{"$f":"Kc!F3","v":"ข้าวโพดเลี้ยงสัตว์"},{"$f":"COUNT(Kc!F6:F57)","v":14},null,null,4,{"$f":"IF(AND(Crop!G5>0,G5<paddy_dry!$D$6),Crop!G5+1,IF(F6=paddy_dry!$E$6,1,0))","v":0},4,12,4,4,{"$f":"IF(AND(Crop!L5>0,L5<upland_dry!$D$6),Crop!L5+1,IF(K6=upland_dry!$E$6,1,0))","v":0},4,13,4,4,{"$f":"IF(AND(Crop!Q5>0,Q5<plant!$D$6),Crop!Q5+1,IF(P6=plant!$E$6,1,0))","v":4},4,4,4,4,{"$f":"IF(AND(Crop!V5>0,V5<paddy_rain!$D$6),Crop!V5+1,IF(U6=paddy_rain!$E$6,1,0))","v":0},4,36,4,4,{"$f":"IF(AND(Crop!AA5>0,AA5<upland_rain!$D$6),Crop!AA5+1,IF(Z6=upland_rain!$E$6,1,0))","v":0},4,30,4]
[null,{"$f":"Kc!G3","v":"ข้าวโพดหวาน"},{"$f":"COUNT(Kc!G6:G57)","v":11},null,null,5,{"$f":"IF(AND(Crop!G6>0,G6<paddy_dry!$D$6),Crop!G6+1,IF(F7=paddy_dry!$E$6,1,0))","v":0},5,13,5,5,{"$f":"IF(AND(Crop!L6>0,L6<upland_dry!$D$6),Crop!L6+1,IF(K7=upland_dry!$E$6,1,0))","v":0},5,14,5,5,{"$f":"IF(AND(Crop!Q6>0,Q6<plant!$D$6),Crop!Q6+1,IF(P7=plant!$E$6,1,0))","v":5},5,5,5,5,{"$f":"IF(AND(Crop!V6>0,V6<paddy_rain!$D$6),Crop!V6+1,IF(U7=paddy_rain!$E$6,1,0))","v":0},5,37,5,5,{"$f":"IF(AND(Crop!AA6>0,AA6<upland_rain!$D$6),Crop!AA6+1,IF(Z7=upland_rain!$E$6,1,0))","v":0},5,31,5]
[null,{"$f":"Kc!H3","v":"ข้าว\nฟ่าง"},{"$f":"COUNT(Kc!H6:H57)","v":16},null,null,6,{"$f":"IF(AND(Crop!G7>0,G7<paddy_dry!$D$6),Crop!G7+1,IF(F8=paddy_dry!$E$6,1,0))","v":0},6,14,6,6,{"$f":"IF(AND(Crop!L7>0,L7<upland_dry!$D$6),Crop!L7+1,IF(K8=upland_dry!$E$6,1,0))","v":0},6,15,6,6,{"$f":"IF(AND(Crop!Q7>0,Q7<plant!$D$6),Crop!Q7+1,IF(P8=plant!$E$6,1,0))","v":6},6,6,6,6,{"$f":"IF(AND(Crop!V7>0,V7<paddy_rain!$D$6),Crop!V7+1,IF(U8=paddy_rain!$E$6,1,0))","v":0},6,38,6,6,{"$f":"IF(AND(Crop!AA7>0,AA7<upland_rain!$D$6),Crop!AA7+1,IF(Z8=upland_rain!$E$6,1,0))","v":0},6,32,6]
[null,{"$f":"Kc!I3","v":"ถั่วเหลือง"},{"$f":"COUNT(Kc!I6:I57)","v":14},null,null,7,{"$f":"IF(AND(Crop!G8>0,G8<paddy_dry!$D$6),Crop!G8+1,IF(F9=paddy_dry!$E$6,1,0))","v":0},7,15,7,7,{"$f":"IF(AND(Crop!L8>0,L8<upland_dry!$D$6),Crop!L8+1,IF(K9=upland_dry!$E$6,1,0))","v":0},7,16,7,7,{"$f":"IF(AND(Crop!Q8>0,Q8<plant!$D$6),Crop!Q8+1,IF(P9=plant!$E$6,1,0))","v":7},7,7,7,7,{"$f":"IF(AND(Crop!V8>0,V8<paddy_rain!$D$6),Crop!V8+1,IF(U9=paddy_rain!$E$6,1,0))","v":0},7,39,7,7,{"$f":"IF(AND(Crop!AA8>0,AA8<upland_rain!$D$6),Crop!AA8+1,IF(Z9=upland_rain!$E$6,1,0))","v":0},7,33,7]
[null,{"$f":"Kc!J3","v":"ถั่ว\nลิสง"},{"$f":"COUNT(Kc!J6:J57)","v":15},null,null,8,{"$f":"IF(AND(Crop!G9>0,G9<paddy_dry!$D$6),Crop!G9+1,IF(F10=paddy_dry!$E$6,1,0))","v":0},8,16,8,8,{"$f":"IF(AND(Crop!L9>0,L9<upland_dry!$D$6),Crop!L9+1,IF(K10=upland_dry!$E$6,1,0))","v":0},8,17,8,8,{"$f":"IF(AND(Crop!Q9>0,Q9<plant!$D$6),Crop!Q9+1,IF(P10=plant!$E$6,1,0))","v":8},8,8,8,8,{"$f":"IF(AND(Crop!V9>0,V9<paddy_rain!$D$6),Crop!V9+1,IF(U10=paddy_rain!$E$6,1,0))","v":0},8,40,8,8,{"$f":"IF(AND(Crop!AA9>0,AA9<upland_rain!$D$6),Crop!AA9+1,IF(Z10=upland_rain!$E$6,1,0))","v":0},8,34,8]
[null,{"$f":"Kc!K3","v":"ถั่ว\nเขียว"},{"$f":"COUNT(Kc!K6:K57)","v":9},null,null,9,{"$f":"IF(AND(Crop!G10>0,G10<paddy_dry!$D$6),Crop!G10+1,IF(F11=paddy_dry!$E$6,1,0))","v":1},9,17,9,9,{"$f":"IF(AND(Crop!L10>0,L10<upland_dry!$D$6),Crop!L10+1,IF(K11=upland_dry!$E$6,1,0))","v":0},9,18,9,9,{"$f":"IF(AND(Crop!Q10>0,Q10<plant!$D$6),Crop!Q10+1,IF(P11=plant!$E$6,1,0))","v":9},9,9,9,9,{"$f":"IF(AND(Crop!V10>0,V10<paddy_rain!$D$6),Crop!V10+1,IF(U11=paddy_rain!$E$6,1,0))","v":0},9,41,9,9,{"$f":"IF(AND(Crop!AA10>0,AA10<upland_rain!$D$6),Crop!AA10+1,IF(Z11=upland_rain!$E$6,1,0))","v":0},9,35,9]
[null,{"$f":"Kc!L3","v":"งา"},{"$f":"COUNT(Kc!L6:L57)","v":12},null,null,10,{"$f":"IF(AND(Crop!G11>0,G11<paddy_dry!$D$6),Crop!G11+1,IF(F12=paddy_dry!$E$6,1,0))","v":2},10,18,10,10,{"$f":"IF(AND(Crop!L11>0,L11<upland_dry!$D$6),Crop!L11+1,IF(K12=upland_dry!$E$6,1,0))","v":1},10,0,10,10,{"$f":"IF(AND(Crop!Q11>0,Q11<plant!$D$6),Crop!Q11+1,IF(P12=plant!$E$6,1,0))","v":10},10,10,10,10,{"$f":"IF(AND(Crop!V11>0,V11<paddy_rain!$D$6),Crop!V11+1,IF(U12=paddy_rain!$E$6,1,0))","v":0},10,42,10,10,{"$f":"IF(AND(Crop!AA11>0,AA11<upland_rain!$D$6),Crop!AA11+1,IF(Z12=upland_rain!$E$6,1,0))","v":0},10,36,10]
[null,{"$f":"Kc!M3","v":"ยาสูบ"},{"$f":"COUNT(Kc!M6:M57)","v":12},null,null,11,{"$f":"IF(AND(Crop!G12>0,G12<paddy_dry!$D$6),Crop!G12+1,IF(F13=paddy_dry!$E$6,1,0))","v":3},11,19,11,11,{"$f":"IF(AND(Crop!L12>0,L12<upland_dry!$D$6),Crop!L12+1,IF(K13=upland_dry!$E$6,1,0))","v":2},11,0,11,11,{"$f":"IF(AND(Crop!Q12>0,Q12<plant!$D$6),Crop!Q12+1,IF(P13=plant!$E$6,1,0))","v":11},11,11,11,11,{"$f":"IF(AND(Crop!V12>0,V12<paddy_rain!$D$6),Crop!V12+1,IF(U13=paddy_rain!$E$6,1,0))","v":0},11,43,11,11,{"$f":"IF(AND(Crop!AA12>0,AA12<upland_rain!$D$6),Crop!AA12+1,IF(Z13=upland_rain!$E$6,1,0))","v":0},11,37,11]
[null,{"$f":"Kc!N3","v":"ทาน\nตะวัน"},{"$f":"COUNT(Kc!N6:N57)","v":15},null,null,12,{"$f":"IF(AND(Crop!G13>0,G13<paddy_dry!$D$6),Crop!G13+1,IF(F14=paddy_dry!$E$6,1,0))","v":4},12,20,12,12,{"$f":"IF(AND(Crop!L13>0,L13<upland_dry!$D$6),Crop!L13+1,IF(K14=upland_dry!$E$6,1,0))","v":3},12,0,12,12,{"$f":"IF(AND(Crop!Q13>0,Q13<plant!$D$6),Crop!Q13+1,IF(P14=plant!$E$6,1,0))","v":12},12,12,12,12,{"$f":"IF(AND(Crop!V13>0,V13<paddy_rain!$D$6),Crop!V13+1,IF(U14=paddy_rain!$E$6,1,0))","v":0},12,44,12,12,{"$f":"IF(AND(Crop!AA13>0,AA13<upland_rain!$D$6),Crop!AA13+1,IF(Z14=upland_rain!$E$6,1,0))","v":0},12,38,12]
[null,{"$f":"Kc!O3","v":"แตงโม"},{"$f":"COUNT(Kc!O6:O57)","v":12},null,null,13,{"$f":"IF(AND(Crop!G14>0,G14<paddy_dry!$D$6),Crop!G14+1,IF(F15=paddy_dry!$E$6,1,0))","v":5},13,21,13,13,{"$f":"IF(AND(Crop!L14>0,L14<upland_dry!$D$6),Crop!L14+1,IF(K15=upland_dry!$E$6,1,0))","v":4},13,0,13,13,{"$f":"IF(AND(Crop!Q14>0,Q14<plant!$D$6),Crop!Q14+1,IF(P15=plant!$E$6,1,0))","v":13},13,13,13,13,{"$f":"IF(AND(Crop!V14>0,V14<paddy_rain!$D$6),Crop!V14+1,IF(U15=paddy_rain!$E$6,1,0))","v":0},13,45,13,13,{"$f":"IF(AND(Crop!AA14>0,AA14<upland_rain!$D$6),Crop!AA14+1,IF(Z15=upland_rain!$E$6,1,0))","v":0},13,39,13]
[null,{"$f":"Kc!P3","v":"มะเขือเทศ"},{"$f":"COUNT(Kc!P6:P57)","v":15},null,null,14,{"$f":"IF(AND(Crop!G15>0,G15<paddy_dry!$D$6),Crop!G15+1,IF(F16=paddy_dry!$E$6,1,0))","v":6},14,0,14,14,{"$f":"IF(AND(Crop!L15>0,L15<upland_dry!$D$6),Crop!L15+1,IF(K16=upland_dry!$E$6,1,0))","v":5},14,0,14,14,{"$f":"IF(AND(Crop!Q15>0,Q15<plant!$D$6),Crop!Q15+1,IF(P16=plant!$E$6,1,0))","v":14},14,14,14,14,{"$f":"IF(AND(Crop!V15>0,V15<paddy_rain!$D$6),Crop!V15+1,IF(U16=paddy_rain!$E$6,1,0))","v":0},14,0,14,14,{"$f":"IF(AND(Crop!AA15>0,AA15<upland_rain!$D$6),Crop!AA15+1,IF(Z16=upland_rain!$E$6,1,0))","v":0},14,40,14]
[null,{"$f":"Kc!Q3","v":"หอมหัวใหญ่"},{"$f":"COUNT(Kc!Q6:Q57)","v":15},null,null,15,{"$f":"IF(AND(Crop!G16>0,G16<paddy_dry!$D$6),Crop!G16+1,IF(F17=paddy_dry!$E$6,1,0))","v":7},15,0,15,15,{"$f":"IF(AND(Crop!L16>0,L16<upland_dry!$D$6),Crop!L16+1,IF(K17=upland_dry!$E$6,1,0))","v":6},15,0,15,15,{"$f":"IF(AND(Crop!Q16>0,Q16<plant!$D$6),Crop!Q16+1,IF(P17=plant!$E$6,1,0))","v":15},15,15,15,15,{"$f":"IF(AND(Crop!V16>0,V16<paddy_rain!$D$6),Crop!V16+1,IF(U17=paddy_rain!$E$6,1,0))","v":0},15,0,15,15,{"$f":"IF(AND(Crop!AA16>0,AA16<upland_rain!$D$6),Crop!AA16+1,IF(Z17=upland_rain!$E$6,1,0))","v":0},15,0,15]
[null,{"$f":"Kc!R3","v":"หอม\nแดง"},{"$f":"COUNT(Kc!R6:R57)","v":12},null,null,16,{"$f":"IF(AND(Crop!G17>0,G17<paddy_dry!$D$6),Crop!G17+1,IF(F18=paddy_dry!$E$6,1,0))","v":8},16,0,16,16,{"$f":"IF(AND(Crop!L17>0,L17<upland_dry!$D$6),Crop!L17+1,IF(K18=upland_dry!$E$6,1,0))","v":7},16,0,16,16,{"$f":"IF(AND(Crop!Q17>0,Q17<plant!$D$6),Crop!Q17+1,IF(P18=plant!$E$6,1,0))","v":16},16,16,16,16,{"$f":"IF(AND(Crop!V17>0,V17<paddy_rain!$D$6),Crop!V17+1,IF(U18=paddy_rain!$E$6,1,0))","v":0},16,0,16,16,{"$f":"IF(AND(Crop!AA17>0,AA17<upland_rain!$D$6),Crop!AA17+1,IF(Z18=upland_rain!$E$6,1,0))","v":0},16,0,16]
[null,{"$f":"Kc!S3","v":"มะระ"},{"$f":"COUNT(Kc!S6:S57)","v":11},null,null,17,{"$f":"IF(AND(Crop!G18>0,G18<paddy_dry!$D$6),Crop!G18+1,IF(F19=paddy_dry!$E$6,1,0))","v":9},17,0,17,17,{"$f":"IF(AND(Crop!L18>0,L18<upland_dry!$D$6),Crop!L18+1,IF(K19=upland_dry!$E$6,1,0))","v":8},17,0,17,17,{"$f":"IF(AND(Crop!Q18>0,Q18<plant!$D$6),Crop!Q18+1,IF(P19=plant!$E$6,1,0))","v":17},17,17,17,17,{"$f":"IF(AND(Crop!V18>0,V18<paddy_rain!$D$6),Crop!V18+1,IF(U19=paddy_rain!$E$6,1,0))","v":0},17,0,17,17,{"$f":"IF(AND(Crop!AA18>0,AA18<upland_rain!$D$6),Crop!AA18+1,IF(Z19=upland_rain!$E$6,1,0))","v":0},17,0,17]
[null,{"$f":"Kc!T3","v":"กะหล่ำดอก"},{"$f":"COUNT(Kc!T6:T57)","v":7},null,null,18,{"$f":"IF(AND(Crop!G19>0,G19<paddy_dry!$D$6),Crop!G19+1,IF(F20=paddy_dry!$E$6,1,0))","v":10},18,0,18,18,{"$f":"IF(AND(Crop!L19>0,L19<upland_dry!$D$6),Crop!L19+1,IF(K20=upland_dry!$E$6,1,0))","v":9},18,0,18,18,{"$f":"IF(AND(Crop!Q19>0,Q19<plant!$D$6),Crop!Q19+1,IF(P20=plant!$E$6,1,0))","v":18},18,18,18,18,{"$f":"IF(AND(Crop!V19>0,V19<paddy_rain!$D$6),Crop!V19+1,IF(U20=paddy_rain!$E$6,1,0))","v":0},18,0,18,18,{"$f":"IF(AND(Crop!AA19>0,AA19<upland_rain!$D$6),Crop!AA19+1,IF(Z20=upland_rain!$E$6,1,0))","v":0},18,0,18]
[null,{"$f":"Kc!U3","v":"คะน้า"},{"$f":"COUNT(Kc!U6:U57)","v":8},null,null,19,{"$f":"IF(AND(Crop!G20>0,G20<paddy_dry!$D$6),Crop!G20+1,IF(F21=paddy_dry!$E$6,1,0))","v":11},19,0,19,19,{"$f":"IF(AND(Crop!L20>0,L20<upland_dry!$D$6),Crop!L20+1,IF(K21=upland_dry!$E$6,1,0))","v":0},19,0,19,19,{"$f":"IF(AND(Crop!Q20>0,Q20<plant!$D$6),Crop!Q20+1,IF(P21=plant!$E$6,1,0))","v":19},19,19,19,19,{"$f":"IF(AND(Crop!V20>0,V20<paddy_rain!$D$6),Crop!V20+1,IF(U21=paddy_rain!$E$6,1,0))","v":0},19,0,19,19,{"$f":"IF(AND(Crop!AA20>0,AA20<upland_rain!$D$6),Crop!AA20+1,IF(Z21=upland_rain!$E$6,1,0))","v":0},19,0,19]
[null,{"$f":"Kc!V3","v":"ไม้ดอก (บานชื่น)"},{"$f":"COUNT(Kc!V6:V57)","v":9},null,null,20,{"$f":"IF(AND(Crop!G21>0,G21<paddy_dry!$D$6),Crop!G21+1,IF(F22=paddy_dry!$E$6,1,0))","v":12},20,0,20,20,{"$f":"IF(AND(Crop!L21>0,L21<upland_dry!$D$6),Crop!L21+1,IF(K22=upland_dry!$E$6,1,0))","v":0},20,0,20,20,{"$f":"IF(AND(Crop!Q21>0,Q21<plant!$D$6),Crop!Q21+1,IF(P22=plant!$E$6,1,0))","v":20},20,20,20,20,{"$f":"IF(AND(Crop!V21>0,V21<paddy_rain!$D$6),Crop!V21+1,IF(U22=paddy_rain!$E$6,1,0))","v":0},20,0,20,20,{"$f":"IF(AND(Crop!AA21>0,AA21<upland_rain!$D$6),Crop!AA21+1,IF(Z22=upland_rain!$E$6,1,0))","v":0},20,0,20]
[null,{"$f":"Kc!W3","v":"ฝ้าย"},{"$f":"COUNT(Kc!W6:W57)","v":26},null,null,21,{"$f":"IF(AND(Crop!G22>0,G22<paddy_dry!$D$6),Crop!G22+1,IF(F23=paddy_dry!$E$6,1,0))","v":13},21,0,21,21,{"$f":"IF(AND(Crop!L22>0,L22<upland_dry!$D$6),Crop!L22+1,IF(K23=upland_dry!$E$6,1,0))","v":0},21,0,21,21,{"$f":"IF(AND(Crop!Q22>0,Q22<plant!$D$6),Crop!Q22+1,IF(P23=plant!$E$6,1,0))","v":21},21,21,21,21,{"$f":"IF(AND(Crop!V22>0,V22<paddy_rain!$D$6),Crop!V22+1,IF(U23=paddy_rain!$E$6,1,0))","v":0},21,0,21,21,{"$f":"IF(AND(Crop!AA22>0,AA22<upland_rain!$D$6),Crop!AA22+1,IF(Z23=upland_rain!$E$6,1,0))","v":0},21,0,21]
[null,{"$f":"Kc!X3","v":"อ้อย"},{"$f":"COUNT(Kc!X6:X57)","v":44},null,null,22,{"$f":"IF(AND(Crop!G23>0,G23<paddy_dry!$D$6),Crop!G23+1,IF(F24=paddy_dry!$E$6,1,0))","v":0},22,0,22,22,{"$f":"IF(AND(Crop!L23>0,L23<upland_dry!$D$6),Crop!L23+1,IF(K24=upland_dry!$E$6,1,0))","v":0},22,0,22,22,{"$f":"IF(AND(Crop!Q23>0,Q23<plant!$D$6),Crop!Q23+1,IF(P24=plant!$E$6,1,0))","v":22},22,22,22,22,{"$f":"IF(AND(Crop!V23>0,V23<paddy_rain!$D$6),Crop!V23+1,IF(U24=paddy_rain!$E$6,1,0))","v":0},22,0,22,22,{"$f":"IF(AND(Crop!AA23>0,AA23<upland_rain!$D$6),Crop!AA23+1,IF(Z24=upland_rain!$E$6,1,0))","v":0},22,0,22]
[null,{"$f":"Kc!Y3","v":"ละหุ่ง"},{"$f":"COUNT(Kc!Y6:Y57)","v":35},null,null,23,{"$f":"IF(AND(Crop!G24>0,G24<paddy_dry!$D$6),Crop!G24+1,IF(F25=paddy_dry!$E$6,1,0))","v":0},23,0,23,23,{"$f":"IF(AND(Crop!L24>0,L24<upland_dry!$D$6),Crop!L24+1,IF(K25=upland_dry!$E$6,1,0))","v":0},23,0,23,23,{"$f":"IF(AND(Crop!Q24>0,Q24<plant!$D$6),Crop!Q24+1,IF(P25=plant!$E$6,1,0))","v":23},23,23,23,23,{"$f":"IF(AND(Crop!V24>0,V24<paddy_rain!$D$6),Crop!V24+1,IF(U25=paddy_rain!$E$6,1,0))","v":0},23,0,23,23,{"$f":"IF(AND(Crop!AA24>0,AA24<upland_rain!$D$6),Crop!AA24+1,IF(Z25=upland_rain!$E$6,1,0))","v":0},23,0,23]
[null,{"$f":"Kc!Z3","v":"หน่อไม้ฝรั่ง"},{"$f":"COUNT(Kc!Z6:Z57)","v":52},null,null,24,{"$f":"IF(AND(Crop!G25>0,G25<paddy_dry!$D$6),Crop!G25+1,IF(F26=paddy_dry!$E$6,1,0))","v":0},24,0,24,24,{"$f":"IF(AND(Crop!L25>0,L25<upland_dry!$D$6),Crop!L25+1,IF(K26=upland_dry!$E$6,1,0))","v":0},24,0,24,24,{"$f":"IF(AND(Crop!Q25>0,Q25<plant!$D$6),Crop!Q25+1,IF(P26=plant!$E$6,1,0))","v":24},24,24,24,24,{"$f":"IF(AND(Crop!V25>0,V25<paddy_rain!$D$6),Crop!V25+1,IF(U26=paddy_rain!$E$6,1,0))","v":0},24,0,24,24,{"$f":"IF(AND(Crop!AA25>0,AA25<upland_rain!$D$6),Crop!AA25+1,IF(Z26=upland_rain!$E$6,1,0))","v":0},24,0,24]
[null,{"$f":"Kc!AA3","v":"เผือก"},{"$f":"COUNT(Kc!AA6:AA57)","v":26},null,null,25,{"$f":"IF(AND(Crop!G26>0,G26<paddy_dry!$D$6),Crop!G26+1,IF(F27=paddy_dry!$E$6,1,0))","v":0},25,0,25,25,{"$f":"IF(AND(Crop!L26>0,L26<upland_dry!$D$6),Crop!L26+1,IF(K27=upland_dry!$E$6,1,0))","v":0},25,0,25,25,{"$f":"IF(AND(Crop!Q26>0,Q26<plant!$D$6),Crop!Q26+1,IF(P27=plant!$E$6,1,0))","v":25},25,25,25,25,{"$f":"IF(AND(Crop!V26>0,V26<paddy_rain!$D$6),Crop!V26+1,IF(U27=paddy_rain!$E$6,1,0))","v":0},25,0,25,25,{"$f":"IF(AND(Crop!AA26>0,AA26<upland_rain!$D$6),Crop!AA26+1,IF(Z27=upland_rain!$E$6,1,0))","v":0},25,0,25]
[null,{"$f":"Kc!AB3","v":"ไม้ดอก (กุหลาบ)"},{"$f":"COUNT(Kc!AB6:AB57)","v":52},null,null,26,{"$f":"IF(AND(Crop!G27>0,G27<paddy_dry!$D$6),Crop!G27+1,IF(F28=paddy_dry!$E$6,1,0))","v":0},26,0,26,26,{"$f":"IF(AND(Crop!L27>0,L27<upland_dry!$D$6),Crop!L27+1,IF(K28=upland_dry!$E$6,1,0))","v":0},26,0,26,26,{"$f":"IF(AND(Crop!Q27>0,Q27<plant!$D$6),Crop!Q27+1,IF(P28=plant!$E$6,1,0))","v":26},26,26,26,26,{"$f":"IF(AND(Crop!V27>0,V27<paddy_rain!$D$6),Crop!V27+1,IF(U28=paddy_rain!$E$6,1,0))","v":0},26,0,26,26,{"$f":"IF(AND(Crop!AA27>0,AA27<upland_rain!$D$6),Crop!AA27+1,IF(Z28=upland_rain!$E$6,1,0))","v":0},26,0,26]
[null,{"$f":"Kc!AC3","v":"มะม่วง"},{"$f":"COUNT(Kc!AC6:AC57)","v":52},null,null,27,{"$f":"IF(AND(Crop!G28>0,G28<paddy_dry!$D$6),Crop!G28+1,IF(F29=paddy_dry!$E$6,1,0))","v":0},27,0,27,27,{"$f":"IF(AND(Crop!L28>0,L28<upland_dry!$D$6),Crop!L28+1,IF(K29=upland_dry!$E$6,1,0))","v":0},27,0,27,27,{"$f":"IF(AND(Crop!Q28>0,Q28<plant!$D$6),Crop!Q28+1,IF(P29=plant!$E$6,1,0))","v":27},27,27,27,27,{"$f":"IF(AND(Crop!V28>0,V28<paddy_rain!$D$6),Crop!V28+1,IF(U29=paddy_rain!$E$6,1,0))","v":0},27,0,27,27,{"$f":"IF(AND(Crop!AA28>0,AA28<upland_rain!$D$6),Crop!AA28+1,IF(Z29=upland_rain!$E$6,1,0))","v":1},27,0,27]
[null,{"$f":"Kc!AD3","v":"ส้มโอ"},{"$f":"COUNT(Kc!AD6:AD57)","v":52},null,null,28,{"$f":"IF(AND(Crop!G29>0,G29<paddy_dry!$D$6),Crop!G29+1,IF(F30=paddy_dry!$E$6,1,0))","v":0},28,0,28,28,{"$f":"IF(AND(Crop!L29>0,L29<upland_dry!$D$6),Crop!L29+1,IF(K30=upland_dry!$E$6,1,0))","v":0},28,0,28,28,{"$f":"IF(AND(Crop!Q29>0,Q29<plant!$D$6),Crop!Q29+1,IF(P30=plant!$E$6,1,0))","v":28},28,28,28,28,{"$f":"IF(AND(Crop!V29>0,V29<paddy_rain!$D$6),Crop!V29+1,IF(U30=paddy_rain!$E$6,1,0))","v":0},28,0,28,28,{"$f":"IF(AND(Crop!AA29>0,AA29<upland_rain!$D$6),Crop!AA29+1,IF(Z30=upland_rain!$E$6,1,0))","v":2},28,0,28]
[null,{"$f":"Kc!AE3","v":"มะนาว (1-3 ปี)"},{"$f":"COUNT(Kc!AE6:AE57)","v":52},null,null,29,{"$f":"IF(AND(Crop!G30>0,G30<paddy_dry!$D$6),Crop!G30+1,IF(F31=paddy_dry!$E$6,1,0))","v":0},29,0,29,29,{"$f":"IF(AND(Crop!L30>0,L30<upland_dry!$D$6),Crop!L30+1,IF(K31=upland_dry!$E$6,1,0))","v":0},29,0,29,29,{"$f":"IF(AND(Crop!Q30>0,Q30<plant!$D$6),Crop!Q30+1,IF(P31=plant!$E$6,1,0))","v":29},29,29,29,29,{"$f":"IF(AND(Crop!V30>0,V30<paddy_rain!$D$6),Crop!V30+1,IF(U31=paddy_rain!$E$6,1,0))","v":0},29,0,29,29,{"$f":"IF(AND(Crop!AA30>0,AA30<upland_rain!$D$6),Crop!AA30+1,IF(Z31=upland_rain!$E$6,1,0))","v":3},29,0,29]
[null,{"$f":"Kc!AF3","v":"มะนาว (3-5 ปี)"},{"$f":"COUNT(Kc!AF6:AF57)","v":52},null,null,30,{"$f":"IF(AND(Crop!G31>0,G31<paddy_dry!$D$6),Crop!G31+1,IF(F32=paddy_dry!$E$6,1,0))","v":0},30,0,30,30,{"$f":"IF(AND(Crop!L31>0,L31<upland_dry!$D$6),Crop!L31+1,IF(K32=upland_dry!$E$6,1,0))","v":0},30,0,30,30,{"$f":"IF(AND(Crop!Q31>0,Q31<plant!$D$6),Crop!Q31+1,IF(P32=plant!$E$6,1,0))","v":30},30,30,30,30,{"$f":"IF(AND(Crop!V31>0,V31<paddy_rain!$D$6),Crop!V31+1,IF(U32=paddy_rain!$E$6,1,0))","v":0},30,0,30,30,{"$f":"IF(AND(Crop!AA31>0,AA31<upland_rain!$D$6),Crop!AA31+1,IF(Z32=upland_rain!$E$6,1,0))","v":4},30,0,30]
[null,{"$f":"Kc!AG3","v":"ปาล์มน้ำมัน(1-3 ปี)***"},{"$f":"COUNT(Kc!AG6:AG57)","v":52},null,null,31,{"$f":"IF(AND(Crop!G32>0,G32<paddy_dry!$D$6),Crop!G32+1,IF(F33=paddy_dry!$E$6,1,0))","v":0},31,0,31,31,{"$f":"IF(AND(Crop!L32>0,L32<upland_dry!$D$6),Crop!L32+1,IF(K33=upland_dry!$E$6,1,0))","v":0},31,0,31,31,{"$f":"IF(AND(Crop!Q32>0,Q32<plant!$D$6),Crop!Q32+1,IF(P33=plant!$E$6,1,0))","v":31},31,31,31,31,{"$f":"IF(AND(Crop!V32>0,V32<paddy_rain!$D$6),Crop!V32+1,IF(U33=paddy_rain!$E$6,1,0))","v":0},31,0,31,31,{"$f":"IF(AND(Crop!AA32>0,AA32<upland_rain!$D$6),Crop!AA32+1,IF(Z33=upland_rain!$E$6,1,0))","v":5},31,0,31]
[null,{"$f":"Kc!AH3","v":"ปาล์มน้ำมัน(ให้ผลผลิต)**"},{"$f":"COUNT(Kc!AH6:AH57)","v":52},null,null,32,{"$f":"IF(AND(Crop!G33>0,G33<paddy_dry!$D$6),Crop!G33+1,IF(F34=paddy_dry!$E$6,1,0))","v":0},32,0,32,32,{"$f":"IF(AND(Crop!L33>0,L33<upland_dry!$D$6),Crop!L33+1,IF(K34=upland_dry!$E$6,1,0))","v":0},32,0,32,32,{"$f":"IF(AND(Crop!Q33>0,Q33<plant!$D$6),Crop!Q33+1,IF(P34=plant!$E$6,1,0))","v":32},32,32,32,32,{"$f":"IF(AND(Crop!V33>0,V33<paddy_rain!$D$6),Crop!V33+1,IF(U34=paddy_rain!$E$6,1,0))","v":0},32,0,32,32,{"$f":"IF(AND(Crop!AA33>0,AA33<upland_rain!$D$6),Crop!AA33+1,IF(Z34=upland_rain!$E$6,1,0))","v":6},32,0,32]
[null,{"$f":"Kc!AI3","v":"ยางพารา**"},{"$f":"COUNT(Kc!AI6:AI57)","v":52},null,null,33,{"$f":"IF(AND(Crop!G34>0,G34<paddy_dry!$D$6),Crop!G34+1,IF(F35=paddy_dry!$E$6,1,0))","v":0},33,{"$f":"IF(ISERROR(VLOOKUP(F35,$G$3:$H$70,2,FALSE)),0,VLOOKUP(F35,$G$3:$H$70,2,FALSE))","v":0},33,33,{"$f":"IF(AND(Crop!L34>0,L34<upland_dry!$D$6),Crop!L34+1,IF(K35=upland_dry!$E$6,1,0))","v":0},33,0,33,33,{"$f":"IF(AND(Crop!Q34>0,Q34<plant!$D$6),Crop!Q34+1,IF(P35=plant!$E$6,1,0))","v":33},33,33,33,33,{"$f":"IF(AND(Crop!V34>0,V34<paddy_rain!$D$6),Crop!V34+1,IF(U35=paddy_rain!$E$6,1,0))","v":1},33,0,33,33,{"$f":"IF(AND(Crop!AA34>0,AA34<upland_rain!$D$6),Crop!AA34+1,IF(Z35=upland_rain!$E$6,1,0))","v":7},33,0,33]
[null,null,null,null,null,34,{"$f":"IF(AND(Crop!G35>0,G35<paddy_dry!$D$6),Crop!G35+1,IF(F36=paddy_dry!$E$6,1,0))","v":0},34,0,34,34,{"$f":"IF(AND(Crop!L35>0,L35<upland_dry!$D$6),Crop!L35+1,IF(K36=upland_dry!$E$6,1,0))","v":0},34,0,34,34,{"$f":"IF(AND(Crop!Q35>0,Q35<plant!$D$6),Crop!Q35+1,IF(P36=plant!$E$6,1,0))","v":34},34,34,34,34,{"$f":"IF(AND(Crop!V35>0,V35<paddy_rain!$D$6),Crop!V35+1,IF(U36=paddy_rain!$E$6,1,0))","v":2},34,0,34,34,{"$f":"IF(AND(Crop!AA35>0,AA35<upland_rain!$D$6),Crop!AA35+1,IF(Z36=upland_rain!$E$6,1,0))","v":8},34,0,34]
[null,null,null,null,null,35,{"$f":"IF(AND(Crop!G36>0,G36<paddy_dry!$D$6),Crop!G36+1,IF(F37=paddy_dry!$E$6,1,0))","v":0},35,0,35,35,{"$f":"IF(AND(Crop!L36>0,L36<upland_dry!$D$6),Crop!L36+1,IF(K37=upland_dry!$E$6,1,0))","v":0},35,0,35,35,{"$f":"IF(AND(Crop!Q36>0,Q36<plant!$D$6),Crop!Q36+1,IF(P37=plant!$E$6,1,0))","v":35},35,35,35,35,{"$f":"IF(AND(Crop!V36>0,V36<paddy_rain!$D$6),Crop!V36+1,IF(U37=paddy_rain!$E$6,1,0))","v":3},35,0,35,35,{"$f":"IF(AND(Crop!AA36>0,AA36<upland_rain!$D$6),Crop!AA36+1,IF(Z37=upland_rain!$E$6,1,0))","v":9},35,0,35]
[null,null,null,null,null,36,{"$f":"IF(AND(Crop!G37>0,G37<paddy_dry!$D$6),Crop!G37+1,IF(F38=paddy_dry!$E$6,1,0))","v":0},36,0,36,36,{"$f":"IF(AND(Crop!L37>0,L37<upland_dry!$D$6),Crop!L37+1,IF(K38=upland_dry!$E$6,1,0))","v":0},36,0,36,36,{"$f":"IF(AND(Crop!Q37>0,Q37<plant!$D$6),Crop!Q37+1,IF(P38=plant!$E$6,1,0))","v":36},36,36,36,36,{"$f":"IF(AND(Crop!V37>0,V37<paddy_rain!$D$6),Crop!V37+1,IF(U38=paddy_rain!$E$6,1,0))","v":4},36,0,36,36,{"$f":"IF(AND(Crop!AA37>0,AA37<upland_rain!$D$6),Crop!AA37+1,IF(Z38=upland_rain!$E$6,1,0))","v":10},36,0,36]
[null,null,null,null,null,37,{"$f":"IF(AND(Crop!G38>0,G38<paddy_dry!$D$6),Crop!G38+1,IF(F39=paddy_dry!$E$6,1,0))","v":0},37,0,37,37,{"$f":"IF(AND(Crop!L38>0,L38<upland_dry!$D$6),Crop!L38+1,IF(K39=upland_dry!$E$6,1,0))","v":0},37,0,37,37,{"$f":"IF(AND(Crop!Q38>0,Q38<plant!$D$6),Crop!Q38+1,IF(P39=plant!$E$6,1,0))","v":37},37,37,37,37,{"$f":"IF(AND(Crop!V38>0,V38<paddy_rain!$D$6),Crop!V38+1,IF(U39=paddy_rain!$E$6,1,0))","v":5},37,0,37,37,{"$f":"IF(AND(Crop!AA38>0,AA38<upland_rain!$D$6),Crop!AA38+1,IF(Z39=upland_rain!$E$6,1,0))","v":11},37,0,37]
[null,null,null,null,null,38,{"$f":"IF(AND(Crop!G39>0,G39<paddy_dry!$D$6),Crop!G39+1,IF(F40=paddy_dry!$E$6,1,0))","v":0},38,0,38,38,{"$f":"IF(AND(Crop!L39>0,L39<upland_dry!$D$6),Crop!L39+1,IF(K40=upland_dry!$E$6,1,0))","v":0},38,0,38,38,{"$f":"IF(AND(Crop!Q39>0,Q39<plant!$D$6),Crop!Q39+1,IF(P40=plant!$E$6,1,0))","v":38},38,38,38,38,{"$f":"IF(AND(Crop!V39>0,V39<paddy_rain!$D$6),Crop!V39+1,IF(U40=paddy_rain!$E$6,1,0))","v":6},38,0,38,38,{"$f":"IF(AND(Crop!AA39>0,AA39<upland_rain!$D$6),Crop!AA39+1,IF(Z40=upland_rain!$E$6,1,0))","v":12},38,0,38]
[null,null,null,null,null,39,{"$f":"IF(AND(Crop!G40>0,G40<paddy_dry!$D$6),Crop!G40+1,IF(F41=paddy_dry!$E$6,1,0))","v":0},39,0,39,39,{"$f":"IF(AND(Crop!L40>0,L40<upland_dry!$D$6),Crop!L40+1,IF(K41=upland_dry!$E$6,1,0))","v":0},39,0,39,39,{"$f":"IF(AND(Crop!Q40>0,Q40<plant!$D$6),Crop!Q40+1,IF(P41=plant!$E$6,1,0))","v":39},39,39,39,39,{"$f":"IF(AND(Crop!V40>0,V40<paddy_rain!$D$6),Crop!V40+1,IF(U41=paddy_rain!$E$6,1,0))","v":7},39,0,39,39,{"$f":"IF(AND(Crop!AA40>0,AA40<upland_rain!$D$6),Crop!AA40+1,IF(Z41=upland_rain!$E$6,1,0))","v":13},39,0,39]
[null,null,null,null,null,40,{"$f":"IF(AND(Crop!G41>0,G41<paddy_dry!$D$6),Crop!G41+1,IF(F42=paddy_dry!$E$6,1,0))","v":0},40,0,40,40,{"$f":"IF(AND(Crop!L41>0,L41<upland_dry!$D$6),Crop!L41+1,IF(K42=upland_dry!$E$6,1,0))","v":0},40,0,40,40,{"$f":"IF(AND(Crop!Q41>0,Q41<plant!$D$6),Crop!Q41+1,IF(P42=plant!$E$6,1,0))","v":40},40,40,40,40,{"$f":"IF(AND(Crop!V41>0,V41<paddy_rain!$D$6),Crop!V41+1,IF(U42=paddy_rain!$E$6,1,0))","v":8},40,0,40,40,{"$f":"IF(AND(Crop!AA41>0,AA41<upland_rain!$D$6),Crop!AA41+1,IF(Z42=upland_rain!$E$6,1,0))","v":14},40,0,40]
[null,null,null,null,null,41,{"$f":"IF(AND(Crop!G42>0,G42<paddy_dry!$D$6),Crop!G42+1,IF(F43=paddy_dry!$E$6,1,0))","v":0},41,0,41,41,{"$f":"IF(AND(Crop!L42>0,L42<upland_dry!$D$6),Crop!L42+1,IF(K43=upland_dry!$E$6,1,0))","v":0},41,0,41,41,{"$f":"IF(AND(Crop!Q42>0,Q42<plant!$D$6),Crop!Q42+1,IF(P43=plant!$E$6,1,0))","v":41},41,41,41,41,{"$f":"IF(AND(Crop!V42>0,V42<paddy_rain!$D$6),Crop!V42+1,IF(U43=paddy_rain!$E$6,1,0))","v":9},41,0,41,41,{"$f":"IF(AND(Crop!AA42>0,AA42<upland_rain!$D$6),Crop!AA42+1,IF(Z43=upland_rain!$E$6,1,0))","v":0},41,0,41]
[null,null,null,null,null,42,{"$f":"IF(AND(Crop!G43>0,G43<paddy_dry!$D$6),Crop!G43+1,IF(F44=paddy_dry!$E$6,1,0))","v":0},42,0,42,42,{"$f":"IF(AND(Crop!L43>0,L43<upland_dry!$D$6),Crop!L43+1,IF(K44=upland_dry!$E$6,1,0))","v":0},42,0,42,42,{"$f":"IF(AND(Crop!Q43>0,Q43<plant!$D$6),Crop!Q43+1,IF(P44=plant!$E$6,1,0))","v":42},42,42,42,42,{"$f":"IF(AND(Crop!V43>0,V43<paddy_rain!$D$6),Crop!V43+1,IF(U44=paddy_rain!$E$6,1,0))","v":10},42,0,42,42,{"$f":"IF(AND(Crop!AA43>0,AA43<upland_rain!$D$6),Crop!AA43+1,IF(Z44=upland_rain!$E$6,1,0))","v":0},42,0,42]
[null,null,null,null,null,43,{"$f":"IF(AND(Crop!G44>0,G44<paddy_dry!$D$6),Crop!G44+1,IF(F45=paddy_dry!$E$6,1,0))","v":0},43,0,43,43,{"$f":"IF(AND(Crop!L44>0,L44<upland_dry!$D$6),Crop!L44+1,IF(K45=upland_dry!$E$6,1,0))","v":0},43,0,43,43,{"$f":"IF(AND(Crop!Q44>0,Q44<plant!$D$6),Crop!Q44+1,IF(P45=plant!$E$6,1,0))","v":43},43,43,43,43,{"$f":"IF(AND(Crop!V44>0,V44<paddy_rain!$D$6),Crop!V44+1,IF(U45=paddy_rain!$E$6,1,0))","v":11},43,0,43,43,{"$f":"IF(AND(Crop!AA44>0,AA44<upland_rain!$D$6),Crop!AA44+1,IF(Z45=upland_rain!$E$6,1,0))","v":0},43,0,43]
[null,null,null,null,null,44,{"$f":"IF(AND(Crop!G45>0,G45<paddy_dry!$D$6),Crop!G45+1,IF(F46=paddy_dry!$E$6,1,0))","v":0},44,0,44,44,{"$f":"IF(AND(Crop!L45>0,L45<upland_dry!$D$6),Crop!L45+1,IF(K46=upland_dry!$E$6,1,0))","v":0},44,0,44,44,{"$f":"IF(AND(Crop!Q45>0,Q45<plant!$D$6),Crop!Q45+1,IF(P46=plant!$E$6,1,0))","v":44},44,44,44,44,{"$f":"IF(AND(Crop!V45>0,V45<paddy_rain!$D$6),Crop!V45+1,IF(U46=paddy_rain!$E$6,1,0))","v":12},44,0,44,44,{"$f":"IF(AND(Crop!AA45>0,AA45<upland_rain!$D$6),Crop!AA45+1,IF(Z46=upland_rain!$E$6,1,0))","v":0},44,0,44]
[null,null,null,null,null,45,{"$f":"IF(AND(Crop!G46>0,G46<paddy_dry!$D$6),Crop!G46+1,IF(F47=paddy_dry!$E$6,1,0))","v":0},45,0,45,45,{"$f":"IF(AND(Crop!L46>0,L46<upland_dry!$D$6),Crop!L46+1,IF(K47=upland_dry!$E$6,1,0))","v":0},45,0,45,45,{"$f":"IF(AND(Crop!Q46>0,Q46<plant!$D$6),Crop!Q46+1,IF(P47=plant!$E$6,1,0))","v":45},45,45,45,45,{"$f":"IF(AND(Crop!V46>0,V46<paddy_rain!$D$6),Crop!V46+1,IF(U47=paddy_rain!$E$6,1,0))","v":13},45,0,45,45,{"$f":"IF(AND(Crop!AA46>0,AA46<upland_rain!$D$6),Crop!AA46+1,IF(Z47=upland_rain!$E$6,1,0))","v":0},45,0,45]
[null,null,null,null,null,46,{"$f":"IF(AND(Crop!G47>0,G47<paddy_dry!$D$6),Crop!G47+1,IF(F48=paddy_dry!$E$6,1,0))","v":0},46,0,46,46,{"$f":"IF(AND(Crop!L47>0,L47<upland_dry!$D$6),Crop!L47+1,IF(K48=upland_dry!$E$6,1,0))","v":0},46,0,46,46,{"$f":"IF(AND(Crop!Q47>0,Q47<plant!$D$6),Crop!Q47+1,IF(P48=plant!$E$6,1,0))","v":46},46,46,46,46,{"$f":"IF(AND(Crop!V47>0,V47<paddy_rain!$D$6),Crop!V47+1,IF(U48=paddy_rain!$E$6,1,0))","v":0},46,0,46,46,{"$f":"IF(AND(Crop!AA47>0,AA47<upland_rain!$D$6),Crop!AA47+1,IF(Z48=upland_rain!$E$6,1,0))","v":0},46,0,46]
[null,null,null,null,null,47,{"$f":"IF(AND(Crop!G48>0,G48<paddy_dry!$D$6),Crop!G48+1,IF(F49=paddy_dry!$E$6,1,0))","v":0},47,0,47,47,{"$f":"IF(AND(Crop!L48>0,L48<upland_dry!$D$6),Crop!L48+1,IF(K49=upland_dry!$E$6,1,0))","v":0},47,0,47,47,{"$f":"IF(AND(Crop!Q48>0,Q48<plant!$D$6),Crop!Q48+1,IF(P49=plant!$E$6,1,0))","v":47},47,47,47,47,{"$f":"IF(AND(Crop!V48>0,V48<paddy_rain!$D$6),Crop!V48+1,IF(U49=paddy_rain!$E$6,1,0))","v":0},47,0,47,47,{"$f":"IF(AND(Crop!AA48>0,AA48<upland_rain!$D$6),Crop!AA48+1,IF(Z49=upland_rain!$E$6,1,0))","v":0},47,0,47]
[null,null,null,null,null,48,{"$f":"IF(AND(Crop!G49>0,G49<paddy_dry!$D$6),Crop!G49+1,IF(F50=paddy_dry!$E$6,1,0))","v":0},48,0,48,48,{"$f":"IF(AND(Crop!L49>0,L49<upland_dry!$D$6),Crop!L49+1,IF(K50=upland_dry!$E$6,1,0))","v":0},48,0,48,48,{"$f":"IF(AND(Crop!Q49>0,Q49<plant!$D$6),Crop!Q49+1,IF(P50=plant!$E$6,1,0))","v":48},48,48,48,48,{"$f":"IF(AND(Crop!V49>0,V49<paddy_rain!$D$6),Crop!V49+1,IF(U50=paddy_rain!$E$6,1,0))","v":0},48,0,48,48,{"$f":"IF(AND(Crop!AA49>0,AA49<upland_rain!$D$6),Crop!AA49+1,IF(Z50=upland_rain!$E$6,1,0))","v":0},48,0,48]
[null,null,null,null,null,49,{"$f":"IF(AND(Crop!G50>0,G50<paddy_dry!$D$6),Crop!G50+1,IF(F51=paddy_dry!$E$6,1,0))","v":0},49,0,49,49,{"$f":"IF(AND(Crop!L50>0,L50<upland_dry!$D$6),Crop!L50+1,IF(K51=upland_dry!$E$6,1,0))","v":0},49,0,49,49,{"$f":"IF(AND(Crop!Q50>0,Q50<plant!$D$6),Crop!Q50+1,IF(P51=plant!$E$6,1,0))","v":49},49,49,49,49,{"$f":"IF(AND(Crop!V50>0,V50<paddy_rain!$D$6),Crop!V50+1,IF(U51=paddy_rain!$E$6,1,0))","v":0},49,0,49,49,{"$f":"IF(AND(Crop!AA50>0,AA50<upland_rain!$D$6),Crop!AA50+1,IF(Z51=upland_rain!$E$6,1,0))","v":0},49,0,49]
[null,null,null,null,null,50,{"$f":"IF(AND(Crop!G51>0,G51<paddy_dry!$D$6),Crop!G51+1,IF(F52=paddy_dry!$E$6,1,0))","v":0},50,0,50,50,{"$f":"IF(AND(Crop!L51>0,L51<upland_dry!$D$6),Crop!L51+1,IF(K52=upland_dry!$E$6,1,0))","v":0},50,0,50,50,{"$f":"IF(AND(Crop!Q51>0,Q51<plant!$D$6),Crop!Q51+1,IF(P52=plant!$E$6,1,0))","v":50},50,50,50,50,{"$f":"IF(AND(Crop!V51>0,V51<paddy_rain!$D$6),Crop!V51+1,IF(U52=paddy_rain!$E$6,1,0))","v":0},50,0,50,50,{"$f":"IF(AND(Crop!AA51>0,AA51<upland_rain!$D$6),Crop!AA51+1,IF(Z52=upland_rain!$E$6,1,0))","v":0},50,0,50]
[null,null,null,null,null,51,{"$f":"IF(AND(Crop!G52>0,G52<paddy_dry!$D$6),Crop!G52+1,IF(F53=paddy_dry!$E$6,1,0))","v":0},51,0,51,51,{"$f":"IF(AND(Crop!L52>0,L52<upland_dry!$D$6),Crop!L52+1,IF(K53=upland_dry!$E$6,1,0))","v":0},51,0,51,51,{"$f":"IF(AND(Crop!Q52>0,Q52<plant!$D$6),Crop!Q52+1,IF(P53=plant!$E$6,1,0))","v":51},51,51,51,51,{"$f":"IF(AND(Crop!V52>0,V52<paddy_rain!$D$6),Crop!V52+1,IF(U53=paddy_rain!$E$6,1,0))","v":0},51,0,51,51,{"$f":"IF(AND(Crop!AA52>0,AA52<upland_rain!$D$6),Crop!AA52+1,IF(Z53=upland_rain!$E$6,1,0))","v":0},51,0,51]
[null,null,null,null,null,52,{"$f":"IF(AND(Crop!G53>0,G53<paddy_dry!$D$6),Crop!G53+1,IF(F54=paddy_dry!$E$6,1,0))","v":0},52,0,52,52,{"$f":"IF(AND(Crop!L53>0,L53<upland_dry!$D$6),Crop!L53+1,IF(K54=upland_dry!$E$6,1,0))","v":0},52,0,52,52,{"$f":"IF(AND(Crop!Q53>0,Q53<plant!$D$6),Crop!Q53+1,IF(P54=plant!$E$6,1,0))","v":52},52,52,52,52,{"$f":"IF(AND(Crop!V53>0,V53<paddy_rain!$D$6),Crop!V53+1,IF(U54=paddy_rain!$E$6,1,0))","v":0},52,0,52,52,{"$f":"IF(AND(Crop!AA53>0,AA53<upland_rain!$D$6),Crop!AA53+1,IF(Z54=upland_rain!$E$6,1,0))","v":0},52,0,52]
[null,null,null,null,null,1,{"$f":"IF(AND(Crop!G54>0,G54<paddy_dry!$D$6),Crop!G54+1,IF(F55=paddy_dry!$E$6,1,0))","v":0},1,9,1,1,{"$f":"IF(AND(Crop!L54>0,L54<upland_dry!$D$6),Crop!L54+1,IF(K55=upland_dry!$E$6,1,0))","v":0},1,10,1,1,{"$f":"IF(AND(Crop!Q54>0,Q54<plant!$D$6),Crop!Q54+1,IF(P55=plant!$E$6,1,0))","v":1},1,1,1,1,{"$f":"IF(AND(Crop!V54>0,V54<paddy_rain!$D$6),Crop!V54+1,IF(U55=paddy_rain!$E$6,1,0))","v":0},1,33,1,1,{"$f":"IF(AND(Crop!AA54>0,AA54<upland_rain!$D$6),Crop!AA54+1,IF(Z55=upland_rain!$E$6,1,0))","v":0},1,27,1]
[null,null,null,null,null,2,{"$f":"IF(AND(Crop!G55>0,G55<paddy_dry!$D$6),Crop!G55+1,IF(F56=paddy_dry!$E$6,1,0))","v":0},2,10,2,2,{"$f":"IF(AND(Crop!L55>0,L55<upland_dry!$D$6),Crop!L55+1,IF(K56=upland_dry!$E$6,1,0))","v":0},2,11,2,2,{"$f":"IF(AND(Crop!Q55>0,Q55<plant!$D$6),Crop!Q55+1,IF(P56=plant!$E$6,1,0))","v":2},2,2,2,2,{"$f":"IF(AND(Crop!V55>0,V55<paddy_rain!$D$6),Crop!V55+1,IF(U56=paddy_rain!$E$6,1,0))","v":0},2,34,2,2,{"$f":"IF(AND(Crop!AA55>0,AA55<upland_rain!$D$6),Crop!AA55+1,IF(Z56=upland_rain!$E$6,1,0))","v":0},2,28,2]
[null,null,null,null,null,3,{"$f":"IF(AND(Crop!G56>0,G56<paddy_dry!$D$6),Crop!G56+1,IF(F57=paddy_dry!$E$6,1,0))","v":0},3,11,3,3,{"$f":"IF(AND(Crop!L56>0,L56<upland_dry!$D$6),Crop!L56+1,IF(K57=upland_dry!$E$6,1,0))","v":0},3,12,3,3,{"$f":"IF(AND(Crop!Q56>0,Q56<plant!$D$6),Crop!Q56+1,IF(P57=plant!$E$6,1,0))","v":3},3,3,3,3,{"$f":"IF(AND(Crop!V56>0,V56<paddy_rain!$D$6),Crop!V56+1,IF(U57=paddy_rain!$E$6,1,0))","v":0},3,35,3,3,{"$f":"IF(AND(Crop!AA56>0,AA56<upland_rain!$D$6),Crop!AA56+1,IF(Z57=upland_rain!$E$6,1,0))","v":0},3,29,3]
[null,null,null,null,null,4,{"$f":"IF(AND(Crop!G57>0,G57<paddy_dry!$D$6),Crop!G57+1,IF(F58=paddy_dry!$E$6,1,0))","v":0},4,12,4,4,{"$f":"IF(AND(Crop!L57>0,L57<upland_dry!$D$6),Crop!L57+1,IF(K58=upland_dry!$E$6,1,0))","v":0},4,13,4,4,{"$f":"IF(AND(Crop!Q57>0,Q57<plant!$D$6),Crop!Q57+1,IF(P58=plant!$E$6,1,0))","v":4},4,4,4,4,{"$f":"IF(AND(Crop!V57>0,V57<paddy_rain!$D$6),Crop!V57+1,IF(U58=paddy_rain!$E$6,1,0))","v":0},4,36,4,4,{"$f":"IF(AND(Crop!AA57>0,AA57<upland_rain!$D$6),Crop!AA57+1,IF(Z58=upland_rain!$E$6,1,0))","v":0},4,30,4]
[null,null,null,null,null,5,{"$f":"IF(AND(Crop!G58>0,G58<paddy_dry!$D$6),Crop!G58+1,IF(F59=paddy_dry!$E$6,1,0))","v":0},5,13,5,5,{"$f":"IF(AND(Crop!L58>0,L58<upland_dry!$D$6),Crop!L58+1,IF(K59=upland_dry!$E$6,1,0))","v":0},5,14,5,5,{"$f":"IF(AND(Crop!Q58>0,Q58<plant!$D$6),Crop!Q58+1,IF(P59=plant!$E$6,1,0))","v":5},5,5,5,5,{"$f":"IF(AND(Crop!V58>0,V58<paddy_rain!$D$6),Crop!V58+1,IF(U59=paddy_rain!$E$6,1,0))","v":0},5,37,5,5,{"$f":"IF(AND(Crop!AA58>0,AA58<upland_rain!$D$6),Crop!AA58+1,IF(Z59=upland_rain!$E$6,1,0))","v":0},5,31,5]
[null,null,null,null,null,6,{"$f":"IF(AND(Crop!G59>0,G59<paddy_dry!$D$6),Crop!G59+1,IF(F60=paddy_dry!$E$6,1,0))","v":0},6,14,6,6,{"$f":"IF(AND(Crop!L59>0,L59<upland_dry!$D$6),Crop!L59+1,IF(K60=upland_dry!$E$6,1,0))","v":0},6,15,6,6,{"$f":"IF(AND(Crop!Q59>0,Q59<plant!$D$6),Crop!Q59+1,IF(P60=plant!$E$6,1,0))","v":6},6,6,6,6,{"$f":"IF(AND(Crop!V59>0,V59<paddy_rain!$D$6),Crop!V59+1,IF(U60=paddy_rain!$E$6,1,0))","v":0},6,38,6,6,{"$f":"IF(AND(Crop!AA59>0,AA59<upland_rain!$D$6),Crop!AA59+1,IF(Z60=upland_rain!$E$6,1,0))","v":0},6,32,6]
[null,null,null,null,null,7,{"$f":"IF(AND(Crop!G60>0,G60<paddy_dry!$D$6),Crop!G60+1,IF(F61=paddy_dry!$E$6,1,0))","v":0},7,15,7,7,{"$f":"IF(AND(Crop!L60>0,L60<upland_dry!$D$6),Crop!L60+1,IF(K61=upland_dry!$E$6,1,0))","v":0},7,16,7,7,{"$f":"IF(AND(Crop!Q60>0,Q60<plant!$D$6),Crop!Q60+1,IF(P61=plant!$E$6,1,0))","v":7},7,7,7,7,{"$f":"IF(AND(Crop!V60>0,V60<paddy_rain!$D$6),Crop!V60+1,IF(U61=paddy_rain!$E$6,1,0))","v":0},7,39,7,7,{"$f":"IF(AND(Crop!AA60>0,AA60<upland_rain!$D$6),Crop!AA60+1,IF(Z61=upland_rain!$E$6,1,0))","v":0},7,33,7]
[null,null,null,null,null,8,{"$f":"IF(AND(Crop!G61>0,G61<paddy_dry!$D$6),Crop!G61+1,IF(F62=paddy_dry!$E$6,1,0))","v":0},8,16,8,8,{"$f":"IF(AND(Crop!L61>0,L61<upland_dry!$D$6),Crop!L61+1,IF(K62=upland_dry!$E$6,1,0))","v":0},8,17,8,8,{"$f":"IF(AND(Crop!Q61>0,Q61<plant!$D$6),Crop!Q61+1,IF(P62=plant!$E$6,1,0))","v":8},8,8,8,8,{"$f":"IF(AND(Crop!V61>0,V61<paddy_rain!$D$6),Crop!V61+1,IF(U62=paddy_rain!$E$6,1,0))","v":0},8,40,8,8,{"$f":"IF(AND(Crop!AA61>0,AA61<upland_rain!$D$6),Crop!AA61+1,IF(Z62=upland_rain!$E$6,1,0))","v":0},8,34,8]
[null,null,null,null,null,9,{"$f":"IF(AND(Crop!G62>0,G62<paddy_dry!$D$6),Crop!G62+1,IF(F63=paddy_dry!$E$6,1,0))","v":1},9,17,9,9,{"$f":"IF(AND(Crop!L62>0,L62<upland_dry!$D$6),Crop!L62+1,IF(K63=upland_dry!$E$6,1,0))","v":0},9,18,9,9,{"$f":"IF(AND(Crop!Q62>0,Q62<plant!$D$6),Crop!Q62+1,IF(P63=plant!$E$6,1,0))","v":9},9,9,9,9,{"$f":"IF(AND(Crop!V62>0,V62<paddy_rain!$D$6),Crop!V62+1,IF(U63=paddy_rain!$E$6,1,0))","v":0},9,41,9,9,{"$f":"IF(AND(Crop!AA62>0,AA62<upland_rain!$D$6),Crop!AA62+1,IF(Z63=upland_rain!$E$6,1,0))","v":0},9,35,9]
[null,null,null,null,null,10,{"$f":"IF(AND(Crop!G63>0,G63<paddy_dry!$D$6),Crop!G63+1,IF(F64=paddy_dry!$E$6,1,0))","v":2},10,18,10,10,{"$f":"IF(AND(Crop!L63>0,L63<upland_dry!$D$6),Crop!L63+1,IF(K64=upland_dry!$E$6,1,0))","v":1},10,0,10,10,{"$f":"IF(AND(Crop!Q63>0,Q63<plant!$D$6),Crop!Q63+1,IF(P64=plant!$E$6,1,0))","v":10},10,10,10,10,{"$f":"IF(AND(Crop!V63>0,V63<paddy_rain!$D$6),Crop!V63+1,IF(U64=paddy_rain!$E$6,1,0))","v":0},10,42,10,10,{"$f":"IF(AND(Crop!AA63>0,AA63<upland_rain!$D$6),Crop!AA63+1,IF(Z64=upland_rain!$E$6,1,0))","v":0},10,36,10]
[null,null,null,null,null,11,{"$f":"IF(AND(Crop!G64>0,G64<paddy_dry!$D$6),Crop!G64+1,IF(F65=paddy_dry!$E$6,1,0))","v":3},11,19,11,11,{"$f":"IF(AND(Crop!L64>0,L64<upland_dry!$D$6),Crop!L64+1,IF(K65=upland_dry!$E$6,1,0))","v":2},11,0,11,11,{"$f":"IF(AND(Crop!Q64>0,Q64<plant!$D$6),Crop!Q64+1,IF(P65=plant!$E$6,1,0))","v":11},11,11,11,11,{"$f":"IF(AND(Crop!V64>0,V64<paddy_rain!$D$6),Crop!V64+1,IF(U65=paddy_rain!$E$6,1,0))","v":0},11,43,11,11,{"$f":"IF(AND(Crop!AA64>0,AA64<upland_rain!$D$6),Crop!AA64+1,IF(Z65=upland_rain!$E$6,1,0))","v":0},11,37,11]
[null,null,null,null,null,12,{"$f":"IF(AND(Crop!G65>0,G65<paddy_dry!$D$6),Crop!G65+1,IF(F66=paddy_dry!$E$6,1,0))","v":4},12,20,12,12,{"$f":"IF(AND(Crop!L65>0,L65<upland_dry!$D$6),Crop!L65+1,IF(K66=upland_dry!$E$6,1,0))","v":3},12,0,12,12,{"$f":"IF(AND(Crop!Q65>0,Q65<plant!$D$6),Crop!Q65+1,IF(P66=plant!$E$6,1,0))","v":12},12,12,12,12,{"$f":"IF(AND(Crop!V65>0,V65<paddy_rain!$D$6),Crop!V65+1,IF(U66=paddy_rain!$E$6,1,0))","v":0},12,44,12,12,{"$f":"IF(AND(Crop!AA65>0,AA65<upland_rain!$D$6),Crop!AA65+1,IF(Z66=upland_rain!$E$6,1,0))","v":0},12,38,12]
[null,null,null,null,null,13,{"$f":"IF(AND(Crop!G66>0,G66<paddy_dry!$D$6),Crop!G66+1,IF(F67=paddy_dry!$E$6,1,0))","v":5},13,21,13,13,{"$f":"IF(AND(Crop!L66>0,L66<upland_dry!$D$6),Crop!L66+1,IF(K67=upland_dry!$E$6,1,0))","v":4},13,0,13,13,{"$f":"IF(AND(Crop!Q66>0,Q66<plant!$D$6),Crop!Q66+1,IF(P67=plant!$E$6,1,0))","v":13},13,13,13,13,{"$f":"IF(AND(Crop!V66>0,V66<paddy_rain!$D$6),Crop!V66+1,IF(U67=paddy_rain!$E$6,1,0))","v":0},13,45,13,13,{"$f":"IF(AND(Crop!AA66>0,AA66<upland_rain!$D$6),Crop!AA66+1,IF(Z67=upland_rain!$E$6,1,0))","v":0},13,39,13]
[null,null,null,null,null,14,{"$f":"IF(AND(Crop!G67>0,G67<paddy_dry!$D$6),Crop!G67+1,IF(F68=paddy_dry!$E$6,1,0))","v":6},14,0,14,14,{"$f":"IF(AND(Crop!L67>0,L67<upland_dry!$D$6),Crop!L67+1,IF(K68=upland_dry!$E$6,1,0))","v":5},14,{"$f":"IF(ISERROR(VLOOKUP(K68,$L$3:$M$70,2,FALSE)),0,VLOOKUP(K68,$L$3:$M$70,2,FALSE))","v":0},14,14,{"$f":"IF(AND(Crop!Q67>0,Q67<plant!$D$6),Crop!Q67+1,IF(P68=plant!$E$6,1,0))","v":14},14,{"$f":"IF(ISERROR(VLOOKUP(P68,$Q$3:$R$70,2,FALSE)),0,VLOOKUP(P68,$Q$3:$R$70,2,FALSE))","v":14},14,14,{"$f":"IF(AND(Crop!V67>0,V67<paddy_rain!$D$6),Crop!V67+1,IF(U68=paddy_rain!$E$6,1,0))","v":0},14,{"$f":"IF(ISERROR(VLOOKUP(U68,$V$3:$W$70,2,FALSE)),0,VLOOKUP(U68,$V$3:$W$70,2,FALSE))","v":0},14,14,{"$f":"IF(AND(Crop!AA67>0,AA67<upland_rain!$D$6),Crop!AA67+1,IF(Z68=upland_rain!$E$6,1,0))","v":0},14,{"$f":"IF(ISERROR(VLOOKUP(Z68,$AA$3:$AB$70,2,FALSE)),0,VLOOKUP(Z68,$AA$3:$AB$70,2,FALSE))","v":40},14]
[null,null,null,null,null,15,{"$f":"IF(AND(Crop!G68>0,G68<paddy_dry!$D$6),Crop!G68+1,IF(F69=paddy_dry!$E$6,1,0))","v":7},15,0,15,15,{"$f":"IF(AND(Crop!L68>0,L68<upland_dry!$D$6),Crop!L68+1,IF(K69=upland_dry!$E$6,1,0))","v":6},15,{"$f":"IF(ISERROR(VLOOKUP(K69,$L$3:$M$70,2,FALSE)),0,VLOOKUP(K69,$L$3:$M$70,2,FALSE))","v":0},15,15,{"$f":"IF(AND(Crop!Q68>0,Q68<plant!$D$6),Crop!Q68+1,IF(P69=plant!$E$6,1,0))","v":15},15,{"$f":"IF(ISERROR(VLOOKUP(P69,$Q$3:$R$70,2,FALSE)),0,VLOOKUP(P69,$Q$3:$R$70,2,FALSE))","v":15},15,15,{"$f":"IF(AND(Crop!V68>0,V68<paddy_rain!$D$6),Crop!V68+1,IF(U69=paddy_rain!$E$6,1,0))","v":0},15,{"$f":"IF(ISERROR(VLOOKUP(U69,$V$3:$W$70,2,FALSE)),0,VLOOKUP(U69,$V$3:$W$70,2,FALSE))","v":0},15,15,{"$f":"IF(AND(Crop!AA68>0,AA68<upland_rain!$D$6),Crop!AA68+1,IF(Z69=upland_rain!$E$6,1,0))","v":0},15,{"$f":"IF(ISERROR(VLOOKUP(Z69,$AA$3:$AB$70,2,FALSE)),0,VLOOKUP(Z69,$AA$3:$AB$70,2,FALSE))","v":0},15]
[null,null,null,null,null,16,{"$f":"IF(AND(Crop!G69>0,G69<paddy_dry!$D$6),Crop!G69+1,IF(F70=paddy_dry!$E$6,1,0))","v":8},16,0,16,16,{"$f":"IF(AND(Crop!L69>0,L69<upland_dry!$D$6),Crop!L69+1,IF(K70=upland_dry!$E$6,1,0))","v":7},16,{"$f":"IF(ISERROR(VLOOKUP(K70,$L$3:$M$70,2,FALSE)),0,VLOOKUP(K70,$L$3:$M$70,2,FALSE))","v":0},16,16,{"$f":"IF(AND(Crop!Q69>0,Q69<plant!$D$6),Crop!Q69+1,IF(P70=plant!$E$6,1,0))","v":16},16,{"$f":"IF(ISERROR(VLOOKUP(P70,$Q$3:$R$70,2,FALSE)),0,VLOOKUP(P70,$Q$3:$R$70,2,FALSE))","v":16},16,16,{"$f":"IF(AND(Crop!V69>0,V69<paddy_rain!$D$6),Crop!V69+1,IF(U70=paddy_rain!$E$6,1,0))","v":0},16,{"$f":"IF(ISERROR(VLOOKUP(U70,$V$3:$W$70,2,FALSE)),0,VLOOKUP(U70,$V$3:$W$70,2,FALSE))","v":0},16,16,{"$f":"IF(AND(Crop!AA69>0,AA69<upland_rain!$D$6),Crop!AA69+1,IF(Z70=upland_rain!$E$6,1,0))","v":0},16,{"$f":"IF(ISERROR(VLOOKUP(Z70,$AA$3:$AB$70,2,FALSE)),0,VLOOKUP(Z70,$AA$3:$AB$70,2,FALSE))","v":0},16]

{"sheet":"Kc","index":13,"n_rows":57,"n_cols":35,"rows_kept":57,"cut":false,"hidden":false,"merged":[[2,34,4,34],[2,30,4,30],[2,31,4,31],[2,32,4,32],[2,33,4,33],[2,26,4,26],[2,27,4,27],[2,28,4,28],[2,29,4,29],[2,22,4,22],[2,23,4,23],[2,24,4,24],[2,25,4,25],[2,2,4,2],[2,3,4,3],[2,4,4,4],[2,5,4,5],[2,6,4,6],[2,7,4,7],[2,8,4,8],[2,9,4,9],[2,10,4,10],[2,11,4,11],[2,12,4,12],[2,13,4,13],[2,14,4,14],[2,15,4,15],[2,20,4,20],[2,21,4,21],[2,16,4,16],[2,17,4,17],[2,18,4,18],[2,19,4,19]]}
[null,"ค่าสัมประสิทธิ์พืช (Crop Coefficient, Kc) ด้วยวิธี Penman Monteith"]
[]
[null,"สัปดาห์","ข้าว กข.(นาดำ)","ข้าวบาสมาติ","ข้าวนาหว่านน้ำตม","ข้าวโพดเลี้ยงสัตว์","ข้าวโพดหวาน","ข้าว\nฟ่าง","ถั่วเหลือง","ถั่ว\nลิสง","ถั่ว\nเขียว","งา","ยาสูบ","ทาน\nตะวัน","แตงโม","มะเขือเทศ","หอมหัวใหญ่","หอม\nแดง","มะระ","กะหล่ำดอก","คะน้า","ไม้ดอก (บานชื่น)","ฝ้าย","อ้อย","ละหุ่ง","หน่อไม้ฝรั่ง","เผือก","ไม้ดอก (กุหลาบ)","มะม่วง","ส้มโอ","มะนาว (1-3 ปี)","มะนาว (3-5 ปี)","ปาล์มน้ำมัน(1-3 ปี)***","ปาล์มน้ำมัน(ให้ผลผลิต)**","ยางพารา**"]
[]
[]
[null,1,1.03,1.22,0.8,0.63,0.65,0.54,0.64,0.6,0.57999999999999996,0.59,0.45,0.68,1.02,0.73,0.75,0.72,0.88,1.01,0.54,0.36,0.88,0.65,0.76,0.68,1,0.89,2.1,1.74,1.1000000000000001,1.17,1.68,1.36,2.19]
[null,2,1.07,1.3,1.05,0.72,0.68,0.56999999999999995,0.69,0.72,0.87,0.7,0.56999999999999995,0.73,1.1399999999999999,0.82,0.76,0.82,1.0900000000000001,1.36,0.6,0.57999999999999996,0.88,0.65,0.76,0.68,1,0.89,2.1,1.74,1.1000000000000001,1.17,1.68,1.36,2.19]
[null,3,1.1200000000000001,1.36,1.25,0.86,0.84,0.68,0.81,0.85,1.18,0.85,0.69,0.75,1.6,0.91,0.8,0.94,1.23,1.43,0.68,0.77,0.88,0.65,0.76,0.68,1,0.89,2.1,1.74,1.1000000000000001,1.17,1.68,1.36,2.19]
[null,4,1.29,1.45,1.4,1.1299999999999999,0.99,0.84,1.01,0.94,1.4,1.1100000000000001,0.88,0.78,1.9,1.01,0.88,1.05,1.35,1.47,0.72,0.93,0.88,0.65,0.76,0.68,1,0.89,2.1,1.74,1.1000000000000001,1.17,1.68,1.36,2.19]
[null,5,1.38,1.47,1.5,1.35,1.1599999999999999,1.05,1.23,1.17,1.28,1.23,1.01,0.81,2.1,1.1200000000000001,1.01,1.1499999999999999,1.43,1.49,0.78,1.07,0.88,0.65,0.76,0.68,1,0.89,2.1,1.74,1.1000000000000001,1.17,1.68,1.36,2.19]
[null,6,1.45,1.49,1.55,1.52,1.22,1.21,1.32,1.24,1.19,1.28,1.36,0.85,1.9,1.21,1.1200000000000001,1.2,1.48,1.19,0.83,1.18,1.19,0.86,0.86,1.1000000000000001,1.23,0.95,2.46,1.62,1.38,1.47,1.68,1.36,2.19]
[null,7,1.5,1.49,1.6,1.61,1.21,1.23,1.35,1.28,0.66,1.24,1.61,0.9,1.73,1.3,1.21,1.2,1.47,1.17,0.73,1.27,1.19,0.86,0.86,1.1000000000000001,1.23,0.95,2.46,1.62,1.38,1.47,1.68,1.36,2.19]
[null,8,1.48,1.48,1.63,1.63,1.1499999999999999,1.26,1.34,1.36,0.44,1.21,1.48,0.95,1.44,1.36,1.32,1.1499999999999999,1.46,null,0.67,1.33,1.19,0.86,0.86,1.1000000000000001,1.23,0.95,2.46,1.62,1.38,1.47,1.68,1.36,2.19]
[null,9,1.42,1.46,1.68,1.58,0.96,1.25,1.27,1.04,0.34,1.1299999999999999,1.44,0.97,1.03,1.41,1.38,1.08,1.41,null,null,1.38,1.19,0.86,0.86,1.1000000000000001,1.23,0.95,2.46,1.62,1.38,1.47,1.68,1.36,2.19]
[null,10,1.34,1.44,1.6,1.5,0.72,1.2,1.0900000000000001,0.99,null,0.98,1.3,1.06,0.75,1.41,1.41,0.92,1.36,null,null,null,1.34,1.1299999999999999,1.01,1.42,2.14,1.46,2.5299999999999998,1.45,1.44,1.51,1.68,1.36,2.19]
[null,11,1.23,1.36,1.5,1.38,0.61,1.1200000000000001,0.85,0.91,null,0.71,1.21,1.1000000000000001,0.65,1.37,1.4,0.77,1.29,null,null,null,1.34,1.1299999999999999,1.01,1.42,2.14,1.46,2.5299999999999998,1.45,1.44,1.51,1.68,1.36,2.19]
[null,12,0.94,1.23,1.36,1.1499999999999999,null,0.94,0.74,0.77,null,0.55000000000000004,1,1.03,0.52,1.31,1.37,0.67,null,null,null,null,1.34,1.1299999999999999,1.01,1.42,2.14,1.46,2.5299999999999998,1.45,1.44,1.51,1.68,1.36,2.19]
[null,13,0.86,1.1100000000000001,1.08,0.9,null,0.78,0.74,0.6,null,null,null,0.92,null,1.22,1.33,null,null,null,null,null,1.34,1.1299999999999999,1.01,1.42,2.14,1.46,2.5299999999999998,1.45,1.44,1.51,1.68,1.36,2.19]
[null,14,null,0.93,0.65,0.67,null,0.69,0.72,0.5,null,null,null,0.8,null,1.08,1.29,null,null,null,null,null,1.1499999999999999,1.35,1.02,1.48,2.27,1.49,2.2799999999999998,1.1200000000000001,1.5,1.59,1.68,1.36,2.19]
[null,15,null,null,null,null,null,0.65,null,0.45,null,null,null,0.72,null,0.92,1.22,null,null,null,null,null,1.1499999999999999,1.35,1.02,1.48,2.27,1.49,2.2799999999999998,1.1200000000000001,1.5,1.59,1.68,1.36,2.19]
[null,16,null,null,null,null,null,0.62,null,null,null,null,null,null,null,null,null,null,null,null,null,null,1.1499999999999999,1.35,1.02,1.48,2.27,1.49,2.2799999999999998,1.1200000000000001,1.5,1.59,1.68,1.36,2.19]
[null,17,null,null,null,null,null,null,null,null,null,null,null,null,null,null,null,null,null,null,null,null,1.1499999999999999,1.35,1.02,1.48,2.27,1.49,2.2799999999999998,1.1200000000000001,1.5,1.59,1.68,1.36,2.19]
[null,18,null,null,null,null,null,null,null,null,null,null,null,null,null,null,null,null,null,null,null,null,1.1499999999999999,1.35,1.02,1.48,2.27,1.49,2.2799999999999998,1.1200000000000001,1.5,1.59,1.68,1.36,2.19]
[null,19,null,null,null,null,null,null,null,null,null,null,null,null,null,null,null,null,null,null,null,null,0.85,1.56,1.01,1.29,1.66,1.1599999999999999,2.29,1.02,1.29,1.35,1.68,1.36,2.19]
[null,20,null,null,null,null,null,null,null,null,null,null,null,null,null,null,null,null,null,null,null,null,0.85,1.56,1.01,1.29,1.66,1.1599999999999999,2.29,1.02,1.29,1.35,1.68,1.36,2.19]
[null,21,null,null,null,null,null,null,null,null,null,null,null,null,null,null,null,null,null,null,null,null,0.85,1.56,1.01,1.29,1.66,1.1599999999999999,2.29,1.02,1.29,1.35,1.68,1.36,2.19]
[null,22,null,null,null,null,null,null,null,null,null,null,null,null,null,null,null,null,null,null,null,null,0.85,1.56,1.01,1.29,1.66,1.1599999999999999,2.29,1.02,1.29,1.35,1.68,1.36,2.19]
[null,23,null,null,null,null,null,null,null,null,null,null,null,null,null,null,null,null,null,null,null,null,0.62,1.29,0.89,1.08,1.5,1.33,2.5,1.1299999999999999,1.08,1.1399999999999999,1.68,1.36,2.19]
[null,24,null,null,null,null,null,null,null,null,null,null,null,null,null,null,null,null,null,null,null,null,0.62,1.29,0.89,1.08,1.5,1.33,2.5,1.1299999999999999,1.08,1.1399999999999999,1.68,1.36,2.19]
[null,25,null,null,null,null,null,null,null,null,null,null,null,null,null,null,null,null,null,null,null,null,0.62,1.29,0.89,1.08,1.5,1.33,2.5,1.1299999999999999,1.08,1.1399999999999999,1.68,1.36,2.19]
[null,26,null,null,null,null,null,null,null,null,null,null,null,null,null,null,null,null,null,null,null,null,0.62,1.29,0.89,1.08,1.5,1.33,2.5,1.1299999999999999,1.08,1.1399999999999999,1.68,1.36,2.19]
[null,27,null,null,null,null,null,null,null,null,null,null,null,null,null,null,null,null,null,null,null,null,null,1.2,0.7,0.83,null,2.0699999999999998,1.9,1.97,1.3,1.33,1.68,1.36,2.19]
[null,28,null,null,null,null,null,null,null,null,null,null,null,null,null,null,null,null,null,null,null,null,null,1.2,0.7,0.83,null,2.0699999999999998,1.9,1.97,1.3,1.33,1.68,1.36,2.19]
[null,29,null,null,null,null,null,null,null,null,null,null,null,null,null,null,null,null,null,null,null,null,null,1.2,0.7,0.83,null,2.0699999999999998,1.9,1.97,1.3,1.33,1.68,1.36,2.19]
[null,30,null,null,null,null,null,null,null,null,null,null,null,null,null,null,null,null,null,null,null,null,null,1.2,0.7,0.83,null,2.0699999999999998,1.9,1.97,1.3,1.33,1.68,1.36,2.19]
[null,31,null,null,null,null,null,null,null,null,null,null,null,null,null,null,null,null,null,null,null,null,null,1.2,0.7,0.83,null,2.0699999999999998,1.9,1.97,1.3,1.33,1.68,1.36,2.19]
[null,32,null,null,null,null,null,null,null,null,null,null,null,null,null,null,null,null,null,null,null,null,null,0.93,0.47,0.66,null,1.79,1.69,2.44,1.4,1.42,1.68,1.36,2.19]
[null,33,null,null,null,null,null,null,null,null,null,null,null,null,null,null,null,null,null,null,null,null,null,0.93,0.47,0.66,null,1.79,1.69,2.44,1.4,1.42,1.68,1.36,2.19]
[null,34,null,null,null,null,null,null,null,null,null,null,null,null,null,null,null,null,null,null,null,null,null,0.93,0.47,0.66,null,1.79,1.69,2.44,1.4,1.42,1.68,1.36,2.19]
[null,35,null,null,null,null,null,null,null,null,null,null,null,null,null,null,null,null,null,null,null,null,null,0.93,0.47,0.66,null,1.79,1.69,2.44,1.4,1.42,1.68,1.36,2.19]
[null,36,null,null,null,null,null,null,null,null,null,null,null,null,null,null,null,null,null,null,null,null,null,0.63,null,0.55000000000000004,null,2.17,1.61,2.36,1.18,1.21,1.68,1.36,2.19]
[null,37,null,null,null,null,null,null,null,null,null,null,null,null,null,null,null,null,null,null,null,null,null,0.63,null,0.55000000000000004,null,2.17,1.61,2.36,1.18,1.21,1.68,1.36,2.19]
[null,38,null,null,null,null,null,null,null,null,null,null,null,null,null,null,null,null,null,null,null,null,null,0.63,null,0.55000000000000004,null,2.17,1.61,2.36,1.18,1.21,1.68,1.36,2.19]
[null,39,null,null,null,null,null,null,null,null,null,null,null,null,null,null,null,null,null,null,null,null,null,0.63,null,0.55000000000000004,null,2.17,1.61,2.36,1.18,1.21,1.68,1.36,2.19]
[null,40,null,null,null,null,null,null,null,null,null,null,null,null,null,null,null,null,null,null,null,null,null,0.63,null,0.55000000000000004,null,2.17,1.61,2.36,1.18,1.21,1.68,1.36,2.19]
[null,41,null,null,null,null,null,null,null,null,null,null,null,null,null,null,null,null,null,null,null,null,null,0.52,null,0.61,null,2.25,1.27,1.97,1.19,1.28,1.68,1.36,2.19]
[null,42,null,null,null,null,null,null,null,null,null,null,null,null,null,null,null,null,null,null,null,null,null,0.52,null,0.61,null,2.25,1.27,1.97,1.19,1.28,1.68,1.36,2.19]
[null,43,null,null,null,null,null,null,null,null,null,null,null,null,null,null,null,null,null,null,null,null,null,0.52,null,0.61,null,2.25,1.27,1.97,1.19,1.28,1.68,1.36,2.19]
[null,44,null,null,null,null,null,null,null,null,null,null,null,null,null,null,null,null,null,null,null,null,null,0.52,null,0.61,null,2.25,1.27,1.97,1.19,1.28,1.68,1.36,2.19]
[null,45,null,null,null,null,null,null,null,null,null,null,null,null,null,null,null,null,null,null,null,null,null,null,null,0.76,null,1.73,1.24,1.96,1.06,1.1599999999999999,1.68,1.36,2.19]
[null,46,null,null,null,null,null,null,null,null,null,null,null,null,null,null,null,null,null,null,null,null,null,null,null,0.76,null,1.73,1.24,1.96,1.06,1.1599999999999999,1.68,1.36,2.19]
[null,47,null,null,null,null,null,null,null,null,null,null,null,null,null,null,null,null,null,null,null,null,null,null,null,0.76,null,1.73,1.24,1.96,1.06,1.1599999999999999,1.68,1.36,2.19]
[null,48,null,null,null,null,null,null,null,null,null,null,null,null,null,null,null,null,null,null,null,null,null,null,null,0.76,null,1.73,1.24,1.96,1.06,1.1599999999999999,1.68,1.36,2.19]
[null,49,null,null,null,null,null,null,null,null,null,null,null,null,null,null,null,null,null,null,null,null,null,null,null,0.74,null,1.9,1.19,1.9,1.02,1.1100000000000001,1.68,1.36,2.19]
[null,50,null,null,null,null,null,null,null,null,null,null,null,null,null,null,null,null,null,null,null,null,null,null,null,0.74,null,1.9,1.19,1.9,1.02,1.1100000000000001,1.68,1.36,2.19]
[null,51,null,null,null,null,null,null,null,null,null,null,null,null,null,null,null,null,null,null,null,null,null,null,null,0.74,null,1.9,1.19,1.9,1.02,1.1100000000000001,1.68,1.36,2.19]
[null,52,null,null,null,null,null,null,null,null,null,null,null,null,null,null,null,null,null,null,null,null,null,null,null,0.74,null,1.9,1.19,1.9,1.02,1.1100000000000001,1.68,1.36,2.19]

{"sheet":"ฝนใช้การรายสัปดาห์","index":14,"n_rows":63,"n_cols":10,"rows_kept":63,"cut":false,"hidden":true,"merged":[[0,0,0,7],[56,0,56,1]]}
["ฝนใช้การรายสัปดาห์ - ล้าน ลบ.ม."]
["สัปดาห์","ระหว่างวันที่","รวม","ข้าวนาปรัง","ข้าวนาปี","พืชไร่ฤดูแล้ง","พืชไร่ฤดูฝน","ไม้ผล","บ่อปลา","บ่อกุ้ง"]
["ที่"]
["(1)","(2)","(3)","(4)","(5)","(6)","(7)","(8)","(9)","(10)"]
[1,"1-7 พ.ย. 51",{"$f":"SUM(D5:J5)","v":{"$error":"#N/A"}},{"$f":"+paddy_dry!AJ27/1000000","v":{"$error":"#N/A"}},{"$f":"+paddy_rain!AJ27/1000000","v":{"$error":"#N/A"}},{"$f":"+upland_dry!AJ27/1000000","v":{"$error":"#N/A"}},{"$f":"+upland_rain!AJ27/1000000","v":{"$error":"#N/A"}},{"$f":"+plant!Z16/1000000","v":{"$error":"#N/A"}},{"$f":"+fishpond!I11/1000000","v":{"$error":"#N/A"}},{"$f":"+prawnpond!K11/1000000","v":{"$error":"#N/A"}}]
[{"$f":"A5+1","v":2},"8-14 พ.ย. 51",{"$error":"#N/A"},{"$f":"+paddy_dry!AJ28/1000000","v":{"$error":"#N/A"}},{"$f":"+paddy_rain!AJ28/1000000","v":{"$error":"#N/A"}},{"$f":"+upland_dry!AJ28/1000000","v":{"$error":"#N/A"}},{"$f":"+upland_rain!AJ28/1000000","v":{"$error":"#N/A"}},{"$f":"+plant!Z17/1000000","v":{"$error":"#N/A"}},{"$f":"+fishpond!I12/1000000","v":{"$error":"#N/A"}},{"$f":"+prawnpond!K12/1000000","v":{"$error":"#N/A"}}]
[3,"15-21 พ.ย. 51",{"$error":"#N/A"},{"$f":"+paddy_dry!AJ29/1000000","v":{"$error":"#N/A"}},{"$f":"+paddy_rain!AJ29/1000000","v":{"$error":"#N/A"}},{"$f":"+upland_dry!AJ29/1000000","v":{"$error":"#N/A"}},{"$f":"+upland_rain!AJ29/1000000","v":{"$error":"#N/A"}},{"$f":"+plant!Z18/1000000","v":{"$error":"#N/A"}},{"$f":"+fishpond!I13/1000000","v":{"$error":"#N/A"}},{"$f":"+prawnpond!K13/1000000","v":{"$error":"#N/A"}}]
[4,"22 -28 พ.ย. 51",{"$error":"#N/A"},{"$f":"+paddy_dry!AJ30/1000000","v":{"$error":"#N/A"}},{"$f":"+paddy_rain!AJ30/1000000","v":{"$error":"#N/A"}},{"$f":"+upland_dry!AJ30/1000000","v":{"$error":"#N/A"}},{"$f":"+upland_rain!AJ30/1000000","v":{"$error":"#N/A"}},{"$f":"+plant!Z19/1000000","v":{"$error":"#N/A"}},{"$f":"+fishpond!I14/1000000","v":{"$error":"#N/A"}},{"$f":"+prawnpond!K14/1000000","v":{"$error":"#N/A"}}]
[5,"29 พ.ย.-5 ธ.ค. 51",{"$error":"#N/A"},{"$f":"+paddy_dry!AJ31/1000000","v":{"$error":"#N/A"}},{"$f":"+paddy_rain!AJ31/1000000","v":{"$error":"#N/A"}},{"$f":"+upland_dry!AJ31/1000000","v":{"$error":"#N/A"}},{"$f":"+upland_rain!AJ31/1000000","v":{"$error":"#N/A"}},{"$f":"+plant!Z20/1000000","v":{"$error":"#N/A"}},{"$f":"+fishpond!I15/1000000","v":{"$error":"#N/A"}},{"$f":"+prawnpond!K15/1000000","v":{"$error":"#N/A"}}]
[6,"6-112 ธ.ค.51",{"$error":"#N/A"},{"$f":"+paddy_dry!AJ32/1000000","v":{"$error":"#N/A"}},{"$f":"+paddy_rain!AJ32/1000000","v":{"$error":"#N/A"}},{"$f":"+upland_dry!AJ32/1000000","v":{"$error":"#N/A"}},{"$f":"+upland_rain!AJ32/1000000","v":{"$error":"#N/A"}},{"$f":"+plant!Z21/1000000","v":{"$error":"#N/A"}},{"$f":"+fishpond!I16/1000000","v":{"$error":"#N/A"}},{"$f":"+prawnpond!K16/1000000","v":{"$error":"#N/A"}}]
[7,"13-19 ธ.ค.51",{"$error":"#N/A"},{"$f":"+paddy_dry!AJ33/1000000","v":{"$error":"#N/A"}},{"$f":"+paddy_rain!AJ33/1000000","v":{"$error":"#N/A"}},{"$f":"+upland_dry!AJ33/1000000","v":{"$error":"#N/A"}},{"$f":"+upland_rain!AJ33/1000000","v":{"$error":"#N/A"}},{"$f":"+plant!Z22/1000000","v":{"$error":"#N/A"}},{"$f":"+fishpond!I17/1000000","v":{"$error":"#N/A"}},{"$f":"+prawnpond!K17/1000000","v":{"$error":"#N/A"}}]
[8,"20-26 ธ.ค. 51",{"$error":"#N/A"},{"$f":"+paddy_dry!AJ34/1000000","v":{"$error":"#N/A"}},{"$f":"+paddy_rain!AJ34/1000000","v":{"$error":"#N/A"}},{"$f":"+upland_dry!AJ34/1000000","v":{"$error":"#N/A"}},{"$f":"+upland_rain!AJ34/1000000","v":{"$error":"#N/A"}},{"$f":"+plant!Z23/1000000","v":{"$error":"#N/A"}},{"$f":"+fishpond!I18/1000000","v":{"$error":"#N/A"}},{"$f":"+prawnpond!K18/1000000","v":{"$error":"#N/A"}}]
[9,"27ธ.ค. 51-02 ม.ค.52",{"$error":"#N/A"},{"$f":"+paddy_dry!AJ35/1000000","v":{"$error":"#N/A"}},{"$f":"+paddy_rain!AJ35/1000000","v":{"$error":"#N/A"}},{"$f":"+upland_dry!AJ35/1000000","v":{"$error":"#N/A"}},{"$f":"+upland_rain!AJ35/1000000","v":{"$error":"#N/A"}},{"$f":"+plant!Z24/1000000","v":{"$error":"#N/A"}},{"$f":"+fishpond!I19/1000000","v":{"$error":"#N/A"}},{"$f":"+prawnpond!K19/1000000","v":{"$error":"#N/A"}}]
[10,"3-9 ม.ค. 52",{"$error":"#N/A"},{"$f":"+paddy_dry!AJ36/1000000","v":{"$error":"#N/A"}},{"$f":"+paddy_rain!AJ36/1000000","v":{"$error":"#N/A"}},{"$f":"+upland_dry!AJ36/1000000","v":{"$error":"#N/A"}},{"$f":"+upland_rain!AJ36/1000000","v":{"$error":"#N/A"}},{"$f":"+plant!Z25/1000000","v":{"$error":"#N/A"}},{"$f":"+fishpond!I20/1000000","v":{"$error":"#N/A"}},{"$f":"+prawnpond!K20/1000000","v":{"$error":"#N/A"}}]
[11,"10-16 ม.ค. 52",{"$error":"#N/A"},{"$f":"+paddy_dry!AJ37/1000000","v":{"$error":"#N/A"}},{"$f":"+paddy_rain!AJ37/1000000","v":{"$error":"#N/A"}},{"$f":"+upland_dry!AJ37/1000000","v":{"$error":"#N/A"}},{"$f":"+upland_rain!AJ37/1000000","v":{"$error":"#N/A"}},{"$f":"+plant!Z26/1000000","v":{"$error":"#N/A"}},{"$f":"+fishpond!I21/1000000","v":{"$error":"#N/A"}},{"$f":"+prawnpond!K21/1000000","v":{"$error":"#N/A"}}]
[12,"17-23 ม.ค. 52",{"$error":"#N/A"},{"$f":"+paddy_dry!AJ38/1000000","v":{"$error":"#N/A"}},{"$f":"+paddy_rain!AJ38/1000000","v":{"$error":"#N/A"}},{"$f":"+upland_dry!AJ38/1000000","v":{"$error":"#N/A"}},{"$f":"+upland_rain!AJ38/1000000","v":{"$error":"#N/A"}},{"$f":"+plant!Z27/1000000","v":{"$error":"#N/A"}},{"$f":"+fishpond!I22/1000000","v":{"$error":"#N/A"}},{"$f":"+prawnpond!K22/1000000","v":{"$error":"#N/A"}}]
[13,"24-30 ม.ค. 52",{"$error":"#N/A"},{"$f":"+paddy_dry!AJ39/1000000","v":{"$error":"#N/A"}},{"$f":"+paddy_rain!AJ39/1000000","v":{"$error":"#N/A"}},{"$f":"+upland_dry!AJ39/1000000","v":{"$error":"#N/A"}},{"$f":"+upland_rain!AJ39/1000000","v":{"$error":"#N/A"}},{"$f":"+plant!Z28/1000000","v":{"$error":"#N/A"}},{"$f":"+fishpond!I23/1000000","v":{"$error":"#N/A"}},{"$f":"+prawnpond!K23/1000000","v":{"$error":"#N/A"}}]
[14,"31 ม.ค.-6 ก.พ. 52",{"$error":"#N/A"},{"$f":"+paddy_dry!AJ40/1000000","v":{"$error":"#N/A"}},{"$f":"+paddy_rain!AJ40/1000000","v":{"$error":"#N/A"}},{"$f":"+upland_dry!AJ40/1000000","v":{"$error":"#N/A"}},{"$f":"+upland_rain!AJ40/1000000","v":{"$error":"#N/A"}},{"$f":"+plant!Z29/1000000","v":{"$error":"#N/A"}},{"$f":"+fishpond!I24/1000000","v":{"$error":"#N/A"}},{"$f":"+prawnpond!K24/1000000","v":{"$error":"#N/A"}}]
[15,"7-13 ก.พ. 52",{"$error":"#N/A"},{"$f":"+paddy_dry!AJ41/1000000","v":{"$error":"#N/A"}},{"$f":"+paddy_rain!AJ41/1000000","v":{"$error":"#N/A"}},{"$f":"+upland_dry!AJ41/1000000","v":{"$error":"#N/A"}},{"$f":"+upland_rain!AJ41/1000000","v":{"$error":"#N/A"}},{"$f":"+plant!Z30/1000000","v":{"$error":"#N/A"}},{"$f":"+fishpond!I25/1000000","v":{"$error":"#N/A"}},{"$f":"+prawnpond!K25/1000000","v":{"$error":"#N/A"}}]
[16,"14-20 ก.พ. 52",{"$error":"#N/A"},{"$f":"+paddy_dry!AJ42/1000000","v":{"$error":"#N/A"}},{"$f":"+paddy_rain!AJ42/1000000","v":{"$error":"#N/A"}},{"$f":"+upland_dry!AJ42/1000000","v":{"$error":"#N/A"}},{"$f":"+upland_rain!AJ42/1000000","v":{"$error":"#N/A"}},{"$f":"+plant!Z31/1000000","v":{"$error":"#N/A"}},{"$f":"+fishpond!I26/1000000","v":{"$error":"#N/A"}},{"$f":"+prawnpond!K26/1000000","v":{"$error":"#N/A"}}]
[17,"21-27 ก.พ. 52",{"$error":"#N/A"},{"$f":"+paddy_dry!AJ43/1000000","v":{"$error":"#N/A"}},{"$f":"+paddy_rain!AJ43/1000000","v":{"$error":"#N/A"}},{"$f":"+upland_dry!AJ43/1000000","v":{"$error":"#N/A"}},{"$f":"+upland_rain!AJ43/1000000","v":{"$error":"#N/A"}},{"$f":"+plant!Z32/1000000","v":{"$error":"#N/A"}},{"$f":"+fishpond!I27/1000000","v":{"$error":"#N/A"}},{"$f":"+prawnpond!K27/1000000","v":{"$error":"#N/A"}}]
[18,"28 ก.พ.-6 มี.ค. 52",{"$error":"#N/A"},{"$f":"+paddy_dry!AJ44/1000000","v":{"$error":"#N/A"}},{"$f":"+paddy_rain!AJ44/1000000","v":{"$error":"#N/A"}},{"$f":"+upland_dry!AJ44/1000000","v":{"$error":"#N/A"}},{"$f":"+upland_rain!AJ44/1000000","v":{"$error":"#N/A"}},{"$f":"+plant!Z33/1000000","v":{"$error":"#N/A"}},{"$f":"+fishpond!I28/1000000","v":{"$error":"#N/A"}},{"$f":"+prawnpond!K28/1000000","v":{"$error":"#N/A"}}]
[19,"7-13 มี.ค.52",{"$error":"#N/A"},{"$f":"+paddy_dry!AJ45/1000000","v":{"$error":"#N/A"}},{"$f":"+paddy_rain!AJ45/1000000","v":{"$error":"#N/A"}},{"$f":"+upland_dry!AJ45/1000000","v":{"$error":"#N/A"}},{"$f":"+upland_rain!AJ45/1000000","v":{"$error":"#N/A"}},{"$f":"+plant!Z34/1000000","v":{"$error":"#N/A"}},{"$f":"+fishpond!I29/1000000","v":{"$error":"#N/A"}},{"$f":"+prawnpond!K29/1000000","v":{"$error":"#N/A"}}]
[20,"14-20 มี.ค. 52",{"$error":"#N/A"},{"$f":"+paddy_dry!AJ46/1000000","v":{"$error":"#N/A"}},{"$f":"+paddy_rain!AJ46/1000000","v":{"$error":"#N/A"}},{"$f":"+upland_dry!AJ46/1000000","v":{"$error":"#N/A"}},{"$f":"+upland_rain!AJ46/1000000","v":{"$error":"#N/A"}},{"$f":"+plant!Z35/1000000","v":{"$error":"#N/A"}},{"$f":"+fishpond!I30/1000000","v":{"$error":"#N/A"}},{"$f":"+prawnpond!K30/1000000","v":{"$error":"#N/A"}}]
[21,"21-27 มี.ค. 52",{"$error":"#N/A"},{"$f":"+paddy_dry!AJ47/1000000","v":{"$error":"#N/A"}},{"$f":"+paddy_rain!AJ47/1000000","v":{"$error":"#N/A"}},{"$f":"+upland_dry!AJ47/1000000","v":{"$error":"#N/A"}},{"$f":"+upland_rain!AJ47/1000000","v":{"$error":"#N/A"}},{"$f":"+plant!Z36/1000000","v":{"$error":"#N/A"}},{"$f":"+fishpond!I31/1000000","v":{"$error":"#N/A"}},{"$f":"+prawnpond!K31/1000000","v":{"$error":"#N/A"}}]
[22,"28 มี.ค.-3 เม.ย.52",{"$error":"#N/A"},{"$f":"+paddy_dry!AJ48/1000000","v":{"$error":"#N/A"}},{"$f":"+paddy_rain!AJ48/1000000","v":{"$error":"#N/A"}},{"$f":"+upland_dry!AJ48/1000000","v":{"$error":"#N/A"}},{"$f":"+upland_rain!AJ48/1000000","v":{"$error":"#N/A"}},{"$f":"+plant!Z37/1000000","v":{"$error":"#N/A"}},{"$f":"+fishpond!I32/1000000","v":{"$error":"#N/A"}},{"$f":"+prawnpond!K32/1000000","v":{"$error":"#N/A"}}]
[23,"4-10 เม.ย.52",{"$error":"#N/A"},{"$f":"+paddy_dry!AJ49/1000000","v":{"$error":"#N/A"}},{"$f":"+paddy_rain!AJ49/1000000","v":{"$error":"#N/A"}},{"$f":"+upland_dry!AJ49/1000000","v":{"$error":"#N/A"}},{"$f":"+upland_rain!AJ49/1000000","v":{"$error":"#N/A"}},{"$f":"+plant!Z38/1000000","v":{"$error":"#N/A"}},{"$f":"+fishpond!I33/1000000","v":{"$error":"#N/A"}},{"$f":"+prawnpond!K33/1000000","v":{"$error":"#N/A"}}]
[24,"11-17 เม.ย. 52",{"$error":"#N/A"},{"$f":"+paddy_dry!AJ50/1000000","v":{"$error":"#N/A"}},{"$f":"+paddy_rain!AJ50/1000000","v":{"$error":"#N/A"}},{"$f":"+upland_dry!AJ50/1000000","v":{"$error":"#N/A"}},{"$f":"+upland_rain!AJ50/1000000","v":{"$error":"#N/A"}},{"$f":"+plant!Z39/1000000","v":{"$error":"#N/A"}},{"$f":"+fishpond!I34/1000000","v":{"$error":"#N/A"}},{"$f":"+prawnpond!K34/1000000","v":{"$error":"#N/A"}}]
[25,"18-24 เม.ย. 52",{"$error":"#N/A"},{"$f":"+paddy_dry!AJ51/1000000","v":{"$error":"#N/A"}},{"$f":"+paddy_rain!AJ51/1000000","v":{"$error":"#N/A"}},{"$f":"+upland_dry!AJ51/1000000","v":{"$error":"#N/A"}},{"$f":"+upland_rain!AJ51/1000000","v":{"$error":"#N/A"}},{"$f":"+plant!Z40/1000000","v":{"$error":"#N/A"}},{"$f":"+fishpond!I35/1000000","v":{"$error":"#N/A"}},{"$f":"+prawnpond!K35/1000000","v":{"$error":"#N/A"}}]
[26,"25 เม.ย.- 1 พ.ค. 52",{"$error":"#N/A"},{"$f":"+paddy_dry!AJ52/1000000","v":{"$error":"#N/A"}},{"$f":"+paddy_rain!AJ52/1000000","v":{"$error":"#N/A"}},{"$f":"+upland_dry!AJ52/1000000","v":{"$error":"#N/A"}},{"$f":"+upland_rain!AJ52/1000000","v":{"$error":"#N/A"}},{"$f":"+plant!Z41/1000000","v":{"$error":"#N/A"}},{"$f":"+fishpond!I36/1000000","v":{"$error":"#N/A"}},{"$f":"+prawnpond!K36/1000000","v":{"$error":"#N/A"}}]
[27,"2-8 พ.ค. 52",{"$error":"#N/A"},{"$f":"+paddy_dry!AJ53/1000000","v":{"$error":"#N/A"}},{"$f":"+paddy_rain!AJ53/1000000","v":{"$error":"#N/A"}},{"$f":"+upland_dry!AJ53/1000000","v":{"$error":"#N/A"}},{"$f":"+upland_rain!AJ53/1000000","v":{"$error":"#N/A"}},{"$f":"+plant!Z42/1000000","v":{"$error":"#N/A"}},{"$f":"+fishpond!I37/1000000","v":{"$error":"#N/A"}},{"$f":"+prawnpond!K37/1000000","v":{"$error":"#N/A"}}]
[28,"9-15 พ.ค. 52",{"$error":"#N/A"},{"$f":"+paddy_dry!AJ54/1000000","v":{"$error":"#N/A"}},{"$f":"+paddy_rain!AJ54/1000000","v":{"$error":"#N/A"}},{"$f":"+upland_dry!AJ54/1000000","v":{"$error":"#N/A"}},{"$f":"+upland_rain!AJ54/1000000","v":{"$error":"#N/A"}},{"$f":"+plant!Z43/1000000","v":{"$error":"#N/A"}},{"$f":"+fishpond!I38/1000000","v":{"$error":"#N/A"}},{"$f":"+prawnpond!K38/1000000","v":{"$error":"#N/A"}}]
[29,"16-22 พ.ค. 52",{"$error":"#N/A"},{"$f":"+paddy_dry!AJ55/1000000","v":{"$error":"#N/A"}},{"$f":"+paddy_rain!AJ55/1000000","v":{"$error":"#N/A"}},{"$f":"+upland_dry!AJ55/1000000","v":{"$error":"#N/A"}},{"$f":"+upland_rain!AJ55/1000000","v":{"$error":"#N/A"}},{"$f":"+plant!Z44/1000000","v":{"$error":"#N/A"}},{"$f":"+fishpond!I39/1000000","v":{"$error":"#N/A"}},{"$f":"+prawnpond!K39/1000000","v":{"$error":"#N/A"}}]
[30,"23-29 พ.ค. 52",{"$error":"#N/A"},{"$f":"+paddy_dry!AJ56/1000000","v":{"$error":"#N/A"}},{"$f":"+paddy_rain!AJ56/1000000","v":{"$error":"#N/A"}},{"$f":"+upland_dry!AJ56/1000000","v":{"$error":"#N/A"}},{"$f":"+upland_rain!AJ56/1000000","v":{"$error":"#N/A"}},{"$f":"+plant!Z45/1000000","v":{"$error":"#N/A"}},{"$f":"+fishpond!I40/1000000","v":{"$error":"#N/A"}},{"$f":"+prawnpond!K40/1000000","v":{"$error":"#N/A"}}]
[31,"30 พ.ค.-5 มิ.ย. 52",{"$error":"#N/A"},{"$f":"+paddy_dry!AJ57/1000000","v":{"$error":"#N/A"}},{"$f":"+paddy_rain!AJ57/1000000","v":{"$error":"#N/A"}},{"$f":"+upland_dry!AJ57/1000000","v":{"$error":"#N/A"}},{"$f":"+upland_rain!AJ57/1000000","v":{"$error":"#N/A"}},{"$f":"+plant!Z46/1000000","v":{"$error":"#N/A"}},{"$f":"+fishpond!I41/1000000","v":{"$error":"#N/A"}},{"$f":"+prawnpond!K41/1000000","v":{"$error":"#N/A"}}]
[32,"6 - 12 มิ.ย.52",{"$error":"#N/A"},{"$f":"+paddy_dry!AJ58/1000000","v":{"$error":"#N/A"}},{"$f":"+paddy_rain!AJ58/1000000","v":{"$error":"#N/A"}},{"$f":"+upland_dry!AJ58/1000000","v":{"$error":"#N/A"}},{"$f":"+upland_rain!AJ58/1000000","v":{"$error":"#N/A"}},{"$f":"+plant!Z47/1000000","v":{"$error":"#N/A"}},{"$f":"+fishpond!I42/1000000","v":{"$error":"#N/A"}},{"$f":"+prawnpond!K42/1000000","v":{"$error":"#N/A"}}]
[33,"13 - 19 มิ.ย.52",{"$f":"SUM(D37:J37)","v":{"$error":"#N/A"}},{"$f":"+paddy_dry!AJ59/1000000","v":{"$error":"#N/A"}},{"$f":"+paddy_rain!AJ59/1000000","v":{"$error":"#N/A"}},{"$f":"+upland_dry!AJ59/1000000","v":{"$error":"#N/A"}},{"$f":"+upland_rain!AJ59/1000000","v":{"$error":"#N/A"}},{"$f":"+plant!Z48/1000000","v":{"$error":"#N/A"}},{"$f":"+fishpond!I43/1000000","v":{"$error":"#N/A"}},{"$f":"+prawnpond!K43/1000000","v":{"$error":"#N/A"}}]
[{"$f":"A37+1","v":34},"20 - 26 มิ.ย.52",{"$error":"#N/A"},{"$f":"+paddy_dry!AJ60/1000000","v":{"$error":"#N/A"}},{"$f":"+paddy_rain!AJ60/1000000","v":{"$error":"#N/A"}},{"$f":"+upland_dry!AJ60/1000000","v":{"$error":"#N/A"}},{"$f":"+upland_rain!AJ60/1000000","v":{"$error":"#N/A"}},{"$f":"+plant!Z49/1000000","v":{"$error":"#N/A"}},{"$f":"+fishpond!I44/1000000","v":{"$error":"#N/A"}},{"$f":"+prawnpond!K44/1000000","v":{"$error":"#N/A"}}]
[35,"27 มิ.ย. - 3 ก.ค.52",{"$error":"#N/A"},{"$f":"+paddy_dry!AJ61/1000000","v":{"$error":"#N/A"}},{"$f":"+paddy_rain!AJ61/1000000","v":{"$error":"#N/A"}},{"$f":"+upland_dry!AJ61/1000000","v":{"$error":"#N/A"}},{"$f":"+upland_rain!AJ61/1000000","v":{"$error":"#N/A"}},{"$f":"+plant!Z50/1000000","v":{"$error":"#N/A"}},{"$f":"+fishpond!I45/1000000","v":{"$error":"#N/A"}},{"$f":"+prawnpond!K45/1000000","v":{"$error":"#N/A"}}]
[36,"4 - 10 ก.ค.52",{"$error":"#N/A"},{"$f":"+paddy_dry!AJ62/1000000","v":{"$error":"#N/A"}},{"$f":"+paddy_rain!AJ62/1000000","v":{"$error":"#N/A"}},{"$f":"+upland_dry!AJ62/1000000","v":{"$error":"#N/A"}},{"$f":"+upland_rain!AJ62/1000000","v":{"$error":"#N/A"}},{"$f":"+plant!Z51/1000000","v":{"$error":"#N/A"}},{"$f":"+fishpond!I46/1000000","v":{"$error":"#N/A"}},{"$f":"+prawnpond!K46/1000000","v":{"$error":"#N/A"}}]
[37,"11 - 17 ก.ค.52",{"$error":"#N/A"},{"$f":"+paddy_dry!AJ63/1000000","v":{"$error":"#N/A"}},{"$f":"+paddy_rain!AJ63/1000000","v":{"$error":"#N/A"}},{"$f":"+upland_dry!AJ63/1000000","v":{"$error":"#N/A"}},{"$f":"+upland_rain!AJ63/1000000","v":{"$error":"#N/A"}},{"$f":"+plant!Z52/1000000","v":{"$error":"#N/A"}},{"$f":"+fishpond!I47/1000000","v":{"$error":"#N/A"}},{"$f":"+prawnpond!K47/1000000","v":{"$error":"#N/A"}}]
[38,"18 - 24 ก.ค.52",{"$error":"#N/A"},{"$f":"+paddy_dry!AJ64/1000000","v":{"$error":"#N/A"}},{"$f":"+paddy_rain!AJ64/1000000","v":{"$error":"#N/A"}},{"$f":"+upland_dry!AJ64/1000000","v":{"$error":"#N/A"}},{"$f":"+upland_rain!AJ64/1000000","v":{"$error":"#N/A"}},{"$f":"+plant!Z53/1000000","v":{"$error":"#N/A"}},{"$f":"+fishpond!I48/1000000","v":{"$error":"#N/A"}},{"$f":"+prawnpond!K48/1000000","v":{"$error":"#N/A"}}]
[39,"25 - 31 ก.ค.52",{"$error":"#N/A"},{"$f":"+paddy_dry!AJ65/1000000","v":{"$error":"#N/A"}},{"$f":"+paddy_rain!AJ65/1000000","v":{"$error":"#N/A"}},{"$f":"+upland_dry!AJ65/1000000","v":{"$error":"#N/A"}},{"$f":"+upland_rain!AJ65/1000000","v":{"$error":"#N/A"}},{"$f":"+plant!Z54/1000000","v":{"$error":"#N/A"}},{"$f":"+fishpond!I49/1000000","v":{"$error":"#N/A"}},{"$f":"+prawnpond!K49/1000000","v":{"$error":"#N/A"}}]
[40,"1 - 7 ส.ค.52",{"$error":"#N/A"},{"$f":"+paddy_dry!AJ66/1000000","v":{"$error":"#N/A"}},{"$f":"+paddy_rain!AJ66/1000000","v":{"$error":"#N/A"}},{"$f":"+upland_dry!AJ66/1000000","v":{"$error":"#N/A"}},{"$f":"+upland_rain!AJ66/1000000","v":{"$error":"#N/A"}},{"$f":"+plant!Z55/1000000","v":{"$error":"#N/A"}},{"$f":"+fishpond!I50/1000000","v":{"$error":"#N/A"}},{"$f":"+prawnpond!K50/1000000","v":{"$error":"#N/A"}}]
[41,"8 - 14 ส.ค.52",{"$error":"#N/A"},{"$f":"+paddy_dry!AJ67/1000000","v":{"$error":"#N/A"}},{"$f":"+paddy_rain!AJ67/1000000","v":{"$error":"#N/A"}},{"$f":"+upland_dry!AJ67/1000000","v":{"$error":"#N/A"}},{"$f":"+upland_rain!AJ67/1000000","v":{"$error":"#N/A"}},{"$f":"+plant!Z56/1000000","v":{"$error":"#N/A"}},{"$f":"+fishpond!I51/1000000","v":{"$error":"#N/A"}},{"$f":"+prawnpond!K51/1000000","v":{"$error":"#N/A"}}]
[42,"15 - 21 ส.ค.52",{"$error":"#N/A"},{"$f":"+paddy_dry!AJ68/1000000","v":{"$error":"#N/A"}},{"$f":"+paddy_rain!AJ68/1000000","v":{"$error":"#N/A"}},{"$f":"+upland_dry!AJ68/1000000","v":{"$error":"#N/A"}},{"$f":"+upland_rain!AJ68/1000000","v":{"$error":"#N/A"}},{"$f":"+plant!Z57/1000000","v":{"$error":"#N/A"}},{"$f":"+fishpond!I52/1000000","v":{"$error":"#N/A"}},{"$f":"+prawnpond!K52/1000000","v":{"$error":"#N/A"}}]
[43,"22 - 28 ส.ค.52",{"$error":"#N/A"},{"$f":"+paddy_dry!AJ69/1000000","v":{"$error":"#N/A"}},{"$f":"+paddy_rain!AJ69/1000000","v":{"$error":"#N/A"}},{"$f":"+upland_dry!AJ69/1000000","v":{"$error":"#N/A"}},{"$f":"+upland_rain!AJ69/1000000","v":{"$error":"#N/A"}},{"$f":"+plant!Z58/1000000","v":{"$error":"#N/A"}},{"$f":"+fishpond!I53/1000000","v":{"$error":"#N/A"}},{"$f":"+prawnpond!K53/1000000","v":{"$error":"#N/A"}}]
[44,"29 ส.ค. - 4 ก.ย.52",{"$error":"#N/A"},{"$f":"+paddy_dry!AJ70/1000000","v":{"$error":"#N/A"}},{"$f":"+paddy_rain!AJ70/1000000","v":{"$error":"#N/A"}},{"$f":"+upland_dry!AJ70/1000000","v":{"$error":"#N/A"}},{"$f":"+upland_rain!AJ70/1000000","v":{"$error":"#N/A"}},{"$f":"+plant!Z59/1000000","v":{"$error":"#N/A"}},{"$f":"+fishpond!I54/1000000","v":{"$error":"#N/A"}},{"$f":"+prawnpond!K54/1000000","v":{"$error":"#N/A"}}]
[45,"5 - 11 ก.ย.52",{"$error":"#N/A"},{"$f":"+paddy_dry!AJ71/1000000","v":{"$error":"#N/A"}},{"$f":"+paddy_rain!AJ71/1000000","v":{"$error":"#N/A"}},{"$f":"+upland_dry!AJ71/1000000","v":{"$error":"#N/A"}},{"$f":"+upland_rain!AJ71/1000000","v":{"$error":"#N/A"}},{"$f":"+plant!Z60/1000000","v":{"$error":"#N/A"}},{"$f":"+fishpond!I55/1000000","v":{"$error":"#N/A"}},{"$f":"+prawnpond!K55/1000000","v":{"$error":"#N/A"}}]
[46,"12 - 18 ก.ย.52",{"$error":"#N/A"},{"$f":"+paddy_dry!AJ72/1000000","v":{"$error":"#N/A"}},{"$f":"+paddy_rain!AJ72/1000000","v":{"$error":"#N/A"}},{"$f":"+upland_dry!AJ72/1000000","v":{"$error":"#N/A"}},{"$f":"+upland_rain!AJ72/1000000","v":{"$error":"#N/A"}},{"$f":"+plant!Z61/1000000","v":{"$error":"#N/A"}},{"$f":"+fishpond!I56/1000000","v":{"$error":"#N/A"}},{"$f":"+prawnpond!K56/1000000","v":{"$error":"#N/A"}}]
[47,"19 - 25 ก.ย.52",{"$error":"#N/A"},{"$f":"+paddy_dry!AJ73/1000000","v":{"$error":"#N/A"}},{"$f":"+paddy_rain!AJ73/1000000","v":{"$error":"#N/A"}},{"$f":"+upland_dry!AJ73/1000000","v":{"$error":"#N/A"}},{"$f":"+upland_rain!AJ73/1000000","v":{"$error":"#N/A"}},{"$f":"+plant!Z62/1000000","v":{"$error":"#N/A"}},{"$f":"+fishpond!I57/1000000","v":{"$error":"#N/A"}},{"$f":"+prawnpond!K57/1000000","v":{"$error":"#N/A"}}]
[48,"26 ก.ย.- 2 ต.ค.52",{"$error":"#N/A"},{"$f":"+paddy_dry!AJ74/1000000","v":{"$error":"#N/A"}},{"$f":"+paddy_rain!AJ74/1000000","v":{"$error":"#N/A"}},{"$f":"+upland_dry!AJ74/1000000","v":{"$error":"#N/A"}},{"$f":"+upland_rain!AJ74/1000000","v":{"$error":"#N/A"}},{"$f":"+plant!Z63/1000000","v":{"$error":"#N/A"}},{"$f":"+fishpond!I58/1000000","v":{"$error":"#N/A"}},{"$f":"+prawnpond!K58/1000000","v":{"$error":"#N/A"}}]
[49,"3 - 9ต.ค.52",{"$error":"#N/A"},{"$f":"+paddy_dry!AJ75/1000000","v":{"$error":"#N/A"}},{"$f":"+paddy_rain!AJ75/1000000","v":{"$error":"#N/A"}},{"$f":"+upland_dry!AJ75/1000000","v":{"$error":"#N/A"}},{"$f":"+upland_rain!AJ75/1000000","v":{"$error":"#N/A"}},{"$f":"+plant!Z64/1000000","v":{"$error":"#N/A"}},{"$f":"+fishpond!I59/1000000","v":{"$error":"#N/A"}},{"$f":"+prawnpond!K59/1000000","v":{"$error":"#N/A"}}]
[50,"10 - 16ต.ค.52",{"$error":"#N/A"},{"$f":"+paddy_dry!AJ76/1000000","v":{"$error":"#N/A"}},{"$f":"+paddy_rain!AJ76/1000000","v":{"$error":"#N/A"}},{"$f":"+upland_dry!AJ76/1000000","v":{"$error":"#N/A"}},{"$f":"+upland_rain!AJ76/1000000","v":{"$error":"#N/A"}},{"$f":"+plant!Z65/1000000","v":{"$error":"#N/A"}},{"$f":"+fishpond!I60/1000000","v":{"$error":"#N/A"}},{"$f":"+prawnpond!K60/1000000","v":{"$error":"#N/A"}}]
[51,"17 - 23ต.ค.52",{"$error":"#N/A"},{"$f":"+paddy_dry!AJ77/1000000","v":{"$error":"#N/A"}},{"$f":"+paddy_rain!AJ77/1000000","v":{"$error":"#N/A"}},{"$f":"+upland_dry!AJ77/1000000","v":{"$error":"#N/A"}},{"$f":"+upland_rain!AJ77/1000000","v":{"$error":"#N/A"}},{"$f":"+plant!Z66/1000000","v":{"$error":"#N/A"}},{"$f":"+fishpond!I61/1000000","v":{"$error":"#N/A"}},{"$f":"+prawnpond!K61/1000000","v":{"$error":"#N/A"}}]
[52,"24 - 31ต.ค.52",{"$error":"#N/A"},{"$f":"+paddy_dry!AJ78/1000000","v":{"$error":"#N/A"}},{"$f":"+paddy_rain!AJ78/1000000","v":{"$error":"#N/A"}},{"$f":"+upland_dry!AJ78/1000000","v":{"$error":"#N/A"}},{"$f":"+upland_rain!AJ78/1000000","v":{"$error":"#N/A"}},{"$f":"+plant!Z67/1000000","v":{"$error":"#N/A"}},{"$f":"+fishpond!I62/1000000","v":{"$error":"#N/A"}},{"$f":"+prawnpond!K62/1000000","v":{"$error":"#N/A"}}]
["รวมทั้งหมด",null,{"$f":"SUM(C5:C56)","v":{"$error":"#N/A"}},{"$error":"#N/A"},{"$error":"#N/A"},{"$error":"#N/A"},{"$error":"#N/A"},{"$error":"#N/A"},{"$error":"#N/A"},{"$error":"#N/A"}]
["หมายเหตุ"]
[null,"1.สำนักงานเศรษฐกิจการเกษตร  กำหนดระยะเวลาการปลูกพืชฤดูฝนเริ่มวันที่ 1 พ.ย.- 30 เม.ย. ยกเว้นพื้นที่ภาคใต้ฝั่งตะวันออกเริ่มวันที่ 1 มี.ค.-30 มิ.ย."]
[null,"2.แหล่งน้ำต้นทุน  หมายถึง อ่างเก็บน้ำ หรือแหล่งน้ำธรรมชาติ"]
[null,"3.ค่าแหล่งน้ำต้นทุนต้นสัปดาห์ หมายถึงค่าปริมาณน้ำวันที่ 1 ของสัปดาห์ เช่น สัปดาห์ที่ 1 คือ วันที่ 1  พ.ย."]
[null,"4.ความต้องการน้ำชลประทานเพื่อการเกษตร หมายถึงความต้องการน้ำที่พืชต้องการหักปริมาณฝนใช้การและคิดประสิทธิภาพการส่งน้ำแล้ว"]
[null,"5.ค่าคาดการณ์ปริมาณน้ำท่าเหนืออาคาร เป็นค่าที่โครงการประเมินจากข้อมูลสถิติน้ำท่าและคาดว่าจะเกิดขึ้นในปีนี้"]

{"sheet":"ฝนใช้การรายวัน","index":15,"n_rows":14,"n_cols":9,"rows_kept":14,"cut":false,"hidden":true,"merged":[]}
[{"$f":"+fill_data!C4","v":0},"ปริมาณฝนใช้การของข้าว - มม.",null,null,null,null,"ปริมาณฝนใช้การของพืชไร่ - มม."]
[1,"มค.",{"$f":"VLOOKUP($A$1,[0]!ฝนใช้การข้าว,A2+1,FALSE)","v":{"$error":"#N/A"}},{"$f":"+C2/31","v":{"$error":"#N/A"}},null,1,"มค.",{"$f":"VLOOKUP($A$1,[0]!ฝนใช้การพืชไร่,F2+1,FALSE)","v":{"$error":"#N/A"}},{"$f":"+H2/31","v":{"$error":"#N/A"}}]
[2,"กพ.",{"$f":"VLOOKUP($A$1,[0]!ฝนใช้การข้าว,A3+1,FALSE)","v":{"$error":"#N/A"}},{"$f":"+C3/28","v":{"$error":"#N/A"}},null,2,"กพ.",{"$f":"VLOOKUP($A$1,[0]!ฝนใช้การพืชไร่,F3+1,FALSE)","v":{"$error":"#N/A"}},{"$f":"+H3/28","v":{"$error":"#N/A"}}]
[3,"มีค.",{"$f":"VLOOKUP($A$1,[0]!ฝนใช้การข้าว,A4+1,FALSE)","v":{"$error":"#N/A"}},{"$f":"+C4/31","v":{"$error":"#N/A"}},null,3,"มีค.",{"$f":"VLOOKUP($A$1,[0]!ฝนใช้การพืชไร่,F4+1,FALSE)","v":{"$error":"#N/A"}},{"$f":"+H4/31","v":{"$error":"#N/A"}}]
[4,"เมย.",{"$f":"VLOOKUP($A$1,[0]!ฝนใช้การข้าว,A5+1,FALSE)","v":{"$error":"#N/A"}},{"$f":"+C5/30","v":{"$error":"#N/A"}},null,4,"เมย.",{"$f":"VLOOKUP($A$1,[0]!ฝนใช้การพืชไร่,F5+1,FALSE)","v":{"$error":"#N/A"}},{"$f":"+H5/30","v":{"$error":"#N/A"}}]
[5,"พค.",{"$f":"VLOOKUP($A$1,[0]!ฝนใช้การข้าว,A6+1,FALSE)","v":{"$error":"#N/A"}},{"$f":"+C6/31","v":{"$error":"#N/A"}},null,5,"พค.",{"$f":"VLOOKUP($A$1,[0]!ฝนใช้การพืชไร่,F6+1,FALSE)","v":{"$error":"#N/A"}},{"$f":"+H6/31","v":{"$error":"#N/A"}}]
[6,"มิย.",{"$f":"VLOOKUP($A$1,[0]!ฝนใช้การข้าว,A7+1,FALSE)","v":{"$error":"#N/A"}},{"$f":"+C7/30","v":{"$error":"#N/A"}},null,6,"มิย.",{"$f":"VLOOKUP($A$1,[0]!ฝนใช้การพืชไร่,F7+1,FALSE)","v":{"$error":"#N/A"}},{"$f":"+H7/30","v":{"$error":"#N/A"}}]
[7,"กค.",{"$f":"VLOOKUP($A$1,[0]!ฝนใช้การข้าว,A8+1,FALSE)","v":{"$error":"#N/A"}},{"$f":"+C8/31","v":{"$error":"#N/A"}},null,7,"กค.",{"$f":"VLOOKUP($A$1,[0]!ฝนใช้การพืชไร่,F8+1,FALSE)","v":{"$error":"#N/A"}},{"$f":"+H8/31","v":{"$error":"#N/A"}}]
[8,"สค.",{"$f":"VLOOKUP($A$1,[0]!ฝนใช้การข้าว,A9+1,FALSE)","v":{"$error":"#N/A"}},{"$f":"+C9/31","v":{"$error":"#N/A"}},null,8,"สค.",{"$f":"VLOOKUP($A$1,[0]!ฝนใช้การพืชไร่,F9+1,FALSE)","v":{"$error":"#N/A"}},{"$f":"+H9/31","v":{"$error":"#N/A"}}]
[9,"กย.",{"$f":"VLOOKUP($A$1,[0]!ฝนใช้การข้าว,A10+1,FALSE)","v":{"$error":"#N/A"}},{"$f":"+C10/30","v":{"$error":"#N/A"}},null,9,"กย.",{"$f":"VLOOKUP($A$1,[0]!ฝนใช้การพืชไร่,F10+1,FALSE)","v":{"$error":"#N/A"}},{"$f":"+H10/30","v":{"$error":"#N/A"}}]
[10,"ตค.",{"$f":"VLOOKUP($A$1,[0]!ฝนใช้การข้าว,A11+1,FALSE)","v":{"$error":"#N/A"}},{"$f":"+C11/31","v":{"$error":"#N/A"}},null,10,"ตค.",{"$f":"VLOOKUP($A$1,[0]!ฝนใช้การพืชไร่,F11+1,FALSE)","v":{"$error":"#N/A"}},{"$f":"+H11/31","v":{"$error":"#N/A"}}]
[11,"พย.",{"$f":"VLOOKUP($A$1,[0]!ฝนใช้การข้าว,A12+1,FALSE)","v":{"$error":"#N/A"}},{"$f":"+C12/30","v":{"$error":"#N/A"}},null,11,"พย.",{"$f":"VLOOKUP($A$1,[0]!ฝนใช้การพืชไร่,F12+1,FALSE)","v":{"$error":"#N/A"}},{"$f":"+H12/30","v":{"$error":"#N/A"}}]
[12,"ธค.",{"$f":"VLOOKUP($A$1,[0]!ฝนใช้การข้าว,A13+1,FALSE)","v":{"$error":"#N/A"}},{"$f":"+C13/31","v":{"$error":"#N/A"}},null,12,"ธค.",{"$f":"VLOOKUP($A$1,[0]!ฝนใช้การพืชไร่,F13+1,FALSE)","v":{"$error":"#N/A"}},{"$f":"+H13/31","v":{"$error":"#N/A"}}]
[null,"รวม",{"$f":"SUM(C2:C13)","v":{"$error":"#N/A"}},null,null,null,"รวม",{"$f":"SUM(H2:H13)","v":{"$error":"#N/A"}}]

{"sheet":"Evapรายวัน","index":16,"n_rows":17,"n_cols":9,"rows_kept":17,"cut":false,"hidden":true,"merged":[]}
[]
[]
[null,null,null,null,null,null,{"$f":"+fill_data!C5","v":{"$error":"#N/A"}}]
[null,null,null,null,null,null,"month","Evap","รายวัน"]
[null,null,null,null,null,null,1,{"$f":"VLOOKUP($G$3,evap!$B$4:$P$88,G5+2,FALSE)","v":{"$error":"#N/A"}},{"$f":"+H5/31","v":{"$error":"#N/A"}}]
[null,null,null,null,null,null,2,{"$f":"VLOOKUP($G$3,evap!$B$4:$P$88,G6+2,FALSE)","v":{"$error":"#N/A"}},{"$f":"+H6/28","v":{"$error":"#N/A"}}]
[null,null,null,null,null,null,3,{"$f":"VLOOKUP($G$3,evap!$B$4:$P$88,G7+2,FALSE)","v":{"$error":"#N/A"}},{"$f":"+H7/31","v":{"$error":"#N/A"}}]
[null,null,null,null,null,null,4,{"$f":"VLOOKUP($G$3,evap!$B$4:$P$88,G8+2,FALSE)","v":{"$error":"#N/A"}},{"$f":"+H8/30","v":{"$error":"#N/A"}}]
[null,null,null,null,null,null,5,{"$f":"VLOOKUP($G$3,evap!$B$4:$P$88,G9+2,FALSE)","v":{"$error":"#N/A"}},{"$f":"+H9/30","v":{"$error":"#N/A"}}]
[null,null,null,null,null,null,6,{"$f":"VLOOKUP($G$3,evap!$B$4:$P$88,G10+2,FALSE)","v":{"$error":"#N/A"}},{"$f":"+H10/30","v":{"$error":"#N/A"}}]
[null,null,null,null,null,null,7,{"$f":"VLOOKUP($G$3,evap!$B$4:$P$88,G11+2,FALSE)","v":{"$error":"#N/A"}},{"$f":"+H11/31","v":{"$error":"#N/A"}}]
[null,null,null,null,null,null,8,{"$f":"VLOOKUP($G$3,evap!$B$4:$P$88,G12+2,FALSE)","v":{"$error":"#N/A"}},{"$f":"+H12/31","v":{"$error":"#N/A"}}]
[null,null,null,null,null,null,9,{"$f":"VLOOKUP($G$3,evap!$B$4:$P$88,G13+2,FALSE)","v":{"$error":"#N/A"}},{"$f":"+H13/30","v":{"$error":"#N/A"}}]
[null,null,null,null,null,null,10,{"$f":"VLOOKUP($G$3,evap!$B$4:$P$88,G14+2,FALSE)","v":{"$error":"#N/A"}},{"$f":"+H14/31","v":{"$error":"#N/A"}}]
[null,null,null,null,null,null,11,{"$f":"VLOOKUP($G$3,evap!$B$4:$P$88,G15+2,FALSE)","v":{"$error":"#N/A"}},{"$f":"+H15/30","v":{"$error":"#N/A"}}]
[null,null,null,null,null,null,12,{"$f":"VLOOKUP($G$3,evap!$B$4:$P$88,G16+2,FALSE)","v":{"$error":"#N/A"}},{"$f":"+H16/31","v":{"$error":"#N/A"}}]
[null,null,null,null,null,null,"รวม",{"$f":"SUM(H5:H16)","v":{"$error":"#N/A"}}]

{"sheet":"ฝนใช้การข้าว","index":17,"n_rows":78,"n_cols":29,"rows_kept":78,"cut":false,"hidden":false,"merged":[[0,0,1,0],[0,1,0,13],[0,15,1,15],[0,16,0,28]]}
["จังหวัด","ปริมาณฝนใช้การของข้าว - มม.",null,null,null,null,null,null,null,null,null,null,null,null,null,"จังหวัด","ปริมาณฝนใช้การของพืชไร่ - มม."]
[null,"มค.","กพ.","มีค.","เมย.","พค.","มิย.","กค.","สค.","กย.","ตค.","พย.","ธค.","รวม",null,null,"มค.","กพ.","มีค.","เมย.","พค.","มิย.","กค.","สค.","กย.","ตค.","พย.","ธค.","รวม"]
["กำแพงเพชร",0.8,14,18.100000000000001,41.3,200,170.1,148.4,155.69999999999999,252.3,208.9,66.5,2,1278.0999999999999,null,"กำแพงเพชร",0.8,11.5,12.5,29.1,88.918918918918905,75.625540540540527,65.8,98.1,106.9,61.4,45.925414364640879,2,{"$f":"SUM(Q3:AB3)","v":598.56987382410034}]
["เชียงราย",12.2,7.8,19.100000000000001,89.8,202.9,208.4,273.7,305,249.5,142.4,60.5,24.6,1595.9,null,"เชียงราย",12.2,7.8,15.5,56.8,90.208243243243231,92.653513513513502,56.7,102.8,92.1,52.8,41.781767955801101,24.6,645.94352471255786]
["เชียงใหม่",6.9,4.5999999999999996,13,50.1,158.4,131.6,160.80000000000001,227,220.7,121.9,52.8,19.8,1167.5999999999999,null,"เชียงใหม่",6.9,4.5999999999999996,13,34.200000000000003,70.423783783783776,58.508648648648638,75,136,121.8,69.900000000000006,36.46408839779005,19.8,646.5965208302224]
["ตาก",5.9,4.7,20.3,35.6,173.7,113.8,92.4,115.8,219.4,206.7,60.4,5.8,1054.5,null,"ตาก",5.9,4.7,17.7,24,77.226081081081063,50.59486486486486,58.1,80.599999999999994,130.69999999999999,75,41.712707182320436,5.8,572.03365312826622]
["น่าน",8.1,14.1,27.5,103.1,175,155.6,205.4,235.7,204,94.5,19.100000000000001,5.9,1248,null,"น่าน ",8.1,11,17.2,59.4,77.804054054054049,69.17891891891891,58.5,106.1,95,54.6,13.19060773480663,5.9,575.97358070777955]
["พะเยา",2.5,6.2,11.5,104.9,179.1,99.1,137.80000000000001,163.6,189.3,116.5,59.4,4.3,1074.2,null,"พะเยา",2.5,6.2,11.5,64.400000000000006,79.626891891891887,44.059324324324315,69.5,107.3,112.9,64.8,41.022099447513803,4.3,608.10831566372997]
["พิจิตร",6.8,15.4,22.3,57,151,148.9,167.5,206.9,247.3,119.9,24,2.7,1169.7,null,"พิจิตร",6.8,11.5,16.2,36.200000000000003,67.133783783783784,66.200135135135127,71.3,129.4,115.8,66.5,16.574585635359114,2.7,606.30850455427799]
["พิษณุโลก",6.6,11.9,29.1,51,188.5,183.3,189.8,242.1,231,157,30.7,5.5,1326.5,null,"พิษณุโลก",6.6,11.9,22.6,34.299999999999997,83.806081081081075,81.494189189189186,75,136,121.8,69.900000000000006,21.201657458563531,5.5,670.10192772883374]
["เพชรบูรณ์",7,17.399999999999999,34.5,70.3,157.4,153.1,168.5,189.3,208.9,98.3,13.2,3.8,1121.7,null,"เพชรบูรณ์ ",7,12.9,25,47.3,69.979189189189185,68.067432432432426,73.2,122.5,118.8,68.2,9.1160220994475125,3.8,625.86264372106905]
["แพร่",7,5.4,20.8,71.599999999999994,179.2,121.8,144.19999999999999,224.4,191.3,97.3,21.1,3.2,1087.3,null,"แพร่",7,5.4,16.3,47.2,79.671351351351333,54.151621621621615,84.1,152.6,122.4,59.4,14.571823204419889,3.2,645.9947961773928]
["แม่ฮ่องสอน",8.4,2,5.3,50.4,180.1,185,209.5,238.9,199.3,114.7,37.1,15.2,1245.9000000000001,null,"แม่ฮ่องสอน",8.4,2,5.3,34.200000000000003,80.071486486486478,82.25,71.3,129.4,115.8,66.5,25.621546961325965,15.2,636.04303344781249]
["ลำปาง",6.2,6.5,18.8,65.900000000000006,158.69999999999999,118.2,132.4,198.7,208.8,119.4,34.9,5.3,1073.8,null,"ลำปาง",6.2,6.5,12.1,40.299999999999997,70.557162162162143,52.55108108108108,67.7,122.7,109.9,63.1,24.102209944751376,5.3,581.01045318799459]
["ลำพูน",2.5,2,5.2,41.1,162.30000000000001,135.80000000000001,111.9,140.30000000000001,190.2,121.1,64.400000000000006,3.9,980.7,null,"ลำพูน",2.5,2,5.2,28.1,72.157702702702707,60.375945945945944,68.7,97.3,121,71.599999999999994,44.475138121546962,3.9,577.30878677019552]
["สุโขทัย",6.2,8.6,19.3,49.8,162,139.1,137.9,180.5,238.5,141.19999999999999,25,4.9000000000000004,1113,null,"สุโขทัย",6.2,8.6,16.399999999999999,34.4,72.024324324324311,61.843108108108098,76.8,118.9,124.7,71.599999999999994,17.265193370165743,4.9000000000000004,613.63262580259823]
["อุตรดิตถ์",11,12.6,29.2,108,204.7,201.8,233.1,271,175.6,80.400000000000006,22.7,5.9,1356,null,"อุตรดิตถ์",11,12.6,22.9,65.3,91.008513513513506,89.71918918918918,73.2,132.69999999999999,118.8,49.4,15.676795580110495,5.9,688.20449828281312]
["กรุงเทพมหานคร",9.1,29.9,28.6,64.7,215.3,149.30000000000001,154.5,196.7,289.2,231.2,48.1,9.6999999999999993,1426.3,null,"กรุงเทพฯ",5.9,12.7,14.1,35.1,95.721216216216206,66.37797297297297,82.3,116,133.6,76.7,33.218232044198892,9.6999999999999993,681.41742123338815]
["ชัยนาท",5.7,10.8,28.5,50.3,117.4,90.3,123.1,146.9,247.7,145.80000000000001,31.3,5,1002.8,null,"ชัยนาท",5.7,10.8,19,34.299999999999997,52.195405405405403,40.146891891891883,73.599999999999994,97.5,127.7,73.3,21.616022099447513,5,560.85831939674472]
["นครสวรรค์",9.8000000000000007,14.9,30,60.9,138.69999999999999,117.1,134.1,194.9,223.7,144.4,35.299999999999997,7.3,1111.0999999999999,null,"นครสวรรค์",9.8000000000000007,12.7,25.7,42.2,61.665270270270256,52.062027027027021,85.5,130,148.5,85.2,24.378453038674028,7.3,685.00575033597136]
["นนทบุรี",5.9,16.7,19.7,53.2,140,131.4,147.19999999999999,169.5,251.5,188.8,45.5,8.1999999999999993,1177.5999999999999,null,"นนทบุรี",5.9,12.7,14.1,35.1,62.243243243243235,58.419729729729724,82.3,116,133.6,76.7,31.422651933701651,8.1999999999999993,636.68562490667478]
["ปทุมธานี",5.5,17,21.2,65.900000000000006,147.69999999999999,156.6,178.9,200.5,270.2,190.5,41.5,8,1303.5,null,"ปทุมธานี",5.5,13.6,16.600000000000001,42.2,65.666621621621616,69.623513513513501,82.3,132,133.6,76.7,28.660220994475132,8,674.45035612961033]
["ลพบุรี",8.6999999999999993,16,25.8,72.3,163.30000000000001,136.1,147.5,172.2,248.8,157,37.5,8.1,1193.3,null,"ลพบุรี",8.6999999999999993,12.8,19.100000000000001,47.9,72.602297297297298,60.509324324324318,87.8,117.8,142.6,81.8,25.897790055248613,8.1,685.6094116768702]
["สมุทรปราการ",10.1,23.5,20.6,58.8,165.9,132.1,131.4,166.4,261.39999999999998,200.9,44.1,7.9,1223.0999999999999,null,"สมุทรปราการ",5.5,13.6,16.600000000000001,42.2,73.758243243243243,58.73094594594594,82.3,132,133.6,76.7,30.455801104972373,7.9,673.34499029416156]
["สมุทรสงคราม",5.3,8.9,13.5,22.7,119.9,110.4,110.7,133.4,210.6,225.4,92.9,6.1,1059.8,null,"สมุทรสงคราม",5.5,13.6,16.600000000000001,42.2,53.306891891891887,49.083243243243238,82.3,132,133.6,76.7,64.157458563535911,6.1,675.14759369867113]
["สมุทรสาคร",5.4,18.399999999999999,18.399999999999999,47.1,142,121.6,135.4,149,233.2,216,74,10.4,1170.9000000000001,null,"สมุทรสาคร",5.5,13.6,16.600000000000001,42.2,63.132432432432424,54.062702702702694,82.3,132,133.6,76.7,51.1049723756906,10.4,681.20010751082577]
["สระบุรี",4.5999999999999996,19.899999999999999,28.4,65.3,153.5,180.9,197.4,214,268.3,153.69999999999999,40.700000000000003,7.9,1334.6,null,"สระบุรี",4.5999999999999996,16.3,19.5,41.9,68.245270270270268,80.427162162162162,76.8,139.30000000000001,124.7,71.599999999999994,28.107734806629832,7.9,679.3801672390623]
["สิงห์บุรี",7,12.5,26.6,45.7,118.2,105.7,127.2,151.6,245.4,141.69999999999999,26.7,4,1012.3,null,"สิงห์บุรี ",7,12.5,18.600000000000001,29.5,52.55108108108108,46.993648648648644,74.599999999999994,105,133.6,76.7,18.439226519337012,4,579.48395624906675]
["พระนครศรีอยุธยา",5.6,14.7,21.6,58.1,148.4,146.69999999999999,160.4,165.2,253.5,169.7,37.299999999999997,7.1,1188.3,null,"อยุธยา",5.6,12,16.399999999999999,36.6,65.977837837837839,65.222027027027011,80.5,108.9,130.69999999999999,75,25.759668508287287,7.1,629.75953337315218]
["อ่างทอง",5.2,12.1,21.4,62.7,131.6,123,134.69999999999999,146.4,252.2,162.30000000000001,35.1,5.2,1091.9000000000001,null,"อ่างทอง",5.2,12.1,16.7,41.3,58.508648648648638,54.685135135135127,77.900000000000006,101.2,136.6,78.400000000000006,24.240331491712706,5.2,612.03411527549645]
["อุทัยธานี",8.6999999999999993,17.899999999999999,36.5,68.400000000000006,155.5,127.1,142.19999999999999,167.4,263.7,173.6,46.2,4.2,1211.4000000000001,null,"อุทัยธานี ",8.6999999999999993,12.5,25,42.8,69.13445945945945,56.507972972972965,67.7,102.5,109.9,63.1,31.906077348066297,4.2,593.94850978049885]
["กาญจนบุรี",5.0999999999999996,14.4,28.3,75.400000000000006,152.9,82.2,95.3,102.3,214.2,198.2,70.2,8.6,1047.0999999999999,null,"กาญจนบุรี ",5.0999999999999996,12,20,48.8,67.978513513513505,36.545675675675675,59.6,75.400000000000006,142.6,81.8,48.480662983425411,8.6,606.9048521726146]
["นครปฐม",3,8.9,14.6,44.6,123.2,119.2,126.2,138.80000000000001,234.4,205.3,52.2,6.3,1076.7,null,"นครปฐม ",3,8.9,12,29.1,54.774054054054048,52.99567567567567,74.099999999999994,92.7,127.7,73.3,36.049723756906076,6.3,570.9194534866358]
["ราชบุรี",4.3,8.1,13.3,40,143.5,110,122.3,132.9,210.4,209.2,76.8,5.9,1076.7,null,"ราชบุรี ",4.3,8.1,12,27.7,63.799324324324317,48.905405405405403,71.3,90.1,115.8,66.5,53.038674033149164,5.9,567.4434037628788]
["สุพรรณบุรี",6.7,8.9,18,65.099999999999994,143.4,101.4,113.9,136.1,254.1,192.8,39.799999999999997,11.2,1091.4000000000001,null,"สุพรรณบุรี ",6.7,8.9,13.2,42,63.754864864864864,45.081891891891892,70.2,95.2,142.6,81.8,27.48618784530386,11.2,608.12294460206067]
["จันทบุรี",12.3,45,55.1,111.1,294.5,326.3,317.89999999999998,326.39999999999998,322.5,256.7,61.2,12.4,2141.4,null,"จันทบุรี ",12.3,31.8,38.5,68.5,130.93310810810809,145.07121621621621,65.8,119.4,106.9,61.4,42.26519337016574,12.4,835.26951769448999]
["ฉะเชิงเทรา",6.8,16.7,28.7,71.2,146.6,143.5,158.6,196,253.2,176.9,39,7.2,1244.4000000000001,null,"ฉะเชิงเทรา",6.8,12,18.5,46.6,65.177567567567564,63.799324324324317,73.2,122.9,118.8,68.2,26.93370165745856,7.2,630.11059354935048]
["ชลบุรี",10.6,18.899999999999999,31.4,78.5,166.6,133.19999999999999,133.9,168.8,261.5,208.8,65.099999999999994,8.9,1286.2,null,"ชลบุรี ",10.6,13,23.5,48.9,74.069459459459452,59.22,84.1,113,136.6,78.400000000000006,44.958563535911594,8.9,695.248022995371]
["ตราด",22.8,44.9,76.400000000000006,137.6,283,338,334.9,344.1,331.8,269.60000000000002,72.900000000000006,13.5,2269.5,null,"ตราด ",16,34.4,55.4,82.5,125.82027027027026,150.27297297297295,73.2,132.69999999999999,118.8,68.2,50.34530386740331,13.5,921.13854711064664]
["นครนายก",6.1,20.3,25.7,77.7,177.1,213.8,246.9,271.8,290.7,174.7,39.299999999999997,7.1,1551.2,null,"นครยายก",6.1,15.4,17.2,48.3,78.737702702702691,95.054324324324327,67.7,122.7,109.9,63.1,27.140883977900547,7.1,658.43291100492763]
["ปราจีนบุรี",8.9,25.1,55.2,128.1,221.2,258,275.2,303.89999999999998,297.3,181.1,35.799999999999997,8.1,1797.9,null,"ปราจีนบุรี ",8.9,17.2,39.799999999999997,74.400000000000006,98.344324324324305,114.7054054054054,78.599999999999994,142.6,127.7,73.3,24.723756906077341,8.1,808.37348663580713]
["ระยอง",17.3,40.200000000000003,65.099999999999994,65.5,189.8,149.30000000000001,132.5,128.4,235.6,212.3,83.6,3.8,1323.4,null,"ระยอง ",11.3,31.3,47.5,42.1,84.384054054054047,66.37797297297297,86,89.1,139.6,80.099999999999994,57.734806629834239,3.8,739.29683365686128]
["สระแก้ว",7,22.6,43.6,87.9,194.1,215.2,218.9,247.6,263.60000000000002,169,43.8,7.2,1520.5,null,"สระแก้ว ",8.9,17.2,39.799999999999997,74.400000000000006,86.295810810810806,95.676756756756745,78.599999999999994,142.6,127.7,73.3,30.248618784530379,7.2,781.92118635209795]
["กาฬสินธุ์",3.8,15,27.5,64.599999999999994,175.7,208.2,210.4,242.5,247.4,69.7,6.9,2.4,1274.0999999999999,null,"กาฬสินธุ์ ",3.8,12,18.899999999999999,41.9,78.115270270270258,92.564594594594581,82.3,149.30000000000001,133.6,42.9,4.7651933701657452,2.4,662.54505823503052]
["ขอนแก่น",4.4000000000000004,14.7,34.700000000000003,66.400000000000006,173.6,179.5,165.8,196,234.6,107.3,15.8,3.3,1196.0999999999999,null,"ขอนแก่น ",4.4000000000000004,12,26.1,42.8,77.181621621621616,79.804729729729715,91.4,137,148.5,65.599999999999994,10.91160220994475,3.3,698.99795356129607]
["ชัยภูมิ",3.3,20.3,41.8,87.5,153.9,142.30000000000001,133.69999999999999,130.30000000000001,250.8,146.19999999999999,19.5,4.2,1133.8,null,"ชัยภูมิ ",3.3,17.2,33.200000000000003,60.2,68.42310810810811,63.265810810810812,82.7,95.8,148.5,85.2,13.46685082872928,4.2,675.45576974764833]
["นครพนม",2.7,21.3,46.8,106.5,229.9,322.5,320.60000000000002,335.9,256.39999999999998,77.599999999999994,8.4,1.3,1729.9,null,"นครพนม",2.7,15.6,32.200000000000003,68,102.21229729729728,143.38175675675674,67.7,122.7,109.9,45.7,5.8011049723756898,1.3,717.19515902642968]
["นครราชสีมา",4.5999999999999996,20.5,41.6,65.8,152.1,104.5,122.5,128,233.2,152.1,31,3.6,1059.5,null,"นครราชสีมา",4.5999999999999996,16.5,31.3,42.3,67.622837837837835,46.460135135135133,74.5,89.3,142.6,81.8,21.408839779005522,3.6,621.9918127519785]
["บุรีรัมย์",3,13.6,33.700000000000003,77.5,163.69999999999999,163.80000000000001,164.5,182,268,139.9,26.1,1.3,1237.0999999999999,null,"บุรีรัมย์ ",3,13.6,25.6,49.5,72.780135135135126,72.824594594594586,87.8,122.9,142.6,81.8,18.024861878453038,1.3,691.72959160818277]
["มหาสารคาม",4,13.8,28.6,65.599999999999994,163.1,165,163,194.3,251.5,80.599999999999994,9.8000000000000007,1.3,1140.5999999999999,null,"มหาสารคาม ",4,12,19.399999999999999,42.4,72.513378378378363,73.358108108108098,84.1,127.7,136.6,52.4,6.7679558011049723,1.3,632.53944228759133]
["มุกดาหาร",3.2,15.3,30.1,87.4,181.6,263.5,219.4,289.60000000000002,240.9,93.3,8.8000000000000007,1.2,1434.3,null,"มุกดาหาร ",3.2,12,23,54.2,80.738378378378371,117.15067567567566,75,136,121.8,57,6.0773480662983426,1.2,687.3664021203524]
["ยโสธร",3.4,9.8000000000000007,25.6,71.2,197.7,209.4,227.2,265.8,266.60000000000002,87.2,9.8000000000000007,0.2,1373.9,null,"ยโสธร ",3.4,9.8000000000000007,17.3,46.5,87.896351351351342,93.098108108108107,73.2,132.69999999999999,118.8,50.1,6.7679558011049723,0.2,639.76241526056447]
["ร้อยเอ็ด",3,21,31,87.7,200.1,206.2,195.9,244.6,265.10000000000002,101.6,11.7,1.2,1369.1,null,"ร้อยเอ็ด ",3,16.600000000000001,23.7,54.8,88.963378378378366,91.675405405405385,76.8,139.30000000000001,124.7,71.599999999999994,8.0801104972375679,1.2,700.41889428102138]
["เลย",6.4,17.600000000000001,37.6,95.9,209.8,164.8,159.5,177.5,220.1,117.4,17.600000000000001,3.9,1228.0999999999999,null,"เลย ",6.4,12.3,25.3,60.5,93.275945945945935,73.269189189189191,73.2,113.6,118.8,68.2,12.154696132596685,3.9,660.89983126773177]
["ศรีสะเกษ",1.3,7.2,26.6,74,171.9,182.8,186.6,225.6,247.4,127,22.4,1.3,1274.0999999999999,null,"ศรีสะเกษ ",1.3,7.2,17.5,48.4,76.425810810810802,81.271891891891883,80.5,145.9,130.69999999999999,75,15.469613259668504,1.3,680.967315962371]
["สกลนคร",4.4000000000000004,18.600000000000001,44.9,93.7,226.8,252.9,223.3,297.89999999999998,224.5,80.3,7.1,2.7,1477.1,null,"สกลนคร ",4.4000000000000004,13.4,34.700000000000003,63.2,100.83405405405405,112.43797297297296,87.8,159.19999999999999,142.6,52.8,4.9033149171270711,2.7,778.97534194415414]
["สุรินทร์",2.7,11,20.8,92.3,176,178.3,201.1,209.2,254.9,124.9,22.5,1.7,1295.4000000000001,null,"สุรินทร์ ",2.7,11,17.7,61.9,78.24864864864864,79.271216216216217,95.1,168,154.4,74.8,15.538674033149169,1.7,760.35853889801399]
["หนองคาย",7,10.5,30.7,89.5,230.2,256,237,286.5,254.1,76.599999999999994,12.2,3.3,1493.6,null,"หนองคาย ",7,10.5,22.5,57,102.34567567567566,113.8162162162162,71.3,129.4,115.8,45.6,8.4254143646408828,3.3,686.98730625653275]
["หนองบัวลำภู",5.5,19.399999999999999,36.5,82.7,214.8,223.2,216.3,254.5,239.8,84.2,8.8000000000000007,3.3,1389,null,"หนองบัวลำพู ",7,10.5,22.5,57,95.498918918918918,99.2335135135135,71.3,129.4,115.8,45.6,6.0773480662983426,3.3,663.20978049873065]
["อำนาจเจริญ",3.3,15.1,32.5,82,177.7,211.2,198.6,241.3,252.8,108.9,12.7,1.9,1338,null,"อำนาจเจริญ ",0.7,11.4,25.2,57.1,79.00445945945944,93.898378378378368,93.3,169.2,151.5,60.5,8.7707182320441976,1.9,752.47355606988197]
["อุดรธานี",5.5,19.399999999999999,36.5,82.7,214.8,223.2,216.3,254.5,239.8,84.2,8.8000000000000007,3.3,1389,null,"อุดรธานี ",5.5,16.399999999999999,25.8,53.3,95.498918918918918,99.2335135135135,80.599999999999994,145.69999999999999,129,53,6.0773480662983426,3.3,713.4097804987307]
["อุบลราชธานี",0.7,11.4,30.6,86.6,211,248.6,252.6,282.60000000000002,268.60000000000002,98.5,24,1.9,1517.1,null,"อุบลราชธานี ",0.7,11.4,25.2,57.1,93.809459459459447,110.5262162162162,93.3,169.2,151.5,60.5,16.574585635359114,1.9,791.71026131103474]
["กระบี่",31.3,25.7,56.3,127,241.3,238.1,247.1,254.7,282.10000000000002,253.5,175.2,59,1991.3,null,"กระบี่ ",16,40.799999999999997,86.7,85.2,107.28067567567567,105.85797297297296,69.5,122,116.6,62.7,120.99447513812152,59,992.63312378677017]
["ชุมพร",93.9,62.8,56.5,74.400000000000006,188.8,173.5,174.2,204.5,157.69999999999999,254.1,301.39999999999998,118.1,1859.9,null,"ชุมพร ",39.4,37.5,54.1,71.599999999999994,83.939459459459457,77.137162162162156,64,97.6,107.4,57.7,208.1491712707182,118.1,1016.6257928923399]
["ตรัง",51.8,23.5,42.7,177.4,227.7,217.7,241.9,237.5,273.10000000000002,263.8,228.6,130.19999999999999,2115.9,null,"ตรัง ",15.2,32.299999999999997,82.3,86.9,101.23418918918918,96.78824324324323,67.7,118.8,113.5,61,157.87292817679554,130.19999999999999,1063.7953606092278]
["นครศรีธรรมราช",173.5,42.5,44.6,94.4,169.6,95.1,108.1,97.3,160.80000000000001,287.2,339.3,312.8,1925.2,null,"นครศรีธรรมราช ",26.4,31.5,63.5,66.5,75.403243243243239,42.280945945945938,63,105.2,116.6,62.7,234.32320441988946,312.8,1200.2073936090785]
["นราธิวาส",134.1,45.3,71.7,68.8,145.5,116.7,150.6,146.5,188.8,250.4,335.4,327.3,1981.1,null,"นราธิวาส ",27.5,52,45.5,69.900000000000006,64.688513513513513,51.884189189189186,71.3,120.4,119.7,64.3,231.62983425414359,327.3,{"$f":"SUM(Q67:AB67)","v":1246.1025369568463}]
["ประจวบคีรีขันธ์",41.7,54.7,42.1,41,123.6,94.9,89,102.7,95.8,204,220,35.4,1144.9000000000001,null,"ประจวบคีรีขันธ์ ",35.6,32.1,31.4,74.5,54.951891891891883,42.192027027027024,64,67,127.8,72.599999999999994,151.93370165745853,35.4,789.47762057637738]
["ปัตตานี",85,13.8,26.9,44.2,108.3,94.5,102,104.2,129.80000000000001,208.6,316.7,282.7,1516.7,null,"ปัตตานี ",10.3,18.7,33.9,65.8,48.149594594594589,42.014189189189182,64.7,87.3,141.19999999999999,75.900000000000006,218.71546961325964,282.7,1089.3792533970434]
["พังงา",40.299999999999997,39.700000000000003,76.900000000000006,180,303.5,317.7,313,320.39999999999998,325.39999999999998,296.2,180,52,2445.1,null,"พังงา ",27.6,56,120.7,85.2,134.93445945945945,141.2477027027027,69.5,122,116.6,62.7,124.30939226519335,52,1112.7915544273555]
["พัทลุง",139.69999999999999,37.4,51.6,97.5,139.69999999999999,79.099999999999994,90.6,91.6,116,257.7,330.9,314.89999999999998,1746.7,null,"พัทลุง",23.2,38.799999999999997,68,80.099999999999994,62.109864864864853,35.167432432432427,57.5,79.7,132,70.900000000000006,228.52209944751377,314.89999999999998,1190.8993967448109]
["เพชรบุรี",12.1,2.8,12.5,43.5,94.4,84,80.099999999999994,106.5,130.30000000000001,246.5,198.4,15.7,1026.8,null,"เพชรบุรี ",10.6,2.8,12,28.4,41.969729729729728,37.345945945945942,52,73.900000000000006,88.2,69.900000000000006,137.01657458563534,15.7,569.83225026131106]
["ภูเก็ต",29.8,20.9,49.1,121.9,278.7,249.8,263.8,252.2,309.8,274.3,175.7,59.4,2085.4,null,"ภูเก็ต ",14,39.299999999999997,85.3,85.2,123.9085135135135,111.05972972972972,69.5,122,116.6,62.7,121.33977900552483,59.4,1010.3080222487681]
["ยะลา",89,35.700000000000003,58,96.9,168.1,109.8,125.5,136.5,170.5,234.8,267.3,250.2,1742.3,null,"ยะลา",22.6,45.6,69.8,90.4,74.736351351351345,48.816486486486482,84.1,113.3,141.19999999999999,75.900000000000006,184.59944751381212,250.2,1201.25228535165]
["ระนอง",18.600000000000001,12.6,33.799999999999997,139.69999999999999,326.2,348.4,340.4,355.8,342.5,307.5,164.8,37.9,2428.1999999999998,null,"ระนอง",10,23.7,94.2,69.900000000000006,145.02675675675673,154.89675675675673,54.9,96.3,92.1,49.5,113.81215469613259,37.9,942.23566820964595]
["สงขลา",81.900000000000006,25.5,36.700000000000003,70.2,120.4,101,94.9,99.8,129.6,259.3,333.8,310.8,1663.9,null,"สงขลา",17.8,26.8,53.8,76.400000000000006,53.529189189189189,44.90405405405405,64.2,91.3,138.1,74.2,230.52486187845301,310.8,1182.3581051216963]
["สตูล",10.4,32.6,79.599999999999994,202.6,243.5,183.4,239.8,223.8,290.8,273.2,226,62.9,2068.6,null,"สตูล ",22.2,66.3,140,100.6,108.25878378378377,81.538648648648646,76.8,134.80000000000001,128.9,69.3,156.07734806629833,62.9,1147.6747804987308]
["สุราษฎร์ธานี",50.2,10,19.600000000000001,55.6,174.7,135,145.19999999999999,141.30000000000001,193,236.8,284,130.69999999999999,1576.1,null,"สุราษฎร์ธานี",10,16.2,38.5,80.099999999999994,77.670675675675668,60.020270270270267,76.8,122.6,128.9,69.3,196.13259668508283,130.69999999999999,1006.9235426310288]

{"sheet":"ฝนใช้พืชไร่up","index":18,"n_rows":78,"n_cols":14,"rows_kept":78,"cut":false,"hidden":false,"merged":[[0,0,1,0],[0,1,0,13]]}
["จังหวัด","ปริมาณฝนใช้การของพืชไร่ - มม."]
[null,"มค.","กพ.","มีค.","เมย.","พค.","มิย.","กค.","สค.","กย.","ตค.","พย.","ธค.","รวม"]
["กำแพงเพชร",0.8,11.5,12.5,29.1,88.918918918918905,75.625540540540527,65.8,98.1,106.9,61.4,45.925414364640879,2,{"$f":"SUM(B3:M3)","v":598.56987382410034}]
["เชียงราย",12.2,7.8,15.5,56.8,90.208243243243231,92.653513513513502,56.7,102.8,92.1,52.8,41.781767955801101,24.6,645.94352471255786]
["เชียงใหม่",6.9,4.5999999999999996,13,34.200000000000003,70.423783783783776,58.508648648648638,75,136,121.8,69.900000000000006,36.46408839779005,19.8,646.5965208302224]
["ตาก",5.9,4.7,17.7,24,77.226081081081063,50.59486486486486,58.1,80.599999999999994,130.69999999999999,75,41.712707182320436,5.8,572.03365312826622]
["น่าน",8.1,11,17.2,59.4,77.804054054054049,69.17891891891891,58.5,106.1,95,54.6,13.19060773480663,5.9,575.97358070777955]
["พะเยา",2.5,6.2,11.5,64.400000000000006,79.626891891891887,44.059324324324315,69.5,107.3,112.9,64.8,41.022099447513803,4.3,608.10831566372997]
["พิจิตร",6.8,11.5,16.2,36.200000000000003,67.133783783783784,66.200135135135127,71.3,129.4,115.8,66.5,16.574585635359114,2.7,606.30850455427799]
["พิษณุโลก",6.6,11.9,22.6,34.299999999999997,83.806081081081075,81.494189189189186,75,136,121.8,69.900000000000006,21.201657458563531,5.5,670.10192772883374]
["เพชรบูรณ์",7,12.9,25,47.3,69.979189189189185,68.067432432432426,73.2,122.5,118.8,68.2,9.1160220994475125,3.8,625.86264372106905]
["แพร่",7,5.4,16.3,47.2,79.671351351351333,54.151621621621615,84.1,152.6,122.4,59.4,14.571823204419889,3.2,645.9947961773928]
["แม่ฮ่องสอน",8.4,2,5.3,34.200000000000003,80.071486486486478,82.25,71.3,129.4,115.8,66.5,25.621546961325965,15.2,636.04303344781249]
["ลำปาง",6.2,6.5,12.1,40.299999999999997,70.557162162162143,52.55108108108108,67.7,122.7,109.9,63.1,24.102209944751376,5.3,581.01045318799459]
["ลำพูน",2.5,2,5.2,28.1,72.157702702702707,60.375945945945944,68.7,97.3,121,71.599999999999994,44.475138121546962,3.9,577.30878677019552]
["สุโขทัย",6.2,8.6,16.399999999999999,34.4,72.024324324324311,61.843108108108098,76.8,118.9,124.7,71.599999999999994,17.265193370165743,4.9000000000000004,613.63262580259823]
["อุตรดิตถ์",11,12.6,22.9,65.3,91.008513513513506,89.71918918918918,73.2,132.69999999999999,118.8,49.4,15.676795580110495,5.9,688.20449828281312]
["กรุงเทพมหานคร",5.9,12.7,14.1,35.1,95.721216216216206,66.37797297297297,82.3,116,133.6,76.7,33.218232044198892,9.6999999999999993,681.41742123338815]
["ชัยนาท",5.7,10.8,19,34.299999999999997,52.195405405405403,40.146891891891883,73.599999999999994,97.5,127.7,73.3,21.616022099447513,5,560.85831939674472]
["นครสวรรค์",9.8000000000000007,12.7,25.7,42.2,61.665270270270256,52.062027027027021,85.5,130,148.5,85.2,24.378453038674028,7.3,685.00575033597136]
["นนทบุรี",5.9,12.7,14.1,35.1,62.243243243243235,58.419729729729724,82.3,116,133.6,76.7,31.422651933701651,8.1999999999999993,636.68562490667478]
["ปทุมธานี",5.5,13.6,16.600000000000001,42.2,65.666621621621616,69.623513513513501,82.3,132,133.6,76.7,28.660220994475132,8,674.45035612961033]
["ลพบุรี",8.6999999999999993,12.8,19.100000000000001,47.9,72.602297297297298,60.509324324324318,87.8,117.8,142.6,81.8,25.897790055248613,8.1,685.6094116768702]
["สมุทรปราการ",5.5,13.6,16.600000000000001,42.2,73.758243243243243,58.73094594594594,82.3,132,133.6,76.7,30.455801104972373,7.9,673.34499029416156]
["สมุทรสงคราม",5.5,13.6,16.600000000000001,42.2,53.306891891891887,49.083243243243238,82.3,132,133.6,76.7,64.157458563535911,6.1,675.14759369867113]
["สมุทรสาคร",5.5,13.6,16.600000000000001,42.2,63.132432432432424,54.062702702702694,82.3,132,133.6,76.7,51.1049723756906,10.4,681.20010751082577]
["สระบุรี",4.5999999999999996,16.3,19.5,41.9,68.245270270270268,80.427162162162162,76.8,139.30000000000001,124.7,71.599999999999994,28.107734806629832,7.9,679.3801672390623]
["สิงห์บุรี",7,12.5,18.600000000000001,29.5,52.55108108108108,46.993648648648644,74.599999999999994,105,133.6,76.7,18.439226519337012,4,579.48395624906675]
["พระนครศรีอยุธยา",5.6,12,16.399999999999999,36.6,65.977837837837839,65.222027027027011,80.5,108.9,130.69999999999999,75,25.759668508287287,7.1,629.75953337315218]
["อ่างทอง",5.2,12.1,16.7,41.3,58.508648648648638,54.685135135135127,77.900000000000006,101.2,136.6,78.400000000000006,24.240331491712706,5.2,612.03411527549645]
["อุทัยธานี",8.6999999999999993,12.5,25,42.8,69.13445945945945,56.507972972972965,67.7,102.5,109.9,63.1,31.906077348066297,4.2,593.94850978049885]
["กาญจนบุรี",5.0999999999999996,12,20,48.8,67.978513513513505,36.545675675675675,59.6,75.400000000000006,142.6,81.8,48.480662983425411,8.6,606.9048521726146]
["นครปฐม",3,8.9,12,29.1,54.774054054054048,52.99567567567567,74.099999999999994,92.7,127.7,73.3,36.049723756906076,6.3,570.9194534866358]
["ราชบุรี",4.3,8.1,12,27.7,63.799324324324317,48.905405405405403,71.3,90.1,115.8,66.5,53.038674033149164,5.9,567.4434037628788]
["สุพรรณบุรี",6.7,8.9,13.2,42,63.754864864864864,45.081891891891892,70.2,95.2,142.6,81.8,27.48618784530386,11.2,{"$f":"SUM(B35:M35)","v":608.12294460206067}]
["จันทบุรี",12.3,31.8,38.5,68.5,130.93310810810809,145.07121621621621,65.8,119.4,106.9,61.4,42.26519337016574,12.4,835.26951769448999]
["ฉะเชิงเทรา",6.8,12,18.5,46.6,65.177567567567564,63.799324324324317,73.2,122.9,118.8,68.2,26.93370165745856,7.2,630.11059354935048]
["ชลบุรี",10.6,13,23.5,48.9,74.069459459459452,59.22,84.1,113,136.6,78.400000000000006,44.958563535911594,8.9,695.248022995371]
["ตราด",16,34.4,55.4,82.5,125.82027027027026,150.27297297297295,73.2,132.69999999999999,118.8,68.2,50.34530386740331,13.5,921.13854711064664]
["นครนายก",6.1,15.4,17.2,48.3,78.737702702702691,95.054324324324327,67.7,122.7,109.9,63.1,27.140883977900547,7.1,658.43291100492763]
["ปราจีนบุรี",8.9,17.2,39.799999999999997,74.400000000000006,98.344324324324305,114.7054054054054,78.599999999999994,142.6,127.7,73.3,24.723756906077341,8.1,808.37348663580713]
["ระยอง",11.3,31.3,47.5,42.1,84.384054054054047,66.37797297297297,86,89.1,139.6,80.099999999999994,57.734806629834239,3.8,739.29683365686128]
["สระแก้ว",8.9,17.2,39.799999999999997,74.400000000000006,86.295810810810806,95.676756756756745,78.599999999999994,142.6,127.7,73.3,30.248618784530379,7.2,781.92118635209795]
["กาฬสินธุ์",3.8,12,18.899999999999999,41.9,78.115270270270258,92.564594594594581,82.3,149.30000000000001,133.6,42.9,4.7651933701657452,2.4,662.54505823503052]
["ขอนแก่น",4.4000000000000004,12,26.1,42.8,77.181621621621616,79.804729729729715,91.4,137,148.5,65.599999999999994,10.91160220994475,3.3,698.99795356129607]
["ชัยภูมิ",3.3,17.2,33.200000000000003,60.2,68.42310810810811,63.265810810810812,82.7,95.8,148.5,85.2,13.46685082872928,4.2,675.45576974764833]
["นครพนม",2.7,15.6,32.200000000000003,68,102.21229729729728,143.38175675675674,67.7,122.7,109.9,45.7,5.8011049723756898,1.3,717.19515902642968]
["นครราชสีมา",4.5999999999999996,16.5,31.3,42.3,67.622837837837835,46.460135135135133,74.5,89.3,142.6,81.8,21.408839779005522,3.6,621.9918127519785]
["บุรีรัมย์",3,13.6,25.6,49.5,72.780135135135126,72.824594594594586,87.8,122.9,142.6,81.8,18.024861878453038,1.3,691.72959160818277]
["มหาสารคาม",4,12,19.399999999999999,42.4,72.513378378378363,73.358108108108098,84.1,127.7,136.6,52.4,6.7679558011049723,1.3,632.53944228759133]
["มุกดาหาร",3.2,12,23,54.2,80.738378378378371,117.15067567567566,75,136,121.8,57,6.0773480662983426,1.2,687.3664021203524]
["ยโสธร",3.4,9.8000000000000007,17.3,46.5,87.896351351351342,93.098108108108107,73.2,132.69999999999999,118.8,50.1,6.7679558011049723,0.2,639.76241526056447]
["ร้อยเอ็ด",3,16.600000000000001,23.7,54.8,88.963378378378366,91.675405405405385,76.8,139.30000000000001,124.7,71.599999999999994,8.0801104972375679,1.2,700.41889428102138]
["เลย",6.4,12.3,25.3,60.5,93.275945945945935,73.269189189189191,73.2,113.6,118.8,68.2,12.154696132596685,3.9,660.89983126773177]
["ศรีสะเกษ",1.3,7.2,17.5,48.4,76.425810810810802,81.271891891891883,80.5,145.9,130.69999999999999,75,15.469613259668504,1.3,680.967315962371]
["สกลนคร",4.4000000000000004,13.4,34.700000000000003,63.2,100.83405405405405,112.43797297297296,87.8,159.19999999999999,142.6,52.8,4.9033149171270711,2.7,778.97534194415414]
["สุรินทร์",2.7,11,17.7,61.9,78.24864864864864,79.271216216216217,95.1,168,154.4,74.8,15.538674033149169,1.7,760.35853889801399]
["หนองคาย",7,10.5,22.5,57,102.34567567567566,113.8162162162162,71.3,129.4,115.8,45.6,8.4254143646408828,3.3,686.98730625653275]
["หนองบัวลำภู",7,10.5,22.5,57,95.498918918918918,99.2335135135135,71.3,129.4,115.8,45.6,6.0773480662983426,3.3,663.20978049873065]
["อำนาจเจริญ",0.7,11.4,25.2,57.1,79.00445945945944,93.898378378378368,93.3,169.2,151.5,60.5,8.7707182320441976,1.9,752.47355606988197]
["อุดรธานี",5.5,16.399999999999999,25.8,53.3,95.498918918918918,99.2335135135135,80.599999999999994,145.69999999999999,129,53,6.0773480662983426,3.3,713.4097804987307]
["อุบลราชธานี",0.7,11.4,25.2,57.1,93.809459459459447,110.5262162162162,93.3,169.2,151.5,60.5,16.574585635359114,1.9,791.71026131103474]
["กระบี่",16,40.799999999999997,86.7,85.2,107.28067567567567,105.85797297297296,69.5,122,116.6,62.7,120.99447513812152,59,992.63312378677017]
["ชุมพร",39.4,37.5,54.1,71.599999999999994,83.939459459459457,77.137162162162156,64,97.6,107.4,57.7,208.1491712707182,118.1,1016.6257928923399]
["ตรัง",15.2,32.299999999999997,82.3,86.9,101.23418918918918,96.78824324324323,67.7,118.8,113.5,61,157.87292817679554,130.19999999999999,1063.7953606092278]
["นครศรีธรรมราช",26.4,31.5,63.5,66.5,75.403243243243239,42.280945945945938,63,105.2,116.6,62.7,234.32320441988946,312.8,1200.2073936090785]
["นราธิวาส",27.5,52,45.5,69.900000000000006,64.688513513513513,51.884189189189186,71.3,120.4,119.7,64.3,231.62983425414359,327.3,{"$f":"SUM(B67:M67)","v":1246.1025369568463}]
["ประจวบคีรีขันธ์",35.6,32.1,31.4,74.5,54.951891891891883,42.192027027027024,64,67,127.8,72.599999999999994,151.93370165745853,35.4,789.47762057637738]
["ปัตตานี",10.3,18.7,33.9,65.8,48.149594594594589,42.014189189189182,64.7,87.3,141.19999999999999,75.900000000000006,218.71546961325964,282.7,1089.3792533970434]
["พังงา",27.6,56,120.7,85.2,134.93445945945945,141.2477027027027,69.5,122,116.6,62.7,124.30939226519335,52,1112.7915544273555]
["พัทลุง",23.2,38.799999999999997,68,80.099999999999994,62.109864864864853,35.167432432432427,57.5,79.7,132,70.900000000000006,228.52209944751377,314.89999999999998,1190.8993967448109]
["เพชรบุรี",10.6,2.8,12,28.4,41.969729729729728,37.345945945945942,52,73.900000000000006,88.2,69.900000000000006,137.01657458563534,15.7,569.83225026131106]
["ภูเก็ต",14,39.299999999999997,85.3,85.2,123.9085135135135,111.05972972972972,69.5,122,116.6,62.7,121.33977900552483,59.4,1010.3080222487681]
["ยะลา",22.6,45.6,69.8,90.4,74.736351351351345,48.816486486486482,84.1,113.3,141.19999999999999,75.900000000000006,184.59944751381212,250.2,1201.25228535165]
["ระนอง",10,23.7,94.2,69.900000000000006,145.02675675675673,154.89675675675673,54.9,96.3,92.1,49.5,113.81215469613259,37.9,942.23566820964595]
["สงขลา",17.8,26.8,53.8,76.400000000000006,53.529189189189189,44.90405405405405,64.2,91.3,138.1,74.2,230.52486187845301,310.8,1182.3581051216963]
["สตูล",22.2,66.3,140,100.6,108.25878378378377,81.538648648648646,76.8,134.80000000000001,128.9,69.3,156.07734806629833,62.9,1147.6747804987308]
["สุราษฎร์ธานี",10,16.2,38.5,80.099999999999994,77.670675675675668,60.020270270270267,76.8,122.6,128.9,69.3,196.13259668508283,130.69999999999999,1006.9235426310288]

{"sheet":"ETo","index":19,"n_rows":88,"n_cols":42,"rows_kept":88,"cut":false,"hidden":false,"merged":[[0,29,0,41]]}
["สรุปปริมาณการใช้น้ำของพืชอ้างอิง ETo ของสถานีภูมิอากาศต่าง ๆ โดยวิธี RID-Penman Montieth",null,null,null,null,null,null,null,null,null,null,null,null,null,null,null,null,null,null,null,null,null,null,null,null,null,null,null,null,"Evap"]
[null,null,null,1,2,3,4,5,6,7,8,9,10,11,12,null,null,null,null,null,null,null,null,null,null,null,null,null,null,1,2,3,4,5,6,7,8,9,10,11,12]
["ลำดับที่","สถานีตรวจอากาศ","จังหวัด","Jan","Feb","Mar","Apr","May","Jun","Jul","Aug","Sep","Oct","Nov","Dec","Annual",null,null,null,null,null,null,null,null,null,null,null,null,null,"Jan","Feb","Mar","Apr","May","Jun","Jul","Aug","Sep","Oct","Nov","Dec","Annual"]
[1,"แม่ฮ่องสอน","แม่ฮ่องสอน",86.622793830857944,95.799218966795891,133.21253195737594,156.85045147406944,152.24980475378209,121.22665319261675,115.23291875077467,110.15991135297179,114.42158353207651,115.10609044037592,93.616060226949344,82.203795148769998,{"$f":"SUM(D4:L4)","v":1085.7758678113209},null,null,null,null,null,null,null,null,null,null,null,null,null,93.2,113.7,163.69999999999999,195.1,178.6,127.1,113.9,109.8,115.7,111.4,88.6,81.5,{"$f":"SUM(AD4:AO4)","v":1492.3000000000002}]
[2,"แม่สะเรียง","แม่ฮ่องสอน",91.730602195798767,98.756153966276031,136.41839911037346,157.49435435362091,146.96795451448438,109.51911711338195,106.00619903216506,102.20110883581116,108.5070796692073,111.83988940961984,96.388558250592567,87.40004224565557,{"$f":"SUM(D5:L5)","v":1057.6009687911189},null,null,null,null,null,null,null,null,null,null,null,null,null,87,109.6,154.1,175,153.5,96.1,87.6,86.3,99.6,103.6,88.6,82.1,{"$f":"SUM(AD5:AO5)","v":1323.0999999999997}]
[3,"เชียงราย","เชียงราย",83.786730562389337,96.388807499593469,124.37241418648203,140.26907333363826,137.86767281713634,115.62704554052996,109.26553377267366,107.57393781536112,105.18704213366517,101.03623990135567,82.150866616572245,73.889290675245647,1020.3382576614694,null,null,null,null,null,null,null,null,null,null,null,null,null,89.1,118.2,155.5,171.7,141.1,110,97,86,90,89.7,81.7,79.099999999999994,1309.0999999999999]
[4,"พะเยา","พะเยา",86.815401290574243,98.298502615640601,140.03126519267374,152.73352783536725,147.6969740007242,130.82450690821568,125.17877709897986,120.50490886631718,118.66461045108716,113.22021049567293,90.614843324738473,79.776302083610844,1120.7484742595798,null,null,null,null,null,null,null,null,null,null,null,null,null,95.5,115.4,165.6,180.5,158.5,136.9,123.7,115.8,106,99.9,86.9,87.1,1471.8000000000002]
[5,"เชียงใหม่","เชียงใหม่",93.543142616722363,110.58126951510997,149.46527329074041,163.18324864402086,158.86310868250743,126.42111808990691,118.23503301789817,110.411380835363,111.35171192326352,112.51756688509464,92.685659613734046,85.094209409042591,1142.0552866155329,null,null,null,null,null,null,null,null,null,null,null,null,null,108.1,128.69999999999999,171.7,189.4,178.6,143.69999999999999,129.6,126.3,128.80000000000001,129,106.8,98.3,1638.9999999999998]
[6,"ลำปาง","ลำปาง",90.63084273197488,101.45306513272384,141.86865389264975,158.02532870368935,152.13950496346158,130.61228795799943,126.15477858788314,119.76740736372865,117.28754907421593,115.3046679204424,94.878691578442499,84.696882337225034,1137.9394184083267,null,null,null,null,null,null,null,null,null,null,null,null,null,89.8,112.1,159.30000000000001,179.2,164.2,136.69999999999999,127.2,117.5,107.7,100.1,87,81.3,1462.1]
[7,"ลำพูน","ลำพูน",88.838503931918709,101.96956159013949,146.68112768468797,163.64886100438284,152.58109972052895,131.0504447485024,126.98800329186058,118.39657247069496,114.61509265918509,113.23294512958294,93.019774447216463,82.174577617840328,1144.7692671019011,null,null,null,null,null,null,null,null,null,null,null,null,null,109.5,142.19999999999999,205,216.8,197,162.1,149.30000000000001,136.69999999999999,118.1,107.5,94.4,95.8,1734.3999999999999]
[8,"แพร่","แพร่",92.526804559758276,103.6707089834933,147.57585974292326,164.57027012253997,153.48363899527641,133.09217441005865,126.58476507381083,119.62856197603904,117.9467359505538,118.96503028491927,97.87272127794364,87.081876284505512,1159.0795198144535,null,null,null,null,null,null,null,null,null,null,null,null,null,106.7,123.5,182.1,200.8,186.3,153.1,144.4,133.19999999999999,126.1,120.9,105,100.2,1682.3]
[9,"น่าน","น่าน",88.872244169938142,98.617064967942966,136.57362785565039,152.13702432073353,148.78374371854107,130.14206634248498,123.95831395624924,117.52079899822547,120.89119853933441,117.80223348490854,94.061553768147405,82.940547157705026,1117.4960828691003,null,null,null,null,null,null,null,null,null,null,null,null,null,81.3,90.8,120.6,142.19999999999999,137.19999999999999,111.7,101.1,96,99.4,99.9,85.2,79.099999999999994,1244.5]
[10,"ท่าวังผา","ตาก",86.315275583769733,96.372508858461458,136.08226579186555,149.924999866722,144.5219363993792,121.47197015414152,115.4595723240221,110.33452760934414,114.48194996102585,114.46573279800552,91.618347749581446,79.825774802973555,1074.9650065487317,null,null,null,null,null,null,null,null,null,null,null,null,null,92.9,110.4,148.80000000000001,167.2,162.30000000000001,132.6,118.5,116.7,121.9,114.2,93.9,85.1,1464.5]
[11,"ทุ่งช้าง","น่าน",91.093586565723456,99.195116548470949,136.32496228125495,150.57245270663486,140.47249647048181,123.23852489728385,126.2223472935222,114.81748721999875,121.92781473877196,118.490627799801,95.491208457930085,85.417967098813179,1103.8647887221425,null,null,null,null,null,null,null,null,null,null,null,null,null,119.7,102.3,115.1,127.2,115.3,87.4,98.9,99.1,92,101.5,101.8,89.6,1249.8999999999999]
[12,"อุตรดิตถ์","อุตรดิตถ์",95.882412045201974,104.83685659885725,142.6961896702843,156.31176819847721,150.96909776731067,126.76795374639414,123.89623974291354,117.39509858705452,120.08521378159932,122.21796857113796,101.8907116649104,92.211296101642233,1138.840830138093,null,null,null,null,null,null,null,null,null,null,null,null,null,111.7,120.9,163.1,182.2,172.6,137.19999999999999,123.6,121,121.9,124.5,114.9,113.4,1607.0000000000005]
[13,"สุโขทัย","สุโขทัย",99.850238189968394,105.63647408108001,143.41137119332279,147.0437061585437,141.80212247027552,127.49309133908513,138.44364982667406,127.82931742173349,116.08912839194866,116.38886020412555,105.83681820208686,99.294901086893304,1147.5990990726318,null,null,null,null,null,null,null,null,null,null,null,null,null,108.6,104.3,167.1,168.3,161.1,149.1,170.6,148.1,110.6,118.3,119.5,113.3,1638.8999999999996]
[14,"ตาก","ตาก",97.976520350412102,115.10499337444438,163.37332622621915,180.35641437471784,154.82171709786928,125.86810288417837,128.67092406448353,120.48626953426877,111.4467860408472,110.74202237652962,97.004200059841537,90.344592445631861,1198.1050539474406,null,null,null,null,null,null,null,null,null,null,null,null,null,124.4,168.9,241,251.9,204.3,152.80000000000001,150.4,141.1,126.4,107.6,99.6,102.8,1871.1999999999998]
[15,"แม่สอด","ตาก",98.824365236510033,111.15758268073048,154.57485842270859,169.48690721890236,147.10009378844211,113.52951965236716,110.1957993275703,104.61393512243163,110.6154297369206,118.9088504150986,103.89343985406573,94.980032877532068,1120.0984911865833,null,null,null,null,null,null,null,null,null,null,null,null,null,119.8,144.80000000000001,196.9,212,164.9,103.6,95,88.1,103.8,122.3,121.4,118.3,1590.8999999999999]
[16,"เขื่อนภูมิพล","ตาก",102.63366676019449,120.72771036584699,163.91860933617704,173.80613003156492,152.61832262797978,126.79866654565404,130.56934454225058,123.61533441500548,116.71208285155886,115.03681279304261,98.534571304005397,91.759406773120787,1211.399867476232,null,null,null,null,null,null,null,null,null,null,null,null,null,110,142.1,188.3,199.7,166.8,136,137.9,129.6,120.9,107.7,96.7,97.3,1633]
[17,"อุ้มผาง","ตาก",95.547159121009059,102.95922501660172,136.97679457661116,145.69609611428299,132.82755352570317,100.84753071507595,101.44434746498186,95.109269231504157,95.446056570847389,104.90701648420847,97.495724150716953,88.877928031661497,1006.8540323366176,null,null,null,null,null,null,null,null,null,null,null,null,null,107.4,123.1,157.6,158.30000000000001,127.3,90.9,84.5,73.900000000000006,87.6,96.5,95.9,98.9,1301.9000000000001]
[18,"พิษณุโลก","พิษณุโลก",99.697317199265697,113.6681732238019,150.02964142851729,161.56325863539601,154.05129999715479,126.27102055012365,122.93191337680808,117.02502612253969,112.77078158976229,115.63217312082351,100.6969410172125,94.353908478975043,1158.0084321233694,null,null,null,null,null,null,null,null,null,null,null,null,null,109.8,121.2,162.80000000000001,186.8,179.9,149.4,141.19999999999999,129.1,120,122.6,113.3,111.5,1647.5999999999997]
[19,"เพชรบูรณ์","เพชรบูรณ์",99.305636283242109,109.720486566902,146.42562853413659,153.50625373887823,147.97877712264736,115.15304583359338,109.6008199232582,103.00258018119881,102.35887012365987,110.55127494155639,101.76039888414596,97.012869316355435,1087.0520983075166,null,null,null,null,null,null,null,null,null,null,null,null,null,121.4,132.69999999999999,174,184.3,156.4,130.1,117.9,106.1,105.2,119,122.7,126.5,1596.3000000000002]
[20,"หล่มสัก","เพชรบูรณ์",97.827788872206867,108.5563981265598,145.15119453370278,153.18187647330979,146.30029581315472,124.52056916548312,117.99589395196475,111.58911548839129,112.81864083405024,118.64539016099806,100.26737966878838,91.147999271061465,1117.9417732588233,null,null,null,null,null,null,null,null,null,null,null,null,null,124.3,131.6,164.7,171.2,165,143,134.30000000000001,126.2,122.7,128.6,124.2,124.3,1660.1]
[21,"วิเชียรบุรี","เพชรบูรณ์",102.89863384887408,114.44459346990656,152.70136915752425,157.73331785218332,146.11683420286772,124.79184448593084,120.81615489844853,113.57929831185051,108.90259551751423,119.39342555078322,105.78441759032532,97.825588714736867,1141.9846417451001,null,null,null,null,null,null,null,null,null,null,null,null,null,129,143.30000000000001,187.5,186.7,166.3,144.69999999999999,136.30000000000001,126.1,117.4,126.4,126.7,130.5,1720.9]
[22,"กำแพงเพชร","กำแพงเพชร",102.95207187909278,112.76012842669347,149.03850107213023,159.99874607988599,148.3848552070931,128.03801277488682,127.01528265027515,119.89268691064478,117.20606454381688,116.5807092778079,102.08919590757561,95.258766293261317,1165.2863495445192,null,null,null,null,null,null,null,null,null,null,null,null,null,106.2,118.1,149.30000000000001,166.2,155.6,119.9,115.2,106.2,105.3,98.5,91.7,97.2,1429.4]
[23,"หนองคาย","หนองคาย",95.035618548899308,105.85939654351678,144.91091385487866,154.30999826900597,141.77516486804686,120.97217825574582,120.54207382265849,113.98973211366791,119.65303546798206,119.41961524627929,98.989323773380718,89.322573509749787,1117.0481117444019,null,null,null,null,null,null,null,null,null,null,null,null,null,107.6,115.6,150.69999999999999,170.4,147.5,117.7,113.5,102.6,111,120,114.4,107.8,1478.8]
[24,"เลย","เลย",96.453635028274249,108.86506530020554,138.37930200937279,144.91067769268795,136.57075895737771,122.07027716979037,117.31951055086486,112.40897701568203,108.16436979150446,106.99876197034416,90.907815818693479,87.369459487842548,1085.14257351576,null,null,null,null,null,null,null,null,null,null,null,null,null,113.3,124.9,159,168,149.30000000000001,134.69999999999999,128,115.9,104.9,108.3,102.6,103.9,1512.8000000000002]
[25,"อุดรธานี","อุดรธานี",96.034125930148051,107.59702221324322,146.21865751562305,156.93308908373101,147.69941441216497,127.93049463570303,128.11148776660892,120.32633795634449,122.3385690755558,122.47033078804419,102.40442346903146,92.469941903122404,1153.1891985891225,null,null,null,null,null,null,null,null,null,null,null,null,null,127.7,136.80000000000001,177.2,187.8,171.2,146.19999999999999,137.19999999999999,130.5,122.2,130.1,125.3,123.2,1715.4]
[26,"สกลนคร","สกลนคร",105.61754865645185,114.64706927075645,145.88977879227798,148.25984607233642,137.27932722727417,117.6201246721874,119.7585722808435,112.53488624535926,113.99969676964821,117.33846359402268,102.95380803313789,96.015847044951101,1115.6068499871353,null,null,null,null,null,null,null,null,null,null,null,null,null,151.4,154.19999999999999,198.2,195,157.69999999999999,132.5,132.1,122,120.4,142.19999999999999,142.30000000000001,140.30000000000001,1788.3]
[27,"นครพนม","นครพนม",98.259661585419522,101.69125612360247,130.80407612524172,134.81777934848222,129.24172359155355,106.33328329700507,107.33427813355405,102.15745016571978,106.23243045050057,111.78036213611099,99.255225839592157,93.004126248759732,1016.8719388210789,null,null,null,null,null,null,null,null,null,null,null,null,null,114.9,116.5,147.4,152.9,135.6,102.1,101.2,96.1,104.4,116.8,113.8,109.3,1411]
[28,"ขอนแก่น","ขอนแก่น",101.13376362585413,110.62698306843642,143.73462061116052,150.21625546893361,145.74391893921018,126.61195737127584,126.51553111472103,118.06705365098198,112.8798220698973,115.22769280412905,105.13677148974408,95.233266207357545,1135.529905920471,null,null,null,null,null,null,null,null,null,null,null,null,null,134.80000000000001,143.69999999999999,192.1,196.5,178.4,154.69999999999999,150.6,131.69999999999999,121.8,131.19999999999999,132.69999999999999,133.69999999999999,1801.9]
[29,"มุกดาหาร","มุกดาหาร",108.26561631765308,117.2737940483814,156.70194754356228,159.45126746803231,144.28797504739532,125.30300535965944,126.60466893862602,116.75299920733357,119.71244521322664,124.4823736778004,113.44485435047659,105.40222689029817,1174.35371914387,null,null,null,null,null,null,null,null,null,null,null,null,null,125,128.6,172.2,170,151,124.9,121.3,110,113.1,122.1,122.2,118.6,1578.9999999999998]
[30,"โกสุมพิสัย","มหาสารคาม",98.024344714915642,110.36578179338599,148.36023568600584,157.25419994488246,150.68508751635082,134.24949073387396,131.38026096120902,125.32442520703376,121.29696171712263,123.12862929499553,102.8584488205141,95.263663902039042,1176.9407882747803,null,null,null,null,null,null,null,null,null,null,null,null,null,129.19999999999999,139,182.3,189.1,166.8,147.30000000000001,143,130.30000000000001,122.1,129.30000000000001,124.9,126.1,1729.3999999999999]
[31,"กมลาไสย","กาฬสินธุ์",115.1840280030728,126.45317089618955,164.65504645164714,156.49515471524401,148.13656880437227,138.83038327575528,139.67293727642527,134.04673793391834,124.51224292134944,127.38448728340329,112.93663917477292,116.2555256841102,1247.9862702779742,null,null,null,null,null,null,null,null,null,null,null,null,null,126.6,135.1,172.6,141.9,128.9,109.2,116.5,124.9,100.3,127.9,132,138.30000000000001,1554.2]
[32,"ชัยภูมิ","ชัยภูมิ",108.58175457139295,119.03732960560421,156.54771012194328,161.64323328791573,152.57756818917977,137.2317596230983,136.46311262620483,128.2956237552628,122.8862383562895,127.67234992273022,113.44284005541878,105.67412834316156,1223.2643301368917,null,null,null,null,null,null,null,null,null,null,null,null,null,147,155.5,206.7,208.2,180.1,158.4,154.5,138.9,127.8,142.9,148.5,149.80000000000001,1918.3000000000002]
[33,"ร้อยเอ็ด","ร้อยเอ็ด",108.62488348777435,116.34133713684987,148.61416125691306,155.88287729294197,149.73419041686225,130.43167094510326,131.85756958727399,120.83399141485215,115.1471714034966,118.76039246104176,106.82153121507446,103.26066861238601,1177.4678529420676,null,null,null,null,null,null,null,null,null,null,null,null,null,137.30000000000001,138.1,179.1,177.3,156.4,131.6,130.30000000000001,116.4,104.1,124.3,129.5,134.9,1659.3]
[34,"อุบลราชธานี","อุบลราชธานี",119.85234093995794,126.16206047254322,157.54264909905879,156.39470184540082,149.2367377055912,126.12718295571648,127.83095038841931,119.35117485596578,110.51167424495338,120.07672833458683,119.77277449020852,117.61687831812642,1193.0094725076069,null,null,null,null,null,null,null,null,null,null,null,null,null,154.4,154.69999999999999,194.7,194.2,176.6,146.4,144.9,132.5,120,136.30000000000001,146.30000000000001,152.80000000000001,1853.8]
[35,"นครราชสีมา","นครราชสีมา",104.90812934269891,114.39381585788878,148.60737130798424,152.45012288868219,145.08134903600194,131.31452477734624,132.52655541019163,124.16278354543822,114.01474567305752,117.64698027544719,105.33964375500231,100.611961682778,1167.45939783929,null,null,null,null,null,null,null,null,null,null,null,null,null,137.30000000000001,143.9,183.2,183.4,174.8,163.4,164.3,151,125.8,125.6,128.6,135.9,1817.2]
[36,"โชคชัย","นครราชสีมา",104.95279153524893,117.52287059203333,152.82763086165463,157.25698037228722,147.30829965577038,134.55815753424909,134.56905052159436,127.12275573456731,116.72781173497917,119.64001806225831,105.79322373538766,99.475899801954853,1192.8463485423845,null,null,null,null,null,null,null,null,null,null,null,null,null,128.6,137.9,180.7,182.1,175.6,164.1,162.9,153.19999999999999,134.69999999999999,128.19999999999999,120.2,124.6,1792.8000000000002]
[37,"สุรินทร์","สุรินทร์",112.81075398798299,119.87140414569154,151.22810941912621,151.98289034831373,149.20175020254393,128.39823664566575,129.362167118889,124.13812629889577,112.08726134516299,117.48394183846759,108.92937945356712,106.54058788859085,1179.0806995122718,null,null,null,null,null,null,null,null,null,null,null,null,null,161.9,158.4,196.6,186.3,172.3,150.69999999999999,151.9,145.19999999999999,124.7,138.19999999999999,149.69999999999999,155.5,1891.4000000000003]
[38,"ท่าตูม","สุรินทร์",102.08809732477783,113.15430524762141,147.56803025822441,155.91546238618486,148.94761806810712,131.03443044736233,130.40638764054188,127.47187392782349,120.0907917164965,124.51205418579883,107.57933560837851,101.14553714447474,1176.6769970171399,null,null,null,null,null,null,null,null,null,null,null,null,null,145.6,148.30000000000001,190.6,192,177.6,153.4,150.69999999999999,137.5,121.1,130.80000000000001,138.19999999999999,141.69999999999999,1827.5]
[39,"นางรอง","บุรีรัมย์",105.13608296197933,115.08695219853605,148.79543741344327,155.42046981551164,152.81267281251633,136.84534998937707,134.74642416577572,129.18904668238986,122.24268335273092,125.57345791291996,108.67749407117211,102.82604293811721,1200.2751193922602,null,null,null,null,null,null,null,null,null,null,null,null,null,125.8,130.5,163.6,160.69999999999999,150.69999999999999,133.5,131.80000000000001,123.5,109.1,111.8,114.6,121.2,1576.7999999999997]
[40,"นครสวรรค์","นครสวรรค์",112.92750435564115,135.69222445968006,179.75283205387495,183.18109028029025,160.96599429354214,137.89519337661858,134.14043260011118,124.04164688749063,114.85072570990773,118.04794543338673,106.17543649931621,102.00373743033094,1283.4476440171566,null,null,null,null,null,null,null,null,null,null,null,null,null,144,174.3,233.2,243.5,206.8,179.5,169.5,151,130.1,126.6,126.5,133,2017.9999999999998]
[41,"สุพรรณบุรี","สุพรรณบุรี",113.45809902518431,123.09762529054895,160.12156428497849,164.8042002763913,153.25046163682524,134.74737893189109,133.9002985221916,126.53217530261529,116.76302081621948,120.29036180639869,113.59099220375631,109.94459851119946,1226.6748240868458,null,null,null,null,null,null,null,null,null,null,null,null,null,129.5,138.4,181.1,195.9,188.7,169,163.6,155.4,135.5,133,130,133.4,1853.5]
[42,"ลพบุรี","ลพบุรี",114.87194071467636,123.32288198568858,160.2905689278515,163.29987468393932,152.14955285425481,131.01424965710999,130.11940146333652,122.09019300950256,115.11118682982908,123.13031251621825,117.55443515571622,115.22887949552985,1212.2698501261889,null,null,null,null,null,null,null,null,null,null,null,null,null,151.4,151.80000000000001,194.9,194.2,184.3,163.80000000000001,158,144.9,131.9,127.6,143.5,159.5,1905.8]
[43,"บัวชุม","บัวชุม",114.9823570008768,126.26532205728546,162.22236362516688,162.42068801674418,148.18734218155996,125.82337641355336,124.6887119576985,114.92848917150215,111.67360477793919,121.83267672785217,111.88341526461697,109.6880481026195,1191.1922552023264,null,null,null,null,null,null,null,null,null,null,null,null,null,152.80000000000001,167.4,211.8,204.4,176.1,155.80000000000001,147.80000000000001,133.19999999999999,116.8,124.2,136.6,148.1,1874.9999999999998]
[44,"สถานีทดลองเกษตร",null,139.60077322362767,123.33927011532761,156.55704049465686,154.7844041671207,149.9292365750878,145.34848646071325,137.38466661364617,136.29141905739678,125.24396602202086,127.45927641912945,135.89997115823758,144.37525319474111,1268.4792627295976,null,null,null,null,null,null,null,null,null,null,null,null,null,"NO OBSERVATION",0,0,0,0,0,0,0,0,0,0,0,0]
[45,"กาญจนบุรี","กาญจนบุรี",111.8942703062052,123.93343002479813,161.88409065112856,167.62101254357879,153.90962567903395,131.41383457441054,133.46370098313596,127.34160222059394,118.05669522672686,117.76119928037559,110.43836529621498,107.95200018264499,1229.518262209612,null,null,null,null,null,null,null,null,null,null,null,null,null,140,150.4,205.8,215.7,190.4,157.5,160.4,154,138.1,122.6,128,142.19999999999999,1905.1]
[46,"ทองผาภูมิ","กาญจนบุรี",100.25229486632594,107.90830331890555,145.10109804357805,153.87019898090202,142.87187106926001,109.87501459850282,106.64187069847971,100.4223154351192,102.38414986032006,115.16891342429807,104.06664874793239,94.142616531416863,1069.3271168713934,null,null,null,null,null,null,null,null,null,null,null,null,null,118.4,137.1,174.9,176.9,139.4,95.1,90.1,84.9,102.2,109.3,103,108.8,1440.1]
[47,"กรุงเทพมหานคร","กรุงเทพมหานคร",115.09059225973535,125.17160079352651,155.47821165265572,154.70285122896698,143.32977385437093,124.55474573656831,125.56264329265102,121.47434133956712,110.32510449720311,112.93116171276995,107.50673663421605,107.85816052470324,1175.6898646552449,null,null,null,null,null,null,null,null,null,null,null,null,null,135.6,143.6,183.6,183.3,173.7,151.4,150.30000000000001,151.6,128.6,122.8,124.4,133.6,1782.4999999999998]
[48,"คลองเตย","กรุงเทพมหานคร",115.35134805474227,120.99900473104019,151.1435185760339,147.55179203123336,139.84797287646194,127.54957690876437,127.17695838129553,123.40949093885946,109.57604262573764,111.94585811069018,110.28526069468468,111.86701218247768,1162.6057051241689,null,null,null,null,null,null,null,null,null,null,null,null,null,"-","-","-","-","-","-","-","-","-","-","-","-",0]
[49,"ท่าอากาศยานดอนเมือง","กรุงเทพมหานคร",130.316663731977,136.49009232101244,169.13546231637085,166.1181413531225,156.64545521000099,145.16952632587146,146.05227146004361,138.80137554925577,123.04028412579483,125.11435369464782,122.18496491145191,123.99298305493306,1311.7692723934492,null,null,null,null,null,null,null,null,null,null,null,null,null,"NO OBSERVATION",0,0,0,0,0,0,0,0,0,0,0,0]
[50,"ปราจีนบุรี","ปราจีนบุรี",115.65379358971688,119.60598679502507,150.75104198864568,149.55048150358942,140.64409017555329,120.64520175433996,122.38074790263659,115.95306293061307,115.06989860984693,124.89772426267095,118.64619765476691,115.8427677348416,1150.2543052499668,null,null,null,null,null,null,null,null,null,null,null,null,null,137.80000000000001,132.4,169,157.30000000000001,147,126.7,133,126,122.8,125.1,136.19999999999999,140.4,1653.7]
[51,"กบินทร์บุรี","ปราจีนบุรี",112.70677380412984,121.86992295812939,151.75357631844625,152.31959772784094,138.05731768607507,116.14230959989227,115.73734655299003,109.16774892541666,106.08176850693977,118.91653189968147,117.48647225069347,116.36993285454547,1123.8363620798602,null,null,null,null,null,null,null,null,null,null,null,null,null,146.5,147.80000000000001,185.5,178.4,154.4,129.69999999999999,130.19999999999999,127.3,122.5,126.8,135.4,151.9,1736.4]
[52,"อรัญประเทศ","สระแก้ว",116.88422026563934,125.16653536464214,159.76369460255438,157.5438526743819,146.53819957577639,126.4835448929571,128.72652164942264,121.28451205774859,116.40884233435142,121.03680129127454,113.41329290375253,111.96733468997982,1198.7999234174738,null,null,null,null,null,null,null,null,null,null,null,null,null,141.69999999999999,144.80000000000001,187.9,181,163.1,144.4,141.9,140,124.2,123.6,124.8,131.9,1749.3]
[53,"สระแก้ว","สระแก้ว",116.11840106003015,121.16777086320661,151.19668943751788,135.15641071244801,132.37647517515842,114.84978740618124,115.80791827135658,121.30257530598084,113.78601050221526,119.96916945679372,108.83996585078853,108.3430977730801,1121.7620387340951,null,null,null,null,null,null,null,null,null,null,null,null,null,140.19999999999999,140.9,168.8,136.19999999999999,135.69999999999999,107.5,102.1,122.6,108.1,120.4,134.19999999999999,146.9,1563.6000000000001]
[54,"ชลบุรี","ชลบุรี",124.18763762878626,127.24996413308895,160.26717150784918,160.20636045619452,149.69358392990972,134.11463808950626,135.34560061588911,129.18819095358765,118.42727284697114,123.8273556719536,122.69778005024051,124.19389574502749,1238.6804201617826,null,null,null,null,null,null,null,null,null,null,null,null,null,143.19999999999999,142.1,178.8,175.2,162.30000000000001,153.1,153.4,152.9,133.1,127.6,135.80000000000001,150.5,1807.9999999999998]
[55,"เกาะสีชัง","ชลบุรี",122.49272465595776,123.73690943310909,154.70702520350883,155.62448073798879,149.23763403888256,137.20251104491774,137.36663331657292,133.89311144207548,117.23499949593537,120.66637108196328,127.8486978266104,132.94091653569268,1231.4960293689487,null,null,null,null,null,null,null,null,null,null,null,null,null,"NO OBSERVATION",0,0,0,0,0,0,0,0,0,0,0,0]
[56,"พัทยา","ชลบุรี",121.97645013595755,122.13768004864588,149.1275980718911,147.21783844031194,135.83311685325882,126.53328804582563,128.37065231143015,127.46297432856981,109.39881521975511,107.53781907748758,113.671409073394,127.15435175379505,1168.0584134556459,null,null,null,null,null,null,null,null,null,null,null,null,null,137.9,143.69999999999999,178.8,174.1,164.7,161.80000000000001,159.9,160.4,131.1,114.9,129.1,144.30000000000001,1800.7]
[57,"สัตหีบ","ชลบุรี",123.24181125668738,123.90416996243636,154.91567140236725,154.32394101183081,140.1617374704756,129.30570981331888,132.63395040420909,128.64280046543197,110.32739138319093,116.34094796441732,119.19821173129965,129.67158762086717,1197.4571831699482,null,null,null,null,null,null,null,null,null,null,null,null,null,"NO OBSERVATION",0,0,0,0,0,0,0,0,0,0,0,0]
[58,"แหลมฉบัง","ชลบุรี",124.94653383177902,125.55370955172833,155.65764789060492,155.3686860584464,145.68911071931689,132.06683933310103,133.27439709709827,129.59377600085173,111.13790044554742,113.55496833612345,118.73086857055175,126.46299973836454,1213.2886009284739,null,null,null,null,null,null,null,null,null,null,null,null,null,"-","-","-","-","-","-","-","-","-","-","-","-",0]
[59,"ระยอง","ระยอง",116.18869976236002,122.89290731761812,151.55277227873933,149.57958156424795,137.89828660366445,127.7204733442163,128.71535783975477,127.2495868740308,109.8612488978619,112.41469789251215,111.86835587441404,113.97767554830654,1171.6589144824939,null,null,null,null,null,null,null,null,null,null,null,null,null,139.9,140.4,170.8,169.6,148.5,141.69999999999999,147.6,146.30000000000001,115.2,120,140.69999999999999,151.80000000000001,1732.5]
[60,"จันทบุรี","จันทบุรี",118.2116633098849,115.95102886617423,136.14996917754024,136.43058682629265,119.95880567346858,100.32532148057108,105.00971732629044,103.82125563769065,97.209823320113955,108.99967619363116,114.37751374885707,118.91053866672527,1033.0681716180268,null,null,null,null,null,null,null,null,null,null,null,null,null,147.4,131.19999999999999,153.19999999999999,141.30000000000001,124,104.1,110.4,104.2,93.9,118.4,141.6,155.19999999999999,1524.9]
[61,"คลองใหญ่","จันทบุรี",120.96100195041245,118.07510099983732,142.93262793404347,142.59799219462516,134.02054391444196,109.4438567456418,112.6013896339671,108.89417105069427,107.26956179469089,116.65482078356838,118.07230526523441,120.61389075819355,1096.7962462183543,null,null,null,null,null,null,null,null,null,null,null,null,null,142,132,155.9,149.1,136,99.7,103.6,99.5,101.5,110.6,129.4,144.30000000000001,1503.6000000000001]
[62,"เพชรบุรี","เพชรบุรี",112.95351062731331,122.1602932460404,155.86283100567852,158.09162847661008,147.3772863743836,124.43175309466363,125.75987775445631,119.69008662442046,112.69193194016668,113.01226020383112,109.16533872130637,105.4155834170293,1179.0191991437332,null,null,null,null,null,null,null,null,null,null,null,null,null,118,128.6,170.3,166.4,160,132.80000000000001,132.5,126.1,118.7,102.1,103.9,114,1573.3999999999999]
[63,"ประจวบคีรีขันธ์","ประจวบคีรีขันธ์",116.58941493047975,117.69100205173079,147.30409069028809,151.04516023615739,144.23824971154718,125.72244746020472,131.38526197358652,128.19454395828419,122.5784448519972,118.71912381603445,119.50298332857254,124.93611877225709,1184.7486158642757,null,null,null,null,null,null,null,null,null,null,null,null,null,139,132.9,165.7,173.2,163.9,138.5,144.4,134,130.69999999999999,120.9,137.6,151.9,1732.7]
[64,"หัวหิน","ประจวบคีรีขันธ์",117.31929662452302,124.47525461163616,150.93994305840675,149.94110216590519,139.83360438359614,117.51969678852005,122.45201095480255,120.27509630057979,112.21663738134268,111.93216209993624,109.21436315143558,114.76299304857166,1154.9726422693122,null,null,null,null,null,null,null,null,null,null,null,null,null,132.4,139.9,172.7,172.7,165.1,143.4,143.80000000000001,140.19999999999999,129.1,121.2,125.4,139.69999999999999,1725.6000000000001]
[65,"ชุมพร","ชุมพร",117.29431543614409,120.54048013104753,149.3985245320462,148.54475463862289,137.07524779129437,117.92000699798119,122.34751144017235,119.24289009823731,116.18913840255638,116.58600039155982,106.19770735797151,112.44912013010466,1148.5528694681022,null,null,null,null,null,null,null,null,null,null,null,null,null,112.4,114.4,145.19999999999999,145.30000000000001,128.19999999999999,109.7,112.6,108.1,109,100.4,92.8,102.5,1380.6000000000001]
[66,"สุราษฎร์ธานี","สุราษฎร์ธานี",116.75239331320466,124.62188646322323,146.24483625925734,139.36088288044724,128.2358160114953,113.72754117007767,119.74225321853892,120.27640083669667,110.89657274860596,104.85215065918877,89.74442437041688,96.692850536554417,{"$f":"SUM(D69:L69)","v":1119.8585829015469},null,null,null,null,null,null,null,null,null,null,null,null,null,125.5,134.80000000000001,171.4,159.9,143.80000000000001,136,136.9,131.69999999999999,121.1,113.2,96.8,101.4,{"$f":"SUM(AD69:AO69)","v":1572.5}]
[67,"ท่าอากาศยานสุราษฎร์ธานี","สุราษฎร์ธานี",121.10353666082796,123.91069748630966,151.45742057182173,146.97731400368005,132.92866454831352,120.58357517145437,126.31082973666184,124.52203811287005,118.82890190053747,113.34305608847451,102.5406340432904,107.36707170986247,1166.6229781924765,null,null,null,null,null,null,null,null,null,null,null,null,null,131.80000000000001,143.6,183.4,163.1,134.9,124,129,125.9,114.3,108.1,98.7,109.9,1566.7]
[68,"เกาะสมุย","สุราษฎร์ธานี",121.68339683938123,123.94107938211201,150.0473431318857,147.46733338710277,142.64756069809027,132.2567816051762,137.98311529200492,137.58105454732055,127.64739862830386,119.42127847767378,106.98704367174194,114.66865336708759,1221.2550635113773,null,null,null,null,null,null,null,null,null,null,null,null,null,139.5,148.6,182.3,172.6,161,145.6,150.69999999999999,149.5,140.30000000000001,122.2,115.4,127,1754.7]
[69,"พระแสง","สุราษฎร์ธานี",119.38741642064424,122.29228417059664,148.84586719049622,141.99579227524092,132.61405975457748,120.41707354230729,126.1994432606341,127.58924539070593,118.15051532706175,113.75947561598238,100.87289642694967,103.13731410447755,1157.4916973322647,null,null,null,null,null,null,null,null,null,null,null,null,null,102.5,123.2,130.4,116.4,104.2,92,118.8,107.5,106.9,94.7,78.8,92.6,1267.9999999999998]
[70,"นครศรีธรรมราช","นครศรีธรรมราช",114.29576232995957,117.20029638967517,143.94458364900603,140.53765366327289,133.04868606068337,124.05447399437428,128.51928259022961,130.36005030078837,119.3611254927189,114.26702420854541,99.240572093343786,102.02356687675069,1151.3219144707082,null,null,null,null,null,null,null,null,null,null,null,null,null,108.5,111.5,140.4,135.9,130.80000000000001,126.6,132.1,131.69999999999999,116.2,105.4,84.4,89.3,1412.8000000000002]
[71,"ขนอม","นครศรีธรรมราช",121.83177044568818,123.62165443836585,149.30227352569355,142.68945595275886,131.04515088614932,118.69504264969213,122.35957661023382,122.70812431661803,115.42270479182588,112.47577412639288,100.30720463364041,107.82704620173679,1147.6757536170255,null,null,null,null,null,null,null,null,null,null,null,null,null,"-","-","-","-","-","-","-","-","-","-","-","-",0]
[72,"ฉวาง","นครศรีธรรมราช",118.91850232594179,121.21685806387339,147.77731306896194,140.15218550071648,132.01289289676598,120.11619600586238,125.82133668107491,126.93339500458764,116.97502519743597,112.21161830399674,100.26921378752215,103.17434187761779,1149.9237047452207,null,null,null,null,null,null,null,null,null,null,null,null,null,102.7,123.6,126.3,107.5,111.9,92.6,111.7,111.8,105.7,92.6,53.7,84.3,1224.4000000000001]
[73,"สะเดา","สงขลา",140.28451956048971,131.45844227207931,148.81167398172494,131.48855454890167,124.86355243254862,115.31100387911168,119.6562237995014,121.49537862495897,114.03567681630095,113.14667218249488,106.6931577704768,117.86174625819505,1147.4050259156174,null,null,null,null,null,null,null,null,null,null,null,null,null,122.4,108.5,145.1,107.9,130.9,103,124.2,126.2,128.9,98.3,69.7,81,1346.1000000000001]
[74,"สงขลา","สงขลา",141.07027495895974,138.86622332913637,159.36367800206651,152.98590787978705,143.29759336639947,128.88557942122313,135.66573513041953,141.06946448701419,129.16527872783539,117.93444361848577,100.37778018518502,112.22765115245208,1270.3697353028415,null,null,null,null,null,null,null,null,null,null,null,null,null,156.69999999999999,162.9,188.7,177,158.6,140.69999999999999,145.19999999999999,151.1,140,127.6,102.8,119.9,1771.1999999999998]
[75,"ท่าอากาศยานหาดใหญ่","สงขลา",123.03790380693658,125.66977630688223,147.90818057064919,137.00402720025545,126.11671755957165,118.48781173432356,121.80395448907161,124.62043139076962,114.85486716537584,109.77757970690061,95.631895047201937,103.76449308532933,1139.5036702238358,null,null,null,null,null,null,null,null,null,null,null,null,null,"NO OBSERVATION",0,0,0,0,0,0,0,0,0,0,0,0]
[76,"ท่าอากาศยานปัตตานี","ปัตตานี",119.81290452736059,119.87697012786721,143.69067975584889,137.87828497024176,126.20816862166782,114.48278760633779,120.05867588246889,121.17444272343333,116.30773456922968,111.05071502635943,97.283803101628578,102.40565070622567,1119.490648784456,null,null,null,null,null,null,null,null,null,null,null,null,null,129.5,138.6,167.7,159.80000000000001,148.9,137.1,140.30000000000001,144.19999999999999,135.5,125,103.5,102,1632.1000000000001]
[77,"นราธิวาส","นราธิวาส",119.03505517162456,119.13048449563969,143.70727505386358,142.31235519314089,133.88247846488954,120.55707947287117,124.02461743952946,125.22658061947648,121.1520779026324,118.119591897739,100.51799933262205,103.07015472055804,1149.0280038136677,null,null,null,null,null,null,null,null,null,null,null,null,null,115.7,117.5,160.19999999999999,155.80000000000001,141.5,124.7,128.19999999999999,126.9,124.8,117,89.1,88.3,1489.7]
[78,"ระนอง","ระนอง",124.13573921720551,124.27303569384549,151.20547596110833,145.17197580994201,129.35095511880553,110.41716335008856,113.68605752397202,110.90691179988468,108.52345255992228,115.02427624246199,110.0134002170317,118.27128828194765,1117.6707670347746,null,null,null,null,null,null,null,null,null,null,null,null,null,119.7,127.5,160.1,135.4,109,95.9,100.8,91.8,83.6,85,83.4,109,1301.1999999999998]
[79,"ตะกั่วป่า","ภูเก็ต",126.5370115243857,125.54284661707626,149.93974695285161,141.81972933890722,129.11681366579359,118.99913212191468,120.16490138200325,120.48775480155803,112.20184203296603,115.78515951742345,111.05492925922071,119.54658695153555,1144.8097784374563,null,null,null,null,null,null,null,null,null,null,null,null,null,137.1,139.5,155.6,148.1,124.4,117.1,116.1,112.7,102,105.6,103.9,120.3,1482.4]
[80,"ภูเก็ต","ภูเก็ต",137.14161071898155,134.35519253286338,156.97747454598812,144.94837640229503,132.23389622369714,122.53846821464882,125.35937099700466,131.06612524458683,119.96771394137866,119.9037431696287,115.68588579268287,129.14118879157851,1204.5882288214441,null,null,null,null,null,null,null,null,null,null,null,null,null,154.4,151.80000000000001,168.6,146.30000000000001,121.7,111.6,111.2,111.5,102.4,106.6,110,133.30000000000001,1529.4000000000003]
[81,"ท่าอากาศยานภูเก็ต","ภูเก็ต",136.47397148497421,135.65389908065026,155.96536392478401,141.27587455951851,125.00523577110704,108.66964835859706,117.10518545095762,123.22528623366614,106.75677910284539,109.28018246865456,104.82070554955592,119.33660075615906,1150.1312439671003,null,null,null,null,null,null,null,null,null,null,null,null,null,160.19999999999999,157.30000000000001,188.4,160.9,138.30000000000001,128.19999999999999,133.4,136.9,118.9,117.6,118.8,137.9,1696.8000000000002]
[82,"เกาะลันตา","กระบี่",139.60891155009065,134.98858749772964,155.35242025159798,141.75071793129922,127.54775043296,121.1109214887038,123.46257045016237,124.98699741416526,113.27475841608617,112.12209153455669,108.29402880963423,121.10537559614104,1182.0836354327951,null,null,null,null,null,null,null,null,null,null,null,null,null,"NO OBSERVATION",0,0,0,0,0,0,0,0,0,0,0,0]
[83,"กระบี่","กระบี่",134.77778376039242,133.32672940603248,155.40576155584691,141.75584153326074,131.48613084984888,123.19094152731388,124.59779125411289,127.23404375611,116.27170106647756,114.65479971254234,109.29846897817573,121.74695205298717,1188.0467247093957,null,null,null,null,null,null,null,null,null,null,null,null,null,"-","-","-","-","-","-","-","-","-","-","-","-",0]
[84,"ท่าอากาศยานตรัง","ตรัง",137.08132044132927,136.51821011798839,156.27165983292977,139.58065555099657,125.77389089943821,114.6971446301154,118.25428716635659,120.28964020849037,111.65831389204895,110.82861994322782,103.6149689822537,118.42612300905033,1160.1251227396936,null,null,null,null,null,null,null,null,null,null,null,null,null,159.30000000000001,161.30000000000001,176.3,146.9,120.8,109,111,111.7,100.9,100.6,94.4,118.8,1511]
[85,"สตูล","สตูล",146.02003891508664,138.25645778462803,152.9204685079479,135.00970892602197,127.02642299221114,118.36674615728033,120.12253500294368,122.77624392660442,113.68056422865507,114.38483805563962,110.1215282750745,124.38014624027868,1174.1791864413792,null,null,null,null,null,null,null,null,null,null,null,null,null,178.3,167.3,182.6,150.80000000000001,135.30000000000001,123.8,128.1,128.9,115.7,114.8,108.3,133.9,1667.8]

{"sheet":"evap","index":20,"n_rows":88,"n_cols":16,"rows_kept":88,"cut":false,"hidden":false,"merged":[]}
["สรุปปริมาณการระเหย Evap ที่สถานีต่างๆ"]
[null,null,null,1,2,3,4,5,6,7,8,9,10,11,12]
["ลำดับที่","สถานีตรวจอากาศ","จังหวัด","Jan","Feb","Mar","Apr","May","Jun","Jul","Aug","Sep","Oct","Nov","Dec","Annual"]
[1,"แม่ฮ่องสอน","แม่ฮ่องสอน",93.2,113.7,163.69999999999999,195.1,178.6,127.1,113.9,109.8,115.7,111.4,88.6,81.5,{"$f":"SUM(D4:O4)","v":1492.3000000000002}]
[2,"แม่สะเรียง","แม่ฮ่องสอน",87,109.6,154.1,175,153.5,96.1,87.6,86.3,99.6,103.6,88.6,82.1,{"$f":"SUM(D5:O5)","v":1323.0999999999997}]
[3,"เชียงราย","เชียงราย",89.1,118.2,155.5,171.7,141.1,110,97,86,90,89.7,81.7,79.099999999999994,1309.0999999999999]
[4,"พะเยา","พะเยา",95.5,115.4,165.6,180.5,158.5,136.9,123.7,115.8,106,99.9,86.9,87.1,1471.8000000000002]
[5,"เชียงใหม่","เชียงใหม่",108.1,128.69999999999999,171.7,189.4,178.6,143.69999999999999,129.6,126.3,128.80000000000001,129,106.8,98.3,1638.9999999999998]
[6,"ลำปาง","ลำปาง",89.8,112.1,159.30000000000001,179.2,164.2,136.69999999999999,127.2,117.5,107.7,100.1,87,81.3,1462.1]
[7,"ลำพูน","ลำพูน",109.5,142.19999999999999,205,216.8,197,162.1,149.30000000000001,136.69999999999999,118.1,107.5,94.4,95.8,1734.3999999999999]
[8,"แพร่","แพร่",106.7,123.5,182.1,200.8,186.3,153.1,144.4,133.19999999999999,126.1,120.9,105,100.2,1682.3]
[9,"น่าน","น่าน",81.3,90.8,120.6,142.19999999999999,137.19999999999999,111.7,101.1,96,99.4,99.9,85.2,79.099999999999994,1244.5]
[10,"ท่าวังผา","ตาก",92.9,110.4,148.80000000000001,167.2,162.30000000000001,132.6,118.5,116.7,121.9,114.2,93.9,85.1,1464.5]
[11,"ทุ่งช้าง","น่าน",119.7,102.3,115.1,127.2,115.3,87.4,98.9,99.1,92,101.5,101.8,89.6,1249.8999999999999]
[12,"อุตรดิตถ์","อุตรดิตถ์",111.7,120.9,163.1,182.2,172.6,137.19999999999999,123.6,121,121.9,124.5,114.9,113.4,1607.0000000000005]
[13,"สุโขทัย","สุโขทัย",108.6,104.3,167.1,168.3,161.1,149.1,170.6,148.1,110.6,118.3,119.5,113.3,1638.8999999999996]
[14,"ตาก","ตาก",124.4,168.9,241,251.9,204.3,152.80000000000001,150.4,141.1,126.4,107.6,99.6,102.8,1871.1999999999998]
[15,"แม่สอด","ตาก",119.8,144.80000000000001,196.9,212,164.9,103.6,95,88.1,103.8,122.3,121.4,118.3,1590.8999999999999]
[16,"เขื่อนภูมิพล","ตาก",110,142.1,188.3,199.7,166.8,136,137.9,129.6,120.9,107.7,96.7,97.3,1633]
[17,"อุ้มผาง","ตาก",107.4,123.1,157.6,158.30000000000001,127.3,90.9,84.5,73.900000000000006,87.6,96.5,95.9,98.9,1301.9000000000001]
[18,"พิษณุโลก","พิษณุโลก",109.8,121.2,162.80000000000001,186.8,179.9,149.4,141.19999999999999,129.1,120,122.6,113.3,111.5,1647.5999999999997]
[19,"เพชรบูรณ์","เพชรบูรณ์",121.4,132.69999999999999,174,184.3,156.4,130.1,117.9,106.1,105.2,119,122.7,126.5,1596.3000000000002]
[20,"หล่มสัก","เพชรบูรณ์",124.3,131.6,164.7,171.2,165,143,134.30000000000001,126.2,122.7,128.6,124.2,124.3,1660.1]
[21,"วิเชียรบุรี","เพชรบูรณ์",129,143.30000000000001,187.5,186.7,166.3,144.69999999999999,136.30000000000001,126.1,117.4,126.4,126.7,130.5,1720.9]
[22,"กำแพงเพชร","กำแพงเพชร",106.2,118.1,149.30000000000001,166.2,155.6,119.9,115.2,106.2,105.3,98.5,91.7,97.2,1429.4]
[23,"หนองคาย","หนองคาย",107.6,115.6,150.69999999999999,170.4,147.5,117.7,113.5,102.6,111,120,114.4,107.8,1478.8]
[24,"เลย","เลย",113.3,124.9,159,168,149.30000000000001,134.69999999999999,128,115.9,104.9,108.3,102.6,103.9,1512.8000000000002]
[25,"อุดรธานี","อุดรธานี",127.7,136.80000000000001,177.2,187.8,171.2,146.19999999999999,137.19999999999999,130.5,122.2,130.1,125.3,123.2,1715.4]
[26,"สกลนคร","สกลนคร",151.4,154.19999999999999,198.2,195,157.69999999999999,132.5,132.1,122,120.4,142.19999999999999,142.30000000000001,140.30000000000001,1788.3]
[27,"นครพนม","นครพนม",114.9,116.5,147.4,152.9,135.6,102.1,101.2,96.1,104.4,116.8,113.8,109.3,1411]
[28,"ขอนแก่น","ขอนแก่น",134.80000000000001,143.69999999999999,192.1,196.5,178.4,154.69999999999999,150.6,131.69999999999999,121.8,131.19999999999999,132.69999999999999,133.69999999999999,1801.9]
[29,"มุกดาหาร","มุกดาหาร",125,128.6,172.2,170,151,124.9,121.3,110,113.1,122.1,122.2,118.6,1578.9999999999998]
[30,"โกสุมพิสัย","มหาสารคาม",129.19999999999999,139,182.3,189.1,166.8,147.30000000000001,143,130.30000000000001,122.1,129.30000000000001,124.9,126.1,1729.3999999999999]
[31,"กมลาไสย","กาฬสินธุ์",126.6,135.1,172.6,141.9,128.9,109.2,116.5,124.9,100.3,127.9,132,138.30000000000001,1554.2]
[32,"ชัยภูมิ","ชัยภูมิ",147,155.5,206.7,208.2,180.1,158.4,154.5,138.9,127.8,142.9,148.5,149.80000000000001,1918.3000000000002]
[33,"ร้อยเอ็ด","ร้อยเอ็ด",137.30000000000001,138.1,179.1,177.3,156.4,131.6,130.30000000000001,116.4,104.1,124.3,129.5,134.9,1659.3]
[34,"อุบลราชธานี","อุบลราชธานี",154.4,154.69999999999999,194.7,194.2,176.6,146.4,144.9,132.5,120,136.30000000000001,146.30000000000001,152.80000000000001,1853.8]
[35,"นครราชสีมา","นครราชสีมา",137.30000000000001,143.9,183.2,183.4,174.8,163.4,164.3,151,125.8,125.6,128.6,135.9,1817.2]
[36,"โชคชัย","นครราชสีมา",128.6,137.9,180.7,182.1,175.6,164.1,162.9,153.19999999999999,134.69999999999999,128.19999999999999,120.2,124.6,1792.8000000000002]
[37,"สุรินทร์","สุรินทร์",161.9,158.4,196.6,186.3,172.3,150.69999999999999,151.9,145.19999999999999,124.7,138.19999999999999,149.69999999999999,155.5,1891.4000000000003]
[38,"ท่าตูม","สุรินทร์",145.6,148.30000000000001,190.6,192,177.6,153.4,150.69999999999999,137.5,121.1,130.80000000000001,138.19999999999999,141.69999999999999,1827.5]
[39,"นางรอง","บุรีรัมย์",125.8,130.5,163.6,160.69999999999999,150.69999999999999,133.5,131.80000000000001,123.5,109.1,111.8,114.6,121.2,1576.7999999999997]
[40,"นครสวรรค์","นครสวรรค์",144,174.3,233.2,243.5,206.8,179.5,169.5,151,130.1,126.6,126.5,133,2017.9999999999998]
[41,"สุพรรณบุรี","สุพรรณบุรี",129.5,138.4,181.1,195.9,188.7,169,163.6,155.4,135.5,133,130,133.4,1853.5]
[42,"ลพบุรี","ลพบุรี",151.4,151.80000000000001,194.9,194.2,184.3,163.80000000000001,158,144.9,131.9,127.6,143.5,159.5,1905.8]
[43,"บัวชุม","บัวชุม",152.80000000000001,167.4,211.8,204.4,176.1,155.80000000000001,147.80000000000001,133.19999999999999,116.8,124.2,136.6,148.1,1874.9999999999998]
[44,"สถานีทดลองเกษตร",null,"NO OBSERVATION",0,0,0,0,0,0,0,0,0,0,0,0]
[45,"กาญจนบุรี","กาญจนบุรี",140,150.4,205.8,215.7,190.4,157.5,160.4,154,138.1,122.6,128,142.19999999999999,1905.1]
[46,"ทองผาภูมิ","กาญจนบุรี",118.4,137.1,174.9,176.9,139.4,95.1,90.1,84.9,102.2,109.3,103,108.8,1440.1]
[47,"กรุงเทพมหานคร","กรุงเทพมหานคร",135.6,143.6,183.6,183.3,173.7,151.4,150.30000000000001,151.6,128.6,122.8,124.4,133.6,1782.4999999999998]
[48,"คลองเตย","กรุงเทพมหานคร","-","-","-","-","-","-","-","-","-","-","-","-",0]
[49,"ท่าอากาศยานดอนเมือง","กรุงเทพมหานคร","NO OBSERVATION",0,0,0,0,0,0,0,0,0,0,0,0]
[50,"ปราจีนบุรี","ปราจีนบุรี",137.80000000000001,132.4,169,157.30000000000001,147,126.7,133,126,122.8,125.1,136.19999999999999,140.4,1653.7]
[51,"กบินทร์บุรี","ปราจีนบุรี",146.5,147.80000000000001,185.5,178.4,154.4,129.69999999999999,130.19999999999999,127.3,122.5,126.8,135.4,151.9,1736.4]
[52,"อรัญประเทศ","สระแก้ว",141.69999999999999,144.80000000000001,187.9,181,163.1,144.4,141.9,140,124.2,123.6,124.8,131.9,1749.3]
[53,"สระแก้ว","สระแก้ว",140.19999999999999,140.9,168.8,136.19999999999999,135.69999999999999,107.5,102.1,122.6,108.1,120.4,134.19999999999999,146.9,1563.6000000000001]
[54,"ชลบุรี","ชลบุรี",143.19999999999999,142.1,178.8,175.2,162.30000000000001,153.1,153.4,152.9,133.1,127.6,135.80000000000001,150.5,1807.9999999999998]
[55,"เกาะสีชัง","ชลบุรี","NO OBSERVATION",0,0,0,0,0,0,0,0,0,0,0,0]
[56,"พัทยา","ชลบุรี",137.9,143.69999999999999,178.8,174.1,164.7,161.80000000000001,159.9,160.4,131.1,114.9,129.1,144.30000000000001,1800.7]
[57,"สัตหีบ","ชลบุรี","NO OBSERVATION",0,0,0,0,0,0,0,0,0,0,0,0]
[58,"แหลมฉบัง","ชลบุรี","-","-","-","-","-","-","-","-","-","-","-","-",0]
[59,"ระยอง","ระยอง",139.9,140.4,170.8,169.6,148.5,141.69999999999999,147.6,146.30000000000001,115.2,120,140.69999999999999,151.80000000000001,1732.5]
[60,"จันทบุรี","จันทบุรี",147.4,131.19999999999999,153.19999999999999,141.30000000000001,124,104.1,110.4,104.2,93.9,118.4,141.6,155.19999999999999,1524.9]
[61,"คลองใหญ่","จันทบุรี",142,132,155.9,149.1,136,99.7,103.6,99.5,101.5,110.6,129.4,144.30000000000001,1503.6000000000001]
[62,"เพชรบุรี","เพชรบุรี",118,128.6,170.3,166.4,160,132.80000000000001,132.5,126.1,118.7,102.1,103.9,114,1573.3999999999999]
[63,"ประจวบคีรีขันธ์","ประจวบคีรีขันธ์",139,132.9,165.7,173.2,163.9,138.5,144.4,134,130.69999999999999,120.9,137.6,151.9,1732.7]
[64,"หัวหิน","ประจวบคีรีขันธ์",132.4,139.9,172.7,172.7,165.1,143.4,143.80000000000001,140.19999999999999,129.1,121.2,125.4,139.69999999999999,1725.6000000000001]
[65,"ชุมพร","ชุมพร",112.4,114.4,145.19999999999999,145.30000000000001,128.19999999999999,109.7,112.6,108.1,109,100.4,92.8,102.5,1380.6000000000001]
[66,"สุราษฎร์ธานี","สุราษฎร์ธานี",125.5,134.80000000000001,171.4,159.9,143.80000000000001,136,136.9,131.69999999999999,121.1,113.2,96.8,101.4,{"$f":"SUM(D69:O69)","v":1572.5}]
[67,"ท่าอากาศยานสุราษฎร์ธานี","สุราษฎร์ธานี",131.80000000000001,143.6,183.4,163.1,134.9,124,129,125.9,114.3,108.1,98.7,109.9,1566.7]
[68,"เกาะสมุย","สุราษฎร์ธานี",139.5,148.6,182.3,172.6,161,145.6,150.69999999999999,149.5,140.30000000000001,122.2,115.4,127,1754.7]
[69,"พระแสง","สุราษฎร์ธานี",102.5,123.2,130.4,116.4,104.2,92,118.8,107.5,106.9,94.7,78.8,92.6,1267.9999999999998]
[70,"นครศรีธรรมราช","นครศรีธรรมราช",108.5,111.5,140.4,135.9,130.80000000000001,126.6,132.1,131.69999999999999,116.2,105.4,84.4,89.3,1412.8000000000002]
[71,"ขนอม","นครศรีธรรมราช","-","-","-","-","-","-","-","-","-","-","-","-",0]
[72,"ฉวาง","นครศรีธรรมราช",102.7,123.6,126.3,107.5,111.9,92.6,111.7,111.8,105.7,92.6,53.7,84.3,1224.4000000000001]
[73,"สะเดา","สงขลา",122.4,108.5,145.1,107.9,130.9,103,124.2,126.2,128.9,98.3,69.7,81,1346.1000000000001]
[74,"สงขลา","สงขลา",156.69999999999999,162.9,188.7,177,158.6,140.69999999999999,145.19999999999999,151.1,140,127.6,102.8,119.9,1771.1999999999998]
[75,"ท่าอากาศยานหาดใหญ่","สงขลา","NO OBSERVATION",0,0,0,0,0,0,0,0,0,0,0,0]
[76,"ท่าอากาศยานปัตตานี","ปัตตานี",129.5,138.6,167.7,159.80000000000001,148.9,137.1,140.30000000000001,144.19999999999999,135.5,125,103.5,102,1632.1000000000001]
[77,"นราธิวาส","นราธิวาส",115.7,117.5,160.19999999999999,155.80000000000001,141.5,124.7,128.19999999999999,126.9,124.8,117,89.1,88.3,1489.7]
[78,"ระนอง","ระนอง",119.7,127.5,160.1,135.4,109,95.9,100.8,91.8,83.6,85,83.4,109,1301.1999999999998]
[79,"ตะกั่วป่า","ภูเก็ต",137.1,139.5,155.6,148.1,124.4,117.1,116.1,112.7,102,105.6,103.9,120.3,1482.4]
[80,"ภูเก็ต","ภูเก็ต",154.4,151.80000000000001,168.6,146.30000000000001,121.7,111.6,111.2,111.5,102.4,106.6,110,133.30000000000001,1529.4000000000003]
[81,"ท่าอากาศยานภูเก็ต","ภูเก็ต",160.19999999999999,157.30000000000001,188.4,160.9,138.30000000000001,128.19999999999999,133.4,136.9,118.9,117.6,118.8,137.9,1696.8000000000002]
[82,"เกาะลันตา","กระบี่","NO OBSERVATION",0,0,0,0,0,0,0,0,0,0,0,0]
[83,"กระบี่","กระบี่","-","-","-","-","-","-","-","-","-","-","-","-",0]
[84,"ท่าอากาศยานตรัง","ตรัง",159.30000000000001,161.30000000000001,176.3,146.9,120.8,109,111,111.7,100.9,100.6,94.4,118.8,1511]
[85,"สตูล","สตูล",178.3,167.3,182.6,150.80000000000001,135.30000000000001,123.8,128.1,128.9,115.7,114.8,108.3,133.9,1667.8]

{"sheet":"FAO","index":21,"n_rows":149,"n_cols":6,"rows_kept":149,"cut":false,"hidden":true,"merged":[]}
[]
[null,null,null,null,null,"Maximum Crop Height"]
[null,"Crop","Kc ini1","Kc mid","Kc end","(h)"]
[null,null,null,null,null,"(m)"]
[null,"a. Small Vegetables ",0.7,1.05,0.95]
[null,"Broccoli",null,1.05,0.95,0.3]
[null,"Brussel Sprouts",null,1.05,0.95,0.4]
[null,"Cabbage",null,1.05,0.95,0.4]
[null,"Carrots",null,1.05,0.95,0.3]
[null,"Cauliflower",null,1.05,0.95,0.4]
[null,"Celery",null,1.05,1,0.6]
[null,"Garlic",null,1,0.7,0.3]
[null,"Lettuce",null,1,0.95,0.3]
[null,"Onions, dry",null,1.05,0.75,0.4]
[null,"Onions, green",null,1,1,0.3]
[null,"Onions, seed",null,1.05,0.8,0.5]
[null,"Spinach",null,1,0.95,0.3]
[null,"Radishes",null,0.9,0.85,0.3]
[null,"b. Vegetables – Solanum Family (Solanaceae) ",0.6,1.1499999999999999,0.8]
[null,"EggPlant",null,1.05,0.9,0.8]
[null,"Sweet Peppers (bell)",null,1.052,0.9,0.7]
[null,"Tomato",null,1.1519999999999999,"0.70-0.90",0.6]
[null,"c. Vegetables – Cucumber Family (Cucurbitaceae) ",0.5,1,0.8]
[null,"Cantaloupe",0.5,0.85,0.6,0.3]
[null,"Cucumber – Fresh Market",0.6,1.002,0.75,0.3]
[null,"– Machine harvest",0.5,1,0.9,0.3]
[null,"Pumpkin, Winter Squash",null,1,0.8,0.4]
[null,"Squash, zuchini",null,0.95,0.75,0.3]
[null,"Sweet Melons",null,1.05,0.75,0.4]
[null,"Watermelon",0.4,1,0.75,0.4]
[null,"d. Roots and Tubers ",0.5,1.1000000000000001,0.95]
[null,"Beets, table",null,1.05,0.95,0.4]
[null,"Cassava – year 1 ",0.3,0.80300000000000005,0.3,1]
[null,"– year 2",0.3,1.1000000000000001,0.5,1.5]
[null,"Parsnip",0.5,1.05,0.95,0.4]
[null,"Potato",null,1.1499999999999999,0.754,0.6]
[null,"Sweet Potato",null,1.1499999999999999,0.65,0.4]
[null,"Turnip (and Rutabaga)",null,1.1000000000000001,0.95,0.6]
[null,"Sugar Beet",0.35,1.2,0.70499999999999996,0.5]
[null,"e. Lugumes (Leguminosae) ",0.4,1.1499999999999999,0.55000000000000004]
[null,"Beans, green ",0.5,1.052,0.9,0.4]
[null,"Beans, dry and Pulses ",0.4,1.1519999999999999,0.35,0.4]
[null,"Chick pea ",null,1,0.35,0.4]
[null,"Fababean (broad bean) – Fresh ",0.5,1.1519999999999999,1.1000000000000001,0.8]
[null,"– Dry/Seed ",0.5,1.1519999999999999,0.3,0.8]
[null,"Grabanzo ",0.4,1.1499999999999999,0.35,0.8]
[null,"Green Gram and Cowpeas ",null,1.05,"0.60-0.356",0.4]
[null,"Groundnut (Peanut) ",null,1.1499999999999999,0.6,0.4]
[null,"Lentil ",null,1.1000000000000001,0.3,0.5]
[null,"Peas – Fresh ",0.5,1.1519999999999999,1.1000000000000001,0.5]
[null,"– Dry/Seed ",null,1.1499999999999999,0.3,0.5]
[null,"Soybeans ",null,1.1499999999999999,0.5,"0.5-1.0 "]
[null,"f. Perennial Vegetables (with winter dormancy and initially bare or mulched soil) ",0.5,1,0.8]
[null,"Artichokes ",0.5,1,0.95,0.7]
[null,"Asparagus ",0.5,0.95699999999999996,0.3,"0.2-0.8 "]
[null,"Mint ",0.6,1.1499999999999999,1.1000000000000001,"0.6-0.8 "]
[null,"Strawberries ",0.4,0.85,0.75,0.2]
[null,"g. Fiber Crops ",0.35]
[null,"Cotton ",null,"1.15-1.20 ","0.70-0.50 ","1.2-1.5 "]
[null,"Flax ",null,1.1000000000000001,0.25,1.2]
[null,"Sisal8 ",null,"0.4-0.7 ","0.4-0.7 ",1.5]
[null,"h. Oil Crops ",0.35,1.1499999999999999,0.35]
[null,"Castorbean (Ricinus) ",null,1.1499999999999999,0.55000000000000004,0.3]
[null,"Rapeseed, Canola ",null,"1.0-1.159",0.35,0.6]
[null,"Safflower ",null,"1.0-1.159",0.25,0.8]
[null,"Sesame ",null,1.1000000000000001,0.25,1]
[null,"Sunflower ",null,"1.0-1.159",0.35,2]
[null,"i. Cereals ",0.3,1.1499999999999999,0.4]
[null,"Barley ",null,1.1499999999999999,0.25,1]
[null,"Oats ",null,1.1499999999999999,0.25,1]
[null,"Spring Wheat ",null,1.1499999999999999,"0.25-0.410",1]
[null,"Winter Wheat ","0.4,0.711",1.1499999999999999,"0.25-0.410",1]
[null,"Maize, Field (grain) (field corn) ",null,1.2,"0.60,0.3512",2]
[null,"Maize, Sweet (sweet corn) ",null,1.1499999999999999,1.0512999999999999,1.5]
[null,"Millet ",null,1,0.3,1.5]
[null,"Sorghum – grain ",null,"1.00-1.10 ",0.55000000000000004,"2008-02-01"]
[null,"– sweet ",null,1.2,1.05,"2008-04-02"]
[null,"Rice ",1.05,1.2,"0.90-0.60 ",1]
[null,"j. Forages "]
[null,"Alfalfa Hay – averaged cutting effects ",0.4,0.95140000000000002,0.9,0.7]
[null,"– individual cutting periods ",0.40150000000000002,1.2015,1.1515,0.7]
[null,"– for seed ",0.4,0.5,0.5,0.7]
[null,"Bermuda hay – averaged cutting effects ",0.55000000000000004,1.0014000000000001,0.85,0.35]
[null,"– Spring crop for seed ",0.35,0.9,0.65,0.4]
[null,"Clover hay, Berseem – averaged cutting effects ",0.4,0.90139999999999998,0.85,0.6]
[null,"– individual cutting periods ",0.40150000000000002,1.1515,1.1014999999999999,0.6]
[null,"Rye Grass hay – averaged cutting effects ",0.95,1.05,1,0.3]
[null,"Sudan Grass hay (annual) – averaged cutting effects ",0.5,0.90139999999999998,0.85,1.2]
[null,"– individual cutting periods ",0.50149999999999995,1.1515,1.1014999999999999,1.2]
[null,"Grazing Pasture, Rotated Grazing ",0.4,"0.85-1.05 ",0.85,"0.15-0.30 "]
[null,"Grazing Pasture, Extensive Grazing ",0.3,0.75,0.75,0.1]
[null,"Turf grass, cool season16",0.9,0.95,0.95,0.1]
[null,"Turf grass, warm season16",0.8,0.85,0.85,0.1]
[null,"k. Sugar Cane ",0.4,1.25,0.75,3]
[null,"l. Tropical Fruits and Trees "]
[null,"Banana – 1st year",0.5,1.1000000000000001,1,3]
[null,"– 2nd year",1,1.2,1.1000000000000001,4]
[null,"Cacao ",1,1.05,1.05,3]
[null,"Coffee – bare ground cover ",0.9,0.95,0.95,"2008-03-02"]
[null,"– with weeds ",1.05,1.1000000000000001,1.1000000000000001,"2008-03-02"]
[null,"Date Palms ",0.9,0.95,0.95,8]
[null,"Palm Trees ",0.95,1,1,8]
["x","Pineapple17 (multiyear crop) – bare soil",0.5,0.3,0.3,"0.6-1.2 "]
[null,"– with grass cover ",0.5,0.5,0.5,"0.6-1.2 "]
[null,"Rubber Trees ",0.95,1,1,10]
[null,"Tea – nonshaded ",0.95,1,1,1.5]
[null,"– shaded18",1.1000000000000001,1.1499999999999999,1.1499999999999999,2]
[null,"m. Grapes and Berries "]
[null,"Berries (bushes) ",0.3,1.05,0.5,1.5]
[null,"Grapes –`Table or Raisin ",0.3,0.85,0.45,2]
[null,"– Wine ",0.3,0.7,0.45,"1.5-2 "]
[null,"Hops ",0.3,1.05,0.85,5]
[null,"n. Fruit Trees "]
[null,"Almonds, no ground cover ",0.4,0.9,0.65190000000000003,5]
[null,"Apples, Cherries, Pears20"]
[null,"· no ground cover, killing frost ",0.45,0.95,0.70189999999999997,4]
[null,"· no ground cover, no frosts ",0.6,0.95,0.75190000000000001,4]
[null,"· active ground cover, killing frost ",0.5,1.2,0.95189999999999997,4]
[null,"· active ground cover, no frosts ",0.8,1.2,0.85189999999999999,4]
[null,"Apricots, Peaches, Stone Fruit20,21"]
[null,"· no ground cover, killing frost ",0.45,0.9,0.65190000000000003,3]
[null,"· no ground cover, no frosts ",0.55000000000000004,0.9,0.65190000000000003,3]
[null,"· active ground cover, killing frost ",0.5,1.1499999999999999,0.90190000000000003,3]
[null,"· active ground cover, no frosts ",0.8,1.1499999999999999,0.85189999999999999,3]
[null,"Avocado, no ground cover ",0.6,0.85,0.75,3]
[null,"Citrus, no ground cover22"]
[null,"70% canopy ",0.7,0.65,0.7,4]
[null,"50% canopy ",0.65,0.6,0.65,3]
[null,"20% canopy ",0.5,0.45,0.55000000000000004,2]
[null,"Citrus, with active ground cover or weeds23"]
[null,"70% canopy ",0.75,0.7,0.75,4]
[null,"50% canopy ",0.8,0.8,0.8,3]
[null,"20% canopy ",0.85,0.85,0.85,2]
[null,"Conifer Trees24",1,1,1,10]
[null,"Kiwi ",0.4,1.05,1.05,3]
[null,"Olives (40 to 60% ground coverage by canopy)25",0.65,0.7,0.7,"2008-07-05"]
[null,"Pistachios, no ground cover ",0.4,1.1000000000000001,0.45,"2008-06-03"]
[null,"Walnut Orchard20",0.5,1.1000000000000001,0.65190000000000003,"2008-05-04"]
[null,"o. Wetlands – temperate climate "]
[null,"Cattails, Bulrushes, killing frost ",0.3,1.2,0.3,2]
[null,"Cattails, Bulrushes, no frost ",0.6,1.2,0.6,2]
[null,"Short Veg., no frost ",1.05,1.1000000000000001,1.1000000000000001,0.3]
[null,"Reed Swamp, standing water ",1,1.2,1,"2008-03-01"]
[null,"Reed Swamp, moist soil ",0.9,1.2,0.7,"2008-03-01"]
[null,"p. Special "]
[null,"Open Water, < 2 m depth ",null,1.05,1.05,5.0000000000000001E-3]
[null,"or in subhumid climates or tropics "]
[null,"Open Water, > 5 m depth, clear of turbidity, ",null,0.65259999999999996,1.2525999999999999,5.0000000000000001E-3]
[null,"temperate climate "]